Workbook
Name a: #REF!
Name a: #REF!
Name AgencyCode: #REF!
Name AgencyCode: #REF!
Name AgencyCode: #REF!
Name AgencyCode: #REF!
Name AgencyCode: #REF!
Name AgencyCode: #REF!
Name AgencyName: #REF!
Name AgencyName: #REF!
Name AgencyName: #REF!
Name davit: #REF!
Name davit: #REF!
Name Functional1: #REF!
Name Functional1: #REF!
Name Functional1: #REF!
Name ggg: #REF!
Name ggg: #REF!
Name PANature: #REF!
Name PANature: #REF!
Name PANature: #REF!
Name PAType: #REF!
Name PAType: #REF!
Name PAType: #REF!
Name Performance2: #REF!
Name Performance2: #REF!
Name Performance2: #REF!
Name PerformanceType: #REF!
Name PerformanceType: #REF!
Name PerformanceType: #REF!
Name Հավելված: #REF!
Name Հավելված: #REF!
Name Մաս: #REF!
Name Մաս: #REF!
Name շախմատիստ: #REF!
Name շախմատիստ: #REF!

Sheet Հավելված N 1
E1: Հավելված N 1
E2: ՀՀ կառավարության 2023 թվականի
E3: ______________ ի ___Ն որոշման
A6: «ՀԱՅԱUՏԱՆԻ ՀԱՆՐԱՊԵՏՈՒԹՅԱՆ 2023 ԹՎԱԿԱՆԻ ՊԵՏԱԿԱՆ ԲՅՈՒՋԵԻ ՄԱUԻՆ» ՀԱՅԱUՏԱՆԻ ՀԱՆՐԱՊԵՏՈՒԹՅԱՆ OՐԵՆՔԻ N 1 ՀԱՎԵԼՎԱԾԻ N 2 ԱՂՅՈՒՍԱԿՈՒՄ ԿԱՏԱՐՎՈՂ ՎԵՐԱԲԱՇԽՈՒՄԸ ԵՎ ՀԱՅԱՍՏԱՆԻ ՀԱՆՐԱՊԵՏՈՒԹՅԱՆ ԿԱՌԱՎԱՐՈՒԹՅԱՆ 2022 ԹՎԱԿԱՆԻ ԴԵԿՏԵՄԲԵՐԻ 29-Ի N 2111-Ն ՈՐՈՇՄԱՆ N 5 ՀԱՎԵԼՎԱԾԻ N 1 ԱՂՅՈՒՍԱԿՈՒՄ ԿԱՏԱՐՎՈՂ ՓՈՓՈԽՈՒԹՅՈՒՆՆԵՐԸ ԵՎ ԼՐԱՑՈՒՄՆԵՐԸ
F8: հազ. դրամներով
A9: Ծրագրային դասիչը | C9: Բյուջետային հատկացումների գլխավոր կարգադրիչների, ծրագրերի և միջոցառումների անվանումները | D9: Ցուցանիշների փոփոխությունը (ավելացումները նշված են դրական նշանով, իսկ նվազեցումները փակագծերում)
A10: Ծրագիր | B10: Միջոցառում | D10: Առաջին կիսամյակ | E10: Ինն ամիս | F10: Տարի
A11: 1192 | C11: ԸՆԴԱՄԵՆԸ | D11: =+D13 -> 0 | E11: =+E13 -> 0 | F11: =+F13 -> 0
C12: այդ թվում
C13: ՀՀ ԿՐԹՈՒԹՅԱՆ, ԳԻՏՈՒԹՅԱՆ, ՄՇԱԿՈՒՅԹԻ ԵՎ ՍՊՈՐՏԻ ՆԱԽԱՐԱՐՈՒԹՅՈՒՆ | D13: =+D15 -> 0 | E13: =+E15 -> 0 | F13: =+F15 -> 0
A14: 1183 | C14: Ծրագրի անվանումը`
C15: Ապահով դպրոց | D15: =+D22+D28+D34 -> 0 | E15: =+E22+E28+E34 -> 0 | F15: =+F22+F28+F34 -> 0
C16: Ծրագրի նպատակը`
C17: Դպրոցներին սպառնացող աղետների ռիսկի կառավարման կարողությունների հզորացում, դպրոցի անձնակազմի և աշակերտների անվտանգության ապահովման մակարդակի բարձրացում՛ կիրառելով ներառական և երեխայակենտրոն մոտեցում
C18: Վերջնական արդյունքի նկարագրությունը`
C19: Դպրոցական միջավայրի բարելավում
C20: Ծրագրի միջոցառումներ
B21: 32002 | C21: Միջոցառման անվանումը`
C22: Կրթական օբյեկտների շենքային ապահովվածության բարելավում | D22: =+'Հավելված N 2'!G24 -> 0 | E22: =+'Հավելված N 2'!H24 -> 0 | F22: =+'Հավելված N 2'!I24 -> 244600
C23: Միջոցառման նկարագրությունը`
C24: Կրթական օբյեկտների շենքերի (մասնաշենքերի) կառուցում (համաշինարարական աշխատանքներ, ջեռուցման համակարգի իրականացում, ներքին հարդարում, տարածքի բարեկարգում) և նախագծում
C25: Միջոցառման տեսակը
C26: Այլ պետական կազմակերպությունների կողմից օգտագործվող ոչ ֆինանսական ակտիվների հետ գործառնություններ
B27: 32003 | C27: Միջոցառման անվանումը`
C28: Փոքրաքանակ երեխաներով համալրված հանրակրթական դպրոցների և կրթահամալիրներ մոդուլային շենքերի կառուցում | D28: =+'Հավելված N 2'!G33 -> 0 | E28: =+'Հավելված N 2'!H33 -> 0 | F28: =+'Հավելված N 2'!I33 -> -268500
C29: Միջոցառման նկարագրությունը`
C30: Կրթական հաստատությունների կառուցում համայնքային կենտրոնների մոդելով
C31: Միջոցառման տեսակը
C32: Այլ պետական կազմակերպությունների կողմից օգտագործվող ոչ ֆինանսական ակտիվների հետ գործառնություններ
B33: 32013 | C33: Միջոցառման անվանումը`
C34: ՀՀ մարզերում կրթական որակյալ ծառայությունների հասանելիության ապահովման ծրագրի շրջանակներում կրթական կենտրոնների ստեղծում | D34: =+'Հավելված N 2'!G42 -> 0 | E34: =+'Հավելված N 2'!H42 -> 0 | F34: =+'Հավելված N 2'!I42 -> 23900
C35: Միջոցառման նկարագրությունը`
C36: ՀՀ մարզերում կրթական որակյալ ծառայությունների հասանելիության ապահովման ծրագրի շրջանակներում հանրակրթական և նախադպրոցական կրթության հասանելիության ապահովման նպատակով կրթական կենտրոնների կառուցում
C37: Միջոցառման տեսակը
C38: Այլ պետական կազմակերպությունների կողմից օգտագործվող ոչ ֆինանսական ակտիվների հետ գործառնություններ

Sheet Հավելված N 2
F1: Հավելված N 2
F2: ՀՀ կառավարության 2023 թվականի
F3: ______________ ի ___Ն որոշման
A6: ՀԱՅԱՍՏԱՆԻ ՀԱՆՐԱՊԵՏՈՒԹՅԱՆ ԿԱՌԱՎԱՐՈՒԹՅԱՆ 2022 ԹՎԱԿԱՆԻ ԴԵԿՏԵՄԲԵՐԻ 29-Ի N2111-Ն ՈՐՈՇՄԱՆ N 3 ԵՎ N 4 ՀԱՎԵԼՎԱԾՆԵՐՈՒՄ ԿԱՏԱՐՎՈՂ ՓՈՓՈԽՈՒԹՅՈՒՆՆԵՐԸ ԵՎ ԼՐԱՑՈՒՄՆԵՐԸ
I8: հազ. դրամներով
A9: Գործառական դասիչը | D9: Ծրագրային դասիչը | F9: Բյուջետային հատկացումների գլխավոր կարգադրիչների, ծրագրերի, միջոցառումների և միջոցառումները կատարող պետական մարմինների անվանումները | G9: Ցուցանիշների փոփոխությունը (ավելացումները նշված են դրական նշանով, իսկ նվազեցումները փակագծերում)
A10: Բաժին | B10: Խումբ | C10: Դաս | D10: Ծրագիր | E10: Միջոցառում | G10: Առաջին կիսամյակ | H10: Ինն ամիս | I10: Տարի
F11: ԸՆԴԱՄԵՆԸ | G11: =+G13 -> 0 | H11: =+H13 -> 0 | I11: =+I13 -> 0
F12: այդ թվում
F13: ՀՀ ԿՐԹՈՒԹՅԱՆ, ԳԻՏՈՒԹՅԱՆ, ՄՇԱԿՈՒՅԹԻ ԵՎ ՍՊՈՐՏԻ ՆԱԽԱՐԱՐՈՒԹՅՈՒՆ | G13: =+G14 -> 0 | H13: =+H14 -> 0 | I13: =+I14 -> 0
A14: 09 | F14: ԿՐԹՈՒԹՅՈՒՆ | G14: =+G16 -> 0 | H14: =+H16 -> 0 | I14: =+I16 -> 0
F15: այդ թվում`
B16: 06 | F16: Կրթությանը տրամադրվող օժանդակ ծառայություններ | G16: =+G18 -> 0 | H16: =+H18 -> 0 | I16: =+I18 -> 0
F17: այդ թվում`
C18: 01 | F18: Կրթությանը տրամադրվող օժանդակ ծառայություններ | G18: =+G20 -> 0 | H18: =+H20 -> 0 | I18: =+I20 -> 0
F19: այդ թվում`
F20: ՀՀ կրթության, գիտության, մշակույթի և սպորտի նախարարություն | G20: =+G22 -> 0 | H20: =+H22 -> 0 | I20: =+I22 -> 0
F21: այդ թվում`
D22: 1183 | E22: Ապահով դպրոց | G22: =+G24+G33+G42 -> 0 | H22: =+H24+H33+H42 -> 0 | I22: =+I24+I33+I42 -> 0
F23: այդ թվում`
E24: 32002 | F24: Կրթական օբյեկտների շենքային ապահովվածության բարելավում | G24: =+G26 -> 0 | H24: =+H26 -> 0 | I24: =+I26 -> 244600
F25: այդ թվում` ըստ կատարողների
F26: ՀՀ քաղաքաշինության կոմիտե | G26: =+G28 -> 0 | H26: =+H28 -> 0 | I26: =+I28 -> 244600
F27: այդ թվում՝ բյուջետային ծախսերի տնտեսագիտական դասակարգման հոդվածներ
F28: ԸՆԴԱՄԵՆԸ ԾԱԽՍԵՐ | G28: =+G29 -> 0 | H28: =+H29 -> 0 | I28: =+I29 -> 244600
F29: ՈՉ ՖԻՆԱՆՍԱԿԱՆ ԱԿՏԻՎՆԵՐԻ ԳԾՈՎ ԾԱԽՍԵՐ | G29: =+G30 -> 0 | H29: =+H30 -> 0 | I29: =+I30 -> 244600
F30: ՀԻՄՆԱԿԱՆ ՄԻՋՈՑՆԵՐ | G30: =+G31 -> 0 | H30: =+H31 -> 0 | I30: =+I31 -> 244600
F31: ԱՅԼ ՀԻՄՆԱԿԱՆ ՄԻՋՈՑՆԵՐ | G31: =+G32 -> 0 | H31: =+H32 -> 0 | I31: =+I32 -> 244600
F32: - Նախագծահետազոտական ծախսեր | G32: =+'Հավելված N 4'!E14 -> 0 | H32: =+'Հավելված N 4'!F14 -> 0 | I32: =+'Հավելված N 4'!G14 -> 244600
E33: 32003 | F33: Փոքրաքանակ երեխաներով համալրված հանրակրթական դպրոցների և կրթահամալիրների մոդուլային շենքերի կառուցում | G33: =+G35 -> 0 | H33: =+H35 -> 0 | I33: =+I35 -> -268500
F34: այդ թվում` ըստ կատարողների
F35: ՀՀ կառավարություն | G35: =+G37 -> 0 | H35: =+H37 -> 0 | I35: =+I37 -> -268500
F36: այդ թվում՝ բյուջետային ծախսերի տնտեսագիտական դասակարգման հոդվածներ
F37: ԸՆԴԱՄԵՆԸ ԾԱԽՍԵՐ | G37: =+G38 -> 0 | H37: =+H38 -> 0 | I37: =+I38 -> -268500
F38: ՈՉ ՖԻՆԱՆՍԱԿԱՆ ԱԿՏԻՎՆԵՐԻ ԳԾՈՎ ԾԱԽՍԵՐ | G38: =+G39 -> 0 | H38: =+H39 -> 0 | I38: =+I39 -> -268500
F39: ՀԻՄՆԱԿԱՆ ՄԻՋՈՑՆԵՐ | G39: =+G40 -> 0 | H39: =+H40 -> 0 | I39: =+I40 -> -268500
F40: ՇԵՆՔԵՐ ԵՎ ՇԻՆՈՒԹՅՈՒՆՆԵՐ | G40: =+G41 -> 0 | H40: =+H41 -> 0 | I40: =+I41 -> -268500
F41: - Շենքերի և շինությունների շինարարություն | G41: =+'Հավելված N 4'!E41 -> 0 | H41: =+'Հավելված N 4'!F41 -> 0 | I41: =+'Հավելված N 4'!G41 -> -268500
E42: 32013 | F42: ՀՀ մարզերում կրթական որակյալ ծառայությունների հասանելիության ապահովման ծրագրի շրջանակներում կրթական կենտրոնների ստեղծում | G42: =+G44 -> 0 | H42: =+H44 -> 0 | I42: =+I44 -> 23900
F43: այդ թվում` ըստ կատարողների
...

Sheet Հավելված N 3
F1: Հավելված N 3
F2: ՀՀ կառավարության 2023 թվականի
F3: ______________ ի ___Ն որոշման
A5: «ՀԱՅԱUՏԱՆԻ ՀԱՆՐԱՊԵՏՈՒԹՅԱՆ 2023 ԹՎԱԿԱՆԻ ՊԵՏԱԿԱՆ ԲՅՈՒՋԵԻ ՄԱUԻՆ» ՀԱՅԱUՏԱՆԻ ՀԱՆՐԱՊԵՏՈՒԹՅԱՆ OՐԵՆՔԻ N 1 ՀԱՎԵԼՎԱԾԻ N 3 ԱՂՅՈՒՍԱԿՈՒՄ ԿԱՏԱՐՎՈՂ ՓՈՓՈԽՈՒԹՅՈՒՆԸ ԵՎ ԼՐԱՑՈՒՄՆԵՐԸ
G8: հազ. դրամներով
A9: Ծրագրային դասիչ | C9: Բյուջետային գլխավոր կարգադրիչների, ծրագրերի, միջոցառումների, միջոցառումները կատարող պետական մարմինների և ուղղությունների անվանումները | D9: Ընդամենը | E9: Ցուցանիշների փոփոխությունը (ավելացումները նշված են դրական նշանով, իսկ նվազեցումները՝ փակագծերում)
A10: Ծրագիր | B10: Միջոցառում | E10: Կառուցման աշխատանքներ | F10: Վերակառուցման, վերանորոգման և վերականգնման աշխատանքներ | G10: Նախագծահե- տազոտական, գեոդեզիա- քարտեզագրա- կան աշխա- տանքներ | H10: Ոչ ֆինանսական այլ ակտիվների ձեռքբերում
C11: ԸՆԴԱՄԵՆԸ | D11: =SUM(E11:H11) -> 0 | E11: =+E13 -> -268500 | F11: =+F13 -> 0 | G11: =+G13 -> 268500 | H11: =+H13 -> 0
C12: այդ թվում՝
C13: ՀՀ ԿՐԹՈՒԹՅԱՆ, ԳԻՏՈՒԹՅԱՆ, ՄՇԱԿՈՒՅԹԻ ԵՎ ՍՊՈՐՏԻ ՆԱԽԱՐԱՐՈՒԹՅՈՒՆ | D13: =SUM(E13:H13) -> 0 | E13: =+E15+E40+E43 -> -268500 | F13: =+F15+F40+F43 -> 0 | G13: =+G15+G40+G43 -> 268500 | H13: =+H15+H40+H43 -> 0
C14: այդ թվում`
A15: 1183 | B15: 32002 | C15: Կրթական օբյեկտների շենքային ապահովվածության բարելավում | D15: =SUM(E15:H15) -> 244600 | E15: =+E17+E27 -> 0 | F15: =+F17+F27 -> 0 | G15: =+G17+G27 -> 244600 | H15: =+H17+H27 -> 0
C16: այդ թվում`
C17: ՀՀ Արարատի մարզ | D17: =SUM(E17:H17) -> 115900 | E17: =SUM(E18:E26) -> 0 | F17: =SUM(F18:F26) -> 0 | G17: =SUM(G18:G26) -> 115900 | H17: =SUM(H18:H26) -> 0
C18: Ջրաշեն բնակավայրի միջնակարգ դպրոց | D18: =+E18+F18+G18+H18 -> 9500 | G18: =+'Հավելված N 7'!I17+'Հավելված N 7'!I38 -> 9500
C19: Գեղանիստ բնակավայրի միջնակարգ դպրոց | D19: =+E19+F19+G19+H19 -> 13700 | G19: =+'Հավելված N 7'!I18+'Հավելված N 7'!I39 -> 13700
C20: Ոսկետափ բնակավայրի միջնակարգ դպրոց | D20: =+E20+F20+G20+H20 -> 13700 | G20: =+'Հավելված N 7'!I19+'Հավելված N 7'!I40 -> 13700
C21: Ջրահովիտ բնակավայրի միջնակարգ դպրոց | D21: =+E21+F21+G21+H21 -> 11600 | G21: =+'Հավելված N 7'!I20+'Հավելված N 7'!I41 -> 11600
C22: Արտաշատի թիվ 1 հիմնական դպրոց | D22: =+E22+F22+G22+H22 -> 21000 | G22: =+'Հավելված N 7'!I21+'Հավելված N 7'!I42 -> 21000
C23: Վերին Դվին բնակավայրի միջնակարգ դպրոց | D23: =+E23+F23+G23+H23 -> 11600 | G23: =+'Հավելված N 7'!I22+'Հավելված N 7'!I43 -> 11600
C24: Գետազատ բնակավայրի միջնակարգ դպրոց | D24: =+E24+F24+G24+H24 -> 9500 | G24: =+'Հավելված N 7'!I23+'Հավելված N 7'!I44 -> 9500
C25: Այգեստան բնակավայրի միջնակարգ դպրոց | D25: =+E25+F25+G25+H25 -> 11600 | G25: =+'Հավելված N 7'!I24+'Հավելված N 7'!I45 -> 11600
C26: Արարատ գյուղի միջնակարգ դպրոց | D26: =+E26+F26+G26+H26 -> 13700 | G26: =+'Հավելված N 7'!I25+'Հավելված N 7'!I46 -> 13700
C27: ՀՀ Կոտայքի մարզ | D27: =SUM(E27:H27) -> 128700 | E27: =SUM(E28:E39) -> 0 | F27: =SUM(F28:F39) -> 0 | G27: =SUM(G28:G39) -> 128700 | H27: =SUM(H28:H39) -> 0
C28: Կապուտան բնակավայրի միջնակարգ դպրոց | D28: =+E28+F28+G28+H28 -> 9500 | G28: =+'Հավելված N 7'!I26+'Հավելված N 7'!I47 -> 9500
C29: Կոտայք և Նոր Գյուղ բնակավայրերի միջնակարգ դպրոց | D29: =+E29+F29+G29+H29 -> 11600 | G29: =+'Հավելված N 7'!I27+'Հավելված N 7'!I48 -> 11600
C30: Զառ բնակավայրի միջնակարգ դպրոց | D30: =+E30+F30+G30+H30 -> 9500 | G30: =+'Հավելված N 7'!I28+'Հավելված N 7'!I49 -> 9500
C31: Գեղադիր բնակավայրի միջնակարգ դպրոց | D31: =+E31+F31+G31+H31 -> 9500 | G31: =+'Հավելված N 7'!I29+'Հավելված N 7'!I50 -> 9500
C32: Արգել բնակավայրի միջնակարգ դպրոց | D32: =+E32+F32+G32+H32 -> 11600 | G32: =+'Հավելված N 7'!I30+'Հավելված N 7'!I51 -> 11600
C33: Արագյուղ բնակավայրի միջնակարգ դպրոց | D33: =+E33+F33+G33+H33 -> 9500 | G33: =+'Հավելված N 7'!I31+'Հավելված N 7'!I52 -> 9500
C34: Գողթ բնակավայրի միջնակարգ դպրոց | D34: =+E34+F34+G34+H34 -> 11600 | G34: =+'Հավելված N 7'!I32+'Հավելված N 7'!I53 -> 11600
C35: Պռոշյան բնակավայրի միջնակարգ դպրոց | D35: =+E35+F35+G35+H35 -> 11600 | G35: =+'Հավելված N 7'!I33+'Հավելված N 7'!I54 -> 11600
C36: Զովունի բնակավայրի միջնակարգ դպրոց | D36: =+E36+F36+G36+H36 -> 11600 | G36: =+'Հավելված N 7'!I34+'Հավելված N 7'!I55 -> 11600
C37: Լեռնանիստ բնակավայրի միջնակարգ դպրոց | D37: =+E37+F37+G37+H37 -> 11600 | G37: =+'Հավելված N 7'!I35+'Հավելված N 7'!I56 -> 11600
C38: Մայակովսկի բնակավայրի միջնակարգ դպրոց | D38: =+E38+F38+G38+H38 -> 9500 | G38: =+'Հավելված N 7'!I36+'Հավելված N 7'!I57 -> 9500
C39: Արամուս բնակավայրի միջնակարգ դպրոց | D39: =+E39+F39+G39+H39 -> 11600 | G39: =+'Հավելված N 7'!I37+'Հավելված N 7'!I58 -> 11600
A40: 1183 | B40: 32003 | C40: Փոքրաքանակ երեխաներով համալրված հանրակրթական դպրոցների և կրթահամալիրների մոդուլային շենքերի կառուցում | D40: =SUM(E40:H40) -> -268500 | E40: =+E42 -> -268500 | F40: =+F42 -> 0 | G40: =+G42 -> 0 | H40: =+H42 -> 0
C41: այդ թվում`
C42: Փոքրաքանակ երեխաներով համալրված հանրակրթական դպրոցների և կրթահամալիրների մոդուլային շենքերի կառուցում | D42: =+E42+F42+G42+H42 -> -268500 | E42: =-G43-G15 -> -268500
A43: 1183 | B43: 32013 | C43: ՀՀ մարզերում կրթական որակյալ ծառայությունների հասանելիության ապահովման ծրագրի շրջանակներում կրթական կենտրոնների ստեղծում | D43: =SUM(E43:H43) -> 23900 | E43: =+E45+E49 -> 0 | F43: =+F45+F49 -> 0 | G43: =+G45+G49 -> 23900 | H43: =+H45+H49 -> 0
...

Sheet Հավելված N 4
E1: Հավելված N 4
E2: ՀՀ կառավարության 2023 թվականի
E3: ______________ ի ___Ն որոշման
B5: ՀԱՅԱՍՏԱՆԻ ՀԱՆՐԱՊԵՏՈՒԹՅԱՆ ԿԱՌԱՎԱՐՈՒԹՅԱՆ 2022 ԹՎԱԿԱՆԻ ԴԵԿՏԵՄԲԵՐԻ 29-Ի N 2111-Ն ՈՐՈՇՄԱՆ N 5 ՀԱՎԵԼՎԱԾԻ N 2 ԱՂՅՈՒՍԱԿՈՒՄ ԿԱՏԱՐՎՈՂ ՓՈՓՈԽՈՒԹՅՈՒՆԸ ԵՎ ԼՐԱՑՈՒՄՆԵՐԸ
G7: հազ. դրամներով
B8: Ծրագրային դասիչ | D8: Բյուջետային գլխավոր կարգադրիչների, ծրագրերի, միջոցառումների, միջոցառումները կատարող պետական մարմինների և ուղղությունների անվանումները | E8: Ցուցանիշների փոփոխությունը (ավելացումները նշված են դրական նշանով, իսկ նվազեցումները փակագծերում)
B9: Ծրագիր | C9: Միջոցառում | E9: Առաջին կիսամյակ | F9: Ինն ամիս | G9: Տարի
D10: ՀՀ ԿՐԹՈՒԹՅԱՆ, ԳԻՏՈՒԹՅԱՆ, ՄՇԱԿՈՒՅԹԻ ԵՎ ՍՊՈՐՏԻ ՆԱԽԱՐԱՐՈՒԹՅՈՒՆ | E10: =+E12+E39+E42 -> 0 | F10: =+F12+F39+F42 -> 0 | G10: =+G12+G39+G42 -> 0
D11: այդ թվում՝
B12: 1183 | C12: 32002 | D12: Կրթական օբյեկտների շենքային ապահովվածության բարելավում | E12: =+E14 -> 0 | F12: =+F14 -> 0 | G12: =+G14 -> 244600
D13: այդ թվում` ըստ կատարողների
D14: ՀՀ քաղաքաշինության կոմիտե | E14: =+E16+E26 -> 0 | F14: =+F16+F26 -> 0 | G14: =+G16+G26 -> 244600
D15: այդ թվում՝ ըստ ուղղությունների
D16: ՀՀ Արարատի մարզ | E16: =SUM(E17:E25) -> 0 | F16: =SUM(F17:F25) -> 0 | G16: =SUM(G17:G25) -> 115900
D17: =+'Հավելված N 3'!C18 -> Ջրաշեն բնակավայրի միջնակարգ դպրոց | E17: 0 | F17: 0 | G17: =+'Հավելված N 3'!D18 -> 9500
D18: =+'Հավելված N 3'!C19 -> Գեղանիստ բնակավայրի միջնակարգ դպրոց | E18: 0 | F18: 0 | G18: =+'Հավելված N 3'!D19 -> 13700
D19: =+'Հավելված N 3'!C20 -> Ոսկետափ բնակավայրի միջնակարգ դպրոց | E19: 0 | F19: 0 | G19: =+'Հավելված N 3'!D20 -> 13700
D20: =+'Հավելված N 3'!C21 -> Ջրահովիտ բնակավայրի միջնակարգ դպրոց | E20: 0 | F20: 0 | G20: =+'Հավելված N 3'!D21 -> 11600
D21: =+'Հավելված N 3'!C22 -> Արտաշատի թիվ 1 հիմնական դպրոց | E21: 0 | F21: 0 | G21: =+'Հավելված N 3'!D22 -> 21000
D22: =+'Հավելված N 3'!C23 -> Վերին Դվին բնակավայրի միջնակարգ դպրոց | E22: 0 | F22: 0 | G22: =+'Հավելված N 3'!D23 -> 11600
D23: =+'Հավելված N 3'!C24 -> Գետազատ բնակավայրի միջնակարգ դպրոց | E23: 0 | F23: 0 | G23: =+'Հավելված N 3'!D24 -> 9500
D24: =+'Հավելված N 3'!C25 -> Այգեստան բնակավայրի միջնակարգ դպրոց | E24: 0 | F24: 0 | G24: =+'Հավելված N 3'!D25 -> 11600
D25: =+'Հավելված N 3'!C26 -> Արարատ գյուղի միջնակարգ դպրոց | E25: 0 | F25: 0 | G25: =+'Հավելված N 3'!D26 -> 13700
D26: ՀՀ Կոտայքի մարզ | E26: =SUM(E27:E38) -> 0 | F26: =SUM(F27:F38) -> 0 | G26: =SUM(G27:G38) -> 128700
D27: =+'Հավելված N 3'!C28 -> Կապուտան բնակավայրի միջնակարգ դպրոց | E27: 0 | F27: 0 | G27: =+'Հավելված N 3'!D28 -> 9500
D28: =+'Հավելված N 3'!C29 -> Կոտայք և Նոր Գյուղ բնակավայրերի միջնակարգ դպրոց | E28: 0 | F28: 0 | G28: =+'Հավելված N 3'!D29 -> 11600
D29: =+'Հավելված N 3'!C30 -> Զառ բնակավայրի միջնակարգ դպրոց | E29: 0 | F29: 0 | G29: =+'Հավելված N 3'!D30 -> 9500
D30: =+'Հավելված N 3'!C31 -> Գեղադիր բնակավայրի միջնակարգ դպրոց | E30: 0 | F30: 0 | G30: =+'Հավելված N 3'!D31 -> 9500
D31: =+'Հավելված N 3'!C32 -> Արգել բնակավայրի միջնակարգ դպրոց | E31: 0 | F31: 0 | G31: =+'Հավելված N 3'!D32 -> 11600
D32: =+'Հավելված N 3'!C33 -> Արագյուղ բնակավայրի միջնակարգ դպրոց | E32: 0 | F32: 0 | G32: =+'Հավելված N 3'!D33 -> 9500
D33: =+'Հավելված N 3'!C34 -> Գողթ բնակավայրի միջնակարգ դպրոց | E33: 0 | F33: 0 | G33: =+'Հավելված N 3'!D34 -> 11600
D34: =+'Հավելված N 3'!C35 -> Պռոշյան բնակավայրի միջնակարգ դպրոց | E34: 0 | F34: 0 | G34: =+'Հավելված N 3'!D35 -> 11600
D35: =+'Հավելված N 3'!C36 -> Զովունի բնակավայրի միջնակարգ դպրոց | E35: 0 | F35: 0 | G35: =+'Հավելված N 3'!D36 -> 11600
D36: =+'Հավելված N 3'!C37 -> Լեռնանիստ բնակավայրի միջնակարգ դպրոց | E36: 0 | F36: 0 | G36: =+'Հավելված N 3'!D37 -> 11600
D37: =+'Հավելված N 3'!C38 -> Մայակովսկի բնակավայրի միջնակարգ դպրոց | E37: 0 | F37: 0 | G37: =+'Հավելված N 3'!D38 -> 9500
D38: =+'Հավելված N 3'!C39 -> Արամուս բնակավայրի միջնակարգ դպրոց | E38: 0 | F38: 0 | G38: =+'Հավելված N 3'!D39 -> 11600
B39: 1183 | C39: 32003 | D39: Փոքրաքանակ երեխաներով համալրված հանրակրթական դպրոցների և կրթահամալիրների մոդուլային շենքերի կառուցում | E39: =+E41 -> 0 | F39: =+F41 -> 0 | G39: =+G41 -> -268500
D40: այդ թվում` ըստ կատարողների
D41: ՀՀ կառավարություն | E41: 0 | F41: 0 | G41: =+'Հավելված N 3'!D42 -> -268500
B42: 1183 | C42: 32013 | D42: ՀՀ մարզերում կրթական որակյալ ծառայությունների հասանելիության ապահովման ծրագրի շրջանակներում կրթական կենտրոնների ստեղծում | E42: =+E44 -> 0 | F42: =+F44 -> 0 | G42: =+G44 -> 23900
...

Sheet Հավելված N 5
C1: Հավելված N 5
C2: ՀՀ կառավարության 2023 թվականի
C3: ______________ ի ___Ն որոշման
B6: ՀԱՅԱՍՏԱՆԻ ՀԱՆՐԱՊԵՏՈՒԹՅԱՆ ԿԱՌԱՎԱՐՈՒԹՅԱՆ 2022 ԹՎԱԿԱՆԻ ԴԵԿՏԵՄԲԵՐԻ 29-Ի N 2111-Ն ՈՐՈՇՄԱՆ N 9 ՀԱՎԵԼՎԱԾԻ N 9.13 ԱՂՅՈՒՍԱԿՈՒՄ ԿԱՏԱՐՎՈՂ ՓՈՓՈԽՈՒԹՅՈՒՆՆԵՐԸ ԵՎ ԼՐԱՑՈՒՄՆԵՐԸ
A8: Աղյուսակ 9․13
C9: ՀՀ կրթության, գիտության, մշակույթի և սպորտի նախարարություն
B10: ՄԱՍ 2. ՊԵՏԱԿԱՆ ՄԱՐՄՆԻ ԳԾՈՎ ԱՐԴՅՈՒՆՔԱՅԻՆ (ԿԱՏԱՐՈՂԱԿԱՆ) ՑՈՒՑԱՆԻՇՆԵՐԸ
B13: Ծրագրի դասիչը | C13: Ծրագրի անվանումը
B14: 1183 | C14: Ապահով դպրոց
B16: Ծրագրի միջոցառումները
B17: Ծրագրի դասիչը՝ | C17: 1183 | D17: Ցուցանիշների փոփոխությունը (ավելացումները նշված են դրական նշանով)
B18: Միջոցառման դասիչը՝ | C18: 32002 | D18: Առաջին կիսամյակ | E18: Ինն ամիս | F18: Տարի
B19: Միջոցառման անվանումը` | C19: Կրթական օբյեկտների շենքային ապահովվածության բարելավում
B20: Նկարագրությունը` | C20: Կրթական օբյեկտների շենքերի (մասնաշենքերի) կառուցում (համաշինարարական աշխատանքներ, ջեռուցման համակարգի իրականացում, ներքին հարդարում, տարածքի բարեկարգում) և նախագծում
B21: Միջոցառման տեսակը` | C21: Այլ պետական կազմակերպությունների կողմից օգտագործվող ոչ ֆինանսական ակտիվների հետ գործառնություններ
B22: Ակտիվն օգտագործող կազմակերպությունների անվանումները | C22: Հանրակրթական դպրոցներ
B23: Արդյունքի չափորոշիչներ
B24: Նախագծանախահաշվային փաստաթղթերի քանակ, հատ | D24: 0 | E24: 0 | F24: 21
B25: Միջոցառման վրա կատարվող ծախսը (հազար դրամ) | D25: =+'Հավելված N 1'!D22 -> 0 | E25: =+'Հավելված N 1'!E22 -> 0 | F25: =+'Հավելված N 1'!F22 -> 244600
B27: Ծրագրի միջոցառումները
B28: Ծրագրի դասիչը՝ | C28: 1183 | D28: Ցուցանիշների փոփոխությունը (նվազեցումները նշված են փակագծերում)
B29: Միջոցառման դասիչը՝ | C29: 32003 | D29: Առաջին կիսամյակ | E29: Ինն ամիս | F29: Տարի
B30: Միջոցառման անվանումը՝ | C30: Փոքրաքանակ երեխաներով համալրված հանրակրթական դպրոցների մոդուլային շենքերի կառուցում
B31: Նկարագրությունը՝ | C31: Կրթական հաստատությունների կառուցում համայնքային կենտրոնների մոդելով
B32: Միջոցառման տեսակը՝ | C32: Այլ պետական կազմակերպությունների կողմից օգտագործվող ոչ ֆինանսական ակտիվների հետ գործառնություններ
B33: Ակտիվն օգտագործող կազմակերպությունների անվանում | C33: Փոքրաքանակ երեխաներով համալրված հանրակրթական դպրոցներ
B34: Արդյունքի չափորոշիչներ
B35: Միջոցառման վրա կատարվող ծախսը (հազար դրամ) | D35: =+'Հավելված N 1'!D28 -> 0 | E35: =+'Հավելված N 1'!E28 -> 0 | F35: =+'Հավելված N 1'!F28 -> -268500
B37: Ծրագրի միջոցառումները
B38: Ծրագրի դասիչը՝ | C38: 1183 | D38: Ցուցանիշների փոփոխությունը (ավելացումները նշված են դրական նշանով)
B39: Միջոցառման դասիչը՝ | C39: 32013 | D39: Առաջին կիսամյակ | E39: Ինն ամիս | F39: Տարի
B40: Միջոցառման անվանումը՝ | C40: ՀՀ մարզերում կրթական որակյալ ծառայությունների հասանելիության ապահովման ծրագրի շրջանակներում կրթական կենտրոնների ստեղծում
B41: Նկարագրությունը՝ | C41: ՀՀ մարզերում կրթական որակյալ ծառայությունների հասանելիության ապահովման ծրագրի շրջանակներում հանրակրթական և նախադպրոցական կրթության հասանելիության ապահովման նպատակով կրթական կենտրոնների կառուցում
B42: Միջոցառման տեսակը՝ | C42: Այլ պետական կազմակերպությունների կողմից օգտագործվող ոչ ֆինանսական ակտիվների հետ գործառնություններ
B43: Ակտիվն օգտագործող կազմակերպությունների անվանում | C43: ՀՀ մարզերում տեղակայված կրթահամալիրներ
B44: Արդյունքի չափորոշիչներ
B45: Նախագծանախահաշվային փաստաթղթերի քանակ, հատ | D45: 0 | E45: 0 | F45: 4
B46: Միջոցառման վրա կատարվող ծախսը (հազար դրամ) | D46: =+'Հավելված N 1'!D34 -> 0 | E46: =+'Հավելված N 1'!E34 -> 0 | F46: =+'Հավելված N 1'!F34 -> 23900

Sheet Հավելված N 6
C1: Հավելված N 6
C2: ՀՀ կառավարության 2023 թվականի
C3: ______________ ի ___Ն որոշման
B6: ՀԱՅԱՍՏԱՆԻ ՀԱՆՐԱՊԵՏՈՒԹՅԱՆ ԿԱՌԱՎԱՐՈՒԹՅԱՆ 2022 ԹՎԱԿԱՆԻ ԴԵԿՏԵՄԲԵՐԻ 29-Ի N 2111-Ն ՈՐՈՇՄԱՆ N 9.1 ՀԱՎԵԼՎԱԾԻ N 9.1.41 ԵՎ 9.1.58 ԱՂՅՈՒՍԱԿՆԵՐՈՒՄ ԿԱՏԱՐՎՈՂ ՓՈՓՈԽՈՒԹՅՈՒՆՆԵՐԸ ԵՎ ԼՐԱՑՈՒՄՆԵՐԸ
A8: Աղյուսակ 9․1.41
C9: ՀՀ քաղաքաշինության կոմիտե
B10: ՄԱՍ 1. ՊԵՏԱԿԱՆ ՄԱՐՄՆԻ ԳԾՈՎ ԱՐԴՅՈՒՆՔԱՅԻՆ (ԿԱՏԱՐՈՂԱԿԱՆ) ՑՈՒՑԱՆԻՇՆԵՐԸ
B13: Ծրագրի դասիչը | C13: Ծրագրի անվանումը
B14: 1183 | C14: Ապահով դպրոց
B16: Ծրագրի միջոցառումները
B17: Ծրագրի դասիչը՝ | C17: 1183 | D17: Ցուցանիշների փոփոխությունը (ավելացումները նշված են դրական նշանով)
B18: Միջոցառման դասիչը՝ | C18: 32002 | D18: Առաջին կիսամյակ | E18: Ինն ամիս | F18: Տարի
B19: Միջոցառման անվանումը` | C19: Կրթական օբյեկտների շենքային ապահովվածության բարելավում
B20: Նկարագրությունը` | C20: Կրթական օբյեկտների շենքերի (մասնաշենքերի) կառուցում (համաշինարարական աշխատանքներ, ջեռուցման համակարգի իրականացում, ներքին հարդարում, տարածքի բարեկարգում) և նախագծում
B21: Միջոցառման տեսակը` | C21: Այլ պետական կազմակերպությունների կողմից օգտագործվող ոչ ֆինանսական ակտիվների հետ գործառնություններ
B22: Ակտիվն օգտագործող կազմակերպությունների անվանումները | C22: Հանրակրթական դպրոցներ
B23: Արդյունքի չափորոշիչներ
B24: Նախագծանախահաշվային փաստաթղթերի քանակ, հատ | D24: 0 | E24: 0 | F24: 21
B25: Միջոցառման վրա կատարվող ծախսը (հազար դրամ) | D25: =+'Հավելված N 2'!G26 -> 0 | E25: =+'Հավելված N 2'!H26 -> 0 | F25: =+'Հավելված N 2'!I26 -> 244600
B27: Ծրագրի միջոցառումները
B28: Ծրագրի դասիչը՝ | C28: 1183 | D28: Ցուցանիշների փոփոխությունը (ավելացումները նշված են դրական նշանով)
B29: Միջոցառման դասիչը՝ | C29: 32013 | D29: Առաջին կիսամյակ | E29: Ինն ամիս | F29: Տարի
B30: Միջոցառման անվանումը՝ | C30: ՀՀ մարզերում կրթական որակյալ ծառայությունների հասանելիության ապահովման ծրագրի շրջանակներում կրթական կենտրոնների ստեղծում
B31: Նկարագրությունը՝ | C31: ՀՀ մարզերում կրթական որակյալ ծառայությունների հասանելիության ապահովման ծրագրի շրջանակներում հանրակրթական և նախադպրոցական կրթության հասանելիության ապահովման նպատակով կրթական կենտրոնների կառուցում
B32: Միջոցառման տեսակը՝ | C32: Այլ պետական կազմակերպությունների կողմից օգտագործվող ոչ ֆինանսական ակտիվների հետ գործառնություններ
B33: Ակտիվն օգտագործող կազմակերպությունների անվանում | C33: ՀՀ մարզերում տեղակայված կրթահամալիրներ
B34: Արդյունքի չափորոշիչներ
B35: Նախագծանախահաշվային փաստաթղթերի քանակ, հատ | D35: 0 | E35: 0 | F35: 4
B36: Միջոցառման վրա կատարվող ծախսը (հազար դրամ) | D36: =+'Հավելված N 2'!G44 -> 0 | E36: =+'Հավելված N 2'!H44 -> 0 | F36: =+'Հավելված N 2'!I44 -> 23900
A42: Աղյուսակ 9․1.58
C43: ՀՀ կառավարություն
B44: ՄԱՍ 2. ՊԵՏԱԿԱՆ ՄԱՐՄՆԻ ԳԾՈՎ ԱՐԴՅՈՒՆՔԱՅԻՆ (ԿԱՏԱՐՈՂԱԿԱՆ) ՑՈՒՑԱՆԻՇՆԵՐԸ
B47: Ծրագրի դասիչը | C47: Ծրագրի անվանումը
B48: 1183 | C48: Ապահով դպրոց
B50: Ծրագրի միջոցառումները
B51: Ծրագրի դասիչը՝ | C51: 1183 | D51: Ցուցանիշների փոփոխությունը (նվազեցումները նշված են փակագծերում)
B52: Միջոցառման դասիչը՝ | C52: 32003 | D52: Առաջին կիսամյակ | E52: Ինն ամիս | F52: Տարի
B53: Միջոցառման անվանումը՝ | C53: Փոքրաքանակ երեխաներով համալրված հանրակրթական դպրոցների մոդուլային շենքերի կառուցում
B54: Նկարագրությունը՝ | C54: Կրթական հաստատությունների կառուցում համայնքային կենտրոնների մոդելով
B55: Միջոցառման տեսակը՝ | C55: Այլ պետական կազմակերպությունների կողմից օգտագործվող ոչ ֆինանսական ակտիվների հետ գործառնություններ
...

Sheet Հավելված N 7
H1: Հավելված N 7
H2: ՀՀ կառավարության 2023 թվականի
H3: ______________ ի ___Ն որոշման
A6: ՀԱՅԱՍՏԱՆԻ ՀԱՆՐԱՊԵՏՈՒԹՅԱՆ ԿԱՌԱՎԱՐՈՒԹՅԱՆ 2022 ԹՎԱԿԱՆԻ ԴԵԿՏԵՄԲԵՐԻ 29-Ի N 2111-Ն N 10 ՀԱՎԵԼՎԱԾՈՒՄ ԿԱՏԱՐՎՈՂ ԼՐԱՑՈՒՄՆԵՐԸ
A10: Կոդը | B10: Անվանումը | E10: Գնման ձևը | F10: Չափման միավորը | G10: Միավորի գինը | H10: Ցուցանիշների փոփոխությունը (ավելացումները նշված են դրական նշանով)
H11: Քանակը | I11: Գումարը (հազար դրամ)
A12: 1 | B12: 2 | E12: 3 | F12: 4 | G12: 5 | H12: 6 | I12: 7
A13: ՀՀ քաղաքաշինության կոմիտե | I13: =+I14 -> 268500
A14: Բաժին N 09 | B14: Խումբ N 06 | C14: Դաս N 01 | D14: Կրթությանը տրամադրվող օժանդակ ծառայություններ | I14: =+I15+I59 -> 268500
A15: 1183-32002 | B15: Կրթական օբյեկտների շենքային ապահովվածության բարելավում | I15: =+I16 -> 244600
B16: ՄԱՍ III. ԾԱՌԱՅՈՒԹՅՈՒՆՆԵՐ | I16: =SUM(I17:I58) -> 244600
A17: 71241200 | B17: նախագծերի պատրաստում, ծախսերի գնահատում | E17: ԳՀ | F17: դրամ | G17: 9000000 | H17: 1 | I17: =+H17*G17/1000 -> 9000
A18: 71241200 | B18: նախագծերի պատրաստում, ծախսերի գնահատում | E18: ԳՀ | F18: դրամ | G18: 13000000 | H18: 1 | I18: =+H18*G18/1000 -> 13000
A19: 71241200 | B19: նախագծերի պատրաստում, ծախսերի գնահատում | E19: ԳՀ | F19: դրամ | G19: 13000000 | H19: 1 | I19: =+H19*G19/1000 -> 13000
A20: 71241200 | B20: նախագծերի պատրաստում, ծախսերի գնահատում | E20: ԳՀ | F20: դրամ | G20: 11000000 | H20: 1 | I20: =+H20*G20/1000 -> 11000
A21: 71241200 | B21: նախագծերի պատրաստում, ծախսերի գնահատում | E21: ԳՀ | F21: դրամ | G21: 20000000 | H21: 1 | I21: =+H21*G21/1000 -> 20000
A22: 71241200 | B22: նախագծերի պատրաստում, ծախսերի գնահատում | E22: ԳՀ | F22: դրամ | G22: 11000000 | H22: 1 | I22: =+H22*G22/1000 -> 11000
A23: 71241200 | B23: նախագծերի պատրաստում, ծախսերի գնահատում | E23: ԳՀ | F23: դրամ | G23: 9000000 | H23: 1 | I23: =+H23*G23/1000 -> 9000
A24: 71241200 | B24: նախագծերի պատրաստում, ծախսերի գնահատում | E24: ԳՀ | F24: դրամ | G24: 11000000 | H24: 1 | I24: =+H24*G24/1000 -> 11000
A25: 71241200 | B25: նախագծերի պատրաստում, ծախսերի գնահատում | E25: ԳՀ | F25: դրամ | G25: 13000000 | H25: 1 | I25: =+H25*G25/1000 -> 13000
A26: 71241200 | B26: նախագծերի պատրաստում, ծախսերի գնահատում | E26: ԳՀ | F26: դրամ | G26: 9000000 | H26: 1 | I26: =+H26*G26/1000 -> 9000
A27: 71241200 | B27: նախագծերի պատրաստում, ծախսերի գնահատում | E27: ԳՀ | F27: դրամ | G27: 11000000 | H27: 1 | I27: =+H27*G27/1000 -> 11000
A28: 71241200 | B28: նախագծերի պատրաստում, ծախսերի գնահատում | E28: ԳՀ | F28: դրամ | G28: 9000000 | H28: 1 | I28: =+H28*G28/1000 -> 9000
... A58: 50531140 | B58: փորձաքննության ծառայություններ | E58: ԳՀ | F58: դրամ | G58: 600000 | H58: 1 | I58: =+H58*G58/1000 -> 600
A59: 1183-32013 | B59: ՀՀ մարզերում կրթական որակյալ ծառայությունների հասանելիության ապահովման ծրագրի շրջանակներում կրթական կենտրոնների ստեղծում | I59: =+I60 -> 23900
B60: ՄԱՍ III. ԾԱՌԱՅՈՒԹՅՈՒՆՆԵՐ | I60: =SUM(I61:I68) -> 23900
A61: 71241200 | B61: նախագծերի պատրաստում, ծախսերի գնահատում | E61: ՄԱ | F61: դրամ | G61: 4500000 | H61: 1 | I61: =+H61*G61/1000 -> 4500
A62: 71241200 | B62: նախագծերի պատրաստում, ծախսերի գնահատում | E62: ՄԱ | F62: դրամ | G62: 4500000 | H62: 1 | I62: =+H62*G62/1000 -> 4500
A63: 71241200 | B63: նախագծերի պատրաստում, ծախսերի գնահատում | E63: ՄԱ | F63: դրամ | G63: 9000000 | H63: 1 | I63: =+H63*G63/1000 -> 9000
A64: 71241200 | B64: նախագծերի պատրաստում, ծախսերի գնահատում | E64: ՄԱ | F64: դրամ | G64: 4500000 | H64: 1 | I64: =+H64*G64/1000 -> 4500
A65: 50531140 | B65: փորձաքննության ծառայություններ | E65: ԳՀ | F65: դրամ | G65: 300000 | H65: 1 | I65: =+H65*G65/1000 -> 300
A66: 50531140 | B66: փորձաքննության ծառայություններ | E66: ԳՀ | F66: դրամ | G66: 300000 | H66: 1 | I66: =+H66*G66/1000 -> 300
A67: 50531140 | B67: փորձաքննության ծառայություններ | E67: ԳՀ | F67: դրամ | G67: 500000 | H67: 1 | I67: =+H67*G67/1000 -> 500
A68: 50531140 | B68: փորձաքննության ծառայություններ | E68: ԳՀ | F68: դրամ | G68: 300000 | H68: 1 | I68: =+H68*G68/1000 -> 300
