Workbook
Name \A: #REF!
Name \A: #REF!
Name \A: #REF!
Name \A: #REF!
Name \A: #REF!
Name _tab10: #REF!
Name _tab10: #REF!
Name _tab10: #REF!
Name _tab10: #REF!
Name _tab10: #REF!
Name _tab11: #REF!
Name _tab11: #REF!
Name _tab11: #REF!
Name _tab11: #REF!
Name _tab12: #REF!
Name _tab12: #REF!
Name _tab12: #REF!
Name _tab12: #REF!
Name _tab13: #REF!
Name _tab13: #REF!
Name _tab13: #REF!
Name _tab13: #REF!
Name _tab14: #REF!
Name _tab14: #REF!
Name _tab14: #REF!
Name _tab14: #REF!
Name _tab15: #REF!
Name _tab15: #REF!
Name _tab15: #REF!
Name _tab15: #REF!
Name _tab16: #REF!
Name _tab16: #REF!
Name _tab16: #REF!
Name _tab16: #REF!
Name _tab17: #REF!
Name _tab17: #REF!
Name _tab17: #REF!
Name _tab17: #REF!
Name _tab18: #REF!
Name _tab18: #REF!
Name _tab18: #REF!
Name _tab18: #REF!
Name _tab19: #REF!
Name _tab19: #REF!
Name _tab19: #REF!
Name _tab19: #REF!
Name _tab20: #REF!
Name _tab20: #REF!
Name _tab20: #REF!
Name _tab20: #REF!
Name _tab21: #REF!
Name _tab21: #REF!
Name _tab21: #REF!
Name _tab21: #REF!
Name _tab22: #REF!
Name _tab22: #REF!
Name _tab22: #REF!
Name _tab22: #REF!
Name _tab23: #REF!
Name _tab23: #REF!

Sheet N 1
C1: Հավելված 1 ՀՀ կառավարության 2023 թվականի____________ի N _____-Ն որոշման
A2: «ՀԱՅԱՍՏԱՆԻ ՀԱՆՐԱՊԵՏՈՒԹՅԱՆ 2022 ԹՎԱԿԱՆԻ ՊԵՏԱԿԱՆ ԲՅՈՒՋԵԻ ՄԱՍԻՆ» ՀԱՅԱՍՏԱՆԻ ՀԱՆՐԱՊԵՏՈՒԹՅԱՆ ՕՐԵՆՔԻ N1 ՀԱՎԵԼՎԱԾԻ N 2 ԱՂՅՈՒՍԱԿՈՒՄ ԿԱՏԱՐՎՈՂ ՎԵՐԱԲԱՇԽՈՒՄԸ ԵՎ ՀԱՅԱՍՏԱՆԻ ՀԱՆՐԱՊԵՏՈՒԹՅԱՆ ԿԱՌԱՎԱՐՈՒԹՅԱՆ 2022 ԹՎԱԿԱՆԻ ԴԵԿՏԵՄԲԵՐԻ 29-Ի N 2111-Ն ՈՐՈՇՄԱՆ N5 ՀԱՎԵԼՎԱԾԻ N1 ԱՂՅՈՒՍԱԿՈՒՄ ԿԱՏԱՐՎՈՂ ՓՈՓՈԽՈՒԹՅՈՒՆՆԵՐԸ ԵՎ ԼՐԱՑՈՒՄՆԵՐԸ
E3: (հազար դրամներով)
A4: Ծրագրային դասիչը | C4: Բյուջետային հատկացումների գլխավոր կարգադրիչների, ծրագրերի և միջոցառումների | D4: Ցուցանիշների փոփոխությունը (ծախսերի ավելացումները նշված են դրական նշանով, իսկ նվազեցումները` փակագծերում)
A5: ծրագիրը | B5: միջոցառումը | C5: անվանումները | D5: Առաջին կիսամյակ | E5: Ինն ամիս | F5: Տարի
C6: ԸՆԴԱՄԵՆԸ այդ թվում` | D6: =D7+D27 -> 0 | E6: =E7+E27 -> 0 | F6: =F7+F27 -> 0
C7: ՀՀ կառավարություն | D7: =D8 -> 0 | E7: =E8 -> 0 | F7: =F8 -> 0
A8: 1139 | C8: Ծրագրի անվանումը | D8: =D15+D21 -> 0 | E8: =E15+E21 -> 0 | F8: =F15+F21 -> 0
C9: ՀՀ կառավարության պահուստային ֆոնդ
C10: Ծրագրի նպատակը
C11: Պետական բյուջեում չկանխատեսված, ինչպես նաև բյուջետային երաշխիքների ապահովման ծախսերի ֆինանսավորման ապահովում
C12: Վերջնական արդյունքի նկարագրությունը
C13: Պահուստային ֆոնդի կառավարման արդյունավետություն և թափանցիկություն
C14: Ծրագրի միջոցառումներ
B15: 11001 | C15: Միջոցառման անվանումը | D15: =D47 -> 11240 | E15: =E47 -> 11240 | F15: =F47 -> 11240
C16: ՀՀ կառավարության պահուստային ֆոնդ
C17: Միջոցառման նկարագրությունը
C18: ՀՀ պետական բյուջեում նախատեսված ելքերի լրացուցիչ ֆինանսավորման, պետական բյուջեում չկանխատեսված ելքերի, ինչպես նաև բյուջետային երաշխիքների ապահովման ելքերի ֆինանսավորման ապահովում
C19: Միջոցառման տեսակը
C20: Ծառայությունների մատուցում
B21: 11001 | C21: Միջոցառման անվանումը | D21: =-D15 -> -11240 | E21: =-E15 -> -11240 | F21: =-F15 -> -11240
C22: ՀՀ կառավարության պահուստային ֆոնդ
C23: Միջոցառման նկարագրությունը
C24: ՀՀ պետական բյուջեում նախատեսված ելքերի լրացուցիչ ֆինանսավորման, պետական բյուջեում չկանխատեսված ելքերի, ինչպես նաև բյուջետային երաշխիքների ապահովման ելքերի ֆինանսավորման ապահովում
C25: Միջոցառման տեսակը
C26: Ծառայությունների մատուցում
C27: ՀՀ շրջակա միջավայրի նախարարություն | D27: =D35+D41+D47 -> 0 | E27: =E35+E41+E47 -> 0 | F27: =F35+F41+F47 -> 0
A28: 1155 | C28: Ծրագրի անվանումը` | D28: =D35+D41+D47 -> 0 | E28: =E35+E41+E47 -> 0 | F28: =F35+F41+F47 -> 0
C29: Բնական պաշարների և բնության հատուկ պահպանվող տարածքների կառավարում և պահպանում
C30: Ծրագրի նպատակը`
C31: Բնական պաշարների և կենսաբազմազանության արդյունավետ կառավարում և պահպանություն
C32: Վերջնական արդյունքի նկարագրությունը`
C33: Բնական պաշարների և կենսաբազմազանության վերարտադրության աճի ապահովում
C34: Ծրագրի միջոցառումներ
B35: 11004 | C35: Միջոցառման անվանումը` | D35: =-D41+-D47 -> -46110.711 | E35: =-E41+-E47 -> -61608.805 | F35: =-F41+-F47 -> -88730.47 | H35: ='[4]Օրինակելի ձև 2'!$I$34 -> 1000 | I35: ='[4]Օրինակելի ձև 2'!$L$34 -> 2000 | J35: ='[4]Օրինակելի ձև 2'!$O$34 -> 4000
C36: «Սևան» ազգային պարկի պահպանության, պարկում գիտական ուսումնասիրությունների, անտառատնտեսական աշխատանքների կատարում | H36: =#REF!+H35 -> #REF! | I36: =E35+I35 -> -59608.805 | J36: =F35+J35 -> -84730.47
C37: Միջոցառման նկարագրությունը`
C38: «Սևան» ազգային պարկի տարածքում պահպանության, գիտական ուսումնասիրությունների, անտառատնտեսական աշխատանքների իրականացում
C39: Միջոցառման տեսակը
C40: Ծառայությունների մատուցում
...

Sheet N 2 
F1: Հավելված 2 ՀՀ կառավարության 2023 թվականի____________ի N _____-Ն որոշման
A2: «ՀԱՅԱՍՏԱՆԻ ՀԱՆՐԱՊԵՏՈՒԹՅԱՆ 2023 ԹՎԱԿԱՆԻ ՊԵՏԱԿԱՆ ԲՅՈՒՋԵԻ ՄԱՍԻՆ» ՀԱՅԱՍՏԱՆԻ ՀԱՆՐԱՊԵՏՈՒԹՅԱՆ ՕՐԵՆՔԻ N1 ՀԱՎԵԼՎԱԾԻ N3 ԱՂՅՈՒՍԱԿՈՒՄ ԿԱՏԱՐՎՈՂ ԼՐԱՑՈՒՄԸ
G3: (հազար դրամներով)
A4: Ծրագրային դասիչ | C4: Բյուջետային գլխավոր կարգադրիչների, ծրագրերի, միջոցառումների և ուղղությունների անվանումները | D4: Ընդամենը, | E4: այդ թվում՝
A5: Ծրագիր | B5: Միջոցառում | E5: Կառուցման աշխատանքներ | F5: Վերակառուցման, վերանորոգման և վերականգնման աշխատանքներ | G5: Նախագծահե- տազոտական, գեոդեզիա- քարտեզագրա- կան աշխա- տանքներ | H5: Ոչ ֆինանսական այլ ակտիվների ձեռքբերում
C6: ԸՆԴԱՄԵՆԸ | D6: =E6+F6+G6+H6 -> 11240 | E6: =E8 -> 0 | F6: =F8 -> 0 | G6: =G8 -> 0 | H6: =H8 -> 11240
C7: այդ թվում՝
C8: ՀՀ ՇՐՋԱԿԱ ՄԻՋԱՎԱՅՐԻ ՆԱԽԱՐԱՐՈՒԹՅՈՒՆ | D8: =H8 -> 11240 | E8: 0 | F8: 0 | G8: =G9 -> 0 | H8: =H9 -> 11240
A9: 1155 | B9: 32005 | C9: «Սևան» ազգային պարկ» ՊՈԱԿ-ի «Նորաշեն» արգելոցի կահավորում | D9: =SUM(E9:H9) -> 11240 | E9: 0 | F9: 0 | G9: 0 | H9: ='N 1'!F47 -> 11240

Sheet N 3
F1: Հավելված 2 ՀՀ կառավարության 2022 թվականի____________ի N _____-Ն որոշման
D2: Հավելված 3 ՀՀ կառավարության 2023 թվականի____________ի N _____-Ն որոշման
A3: ՀԱՅԱՍՏԱՆԻ ՀԱՆՐԱՊԵՏՈՒԹՅԱՆ ԿԱՌԱՎԱՐՈՒԹՅԱՆ 2022 ԹՎԱԿԱՆԻ ԴԵԿՏԵՄԲԵՐԻ 29-Ի N 2111-Ն ՈՐՈՇՄԱՆ N3 ԵՎ N4 ՀԱՎԵԼՎԱԾՆԵՐՈՒՄ ԿԱՏԱՐՎՈՂ ՓՈՓՈԽՈՒԹՅՈՒՆՆԵՐԸ
A5: Բաժին | B5: Խումբ | C5: Դաս | D5: Ծրագրային դասիչը | F5: Բյուջետային հատկացումների գլխավոր կարգադրիչների, ծրագրերի, միջոցառումների և միջոցառումները կատարող պետական մարմինների անվանումները | G5: Ցուցանիշների փոփոխությունը (ծախսերի ավելացումները նշված են դրական նշանով, իսկ նվազեցումները` փակագծերում)
D6: Ծրագիր | E6: Միջոցառում | G6: Առաջին կիսամյակ | H6: Ինն ամիս | I6: Տարի
F7: ԸՆԴԱՄԵՆԸ այդ թվում` | G7: =G8+G29 -> 0 | H7: =H8+H29 -> 0 | I7: =I8+I29 -> 0
A8: 11 | F8: ՀԻՄՆԱԿԱՆ ԲԱԺԻՆՆԵՐԻՆ ՉԴԱՍՎՈՂ ՊԱՀՈՒՍՏԱՅԻՆ ՖՈՆԴԵՐ այդ թվում` | G8: =G9 -> 0 | H8: =H9 -> 0 | I8: =I9 -> 0
B9: 01 | F9: ՀՀ կառավարության և համայնքների պահուստային ֆոնդ այդ թվում` | G9: =G10 -> 0 | H9: =H10 -> 0 | I9: =I10 -> 0
C10: 01 | F10: ՀՀ կառավարության պահուստային ֆոնդ այդ թվում` | G10: =G12 -> 0 | H10: =H12 -> 0 | I10: =I12 -> 0
F11: ՀՀ կառավարություն
D12: 1139 | F12: ՀՀ կառավարության պահուստային ֆոնդ այդ թվում` | G12: =G13+G21 -> 0 | H12: =H13+H21 -> 0 | I12: =I13+I21 -> 0
E13: 11001 | F13: ՀՀ կառավարության պահուստային ֆոնդ | G13: =G15 -> 11240 | H13: =H15 -> 11240 | I13: =I15 -> 11240
F14: այդ թվում` ըստ կատարողների
F15: ՀՀ կառավարություն | G15: =G17 -> 11240 | H15: =H17 -> 11240 | I15: =I17 -> 11240
F16: այդ թվում` բյուջետային ծախսերի տնտեսագիտական դասակարգման հոդվածներ
F17: ԸՆԴԱՄԵՆԸ ԾԱԽՍԵՐ | G17: =G18 -> 11240 | H17: =H18 -> 11240 | I17: =I18 -> 11240
F18: ԸՆԹԱՑԻԿ ԾԱԽՍԵՐ | G18: =G19 -> 11240 | H18: =H19 -> 11240 | I18: =I19 -> 11240
F19: ԱՅԼ ԾԱԽՍԵՐ | G19: =G20 -> 11240 | H19: =H20 -> 11240 | I19: =I20 -> 11240
F20: -Պահուստային միջոցներ | G20: ='N 1'!D15 -> 11240 | H20: ='N 1'!E15 -> 11240 | I20: ='N 1'!F15 -> 11240
E21: 11001 | F21: ՀՀ կառավարության պահուստային ֆոնդ | G21: =G23 -> -11240 | H21: =H23 -> -11240 | I21: =I23 -> -11240
F22: այդ թվում` ըստ կատարողների
F23: ՀՀ կառավարություն | G23: =G25 -> -11240 | H23: =H25 -> -11240 | I23: =I25 -> -11240
F24: այդ թվում` բյուջետային ծախսերի տնտեսագիտական դասակարգման հոդվածներ
F25: ԸՆԴԱՄԵՆԸ ԾԱԽՍԵՐ | G25: =G26 -> -11240 | H25: =H26 -> -11240 | I25: =I26 -> -11240
F26: ԸՆԹԱՑԻԿ ԾԱԽՍԵՐ | G26: =G27 -> -11240 | H26: =H27 -> -11240 | I26: =I27 -> -11240
F27: ԱՅԼ ԾԱԽՍԵՐ | G27: =G28 -> -11240 | H27: =H28 -> -11240 | I27: =I28 -> -11240
F28: -Պահուստային միջոցներ | G28: =-G20 -> -11240 | H28: =-H20 -> -11240 | I28: =-I20 -> -11240
A29: 05 | F29: ՇՐՋԱԿԱ ՄԻՋԱՎԱՅՐԻ ՊԱՇՏՊԱՆՈՒԹՅՈՒՆ այդ թվում` | G29: =G30 -> 0 | H29: =H30 -> 0 | I29: =I30 -> 0
B30: 04 | F30: Կենսաբազմազանության և բնության պաշտպանություն այդ թվում` | G30: =G31 -> 0 | H30: =H31 -> 0 | I30: =I31 -> 0
C31: 01 | F31: Կենսաբազմազանության և բնության պաշտպանություն այդ թվում` | G31: =G32 -> 0 | H31: =H32 -> 0 | I31: =I32 -> 0
F32: ՀՀ շրջակա միջավայրի նախարարություն այդ թվում` | G32: =G33 -> 0 | H32: =H33 -> 0 | I32: =I33 -> 0
D33: 1155 | F33: Բնական պաշարների և բնության հատուկ պահպանվող տարածքների կառավարում և պահպանում այդ թվում` | G33: =-G34+-G43+-G51 -> 0 | H33: =-H34+-H43+-H51 -> 0 | I33: =-I34+-I43+-I51 -> 0
E34: 11004 | F34: «Սևան» ազգային պարկի պահպանության, պարկում գիտական ուսումնասիրությունների, անտառատնտեսական աշխատանքների կատարում | G34: =G36 -> -46110.711 | H34: =H36 -> -61608.805 | I34: =I36 -> -88730.47
F35: այդ թվում` ըստ կատարողների
F36: ՀՀ շրջակա միջավայրի նախարարություն | G36: =G38 -> -46110.711 | H36: =H38 -> -61608.805 | I36: =I38 -> -88730.47
F37: այդ թվում` բյուջետային ծախսերի տնտեսագիտական դասակարգման հոդվածներ
F38: ԸՆԴԱՄԵՆԸ ԾԱԽՍԵՐ | G38: =G39 -> -46110.711 | H38: =H39 -> -61608.805 | I38: =I39 -> -88730.47
F39: ԸՆԹԱՑԻԿ ԾԱԽՍԵՐ | G39: =G40 -> -46110.711 | H39: =H40 -> -61608.805 | I39: =I40 -> -88730.47
F40: ԴՐԱՄԱՇՆՈՐՀՆԵՐ | G40: =G42 -> -46110.711 | H40: =H42 -> -61608.805 | I40: =I42 -> -88730.47
F41: Ընթացիկ դրամաշնորհներ պետական հատվածի այլ մակարդակներին
...

Sheet N 4
D1: Հավելված 4 ՀՀ կառավարության 2023 թվականի____________ի N _____-Ն որոշման
A3: ՀԱՅԱՍՏԱՆԻ ՀԱՆՐԱՊԵՏՈՒԹՅԱՆ ԿԱՌԱՎԱՐՈՒԹՅԱՆ 2022 ԹՎԱԿԱՆԻ ԴԵԿՏԵՄԲԵՐԻ 29-Ի N 2111-Ն ՈՐՈՇՄԱՆ N5 ՀԱՎԵԼՎԱԾԻ 7 ԱՂՅՈՒՍԱԿՈՒՄ ԿԱՏԱՐՎՈՂ ՓՈՓՈԽՈՒԹՅՈՒՆՆԵՐԸ
G4: հազար դրամ
A5: Ծրագրային դասիչ | C5: Բյուջետային հատկացումների գլխավոր կարգադրիչների, ծրագրերի, միջոցառումների, ծախսային ուղղությունների անվանումները | F5: Միջոցառումները կատարող պետական մարմինների և դրամաշնորհ ստացող տնտեսվարող սուբյեկտների անվանումները | G5: Ցուցանիշների փոփոխությունը (նվազեցումները` նշված են փակագծերում)
A6: Ծրագիր | B6: Միջոցառում | G6: Տարի
A7: 1 | B7: 2 | C7: 3 | F7: 4 | G7: 5
A8: Ընդամենը | G8: =+G9 -> -88730.47
A9: ՀՀ շրջակա միջավայրի նախարարություն | G9: =G10 -> -88730.47
A10: 1155 | B10: Բնական պաշարների և բնության հատուկ պահպանվող տարածքների կառավարում և պահպանում | G10: =G11 -> -88730.47
B11: 11004 | C11: «Սևան» ազգային պարկի պահպանության, պարկում գիտական ուսումնասիրությունների, անտառտնտեսական աշխատանքների կատարում | F11: ՀՀ շրջակա միջավայրի նախարարություն | G11: =G12 -> -88730.47
F12: «Սևան» ազգային պարկ» ՊՈԱԿ | G12: ='N 1'!F35 -> -88730.47

Sheet  N 5_9_9.1
B1: Հավելված 5 ՀՀ կառավարության 2023 թվականի____________ի N _____-Ն որոշման
A2: ՀԱՅԱՍՏԱՆԻ ՀԱՆՐԱՊԵՏՈՒԹՅԱՆ ԿԱՌԱՎԱՐՈՒԹՅԱՆ 2022 ԹՎԱԿԱՆԻ ԴԵԿՏԵՄԲԵՐԻ 29-Ի N 2111-Ն ՈՐՈՇՄԱՆ NN 9 ԵՎ 9.1 ՀԱՎԵԼՎԱԾՆԵՐԻ NN 9.47 ԵՎ 9.1.58 ԱՂՅՈՒՍԱԿՆԵՐՈՒՄ ԿԱՏԱՐՎՈՂ ՓՈՓՈԽՈՒԹՅՈՒՆՆԵՐԸ ԵՎ ԼՐԱՑՈՒՄՆԵՐԸ
A3: ՀՀ կառավարություն
A4: ՄԱՍ 1. 2. ՊԵՏԱԿԱՆ ՄԱՐՄՆԻ ԳԾՈՎ ԱՐԴՅՈՒՆՔԱՅԻՆ (ԿԱՏԱՐՈՂԱԿԱՆ) ՑՈՒՑԱՆԻՇՆԵՐԸ
A6: Ծրագրի դասիչը | B6: Ծրագրի անվանումը
A7: 1139 | B7: ՀՀ կառավարության պահուստային ֆոնդ
A9: Ծրագրի միջոցառումները
A10: Ծրագրի դասիչը` | B10: 1139 | C10: Ցուցանիշների փոփոխությունը (ավելացումները նշված են դրական նշանով)
A11: Միջոցառման դասիչը` | B11: 11001 | C11: Առաջին կիսամյակ | D11: Ինն ամիս | E11: Տարի
A12: Միջոցառման անվանումը` | B12: ՀՀ կառավարության պահուստային ֆոնդ
A13: Նկարագրությունը` | B13: ՀՀ պետական բյուջեում նախատեսված ելքերի լրացուցիչ ֆինանսավորման՝ պետական բյուջեում չկանխատեսված ելքերի՝ ինչպես նաև բյուջետային երաշխիքների ապահովման ելքերի ֆինանսավորման ապահովում
A14: Միջոցառման տեսակը` | B14: Ծառայությունների մատուցում
A15: Արդյունքի չափորոշիչներ
A16: Միջոցառման վրա կատարվող ծախսը (հազար դրամ) | C16: =C74 -> 11240 | D16: =D74 -> 11240 | E16: =E74 -> 11240
A18: Ծրագրի դասիչը` | B18: 1139 | C18: Ցուցանիշների փոփոխությունը (նվազեցումները` նշված են փակագծերում)
A19: Միջոցառման դասիչը` | B19: 11001 | C19: Առաջին կիսամյակ | D19: Ինն ամիս | E19: Տարի
A20: Միջոցառման անվանումը` | B20: ՀՀ կառավարության պահուստային ֆոնդ
A21: Նկարագրությունը` | B21: ՀՀ պետական բյուջեում նախատեսված ելքերի լրացուցիչ ֆինանսավորման՝ պետական բյուջեում չկանխատեսված ելքերի՝ ինչպես նաև բյուջետային երաշխիքների ապահովման ելքերի ֆինանսավորման ապահովում
A22: Միջոցառման տեսակը` | B22: Ծառայությունների մատուցում
A23: Արդյունքի չափորոշիչներ
A24: Միջոցառման վրա կատարվող ծախսը (հազար դրամ) | C24: =-C16 -> -11240 | D24: =-D16 -> -11240 | E24: =-E16 -> -11240
A26: ՀԱՅԱՍՏԱՆԻ ՀԱՆՐԱՊԵՏՈՒԹՅԱՆ ԿԱՌԱՎԱՐՈՒԹՅԱՆ 2022 ԹՎԱԿԱՆԻ ԴԵԿՏԵՄԲԵՐԻ 29-Ի N 2111-Ն ՈՐՈՇՄԱՆ NN 9 ԵՎ 9.1 ՀԱՎԵԼՎԱԾՆԵՐԻ NN 9.12 ԵՎ 9.1.12 ԱՂՅՈՒՍԱԿՆԵՐՈՒՄ ԿԱՏԱՐՎՈՂ ՓՈՓՈԽՈՒԹՅՈՒՆՆԵՐԸ ԵՎ ԼՐԱՑՈՒՄՆԵՐԸ
A27: ՀՀ շրջակա միջավայրի նախարարություն
A28: ՄԱՍ 1.2. ՊԵՏԱԿԱՆ ՄԱՐՄՆԻ ԳԾՈՎ ԱՐԴՅՈՒՆՔԱՅԻՆ (ԿԱՏԱՐՈՂԱԿԱՆ) ՑՈՒՑԱՆԻՇՆԵՐԸ
A30: Ծրագրի դասիչը | B30: Ծրագրի անվանումը
A31: 1155 | B31: Բնական պաշարների և բնության հատուկ պահպանվող տարածքների կառավարում և պահպանում
A33: Ծրագրի դասիչը` | B33: 1155 | C33: Ցուցանիշների փոփոխությունը (ավելացումները նշված են դրական նշանով, իսկ նվազեցումները` փակագծերում)
A34: Միջոցառման դասիչը` | B34: 11004 | C34: Առաջին կիսամյակ | D34: Ինն ամիս | E34: Տարի
A35: Միջոցառման անվանումը` | B35: «Սևան» ազգային պարկի պահպանության, պարկում գիտական ուսումնասիրությունների, անտառատնտեսական աշխատանքների կատարում
A36: Նկարագրությունը` | B36: «Սևան» ազգային պարկի տարածքում պահպանության, գիտական ուսումնասիրությունների, անտառատնտեսական աշխատանքների իրականացում
A37: Միջոցառման տեսակը` | B37: Ծառայությունների մատուցում
A38: Միջոցառումն իրականացնողի անվանումը՛ | B38: Մասնագիտացված կազմակերպություններ
A39: Արդյունքի չափորոշիչներ
A40: Սևանա լճի ջրածածկ անտառտնկարկների մաքրում, հա | C40: =E40*45% -> -27.405 | D40: =E40*65% -> -39.585 | E40: -60.9
A41: Մաքրված տարածքների մասնաբաժինը մաքրման ենթակա (2022թ.՛ 1590.43 հա) տարածքներում, տոկոս | C41: -2.5 | D41: -3.9 | E41: -5.6
A42: Մինչև 1901,5 մետր նիշն ընկած մաքրված տարածքների մասնաբաժինը մաքրման ենթակա (857,85 հա) տարածքներում, տոկոս | C42: =E42*45% -> 1.62 | D42: =E42*65% -> 2.34 | E42: 3.6
A43: «Սևան» ազգային պարկ» ՊՈԱԿ-ի «Նորաշեն» արգելոցի տարածքի ցանկապատի վերանորոգում, գծմ | C43: 100 | D43: 300 | E43: 300
A44: Միջոցառման վրա կատարվող ծախսը (հազար դրամ) | C44: =-C56+-C74 -> -46110.711 | D44: =-D56+-D74 -> -61608.805 | E44: =-E56+-E74 -> -88730.47
A46: Ծրագրի դասիչը` | B46: 1155 | C46: Ցուցանիշների փոփոխությունը (ավելացումները նշված են դրական նշանով, իսկ նվազեցումները` փակագծերում)
A47: Միջոցառման դասիչը` | B47: 11002 | C47: Առաջին կիսամյակ | D47: Ինն ամիս | E47: Տարի
...

Sheet N 6
A1: Հավելված 6 ՀՀ կառավարության 2023 թվականի____________ի N _____-Ն որոշման
A3: ՀԱՅԱՍՏԱՆԻ ՀԱՆՐԱՊԵՏՈՒԹՅԱՆ ԿԱՌԱՎԱՐՈՒԹՅԱՆ 2022 ԹՎԱԿԱՆԻ ԴԵԿՏԵՄԲԵՐԻ 29-Ի N 2111-Ն ՈՐՈՇՄԱՆ N5 ՀԱՎԵԼՎԱԾԻ N2 ԱՂՅՈՒՍԱԿՈՒՄ ԿԱՏԱՐՎՈՂ ԼՐԱՑՈՒՄԸ
F4: (հազար դրամներով)
A5: Ծրագրային դասիչ | C5: Բյուջետային գլխավոր կարգադրիչների, ծրագրերի, միջոցառումների, միջոցառումները կատարող պետական մարմինների և ուղղությունների անվանումները | D5: Ցուցանիշների փոփոխությունը (ավելացումները նշված են դրական նշանով)
A6: Ծրագիր | B6: Միջոցառում | D6: Առաջին կիսամյակ | E6: Ինն ամիս | F6: Տարի
C7: ԸՆԴԱՄԵՆԸ | D7: =D8 -> 11240 | E7: =E8 -> 11240 | F7: =F8 -> 11240
C8: ՀՀ ՇՐՋԱԿԱ ՄԻՋԱՎԱՅՐԻ ՆԱԽԱՐԱՐՈՒԹՅՈՒՆ | D8: =D10 -> 11240 | E8: =E10 -> 11240 | F8: =F10 -> 11240
C9: այդ թվում`
A10: 1155 | B10: 32005 | C10: «Սևան» ազգային պարկ» ՊՈԱԿ-ի «Նորաշեն» արգելոցի կահավորում | D10: =E10 -> 11240 | E10: =F10 -> 11240 | F10: ='N 2 '!H9 -> 11240

Sheet N 7 
D1: Հավելված 7 ՀՀ կառավարության 2023 թվականի____________ի N _____-Ն որոշման
A3: ՀԱՅԱՍՏԱՆԻ ՀԱՆՐԱՊԵՏՈՒԹՅԱՆ ԿԱՌԱՎԱՐՈՒԹՅԱՆ 2022 ԹՎԱԿԱՆԻ ԴԵԿՏԵՄԲԵՐԻ 29-Ի N 2111-Ն ՈՐՈՇՄԱՆ N10 ՀԱՎԵԼՎԱԾՈՒՄ ԿԱՏԱՐՎՈՂ ԼՐԱՑՈՒՄՆԵՐԸ
A5: Կոդը | B5: Անվանումը | D5: Գնման ձևը | E5: Չափման միավորը | F5: Ցուցանիշների փոփոխությունը (ավելացումները նշված են դրական նշանով, իսկ նվազեցումները` փակագծերում)
F6: Միավորի գինը | G6: Քանակը | H6: Գումարը (հազար դրամով)
A7: ՀՀ շրջակա միջավայրի նախարարություն | H7: =H8 -> 88730.5
A8: Բաժին N 05 | B8: Խումբ N 04 | C8: Դաս N 01 | D8: Կենսաբազմազանության և բնության պաշտպանություն | H8: =H9+H16 -> 88730.5
A9: 1155 11002 | B9: Սևանա լճի ջրածածկ անտառտնկարկների մաքրում | H9: =H10+H12 -> 77490.5
B10: ՄԱՍ II. ԱՇԽԱՏԱՆՔՆԵՐ | H10: =SUM(H11) -> 76024.2
A11: 45111450-1 | B11: լանդշաֆտային աշխատանքներ կանաչ տարածքների համար | D11: ԲՄ | E11: դրամ | H11: 76024.2
B12: ՄԱՍ III. ԾԱՌԱՅՈՒԹՅՈՒՆՆԵՐ | H12: =SUM(H13:H15) -> 1466.3
A13: 71241700-1 | B13: շինարարական աշխատանքների վերահսկում | D13: գհ | E13: դրամ | F13: 2077300 | G13: -1 | H13: =F13*G13/1000 -> -2077.3
A14: 71241700-2 | B14: շինարարական աշխատանքների վերահսկում | D14: ԲՄ | E14: դրամ | F14: 3062800 | G14: 1 | H14: =F14*G14/1000 -> 3062.8
A15: 98111140-1 | B15: հեղինակային հսկողության ծառայություններ | D15: ՄԱ | E15: դրամ | H15: 480.8
A16: 1155 32005 | B16: «Սևան» ազգային պարկ» ՊՈԱԿ-ի «Նորաշեն» արգելոցի կահավորում | H16: =H17 -> 11240
B17: ՄԱՍ I. Ա Պ Ր Ա Ն Ք Ն Ե Ր | H17: =SUM(H18:H28) -> 11240
A18: 24951470-1 | B18: բիոզուգարաններ | D18: գհ | E18: հատ | F18: 450000 | G18: 2 | H18: =F18*G18/1000 -> 900
A19: 30211220-1 | B19: Սեղանի համակարգիչ | D19: ԷԱՃ | E19: հատ | F19: 320000 | G19: 1 | H19: =F19*G19/1000 -> 320
A20: 30237490-1 | B20: Համակարգչային մոնիտոր | D20: ԷԱՃ | E20: հատ | F20: 75000 | G20: 1 | H20: =F20*G20/1000 -> 75
A21: 30239110-1 | B21: տպիչ սարք, բազմաֆունկցիոնալ, A4, 18 էջ/րոպե արագության | D21: ԷԱՃ | E21: հատ | F21: 160000 | G21: 1 | H21: =F21*G21/1000 -> 160
A22: 31151120-1 | B22: անխափան սնուցման աղբյուրներ | D22: ԷԱՃ | E22: հատ | F22: 25000 | G22: 1 | H22: =F22*G22/1000 -> 25
A23: 34141430-1 | B23: շարժական տներ | D23: ԷԱՃ | E23: հատ | F23: 4000000 | G23: 1 | H23: =F23*G23/1000 -> 4000
A24: 34141430-2 | B24: շարժական տներ | D24: ԷԱՃ | E24: հատ | F24: 1300000 | G24: 1 | H24: =F24*G24/1000 -> 1300
A25: 34921220-1 | B25: անվտանգության արգելապատնեշներ | D25: ԷԱՃ | E25: հատ | F25: 300000 | G25: 1 | H25: =F25*G25/1000 -> 300
A26: 34921440-1 | B26: թափոնների ― աղբի տարաներ ― աղբամաններ | D26: ԷԱՃ | E26: հատ | F26: 40000 | G26: 10 | H26: =F26*G26/1000 -> 400
A27: 45221143-1 | B27: մետաղական կրող կոնստրուկցիաներ | D27: ԷԱՃ | E27: հատ | F27: 880000 | G27: 2 | H27: =F27*G27/1000 -> 1760
A28: 45221143-2 | B28: մետաղական կրող կոնստրուկցիաներ | D28: ԷԱՃ | E28: հատ | F28: 500000 | G28: 4 | H28: =F28*G28/1000 -> 2000
