Workbook

Sheet Հավելված 1
F1: Հավելված 1
F2: ՀՀ կառավարության 2023 թվականի
F3: ___________ ___-ի N _______ -Ն որոշման
A4: «ՀԱՅԱUՏԱՆԻ ՀԱՆՐԱՊԵՏՈՒԹՅԱՆ 2023 ԹՎԱԿԱՆԻ ՊԵՏԱԿԱՆ ԲՅՈՒՋԵԻ ՄԱUԻՆ» OՐԵՆՔԻ N 1 ՀԱՎԵԼՎԱԾԻ N 2 ԱՂՅՈՒՍԱԿՈՒՄ ԿԱՏԱՐՎՈՂ ՎԵՐԱԲԱՇԽՈՒՄԸ ԵՎ ՀԱՅԱՍՏԱՆԻ ՀԱՆՐԱՊԵՏՈՒԹՅԱՆ ԿԱՌԱՎԱՐՈՒԹՅԱՆ 2022 ԹՎԱԿԱՆԻ ԴԵԿՏԵՄԲԵՐԻ 29-Ի N 2111-Ն ՈՐՈՇՄԱՆ N 5 ՀԱՎԵԼՎԱԾԻ N 1 ԱՂՅՈՒՍԱԿՈՒՄ ԿԱՏԱՐՎՈՂ ՓՈՓՈԽՈՒԹՅՈՒՆՆԵՐԸ ԵՎ ԼՐԱՑՈՒՄՆԵՐԸ
F6: հազար դրամներով
A7: Ծրագրային դասիչը | C7: Բյուջետային գլխավոր կարգադրիչների, ծրագրերի և միջոցառումների անվանումները | D7: Ցուցանիշների փոփոխությունը (ավելացումները նշված են դրական նշանով, իսկ նվազեցումները փակագծերում)
A8: Ծրագիր | B8: Միջոց առում | D8: Առաջին կիսամյակ | E8: Ինն ամիս | F8: Տարի
C10: ԸՆԴԱՄԵՆԸ | D10: =D11+D31 -> 0 | E10: =E11+E31 -> 0 | F10: =F11+F31 -> 0
C11: ՀՀ ազգային անվտանգության ծառայություն | D11: =+D12 -> 0 | E11: =+E12 -> 0 | F11: =+F12 -> 0
A12: 1138 | C12: Ծրագրի անվանումը` | D12: =+D25+D19 -> 0 | E12: =+E25+E19 -> 0 | F12: =+F25+F19 -> 0
C13: Ազգային անվտանգություն
C14: Ծրագրի նպատակը`
C15: Ներքին և արտաքին սպառնալիքներից անձի՝ հասարակության ու պետության անվտանգության ապահովում
C16: Վերջնական արդյունքի նկարագրությունը`
C17: Այլ պետությունների կողմից հետախուզական գործունեության կասեցում՝պետական սահմանի անձեռնամխելիության ապահովում՝ կոռուպցիոն ռիսկերի շեշտակի նվազեցում
A18: Ծրագրի միջոցառումներ | C18: Ծրագրի միջոցառումներ
B19: 11001 | C19: Միջոցառման անվանումը` | D19: ='Հավելված 3'!G22 -> 108889.6 | E19: =D19 -> 108889.6 | F19: =E19 -> 108889.6
C20: Հետախուզական, հակահետախուզական, ռազմական հակահետախուզության, հանցագործությունների դեմ պայքարի և պետական սահմանի պահպանության գործունեության կազմակերպում
C21: Միջոցառման նկարագրությունը`
C22: ՀՀ անվտանգությանը սպառնացող վտանգի մասին տեղեկատվության ստացում, վերլուծում, վտանգի կանխատեսում, վտանգի կանխման ու չեզոքացման վերաբերյալ առաջարկությունների մշակում
C23: Միջոցառման տեսակը
C24: Ծառայությունների մատուցում
B25: 31001 | C25: Միջոցառման անվանումը` | D25: ='Հավելված 3'!G37 -> -108889.6 | E25: ='Հավելված 3'!H37 -> -108889.6 | F25: ='Հավելված 3'!I37 -> -108889.6
C26: Ազգային անվտանգության համակարգի տեխնիկական հագեցվածության բարելավում
C27: Միջոցառման նկարագրությունը`
C28: Ազգային անվտանգության համակարգի ստորաբաժանումների համար վարչական սարքավորումների ձեռքբերում
C29: Միջոցառման տեսակը
C30: Պետական մարմինների կողմից օգտագործվող ոչ ֆինանսական ակտիվների հետ գործառնություններ
C31: ՀՀ կառավարություն | D31: =D32 -> 0 | E31: =E32 -> 0 | F31: =F32 -> 0
A32: 1139 | C32: Ծրագրի անվանումը` | D32: =D39+D45 -> 0 | E32: =E39+E45 -> 0 | F32: =F39+F45 -> 0
C33: ՀՀ կառավարության պահուստային ֆոնդ
C34: Ծրագրի նպատակը`
C35: Պետական բյուջեում չկանխատեսված, ինչպես նաեւ բյուջետային երաշխիքների ապահովման ծախսերի ֆինանսավորման ապահովում_x000D_
C36: Վերջնական արդյունքի նկարագրությունը`
C37: Պահուստային ֆոնդի կառավարման արդյունավետության և թափանցիկության ապահովում
C38: Ծրագրի միջոցառումներ
B39: 11001 | C39: Միջոցառման անվանումը` | D39: =-D45 -> -314445.6 | E39: =-E45 -> -314445.6 | F39: =-F45 -> -314445.6
C40: ՀՀ կառավարության պահուստային ֆոնդ
C41: Միջոցառման նկարագրությունը`
C42: ՀՀ պետական բյուջեում նախատեսված ելքերի լրացուցիչ ֆինանսավորման՝ պետական բյուջեում չկանխատեսված ելքերի՝ ինչպես նաև բյուջետային երաշխիքների ապահովման ելքերի ֆինանսավորման ապահովում
...

Sheet Հավելված 2
H1: Հավելված 2
F2: ՀՀ կառավարության 2023 թվականի
F3: ___________ ___-ի N _______ -Ն որոշման
A5: «ՀԱՅԱՍՏԱՆԻ ՀԱՆՐԱՊԵՏՈՒԹՅԱՆ 2023 ԹՎԱԿԱՆԻ ՊԵՏԱԿԱՆ ԲՅՈՒՋԵԻ ՄԱՍԻՆ» ՀԱՅԱՍՏԱՆԻ ՀԱՆՐԱՊԵՏՈՒԹՅԱՆ ՕՐԵՆՔԻ N 1 ՀԱՎԵԼՎԱԾԻ N 3 ԱՂՅՈՒՍԱԿՈՒՄ ԿԱՏԱՐՎՈՂ ՓՈՓՈԽՈՒԹՅՈՒՆՆԵՐԸ
G6: հազար դրամներով
A7: Ծրագրային դասիչ | C7: Բյուջետային գլխավոր կարգադրիչների, ծրագրերի, միջոցառումների և ուղղությունների անվանումները | D7: Ընդամենը | E7: Ցուցանիշների փոփոխությունը (նվազեցումները նշված են փակագծերում)
E8: այդ թվում՝
A9: Ծրագիր | B9: Միջոցառում | E9: Կառուցման աշխատանքներ | F9: Վերակառուցման, վերանորոգման և վերականգնման աշխատանքներ | G9: Նախագծահե- տազոտական, գեոդեզիա- քարտեզագրա- կան աշխա- տանքներ | H9: Ոչ ֆինանսական այլ ակտիվների ձեռքբերում
C10: ԸՆԴԱՄԵՆԸ | D10: =D12 -> -108889.6 | E10: =E12 -> 0 | F10: =F12 -> 0 | G10: =G12 -> 0 | H10: =H12 -> -108889.6
C11: այդ թվում՝
C12: ՀՀ ԱԶԳԱՅԻՆ ԱՆՎՏԱՆԳՈՒԹՅԱՆ ԾԱՌԱՅՈՒԹՅՈՒՆ | D12: =+D14 -> -108889.6 | E12: =E14 -> 0 | F12: =F14 -> 0 | G12: =G14 -> 0 | H12: =H14 -> -108889.6
C13: այդ թվում`
A14: 1138 | B14: 31001 | C14: Ազգային անվտանգության համակարգի տեխնիկական հագեցվածության բարելավում | D14: =E14+F14+G14+H14 -> -108889.6 | E14: 0 | F14: 0 | G14: 0 | H14: ='Հավելված 1'!D25 -> -108889.6

Sheet Հավելված 3
I1: Հավելված 3
G2: ՀՀ կառավարության 2023 թվականի
G3: ___________ ___-ի N _______ -Ն որոշման
A5: ՀԱՅԱՍՏԱՆԻ ՀԱՆՐԱՊԵՏՈՒԹՅԱՆ ԿԱՌԱՎԱՐՈՒԹՅԱՆ 2022 ԹՎԱԿԱՆԻ ԴԵԿՏԵՄԲԵՐԻ 29-Ի N 2111-Ն ՈՐՈՇՄԱՆ N 3 ԵՎ N 4 ՀԱՎԵԼՎԱԾՆԵՐՈՒՄ ԿԱՏԱՐՎՈՂ ՓՈՓՈԽՈՒԹՅՈՒՆՆԵՐԸ ԵՎ ԼՐԱՑՈՒՄՆԵՐԸ
H7: հազար դրամներով
A8: Գործառական դասիչը | D8: Ծրագրային դասիչը | F8: Բյուջետային հատկացումների գլխավոր կարգադրիչների, ծրագրերի, միջոցառումների և միջոցառումները կատարող պետական մարմինների անվանումները | G8: Ցուցանիշների փոփոխությունը (ավելացումները նշված են դրական նշանով, իսկ նվազեցումները՝ փակագծերում)
A9: Բաժին | B9: Խումբ | C9: Դաս | D9: Ծրագիր | E9: Միջոց առում | G9: Առաջին կիսամյակ | H9: Ինն ամիս | I9: Տարի
A10: 1 | B10: 2 | C10: 3 | D10: 4 | E10: 5 | F10: 6
F11: ԸՆԴԱՄԵՆԸ ԾԱԽՍԵՐ | G11: =+G13+G47 -> 0 | H11: =+H13+H47 -> 0 | I11: =+I13+I47 -> 0
F12: այդ թվում`
A13: 03 | F13: ՀԱՍԱՐԱԿԱԿԱՆ ԿԱՐԳ, ԱՆՎՏԱՆԳՈՒԹՅՈՒՆ ԵՎ ԴԱՏԱԿԱՆ ԳՈՐԾՈՒՆԵՈՒԹՅՈՒՆ | G13: =+G15 -> 0 | H13: =+H15 -> 0 | I13: =+I15 -> 0
F14: այդ թվում`
B15: 01 | F15: Հասարակական կարգ և անվտանգություն | G15: =+G17 -> 0 | H15: =+H17 -> 0 | I15: =+I17 -> 0
F16: այդ թվում`
C17: 02 | F17: Ազգային անվտանգություն | G17: =+G19 -> 0 | H17: =+H19 -> 0 | I17: =+I19 -> 0
F18: այդ թվում`
D19: 1138 | F19: Ազգային անվտանգություն | G19: =G21 -> 0 | H19: =H21 -> 0 | I19: =I21 -> 0
F20: այդ թվում`
F21: ՀՀ ազգային անվտանգության ծառայություն | G21: =G22+G37 -> 0 | H21: =H22+H37 -> 0 | I21: =I22+I37 -> 0
E22: 11001 | F22: Հետախուզական, հակահետախուզական, ռազմական հակահետախուզության, հանցագործությունների դեմ պայքարի և պետական սահմանի պահպանության գործունեության կազմակերպում | G22: =G24 -> 108889.6 | H22: =H24 -> 108889.6 | I22: =I24 -> 108889.6
F23: այդ թվում` ըստ կատարողների
F24: ՀՀ ազգային անվտանգության ծառայություն | G24: =G26 -> 108889.6 | H24: =H26 -> 108889.6 | I24: =I26 -> 108889.6
F25: այդ թվում` բյուջետային ծախսերի տնտեսագիտական դասակարգման հոդվածներ
F26: ԸՆԴԱՄԵՆԸ ԾԱԽՍԵՐ | G26: =G27 -> 108889.6 | H26: =H27 -> 108889.6 | I26: =I27 -> 108889.6
F27: ԸՆԹԱՑԻԿ ԾԱԽՍԵՐ | G27: =G28 -> 108889.6 | H27: =H28 -> 108889.6 | I27: =I28 -> 108889.6
F28: ԾԱՌԱՅՈՒԹՅՈՒՆՆԵՐԻ ԵՎ ԱՊՐԱՆՔՆԵՐԻ ՁԵՌՔԲԵՐՈՒՄ | G28: =G29+G31+G33 -> 108889.6 | H28: =H29+H31+H33 -> 108889.6 | I28: =I29+I31+I33 -> 108889.6
F29: Շարունակական ծախսեր | G29: =G30 -> 37658 | H29: =H30 -> 37658 | I29: =I30 -> 37658
F30: - Կապի ծառայություններ | G30: 37658 | H30: 37658 | I30: 37658
F31: Պայմանագրային այլ ծառայությունների ձեռքբերում | G31: =G32 -> 50115 | H31: =H32 -> 50115 | I31: =I32 -> 50115
F32: - Համակարգչային ծառայություններ | G32: 50115 | H32: 50115 | I32: 50115
F33: Նյութեր (Ապրանքներ) | G33: =G36+G34+G35 -> 21116.6 | H33: =H36+H34+H35 -> 21116.6 | I33: =I36+I34+I35 -> 21116.6
F34: - Տրանսպորտային նյութեր | G34: =19006 -> 19006 | H34: =19006 -> 19006 | I34: =19006 -> 19006
F35: - Տրանսպորտային նյութեր | G35: -19006 | H35: -19006 | I35: -19006
F36: - Հատուկ նպատակային այլ նյութեր | G36: 21116.6 | H36: 21116.6 | I36: 21116.6
E37: 31001 | F37: Ազգային անվտանգության համակարգի տեխնիկական հագեցվածության բարելավում | G37: =G39 -> -108889.6 | H37: =H39 -> -108889.6 | I37: =I39 -> -108889.6
F38: այդ թվում` ըստ կատարողների
F39: ՀՀ ազգային անվտանգության ծառայություն | G39: =G41 -> -108889.6 | H39: =H41 -> -108889.6 | I39: =I41 -> -108889.6
F40: այդ թվում` բյուջետային ծախսերի տնտեսագիտական դասակարգման հոդվածներ
F41: ԸՆԴԱՄԵՆԸ ԾԱԽՍԵՐ | G41: =G42 -> -108889.6 | H41: =H42 -> -108889.6 | I41: =I42 -> -108889.6
F42: ՈՉ ՖԻՆԱՆՍԱԿԱՆ ԱԿՏԻՎՆԵՐԻ ԳԾՈՎ ԾԱԽՍԵՐ | G42: =G43 -> -108889.6 | H42: =H43 -> -108889.6 | I42: =I43 -> -108889.6
...

Sheet Հավելված 4
F2: Հավելված 4
E3: ՀՀ կառավարության 2023 թվականի
E4: ___________ ___-ի N _______ -Ն որոշման
A6: ՀԱՅԱՍՏԱՆԻ ՀԱՆՐԱՊԵՏՈՒԹՅԱՆ ԿԱՌԱՎԱՐՈՒԹՅԱՆ 2022 ԹՎԱԿԱՆԻ ԴԵԿՏԵՄԲԵՐԻ 29-Ի N 2111-Ն ՈՐՈՇՄԱՆ N 5 ՀԱՎԵԼՎԱԾԻ N 2 ԱՂՅՈՒՍԱԿՈՒՄ ԿԱՏԱՐՎՈՂ ՓՈՓՈԽՈՒԹՅՈՒՆՆԵՐԸ ԵՎ ԼՐԱՑՈՒՄՆԵՐԸ
E7: հազար դրամներով
A8: Ծրագրային դասիչ | C8: Բյուջետային գլխավոր կարգադրիչների, ծրագրերի, միջոցառումների, միջոցառումները կատարող պետական մարմինների և ուղղությունների անվանումները | D8: Ցուցանիշների փոփոխությունը (նվազեցումները նշված են փակագծերում)
D9: Առաջին կիսամյակ | E9: Ինն ամիս | F9: Տարի
A10: Ծրագիր | B10: Միջոցառում
C11: ԸՆԴԱՄԵՆԸ | D11: =D13 -> -108889.6 | E11: =E13 -> -108889.6 | F11: =F13 -> -108889.6
C12: այդ թվում`
C13: ՀՀ ԱԶԳԱՅԻՆ ԱՆՎՏԱՆԳՈՒԹՅԱՆ ԾԱՌԱՅՈՒԹՅՈՒՆ | D13: =D15 -> -108889.6 | E13: =E15 -> -108889.6 | F13: =F15 -> -108889.6
C14: այդ թվում`
A15: 1138 | B15: 31001 | C15: Ազգային անվտանգության համակարգի տեխնիկական հագեցվածության բարելավում | D15: =D17 -> -108889.6 | E15: =E17 -> -108889.6 | F15: =F17 -> -108889.6
C16: այդ թվում` ըստ կատարողների
C17: ՀՀ ազգային անվտանգության ծառայություն | D17: ='Հավելված 1'!D25 -> -108889.6 | E17: ='Հավելված 1'!E25 -> -108889.6 | F17: ='Հավելված 1'!F25 -> -108889.6

Sheet Հավելված 5
E2: Հավելված 5
C3: ՀՀ կառավարության 2023 թվականի
C4: ___________ ___-ի N _______ -Ն որոշման
A6: ՀԱՅԱՍՏԱՆԻ ՀԱՆՐԱՊԵՏՈՒԹՅԱՆ ԿԱՌԱՎԱՐՈՒԹՅԱՆ 2022 ԹՎԱԿԱՆԻ ԴԵԿՏԵՄԲԵՐԻ 29-Ի ԹԻՎ 2111-Ն ՈՐՈՇՄԱՆ N 9 ՀԱՎԵԼՎԱԾԻ N9.26 ԵՎ N9.47 ԱՂՅՈՒՍԱԿՆԵՐՈՒՄ ԿԱՏԱՐՎՈՂ ՓՈՓՈԽՈՒԹՅՈՒՆՆԵՐԸ ԵՎ ԼՐԱՑՈՒՄՆԵՐԸ
A8: ՀՀ ազգային անվտանգության ծառայություն
A9: ՄԱՍ 2. ՊԵՏԱԿԱՆ ՄԱՐՄՆԻ ԳԾՈՎ ԱՐԴՅՈՒՆՔԱՅԻՆ (ԿԱՏԱՐՈՂԱԿԱՆ) ՑՈՒՑԱՆԻՇՆԵՐԸ
A11: Ծրագրի դասիչը | B11: Ծրագրի անվանումը
A12: 1138 | B12: Ազգային անվտանգություն
A14: Ծրագրի միջոցառումները
A15: Ծրագրի դասիչը` | B15: 1138 | C15: Ցուցանիշների փոփոխությունը (ավելացումները նշված են դրական նշանով)
A16: Միջոցառման դասիչը` | B16: 11001 | C16: Առաջին կիսամյակ | D16: Ինն ամիս | E16: Տարի
A17: Միջոցառման անվանումը` | B17: Հետախուզական, հակահետախուզական, ռազմական հակահետախուզության, հանցագործությունների դեմ պայքարի և պետական սահմանի պահպանության գործունեության կազմակերպում
A18: Նկարագրությունը` | B18: ՀՀ անվտանգությանը սպառնացող վտանգի մասին տեղեկատվության ստացում, վերլուծում, վտանգի կանխատեսում, վտանգի կանխման ու չեզոքացման վերաբերյալ առաջարկությունների մշակում
A19: Միջոցառման տեսակը` | B19: Ծառայությունների մատուցում
A20: Ալտիվն օգտագործող կազմակերպության(ների) անվանում(ներ)ը՛ | B20: ՀՀ ազգային անվտանգության ծառայություն
A21: Արդյունքի չափորոշիչներ
A22: Միջոցառման վրա կատարվող ծախսը (հազար դրամ) | C22: 108889.6 | D22: 108889.6 | E22: 108889.6
A24: Ծրագրի դասիչը` | B24: 1138 | C24: Ցուցանիշների փոփոխությունը (ավելացումները նշված են դրական նշանով)
A25: Միջոցառման դասիչը` | B25: 31001 | C25: Առաջին կիսամյակ | D25: Ինն ամիս | E25: Տարի
A26: Միջոցառման անվանումը` | B26: Ազգային անվտանգության համակարգի տեխնիկական հագեցվածության բարելավում
A27: Նկարագրությունը` | B27: Ազգային անվտանգության համակարգի ստորաբաժանումների համար վարչական սարքավորումների ձեռքբերում
A28: Միջոցառման տեսակը` | B28: Պետական մարմինների կողմից օգտագործվող ոչ ֆինանսական ակտիվների հետ գործառնություններ
A29: Միջոցառումն իրականացնողի անվանումը | B29: ՀՀ ազգային անվտանգության ծառայություն
A30: Արդյունքի չափորոշիչներ
A31: Համակարգչային սարքավորումների քանակ, հատ | C31: 1804 | D31: =C31 -> 1804 | E31: =D31 -> 1804
A32: Գրասենյակային գույքի միավոր քանակ, հատ | C32: 195 | D32: 195 | E32: 195
A33: Համակարգչային սարքավորումների ծառայության կանխատեսվող միջին ժամկետ, տարի | C33: 5 | D33: 5 | E33: 5
A34: Միջոցառման վրա կատարվող ծախսը (հազար դրամ) | C34: =-C22 -> -108889.6 | D34: =-D22 -> -108889.6 | E34: =-E22 -> -108889.6
A37: ՀՀ Կառավարություն
A38: ՄԱՍ 2. ՊԵՏԱԿԱՆ ՄԱՐՄՆԻ ԳԾՈՎ ԱՐԴՅՈՒՆՔԱՅԻՆ (ԿԱՏԱՐՈՂԱԿԱՆ) ՑՈՒՑԱՆԻՇՆԵՐԸ
A40: Ծրագրի դասիչը | B40: Ծրագրի անվանումը
A41: 1139 | B41: ՀՀ կառավարության պահուստային ֆոնդ
A43: Ծրագրի միջոցառումները
A44: Ծրագրի դասիչը` | B44: 1139 | C44: Ցուցանիշների փոփոխությունը (ավելացումները նշված են դրական նշանով)
A45: Միջոցառման դասիչը` | B45: 11001 | C45: Առաջին կիսամյակ | D45: Ինն ամիս | E45: Տարի
A46: Միջոցառման անվանումը` | B46: ՀՀ կառավարության պահուստային ֆոնդ
A47: Նկարագրությունը` | B47: ՀՀ պետական բյուջեում նախատեսված ելքերի լրացուցիչ ֆինանսավորման, պետական բյուջեում չկանխատեսված ելքերի, ինչպես նաև բյուջետային երաշխիքների ապահովման ելքերի ֆինանսավորման ապահովում
A48: Միջոցառման տեսակը` | B48: Ծառայությունների մատուցում
A49: Միջոցառումն իրականացնողի անվանումը | B49: ՀՀ կառավարություն
A50: Արդյունքի չափորոշիչներ
...

Sheet Հավելված 6
F2: Հավելված 6
D3: ՀՀ կառավարության 2023 թվականի
D4: ___________ ___-ի N _______ -Ն որոշման
A6: ՀԱՅԱՍՏԱՆԻ ՀԱՆՐԱՊԵՏՈՒԹՅԱՆ ԿԱՌԱՎԱՐՈՒԹՅԱՆ 2022 ԹՎԱԿԱՆԻ ԴԵԿՏԵՄԲԵՐԻ 29-Ի ԹԻՎ 2111-Ն N 9.1 ՀԱՎԵԼՎԱԾԻ N9.1.31 ԵՎ N9.1.58 ԱՂՅՈՒՍԱԿՆԵՐՈՒՄ ԿԱՏԱՐՎՈՂ ՓՈՓՈԽՈՒԹՅՈՒՆՆԵՐԸ ԵՎ ԼՐԱՑՈՒՄՆԵՐԸ
A8: ՀՀ ազգային անվտանգության ծառայություն
A9: ՄԱՍ 1. ՊԵՏԱԿԱՆ ՄԱՐՄՆԻ ԳԾՈՎ ԱՐԴՅՈՒՆՔԱՅԻՆ (ԿԱՏԱՐՈՂԱԿԱՆ) ՑՈՒՑԱՆԻՇՆԵՐԸ
A11: Ծրագրի դասիչը | B11: Ծրագրի անվանումը
A12: 1138 | B12: Ազգային անվտանգություն
A14: Ծրագրի միջոցառումները
A15: Ծրագրի դասիչը` | B15: 1138 | C15: Ցուցանիշների փոփոխությունը (ավելացումները նշված են դրական նշանով)
A16: Միջոցառման դասիչը` | B16: 11001 | C16: Առաջին կիսամյակ | D16: Ինն ամիս | E16: Տարի
A17: Միջոցառման անվանումը` | B17: Հետախուզական, հակահետախուզական, ռազմական հակահետախուզության, հանցագործությունների դեմ պայքարի և պետական սահմանի պահպանության գործունեության կազմակերպում
A18: Նկարագրությունը` | B18: ՀՀ անվտանգությանը սպառնացող վտանգի մասին տեղեկատվության ստացում, վերլուծում, վտանգի կանխատեսում, վտանգի կանխման ու չեզոքացման վերաբերյալ առաջարկությունների մշակում
A19: Միջոցառման տեսակը` | B19: Ծառայությունների մատուցում
A20: Ալտիվն օգտագործող կազմակերպության(ների) անվանում(ներ)ը՛ | B20: ՀՀ ազգային անվտանգության ծառայություն
A21: Արդյունքի չափորոշիչներ
A22: Միջոցառման վրա կատարվող ծախսը (հազար դրամ) | C22: ='Հավելված 5'!C22 -> 108889.6 | D22: ='Հավելված 5'!D22 -> 108889.6 | E22: ='Հավելված 5'!E22 -> 108889.6
A24: Ծրագրի դասիչը` | B24: 1138 | C24: Ցուցանիշների փոփոխությունը (ավելացումները նշված են դրական նշանով)
A25: Միջոցառման դասիչը` | B25: 31001 | C25: Առաջին կիսամյակ | D25: Ինն ամիս | E25: Տարի
A26: Միջոցառման անվանումը` | B26: Ազգային անվտանգության համակարգի տեխնիկական հագեցվածության բարելավում
A27: Նկարագրությունը` | B27: Ազգային անվտանգության համակարգի ստորաբաժանումների համար վարչական սարքավորումների ձեռքբերում
A28: Միջոցառման տեսակը` | B28: Պետական մարմինների կողմից օգտագործվող ոչ ֆինանսական ակտիվների հետ գործառնություններ
A29: Միջոցառումն իրականացնողի անվանումը | B29: ՀՀ ազգային անվտանգության ծառայություն
A30: Արդյունքի չափորոշիչներ
A31: Համակարգչային սարքավորումների քանակ, հատ | C31: 1804 | D31: =C31 -> 1804 | E31: =D31 -> 1804
A32: Գրասենյակային գույքի միավոր քանակ, հատ | C32: 195 | D32: 195 | E32: 195
A33: Համակարգչային սարքավորումների ծառայության կանխատեսվող միջին ժամկետ, տարի | C33: 5 | D33: 5 | E33: 5
A34: Միջոցառման վրա կատարվող ծախսը (հազար դրամ) | C34: ='Հավելված 5'!C34 -> -108889.6 | D34: ='Հավելված 5'!D34 -> -108889.6 | E34: ='Հավելված 5'!E34 -> -108889.6
A37: ՀՀ Կառավարություն
A38: ՄԱՍ 2. ՊԵՏԱԿԱՆ ՄԱՐՄՆԻ ԳԾՈՎ ԱՐԴՅՈՒՆՔԱՅԻՆ (ԿԱՏԱՐՈՂԱԿԱՆ) ՑՈՒՑԱՆԻՇՆԵՐԸ
A40: Ծրագրի դասիչը | B40: Ծրագրի անվանումը
A41: 1139 | B41: ՀՀ կառավարության պահուստային ֆոնդ
A43: Ծրագրի միջոցառումները
A44: Ծրագրի դասիչը` | B44: 1139 | C44: Ցուցանիշների փոփոխությունը (ավելացումները նշված են դրական նշանով)
A45: Միջոցառման դասիչը` | B45: 11001 | C45: Առաջին կիսամյակ | D45: Ինն ամիս | E45: Տարի
A46: Միջոցառման անվանումը` | B46: ՀՀ կառավարության պահուստային ֆոնդ
A47: Նկարագրությունը` | B47: ՀՀ պետական բյուջեում նախատեսված ելքերի լրացուցիչ ֆինանսավորման, պետական բյուջեում չկանխատեսված ելքերի, ինչպես նաև բյուջետային երաշխիքների ապահովման ելքերի ֆինանսավորման ապահովում
A48: Միջոցառման տեսակը` | B48: Ծառայությունների մատուցում
A49: Միջոցառումն իրականացնողի անվանումը | B49: ՀՀ կառավարություն
A50: Արդյունքի չափորոշիչներ
...

Sheet Հավելված 7
G2: Հավելված 7
E3: ՀՀ կառավարության 2023 թվականի
E4: ___________ ___-ի N _______ -Ն որոշման
A6: ՀԱՅԱՍՏԱՆԻ ՀԱՆՐԱՊԵՏՈՒԹՅԱՆ ԿԱՌԱՎԱՐՈՒԹՅԱՆ 2022 ԹՎԱԿԱՆԻ ԴԵԿՏԵՄԲԵՐԻ 29-Ի ԹԻՎ 2111-Ն N 10 ՀԱՎԵԼՎԱԾՈՒՄ ԿԱՏԱՐՎՈՂ ՓՈՓՈԽՈՒԹՅՈՒՆՆԵՐԸ
A8: Կոդը | B8: Անվանումը | C8: Գնման ձևը | D8: Չափման միավորը | E8: Միավորի գինը | F8: Ցուցանիշների փոփոխությունը ( նվազեցումները` փակագծերում)
F9: Քանակը | G9: Գումարը (հազար դրամով)
A10: ՀՀ ազգային անվտանգության ծառայություն
A11: Բաժին N 03 | B11: Խումբ N 01 | C11: Դաս N 02 | D11: Ազգային անվտանգություն | G11: =G12 -> 3.6379788e-12
A12: 1138 11001 | B12: Հետախուզական, հակահետախուզական, ռազմական հակահետախուզության, հանցագործությունների դեմ պայքարի և պետական սահմանի պահպանության գործունեության կազմակերպում | G12: =G13 -> 3.6379788e-12
A13: ՄԱՍ I. Ա Պ Ր Ա Ն Ք Ն Ե Ր | G13: =SUM(G14:G54) -> 3.6379788e-12
A14: 34351200/557 | B14: ավտոմեքենաների անիվներ | C14: ԳՀ | D14: հատ | E14: - | F14: - | G14: -433.24
A15: 09211100/512 | B15: շարժիչի յուղեր | C15: ԳՀ | D15: լիտր | E15: - | F15: - | G15: -1000
A16: 09211100/515 | B16: շարժիչի յուղեր | C16: ԳՀ | D16: լիտր | E16: - | F16: - | G16: -1802
A17: 34351200/554 | B17: ավտոմեքենաների անիվներ | C17: ԳՀ | D17: հատ | E17: - | F17: - | G17: -1492.96
A18: 34351200/556 | B18: ավտոմեքենաների անիվներ | C18: ԳՀ | D18: հատ | E18: - | F18: - | G18: -1414.48
A19: 34351200/559 | B19: ավտոմեքենաների անիվներ | C19: ԳՀ | D19: հատ | E19: - | F19: - | G19: -866.48
A20: 24951310/503 | B20: հակասառիչ հեղուկ` A դասի կոնցենտրանտ, A-40 դասի` 40 C աստիճան սառման ջերմաստիճանով,A-65 դասի` 65 C սառման ջերմաստիճանով | C20: ԳՀ | D20: լիտր | E20: - | F20: - | G20: -1078
A21: 34351200/555 | B21: ավտոմեքենաների անիվներ | C21: ԳՀ | D21: հատ | E21: - | F21: - | G21: -1414.48
A22: 34351200/553 | B22: ավտոմեքենաների անիվներ | C22: ԳՀ | D22: հատ | E22: - | F22: - | G22: -1035.7
A23: 34351200/548 | B23: ավտոմեքենաների անիվներ | C23: ԳՀ | D23: հատ | E23: - | F23: - | G23: -1068.96
A24: 34351200/552 | B24: ավտոմեքենաների անիվներ | C24: ԳՀ | D24: հատ | E24: - | F24: - | G24: -1572.96
A25: 34351200/561 | B25: ավտոմեքենաների անիվներ | C25: ԳՀ | D25: հատ | E25: - | F25: - | G25: -906.48
... A29: 34351200/558 | B29: ավտոմեքենաների անիվներ | C29: ԳՀ | D29: հատ | E29: - | F29: - | G29: -970.48
A30: 34331300/932 | B30: ավտոմեքենաների պահեստամասեր | C30: ԷԱՃ | D30: հատ | E30: 7000 | F30: 6 | G30: =E30*F30/1000 -> 42
A31: 34331300/933 | B31: ավտոմեքենաների պահեստամասեր | C31: ԷԱՃ | D31: հատ | E31: 7000 | F31: 4 | G31: =E31*F31/1000 -> 28
A32: 34331300/934 | B32: ավտոմեքենաների պահեստամասեր | C32: ԷԱՃ | D32: հատ | E32: 8000 | F32: 4 | G32: =E32*F32/1000 -> 32
A33: 34331300/935 | B33: ավտոմեքենաների պահեստամասեր | C33: ԷԱՃ | D33: հատ | E33: 40000 | F33: 4 | G33: =E33*F33/1000 -> 160
A34: 34331300/936 | B34: ավտոմեքենաների պահեստամասեր | C34: ԷԱՃ | D34: հատ | E34: 40000 | F34: 4 | G34: =E34*F34/1000 -> 160
A35: 34331300/937 | B35: ավտոմեքենաների պահեստամասեր | C35: ԷԱՃ | D35: հատ | E35: 3000 | F35: 10 | G35: =E35*F35/1000 -> 30
A36: 34331300/938 | B36: ավտոմեքենաների պահեստամասեր | C36: ԷԱՃ | D36: հատ | E36: 16000 | F36: 15 | G36: =E36*F36/1000 -> 240
A37: 34331300/939 | B37: ավտոմեքենաների պահեստամասեր | C37: ԷԱՃ | D37: հատ | E37: 15000 | F37: 10 | G37: =E37*F37/1000 -> 150
A38: 34331300/940 | B38: ավտոմեքենաների պահեստամասեր | C38: ԷԱՃ | D38: հատ | E38: 35000 | F38: 6 | G38: =E38*F38/1000 -> 210
A39: 34331300/941 | B39: ավտոմեքենաների պահեստամասեր | C39: ԷԱՃ | D39: հատ | E39: 31000 | F39: 4 | G39: =E39*F39/1000 -> 124
A40: 34331300/942 | B40: ավտոմեքենաների պահեստամասեր | C40: ԷԱՃ | D40: հատ | E40: 80000 | F40: 4 | G40: =E40*F40/1000 -> 320
A41: 34331300/943 | B41: ավտոմեքենաների պահեստամասեր | C41: ԷԱՃ | D41: հատ | E41: 90000 | F41: 3 | G41: =E41*F41/1000 -> 270
... A54: 34351200/513 | B54: ավտոմեքենաների անիվներ | C54: ԷԱՃ | D54: հատ | E54: 335000 | F54: 4 | G54: =E54*F54/1000 -> 1340
