Workbook
Name AgencyCode: #REF!
Name AgencyCode: #REF!
Name AgencyCode: #REF!
Name AgencyCode: #REF!
Name AgencyCode: #REF!
Name AgencyName: #REF!
Name AgencyName: #REF!
Name AgencyName: #REF!
Name AgencyName: #REF!
Name åû: #REF!
Name åû: #REF!
Name davit: #REF!
Name davit: #REF!
Name Functional1: #REF!
Name Functional1: #REF!
Name Functional1: #REF!
Name Functional1: #REF!
Name ggg: #REF!
Name ggg: #REF!
Name mas: #REF!
Name mas: #REF!
Name mass: #REF!
Name mass: #REF!
Name PANature: #REF!
Name PANature: #REF!
Name PANature: #REF!
Name PANature: #REF!
Name PAType: #REF!
Name PAType: #REF!
Name PAType: #REF!
Name PAType: #REF!
Name Performance2: #REF!
Name Performance2: #REF!
Name Performance2: #REF!
Name Performance2: #REF!
Name PerformanceType: #REF!
Name PerformanceType: #REF!
Name PerformanceType: #REF!
Name PerformanceType: #REF!
Name x: #REF!
Name x: #REF!
Name Հավելված: #REF!
Name Հավելված: #REF!
Name Հավելված: #REF!
Name Մաս: #REF!
Name Մաս: #REF!
Name Մաս: #REF!
Name շախմատիստ: #REF!
Name շախմատիստ: #REF!
Name շախմատիստ: #REF!

Sheet 1
H1: Հավելված N 1
H2: ՀՀ կառավարության 2023 թվականի
H3: ______________ ի ___Ն որոշման
A4: «ՀԱՅԱՍՏԱՆԻ ՀԱՆՐԱՊԵՏՈՒԹՅԱՆ 2023 ԹՎԱԿԱՆԻ ՊԵՏԱԿԱՆ ԲՅՈՒՋԵԻ ՄԱՍԻՆ» ՕՐԵՆՔԻ N 1 ՀԱՎԵԼՎԱԾԻ N 3 ԱՂՅՈՒՍԱԿՈՒՄ ԿԱՏԱՐՎՈՂ ՓՈՓՈԽՈՒԹՅՈՒՆՆԵՐԸ ԵՎ ԼՐԱՑՈՒՄՆԵՐԸ
G5: հազ. դրամ
A6: Ծրագրային դասիչ | C6: Բյուջետային գլխավոր կարգադրիչների, ծրագրերի, միջոցառումների և ուղղությունների անվանումները | D6: Ցուցանիշների փոփոխությունը (Ավելացումները նշված են դրական նշանով, իսկ նվազեցումները` փակագծերում)
D7: Ընդամենը, | E7: այդ թվում՝
A8: Ծրագիր | B8: Միջոցառում | E8: Կառուցման աշխատանքներ | F8: Վերակառուցման, վերանորոգման և վերականգնման աշխատանքներ | G8: Նախագծահե- տազոտական, գեոդեզիա- քարտեզագրա- կան աշխա- տանքներ | H8: Ոչ ֆինանսական այլ ակտիվների ձեռքբերում
C9: ԸՆԴԱՄԵՆԸ | D9: 0 | E9: =+E11 -> 0 | F9: =+F11 -> -27773.8 | G9: =+G11 -> 27773.8 | H9: =+H11 -> 0
C10: այդ թվում՝
C11: ՀՀ ՏԱՐԱԾՔԱՅԻՆ ԿԱՌԱՎԱՐՄԱՆ ԵՎ ԵՆԹԱԿԱՌՈՒՑՎԱԾՔՆԵՐԻ ՆԱԽԱՐԱՐՈՒԹՅՈՒՆ | D11: 0 | E11: =+E14+E37 -> 0 | F11: =+F14+F37+F13+F36 -> -27773.8 | G11: =+G14+G37+G13+G36 -> 27773.8 | H11: =+H14+H37+H13+H36 -> 0
C12: այդ թվում`
A13: 1049 | B13: 21001 | C13: Պետական նշանակության ավտոճանապարհների հիմնանորոգում | D13: =+E13+F13+G13+H13 -> -1897819.8 | E13: 0 | F13: =-G14-F14-E14 -> -1897819.8 | G13: 0 | H13: 0
A14: 1049 | B14: 21001 | C14: Պետական նշանակության ավտոճանապարհների հիմնանորոգում | D14: =+E14+F14+G14+H14 -> 1897819.8 | E14: =E16+E20+E24 -> 0 | F14: =F16+F20+F24 -> 1872308.5 | G14: =G16+G20+G24 -> 25511.3 | H14: 0
C15: այդ թվում`
B16: =+'[1]3'!B17 -> 1 | C16: Միջպետական նշանակության ավտոճանապարհներ, այդ թվում | D16: =+E16+F16+G16+H16 -> 3352.1 | E16: =SUM(E17:E19) -> 0 | F16: =SUM(F17:F19) -> 0 | G16: =SUM(G17:G19) -> 3352.1 | H16: =SUM(H17:H19) -> 0
C17: =+Հ3!D20 -> Մ-3, Թուրքիայի սահման-Մարգարա-Վանաձոր-Տաշիր-Վրաստանի սահման միջպետական նշանակության ավտոճանապարհի կմ10+500 - կմ11+400 հատվածի հիմնանորոգում | D17: =+E17+F17+G17+H17 -> 1217.4 | E17: 0 | F17: 0 | G17: =+Հ3!G20 -> 1217.4 | H17: 0
C18: =+Հ3!D22 -> Մ-7, /Մ-3/ - Սպիտակ – Գյումրի - Թուրքիայի Հանրապետության սահման միջպետական նշանակության ավտոճանապարհի կմ47+100-կմ48+000 հատվածի հիմնանորոգում | D18: =+E18+F18+G18+H18 -> 1040.1 | E18: 0 | F18: 0 | G18: =+Հ3!G22 -> 1040.1 | H18: 0
C19: =+Հ3!D23 -> Մ-10, Սևան-Մարտունի-Գետափ միջպետական նշանակության ավտոճանապարհի կմ80+000-կմ94+000 հատվածի հիմնանորոգում | D19: =+E19+F19+G19+H19 -> 1094.6 | E19: 0 | F19: 0 | G19: =+Հ3!G23 -> 1094.6 | H19: 0
B20: =+'[1]3'!B29 -> 2 | C20: =+Հ3!D24 -> Հանրապետական նշանակության ավտոճանապարհներ, այդ թվում | D20: =+E20+F20+G20+H20 -> 1343.8 | E20: =SUM(E21:E23) -> 0 | F20: =SUM(F21:F23) -> 0 | G20: =SUM(G21:G23) -> 1343.8 | H20: =SUM(H21:H23) -> 0
C21: =+Հ3!D25 -> Հ-15, /Մ-5/(Նորապատ) -Արգավանդ –/Մ-3/ (Վարդանաշեն) հանրապետական նշանակության ավտոճանապարհի կմ0+000 - կմ3+000 հատվածի հիմնանորոգում | D21: =+E21+F21+G21+H21 -> 226.4 | E21: 0 | F21: 0 | G21: =+Հ3!G25 -> 226.4 | H21: 0
C22: =+Հ3!D26 -> Հ-23, /Մ-3/ - Պուշկինյան լեռնանցք - /Մ-3/ հանրապետական նշանակության ավտոճանապարհի կմ0+000 - կմ13+400 հատվածի հիմնանորոգում | D22: =+E22+F22+G22+H22 -> 708 | E22: 0 | F22: 0 | G22: =+Հ3!G26 -> 708 | H22: 0
C23: =+Հ3!D27 -> Հ-26, /Մ-4/ - Ենոքավան – Կարմիրգյուղ (գյուղատեղի) - /Մ-16/ հանրապետական նշանակության ավտոճանապարհի կմ 0+000-կմ 7+000 հատվածի հիմնանորոգում | D23: =+E23+F23+G23+H23 -> 409.4 | E23: 0 | F23: 0 | G23: =+Հ3!G27 -> 409.4 | H23: 0
B24: =+'[1]3'!B38 -> 3 | C24: =+'[1]3'!C38 -> Մարզային նշանակության ավտոճանապարհներ, այդ թվում | D24: =+E24+F24+G24+H24 -> 1893123.9 | E24: =SUM(E25:E35) -> 0 | F24: =SUM(F25:F35) -> 1872308.5 | G24: =SUM(G25:G35) -> 20815.4 | H24: =SUM(H25:H35) -> 0
C25: =+Հ3!D29 -> Տ-1-15, /Հ-21/ - Ծաղկահովիտ ավտոճանապարհի կմ0+000 - կմ1+300 հատվածի հիմնանորոգում | D25: =+E25+F25+G25+H25 -> 153287.6 | E25: 0 | F25: =+Հ3!G29 -> 153287.6 | G25: 0 | H25: 0
C26: =+Հ3!D30 -> Տ-1-44,/Մ-3/ (Ապարան) - Լուսագյուղ ավտոճանապարհի կմ0+000-կմ3+000 հատվածի հիմնանորոգում | D26: =+E26+F26+G26+H26 -> 2227.8 | E26: 0 | F26: 0 | G26: =+Հ3!G30 -> 2227.8 | H26: 0
C27: =+Հ3!D31 -> Տ-1-52, /Հ-21/ - Գեղաձոր ավտոճանապարհի կմ0+000-կմ1+600 հատվածի հիմնանորոգում | D27: =+E27+F27+G27+H27 -> 214913.6 | E27: 0 | F27: =+Հ3!G31 -> 214913.6 | G27: 0 | H27: 0
C28: =+Հ3!D32 -> Տ-1-62,/Հ-4/ - Երնջաթափ - Շողակն ավտոճանապարհի կմ0+000-կմ3+400 հատվածի հիմնանորոգում | D28: =+E28+F28+G28+H28 -> 2524.3 | E28: 0 | F28: 0 | G28: =+Հ3!G32 -> 2524.3 | H28: 0
C29: =+Հ3!D33 -> Տ-1-65, /Մ-1/ - Ներքին Բազմաբերդ (Տ-1-60) ավտոճանապարհի կմ1+300 – կմ1+400 հատվածի հիմնանորոգում | D29: =+E29+F29+G29+H29 -> 8080 | E29: 0 | F29: =+Հ3!G33 -> 8080 | G29: 0 | H29: 0
C30: =+Հ3!D34 -> Տ-3-44, /Մ-5/ – Ծիածան – Աղավնատուն – Լեռնամերձ ավտոճանապարհի կմ0+000-կմ7+300 հատվածի հիմնանորոգում | D30: =+E30+F30+G30+H30 -> 376.8 | E30: 0 | F30: 0 | G30: =+Հ3!G34 -> 376.8 | H30: 0
C31: =+Հ3!D35 -> Տ-3-61, /Մ-5/ (Նորապատ) - /Հ-17/ ավտոճանապարհի կմ0+000-կմ1+700 հատվածի հիմնանորոգում | D31: =+E31+F31+G31+H31 -> 109.7 | E31: 0 | F31: 0 | G31: =+Հ3!G35 -> 109.7 | H31: 0
C32: =+Հ3!D36 -> Տ-5-7, /Մ-7/ (Շիրակամուտ) - Լեռնավան (Տ-5-38) ավտոճանապարհի կմ0+000 - կմ1+142 հատվածի հիմնանորոգում | D32: =+E32+F32+G32+H32 -> 42009.4 | E32: 0 | F32: =+Հ3!G36 -> 42009.4 | G32: 0 | H32: 0
C33: =+Հ3!D37 -> Տ-5-23, /Մ-3/ - Սարամեջ ավտոճանապարհի կմ0+000-կմ4+300 հատվածի հիմնանորոգում | D33: =+E33+F33+G33+H33 -> 406558.6 | E33: 0 | F33: =+Հ3!G37 -> 406558.6 | G33: 0 | H33: 0
C34: =+Հ3!D38 -> Տ-5-24,/Մ-3/ (Ստեփանավան) – Արմանիս – Ուրասար – Կաթնաղբյուր տեղական նշանակության ավտոճանապարհի կմ 6+600-կմ 15+200 հատվածի և Կաթնաղբյուր համայնքի 8-րդ և 9-րդ փողոցների հիմնանորոգում | D34: =+E34+F34+G34+H34 -> 1047459.3 | E34: 0 | F34: =+Հ3!G38 -> 1047459.3 | G34: 0 | H34: 0
C35: =+Հ3!D39 -> Մ-2 (Կապան) – Կավարտ -Առաջաձոր-Մ-2(Հ46) ավտոճանապարհի վերակառուցում | D35: =+E35+G35+F35+H35 -> 15576.8 | E35: 0 | F35: 0 | G35: =+Հ3!G39 -> 15576.8 | H35: 0
A36: 1049 | B36: 21002 | C36: Տրանսպորտային օբյեկտների հիմնանորոգում | D36: =+E36+F36+G36+H36 -> -2262.5 | E36: =-E37 -> 0 | F36: =+Հ3!G42 -> -2262.5 | G36: 0 | H36: =-H37 -> 0
A37: 1049 | B37: 21002 | C37: Տրանսպորտային օբյեկտների հիմնանորոգում, այդ թվում | D37: =+E37+F37+G37+H37 -> 2262.5 | E37: =SUM(E38:E42) -> 0 | F37: =SUM(F38:F42) -> 0 | G37: =SUM(G38:G42) -> 2262.5 | H37: =SUM(H38:H42) -> 0
C38: =+Հ3!D45 -> Սևանի տրանսպորտային հանգույցի հիմնանորոգում | D38: =+E38+F38+G38+H38 -> 900 | E38: 0 | F38: 0 | G38: =+Հ3!G45 -> 900 | H38: 0
C39: =+Հ3!D46 -> Մ-4, Երևան-Սևան-Իջևան-Ադրբեջանի սահման միջպետական նշանակության ավտոճանապարհի կմ68+000 - կմ69+000 հատվածում փլուզված հողային պաստառի շեպի վերականգնում | D39: =+E39+F39+G39+H39 -> 150 | E39: 0 | F39: 0 | G39: =+Հ3!G46 -> 150 | H39: 0
C40: =+Հ3!D47 -> Հ-53, /Մ-4/ - Սեմյոնովկա - /Մ-4/ հանրապետական նշանակության ավտոճանապարհի կմ0+100 հատվածի կամրջի հիմնանորոգում | D40: =+E40+F40+G40+H40 -> 500 | E40: 0 | F40: 0 | G40: =+Հ3!G47 -> 500 | H40: 0
C41: =+Հ3!D48 -> /Մ-4/ - Սևանի թերակղզի հանրապետական նշանակության ավտոճանապարհի կմ1+400 կմ1+500 հատվածում փլուզված հողային պաստառի շեպի վերականգնում | D41: =+E41+F41+G41+H41 -> 150 | E41: 0 | F41: 0 | G41: =+Հ3!G48 -> 150 | H41: 0
C42: =+Հ3!D49 -> Մ-3, Թուրքիայի սահման-Մարգարա-Վանաձոր-Տաշիր-Վրաստանի սահման միջպետական նշանակության ավտոճանապարհի կմ105+500-ում գտնվող կամրջի հիմնանորոգում | D42: =+E42+F42+G42+H42 -> 562.5 | E42: 0 | F42: 0 | G42: =+Հ3!G49 -> 562.5 | H42: 0
C45: ՀԱՅԱՍՏԱՆԻ ՀԱՆՐԱՊԵՏՈՒԹՅԱՆ ՎԱՐՉԱՊԵՏԻ ԱՇԽԱՏԱԿԱԶՄԻ ՂԵԿԱՎԱՐ՝ | F45: Ա.ՀԱՐՈՒԹՅՈՒՆՅԱՆ

Sheet Հ2
I1: Հավելված N 2
I2: ՀՀ կառավարության 2023 թվականի
I3: ______________ ի ___Ն որոշման
A5: ՀԱՅԱՍՏԱՆԻ ՀԱՆՐԱՊԵՏՈՒԹՅԱՆ ԿԱՌԱՎԱՐՈՒԹՅԱՆ 2022 ԹՎԱԿԱՆԻ ԴԵԿՏԵՄԲԵՐԻ 29-Ի N 2111-Ն ՈՐՈՇՄԱՆ N 3 ԵՎ N 4 ՀԱՎԵԼՎԱԾՆԵՐՈՒՄ ԿԱՏԱՐՎՈՂ ՓՈՓՈԽՈՒԹՅՈՒՆՆԵՐԸ ԵՎ ԼՐԱՑՈՒՄՆԵՐԸ
I7: հազար դրամներով
A8: Գործառական դասիչը | D8: Ծրագրային դասիչը | F8: Բյուջետային հատկացումների գլխավոր կարգադրիչների, ծրագրերի, միջոցառումների և միջոցառումները կատարող պետական մարմինների անվանումները | G8: Ցուցանիշների փոփոխությունը (ավելացումները նշված են դրական նշանով, իսկ նվազեցումները` փակագծերում)
A9: Բաժին | B9: Խումբ | C9: Դաս | D9: Ծրագիր | E9: Միջոցառում | G9: Առաջին կիսամյակ | H9: Ինն ամիս | I9: Տարի
F10: ԸՆԴԱՄԵՆԸ | G10: =+G12 -> 0 | H10: =+H12 -> 0 | I10: =+I12 -> 0
F11: այդ թվում
F12: ՀՀ տարածքային կառավարման և ենթակառուցվածքների նախարարություն | G12: =+G13 -> 0 | H12: =+H13 -> 0 | I12: =+I13 -> 0
A13: 04 | F13: ՏՆՏԵՍԱԿԱՆ ՀԱՐԱԲԵՐՈՒԹՅՈՒՆՆԵՐ | G13: =G15 -> 0 | H13: =H15 -> 0 | I13: =I15 -> 0
F14: այդ թվում`
B15: 05 | F15: Տրանսպորտ | G15: =G17 -> 0 | H15: =H17 -> 0 | I15: =I17 -> 0
F16: այդ թվում`
C17: 01 | F17: Ճանապարհային տրանսպորտ | G17: =+G19 -> 0 | H17: =+H19 -> 0 | I17: =+I19 -> 0
F18: այդ թվում`
F19: ՀՀ տարածքային կառավարման և ենթակառուցվածքների նախարարություն | G19: =+G21 -> 0 | H19: =+H21 -> 0 | I19: =+I21 -> 0
F20: այդ թվում`
D21: 1049 | F21: Ճանապարհային ցանցի բարելավում | G21: =G41+G23 -> 0 | H21: =H41+H23 -> 0 | I21: =I41+I23 -> 0
F22: այդ թվում`
E23: 21001 | F23: Պետական նշանակության ավտոճանապարհների հիմնանորոգում | G23: =G32+G25 -> 199994.6 | H23: =H32+H25 -> 518829.6 | I23: =I32+I25 -> 0
F24: այդ թվում` ըստ կատարողների
F25: ՀՀ կառավարություն | G25: =G27 -> -5.4 | H25: =H27 -> -214315.3 | I25: =I27 -> -1897819.8
F26: այդ թվում` բյուջետային ծախսերի տնտեսագիտական դասակարգման հոդվածներ
F27: ԸՆԴԱՄԵՆԸ ԾԱԽՍԵՐ | G27: =+G28 -> -5.4 | H27: =+H28 -> -214315.3 | I27: =+I28 -> -1897819.8
F28: ՈՉ ՖԻՆԱՆՍԱԿԱՆ ԱԿՏԻՎՆԵՐԻ ԳԾՈՎ ԾԱԽՍԵՐ | G28: =G29 -> -5.4 | H28: =H29 -> -214315.3 | I28: =I29 -> -1897819.8
F29: ՀԻՄՆԱԿԱՆ ՄԻՋՈՑՆԵՐ | G29: =G30 -> -5.4 | H29: =H30 -> -214315.3 | I29: =I30 -> -1897819.8
F30: ՇԵՆՔԵՐ ԵՎ ՇԻՆՈՒԹՅՈՒՆՆԵՐ | G30: =G31 -> -5.4 | H30: =H31 -> -214315.3 | I30: =I31 -> -1897819.8
F31: - Շենքերի և շինությունների կապիտալ վերանորոգում | G31: =+Հ3!E16 -> -5.4 | H31: =+Հ3!F16 -> -214315.3 | I31: =+Հ3!G16 -> -1897819.8
F32: ՀՀ տարածքային կառավարման և ենթակառուցվածքների նախարարություն | G32: =G34 -> 200000 | H32: =H34 -> 733144.9 | I32: =I34 -> 1897819.8
F33: այդ թվում`բյուջետային ծախսերի տնտեսագիտական դասակարգման հոդվածներ
F34: ԸՆԴԱՄԵՆԸ ԾԱԽՍԵՐ | G34: =+G35 -> 200000 | H34: =+H35 -> 733144.9 | I34: =+I35 -> 1897819.8
F35: ՈՉ ՖԻՆԱՆՍԱԿԱՆ ԱԿՏԻՎՆԵՐԻ ԳԾՈՎ ԾԱԽՍԵՐ | G35: =G36 -> 200000 | H35: =H36 -> 733144.9 | I35: =I36 -> 1897819.8
F36: ՀԻՄՆԱԿԱՆ ՄԻՋՈՑՆԵՐ | G36: =G39+G37 -> 200000 | H36: =H39+H37 -> 733144.9 | I36: =I39+I37 -> 1897819.8
F37: ՇԵՆՔԵՐ ԵՎ ՇԻՆՈՒԹՅՈՒՆՆԵՐ | G37: =+G38 -> 200000 | H37: =+H38 -> 707633.6 | I37: =+I38 -> 1872308.5
F38: - Շենքերի և շինությունների կապիտալ վերանորոգում | G38: =Հ3!E29+Հ3!E31+Հ3!E33+Հ3!E36+Հ3!E37+Հ3!E38+Հ3!E21 -> 200000 | H38: =Հ3!F29+Հ3!F31+Հ3!F33+Հ3!F36+Հ3!F37+Հ3!F38+Հ3!F21 -> 707633.6 | I38: =Հ3!G29+Հ3!G31+Հ3!G33+Հ3!G36+Հ3!G37+Հ3!G38+Հ3!G21 -> 1872308.5
F39: ԱՅԼ ՀԻՄՆԱԿԱՆ ՄԻՋՈՑՆԵՐ | G39: =+G40 -> 0 | H39: =+H40 -> 25511.3 | I39: =+I40 -> 25511.3
F40: Նախագծահետազոտական ծախսեր | G40: =+Հ3!E35+Հ3!E34+Հ3!E32+Հ3!E30+Հ3!E27+Հ3!E26+Հ3!E25+Հ3!E23+Հ3!E22+Հ3!E20+Հ3!E39 -> 0 | H40: =+Հ3!F35+Հ3!F34+Հ3!F32+Հ3!F30+Հ3!F27+Հ3!F26+Հ3!F25+Հ3!F23+Հ3!F22+Հ3!F20+Հ3!F39 -> 25511.3 | I40: =+Հ3!G35+Հ3!G34+Հ3!G32+Հ3!G30+Հ3!G27+Հ3!G26+Հ3!G25+Հ3!G23+Հ3!G22+Հ3!G20+Հ3!G39 -> 25511.3
E41: 21002 | F41: Տրանսպորտային օբյեկտների հիմնանորոգում | G41: =G50+G43 -> -199994.6 | H41: =H50+H43 -> -518829.6 | I41: =I50+I43 -> 0
F42: այդ թվում` ըստ կատարողների
F43: ՀՀ կառավարություն | G43: =G45 -> -202257.1 | H43: =H45 -> -521092.1 | I43: =I45 -> -2262.5
F44: այդ թվում` բյուջետային ծախսերի տնտեսագիտական դասակարգման հոդվածներ
F45: ԸՆԴԱՄԵՆԸ ԾԱԽՍԵՐ | G45: =+G46 -> -202257.1 | H45: =+H46 -> -521092.1 | I45: =+I46 -> -2262.5
F46: ՈՉ ՖԻՆԱՆՍԱԿԱՆ ԱԿՏԻՎՆԵՐԻ ԳԾՈՎ ԾԱԽՍԵՐ | G46: =G47 -> -202257.1 | H46: =H47 -> -521092.1 | I46: =I47 -> -2262.5
F47: ՀԻՄՆԱԿԱՆ ՄԻՋՈՑՆԵՐ | G47: =G48 -> -202257.1 | H47: =H48 -> -521092.1 | I47: =I48 -> -2262.5
F48: ՇԵՆՔԵՐ ԵՎ ՇԻՆՈՒԹՅՈՒՆՆԵՐ | G48: =G49 -> -202257.1 | H48: =H49 -> -521092.1 | I48: =I49 -> -2262.5
F49: - Շենքերի և շինությունների կապիտալ վերանորոգում | G49: =+Հ3!E42 -> -202257.1 | H49: =+Հ3!F42 -> -521092.1 | I49: =+Հ3!G42 -> -2262.5
F50: ՀՀ տարածքային կառավարման և ենթակառուցվածքների նախարարություն | G50: =G52 -> 2262.5 | H50: =H52 -> 2262.5 | I50: =I52 -> 2262.5
F51: այդ թվում`բյուջետային ծախսերի տնտեսագիտական դասակարգման հոդվածներ
F52: ԸՆԴԱՄԵՆԸ ԾԱԽՍԵՐ | G52: =+G53 -> 2262.5 | H52: =+H53 -> 2262.5 | I52: =+I53 -> 2262.5
F53: ՈՉ ՖԻՆԱՆՍԱԿԱՆ ԱԿՏԻՎՆԵՐԻ ԳԾՈՎ ԾԱԽՍԵՐ | G53: =G54 -> 2262.5 | H53: =H54 -> 2262.5 | I53: =I54 -> 2262.5
F54: ՀԻՄՆԱԿԱՆ ՄԻՋՈՑՆԵՐ | G54: =+G55 -> 2262.5 | H54: =+H55 -> 2262.5 | I54: =+I55 -> 2262.5
F55: ԱՅԼ ՀԻՄՆԱԿԱՆ ՄԻՋՈՑՆԵՐ | G55: =+G56 -> 2262.5 | H55: =+H56 -> 2262.5 | I55: =+I56 -> 2262.5
F56: Նախագծահետազոտական ծախսեր | G56: =+Հ3!E43 -> 2262.5 | H56: =+Հ3!F43 -> 2262.5 | I56: =+Հ3!G43 -> 2262.5
F59: ՀԱՅԱՍՏԱՆԻ ՀԱՆՐԱՊԵՏՈՒԹՅԱՆ ՎԱՐՉԱՊԵՏԻ ԱՇԽԱՏԱԿԱԶՄԻ ՂԵԿԱՎԱՐ՝ | I59: Ա.ՀԱՐՈՒԹՅՈՒՆՅԱՆ

Sheet Հ3
G1: Հավելված N 3
G2: ՀՀ կառավարության 2023 թվականի
G3: ______________ ի ___Ն որոշման
A5: ՀԱՅԱՍՏԱՆԻ ՀԱՆՐԱՊԵՏՈՒԹՅԱՆ ԿԱՌԱՎԱՐՈՒԹՅԱՆ 2022 ԹՎԱԿԱՆԻ ԴԵԿՏԵՄԲԵՐԻ 29-Ի N 2111-Ն ՈՐՈՇՄԱՆ N 5 ՀԱՎԵԼՎԱԾԻ N 2 ԱՂՅՈՒՍԱԿՈՒՄ ԿԱՏԱՐՎՈՂ ՓՈՓՈԽՈՒԹՅՈՒՆՆԵՐԸ ԵՎ ԼՐԱՑՈՒՄՆԵՐԸ
G7: հազար դրամներով
B8: Ծրագրային դասիչը | D8: Հատկացումների տրամադրման նպատակները և բյուջետային գլխավոր կարգադրիչների, ծրագրերի, միջոցառումների և կատարող պետական մարմնի անվանումները | E8: Ցուցանիշների փոփոխությունը (Ավելացումները նշված են դրական նշանով, իսկ նվազեցումները` փակագծերում)
B9: Ծրագիր | C9: Միջոցառում | E9: Առաջին կիսամյակ | F9: Ինն ամիս | G9: Տարի
D10: ԸՆԴԱՄԵՆԸ | E10: =+E12 -> 0 | F10: =+F12 -> 0 | G10: =+G12 -> 0
D11: այդ թվում՝
D12: ՀՀ ՏԱՐԱԾՔԱՅԻՆ ԿԱՌԱՎԱՐՄԱՆ ԵՎ ԵՆԹԱԿԱՌՈՒՑՎԱԾՔՆԵՐԻ ՆԱԽԱՐԱՐՈՒԹՅՈՒՆ | E12: =+E14+E40 -> 0 | F12: =+F14+F40 -> 0 | G12: =+G14+G40 -> 0
D13: այդ թվում`
B14: 1049 | C14: 21001 | D14: Պետական նշանակության ավտոճանապարհների հիմնանորոգում | E14: =+E16+E17 -> 199994.6 | F14: =+F16+F17 -> 518829.6 | G14: =+G16+G17 -> 0
D15: այդ թվում` ըստ կատարողների
D16: ՀՀ կառավարություն | E16: -5.4 | F16: =-214315.3 -> -214315.3 | G16: =-G17 -> -1897819.8
D17: ՀՀ տարածքային կառավարման և ենթակառուցվածքների նախարարություն | E17: =+E19+E24+E28 -> 200000 | F17: =+F19+F24+F28 -> 733144.9 | G17: =+G19+G24+G28 -> 1897819.8
D18: այդ թվում՝ ըստ ուղղությունների
C19: 1 | D19: Միջպետական նշանակության ավտոճանապարհներ, այդ թվում | E19: =SUM(E20:E23) -> 200000 | F19: =SUM(F20:F23) -> 3352.1 | G19: =SUM(G20:G23) -> 3352.1
D20: Մ-3, Թուրքիայի սահման-Մարգարա-Վանաձոր-Տաշիր-Վրաստանի սահման միջպետական նշանակության ավտոճանապարհի կմ10+500 - կմ11+400 հատվածի հիմնանորոգում | E20: 0 | F20: 1217.4 | G20: 1217.4
D21: Մ-4, Երևան-Սևան-Իջևան-Ադրբեջանի սահման միջպետական նշանակության ավտոճանապարհի կմ91+176-կմ96+176 հատվածի հիմնանորոգում և ոլորանների պարամետրերի բարելավում | E21: 200000 | F21: 0 | G21: 0
D22: Մ-7, /Մ-3/ - Սպիտակ – Գյումրի - Թուրքիայի Հանրապետության սահման միջպետական նշանակության ավտոճանապարհի կմ47+100-կմ48+000 հատվածի հիմնանորոգում | E22: 0 | F22: 1040.1 | G22: 1040.1
D23: Մ-10, Սևան-Մարտունի-Գետափ միջպետական նշանակության ավտոճանապարհի կմ80+000-կմ94+000 հատվածի հիմնանորոգում | E23: 0 | F23: 1094.6 | G23: 1094.6
C24: 2 | D24: Հանրապետական նշանակության ավտոճանապարհներ, այդ թվում | E24: =SUM(E25:E27) -> 0 | F24: =SUM(F25:F27) -> 1343.8 | G24: =SUM(G25:G27) -> 1343.8
D25: Հ-15, /Մ-5/(Նորապատ) -Արգավանդ –/Մ-3/ (Վարդանաշեն) հանրապետական նշանակության ավտոճանապարհի կմ0+000 - կմ3+000 հատվածի հիմնանորոգում | E25: 0 | F25: 226.4 | G25: 226.4
D26: Հ-23, /Մ-3/ - Պուշկինյան լեռնանցք - /Մ-3/ հանրապետական նշանակության ավտոճանապարհի կմ0+000 - կմ13+400 հատվածի հիմնանորոգում | E26: 0 | F26: 708 | G26: 708
D27: Հ-26, /Մ-4/ - Ենոքավան – Կարմիրգյուղ (գյուղատեղի) - /Մ-16/ հանրապետական նշանակության ավտոճանապարհի կմ 0+000-կմ 7+000 հատվածի հիմնանորոգում | E27: 0 | F27: 409.4 | G27: 409.4
C28: 3 | D28: Մարզային նշանակության ավտոճանապարհներ, այդ թվում | E28: =SUM(E29:E39) -> 0 | F28: =SUM(F29:F39) -> 728449 | G28: =SUM(G29:G39) -> 1893123.9
D29: Տ-1-15, /Հ-21/ - Ծաղկահովիտ ավտոճանապարհի կմ0+000 - կմ1+300 հատվածի հիմնանորոգում | E29: 0 | F29: 91972.6 | G29: 153287.6
D30: Տ-1-44,/Մ-3/ (Ապարան) - Լուսագյուղ ավտոճանապարհի կմ0+000-կմ3+000 հատվածի հիմնանորոգում | E30: 0 | F30: 2227.8 | G30: 2227.8
D31: Տ-1-52, /Հ-21/ - Գեղաձոր ավտոճանապարհի կմ0+000-կմ1+600 հատվածի հիմնանորոգում | E31: 0 | F31: 128948.2 | G31: 214913.6
D32: Տ-1-62,/Հ-4/ - Երնջաթափ - Շողակն ավտոճանապարհի կմ0+000-կմ3+400 հատվածի հիմնանորոգում | E32: 0 | F32: 2524.3 | G32: 2524.3
D33: Տ-1-65, /Մ-1/ - Ներքին Բազմաբերդ (Տ-1-60) ավտոճանապարհի կմ1+300 – կմ1+400 հատվածի հիմնանորոգում | E33: 0 | F33: 8080 | G33: 8080
D34: Տ-3-44, /Մ-5/ – Ծիածան – Աղավնատուն – Լեռնամերձ ավտոճանապարհի կմ0+000-կմ7+300 հատվածի հիմնանորոգում | E34: 0 | F34: 376.8 | G34: 376.8
D35: Տ-3-61, /Մ-5/ (Նորապատ) - /Հ-17/ ավտոճանապարհի կմ0+000-կմ1+700 հատվածի հիմնանորոգում | E35: 0 | F35: 109.7 | G35: 109.7
D36: Տ-5-7, /Մ-7/ (Շիրակամուտ) - Լեռնավան (Տ-5-38) ավտոճանապարհի կմ0+000 - կմ1+142 հատվածի հիմնանորոգում | E36: 0 | F36: 25205.7 | G36: 42009.4
D37: Տ-5-23, /Մ-3/ - Սարամեջ ավտոճանապարհի կմ0+000-կմ4+300 հատվածի հիմնանորոգում | E37: 0 | F37: 243935.2 | G37: 406558.6
D38: Տ-5-24,/Մ-3/ (Ստեփանավան) – Արմանիս – Ուրասար – Կաթնաղբյուր տեղական նշանակության ավտոճանապարհի կմ 6+600-կմ 15+200 հատվածի և Կաթնաղբյուր համայնքի 8-րդ և 9-րդ փողոցների հիմնանորոգում | E38: 0 | F38: 209491.9 | G38: 1047459.3
D39: Մ-2 (Կապան) – Կավարտ -Առաջաձոր-Մ-2(Հ46) ավտոճանապարհի վերակառուցում | E39: 0 | F39: 15576.8 | G39: 15576.8
B40: 1049 | C40: 21002 | D40: Տրանսպորտային օբյեկտների հիմնանորոգում | E40: =+E42+E43 -> -199994.6 | F40: =+F42+F43 -> -518829.6 | G40: =+G42+G43 -> 0
D41: այդ թվում` ըստ կատարողների
D42: ՀՀ կառավարություն | E42: =-E43-E21+5.4 -> -202257.1 | F42: =-681932.8-F43+53523+109580.2 -> -521092.1 | G42: =-G43 -> -2262.5
D43: ՀՀ տարածքային կառավարման և ենթակառուցվածքների նախարարություն | E43: =SUM(E45:E49) -> 2262.5 | F43: =SUM(F45:F49) -> 2262.5 | G43: =SUM(G45:G49) -> 2262.5
D44: այդ թվում՝ ըստ ուղղությունների
D45: Սևանի տրանսպորտային հանգույցի հիմնանորոգում | E45: 900 | F45: 900 | G45: 900
D46: Մ-4, Երևան-Սևան-Իջևան-Ադրբեջանի սահման միջպետական նշանակության ավտոճանապարհի կմ68+000 - կմ69+000 հատվածում փլուզված հողային պաստառի շեպի վերականգնում | E46: 150 | F46: 150 | G46: 150
D47: Հ-53, /Մ-4/ - Սեմյոնովկա - /Մ-4/ հանրապետական նշանակության ավտոճանապարհի կմ0+100 հատվածի կամրջի հիմնանորոգում | E47: 500 | F47: 500 | G47: 500
D48: /Մ-4/ - Սևանի թերակղզի հանրապետական նշանակության ավտոճանապարհի կմ1+400 կմ1+500 հատվածում փլուզված հողային պաստառի շեպի վերականգնում | E48: 150 | F48: 150 | G48: 150
D49: Մ-3, Թուրքիայի սահման-Մարգարա-Վանաձոր-Տաշիր-Վրաստանի սահման միջպետական նշանակության ավտոճանապարհի կմ105+500-ում գտնվող կամրջի հիմնանորոգում | E49: 562.5 | F49: 562.5 | G49: 562.5
D52: ՀԱՅԱՍՏԱՆԻ ՀԱՆՐԱՊԵՏՈՒԹՅԱՆ ՎԱՐՉԱՊԵՏԻ ԱՇԽԱՏԱԿԱԶՄԻ ՂԵԿԱՎԱՐ՝ | G52: Ա.ՀԱՐՈՒԹՅՈՒՆՅԱՆ

Sheet Հ4
F1: Հավելված N 4
F2: ՀՀ կառավարության 2023 թվականի
F3: ______________ ի ___Ն որոշման
B5: ՀԱՅԱՍՏԱՆԻ ՀԱՆՐԱՊԵՏՈՒԹՅԱՆ ԿԱՌԱՎԱՐՈՒԹՅԱՆ 2022 ԹՎԱԿԱՆԻ ԴԵԿՏԵՄԲԵՐԻ 29-Ի N 2111-Ն ՈՐՈՇՄԱՆ N 9.1 ՀԱՎԵԼՎԱԾԻ NN 9.1.7 ԵՎ 9.1.58 ԱՂՅՈՒՍԱԿՆԵՐՈՒՄ ԿԱՏԱՐՎՈՂ ՓՈՓՈԽՈՒԹՅՈՒՆՆԵՐԸ ԵՎ ԼՐԱՑՈՒՄՆԵՐԸ
F7: Աղյուսակ 9.1.7
B8: ՀՀ տարածքային կառավարման և ենթակառուցվածքների նախարարություն
B9: ՄԱՍ 1. ՊԵՏԱԿԱՆ ՄԱՐՄՆԻ ԳԾՈՎ ԱՐԴՅՈՒՆՔԱՅԻՆ (ԿԱՏԱՐՈՂԱԿԱՆ) ՑՈՒՑԱՆԻՇՆԵՐԸ
B11: Ծրագրի դասիչը | C11: Ծրագրի անվանումը
B12: 1049 | C12: Ճանապարհային ցանցի բարելավում
B14: Ծրագրի միջոցառումները
B15: Ծրագրի դասիչը` | C15: 1049 | D15: Ցուցանիշների փոփոխությունը (ավելացումները նշված են դրական նշանով)
B16: Միջոցառման դասիչը` | C16: 21001 | D16: Առաջին կիսամյակ | E16: Ինն ամիս | F16: Տարի
B17: Միջոցառման անվանումը` | C17: Պետական նշանակության ավտոճանապարհների հիմնանորոգում
B18: Նկարագրությունը` | C18: Միջպետական, հանրապետական և մարզային նշանակության ավտոճոնապարհների քայքայված ծածկի վերանորոգում, մաշված ծածկի փոխարինում
B19: Միջոցառման տեսակը` | C19: Հանրության կողմից անմիջականորեն օգտագործվող ակտիվների հետ կապված միջոցառումներ
B20: Միջոցառումն իրականացնողի անվանումը | C20: Մասնագիտացված միավոր
B21: Արդյունքի չափորոշիչներ
B22: Մարզային նշանակության ավտոճանապարհներ , կմ | D22: 0 | E22: 0 | F22: 15.9
B23: Միջոցառման վրա կատարվող ծախսը (հազար դրամ) | D23: =+Հ2!G32 -> 200000 | E23: =+Հ2!H32 -> 733144.9 | F23: =+Հ2!I32 -> 1897819.8
B25: Ծրագրի դասիչը` | C25: 1049 | D25: Ցուցանիշների փոփոխությունը (ավելացումները նշված են դրական նշանով)
B26: Միջոցառման դասիչը` | C26: 21002 | D26: Առաջին կիսամյակ | E26: Ինն ամիս | F26: Տարի
B27: Միջոցառման անվանումը` | C27: Տրանսպորտային օբյեկտների հիմնանորոգում
B28: Նկարագրությունը` | C28: Ավտոմոբիլային ճանապարհների վրա գտնվող կամուրջների հիմնանորոգում
B29: Միջոցառման տեսակը` | C29: Հանրության կողմից անմիջականորեն օգտագործվող ակտիվների հետ կապված միջոցառումներ
B30: Միջոցառումն իրականացնողի անվանումը | C30: Մասնագիտացված միավոր
B31: Արդյունքի չափորոշիչներ
B32: Միջոցառման վրա կատարվող ծախսը (հազար դրամ) | D32: =+Հ2!G50 -> 2262.5 | E32: =+Հ2!H50 -> 2262.5 | F32: =+Հ2!I50 -> 2262.5
F35: Աղյուսակ 9.1.58
C36: ՀՀ կառավարություն
B37: ՄԱՍ 1. ՊԵՏԱԿԱՆ ՄԱՐՄՆԻ ԳԾՈՎ ԱՐԴՅՈՒՆՔԱՅԻՆ (ԿԱՏԱՐՈՂԱԿԱՆ) ՑՈՒՑԱՆԻՇՆԵՐԸ
B39: Ծրագրի դասիչը | C39: Ծրագրի անվանումը
B40: 1049 | C40: Ճանապարհային ցանցի բարելավում
B42: Ծրագրի միջոցառումները
B43: Ծրագրի դասիչը` | C43: 1049 | D43: Ցուցանիշների փոփոխությունը (նվազեցումները նշված են փակագծերում)
B44: Միջոցառման դասիչը` | C44: 21001 | D44: Առաջին կիսամյակ | E44: Ինն ամիս | F44: Տարի
B45: Միջոցառման անվանումը` | C45: Պետական նշանակության ավտոճանապարհների հիմնանորոգում
B46: Նկարագրությունը` | C46: Միջպետական, հանրապետական և մարզային նշանակության ավտոճոնապարհների քայքայված ծածկի վերանորոգում, մաշված ծածկի փոխարինում
B47: Միջոցառման տեսակը` | C47: Հանրության կողմից անմիջականորեն օգտագործվող ակտիվների հետ կապված միջոցառումներ
B48: Միջոցառումն իրականացնողի անվանումը | C48: Մասնագիտացված միավոր
C49: Արդյունքի չափորոշիչներ
B50: =+B22 -> Մարզային նշանակության ավտոճանապարհներ , կմ | D50: 0 | E50: 0 | F50: =-F22 -> -15.9
B51: Միջոցառման վրա կատարվող ծախսը (հազար դրամ) | D51: =+Հ2!G31 -> -5.4 | E51: =+Հ2!H31 -> -214315.3 | F51: =+Հ2!I31 -> -1897819.8
B53: Ծրագրի դասիչը` | C53: 1049 | D53: Ցուցանիշների փոփոխությունը (նվազեցումները նշված են փակագծերում)
B54: Միջոցառման դասիչը` | C54: 21002 | D54: Առաջին կիսամյակ | E54: Ինն ամիս | F54: Տարի
B55: Միջոցառման անվանումը` | C55: Տրանսպորտային օբյեկտների հիմնանորոգում
B56: Նկարագրությունը` | C56: Ավտոմոբիլային ճանապարհների վրա գտնվող կամուրջների հիմնանորոգում
B57: Միջոցառման տեսակը` | C57: Հանրության կողմից անմիջականորեն օգտագործվող ակտիվների հետ կապված միջոցառումներ
B58: Միջոցառումն իրականացնողի անվանումը | C58: Մասնագիտացված միավոր
B59: Արդյունքի չափորոշիչներ
B60: Միջոցառման վրա կատարվող ծախսը (հազար դրամ) | D60: =+Հ2!G49 -> -202257.1 | E60: =+Հ2!H49 -> -521092.1 | F60: =+Հ2!I49 -> -2262.5
C63: ՀԱՅԱՍՏԱՆԻ ՀԱՆՐԱՊԵՏՈՒԹՅԱՆ ՎԱՐՉԱՊԵՏԻ ԱՇԽԱՏԱԿԱԶՄԻ ՂԵԿԱՎԱՐ՝ | F63: Ա.ՀԱՐՈՒԹՅՈՒՆՅԱՆ

Sheet Հ5
H1: Հավելված N 5
H2: ՀՀ կառավարության 2023 թվականի
H3: ______________ ի ___Ն որոշման
B5: ՀԱՅԱՍՏԱՆԻ ՀԱՆՐԱՊԵՏՈՒԹՅԱՆ ԿԱՌԱՎԱՐՈՒԹՅԱՆ 2022 ԹՎԱԿԱՆԻ ԴԵԿՏԵՄԲԵՐԻ 29-Ի N 2111-Ն ՈՐՈՇՄԱՆ N 10 ՀԱՎԵԼՎԱԾՈՒՄ ԿԱՏԱՐՎՈՂ ԼՐԱՑՈՒՄՆԵՐԸ
B6: Կոդը | C6: Անվանումը | D6: Գնման ձևը | E6: Չափման միավորը | F6: Միավորի գինը | G6: Ցուցանիշների փոփոխությունը (ավելացումները նշված են դրական նշանով)
G7: Քանակը | H7: Գումարը (հազար դրամով)
B8: ՀՀ տարածքային կառավարման և ենթակառուցվածքների նախարարություն | H8: =+H9 -> 1899577.8
B9: Բաժին N 04 | C9: Խումբ N 05 | D9: Դաս N 01 | E9: Ճանապարհային տրանսպորտ | H9: =+H10+H37 -> 1899577.8
B10: 1049 21001 | C10: Պետական նշանակության ավտոճանապարհների հիմնանորոգում | H10: =+H11+H18 -> 1897315.3
B11: ՄԱՍ II. ԱՇԽԱՏԱՆՔՆԵՐ | H11: =H12+H13+H14+H15+H16+H17 -> 1843439.7
B12: 45231177 | C12: ճանապարհների վերանորոգման աշխատանքներ | D12: ՀԲՄ | E12: դրամ | F12: 150308626 | G12: 1 | H12: =+G12*F12/1000 -> 150308.63
B13: 45231177 | C13: ճանապարհների վերանորոգման աշխատանքներ | D13: ՀԲՄ | E13: դրամ | F13: 210341962 | G13: 1 | H13: =+G13*F13/1000 -> 210341.96
B14: 45231177 | C14: ճանապարհների վերանորոգման աշխատանքներ | D14: ՀԲՄ | E14: դրամ | F14: 7862438 | G14: 1 | H14: =+G14*F14/1000 -> 7862.438
B15: 45231177 | C15: ճանապարհների վերանորոգման աշխատանքներ | D15: ՀԲՄ | E15: դրամ | F15: 40605376 | G15: 1 | H15: =+G15*F15/1000 -> 40605.376
B16: 45231177 | C16: ճանապարհների վերանորոգման աշխատանքներ | D16: ՀԲՄ | E16: դրամ | F16: 405818691 | G16: 1 | H16: =+G16*F16/1000 -> 405818.69
B17: 45231177 | C17: ճանապարհների վերանորոգման աշխատանքներ | D17: ՀԲՄ | E17: դրամ | F17: 1028502561 | G17: 1 | H17: =+G17*F17/1000 -> 1028502.6
B18: ՄԱՍ III. ԾԱՌԱՅՈՒԹՅՈՒՆՆԵՐ | H18: =H19+H20+H21+H22+H23+H24+H25+H26+H27+H28+H29+H30+H31+H32+H33+H34+H35+H36 -> 53875.601
B19: 71351540 | C19: տեխնիկական հսկողության ծառայություններ | D19: ԳՀ | E19: դրամ | F19: 5550651 | G19: 1 | H19: =+G19*F19/1000 -> 5550.651
B20: 71351540 | C20: տեխնիկական հսկողության ծառայություններ | D20: ԳՀ | E20: դրամ | F20: 518984 | G20: 1 | H20: =+G20*F20/1000 -> 518.984
B21: 71351540 | C21: տեխնիկական հսկողության ծառայություններ | D21: ԳՀ | E21: դրամ | F21: 518984 | G21: 1 | H21: =+G21*F21/1000 -> 518.984
B22: 71351540 | C22: տեխնիկական հսկողության ծառայություններ | D22: ԳՀ | E22: դրամ | F22: 11811700 | G22: 1 | H22: =+G22*F22/1000 -> 11811.7
B23: 98111140 | C23: հեղինակային հսկողության ծառայություններ | D23: ՄԱ | E23: դրամ | F23: 855833 | G23: 1 | H23: =+G23*F23/1000 -> 855.833
B24: 98111140 | C24: հեղինակային հսկողության ծառայություններ | D24: ՄԱ | E24: դրամ | F24: 1313469 | G24: 1 | H24: =+G24*F24/1000 -> 1313.469
B25: 98111140 | C25: հեղինակային հսկողության ծառայություններ | D25: ՄԱ | E25: դրամ | F25: 48060 | G25: 1 | H25: =+G25*F25/1000 -> 48.06
B26: 98111140 | C26: հեղինակային հսկողության ծառայություններ | D26: ՄԱ | E26: դրամ | F26: 885000 | G26: 1 | H26: =+G26*F26/1000 -> 885
B27: 98111140 | C27: հեղինակային հսկողության ծառայություններ | D27: ՄԱ | E27: դրամ | F27: 220900 | G27: 1 | H27: =+G27*F27/1000 -> 220.9
B28: 98111140 | C28: հեղինակային հսկողության ծառայություններ | D28: ՄԱ | E28: դրամ | F28: 7145000 | G28: 1 | H28: =+G28*F28/1000 -> 7145
B29: 71241200/562 | C29: նախագծերի պատրաստման,ծախսերի գնահատման ծառայություններ | D29: ԳՀ | E29: դրամ | F29: 1130200 | G29: 1 | H29: =+G29*F29/1000 -> 1130.2
B30: 71241200/545 | C30: նախագծերի պատրաստման,ծախսերի գնահատման ծառայություններ | D30: ԳՀ | E30: դրամ | F30: 1040020 | G30: 1 | H30: =+G30*F30/1000 -> 1040.02
B31: 71241200/560 | C31: նախագծերի պատրաստման,ծախսերի գնահատման ծառայություններ | D31: ԳՀ | E31: դրամ | F31: 708000 | G31: 1 | H31: =+G31*F31/1000 -> 708
B32: 71241200/561 | C32: նախագծերի պատրաստման,ծախսերի գնահատման ծառայություններ | D32: ԳՀ | E32: դրամ | F32: 4752000 | G32: 1 | H32: =+G32*F32/1000 -> 4752
B33: 71241200/543 | C33: նախագծերի պատրաստման,ծախսերի գնահատման ծառայություններ | D33: ԳՀ | E33: դրամ | F33: 15076800 | G33: 1 | H33: =+G33*F33/1000 -> 15076.8
B34: 50531140/501 | C34: փորձաքննության ծառայություններ | D34: ԳՀ | E34: դրամ | F34: 800000 | G34: 1 | H34: =+G34*F34/1000 -> 800
B35: 50531140/503 | C35: փորձաքննության ծառայություններ | D35: ԳՀ | E35: դրամ | F35: 1000000 | G35: 1 | H35: =+G35*F35/1000 -> 1000
B36: 50531140/504 | C36: փորձաքննության ծառայություններ | D36: ԳՀ | E36: դրամ | F36: 500000 | G36: 1 | H36: =+G36*F36/1000 -> 500
B37: 1049 21002 | C37: Տրանսպորտային օբյեկտների հիմնանորոգում | H37: =H39+H40 -> 2262.5
B38: ՄԱՍ III. ԾԱՌԱՅՈՒԹՅՈՒՆՆԵՐ | H38: =+H39+H40 -> 2262.5
B39: 50531140/505 | C39: փորձաքննության ծառայություններ | D39: ԳՀ | E39: դրամ | F39: 1700000 | G39: 1 | H39: =+G39*F39/1000 -> 1700
B40: 50531140/506 | C40: փորձաքննության ծառայություններ | D40: ԳՀ | E40: դրամ | F40: 562500 | G40: 1 | H40: =+G40*F40/1000 -> 562.5
C43: ՀԱՅԱՍՏԱՆԻ ՀԱՆՐԱՊԵՏՈՒԹՅԱՆ ՎԱՐՉԱՊԵՏԻ ԱՇԽԱՏԱԿԱԶՄԻ ՂԵԿԱՎԱՐ՝ | F43: Ա.ՀԱՐՈՒԹՅՈՒՆՅԱՆ
