Workbook
Name շախմատիստ: #REF!

Sheet Հավելված N 1
D1: Հավելված N 1
D2: ՀՀ կառավարության 2023 թվականի
D3: ______________ ի ___Ն որոշման
A4: «ՀԱՅԱՍՏԱՆԻ ՀԱՆՐԱՊԵՏՈՒԹՅԱՆ 2023 ԹՎԱԿԱՆԻ ՊԵՏԱԿԱՆ ԲՅՈՒՋԵԻ ՄԱՍԻՆ» ՕՐԵՆՔԻ N 1 ՀԱՎԵԼՎԱԾԻ N 2 ԱՂՅՈՒՍԱԿՈՒՄ ԿԱՏԱՐՎՈՂ ՎԵՐԱԲԱՇԽՈՒՄԸ ԵՎ ՀԱՅԱՍՏԱՆԻ ՀԱՆՐԱՊԵՏՈՒԹՅԱՆ ԿԱՌԱՎԱՐՈՒԹՅԱՆ 2022 ԹՎԱԿԱՆԻ ԴԵԿՏԵՄԲԵՐԻ 29-Ի N 2111-Ն ՈՐՈՇՄԱՆ N 5 ՀԱՎԵԼՎԱԾԻ N 1 ԱՂՅՈՒՍԱԿՈՒՄ ԿԱՏԱՐՎՈՂ ՓՈՓՈԽՈՒԹՅՈՒՆՆԵՐԸ ԵՎ ԼՐԱՑՈՒՄՆԵՐԸ
D5: հազար դրամներով
A6: Ծրագրային դասիչը | C6: Բյուջետային հատկացումների գլխավոր կարգադրիչների, ծրագրերի և միջոցառումների անվանումները | D6: Ցուցանիշների փոփոխությունը (ավելացումները նշված են դրական նշանով, իսկ նվազեցումները՝ փակագծերում)
A7: ծրագիր | B7: միջոցառում | D7: Առաջին կիսամյակ | E7: Ինն ամիս | F7: Տարի
C8: ԸՆԴԱՄԵՆԸ | D8: =D11+D24+D38 -> 0 | E8: =E11+E24+E38 -> 0 | F8: =F11+F24+F38 -> 0
A9: ՀՀ Կրթության, գիտության, մշակույթի և սպորտի նախարարություն
A10: 1193 | C10: Ծրագրի անվանումը`
C11: Համընդհանուր ներառական կրթության համակարգի ներդրում | D11: =D18 -> -22680 | E11: =E18 -> -22680 | F11: =F18 -> -22680
C12: Ծրագրի նպատակը`
C13: Յուրաքանչյուր երեխայի համար կրթության մատչելիության, հավասար մասնակցության հնարավորության և որակի ապահովում՛ զարգացման առանձնահատկություններին համապատասխան և անհրաժեշտ պայմանների ստեղծման միջոցով
C14: Վերջնական արդյունքի նկարագրությունը`
C15: Խոցելի խմբերի երեխաների ընդգրկվածության ապահովում հանրակրթական հաստատություններում
A16: Ծրագրի միջոցառումներ
B17: 11001 | C17: Միջոցառման անվանումը`
C18: Մանկավարժահոգեբանական աջակցության ծառայություններ և կրթության առանձնահատուկ պայմանների կարիք ունեցող երեխաների կրթության կազմակերպմանն օժանդակող միջոցառումներ | D18: =-22680 -> -22680 | E18: =-22680 -> -22680 | F18: =-22680 -> -22680
C19: Միջոցառման նկարագրությունը`
C20: Երեխաների կրթության առանձնահատուկ պայմանների կարիքի բացահայտում և գնահատում, կրթության աջակցության ծառայությունների իրականացում և կրթության կազմակերպման համար նախատեսված ծրագրերի, ձեռնարկների, ուսումնական այլ նյութերի մշակում, հրատարակում և ձեռքբերում
C21: Միջոցառման տեսակը
C22: Ծառայությունների մատուցում
A23: 1111 | C23: Ծրագրի անվանումը`
C24: Բարձրագույն և հետբուհական մասնագիտական կրթության ծրագիր | D24: =D31 -> 22680 | E24: =E31 -> 22680 | F24: =F31 -> 22680
C25: Ծրագրի նպատակը`
C26: Ապահովել մատչելի, որակյալ և մրցունակ բարձրագույն և հետբուհական մասնագիտական կրթություն
C27: Վերջնական արդյունքի նկարագրությունը`
C28: Գիտելիքների տնտեսության և գիտության զարգացման արդի պահանջներին համապատասխան բարձրագույն և հետբուհական մասնագիտական որակավորում ունեցող մասնագետների պատրաստում
A29: Ծրագրի միջոցառումներ
B30: 11005 | C30: Միջոցառման անվանումը`
C31: Հայ-ռուսական գիտակրթական ֆորումի անցկացում | D31: 22680 | E31: 22680 | F31: 22680
C32: Միջոցառման նկարագրությունը`
C33: Հայ-ռուսական գիտակրթական ֆորումի հավուր պատշաճի կազմակերպում և անցկացում
C34: Միջոցառման տեսակը
C35: Ծառայությունների մատուցում
A36: ՀՀ կառավարություն | D36: =+D38 -> 0 | E36: =+E38 -> 0 | F36: =+F38 -> 0
A37: 1139 | C37: Ծրագրի անվանումը`
C38: ՀՀ կառավարության պահուստային ֆոնդ | D38: 0 | E38: 0 | F38: 0
C39: Ծրագրի նպատակը`
C40: Պետական բյուջեում չկանխատեսված, ինչպես նաև բյուջետային երաշխիքների ապահովման ծախսերի ֆինանսավորման ապահովում
C41: Վերջնական արդյունքի նկարագրությունը`
C42: Պահուստային ֆոնդի կառավարման արդյունավետության և թափանցիկության ապահովում
A43: Ծրագրի միջոցառումներ
B44: 11001 | C44: Միջոցառման անվանումը`
C45: ՀՀ կառավարության պահուստային ֆոնդ | D45: 22680 | E45: 22680 | F45: 22680
C46: Միջոցառման նկարագրությունը`
C47: ՀՀ պետական բյուջեում նախատեսված ելքերի լրացուցիչ ֆինանսավորման՝ պետական բյուջեում չկանխատեսված ելքերի, ինչպես նաև բյուջետային երաշխիքների ապահովման ելքերի ֆինանսավորման ապահովում
C48: Միջոցառման տեսակը`
C49: Ծառայությունների մատուցում
B50: 11001 | C50: Միջոցառման անվանումը`
C51: ՀՀ կառավարության պահուստային ֆոնդ | D51: =-22680 -> -22680 | E51: =-22680 -> -22680 | F51: =-22680 -> -22680
C52: Միջոցառման նկարագրությունը`
C53: ՀՀ պետական բյուջեում նախատեսված ելքերի լրացուցիչ ֆինանսավորման՝ պետական բյուջեում չկանխատեսված ելքերի, ինչպես նաև բյուջետային երաշխիքների ապահովման ելքերի ֆինանսավորման ապահովում
C54: Միջոցառման տեսակը
C55: Ծառայությունների մատուցում

Sheet Հավելված N 2
G1: Հավելված N 2
G2: ՀՀ կառավարության 2023 թվականի
G3: ______________ ի ___Ն որոշման
A4: ՀԱՅԱՍՏԱՆԻ ՀԱՆՐԱՊԵՏՈՒԹՅԱՆ ԿԱՌԱՎԱՐՈՒԹՅԱՆ 2022 ԹՎԱԿԱՆԻ ԴԵԿՏԵՄԲԵՐԻ 29-Ի N 2111-Ն ՈՐՈՇՄԱՆ N 3 և N 4 ՀԱՎԵԼՎԱԾՆԵՐՈՒՄ ԿԱՏԱՐՎՈՂ ՓՈՓՈԽՈՒԹՅՈՒՆՆԵՐԸ ԵՎ ԼՐԱՑՈՒՄՆԵՐ
G5: հազար դրամ
A6: Գործառական դասիչը | D6: Ծրագրային դասիչը | F6: Բյուջետային ծախսերի գործառական դասակարգման բաժինների, խմբերի և դասերի, բյուջետային ծրագրերի միջոցառումների, բյուջետային հատկացումների գլխավոր կարգադրիչների անվանումները | G6: Ցուցանիշների փոփոխություն (ավելացումները նշված են դրական նշանով, իսկ նվազեցումները՝ փակագծերում )
A7: Բաժին | B7: Խումբ | C7: Դաս | D7: Ծրագիր | E7: Միջոցառում | G7: Առաջին կիսամյակ | H7: Ինն ամիս | I7: Տարի
F8: ԸՆԴԱՄԵՆԸ | G8: =G10+G44 -> 0 | H8: =H10+H44 -> 0 | I8: =I10+I44 -> 0
F9: այդ թվում`
F10: ՀՀ Կրթության, գիտության, մշակույթի և սպորտի նախարարություն | G10: =G12 -> 0 | H10: =H12 -> 0 | I10: =I12 -> 0
F11: այդ թվում`
A12: 09 | E12: 11010 | F12: ԿՐԹՈՒԹՅՈՒՆ | G12: =G14+G29 -> 0 | H12: =H14+H29 -> 0 | I12: =I14+I29 -> 0
F13: այդ թվում`
B14: 06 | F14: Կրթությանը տրամադրվող օժանդակ ծառայություններ | G14: =G16 -> -22680 | H14: =H16 -> -22680 | I14: =I16 -> -22680
F15: այդ թվում`
C16: 01 | F16: Կրթությանը տրամադրվող օժանդակ ծառայություններ | G16: =G18 -> -22680 | H16: =H18 -> -22680 | I16: =I18 -> -22680
F17: այդ թվում`
D18: 1193 | F18: Համընդհանուր ներառական կրթության համակարգի ներդրում | G18: =G20 -> -22680 | H18: =H20 -> -22680 | I18: =I20 -> -22680
F19: այդ թվում`
E20: 11001 | F20: Մանկավարժահոգեբանական աջակցության ծառայություններ և կրթության առանձնահատուկ պայմանների կարիք ունեցող երեխաների կրթության կազմակերպմանն օժանդակող միջոցառումներ | G20: =G22 -> -22680 | H20: =H22 -> -22680 | I20: =I22 -> -22680
F21: այդ թվում` ըստ կատարողների
F22: ՀՀ կրթության , գիտության, մշակույթի և սպորտի նախարարություն | G22: =G24 -> -22680 | H22: =H24 -> -22680 | I22: =I24 -> -22680
F23: այդ թվում` բյուջետային ծախսերի տնտեսագիտական դասակարգման հոդվածներ
F24: ԸՆԴԱՄԵՆԸ ԾԱԽՍԵՐ | G24: =G25 -> -22680 | H24: =H25 -> -22680 | I24: =I25 -> -22680
F25: ԸՆԹԱՑԻԿ ԾԱԽՍԵՐ | G25: =G26 -> -22680 | H25: =H26 -> -22680 | I25: =I26 -> -22680
F26: ԴՐԱՄԱՇՆՈՐՀՆԵՐ | G26: =G27 -> -22680 | H26: =H27 -> -22680 | I26: =I27 -> -22680
F27: Ընթացիկ դրամաշնորհներ պետական հատվածի այլ մակարդակներին | G27: =G28 -> -22680 | H27: =H28 -> -22680 | I27: =I28 -> -22680
F28: - Ընթացիկ դրամաշնորհներ պետական և համայնքների ոչ առևտրային կազմակերպություններին | G28: ='Հավելված N 1'!D18 -> -22680 | H28: ='Հավելված N 1'!E18 -> -22680 | I28: ='Հավելված N 1'!F18 -> -22680
B29: 04 | F29: Բարձրագույն կրթություն | G29: =G31 -> 22680 | H29: =H31 -> 22680 | I29: =I31 -> 22680
F30: այդ թվում`
C31: 01 | F31: Բարձրագույն մասնագիտական կրթություն | G31: =G33 -> 22680 | H31: =H33 -> 22680 | I31: =I33 -> 22680
F32: այդ թվում`
D33: 1111 | F33: Բարձրագույն և հետբուհական մասնագիտական կրթության ծրագիր | G33: =G35 -> 22680 | H33: =H35 -> 22680 | I33: =I35 -> 22680
F34: այդ թվում`
E35: 11005 | F35: Հայ-ռուսական գիտակրթական ֆորումի անցկացում | G35: =G37 -> 22680 | H35: =H37 -> 22680 | I35: =I37 -> 22680
F36: այդ թվում` ըստ կատարողների
F37: ՀՀ կրթության , գիտության, մշակույթի և սպորտի նախարարություն | G37: =G39 -> 22680 | H37: =H39 -> 22680 | I37: =I39 -> 22680
F38: այդ թվում` բյուջետային ծախսերի տնտեսագիտական դասակարգման հոդվածներ
F39: ԸՆԴԱՄԵՆԸ ԾԱԽՍԵՐ | G39: =G40 -> 22680 | H39: =H40 -> 22680 | I39: =I40 -> 22680
F40: ԸՆԹԱՑԻԿ ԾԱԽՍԵՐ | G40: =G41 -> 22680 | H40: =H41 -> 22680 | I40: =I41 -> 22680
F41: ԴՐԱՄԱՇՆՈՐՀՆԵՐ | G41: =G42 -> 22680 | H41: =H42 -> 22680 | I41: =I42 -> 22680
F42: Ընթացիկ դրամաշնորհներ պետական հատվածի այլ մակարդակներին | G42: =G43 -> 22680 | H42: =H43 -> 22680 | I42: =I43 -> 22680
F43: - Այլ ընթացիկ դրամաշնորհներ | G43: ='Հավելված N 1'!D31 -> 22680 | H43: ='Հավելված N 1'!E31 -> 22680 | I43: ='Հավելված N 1'!F31 -> 22680
F44: ՀՀ կառավարություն | G44: ='Հավելված N 1'!D36 -> 0 | H44: ='Հավելված N 1'!E36 -> 0 | I44: ='Հավելված N 1'!F36 -> 0
F45: այդ թվում`
A46: 11 | F46: ՀԻՄՆԱԿԱՆ ԲԱԺԻՆՆԵՐԻՆ ՉԴԱՍՎՈՂ ՊԱՀՈՒՍՏԱՅԻՆ ՖՈՆԴԵՐ | G46: =+G48 -> 0 | H46: =+H48 -> 0 | I46: =+I48 -> 0
F47: այդ թվում`
B48: 01 | F48: ՀՀ կառավարության և համայնքների պահուստային ֆոնդ | G48: =+G50 -> 0 | H48: =+H50 -> 0 | I48: =+I50 -> 0
F49: այդ թվում`
C50: 01 | F50: ՀՀ կառավարության պահուստային ֆոնդ | G50: =+G52 -> 0 | H50: =+H52 -> 0 | I50: =+I52 -> 0
F51: այդ թվում`
D52: 1139 | F52: ՀՀ կառավարության պահուստային ֆոնդ | G52: =G54+G62 -> 0 | H52: =H54+H62 -> 0 | I52: =I54+I62 -> 0
F53: այդ թվում`
E54: 11001 | F54: ՀՀ կառավարության պահուստային ֆոնդ | G54: =+G56 -> 22680 | H54: =+H56 -> 22680 | I54: =+I56 -> 22680
F55: այդ թվում` ըստ կատարողների
F56: ՀՀ կառավարություն | G56: =+G58 -> 22680 | H56: =+H58 -> 22680 | I56: =+I58 -> 22680
F57: այդ թվում՝ բյուջետային ծախսերի տնտեսագիտական դասակարգման հոդվածներ
F58: ԸՆԴԱՄԵՆԸ ԾԱԽՍԵՐ | G58: =+G59 -> 22680 | H58: =+H59 -> 22680 | I58: =+I59 -> 22680
F59: ԸՆԹԱՑԻԿ ԾԱԽՍԵՐ | G59: =+G60 -> 22680 | H59: =+H60 -> 22680 | I59: =+I60 -> 22680
F60: ԱՅԼ ԾԱԽՍԵՐ | G60: =G61 -> 22680 | H60: =H61 -> 22680 | I60: =I61 -> 22680
F61: Պահուստային միջոցներ | G61: ='Հավելված N 1'!D45 -> 22680 | H61: ='Հավելված N 1'!E45 -> 22680 | I61: ='Հավելված N 1'!F45 -> 22680
E62: 11001 | F62: ՀՀ կառավարության պահուստային ֆոնդ | G62: =G64 -> -22680 | H62: =H64 -> -22680 | I62: =I64 -> -22680
F63: այդ թվում` ըստ կատարողների
F64: ՀՀ կառավարություն | G64: =G66 -> -22680 | H64: =H66 -> -22680 | I64: =I66 -> -22680
F65: այդ թվում՝ բյուջետային ծախսերի տնտեսագիտական դասակարգման հոդվածներ
F66: ԸՆԴԱՄԵՆԸ ԾԱԽՍԵՐ | G66: =G67 -> -22680 | H66: =H67 -> -22680 | I66: =I67 -> -22680
F67: ԸՆԹԱՑԻԿ ԾԱԽՍԵՐ | G67: =G68 -> -22680 | H67: =H68 -> -22680 | I67: =I68 -> -22680
F68: ԱՅԼ ԾԱԽՍԵՐ | G68: =G69 -> -22680 | H68: =H69 -> -22680 | I68: =I69 -> -22680
F69: Պահուստային միջոցներ | G69: ='Հավելված N 1'!D51 -> -22680 | H69: ='Հավելված N 1'!E51 -> -22680 | I69: ='Հավելված N 1'!F51 -> -22680

Sheet Հավելված N3
E2: Հավելված N 3
E3: ՀՀ կառավարության 2023 թվականի
E4: ______________ ի ___Ն որոշման
A6: ՀԱՅԱՍՏԱՆԻ ՀԱՆՐԱՊԵՏՈՒԹՅԱՆ ԿԱՌԱՎԱՐՈՒԹՅԱՆ 2023 ԹՎԱԿԱՆԻ ԴԵԿՏԵՄԲԵՐԻ 29-Ի № 2111-Ն ՈՐՈՇՄԱՆ № 5 ՀԱՎԵԼՎԱԾԻ № 7 ԱՂՅՈՒՍԱԿՈՒՄ ԿԱՏԱՐՎՈՂ ՓՈՓՈԽՈՒԹՅՈՒՆՆԵՐԸ ԵՎ ԼՐԱՑՈՒՄՆԵՐԸ
E7: հազար դրամ
A8: Ծրագրային դասիչ | C8: Բյուջետային հատկացումների գլխավոր կարգադրիչների, ծրագրերի, միջոցառումների, ծախսային ուղղությունների անվանումները | E8: Միջոցառումները կատարող պետական մարմինների և դրամաշնորհ ստացող տնտեսվարող սուբյեկտների անվանումները | F8: Ցուցանիշների փոփոխությունը (ավելացումները նշված են դրական նշանով)
A9: Ծրագիր | B9: Միջոցառում
A10: 1 | B10: 2 | C10: 3 | E10: 4 | F10: 5
B11: ՀՀ կրթության, գիտության, մշակույթի և սպորտի նախարարություն | F11: =F12+F15 -> 0
A12: 1193 | B12: Համընդհանուր ներառական կրթության համակարգի ներդրում | F12: =F13 -> -22680
B13: 11001 | C13: Մանկավարժահոգեբանական աջակցության ծառայություններ և կրթության առանձնահատուկ պայմանների կարիք ունեցող երեխաների կրթության կազմակերպմանն օժանդակող միջոցառումներ | E13: ՀՀ կրթության, գիտության, մշակույթի և սպորտի նախարարություն | F13: =F14 -> -22680
E14: «Գեղարքունիքի տարածքային մանկավարժահոգեբանական աջակցության կենտրոն» ՊՈԱԿ | F14: ='Հավելված N 2'!G28 -> -22680
A15: 1111 | B15: Բարձրագույն և հետբուհական մասնագիտական կրթության ծրագիր | F15: =F16 -> 22680
B16: 11005 | C16: Հայ-ռուսական գիտակրթական ֆորումի անցկացում | E16: ՀՀ կրթության, գիտության, մշակույթի և սպորտի նախարարություն | F16: =F17 -> 22680
E17: «Երևանի պետական համալսարան» հիմնադրամ | F17: ='Հավելված N 2'!G43 -> 22680

Sheet Հավելված N4
B1: Հավելված N 4
B2: ՀՀ կառավարության 2023 թվականի
B3: ______________ ի ___Ն որոշման
A5: ՀԱՅԱՍՏԱՆԻ ՀԱՆՐԱՊԵՏՈՒԹՅԱՆ ԿԱՌԱՎԱՐՈՒԹՅԱՆ 2022 ԹՎԱԿԱՆԻ ԴԵԿՏԵՄԲԵՐԻ 29-Ի N 2111-Ն ՈՐՈՇՄԱՆ N 9 ԵՎ N 9.1 ՀԱՎԵԼՎԱԾՆԵՐԻ N 9.13, N 9.47 N 9.1.13 և N 9.1.58 ԱՂՅՈՒՍԱԿՆԵՐՈՒՄ ԿԱՏԱՐՎՈՂ ՓՈՓՈԽՈՒԹՅՈՒՆՆԵՐԸ ԵՎ ԼՐԱՑՈՒՄՆԵՐԸ
A6: ՀՀ կրթության, գիտության, մշակույթի և սպորտի նախարարություն
A7: ՄԱՍ 2. ՊԵՏԱԿԱՆ ՄԱՐՄՆԻ ԳԾՈՎ ԱՐԴՅՈՒՆՔԱՅԻՆ (ԿԱՏԱՐՈՂԱԿԱՆ) ՑՈՒՑԱՆԻՇՆԵՐԸ
A9: Ծրագրի դասիչը | B9: Ծրագրի անվանումը
A10: 1193 | B10: Համընդհանուր ներառական կրթության համակարգի ներդրում
A12: Ծրագրի միջոցառումները
A14: Ծրագրի դասիչը՝ | B14: 1193 | C14: Ցուցանիշների փոփոխությունը (նվազեցումները նշված են փակագծերում)
A15: Միջոցառման դասիչը՝ | B15: 11001 | C15: Առաջին կիսամյակ | D15: Ինն ամիս | E15: Տարի
A16: Միջոցառման անվանումը՝ | B16: Մանկավարժահոգեբանական աջակցության ծառայություններ և կրթության առանձնահատուկ պայմանների կարիք ունեցող երեխաների կրթության կազմակերպմանն օժանդակող միջոցառումներ
A17: Նկարագրությունը՝ | B17: Երեխաների կրթության առանձնահատուկ պայմանների կարիքի բացահայտում և գնահատում, կրթության աջակցության ծառայությունների իրականացում և կրթության կազմակերպման համար նախատեսված ծրագրերի, ձեռնարկների, ուսումնական այլ նյութերի մշակում, հրատարակում և ձեռքբերում
A18: Միջոցառման տեսակը՝ | B18: Ծառայությունների մատուցում
A19: Ծառայությունը մատուցող կազմակերպության(ների) անվանում(ներ)ը՛ | B19: Մասնագիտացված կազմակերպություններ
A20: Արդյունքի չափորոշիչներ
A21: Մանկավարժահոգեբանական աջակցության ծառայություններ ստացող երեխաների թիվ, երեխա | C21: =-41 -> -41 | D21: =-41 -> -41 | E21: =-41 -> -41
A22: Միջոցառման վրա կատարվող ծախսը (հազար դրամ) | C22: ='Հավելված N 2'!G28 -> -22680 | D22: ='Հավելված N 2'!H28 -> -22680 | E22: ='Հավելված N 2'!I28 -> -22680
A24: Ծրագրի դասիչը | B24: Ծրագրի անվանումը
A25: 1111 | B25: Բարձրագույն և հետբուհական մասնագիտական կրթության ծրագիր
A27: Ծրագրի միջոցառումները
A29: Ծրագրի դասիչը` | B29: 1111 | C29: Ցուցանիշների փոփոխություն (ավելացումները նշված են դրական նշանով )
A30: Միջոցառման դասիչը` | B30: 11005 | C30: Առաջին կիսամյակ | D30: Ինն ամիս | E30: Տարի
A31: Միջոցառման անվանումը` | B31: Հայ-ռուսական գիտակրթական ֆորումի անցկացում
A32: Նկարագրությունը` | B32: Հայ-ռուսական գիտակրթական ֆորումի հավուր պատշաճի կազմակերպում և անցկացում
A33: Միջոցառման տեսակը` | B33: Ծառայությունների մատուցում
A34: Ծառայությունը մատուցող կազմակերպության(ների) անվանում(ներ)ը | B34: Մասնագիտացված կազմակերպություն
A35: Արդյունքի չափորոշիչներ
A36: Շահառուների թիվ, մարդ | C36: 200 | D36: 200 | E36: 200
A37: Միջոցառման վրա կատարվող ծախսը (հազար դրամ) | C37: ='Հավելված N 2'!G43 -> 22680 | D37: ='Հավելված N 2'!H43 -> 22680 | E37: ='Հավելված N 2'!I43 -> 22680
A38: ՀՀ կառավարություն
A39: ՄԱՍ 2. ՊԵՏԱԿԱՆ ՄԱՐՄՆԻ ԳԾՈՎ ԱՐԴՅՈՒՆՔԱՅԻՆ (ԿԱՏԱՐՈՂԱԿԱՆ) ՑՈՒՑԱՆԻՇՆԵՐԸ
A41: Ծրագրի դասիչը | B41: Ծրագրի անվանումը
A42: 1139 | B42: ՀՀ կառավարության պահուստային ֆոնդ
A44: Ծրագրի միջոցառումները
A46: Ծրագրի դասիչը՝ | B46: 1139 | C46: Ցուցանիշների փոփոխություն (ավելացումները նշված են դրական նշանով)
A47: Միջոցառման դասիչը՝ | B47: 11001 | C47: Առաջին կիսամյակ | D47: Ինն ամիս | E47: Տարի
A48: Միջոցառման անվանումը՝ | B48: ՀՀ կառավարության պահուստային ֆոնդ
A49: Նկարագրությունը՝ | B49: ՀՀ պետական բյուջեում նախատեսված ելքերի լրացուցիչ ֆինանսավորման՝ պետական բյուջեում չկանխատեսված ելքերի, ինչպես նաև բյուջետային երաշխիքների ապահովման ելքերի ֆինանսավորման ապահովում
A50: Միջոցառման տեսակը՝ | B50: Ծառայությունների մատուցում
A51: Միջոցառումն իրականացնողի անվանումը | B51: ՀՀ կառավարություն
A52: Արդյունքի չափորոշիչներ
A53: Միջոցառման վրա կատարվող ծախսը (հազար դրամ) | C53: ='Հավելված N 2'!G61 -> 22680 | D53: ='Հավելված N 2'!H61 -> 22680 | E53: ='Հավելված N 2'!I61 -> 22680
A55: Ծրագրի դասիչը՝ | B55: 1139 | C55: Ցուցանիշների փոփոխություն (նվազեցումները նշված են փակագծերում )
A56: Միջոցառման դասիչը՝ | B56: 11001 | C56: Առաջին կիսամյակ | D56: Ինն ամիս | E56: Տարի
A57: Միջոցառման անվանումը՝ | B57: ՀՀ կառավարության պահուստային ֆոնդ
A58: Նկարագրությունը՝ | B58: ՀՀ պետական բյուջեում նախատեսված ելքերի լրացուցիչ ֆինանսավորման՝ պետական բյուջեում չկանխատեսված ելքերի, ինչպես նաև բյուջետային երաշխիքների ապահովման ելքերի ֆինանսավորման ապահովում
A59: Միջոցառման տեսակը՝ | B59: Ծառայությունների մատուցում
A60: Միջոցառումն իրականացնողի անվանումը | B60: ՀՀ կառավարություն
A61: Արդյունքի չափորոշիչներ
A62: Միջոցառման վրա կատարվող ծախսը (հազար դրամ) | C62: ='Հավելված N 2'!G69 -> -22680 | D62: ='Հավելված N 2'!H69 -> -22680 | E62: ='Հավելված N 2'!I69 -> -22680
