Workbook
Name AgencyCode: #REF!
Name AgencyCode: #REF!
Name AgencyCode: #REF!
Name AgencyCode: #REF!
Name AgencyName: #REF!
Name AgencyName: #REF!
Name åû: #REF!
Name davit: #REF!
Name Functional1: #REF!
Name Functional1: #REF!
Name ggg: #REF!
Name mas: #REF!
Name mass: #REF!
Name PANature: #REF!
Name PANature: #REF!
Name PAType: #REF!
Name PAType: #REF!
Name Performance2: #REF!
Name Performance2: #REF!
Name PerformanceType: #REF!
Name PerformanceType: #REF!
Name x: #REF!
Name Հավելված: #REF!
Name Մաս: #REF!
Name շախմատիստ: #REF!

Sheet 1
G1: Հավելված N1
G2: ՀՀ կառավարության 2023 թվականի
G3: ______________ ի ___Ն որոշման
B5: «ՀԱՅԱUՏԱՆԻ ՀԱՆՐԱՊԵՏՈՒԹՅԱՆ 2023 ԹՎԱԿԱՆԻ ՊԵՏԱԿԱՆ ԲՅՈՒՋԵԻ ՄԱUԻՆ» OՐԵՆՔԻ N 1 ՀԱՎԵԼՎԱԾԻ N 2 ԱՂՅՈՒՍԱԿՈՒՄ ՎԵՐԱԲԱՇԽՈՒՄ ԵՎ ՀԱՅԱՍՏԱՆԻ ՀԱՆՐԱՊԵՏՈՒԹՅԱՆ ԿԱՌԱՎԱՐՈՒԹՅԱՆ 2022 ԹՎԱԿԱՆԻ ԴԵԿՏԵՄԲԵՐԻ 29-Ի N 2111-Ն ՈՐՈՇՄԱՆ N 5 ՀԱՎԵԼՎԱԾԻ N 1 ԱՂՅՈՒՍԱԿՈՒՄ ԿԱՏԱՐՎՈՂ ՓՈՓՈԽՈՒԹՅՈՒՆԸ ՈՒ ԼՐԱՑՈՒՄԸ
G6: հազ. դրամ
B7: Ծրագրային դասիչը | D7: Բյուջետային հատկացումների գլխավոր կարգադրիչների, ծրագրերի և միջոցառումների անվանումները | E7: Ցուցանիշների փոփոխությունը (ավելացումները նշված են դրական նշանով, իսկ նվազեցումները` փակագծերում)
B8: Ծրագիր | C8: Միջոցառում | E8: Առաջին կիսամյակ | F8: Ինն ամիս | G8: Տարի
B9: 1192 | D9: ԸՆԴԱՄԵՆԸ | E9: =+E11 -> 0 | F9: =+F11 -> 0 | G9: =+G11 -> 0
D10: այդ թվում
C11: ՀՀ տարածքային կառավարման և ենթակառուցվածքների նախարարություն | E11: =E12 -> 0 | F11: =F12 -> 0 | G11: =G12 -> 0
B12: 1157 | D12: Ծրագրի անվանումը` | E12: =E19+E25 -> 0 | F12: =F19+F25 -> 0 | G12: =G19+G25 -> 0
D13: Քաղաքային զարգացում
D14: Ծրագրի նպատակը`
D15: Քաղաքային ենթակառուցվածքների զարգացում
D16: Վերջնական արդյունքի նկարագրությունը`
D17: Քաղաքային ենթակառուցվածքների արդիականացում և բարելավում
B18: Ծրագրի միջոցառումներ
C19: 12028 | D19: Միջոցառման անվանումը` | E19: =-E25 -> -111000 | F19: =-F25 -> -111000 | G19: =-G25 -> -111000
D20: Արևելյան Եվրոպայի էներգախնյողության և շրջակա միջավայրի գործընկերության տարածաշրջանային հիմնադրամի աջակցությամբ իրականացվող Երևան քաղաքի հանրային տրանսպորտի նոր երթուղային ցանցի շարժակազմի ներդրման ֆինասական աջակցության դրամաշնորհային ծրագիր
D21: Միջոցառման նկարագրությունը`
D22: Երևան քաղաքի տրանսպորտի և երթևեկության բարելավման համար տրամադրվող աջակցություն և ծառայություններ
D23: Միջոցառման տեսակը
D24: Տրանսֆերտների տրամադրում
C25: 21001 | D25: Միջոցառման անվանումը՝ | E25: 111000 | F25: =E25 -> 111000 | G25: =F25 -> 111000
D26: Երևանի մետրոպոլիտենի ենթակառուցվածքների նորոգում
D27: Միջոցառման նկարագրությունը՝
D28: Երևանի մետրոպոլիտենի ենթակառուցվածքների նորոգում
D29: Միջոցառման տեսակը՝
D30: Հանրության կողմից անմիջականորեն օգտագործվող ակտիվների հետ կապված միջոցառումներ
C34: ՀԱՅԱՍՏԱՆԻ ՀԱՆՐԱՊԵՏՈՒԹՅԱՆ ՎԱՐՉԱՊԵՏԻ ԱՇԽԱՏԱԿԱԶՄԻ ՂԵԿԱՎԱՐ` | F34: Ա.ՀԱՐՈՒԹՅՈՒՆՅԱՆ

Sheet 2
B1: Հավելված N2
B2: ՀՀ կառավարության 2023 թվականի
B3: ______________ ի ___Ն որոշման
B5: ՀԱՅԱՍՏԱՆԻ ՀԱՆՐԱՊԵՏՈՒԹՅԱՆ ԿԱՌԱՎԱՐՈՒԹՅԱՆ 2022 ԹՎԱԿԱՆԻ ԴԵԿՏԵՄԲԵՐԻ 29-Ի N 2111-Ն ՈՐՈՇՄԱՆ N 3 ԵՎ N 4 ՀԱՎԵԼՎԱԾՆԵՐՈՒՄ ԿԱՏԱՐՎՈՂ ՓՈՓՈԽՈՒԹՅՈՒՆՆԵՐԸ ՈՒ ԼՐԱՑՈՒՄՆԵՐԸ
H7: հազ. դրամ
B8: Գործառական դասիչը | E8: Ծրագրային դասիչը | G8: Բյուջետային ծախսերի գործառական դասակարգման բաժինների, խմբերի և դասերի, բյուջետային հատկացումների գլխավոր կարգադրիչների, ծրագրերի, միջոցառումների և միջոցառումները կատարող պետական մարմինների անվանումները | H8: Ցուցանիշների փոփոխությունը (ավելացումները նշված են դրական նշանով, իսկ նվազեցումները` փակագծերում)
B9: Բաժին | C9: Խումբ | D9: Դաս | E9: Ծրագիր | F9: Միջոցառում | H9: Առաջին կիսամյակ | I9: Ինն ամիս | J9: Տարի
G10: ԸՆԴԱՄԵՆԸ ԾԱԽՍԵՐ | H10: =H12 -> 0 | I10: =I12 -> 0 | J10: =J12 -> 0
G11: այդ թվում`
B12: 04 | G12: ՏՆՏԵՍԱԿԱՆ ՀԱՐԱԲԵՐՈՒԹՅՈՒՆՆԵՐ | H12: =+H14 -> 0 | I12: =+I14 -> 0 | J12: =+J14 -> 0
G13: այդ թվում`
C14: 05 | G14: Տրանսպորտ | H14: =H16+H31 -> 0 | I14: =I16+I31 -> 0 | J14: =J16+J31 -> 0
G15: այդ թվում`
D16: 01 | G16: Ճանապարհային տրանսպորտ | H16: =H20 -> -111000 | I16: =I20 -> -111000 | J16: =J20 -> -111000
G17: այդ թվում`
G18: ՀՀ տարածքային կառավարման և ենթակառուցվածքների նախարարություն | H18: =+H22 -> -111000 | I18: =+I22 -> -111000 | J18: =+J22 -> -111000
G19: այդ թվում`
E20: 1157 | G20: Քաղաքային զարգացում | H20: =H22 -> -111000 | I20: =I22 -> -111000 | J20: =J22 -> -111000
G21: այդ թվում`
F22: 12028 | G22: Արևելյան Եվրոպայի էներգախնյողության և շրջակա միջավայրի գործընկերության տարածաշրջանային հիմնադրամի աջակցությամբ իրականացվող Երևան քաղաքի հանրային տրանսպորտի նոր երթուղային ցանցի շարժակազմի ներդրման ֆինասական աջակցության դրամաշնորհային ծրագիր | H22: =H24 -> -111000 | I22: =I24 -> -111000 | J22: =J24 -> -111000
G23: այդ թվում` ըստ կատարողների
G24: ՀՀ տարածքային կառավարման և ենթակառուցվածքների նախարարություն | H24: =H26 -> -111000 | I24: =I26 -> -111000 | J24: =J26 -> -111000
G25: այդ թվում` բյուջետային ծախսերի տնտեսագիտական դասակարգման հոդվածներ
G26: ԸՆԴԱՄԵՆԸ ԾԱԽՍԵՐ | H26: =H27 -> -111000 | I26: =I27 -> -111000 | J26: =J27 -> -111000
G27: ՈՉ ՖԻՆԱՆՍԱԿԱՆ ԱԿՏԻՎՆԵՐԻ ԳԾՈՎ ԾԱԽՍԵՐ | H27: =H28 -> -111000 | I27: =I28 -> -111000 | J27: =J28 -> -111000
G28: ՀԻՄՆԱԿԱՆ ՄԻՋՈՑՆԵՐ | H28: =H29 -> -111000 | I28: =I29 -> -111000 | J28: =J29 -> -111000
G29: ՄԵՔԵՆԱՆԵՐ ԵՎ ՍԱՐՔԱՎՈՐՈՒՄՆԵՐ | H29: =H30 -> -111000 | I29: =I30 -> -111000 | J29: =J30 -> -111000
G30: - Տրանսպորտային սարքավորումներ | H30: =-H31 -> -111000 | I30: =-I31 -> -111000 | J30: =-J31 -> -111000
D31: 05 | G31: Խողովակաշարային և այլ տրանսպորտ | H31: =H35 -> 111000 | I31: =I35 -> 111000 | J31: =J35 -> 111000
G32: այդ թվում`
G33: ՀՀ տարածքային կառավարման և ենթակառուցվածքների նախարարություն | H33: =H37 -> 111000 | I33: =I37 -> 111000 | J33: =J37 -> 111000
G34: այդ թվում`
E35: 1157 | G35: Քաղաքային զարգացում | H35: =H33 -> 111000 | I35: =I33 -> 111000 | J35: =J33 -> 111000
G36: այդ թվում`
F37: 21001 | G37: Երևանի մետրոպոլիտենի ենթակառուցվածքների նորոգում | H37: =+H39 -> 111000 | I37: =+I39 -> 111000 | J37: =+J39 -> 111000
G38: այդ թվում` ըստ կատարողների
G39: ՀՀ տարածքային կառավարման և ենթակառուցվածքների նախարարություն | H39: =+H41 -> 111000 | I39: =+I41 -> 111000 | J39: =+J41 -> 111000
G40: այդ թվում` բյուջետային ծախսերի տնտեսագիտական դասակարգման հոդվածներ
G41: ԸՆԴԱՄԵՆԸ ԾԱԽՍԵՐ | H41: =+H42 -> 111000 | I41: =+I42 -> 111000 | J41: =+J42 -> 111000
G42: ՈՉ ՖԻՆԱՆՍԱԿԱՆ ԱԿՏԻՎՆԵՐԻ ԳԾՈՎ ԾԱԽՍԵՐ | H42: =H43 -> 111000 | I42: =I43 -> 111000 | J42: =J43 -> 111000
...

Sheet 3
H2: Հավելված N 3
H3: ՀՀ կառավարության 2023 թվականի
H4: ______________ ի ___Ն որոշման
A6: «ՀԱՅԱՍՏԱՆԻ ՀԱՆՐԱՊԵՏՈՒԹՅԱՆ 2023 ԹՎԱԿԱՆԻ ՊԵՏԱԿԱՆ ԲՅՈՒՋԵԻ ՄԱՍԻՆ» ՕՐԵՆՔԻ N 1 ՀԱՎԵԼՎԱԾԻ N 3 ԱՂՅՈՒՍԱԿՈՒՄ ԿԱՏԱՐՎՈՂ ԼՐԱՑՈՒՄԸ
H8: հազ. դրամ
A9: Ծրագրային դասիչ | C9: Բյուջետային գլխավոր կարգադրիչների, ծրագրերի, միջոցառումների և ուղղությունների անվանումները | D9: Ընդամենը | E9: Ցուցանիշների փոփոխությունը (ավելացումները նշված են դրական նշանով)
E10: այդ թվում
A11: Ծրագիր | B11: Միջոցառում | E11: Կառուցման աշխատանքներ | F11: Վերակառուցման, վերանորոգման և վերականգնման աշխատանքներ | G11: Նախագծահե- տազոտական, գեոդեզիա- քարտեզագրա- կան աշխա- տանքներ | H11: Ոչ ֆինանսական այլ ակտիվների ձեռքբերում
C12: ԸՆԴԱՄԵՆԸ | D12: =+D14 -> 111000 | E12: =+E14 -> 0 | F12: =+F14 -> 0 | G12: =+G14 -> 0 | H12: =+H14 -> 111000
C14: ՀՀ ՏԱՐԱԾՔԱՅԻՆ ԿԱՌԱՎԱՐՄԱՆ ԵՎ ԵՆԹԱԿԱՌՈՒՑՎԱԾՔՆԵՐԻ ՆԱԽԱՐԱՐՈՒԹՅՈՒՆ | D14: =+D16 -> 111000 | E14: =+E16 -> 0 | F14: =+F16 -> 0 | G14: =+G16 -> 0 | H14: =+H16 -> 111000
C15: այդ թվում`
A16: 1157 | B16: 21001 | C16: Երևանի մետրոպոլիտենի ենթակառուցվածքների նորոգում | D16: =SUM(E16:H16) -> 111000 | E16: 0 | F16: 0 | G16: 0 | H16: 111000
B20: ՀԱՅԱՍՏԱՆԻ ՀԱՆՐԱՊԵՏՈՒԹՅԱՆ
B21: ՎԱՐՉԱՊԵՏԻ ԱՇԽԱՏԱԿԱԶՄԻ
C22: ՂԵԿԱՎԱՐ՝ | E22: Ա. ՀԱՐՈՒԹՅՈՒՆՅԱՆ

Sheet 4
D1: Հավելված N 4
C2: ՀՀ կառավարության 2023 թվականի
C3: ______________ ի ___Ն որոշման
A5: ՀԱՅԱՍՏԱՆԻ ՀԱՆՐԱՊԵՏՈՒԹՅԱՆ ԿԱՌԱՎԱՐՈՒԹՅԱՆ 2022 ԹՎԱԿԱՆԻ ԴԵԿՏԵՄԲԵՐԻ 29-Ի N 2111-Ն ՈՐՈՇՄԱՆ N 5 ՀԱՎԵԼՎԱԾԻ N 2 ԱՂՅՈՒՍԱԿԻ ՑՈՒՑԱՆԻՇՆԵՐՈՒՄ ԿԱՏԱՐՎՈՂ ԼՐԱՑՈՒՄԸ
G7: հազ. դրամ
A8: Ծրագրային դասիչը | C8: Բյուջետային գլխավոր կարգադրիչների, ծրագրերի, միջոցառումների և ուղղությունների անվանումները | D8: Ցուցանիշների փոփոխությունը (ավելացումները նշված են դրական նշանով)
A9: Ծրագիր | B9: Միջոցառում | D9: =+'[1]havelvac 1'!E10 -> Առաջին եռամսյակ | E9: Առաջին կիսամյակ | F9: Ինն ամիս | G9: Տարի | K9: 4
C10: Ընդամենը | D10: =+D12+#REF! -> #REF! | E10: =+E12 -> 111000 | F10: =+F12 -> 111000 | G10: =+G12 -> 111000
A11: այդ թվում`
C12: ՀՀ ՏԱՐԱԾՔԱՅԻՆ ԿԱՌԱՎԱՐՄԱՆ ԵՎ ԵՆԹԱԿԱՌՈՒՑՎԱԾՔՆԵՐԻ ՆԱԽԱՐԱՐՈՒԹՅՈՒՆ | D12: =+D14 -> 0 | E12: =+E14 -> 111000 | F12: =+F14 -> 111000 | G12: =+G14 -> 111000
C13: այդ թվում`
A14: 1157 | B14: 21001 | C14: Երևանի մետրոպոլիտենի ենթակառուցվածքների նորոգում | D14: =+D16 -> 0 | E14: =+E16 -> 111000 | F14: =+F16 -> 111000 | G14: =+G16 -> 111000
C15: այդ թվում` ըստ կատարողների
C16: ՀՀ տարածքային կառավարման և ենթակառուցվածքների նախարարություն | D16: 0 | E16: =+'2'!H45 -> 111000 | F16: =+'2'!I45 -> 111000 | G16: =+'2'!J45 -> 111000
C20: ՀԱՅԱՍՏԱՆԻ ՀԱՆՐԱՊԵՏՈՒԹՅԱՆ
C21: ՎԱՐՉԱՊԵՏԻ ԱՇԽԱՏԱԿԱԶՄԻ
C22: ՂԵԿԱՎԱՐ` | D22: Ա. ՀԱՐՈՒԹՅՈՒՆՅԱՆ | E22: Ա.ՀԱՐՈՒԹՅՈՒՆՅԱՆ

Sheet 5
M1: Հավելված N5
M2: ՀՀ կառավարության 2023 թվականի
M3: ______________ ի ___Ն որոշման
B5: «ՀԱՅԱUՏԱՆԻ ՀԱՆՐԱՊԵՏՈՒԹՅԱՆ 2023 ԹՎԱԿԱՆԻ ՊԵՏԱԿԱՆ ԲՅՈՒՋԵԻ ՄԱUԻՆ» OՐԵՆՔԻ N 1 ՀԱՎԵԼՎԱԾԻ N 5 ԱՂՅՈՒՍԱԿՈՒՄ ԵՎ ՀԱՅԱՍՏԱՆԻ ՀԱՆՐԱՊԵՏՈՒԹՅԱՆ ԿԱՌԱՎԱՐՈՒԹՅԱՆ 2022 ԹՎԱԿԱՆԻ ԴԵԿՏԵՄԲԵՐԻ 29-Ի N 2111-Ն ՈՐՈՇՄԱՆ N 5 ՀԱՎԵԼՎԱԾԻ N 4 ԱՂՅՈՒՍԱԿՈՒՄ ԿԱՏԱՐՎՈՂ ՓՈՓՈԽՈՒԹՅՈՒՆՆԵՐԸ
M6: հազ. դրամ
B7: Ծրագրային դասիչը | D7: Բյուջետային գլխավոր կարգադրիչների, ծրագրերի և միջոցառումների անվանումները | E7: Ցուցանիշների փոփոխությունը (նվազեցումները նշված են փակագծերում)
E8: Առաջին կիսամյակ | H8: Ինն ամիս | K8: Տարի
E9: Ընդամենը | F9: այդ թվում` | H9: Ընդամենը | I9: այդ թվում` | K9: Ընդամենը | L9: այդ թվում`
B10: Ծրագիր | C10: Միջոց առում | F10: Դրամաշնորհային միջոցներ | G10: Համաֆինանսավորում | I10: Դրամաշնորհային միջոցներ | J10: Համաֆինանսավորում | L10: Դրամաշնորհային միջոցներ | M10: Համաֆինանսավորում
D11: ԸՆԴԱՄԵՆԸ_x000D_ այդ թվում` | E11: =+F11+G11 -> -111000 | F11: =+F12 -> 0 | G11: =+G12 -> -111000 | H11: =+I11+J11 -> -111000 | I11: =+I12 -> 0 | J11: =+J12 -> -111000 | K11: =+L11+M11 -> -111000 | L11: =+L12 -> 0 | M11: =+M12 -> -111000
D12: - ՈՉ ՖԻՆԱՆՍԱԿԱՆ ԱԿՏԻՎՆԵՐԻ ԳԾՈՎ ԾԱԽՍԵՐ | E12: =E16 -> -111000 | F12: =F16 -> 0 | G12: =G16 -> -111000 | H12: =H16 -> -111000 | I12: =I16 -> 0 | J12: =J16 -> -111000 | K12: =K16 -> -111000 | L12: =L16 -> 0 | M12: =M16 -> -111000
D13: ՀՀ ՏԱՐԱԾՔԱՅԻՆ ԿԱՌԱՎԱՐՄԱՆ ԵՎ ԵՆԹԱԿԱՌՈՒՑՎԱԾՔՆԵՐԻ ՆԱԽԱՐԱՐՈՒԹՅՈՒՆ_x000D_ այդ թվում` | E13: =E14 -> -111000 | F13: =F14 -> 0 | G13: =G14 -> -111000 | H13: =H14 -> -111000 | I13: =I14 -> 0 | J13: =J14 -> -111000 | K13: =K14 -> -111000 | L13: =L14 -> 0 | M13: =M14 -> -111000
B14: 1157 | D14: Քաղաքային զարգացում | E14: =E16 -> -111000 | F14: =F16 -> 0 | G14: =G16 -> -111000 | H14: =H16 -> -111000 | I14: =I16 -> 0 | J14: =J16 -> -111000 | K14: =K16 -> -111000 | L14: =L16 -> 0 | M14: =M16 -> -111000
D15: այդ թվում`
C16: 12028 | D16: Արևելյան Եվրոպայի էներգախնյողության և շրջակա միջավայրի գործընկերության տարածաշրջանային հիմնադրամի աջակցությամբ իրականացվող Երևան քաղաքի հանրային տրանսպորտի նոր երթուղային ցանցի շարժակազմի ներդրման ֆինասական աջակցության դրամաշնորհային ծրագիր | E16: =E18 -> -111000 | F16: =F18 -> 0 | G16: =G18 -> -111000 | H16: =H18 -> -111000 | I16: =I18 -> 0 | J16: =J18 -> -111000 | K16: =K18 -> -111000 | L16: =L18 -> 0 | M16: =M18 -> -111000
D17: այդ թվում` ըստ կատարողների
D18: ՀՀ տարածքային կառավարման և ենթակառուցվածքների նախարարություն | E18: =E23 -> -111000 | F18: =F23 -> 0 | G18: =G23 -> -111000 | H18: =H23 -> -111000 | I18: =I23 -> 0 | J18: =J23 -> -111000 | K18: =K23 -> -111000 | L18: =L23 -> 0 | M18: =M23 -> -111000
D19: այդ թվում` բյուջետային ծախսերի տնտեսագիտական դասակարգման հոդվածներ
D20: ԸՆԴԱՄԵՆԸ ԾԱԽՍԵՐ | E20: =E21 -> -111000 | F20: =F21 -> 0 | G20: =G21 -> -111000 | H20: =H21 -> -111000 | I20: =I21 -> 0 | J20: =J21 -> -111000 | K20: =K21 -> -111000 | L20: =L21 -> 0 | M20: =M21 -> -111000
D21: ՈՉ ՖԻՆԱՆՍԱԿԱՆ ԱԿՏԻՎՆԵՐԻ ԳԾՈՎ ԾԱԽՍԵՐ | E21: =E22 -> -111000 | F21: =F22 -> 0 | G21: =G22 -> -111000 | H21: =H22 -> -111000 | I21: =I22 -> 0 | J21: =J22 -> -111000 | K21: =K22 -> -111000 | L21: =L22 -> 0 | M21: =M22 -> -111000
D22: ՀԻՄՆԱԿԱՆ ՄԻՋՈՑՆԵՐ | E22: =E23 -> -111000 | F22: =F23 -> 0 | G22: =G23 -> -111000 | H22: =H23 -> -111000 | I22: =I23 -> 0 | J22: =J23 -> -111000 | K22: =K23 -> -111000 | L22: =L23 -> 0 | M22: =M23 -> -111000
D23: ՄԵՔԵՆԱՆԵՐ ԵՎ ՍԱՐՔԱՎՈՐՈՒՄՆԵՐ | E23: =E24 -> -111000 | F23: =F24 -> 0 | G23: =G24 -> -111000 | H23: =H24 -> -111000 | I23: =I24 -> 0 | J23: =J24 -> -111000 | K23: =K24 -> -111000 | L23: =L24 -> 0 | M23: =M24 -> -111000
D24: - Տրանսպորտային սարքավորումներ | E24: =F24+G24 -> -111000 | F24: 0 | G24: =-'4'!E16 -> -111000 | H24: =I24+J24 -> -111000 | I24: 0 | J24: =+G24 -> -111000 | K24: =L24+M24 -> -111000 | L24: 0 | M24: =+J24 -> -111000
C29: ՀԱՅԱՍՏԱՆԻ ՀԱՆՐԱՊԵՏՈՒԹՅԱՆ ՎԱՐՉԱՊԵՏԻ ԱՇԽԱՏԱԿԱԶՄԻ ՂԵԿԱՎԱՐ՝ | H29: Ա.ՀԱՐՈՒԹՅՈՒՆՅԱՆ

Sheet 6
H1: Հավելված N6
H2: ՀՀ կառավարության 2023 թվականի
H3: ______________ ի ___Ն որոշման
B5: ՀԱՅԱՍՏԱՆԻ ՀԱՆՐԱՊԵՏՈՒԹՅԱՆ ԿԱՌԱՎԱՐՈՒԹՅԱՆ 2022 ԹՎԱԿԱՆԻ ԴԵԿՏԵՄԲԵՐԻ 29-Ի N 2111-Ն ՈՐՈՇՄԱՆ N8 ՀԱՎԵԼՎԱԾՈՒՄ ԿԱՏԱՐՎՈՂ ՓՈՓՈԽՈՒԹՅՈՒՆԸ ԵՎ ԼՐԱՑՈՒՄԸ
H7: հազ. դրամ
B8: Գործառական դասիչը | E8: Ծրագրային դասիչը | G8: Բյուջետային հատակացումների գլխավոր կարգադրիչներ, ծրագրերի, միջոցառումների և միջոցառումներն իրականացնող պետական մարմինների անվանումները | H8: Ցուցանիշների փոփոխությունը (ավելացումները նշված են դրական նշանով, իսկ նվազեցումները` փակագծերում)
B9: Բաժին | C9: Խումբ | D9: Դաս | E9: Ծրագիր | F9: Միջոցա ռում
G10: ԸՆԴԱՄԵՆԸ ԾԱԽՍԵՐ | H10: =+H11 -> 0
B11: 04 | G11: ՏՆՏԵՍԱԿԱՆ ՀԱՐԱԲԵՐՈՒԹՅՈՒՆՆԵՐ | H11: =+H12 -> 0
C12: 05 | G12: Տրանսպորտ | H12: =+H13+H16 -> 0
D13: ՛01 | G13: Ճանապարհային տրանսպորտ | H13: =+H14 -> -111000
E14: 1157 | G14: Քաղաքային զարգացում | H14: =+H15 -> -111000
F15: 12028 | G15: Արևելյան Եվրոպայի էներգախնյողության և շրջակա միջավայրի գործընկերության տարածաշրջանային հիմնադրամի աջակցությամբ իրականացվող Երևան քաղաքի հանրային տրանսպորտի նոր երթուղային ցանցի շարժակազմի ներդրման ֆինասական աջակցության դրամաշնորհային ծրագիր | H15: =-H18 -> -111000
D16: 05 | G16: Խողովակաշարային և այլ տրանսպորտ | H16: =H17 -> 111000
E17: 1157 | G17: Քաղաքային զարգացում | H17: =+H18 -> 111000
F18: 21001 | G18: Երևանի մետրոպոլիտենի ենթակառուցվածքների նորոգում | H18: =+'2'!H45 -> 111000
C22: ՀԱՅԱՍՏԱՆԻ ՀԱՆՐԱՊԵՏՈՒԹՅԱՆ ՎԱՐՉԱՊԵՏԻ ԱՇԽԱՏԱԿԱԶՄԻ ՂԵԿԱՎԱՐ՝ Ա. ՀԱՐՈՒԹՅՈՒՆՅԱՆ

Sheet 7
F1: Հավելված N 7
E2: ՀՀ կառավարության 2023 թվականի
D3: ______________ ի ___Ն որոշման
A5: ՀԱՅԱՍՏԱՆԻ ՀԱՆՐԱՊԵՏՈՒԹՅԱՆ ԿԱՌԱՎԱՐՈՒԹՅԱՆ 2022 ԹՎԱԿԱՆԻ ԴԵԿՏԵՄԲԵՐԻ 29-Ի N 2111-Ն ՈՐՈՇՄԱՆ N 9 ԵՎ N 9.1 ՀԱՎԵԼՎԱԾՆԵՐԻ N 9.7 ԵՎ 9.1.7 ԱՂՅՈՒՍԱԿՆԵՐՈՒՄ ԿԱՏԱՐՎՈՂ ՓՈՓՈԽՈՒԹՅՈՒՆՆԵՐԸ ԵՎ ԼՐԱՑՈՒՄՆԵՐԸ
C8: ՀՀ տարածքային կառավարման և ենթակառուցվածնքերի նախարարություն
B11: Ծրագրի դասիչը | C11: Ծրագրի անվանումը
B12: 1157 | C12: Քաղաքային զարգացում
B13: Ծրագրի միջոցառումները
B14: Ծրագրի դասիչը՝ | C14: 1157 | D14: Ցուցանիշների փոփոխությունը (նվազեցումները նշված են փակագծերում)
B15: Միջոցառման դասիչը՝ | C15: 12028 | D15: Առաջին կիսամյակ | E15: ինն ամիս | F15: Տարի
B16: Միջոցառման անվանումը՝ | C16: Արևելյան Եվրոպայի էներգախնյողության և շրջակա միջավայրի գործընկերության տարածաշրջանային հիմնադրամի աջակցությամբ իրականացվող Երևան քաղաքի հանրային տրանսպորտի նոր երթուղային ցանցի շարժակազմի ներդրման ֆինասական աջակցության դրամաշնորհային ծրագիր
B17: Նկարագրությունը՝ | C17: Երևան քաղաքի տրանսպորտի և երթևեկության բարելավման համար տրամադրվող աջակցություն և ծառայություններ
B18: Միջոցառման տեսակը՝ | C18: Տրանսֆերտների տրամադրում
B19: Շահառուների ընտրության չափանիշները | C19: ՀՀ բնակչություն
B20: Արդյունքի չափորոշիչներ
B21: Միջոցառման վրա կատարվող ծախսը (հազար դրամ) | D21: =-D31 -> -111000 | E21: =-E31 -> -111000 | F21: =-F31 -> -111000
B23: Ծրագրի դասիչը՝ | C23: 1157 | D23: Ցուցանիշների փոփոխությունը (ավելացումները նշված են դրական նշանով)
B24: Միջոցառման դասիչը՝ | C24: 21001 | D24: Առաջին կիսամյակ | E24: ինն ամիս | F24: Տարի
B25: Միջոցառման անվանումը՝ | C25: Երևանի մետրոպոլիտենի ենթակառուցվածքների նորոգում
B26: Նկարագրությունը՝ | C26: Երևանի մետրոպոլիտենի ենթակառուցվածքների նորոգում
B27: Միջոցառման տեսակը՝ | C27: Հանրության կողմից անմիջականորեն օգտագործվող ակտիվների հետ կապված միջոցառումներ
B28: Միջոցառումն իրականացնողի անվանումը | C28: Մասնագիտացված միավոր
B29: Արդյունքի չափորոշիչներ
B30: Անվազույգերի ձեռքբերում | D30: 8 | E30: 8 | F30: 8
B31: Միջոցառման վրա կատարվող ծախսը (հազար դրամ) | D31: =+'6'!H18 -> 111000 | E31: =D31 -> 111000 | F31: =E31 -> 111000
C35: ՀԱՅԱՍՏԱՆԻ ՀԱՆՐԱՊԵՏՈՒԹՅԱՆ ՎԱՐՉԱՊԵՏԻ ԱՇԽԱՏԱԿԱԶՄԻ ՂԵԿԱՎԱՐ՝ Ա. ՀԱՐՈՒԹՅՈՒՆՅԱՆ

Sheet 8
D1: Հավելված N 8
A2: ՀՀ կառավարության 2023 թվականի
A3: ______________ ի ___Ն որոշման
A5: ՀԱՅԱՍՏԱՆԻ ՀԱՆՐԱՊԵՏՈՒԹՅԱՆ ԿԱՌԱՎԱՐՈՒԹՅԱՆ 2021 ԹՎԱԿԱՆԻ ԴԵԿՏԵՄԲԵՐԻ 29-Ի N 2111-Ն ՈՐՈՇՄԱՆ N 10 ՀԱՎԵԼՎԱԾՈՒՄ ԿԱՏԱՐՎՈՂ ԼՐԱՑՈՒՄԸ
A7: Կոդը | B7: Անվանումը | E7: Գնման ձևը | F7: Չափման միավորը | G7: Միավորի գինը | H7: Քանակը | I7: Ցուցանիշների փոփոխությունը (ավելացումները նշված են դրական նշանով)
I8: Գումարը (հազար դրամ)
A9: 1 | B9: 2 | E9: 3 | F9: 4 | G9: 5 | H9: 6 | I9: 7
A10: ՀՀ տարածքային կառավարման և ենթակառուցվածքների նախարարություն | I10: =I11 -> 111000
A11: Բաժին N 04 | B11: Խումբ N 05 | C11: Դաս N 05 | D11: Խողովակաշարային և այլ տրանսպորտ | I11: =I12 -> 111000
A12: 1157-21001 | B12: Երևանի մետրոպոլիտենի ենթակառուցվածքների նորոգում | I12: =I13 -> 111000
B13: ՄԱՍ I. ԱՊՐԱՆՔՆԵՐ | I13: =I14 -> 111000
A14: 34911151 | B14: վագոնների պահեստամասեր | E14: ԲՄ | F14: հատ | G14: 13875000 | H14: 8 | I14: =G14*H14/1000 -> 111000
B18: ՀԱՅԱՍՏԱՆԻ ՀԱՆՐԱՊԵՏՈՒԹՅԱՆ ՎԱՐՉԱՊԵՏԻ ԱՇԽԱՏԱԿԱԶՄԻ ՂԵԿԱՎԱՐ՝
G20: Ա. ՀԱՐՈՒԹՅՈՒՆՅԱՆ

Sheet 9
C1: Հավելված N 9
A2: ՀՀ կառավարության 2023 թվականի
A3: ______________ ի ___Ն որոշման
A7: Ց Ա Ն Կ «ԵՐԵՎԱՆԻ ԿԱՐԵՆ ԴԵՄԻՐՃՅԱՆԻ ԱՆՎԱՆ ՄԵՏՐՈՊՈԼԻՏԵՆ» ՓԲԸ-Ի ԿՈՂՄԻՑ 2022 ԹՎԱԿԱՆԻ ԸՆԹԱՑՔՈՒՄ «ԳՆՈՒՄՆԵՐԻ ՄԱՍԻՆ» ՕՐԵՆՔԻ 15-ՐԴ ՀՈԴՎԱԾԻ 6-ՐԴ ՄԱՍԻ ՀԻՄԱՆ ՎՐԱ ԿԱԶՄԱԿԵՐՊՎԱԾ ԱՊՐԱՆՔՆԵՐԻ ԳՆՄԱՆ ԳՈՐԾԸՆԹԱՑԻ ԱՐԴՅՈՒՆՔՈՒՄ ԿՆՔՎԱԾ ՊԱՅՄԱՆԱԳՐԻ
A9: NN | B9: Պայմանագրի ծածկագիրը | C9: Պայմանագրի կնքման ամսաթիվը
A10: 1 | B10: N ԵՄ-ԲՄԱՊՁԲ-22/107-1 | C10: 26.10.2022թ.
B13: ՀԱՅԱՍՏԱՆԻ ՀԱՆՐԱՊԵՏՈՒԹՅԱՆ ՎԱՐՉԱՊԵՏԻ ԱՇԽԱՏԱԿԱԶՄԻ ՂԵԿԱՎԱՐ՝ | C13: Ա.ՀԱՐՈՒԹՅՈՒՆՅԱՆ
