Workbook
Name AgencyCode: #REF!
Name AgencyCode: #REF!
Name AgencyCode: #REF!
Name AgencyCode: #REF!
Name AgencyCode: #REF!
Name AgencyCode: #REF!
Name AgencyCode: #REF!
Name AgencyCode: #REF!
Name AgencyCode: #REF!
Name AgencyName: #REF!
Name AgencyName: #REF!
Name AgencyName: #REF!
Name AgencyName: #REF!
Name AgencyName: #REF!
Name AgencyName: #REF!
Name AgencyName: #REF!
Name åû: #REF!
Name åû: #REF!
Name åû: #REF!
Name åû: #REF!
Name davit: #REF!
Name davit: #REF!
Name davit: #REF!
Name davit: #REF!
Name Functional1: #REF!
Name Functional1: #REF!
Name Functional1: #REF!
Name Functional1: #REF!
Name Functional1: #REF!
Name Functional1: #REF!
Name Functional1: #REF!
Name ggg: #REF!
Name ggg: #REF!
Name ggg: #REF!
Name ggg: #REF!
Name mas: #REF!
Name mas: #REF!
Name mas: #REF!
Name mas: #REF!
Name mass: #REF!
Name mass: #REF!
Name mass: #REF!
Name mass: #REF!
Name nax: #REF!
Name PANature: #REF!
Name PANature: #REF!
Name PANature: #REF!
Name PANature: #REF!
Name PANature: #REF!
Name PANature: #REF!
Name PANature: #REF!
Name PAType: #REF!
Name PAType: #REF!
Name PAType: #REF!
Name PAType: #REF!
Name PAType: #REF!
Name PAType: #REF!
Name PAType: #REF!
Name Performance2: #REF!
Name Performance2: #REF!

Sheet 1
G1: Հավելված N1
G2: ՀՀ կառավարության 2023 թվականի
G3: ______________ ի ___Ն որոշման
B5: «ՀԱՅԱUՏԱՆԻ ՀԱՆՐԱՊԵՏՈՒԹՅԱՆ 2023 ԹՎԱԿԱՆԻ ՊԵՏԱԿԱՆ ԲՅՈՒՋԵԻ ՄԱUԻՆ» OՐԵՆՔԻ N 1 ՀԱՎԵԼՎԱԾԻ N 2 ԱՂՅՈՒՍԱԿՈՒՄ ԿԱՏԱՐՎՈՂ ՎԵՐԱԲԱՇԽՈՒՄԸ ԵՎ ՀԱՅԱՍՏԱՆԻ ՀԱՆՐԱՊԵՏՈՒԹՅԱՆ ԿԱՌԱՎԱՐՈՒԹՅԱՆ 2022 ԹՎԱԿԱՆԻ ԴԵԿՏԵՄԲԵՐԻ 29-Ի N 2111-Ն ՈՐՈՇՄԱՆ N 5 ՀԱՎԵԼՎԱԾԻ N 1 ԱՂՅՈՒՍԱԿՈՒՄ ԿԱՏԱՐՎՈՂ ՓՈՓՈԽՈՒԹՅՈՒՆՆԵՐԸ
G6: հազ. դրամ
B7: Ծրագրային դասիչը | D7: Բյուջետային հատկացումների գլխավոր կարգադրիչների, ծրագրերի և միջոցառումների անվանումները | E7: Ցուցանիշների փոփոխությունը (ավելացումները նշված են դրական նշանով, իսկ նվազեցումները` փակագծերում)
B8: Ծրագիր | C8: Միջոցառում | E8: Առաջին կիսամյակ | F8: Ինն ամիս | G8: Տարի
B9: 1192 | D9: ԸՆԴԱՄԵՆԸ | E9: =+E11 -> 0 | F9: =+F11 -> 0 | G9: =+G11 -> -2.3283064e-10
D10: այդ թվում
C11: ՀՀ տարածքային կառավարման և ենթակառուցվածքների նախարարություն | E11: =E12+E31+E50+E70+E107+E126+E95 -> 0 | F11: =F12+F31+F50+F70+F107+F126+F95 -> 0 | G11: =G12+G31+G50+G70+G107+G126+G95 -> -2.3283064e-10
B12: 1004 | D12: Ծրագրի անվանումը` | E12: =E20+E26 -> -529099.4 | F12: =F20+F26 -> -529099.4 | G12: =G20+G26 -> 0
D13: Ոռոգման համակարգի առողջացում
D14: Ծրագրի նպատակը`
D15: Ոռոգման ծառայությունների հասանելիության և մատչելիության ապահովում
D16: Վերջնական արդյունքի նկարագրությունը`
D17: Ոռոգման ջրի մատակարարման արդյունավետության և հասանելիության բարելավում, կորուստների կրճատում
C18: Ծրագրի միջոցառումներ
C19: 11010 | D19: Միջոցառման անվանումը`
D20: Գերմանիայի զարգացման վարկերի բանկի աջակցությամբ իրականացվող Ախուրյան գետի ջրային ռեսուրսների ինտեգրացված կառավարում փուլ 1 ծրագրով Ջրաձոր գյուղի վերաբնակեցման գործողությունների խորհրդատվություն և կառավարում | E20: ='3'!G23 -> -150000 | F20: ='3'!H23 -> -150000 | G20: ='3'!I23 -> 0
D21: Միջոցառման նկարագրությունը`
D22: Գերմանիայի զարգացման վարկերի բանկի աջակցությամբ իրականացվող Ախուրյան գետի ջրային ռեսուրսների ինտեգրացված կառավարում փուլ 1 ծրագրով Ջրաձոր գյուղի վերաբնակեցման գործողությունների համակարգում և ղեկավարում
D23: Միջոցառման տեսակը
D24: Ծառայությունների մատուցում
C25: 31004 | D25: Միջոցառման անվանումը`
D26: Գերմանիայի զարգացման վարկերի բանկի աջակցությամբ իրականացվող Ախուրյան գետի ջրային ռեսուրսների ինտեգրված կառավարման ծրագրի շրջանակներում ջրային տնտեսության ենթակառուցվածքների հիմնանորոգում | E26: ='3'!G32 -> -379099.4 | F26: ='3'!H32 -> -379099.4 | G26: ='3'!I32 -> 0
D27: Միջոցառման նկարագրությունը`
D28: Գերմանիայի զարգացման վարկերի բանկի աջակցությամբ իրականացվող Ախուրյան գետի ջրային ռեսուրսների ինտեգրված կառավարման ծրագիր
D29: Միջոցառման տեսակը
D30: Պետական մարմինների կողմից օգտագործվող ոչ ֆինանսական ակտիվների հետ գործառնություններ
B31: 1019 | D31: Ծրագրի անվանումը` | E31: =E39+E45 -> -335671 | F31: =F39+F45 -> -485671 | G31: =G39+G45 -> -385671
D32: Սոցիալական ներդրումների և տեղական զարգացման ծրագիր
D33: Ծրագրի նպատակը`
D34: Նպաստել տարածքներում բնակչության նյութական և ոչ նյութական բարեկեցության աճին
D35: Վերջնական արդյունքի նկարագրությունը`
D36: Համայնքային և միջհամայնքային ենթակառուցվածքների և որակի հասանելիության բարելավում, ինստիտուցիոնալ և ֆինանասական կարողությունների հզորացում
C37: Ծրագրի միջոցառումներ
C38: 12001 | D38: Միջոցառման անվանումը`
D39: ='3'!F143 -> Համաշխարհային բանկի աջակցությամբ իրականացվող Տարածքային զարգացման հիմնադրամի ծրագրի շրջանակներում ՀՀ տարածքներում ջրագծերի, առողջապահության, կրթության, մշակույթի, հատուկ խնամքի և ենթակառուցվածքների ոլորտի վերականգնման և շինարարության աշխատանքներ | E39: ='3'!G143 -> -50000 | F39: ='3'!H143 -> 0 | G39: ='3'!I143 -> 0
D40: Միջոցառման նկարագրությունը`
D41: Տարածքային զարգացման հիմնադրամի ծրագրով նախատեսված ՀՀ տարածքներում ջրագծերի, առողջապահության, կրթության օբյեկտների, մշակույթային տների, ծերանոցների, մանկատների, հատուկ դպրոցների, մանկապարտեզների և կոյուղու օբյեկտների հիմնանորոգում և շինարարություն
D42: Միջոցառման տեսակը
D43: Տրանսֆերտների տրամադրում
C44: 12004 | D44: Միջոցառման անվանումը`
D45: Համաշխարհային բանկի աջակցությամբ իրականացվող Սոցիալական ներդրումների և տեղական զարգացման ծրագրի լրացուցիչ ֆինանսավորման վարկի շրջանակներում ՀՀ համայնքային և միջհամայնքային ենթակառուցվածքների որակի, օգտագործման և հասանելիության բարելավում: | E45: ='3'!G152 -> -285671 | F45: ='3'!H152 -> -485671 | G45: ='3'!I152 -> -385671
D46: Միջոցառման նկարագրությունը`
D47: Ջրագծերի, առողջապահության, կրթության օբյեկտների, մշակույթային տների, ծերանոցների, մանկատների, հատուկ դպրոցների, մանկապարտզների և կոյուղու օբյեկտնրի հիմն. և շինարարություն., գույքի և սարքավորումների տրամադրում շահառու ենթածրագրերի համար:
D48: Միջոցառման տեսակը
D49: Տրանսֆերտների տրամադրում
B50: 1040 | D50: Ծրագրի անվանումը` | E50: =E58+E64 -> -31281.4 | F50: =F58+F64 -> -103762 | G50: =G58+G64 -> 0
D51: Կոշտ թափոնների կառավարում
D52: Ծրագրի նպատակը`
D53: Կենցաղային թափոնների արդյունավետ կառավարում սոցիալական և բնապահպանական խնդիրների լուծում
D54: Վերջնական արդյունքի նկարագրությունը`
D55: Կենցաղային թափոնների արդյունավետ կառավարում
C56: Ծրագրի միջոցառումներ
C57: 12003 | D57: Միջոցառման անվանումը`
D58: ՀՀ տարածքում փակման ենթակա աղբավայրերի փակում և շահագործվող աղբավայրերի բարեկարգում | E58: ='3'!G173 -> -25000 | F58: ='3'!H173 -> -70000 | G58: ='3'!I173 -> 0
D59: Միջոցառման նկարագրությունը`
D60: Հանրապետության տարածքում առկա սանիտարահիգիենիկ և բնապահպանական պահանջներին չհամապատասխանող աղբանոցների փակում և շահագործման ենթակա աղբավայրերի բարեկարգում
D61: Միջոցառման տեսակը
D62: Տրանսֆերտների տրամադրում
C63: 32009 | D63: Միջոցառման անվանումը`
D64: Միջազգային կազմակերպությունների աջակցությամբ իրականացվող ՀՀ 8 մարզերում աղբահանության և կոշտ թափոնների ինտեգրված համակարգի կառուցում | E64: ='3'!G182 -> -6281.4 | F64: ='3'!H182 -> -33762 | G64: ='3'!I182 -> 0
D65: Միջոցառման նկարագրությունը`
D66: ՀՀ 8 մարզերում աղբահանության և կոշտ թափոնների ինտեգրված համակարգ (4 սանիտարական աղբավայր, 16 փոխբեռնման կայան)
D67: Միջոցառման տեսակը
D68: Այլ պետական կազմակերպությունների կողմից օգտագործվող ոչ ֆինանսական ակտիվների հետ գործառնություններ
B69: 1049 | D69: Ծրագրի անվանումը`
D70: Ճանապարհային ցանցի բարելավում | E70: =+E77+E83+E89 -> 2886470.5 | F70: =+F77+F83+F89 -> 2551628.1 | G70: =+G77+G83+G89 -> 1082469.2
D71: Ծրագրի նպատակը`
D72: Ճանապարհային ցանցի բարելավում և անվտանգ երթևեկության ապահովում
D73: Վերջնական արդյունքի նկարագրությունը`
D74: Ճանապարհների ծածկի որակի և փոխադրումների արդյունավետության բարելավում, ճանապարհների վիճակով պայմանավորված պատահարների նվազում
C75: Ծրագրի միջոցառումներ
C76: 21001 | D76: Միջոցառման անվանումը`
D77: Պետական նշանակության ավտոճանապարհների հիմնանորոգում | E77: ='3'!G51 -> 3160970.5 | F77: ='3'!H51 -> 2551628.1 | G77: ='3'!I51 -> 1082469.2
D78: Միջոցառման նկարագրությունը`
D79: Միջպետական, հանրապետական և մարզային նշանակության ավտոճոնապարհների քայքայված ծածկի վերանորոգում, մաշված ծածկի փոխարինում
D80: Միջոցառման տեսակը
D81: Հանրության կողմից անմիջականորեն օգտագործվող ակտիվների հետ կապված միջոցառումներ
C82: 21019 | D82: Միջոցառման անվանումը`
D83: Վթարային իրավիճակներում արտակարգ օպերատիվ ծառայությունների կանչի ավտոմատացված համակարգերի ներդրում | E83: ='3'!G87 -> -270000 | F83: ='3'!H87 -> 0 | G83: ='3'!I87 -> 0
D84: Միջոցառման նկարագրությունը`
D85: Վթարների դեպքում տրանսպորտային միջոցի վայրի տեղորոշում, արտակարգ օպերատիվ կանչի կենտրոնի ստեղծում, զանգերի ֆիլտրում և ուղղորդում, օպերատիվ ծառայությունների արագ արձագանքում
D86: Միջոցառման տեսակը
D87: Հանրության կողմից անմիջականորեն օգտագործվող ակտիվների հետ կապված միջոցառումներ
C88: 31002 | D88: Միջոցառման անվանումը`
D89: ='3'!F96 -> Տրանսպորտային միջոցների տեխնիկական զննության գործընթացի ավտոմատացված համակարգի ներդրում | E89: ='3'!G96 -> -4500 | F89: ='3'!H93 -> 0 | G89: ='3'!I93 -> 0
D90: Միջոցառման նկարագրությունը`
D91: Տրանսպորտային միջոցների տեխնիկական զննության գործընթացի ավտոմատացված համակարգի ներդրում
D92: Միջոցառման տեսակը
D93: Պետական մարմինների կողմից օգտագործվող ոչ ֆինանսական ակտիվների հետ գործառնություններ
B94: 1072 | D94: Ծրագրի անվանումը`
D95: Ջրամատակարարաման և ջրահեռացման բարելավում | E95: =+E102+E108+E114 -> -1001610.3 | F95: =+F102+F108+F114 -> -494287.3 | G95: =+G102+G108+G114 -> 0
D96: Ծրագրի նպատակը`
D97: Ջրամատակարարման ծառայությունների հասանելիության և մատչելիության ապահովում
D98: Վերջնական արդյունքի նկարագրությունը`
D99: Խմելու ջրի մատակարարման և ջրահեռացման համակարգի բարելավում, կորուստների կրճատում
C100: Ծրագրի միջոցառումներ
C101: 31010 | D101: Միջոցառման անվանումը`
...

Sheet 2
H1: Հավելված N 2
H2: ՀՀ կառավարության 2023 թվականի
H3: ______________ ի ___Ն որոշման
A4: «ՀԱՅԱՍՏԱՆԻ ՀԱՆՐԱՊԵՏՈՒԹՅԱՆ 2023 ԹՎԱԿԱՆԻ ՊԵՏԱԿԱՆ ԲՅՈՒՋԵԻ ՄԱՍԻՆ» ՕՐԵՆՔԻ N 1 ՀԱՎԵԼՎԱԾԻ N 3 ԱՂՅՈՒՍԱԿՈՒՄ ԿԱՏԱՐՎՈՂ ՓՈՓՈԽՈՒԹՅՈՒՆՆԵՐԸ ԵՎ ԼՐԱՑՈՒՄՆԵՐԸ
G5: հազ. դրամ
A6: Ծրագրային դասիչ | C6: Բյուջետային գլխավոր կարգադրիչների, ծրագրերի, միջոցառումների և ուղղությունների անվանումները | D6: Ցուցանիշների փոփոխությունը (Ավելացումները նշված են դրական նշանով, իսկ նվազեցումները` փակագծերում)
D7: Ընդամենը, | E7: այդ թվում՝
A8: Ծրագիր | B8: Միջոցառում | E8: Կառուցման աշխատանքներ | F8: Վերակառուցման, վերանորոգման և վերականգնման աշխատանքներ | G8: Նախագծահե- տազոտական, գեոդեզիա- քարտեզագրա- կան աշխա- տանքներ | H8: Ոչ ֆինանսական այլ ակտիվների ձեռքբերում
C9: ԸՆԴԱՄԵՆԸ | D9: =+E9+F9+G9+H9 -> 1082469.2 | E9: =+E11 -> 0 | F9: =+F11 -> 1071429.2 | G9: =+G11 -> 11040 | H9: =+H11 -> 0
C10: այդ թվում՝
C11: ՀՀ ՏԱՐԱԾՔԱՅԻՆ ԿԱՌԱՎԱՐՄԱՆ ԵՎ ԵՆԹԱԿԱՌՈՒՑՎԱԾՔՆԵՐԻ ՆԱԽԱՐԱՐՈՒԹՅՈՒՆ | D11: =+E11+F11+G11+H11 -> 1082469.2 | E11: =+E14+E30 -> 0 | F11: =+F14+F30+F13+F29 -> 1071429.2 | G11: =+G14+G30+G13+G29 -> 11040 | H11: =+H14+H30+H13+H29 -> 0
C12: այդ թվում`
A13: 1049 | B13: 21001 | C13: Պետական նշանակության ավտոճանապարհների հիմնանորոգում | D13: =+E13+F13+G13+H13 -> -2950703 | E13: 0 | F13: ='4'!G19 -> -2950703 | G13: 0 | H13: 0
A14: 1049 | B14: 21001 | C14: Պետական նշանակության ավտոճանապարհների հիմնանորոգում | D14: =+E14+F14+G14+H14 -> 4033172.2 | E14: =E16+E22+E26 -> 0 | F14: =F16+F22+F26 -> 4033172.2 | G14: =G16+G22+G26 -> 0 | H14: 0
C15: ='4'!D21 -> այդ թվում՝ ըստ ուղղությունների
B16: =+'[1]3'!B17 -> 1 | C16: ='4'!D22 -> Միջպետական նշանակության ավտոճանապարհներ, այդ թվում | D16: =+E16+F16+G16+H16 -> 2225377.1 | E16: =SUM(E17:E21) -> 0 | F16: =SUM(F17:F21) -> 2225377.1 | G16: =SUM(G17:G21) -> 0 | H16: =SUM(H17:H21) -> 0
C17: ='4'!D26 -> Մ-2, Երևան-Երասխ-Գորիս-Մեղրի-Իրանի սահման միջպետական նշանակության ավտոճանապարհի կմ150+700 - կմ167+600 հատվածի հիմնանորոգում | D17: =+E17+F17+G17+H17 -> 146937.7 | E17: 0 | F17: ='4'!G26 -> 146937.7 | G17: 0 | H17: 0
C18: ='4'!D27 -> Մ-3, Թուրքիայի սահման-Մարգարա-Վանաձոր-Տաշիր-Վրաստանի սահման միջպետական նշանակության ավտոճանապարհի կմ97+020-կմ104+700 հատվածի հիմնանորոգում | D18: =+E18+F18+G18+H18 -> 264627.6 | E18: 0 | F18: ='4'!G27 -> 264627.6 | G18: 0 | H18: 0
C19: ='4'!D28 -> Մ-6, Վանաձոր – Ալավերդի – Վրաստանի սահման միջպետական նշանակության ավտոճանապարհի ՊԿ384+50 - ՊԿ481+40 /ՊԿ467+50 – ՊԿ473+61/ տեղամասի (Օձունի խաչմերուկի /Մ6 և Հ35/ ավտոճանապարհների փոխհատում) վերականգնում և բարելավում | D19: =+E19+F19+G19+H19 -> 758115.2 | E19: 0 | F19: ='4'!G28 -> 758115.2 | G19: 0 | H19: 0
C20: ='4'!D29 -> Մ-13, /Մ-2/ - Անգեղակոթ - Նախիջևանի սահման միջպետական նշանակության ավտոճանապարհի կմ0+000-կմ8+000 հատվածի հիմնանորոգում | D20: =+E20+F20+G20+H20 -> 106082 | E20: 0 | F20: ='4'!G29 -> 106082 | G20: 0 | H20: 0
C21: ='4'!D30 -> Մ-16, /Մ-4/ - Ոսկեպար - Նոյեմբերյան - /Մ-6/ միջպետական նշանակության ավտոճանապարհի կմ0+070-կմ7+000 հատվածի հիմնանորոգում | D21: =+E21+F21+G21+H21 -> 949614.6 | E21: 0 | F21: ='4'!G30 -> 949614.6 | G21: 0 | H21: 0
B22: =+'[1]3'!B29 -> 2 | C22: ='4'!D31 -> Հանրապետական նշանակության ավտոճանապարհներ, այդ թվում | D22: =+E22+F22+G22+H22 -> 922001.2 | E22: =SUM(E23:E25) -> 0 | F22: =SUM(F23:F25) -> 922001.2 | G22: =SUM(G23:G25) -> 0 | H22: =SUM(H23:H25) -> 0
C23: ='4'!D32 -> Հ-2, /Հ-1/ Աբովյան- Արզնի-/Հ-6/ (Նոր Գեղի) հանրապետական նշանակության ավտոճանապարհի կմ0+000-կմ1+400 հատվածի հիմնանորոգում | D23: =+E23+F23+G23+H23 -> 95570.7 | E23: 0 | F23: ='4'!G32 -> 95570.7 | G23: 0 | H23: 0
C24: ='4'!D33 -> Հ-5, /Հ-6/-Նոր Գեղի-Արգել-Արզական-Հրազդան հանրապետական նշանակության ավտոճանապարհի կմ0+000 - կմ10+000 հատվածի հիմնանորոգում | D24: =+E24+F24+G24+H24 -> 776808.9 | E24: 0 | F24: ='4'!G33 -> 776808.9 | G24: 0 | H24: 0
C25: ='4'!D35 -> Հ-21, /Հ-75/ - Հոռոմ-Արթիկ-Ալագյազ հանրապետական նշանակության ավտոճանապարհի կմ19+000 - կմ23+900 հատվածի հիմնանորոգում | D25: =+E25+F25+G25+H25 -> 49621.6 | E25: 0 | F25: ='4'!G35 -> 49621.6 | G25: 0 | H25: 0
B26: =+'[1]3'!B38 -> 3 | C26: ='4'!D36 -> Մարզային նշանակության ավտոճանապարհներ, այդ թվում | D26: =+E26+F26+G26+H26 -> 885793.9 | E26: =SUM(E27:E28) -> 0 | F26: =SUM(F27:F28) -> 885793.9 | G26: =SUM(G27:G28) -> 0 | H26: =SUM(H27:H28) -> 0
C27: ='4'!D40 -> Վանաձոր քաղաքային համայնքի Կ. Դեմիրճյան փողոցի հիմնանորոգում | D27: =+E27+F27+G27+H27 -> 847258.3 | E27: 0 | F27: ='4'!G40 -> 847258.3 | G27: 0 | H27: 0
C28: ='4'!D41 -> ՀՀ Գեղարքունիքի մարզի Մարտունի համայնքի Մյասնիկյան փողոցի մայթերի կառուցում | D28: =+E28+F28+G28+H28 -> 38535.6 | E28: 0 | F28: ='4'!G41 -> 38535.6 | G28: 0 | H28: 0
A29: 1049 | B29: 21002 | C29: Տրանսպորտային օբյեկտների հիմնանորոգում | D29: =+E29+F29+G29+H29 -> -261269.6 | E29: =-E30 -> 0 | F29: ='4'!G49 -> -261269.6 | G29: 0 | H29: =-H30 -> 0
A30: 1049 | B30: 21002 | C30: Տրանսպորտային օբյեկտների հիմնանորոգում | D30: =+E30+F30+G30+H30 -> 261269.6 | E30: =SUM(E32:E35) -> 0 | F30: =SUM(F32:F35) -> 250229.6 | G30: =SUM(G32:G35) -> 11040 | H30: =SUM(H32:H35) -> 0
C31: ='4'!D51 -> այդ թվում՝ ըստ ուղղությունների
C32: ='4'!D52 -> Մ-4, Երևան - Սևան - Իջևան - Ադրբեջանի սահման կմ104+300 հատվածում գտնվող կամուրջի վերանորոգում | D32: =+E32+F32+G32+H32 -> 250229.6 | E32: 0 | F32: ='4'!G52 -> 250229.6 | G32: 0 | H32: 0
C33: ='4'!D53 -> Մ-4, Երևան - Սևան - Իջևան – Ադրբեջանի Հանրապետության սահման միջպետական նշանակության ավտոճանապարհի կմ19+800-ում գտնվող կամրջի հիմնանորոգում | D33: =+E33+F33+G33+H33 -> 2412 | E33: 0 | F33: 0 | G33: ='4'!G53 -> 2412 | H33: 0
C34: ='4'!D54 -> Մ-10, Սևան-Մարտունի-Գետափ-/Մ-2/ միջպետական նշանակության ավտոճանապարհի կմ61+380-ում գտնվող կամրջի հիմնանորոգում | D34: =+E34+F34+G34+H34 -> 4992 | E34: 0 | F34: 0 | G34: ='4'!G54 -> 4992 | H34: 0
C35: ='4'!D55 -> Մ-10, Սևան-Մարտունի-Գետափ միջպետական նշանակության ավտոճանապարհի կմ117+042-ում գտնվող կամրջի հիմնանորոգում | D35: =+E35+F35+G35+H35 -> 3636 | E35: 0 | F35: 0 | G35: ='4'!G55 -> 3636 | H35: 0
A36: 1072 | B36: 31010 | C36: ='4'!D62 -> Ջրամատակարարման և ջրահեռացման համակարգերի հիմնանորոգում | D36: =+E36+F36+G36+H36 -> 1.4551915e-11 | E36: =E38 -> 66510.7 | F36: =F38 -> -66510.7 | G36: =SUM(G37:G57) -> 0 | H36: =SUM(H37:H57) -> 0
C37: ='4'!D63 -> այդ թվում` ըստ կատարողների
C38: ='4'!D64 -> ՀՀ տարածքային կառավարման և ենթակառուցվածքների նախարարության ջրային կոմիտե | D38: =+E38+F38+G38+H38 -> 1.4551915e-11 | E38: =SUM(E39:E57) -> 66510.7 | F38: =SUM(F39:F57) -> -66510.7 | G38: =SUM(G39:G41) -> 0 | H38: 0
C39: ='4'!D65 -> այդ թվում՝ ըստ ուղղությունների | G39: ='4'!G65 -> 0 | H39: 0
C40: ='4'!D66 -> ՀՀ Գեղարքունիքի մարզի Ներքին Գետաշեն բնակավայրի ջրամատակարարման համակարգի վերակառուցում | D40: =+E40+F40+G40+H40 -> 50000 | F40: ='4'!G66 -> 50000
C41: ='4'!D68 -> ՀՀ Արարատի մարզի Արբաթ համայնքի խմելու ջրամատակարարման համակարգի վերակառուցում | D41: =+E41+F41+G41+H41 -> -7083.7 | F41: ='4'!G68 -> -7083.7
C42: ='4'!D69 -> ՀՀ Արարատի մարզի Խաչփար համայնքի ջրամատակարարման համակարգի վերակառուցում | D42: =+E42+F42+G42+H42 -> 14158 | F42: ='4'!G69 -> 14158
C43: ='4'!D70 -> ՀՀ Գեղարքունիքի մարզի Վահան բնակավայրի ջրամատակարարման համակարգի վերակառուցում | D43: =+E43+F43+G43+H43 -> 13554.6 | F43: ='4'!G70 -> 13554.6
C44: ='4'!D73 -> ՀՀ Արարատի մարզի Դվին համայնքի ջրամատակարարման ցանցի վերակառուցում | D44: =+E44+F44+G44+H44 -> 8008.3 | F44: ='4'!G73 -> 8008.3
C45: ='4'!D76 -> ՀՀ Արարատի մարզի Արտաշատ համայնքի (վեց փողոցների՝ Մյասնիկայն Աթարբեկյան և նրբանցք, Մարքսի և նրբանցք, Շահումյան) խմելու ջրամատակարարման համակարգի վերակառուցում | D45: =+E45+F45+G45+H45 -> 12000 | F45: ='4'!G76 -> 12000
C46: ='4'!D77 -> ՀՀ Արարատի մարզի Փոքր Վեդի համայնքի ջրամատակարարման համակարգի վերակառուցում | D46: =+E46+F46+G46+H46 -> 4682.1 | F46: ='4'!G77 -> 4682.1
C47: ='4'!D78 -> ՀՀ Արարատի մարզի Ղուկասավան համայնքի խմելու ջրամատակարարման համակարգի վերակառուցում | D47: =+E47+F47+G47+H47 -> 7.2 | F47: ='4'!G78 -> 7.2
C48: ='4'!D79 -> ՀՀ Արարատի մարզի Ոստան համայնքի ջրամատակարարման համակարգի վերակառուցում | D48: =+E48+F48+G48+H48 -> 5350 | F48: ='4'!G79 -> 5350
C49: ='4'!D80 -> ՀՀ Գեղարքունիքի մարզի Վարսեր բնակավայրի ջրամատակարարման համակարգի վերակառուցում | D49: =+E49+F49+G49+H49 -> 10311.3 | F49: ='4'!G80 -> 10311.3
C50: ='4'!D81 -> ՀՀ Սյունիքի մարզի Մեղրի քաղաքի ջրի մաքրման կայանի ապամոնտաժում, նորի կառուցում | D50: =+E50+F50+G50+H50 -> 38589.7 | E50: ='4'!G81 -> 38589.7
C51: ='4'!D82 -> ՀՀ Սյունիքի մարզի Ագարակ քաղաքի գոյություն ունեցող ջրի մաքրման կայանի հիմնանորոգում, լրացուցիչ նոր կայանի կառուցում | D51: =+E51+F51+G51+H51 -> 27921 | E51: ='4'!G82 -> 27921
C52: ='4'!D83 -> ՀՀ Արարատի մարզի Մասիս քաղաքի ջրամատակարարման համակարգի վերակառուցում | D52: =+E52+F52+G52+H52 -> 15753 | F52: ='4'!G83 -> 15753
C53: ='4'!D85 -> ՀՀ Արարատի մարզի Սիսավան համայնքի խմելու ջրամատակարարման համակարգի վերակառուցում | D53: =+E53+F53+G53+H53 -> -6857.1 | F53: ='4'!G85 -> -6857.1
C54: ='4'!D88 -> ՀՀ Արարատի մարզի Ազատավան համայնքի ջրամատակարարման համակարգի վերակառուցում | D54: =+E54+F54+G54+H54 -> -59365.1 | F54: ='4'!G88 -> -59365.1
C55: ='4'!D89 -> ՀՀ Արարատի մարզի Վերին Արտաշատ համայնքի խմելու ջրամատակարարման համակարգի վերակառուցում | D55: =+E55+F55+G55+H55 -> -38780.6 | F55: ='4'!G89 -> -38780.6
C56: ='4'!D90 -> ՀՀ Արարատի մարզի Նոր Ուղի համայնքի խմելու ջրամատակարարման համակարգի վերակառուցում | D56: =+E56+F56+G56+H56 -> -48104 | F56: ='4'!G90 -> -48104
C57: ='4'!D91 -> ՀՀ Արարատի մարզի Վ. Դվին համայնքի ջրամատակարարման համակարգի վերակառուցում | D57: =+E57+F57+G57+H57 -> -40144.7 | F57: ='4'!G91 -> -40144.7
C61: ՀԱՅԱՍՏԱՆԻ ՀԱՆՐԱՊԵՏՈՒԹՅԱՆ ՎԱՐՉԱՊԵՏԻ ԱՇԽԱՏԱԿԱԶՄԻ ՂԵԿԱՎԱՐ՝ | F61: Ա.ՀԱՐՈՒԹՅՈՒՆՅԱՆ

Sheet 3
I1: Հավելված N 3
I2: ՀՀ կառավարության 2023 թվականի
I3: ______________ ի ___Ն որոշման
A5: ՀԱՅԱՍՏԱՆԻ ՀԱՆՐԱՊԵՏՈՒԹՅԱՆ ԿԱՌԱՎԱՐՈՒԹՅԱՆ 2022 ԹՎԱԿԱՆԻ ԴԵԿՏԵՄԲԵՐԻ 29-Ի N 2111-Ն ՈՐՈՇՄԱՆ N 3 ԵՎ N 4 ՀԱՎԵԼՎԱԾՆԵՐՈՒՄ ԿԱՏԱՐՎՈՂ ՓՈՓՈԽՈՒԹՅՈՒՆՆԵՐԸ ԵՎ ԼՐԱՑՈՒՄՆԵՐԸ
I7: հազար դրամներով
A8: Գործառական դասիչը | D8: Ծրագրային դասիչը | F8: Բյուջետային հատկացումների գլխավոր կարգադրիչների, ծրագրերի, միջոցառումների և միջոցառումները կատարող պետական մարմինների անվանումները | G8: Ցուցանիշների փոփոխությունը (ավելացումները նշված են դրական նշանով, իսկ նվազեցումները` փակագծերում)
A9: Բաժին | B9: Խումբ | C9: Դաս | D9: Ծրագիր | E9: Միջոցառում | G9: Առաջին կիսամյակ | H9: Ինն ամիս | I9: Տարի
F10: ԸՆԴԱՄԵՆԸ | G10: =+G12 -> 0 | H10: =+H12 -> 0 | I10: =+I12 -> -2.3283064e-10
F11: այդ թվում
F12: ՀՀ տարածքային կառավարման և ենթակառուցվածքների նախարարություն | G12: =+G13+G133+G163+G41+G105+G211+G191 -> 0 | H12: =+H13+H133+H163+H41+H105+H211+H191 -> 0 | I12: =+I13+I133+I163+I41+I105+I211+I191 -> -2.3283064e-10
A13: 04 | F13: ՏՆՏԵՍԱԿԱՆ ՀԱՐԱԲԵՐՈՒԹՅՈՒՆՆԵՐ | G13: =G15 -> -529099.4 | H13: =H15 -> -529099.4 | I13: =I15 -> 0
F14: այդ թվում`
B15: 02 | F15: Գյուղատնտեսություն, անտառային տնտեսություն, ձկնորսություն և որսորդություն | G15: =G17 -> -529099.4 | H15: =H17 -> -529099.4 | I15: =I17 -> 0
F16: այդ թվում`
C17: 04 | F17: Ոռոգում | G17: =+G19 -> -529099.4 | H17: =+H19 -> -529099.4 | I17: =+I19 -> 0
F18: այդ թվում`
F19: ՀՀ տարածքային կառավարման և ենթակառուցվածքների նախարարություն | G19: =+G21 -> -529099.4 | H19: =+H21 -> -529099.4 | I19: =+I21 -> 0
F20: այդ թվում`
D21: 1004 | F21: Ոռոգման համակարգի առողջացում | G21: =G23+G32 -> -529099.4 | H21: =H23+H32 -> -529099.4 | I21: =I23+I32 -> 0
F22: այդ թվում`
E23: 11010 | F23: Գերմանիայի զարգացման վարկերի բանկի աջակցությամբ իրականացվող Ախուրյան գետի ջրային ռեսուրսների ինտեգրացված կառավարում փուլ 1 ծրագրով Ջրաձոր գյուղի վերաբնակեցման գործողությունների խորհրդատվություն և կառավարում | G23: =G25 -> -150000 | H23: =H25 -> -150000 | I23: =I182+I25 -> 0
F24: այդ թվում` ըստ կատարողների
F25: ՀՀ տարածքային կառավարման և ենթակառուցվածքների նախարարության ջրային կոմիտե | G25: =G27 -> -150000 | H25: =H27 -> -150000 | I25: =I27 -> 0
F26: այդ թվում` բյուջետային ծախսերի տնտեսագիտական դասակարգման հոդվածներ
F27: ԸՆԴԱՄԵՆԸ ԾԱԽՍԵՐ | G27: =+G29 -> -150000 | H27: =+H29 -> -150000 | I27: =+I29 -> 0
F28: ԸՆԹԱՑԻԿ ԾԱԽՍԵՐ | G28: =G29 -> -150000 | H28: =H29 -> -150000 | I28: =I29 -> 0
F29: ԴՐԱՄԱՇՆՈՐՀՆԵՐ | G29: =G30 -> -150000 | H29: =H30 -> -150000 | I29: =I30 -> 0
F30: Ընթացիկ դրամաշնորհներ պետական հատվածի այլ մակարդակներին | G30: =G31 -> -150000 | H30: =H31 -> -150000 | I30: =I31 -> 0
F31: - Այլ ընթացիկ դրամաշնորհներ | G31: -150000 | H31: -150000 | I31: 0
E32: 31004 | F32: Գերմանիայի զարգացման վարկերի բանկի աջակցությամբ իրականացվող Ախուրյան գետի ջրային ռեսուրսների ինտեգրված կառավարման ծրագրի շրջանակներում ջրային տնտեսության ենթակառուցվածքների հիմնանորոգում | G32: =G34 -> -379099.4 | H32: =H34 -> -379099.4 | I32: =I34 -> 0
F33: այդ թվում` ըստ կատարողների
F34: ՀՀ տարածքային կառավարման և ենթակառուցվածքների նախարարության ջրային կոմիտե | G34: =G36 -> -379099.4 | H34: =H36 -> -379099.4 | I34: =I36 -> 0
F35: այդ թվում` բյուջետային ծախսերի տնտեսագիտական դասակարգման հոդվածներ
F36: ԸՆԴԱՄԵՆԸ ԾԱԽՍԵՐ | G36: =+G37 -> -379099.4 | H36: =+H37 -> -379099.4 | I36: =+I37 -> 0
F37: ՈՉ ՖԻՆԱՆՍԱԿԱՆ ԱԿՏԻՎՆԵՐԻ ԳԾՈՎ ԾԱԽՍԵՐ | G37: =G38 -> -379099.4 | H37: =H38 -> -379099.4 | I37: =I38 -> 0
F38: ՀԻՄՆԱԿԱՆ ՄԻՋՈՑՆԵՐ | G38: =G39 -> -379099.4 | H38: =H39 -> -379099.4 | I38: =I39 -> 0
F39: ՇԵՆՔԵՐ ԵՎ ՇԻՆՈՒԹՅՈՒՆՆԵՐ | G39: =G40 -> -379099.4 | H39: =H40 -> -379099.4 | I39: =I40 -> 0
F40: - Շենքերի և շինությունների շինարարություն | G40: -379099.4 | H40: -379099.4 | I40: 0
A41: 04 | F41: ՏՆՏԵՍԱԿԱՆ ՀԱՐԱԲԵՐՈՒԹՅՈՒՆՆԵՐ | G41: =G43 -> 2886470.5 | H41: =H43 -> 2551628.1 | I41: =I43 -> 1082469.2
F42: այդ թվում`
B43: 05 | F43: Տրանսպորտ | G43: =G45 -> 2886470.5 | H43: =H45 -> 2551628.1 | I43: =I45 -> 1082469.2
F44: այդ թվում`
C45: 01 | F45: Ճանապարհային տրանսպորտ | G45: =+G47 -> 2886470.5 | H45: =+H47 -> 2551628.1 | I45: =+I47 -> 1082469.2
F46: այդ թվում`
F47: ՀՀ տարածքային կառավարման և ենթակառուցվածքների նախարարություն | G47: =+G49 -> 2886470.5 | H47: =+H49 -> 2551628.1 | I47: =+I49 -> 1082469.2
F48: այդ թվում`
D49: 1049 | F49: Ճանապարհային ցանցի բարելավում | G49: =G51+G67+G85+G96 -> 2886470.5 | H49: =H51+H67+H85+H96 -> 2551628.1 | I49: =I51+I67+I85+I96 -> 1082469.2
F50: այդ թվում`
E51: 21001 | F51: Պետական նշանակության ավտոճանապարհների հիմնանորոգում | G51: =G60+G53 -> 3160970.5 | H51: =H60+H53 -> 2551628.1 | I51: =I60+I53 -> 1082469.2
F52: այդ թվում` ըստ կատարողների
F53: ՀՀ կառավարություն | G53: =G55 -> 0 | H53: =H55 -> 0 | I53: =I55 -> -2950703
F54: այդ թվում` բյուջետային ծախսերի տնտեսագիտական դասակարգման հոդվածներ
F55: ԸՆԴԱՄԵՆԸ ԾԱԽՍԵՐ | G55: =+G56 -> 0 | H55: =+H56 -> 0 | I55: =+I56 -> -2950703
F56: ՈՉ ՖԻՆԱՆՍԱԿԱՆ ԱԿՏԻՎՆԵՐԻ ԳԾՈՎ ԾԱԽՍԵՐ | G56: =G57 -> 0 | H56: =H57 -> 0 | I56: =I57 -> -2950703
F57: ՀԻՄՆԱԿԱՆ ՄԻՋՈՑՆԵՐ | G57: =G58 -> 0 | H57: =H58 -> 0 | I57: =I58 -> -2950703
F58: ՇԵՆՔԵՐ ԵՎ ՇԻՆՈՒԹՅՈՒՆՆԵՐ | G58: =G59 -> 0 | H58: =H59 -> 0 | I58: =I59 -> -2950703
F59: - Շենքերի և շինությունների կապիտալ վերանորոգում | G59: 0 | H59: 0 | I59: -2950703
F60: ՀՀ տարածքային կառավարման և ենթակառուցվածքների նախարարություն | G60: =G62 -> 3160970.5 | H60: =H62 -> 2551628.1 | I60: =I62 -> 4033172.2
F61: այդ թվում`բյուջետային ծախսերի տնտեսագիտական դասակարգման հոդվածներ
F62: ԸՆԴԱՄԵՆԸ ԾԱԽՍԵՐ | G62: =+G63 -> 3160970.5 | H62: =+H63 -> 2551628.1 | I62: =+I63 -> 4033172.2
F63: ՈՉ ՖԻՆԱՆՍԱԿԱՆ ԱԿՏԻՎՆԵՐԻ ԳԾՈՎ ԾԱԽՍԵՐ | G63: =G64 -> 3160970.5 | H63: =H64 -> 2551628.1 | I63: =I64 -> 4033172.2
F64: ՀԻՄՆԱԿԱՆ ՄԻՋՈՑՆԵՐ | G64: =+G65 -> 3160970.5 | H64: =+H65 -> 2551628.1 | I64: =+I65 -> 4033172.2
F65: ՇԵՆՔԵՐ ԵՎ ՇԻՆՈՒԹՅՈՒՆՆԵՐ | G65: =+G66 -> 3160970.5 | H65: =+H66 -> 2551628.1 | I65: =+I66 -> 4033172.2
F66: - Շենքերի և շինությունների կապիտալ վերանորոգում | G66: ='4'!E20 -> 3160970.5 | H66: ='4'!F20 -> 2551628.1 | I66: ='4'!G20 -> 4033172.2
E67: 21002 | F67: Տրանսպորտային օբյեկտների հիմնանորոգում | G67: =G76+G69 -> 0 | H67: =H76+H69 -> 0 | I67: =I76+I69 -> 0
F68: այդ թվում` ըստ կատարողների
F69: ՀՀ կառավարություն | G69: =G71 -> 0 | H69: =H71 -> -136154.8 | I69: =I71 -> -261269.6
F70: այդ թվում` բյուջետային ծախսերի տնտեսագիտական դասակարգման հոդվածներ
F71: ԸՆԴԱՄԵՆԸ ԾԱԽՍԵՐ | G71: =+G72 -> 0 | H71: =+H72 -> -136154.8 | I71: =+I72 -> -261269.6
F72: ՈՉ ՖԻՆԱՆՍԱԿԱՆ ԱԿՏԻՎՆԵՐԻ ԳԾՈՎ ԾԱԽՍԵՐ | G72: =G73 -> 0 | H72: =H73 -> -136154.8 | I72: =I73 -> -261269.6
F73: ՀԻՄՆԱԿԱՆ ՄԻՋՈՑՆԵՐ | G73: =G74 -> 0 | H73: =H74 -> -136154.8 | I73: =I74 -> -261269.6
F74: ՇԵՆՔԵՐ ԵՎ ՇԻՆՈՒԹՅՈՒՆՆԵՐ | G74: =G75 -> 0 | H74: =H75 -> -136154.8 | I74: =I75 -> -261269.6
F75: - Շենքերի և շինությունների կապիտալ վերանորոգում | G75: ='4'!E49 -> 0 | H75: ='4'!F49 -> -136154.8 | I75: ='4'!G49 -> -261269.6
F76: ՀՀ տարածքային կառավարման և ենթակառուցվածքների նախարարություն | G76: =G78 -> 0 | H76: =H78 -> 136154.8 | I76: =I78 -> 261269.6
F77: այդ թվում`բյուջետային ծախսերի տնտեսագիտական դասակարգման հոդվածներ
F78: ԸՆԴԱՄԵՆԸ ԾԱԽՍԵՐ | G78: =+G79 -> 0 | H78: =+H79 -> 136154.8 | I78: =+I79 -> 261269.6
F79: ՈՉ ՖԻՆԱՆՍԱԿԱՆ ԱԿՏԻՎՆԵՐԻ ԳԾՈՎ ԾԱԽՍԵՐ | G79: =G80 -> 0 | H79: =H80 -> 136154.8 | I79: =I80 -> 261269.6
F80: ՀԻՄՆԱԿԱՆ ՄԻՋՈՑՆԵՐ | G80: =+G81+G83 -> 0 | H80: =+H81+H83 -> 136154.8 | I80: =+I81+I83 -> 261269.6
F81: ՇԵՆՔԵՐ ԵՎ ՇԻՆՈՒԹՅՈՒՆՆԵՐ | G81: =G82 -> 0 | H81: =H82 -> 125114.8 | I81: =I82 -> 250229.6
F82: - Շենքերի և շինությունների կապիտալ վերանորոգում | G82: 0 | H82: 125114.8 | I82: 250229.6
F83: ԱՅԼ ՀԻՄՆԱԿԱՆ ՄԻՋՈՑՆԵՐ | G83: =+G84 -> 0 | H83: =+H84 -> 11040 | I83: =+I84 -> 11040
F84: Նախագծահետազոտական ծախսեր | G84: 0 | H84: 11040 | I84: 11040
E85: 21019 | F85: Վթարային իրավիճակներում արտակարգ օպերատիվ ծառայությունների կանչի ավտոմատացված համակարգերի ներդրում | G85: =G87 -> -270000 | H85: =H87 -> 0 | I85: =I87 -> 0
F86: այդ թվում` ըստ կատարողների
F87: ՀՀ տարածքային կառավարման և ենթակառուցվածքների նախարարություն | G87: =G89 -> -270000 | H87: =H89 -> 0 | I87: =I89 -> 0
F88: այդ թվում` բյուջետային ծախսերի տնտեսագիտական դասակարգման հոդվածներ
F89: ԸՆԴԱՄԵՆԸ ԾԱԽՍԵՐ | G89: =+G90 -> -270000 | H89: =+H90 -> 0 | I89: =+I90 -> 0
F90: ՈՉ ՖԻՆԱՆՍԱԿԱՆ ԱԿՏԻՎՆԵՐԻ ԳԾՈՎ ԾԱԽՍԵՐ | G90: =G91 -> -270000 | H90: =H91 -> 0 | I90: =I91 -> 0
F91: ՀԻՄՆԱԿԱՆ ՄԻՋՈՑՆԵՐ | G91: =G92+G94 -> -270000 | H91: =H92+H94 -> 0 | I91: =I92+I94 -> 0
F92: ՄԵՔԵՆԱՆԵՐ ԵՎ ՍԱՐՔԱՎՈՐՈՒՄՆԵՐ | G92: =G93 -> -135000 | H92: =H93 -> 0 | I92: =I93 -> 0
F93: - Այլ մեքենաներ և սարքավորումներ | G93: -135000 | H93: 0 | I93: 0
F94: ԱՅԼ ՀԻՄՆԱԿԱՆ ՄԻՋՈՑՆԵՐ | G94: =G95 -> -135000 | H94: =H95 -> 0 | I94: =I95 -> 0
F95: - Ոչ նյութական հիմնական միջոցներ | G95: -135000 | H95: 0 | I95: 0
E96: 31002 | F96: Տրանսպորտային միջոցների տեխնիկական զննության գործընթացի ավտոմատացված համակարգի ներդրում | G96: =G98 -> -4500 | H96: =H98 -> 0 | I96: =I98 -> 0
F97: այդ թվում` ըստ կատարողների
F98: ՀՀ տարածքային կառավարման և ենթակառուցվածքների նախարարություն | G98: =G100 -> -4500 | H98: =H100 -> 0 | I98: =I100 -> 0
F99: այդ թվում` բյուջետային ծախսերի տնտեսագիտական դասակարգման հոդվածներ
F100: ԸՆԴԱՄԵՆԸ ԾԱԽՍԵՐ | G100: =+G101 -> -4500 | H100: =+H101 -> 0 | I100: =+I101 -> 0
F101: ՈՉ ՖԻՆԱՆՍԱԿԱՆ ԱԿՏԻՎՆԵՐԻ ԳԾՈՎ ԾԱԽՍԵՐ | G101: =G102 -> -4500 | H101: =H102 -> 0 | I101: =I102 -> 0
F102: ՀԻՄՆԱԿԱՆ ՄԻՋՈՑՆԵՐ | G102: =G103 -> -4500 | H102: =H103 -> 0 | I102: =I103 -> 0
...

Sheet 4
G1: Հավելված N4
G2: ՀՀ կառավարության 2023 թվականի
G3: ______________ ի ___Ն որոշման
A5: ՀԱՅԱՍՏԱՆԻ ՀԱՆՐԱՊԵՏՈՒԹՅԱՆ ԿԱՌԱՎԱՐՈՒԹՅԱՆ 2022 ԹՎԱԿԱՆԻ ԴԵԿՏԵՄԲԵՐԻ 29-Ի N 2111-Ն ՈՐՈՇՄԱՆ N 5 ՀԱՎԵԼՎԱԾԻ N 2 ԱՂՅՈՒՍԱԿՈՒՄ ԿԱՏԱՐՎՈՂ ՓՈՓՈԽՈՒԹՅՈՒՆՆԵՐԸ ԵՎ ԼՐԱՑՈՒՄՆԵՐԸ
G7: հազար դրամներով
B8: Ծրագրային դասիչը | D8: Հատկացումների տրամադրման նպատակները և բյուջետային գլխավոր կարգադրիչների, ծրագրերի, միջոցառումների և կատարող պետական մարմնի անվանումները | E8: Ցուցանիշների փոփոխությունը (Ավելացումները նշված են դրական նշանով, իսկ նվազեցումները` փակագծերում)
B9: Ծրագիր | C9: Միջոցառում | E9: Առաջին կիսամյակ | F9: Ինն ամիս | G9: Տարի
D10: ԸՆԴԱՄԵՆԸ | E10: =+E12 -> 1859860.2 | F10: =+F12 -> 1987340.8 | G10: =+G12 -> 1082469.2
D11: այդ թվում՝
D12: ՀՀ ՏԱՐԱԾՔԱՅԻՆ ԿԱՌԱՎԱՐՄԱՆ ԵՎ ԵՆԹԱԿԱՌՈՒՑՎԱԾՔՆԵՐԻ ՆԱԽԱՐԱՐՈՒԹՅՈՒՆ | E12: =E14+E17+E47+E56+E59+E62 -> 1859860.2 | F12: =F14+F17+F47+F56+F59+F62 -> 1987340.8 | G12: =G14+G17+G47+G56+G59+G62 -> 1082469.2
D13: այդ թվում`
B14: 1040 | C14: 12003 | D14: Հանրապետության տարածքում փակման ենթակա աղբավայրերի փակում և շահագործվող աղբավայրերի բարեկարգում | E14: =E16 -> -25000 | F14: =F16 -> -70000 | G14: =G16 -> 0
D15: այդ թվում` ըստ կատարողների
D16: ՀՀ կառավարություն | E16: ='3'!G173 -> -25000 | F16: ='3'!H173 -> -70000 | G16: ='3'!I173 -> 0
B17: 1049 | C17: 21001 | D17: Պետական նշանակության ավտոճանապարհների հիմնանորոգում | E17: =+E19+E20 -> 3160970.5 | F17: =+F19+F20 -> 2551628.1 | G17: =+G19+G20 -> 1082469.2
D18: այդ թվում` ըստ կատարողների
D19: ՀՀ կառավարություն | E19: ='3'!G59 -> 0 | F19: ='3'!H59 -> 0 | G19: ='3'!I59 -> -2950703
D20: ՀՀ տարածքային կառավարման և ենթակառուցվածքների նախարարություն | E20: =+E22+E31+E36 -> 3160970.5 | F20: =+F22+F31+F36 -> 2551628.1 | G20: =+G22+G31+G36 -> 4033172.2
D21: այդ թվում՝ ըստ ուղղությունների
C22: 1 | D22: Միջպետական նշանակության ավտոճանապարհներ, այդ թվում | E22: =SUM(E23:E30) -> 798558.2 | F22: =SUM(F23:F30) -> 1368421.8 | G22: =SUM(G23:G30) -> 2225377.1
D23: Մ-2, Երևան-Երասխ-Գորիս-Մեղրի-Իրանի սահման կմ53+150 - կմ65+350 հատվածի հիմնանորոգում | E23: 250000 | F23: 0 | G23: 0
D24: Մ-2, Երևան-Երասխ-Գորիս-Մեղրի-Իրանի սահման միջպետական նշանակության ավտոճանապարհի կմ131+500 - կմ139+000 հատվածի հիմնանորոգում | E24: 300000 | F24: 0 | G24: 0
D25: Մ-2, Երևան-Երասխ-Գորիս-Մեղրի-Իրանի սահման միջպետական նշանակության ավտոճանապարհի կմ142+000 - կմ150+700 հատվածի հիմնանորոգում | E25: 248558.2 | G25: 0
D26: Մ-2, Երևան-Երասխ-Գորիս-Մեղրի-Իրանի սահման միջպետական նշանակության ավտոճանապարհի կմ150+700 - կմ167+600 հատվածի հիմնանորոգում | E26: 0 | F26: 146937.7 | G26: 146937.7
D27: Մ-3, Թուրքիայի սահման-Մարգարա-Վանաձոր-Տաշիր-Վրաստանի սահման միջպետական նշանակության ավտոճանապարհի կմ97+020-կմ104+700 հատվածի հիմնանորոգում | E27: 0 | F27: 191730 | G27: 264627.6
D28: Մ-6, Վանաձոր – Ալավերդի – Վրաստանի սահման միջպետական նշանակության ավտոճանապարհի ՊԿ384+50 - ՊԿ481+40 /ՊԿ467+50 – ՊԿ473+61/ տեղամասի (Օձունի խաչմերուկի /Մ6 և Հ35/ ավտոճանապարհների փոխհատում) վերականգնում և բարելավում | E28: 0 | F28: 400000 | G28: 758115.2
D29: Մ-13, /Մ-2/ - Անգեղակոթ - Նախիջևանի սահման միջպետական նշանակության ավտոճանապարհի կմ0+000-կմ8+000 հատվածի հիմնանորոգում | E29: 0 | F29: 47760.9 | G29: 106082
D30: Մ-16, /Մ-4/ - Ոսկեպար - Նոյեմբերյան - /Մ-6/ միջպետական նշանակության ավտոճանապարհի կմ0+070-կմ7+000 հատվածի հիմնանորոգում | E30: 0 | F30: 581993.2 | G30: 949614.6
C31: 2 | D31: Հանրապետական նշանակության ավտոճանապարհներ, այդ թվում | E31: =SUM(E32:E35) -> 450000 | F31: =SUM(F32:F35) -> 644670.7 | G31: =SUM(G32:G35) -> 922001.2
D32: Հ-2, /Հ-1/ Աբովյան- Արզնի-/Հ-6/ (Նոր Գեղի) հանրապետական նշանակության ավտոճանապարհի կմ0+000-կմ1+400 հատվածի հիմնանորոգում | E32: 0 | F32: 95570.7 | G32: 95570.7
D33: Հ-5, /Հ-6/-Նոր Գեղի-Արգել-Արզական-Հրազդան հանրապետական նշանակության ավտոճանապարհի կմ0+000 - կմ10+000 հատվածի հիմնանորոգում | E33: 0 | F33: 500000 | G33: 776808.9
D34: Հ-4, Երևան - Եղվարդ - Արագյուղ - Հարթավան - /Մ-3/ հանրապետական նշանակության ավտոճանապարհի կմ0+000-կմ15+600 հատվածի հիմնանորոգում | E34: 300000 | F34: 0 | G34: 0
D35: Հ-21, /Հ-75/ - Հոռոմ-Արթիկ-Ալագյազ հանրապետական նշանակության ավտոճանապարհի կմ19+000 - կմ23+900 հատվածի հիմնանորոգում | E35: 150000 | F35: 49100 | G35: 49621.6
C36: 3 | D36: Մարզային նշանակության ավտոճանապարհներ, այդ թվում | E36: =SUM(E37:E46) -> 1912412.3 | F36: =SUM(F37:F46) -> 538535.6 | G36: =SUM(G37:G46) -> 885793.9
D37: Մ-6 - Եղեգնուտ - Դեբեդ ավտոճանապարհի կմ0+000 - կմ7+183 հատվածի հիմնանորոգում | E37: 300000 | F37: 0 | G37: 0
D38: Մ-4-Ակնաղբյուր ավտոճանապարհի 2,85կմ հատվածի և դեպի Մատուռ տանող 0,246 կմ ճանապարհի հիմնանորոգում | E38: 122000 | F38: 0 | G38: 0
D39: Տ-10-32, /Մ-4/ - Դիտավան ավտոճանապարհի կմ0+000 - կմ3+100 հատվածի հիմնանորոգում | E39: 150000 | F39: 0 | G39: 0
D40: Վանաձոր քաղաքային համայնքի Կ. Դեմիրճյան փողոցի հիմնանորոգում | E40: 0 | F40: 500000 | G40: 847258.3
D41: ՀՀ Գեղարքունիքի մարզի Մարտունի համայնքի Մյասնիկյան փողոցի մայթերի կառուցում | E41: 0 | F41: 38535.6 | G41: 38535.6
D42: Տ-8-93, Լծեն-Տաթև ավտոճանապարհի վերակառուցում | E42: 350000 | F42: 0 | G42: 0
D43: Տ-8-49,/Տ-8-48/-Լծեն ավտոճանապարհի վերակառուցում | E43: 285000 | F43: 0 | G43: 0
D44: /Մ-12/-Կոռնիձոր-ՀՀ սահման ավտոճանապարհի կմ0+000-կմ 4+000 հատվածի վերակառուցում | E44: 250000 | F44: 0 | G44: 0
D45: /Մ-12/-Կոռնիձոր-ՀՀ սահման ավտոճանապարհի կմ4+000-կմ 9+000 հատվածի վերակառուցում | E45: 250000 | F45: 0 | G45: 0
D46: /Մ-12/-Կոռնիձոր-ՀՀ սահման ավտոճանապարհի կմ9+000- կմ11+779.75 հատվածի վերակառուցում | E46: 205412.3 | F46: 0 | G46: 0
B47: 1049 | C47: 21002 | D47: Տրանսպորտային օբյեկտների հիմնանորոգում | E47: =+E49+E50 -> 0 | F47: =+F49+F50 -> 0 | G47: =+G49+G50 -> 0
D48: այդ թվում` ըստ կատարողների
D49: ՀՀ կառավարություն | E49: =-E50 -> 0 | F49: =-F50 -> -136154.8 | G49: =-G50 -> -261269.6
D50: ՀՀ տարածքային կառավարման և ենթակառուցվածքների նախարարություն | E50: =SUM(E52:E55) -> 0 | F50: =SUM(F52:F55) -> 136154.8 | G50: =SUM(G52:G55) -> 261269.6
D51: այդ թվում՝ ըստ ուղղությունների
D52: Մ-4, Երևան - Սևան - Իջևան - Ադրբեջանի սահման կմ104+300 հատվածում գտնվող կամուրջի վերանորոգում | E52: 0 | F52: 125114.8 | G52: 250229.6
D53: Մ-4, Երևան - Սևան - Իջևան – Ադրբեջանի Հանրապետության սահման միջպետական նշանակության ավտոճանապարհի կմ19+800-ում գտնվող կամրջի հիմնանորոգում | E53: 0 | F53: 2412 | G53: 2412
D54: Մ-10, Սևան-Մարտունի-Գետափ-/Մ-2/ միջպետական նշանակության ավտոճանապարհի կմ61+380-ում գտնվող կամրջի հիմնանորոգում | E54: 0 | F54: 4992 | G54: 4992
D55: Մ-10, Սևան-Մարտունի-Գետափ միջպետական նշանակության ավտոճանապարհի կմ117+042-ում գտնվող կամրջի հիմնանորոգում | E55: 0 | F55: 3636 | G55: 3636
B56: 1049 | C56: 21019 | D56: Վթարային իրավիճակներում արտակարգ օպերատիվ ծառայությունների կանչի ավտոմատացված համակարգերի ներդրում | E56: =E58 -> -270000 | F56: =F58 -> 0 | G56: =G58 -> 0
D57: այդ թվում` ըստ կատարողների
D58: ՀՀ տարածքային կառավարման և ենթակառուցվածքների նախարարության ջրային կոմիտե | E58: ='3'!G87 -> -270000 | F58: ='3'!H87 -> 0 | G58: ='3'!I87 -> 0
B59: 1049 | C59: 31002 | D59: Տրանսպորտային միջոցների տեխնիկական զննության գործընթացի ավտոմատացված համակարգի ներդրում | E59: =E61 -> -4500 | F59: =F61 -> 0 | G59: =G61 -> 0
D60: այդ թվում` ըստ կատարողների
D61: ՀՀ տարածքային կառավարման և ենթակառուցվածքների նախարարության ջրային կոմիտե | E61: ='3'!G96 -> -4500 | F61: ='3'!H96 -> 0 | G61: ='3'!I96 -> 0
B62: 1072 | C62: 31010 | D62: Ջրամատակարարման և ջրահեռացման համակարգերի հիմնանորոգում | E62: =E64 -> -1001610.3 | F62: =F64 -> -494287.3 | G62: =G64 -> 0
D63: այդ թվում` ըստ կատարողների
D64: ՀՀ տարածքային կառավարման և ենթակառուցվածքների նախարարության ջրային կոմիտե | E64: =SUM(E65:E91) -> -1001610.3 | F64: =SUM(F65:F91) -> -494287.3 | G64: =SUM(G65:G91) -> 0
D65: այդ թվում՝ ըստ ուղղությունների
D66: ՀՀ Գեղարքունիքի մարզի Ներքին Գետաշեն բնակավայրի ջրամատակարարման համակարգի վերակառուցում | E66: -81760 | F66: 0 | G66: 50000
D67: ՀՀ Գեղարքունիքի մարզի Կարմիրգյուղ և Սարուխան բնակավայրերի ջրամատակարարման համակարգի վերակառուցում | E67: -114654.5 | F67: -100000 | G67: 0
D68: ՀՀ Արարատի մարզի Արբաթ համայնքի խմելու ջրամատակարարման համակարգի վերակառուցում | E68: -7083.7 | F68: -7083.7 | G68: -7083.7
D69: ՀՀ Արարատի մարզի Խաչփար համայնքի ջրամատակարարման համակարգի վերակառուցում | E69: 14158 | F69: 14158 | G69: 14158
D70: ՀՀ Գեղարքունիքի մարզի Վահան բնակավայրի ջրամատակարարման համակարգի վերակառուցում | E70: 13554.6 | F70: 13554.6 | G70: 13554.6
D71: ՀՀ Արարատի մարզի Մխչյան համայնքի ջրամատակարարման համակարգի վերակառուցում | E71: -52116.5 | F71: 0 | G71: 0
D72: ՀՀ Արարատի մարզի Արալեզ համայնքի ջրամատակարարման համակարգի վերակառուցում | E72: -56381.5 | F72: 26138.5 | G72: 0
D73: ՀՀ Արարատի մարզի Դվին համայնքի ջրամատակարարման ցանցի վերակառուցում | E73: 8008.3 | F73: 8008.3 | G73: 8008.3
D74: ՀՀ Արարատի մարզի Նոր Կյանք համայնքի ջրամատակարարման համակարգի վերակառուցում | E74: -16728 | F74: -13000 | G74: 0
D75: ՀՀ Արարատի մարզի Շահումյան համայնքի խմելու ջրամատակարարման համակարգի վերակառուցում | E75: 0 | F75: 0 | G75: 0
D76: ՀՀ Արարատի մարզի Արտաշատ համայնքի (վեց փողոցների՝ Մյասնիկայն Աթարբեկյան և նրբանցք, Մարքսի և նրբանցք, Շահումյան) խմելու ջրամատակարարման համակարգի վերակառուցում | E76: 12000 | F76: 12000 | G76: 12000
D77: ՀՀ Արարատի մարզի Փոքր Վեդի համայնքի ջրամատակարարման համակարգի վերակառուցում | E77: -15000 | F77: -26174.8 | G77: 4682.1
... D91: ՀՀ Արարատի մարզի Վ. Դվին համայնքի ջրամատակարարման համակարգի վերակառուցում | E91: -115144.7 | F91: -67409.2 | G91: -40144.7
D93: ՀԱՅԱՍՏԱՆԻ ՀԱՆՐԱՊԵՏՈՒԹՅԱՆ ՎԱՐՉԱՊԵՏԻ ԱՇԽԱՏԱԿԱԶՄԻ ՂԵԿԱՎԱՐ՝ | F93: Ա.ՀԱՐՈՒԹՅՈՒՆՅԱՆ

Sheet 5
M1: Հավելված N5
M2: ՀՀ կառավարության 2023 թվականի
M3: ______________ ի ___Ն որոշման
B5: «ՀԱՅԱUՏԱՆԻ ՀԱՆՐԱՊԵՏՈՒԹՅԱՆ 2023 ԹՎԱԿԱՆԻ ՊԵՏԱԿԱՆ ԲՅՈՒՋԵԻ ՄԱUԻՆ» OՐԵՆՔԻ N 1 ՀԱՎԵԼՎԱԾԻ N 4 ԱՂՅՈՒՍԱԿՈՒՄ ԵՎ ՀԱՅԱՍՏԱՆԻ ՀԱՆՐԱՊԵՏՈՒԹՅԱՆ ԿԱՌԱՎԱՐՈՒԹՅԱՆ 2022 ԹՎԱԿԱՆԻ ԴԵԿՏԵՄԲԵՐԻ 29-Ի N 2111-Ն ՈՐՈՇՄԱՆ N 5 ՀԱՎԵԼՎԱԾԻ N 3 ԱՂՅՈՒՍԱԿՈՒՄ ԿԱՏԱՐՎՈՂ ՓՈՓՈԽՈՒԹՅՈՒՆՆԵՐԸ
M6: հազ. դրամ
B7: Ծրագրային դասիչը | D7: Բյուջետային գլխավոր կարգադրիչների, ծրագրերի և միջոցառումների անվանումները | E7: Ցուցանիշների փոփոխությունը (ավելացումները նշված են դրական նշանով, իսկ նվազեցումները` փակագծերում)
E8: Առաջին կիսամյակ | H8: Ինն ամիս | K8: Տարի
E9: Ընդամենը | F9: այդ թվում` | H9: Ընդամենը | I9: այդ թվում` | K9: Ընդամենը | L9: այդ թվում`
B10: Ծրագիր | C10: Միջոց առում | F10: Վարկային միջոցներ | G10: Համաֆինանսավորում | I10: Վարկային միջոցներ | J10: Համաֆինանսավորում | L10: Վարկային միջոցներ | M10: Համաֆինանսավորում
D11: ԸՆԴԱՄԵՆԸ_x000D_ այդ թվում` | E11: =E12+E13 -> -1313062 | F11: =F12+F13 -> 0 | G11: =G12+G13 -> -1313062 | H11: =H12+H13 -> -1440542.6 | I11: =I12+I13 -> 0 | J11: =J12+J13 -> -1440542.6 | K11: =K12+K13 -> -535671 | L11: =L12+L13 -> 0 | M11: =M12+M13 -> -535671
D12: - ԸՆԹԱՑԻԿ ԾԱԽՍԵՐ | E12: =E22+E75 -> -342010.2 | F12: =F22+F75 -> 0 | G12: =G22+G75 -> -342010.2 | H12: =H22+H75 -> -342010.2 | I12: =I22+I75 -> 0 | J12: =J22+J75 -> -342010.2 | K12: =K22+K75 -> -150000 | L12: =L22+L75 -> 0 | M12: =M22+M75 -> -150000
D13: - ՈՉ ՖԻՆԱՆՍԱԿԱՆ ԱԿՏԻՎՆԵՐԻ ԳԾՈՎ ԾԱԽՍԵՐ | E13: =E31+E51+E64+E86+E42 -> -971051.8 | F13: =F31+F51+F64+F86+F42 -> 0 | G13: =G31+G51+G64+G86+G42 -> -971051.8 | H13: =H31+H51+H64+H86+H42 -> -1098532.4 | I13: =I31+I51+I64+I86+I42 -> 0 | J13: =J31+J51+J64+J86+J42 -> -1098532.4 | K13: =K31+K51+K64+K86+K42 -> -385671 | L13: =L31+L51+L64+L86+L42 -> 0 | M13: =M31+M51+M64+M86+M42 -> -385671
D14: ՀՀ ՏԱՐԱԾՔԱՅԻՆ ԿԱՌԱՎԱՐՄԱՆ ԵՎ ԵՆԹԱԿԱՌՈՒՑՎԱԾՔՆԵՐԻ ՆԱԽԱՐԱՐՈՒԹՅՈՒՆ_x000D_ այդ թվում` | E14: =E15+E35+E57+E68+E79 -> -1313062 | F14: =F15+F35+F57+F68+F79 -> 0 | G14: =G15+G35+G57+G68+G79 -> -1313062 | H14: =H15+H35+H57+H68+H79 -> -1440542.6 | I14: =I15+I35+I57+I68+I79 -> 0 | J14: =J15+J35+J57+J68+J79 -> -1440542.6 | K14: =K15+K35+K57+K68+K79 -> -535671 | L14: =L15+L35+L57+L68+L79 -> 0 | M14: =M15+M35+M57+M68+M79 -> -535671
B15: 1004 | D15: Ոռոգման համակարգի առողջացում | E15: =E17+E26 -> -529099.4 | F15: =F17+F26 -> 0 | G15: =G17+G26 -> -529099.4 | H15: =H17+H26 -> -529099.4 | I15: =I17+I26 -> 0 | J15: =J17+J26 -> -529099.4 | K15: =K17+K26 -> 0 | L15: =L17+L26 -> 0 | M15: =M17+M26 -> 0
D16: այդ թվում`
C17: 11010 | D17: Գերմանիայի զարգացման վարկերի բանկի աջակցությամբ իրականացվող Ախուրյան գետի ջրային ռեսուրսների ինտեգրացված կառավարում փուլ 1 ծրագրով Ջրաձոր գյուղի վերաբնակեցման գործողությունների խորհրդատվություն և կառավարում | E17: =E19 -> -150000 | F17: =F19 -> 0 | G17: =G19 -> -150000 | H17: =H19 -> -150000 | I17: =I19 -> 0 | J17: =J19 -> -150000 | K17: =K19 -> 0 | L17: =L19 -> 0 | M17: =M19 -> 0
D18: այդ թվում` ըստ կատարողների
D19: ՀՀ տարածքային կառավարման և ենթակառուցվածքների նախարարության ջրային կոմիտե | E19: =E21 -> -150000 | F19: =F21 -> 0 | G19: =G21 -> -150000 | H19: =H21 -> -150000 | I19: =I21 -> 0 | J19: =J21 -> -150000 | K19: =K21 -> 0 | L19: =L21 -> 0 | M19: =M21 -> 0
D20: այդ թվում` բյուջետային ծախսերի տնտեսագիտական դասակարգման հոդվածներ
D21: ԸՆԴԱՄԵՆԸ ԾԱԽՍԵՐ | E21: =E23 -> -150000 | F21: =F23 -> 0 | G21: =G23 -> -150000 | H21: =H23 -> -150000 | I21: =I23 -> 0 | J21: =J23 -> -150000 | K21: =K23 -> 0 | L21: =L23 -> 0 | M21: =M23 -> 0
D22: ='3'!F28 -> ԸՆԹԱՑԻԿ ԾԱԽՍԵՐ | E22: =E23 -> -150000 | F22: =F23 -> 0 | G22: =G23 -> -150000 | H22: =H23 -> -150000 | I22: =I23 -> 0 | J22: =J23 -> -150000 | K22: =K23 -> 0 | L22: =L23 -> 0 | M22: =M23 -> 0
D23: ԴՐԱՄԱՇՆՈՐՀՆԵՐ | E23: =E24 -> -150000 | F23: =F24 -> 0 | G23: =G24 -> -150000 | H23: =H24 -> -150000 | I23: =I24 -> 0 | J23: =J24 -> -150000 | K23: =K24 -> 0 | L23: =L24 -> 0 | M23: =M24 -> 0
D24: Ընթացիկ դրամաշնորհներ պետական հատվածի այլ մակարդակներին | E24: =E25 -> -150000 | F24: =F25 -> 0 | G24: =G25 -> -150000 | H24: =H25 -> -150000 | I24: =I25 -> 0 | J24: =J25 -> -150000 | K24: =K25 -> 0 | L24: =L25 -> 0 | M24: =M25 -> 0
D25: - Այլ ընթացիկ դրամաշնորհներ | E25: =F25+G25 -> -150000 | F25: 0 | G25: ='3'!G31 -> -150000 | H25: =I25+J25 -> -150000 | I25: 0 | J25: ='3'!H31 -> -150000 | K25: =L25+M25 -> 0 | L25: =0 -> 0 | M25: ='3'!I31 -> 0
C26: 31004 | D26: Գերմանիայի զարգացման վարկերի բանկի աջակցությամբ իրականացվող Ախուրյան գետի ջրային ռեսուրսների ինտեգրված կառավարման ծրագրի շրջանակներում ջրային տնտեսության ենթակառուցվածքների հիմնանորոգում | E26: =E28 -> -379099.4 | F26: =F28 -> 0 | G26: =G28 -> -379099.4 | H26: =H28 -> -379099.4 | I26: =I28 -> 0 | J26: =J28 -> -379099.4 | K26: =K28 -> 0 | L26: =L28 -> 0 | M26: =M28 -> 0
D27: այդ թվում` ըստ կատարողների
D28: ՀՀ տարածքային կառավարման և ենթակառուցվածքների նախարարության ջրային կոմիտե | E28: =E33 -> -379099.4 | F28: =F33 -> 0 | G28: =G33 -> -379099.4 | H28: =H33 -> -379099.4 | I28: =I33 -> 0 | J28: =J33 -> -379099.4 | K28: =K33 -> 0 | L28: =L33 -> 0 | M28: =M33 -> 0
D29: այդ թվում` բյուջետային ծախսերի տնտեսագիտական դասակարգման հոդվածներ
D30: ԸՆԴԱՄԵՆԸ ԾԱԽՍԵՐ | E30: =E31 -> -379099.4 | F30: =F31 -> 0 | G30: =G31 -> -379099.4 | H30: =H31 -> -379099.4 | I30: =I31 -> 0 | J30: =J31 -> -379099.4 | K30: =K31 -> 0 | L30: =L31 -> 0 | M30: =M31 -> 0
D31: ՈՉ ՖԻՆԱՆՍԱԿԱՆ ԱԿՏԻՎՆԵՐԻ ԳԾՈՎ ԾԱԽՍԵՐ | E31: =E32 -> -379099.4 | F31: =F32 -> 0 | G31: =G32 -> -379099.4 | H31: =H32 -> -379099.4 | I31: =I32 -> 0 | J31: =J32 -> -379099.4 | K31: =K32 -> 0 | L31: =L32 -> 0 | M31: =M32 -> 0
D32: ՀԻՄՆԱԿԱՆ ՄԻՋՈՑՆԵՐ | E32: =E33 -> -379099.4 | F32: =F33 -> 0 | G32: =G33 -> -379099.4 | H32: =H33 -> -379099.4 | I32: =I33 -> 0 | J32: =J33 -> -379099.4 | K32: =K33 -> 0 | L32: =L33 -> 0 | M32: =M33 -> 0
D33: ՇԵՆՔԵՐ ԵՎ ՇԻՆՈՒԹՅՈՒՆՆԵՐ | E33: =E34 -> -379099.4 | F33: =F34 -> 0 | G33: =G34 -> -379099.4 | H33: =H34 -> -379099.4 | I33: =I34 -> 0 | J33: =J34 -> -379099.4 | K33: =K34 -> 0 | L33: =L34 -> 0 | M33: =M34 -> 0
D34: - Շենքերի և շինությունների շինարարություն | E34: =F34+G34 -> -379099.4 | F34: 0 | G34: ='3'!G40 -> -379099.4 | H34: =I34+J34 -> -379099.4 | I34: 0 | J34: ='3'!H40 -> -379099.4 | K34: =L34+M34 -> 0 | L34: 0 | M34: ='3'!I40 -> 0
B35: 1019 | D35: ='3'!F141 -> Սոցիալական ներդրումների և տեղական զարգացման ծրագիր | E35: =E37+E46 -> -335671 | F35: =F37+F46 -> 0 | G35: =G37+G46 -> -335671 | H35: =H37+H46 -> -485671 | I35: =I37+I46 -> 0 | J35: =J37+J46 -> -485671 | K35: =K37+K46 -> -385671 | L35: =L37+L46 -> 0 | M35: =M37+M46 -> -385671
D36: այդ թվում`
C37: 12001 | D37: ='3'!F143 -> Համաշխարհային բանկի աջակցությամբ իրականացվող Տարածքային զարգացման հիմնադրամի ծրագրի շրջանակներում ՀՀ տարածքներում ջրագծերի, առողջապահության, կրթության, մշակույթի, հատուկ խնամքի և ենթակառուցվածքների ոլորտի վերականգնման և շինարարության աշխատանքներ | E37: =E39 -> -50000 | F37: =F39 -> 0 | G37: =G39 -> -50000 | H37: =H39 -> 0 | I37: =I39 -> 0 | J37: =J39 -> 0 | K37: =K39 -> 0 | L37: =L39 -> 0 | M37: =M39 -> 0
D38: այդ թվում` ըստ կատարողների
D39: ՀՀ տարածքային կառավարման և ենթակառուցվածքների նախարարություն | E39: =E41 -> -50000 | F39: =F41 -> 0 | G39: =G41 -> -50000 | H39: =H41 -> 0 | I39: =I41 -> 0 | J39: =J41 -> 0 | K39: =K41 -> 0 | L39: =L41 -> 0 | M39: =M41 -> 0
D40: այդ թվում` բյուջետային ծախսերի տնտեսագիտական դասակարգման հոդվածներ
D41: ԸՆԴԱՄԵՆԸ ԾԱԽՍԵՐ | E41: =E42 -> -50000 | F41: =F42 -> 0 | G41: =G42 -> -50000 | H41: =H42 -> 0 | I41: =I42 -> 0 | J41: =J42 -> 0 | K41: =K42 -> 0 | L41: =L42 -> 0 | M41: =M42 -> 0
D42: ՈՉ ՖԻՆԱՆՍԱԿԱՆ ԱԿՏԻՎՆԵՐԻ ԳԾՈՎ ԾԱԽՍԵՐ | E42: =E43 -> -50000 | F42: =F43 -> 0 | G42: =G43 -> -50000 | H42: =H43 -> 0 | I42: =I43 -> 0 | J42: =J43 -> 0 | K42: =K43 -> 0 | L42: =L43 -> 0 | M42: =M43 -> 0
D43: ՀԻՄՆԱԿԱՆ ՄԻՋՈՑՆԵՐ | E43: =E44 -> -50000 | F43: =F44 -> 0 | G43: =G44 -> -50000 | H43: =H44 -> 0 | I43: =I44 -> 0 | J43: =J44 -> 0 | K43: =K44 -> 0 | L43: =L44 -> 0 | M43: =M44 -> 0
D44: ՇԵՆՔԵՐ ԵՎ ՇԻՆՈՒԹՅՈՒՆՆԵՐ | E44: =E45 -> -50000 | F44: =F45 -> 0 | G44: =G45 -> -50000 | H44: =H45 -> 0 | I44: =I45 -> 0 | J44: =J45 -> 0 | K44: =K45 -> 0 | L44: =L45 -> 0 | M44: =M45 -> 0
D45: - Շենքերի և շինությունների շինարարություն | E45: =F45+G45 -> -50000 | F45: ='3'!H151 -> 0 | G45: ='3'!G151 -> -50000 | H45: ='3'!H151 -> 0 | I45: ='3'!I151 -> 0 | J45: ='3'!J151 -> 0 | K45: ='3'!K151 -> 0 | L45: ='3'!L151 -> 0 | M45: ='3'!M151 -> 0
C46: 12004 | D46: ='3'!F143 -> Համաշխարհային բանկի աջակցությամբ իրականացվող Տարածքային զարգացման հիմնադրամի ծրագրի շրջանակներում ՀՀ տարածքներում ջրագծերի, առողջապահության, կրթության, մշակույթի, հատուկ խնամքի և ենթակառուցվածքների ոլորտի վերականգնման և շինարարության աշխատանքներ | E46: =E48 -> -285671 | F46: =F48 -> 0 | G46: =G48 -> -285671 | H46: =H48 -> -485671 | I46: =I48 -> 0 | J46: =J48 -> -485671 | K46: =K48 -> -385671 | L46: =L48 -> 0 | M46: =M48 -> -385671
D47: այդ թվում` ըստ կատարողների
D48: ՀՀ տարածքային կառավարման և ենթակառուցվածքների նախարարություն | E48: =E50 -> -285671 | F48: =F50 -> 0 | G48: =G50 -> -285671 | H48: =H50 -> -485671 | I48: =I50 -> 0 | J48: =J50 -> -485671 | K48: =K50 -> -385671 | L48: =L50 -> 0 | M48: =M50 -> -385671
D49: այդ թվում` բյուջետային ծախսերի տնտեսագիտական դասակարգման հոդվածներ
D50: ԸՆԴԱՄԵՆԸ ԾԱԽՍԵՐ | E50: =E51 -> -285671 | F50: =F51 -> 0 | G50: =G51 -> -285671 | H50: =H51 -> -485671 | I50: =I51 -> 0 | J50: =J51 -> -485671 | K50: =K51 -> -385671 | L50: =L51 -> 0 | M50: =M51 -> -385671
D51: ՈՉ ՖԻՆԱՆՍԱԿԱՆ ԱԿՏԻՎՆԵՐԻ ԳԾՈՎ ԾԱԽՍԵՐ | E51: =E52 -> -285671 | F51: =F52 -> 0 | G51: =G52 -> -285671 | H51: =H52 -> -485671 | I51: =I52 -> 0 | J51: =J52 -> -485671 | K51: =K52 -> -385671 | L51: =L52 -> 0 | M51: =M52 -> -385671
D52: ՀԻՄՆԱԿԱՆ ՄԻՋՈՑՆԵՐ | E52: =E53+E55 -> -285671 | F52: =F53+F55 -> 0 | G52: =G53+G55 -> -285671 | H52: =H53+H55 -> -485671 | I52: =I53+I55 -> 0 | J52: =J53+J55 -> -485671 | K52: =K53+K55 -> -385671 | L52: =L53+L55 -> 0 | M52: =M53+M55 -> -385671
D53: ՇԵՆՔԵՐ ԵՎ ՇԻՆՈՒԹՅՈՒՆՆԵՐ | E53: =E54 -> -100000 | F53: =F54 -> 0 | G53: =G54 -> -100000 | H53: =H54 -> -100000 | I53: =I54 -> 0 | J53: =J54 -> -100000 | K53: =K54 -> 0 | L53: =L54 -> 0 | M53: =M54 -> 0
D54: - Շենքերի և շինությունների շինարարություն | E54: ='3'!G160 -> -100000 | F54: 0 | G54: ='3'!G160 -> -100000 | H54: =I54+J54 -> -100000 | I54: 0 | J54: ='3'!H160 -> -100000 | K54: =L54+M54 -> 0 | L54: 0 | M54: ='3'!I160 -> 0
D55: ՄԵՔԵՆԱՆԵՐ ԵՎ ՍԱՐՔԱՎՈՐՈՒՄՆԵՐ | E55: =E56 -> -185671 | F55: =F56 -> 0 | G55: =G56 -> -185671 | H55: =H56 -> -385671 | I55: =I56 -> 0 | J55: =J56 -> -385671 | K55: =K56 -> -385671 | L55: =L56 -> 0 | M55: =M56 -> -385671
D56: - Վարչական սարքավորումներ | E56: =F56+G56 -> -185671 | F56: 0 | G56: ='3'!G162 -> -185671 | H56: =I56+J56 -> -385671 | I56: 0 | J56: ='3'!H162 -> -385671 | K56: =L56+M56 -> -385671 | L56: 0 | M56: ='3'!I162 -> -385671
B57: 1040 | D57: ='3'!F171 -> Կոշտ թափոնների կառավարում | E57: =E59 -> -6281.4 | F57: =F59 -> 0 | G57: =G59 -> -6281.4 | H57: =H59 -> -33762 | I57: =I59 -> 0 | J57: =J59 -> -33762 | K57: =K59 -> 0 | L57: =L59 -> 0 | M57: =M59 -> 0
D58: այդ թվում`
C59: 32009 | D59: ='3'!F182 -> Միջազգային կազմակերպությունների աջակցությամբ իրականացվող ՀՀ 8 մարզերում աղբահանության և կոշտ թափոնների ինտեգրված համակարգի կառուցում | E59: =E61 -> -6281.4 | F59: =F61 -> 0 | G59: =G61 -> -6281.4 | H59: =H61 -> -33762 | I59: =I61 -> 0 | J59: =J61 -> -33762 | K59: =K61 -> 0 | L59: =L61 -> 0 | M59: =M61 -> 0
D60: այդ թվում` ըստ կատարողների
D61: ՀՀ տարածքային կառավարման և ենթակառուցվածքների նախարարություն | E61: =E66 -> -6281.4 | F61: =F66 -> 0 | G61: =G66 -> -6281.4 | H61: =H66 -> -33762 | I61: =I66 -> 0 | J61: =J66 -> -33762 | K61: =K66 -> 0 | L61: =L66 -> 0 | M61: =M66 -> 0
D62: այդ թվում` բյուջետային ծախսերի տնտեսագիտական դասակարգման հոդվածներ
D63: ԸՆԴԱՄԵՆԸ ԾԱԽՍԵՐ | E63: =E64 -> -6281.4 | F63: =F64 -> 0 | G63: =G64 -> -6281.4 | H63: =H64 -> -33762 | I63: =I64 -> 0 | J63: =J64 -> -33762 | K63: =K64 -> 0 | L63: =L64 -> 0 | M63: =M64 -> 0
D64: ՈՉ ՖԻՆԱՆՍԱԿԱՆ ԱԿՏԻՎՆԵՐԻ ԳԾՈՎ ԾԱԽՍԵՐ | E64: =E65 -> -6281.4 | F64: =F65 -> 0 | G64: =G65 -> -6281.4 | H64: =H65 -> -33762 | I64: =I65 -> 0 | J64: =J65 -> -33762 | K64: =K65 -> 0 | L64: =L65 -> 0 | M64: =M65 -> 0
D65: ՀԻՄՆԱԿԱՆ ՄԻՋՈՑՆԵՐ | E65: =E66 -> -6281.4 | F65: =F66 -> 0 | G65: =G66 -> -6281.4 | H65: =H66 -> -33762 | I65: =I66 -> 0 | J65: =J66 -> -33762 | K65: =K66 -> 0 | L65: =L66 -> 0 | M65: =M66 -> 0
D66: ='3'!F189 -> ԱՅԼ ՀԻՄՆԱԿԱՆ ՄԻՋՈՑՆԵՐ | E66: =E67 -> -6281.4 | F66: =F67 -> 0 | G66: =G67 -> -6281.4 | H66: =H67 -> -33762 | I66: =I67 -> 0 | J66: =J67 -> -33762 | K66: =K67 -> 0 | L66: =L67 -> 0 | M66: =M67 -> 0
D67: ='3'!F190 -> - Նախագծահետազոտական ծախսեր | E67: =F67+G67 -> -6281.4 | F67: 0 | G67: ='3'!G190 -> -6281.4 | H67: =I67+J67 -> -33762 | I67: 0 | J67: ='3'!H190 -> -33762 | K67: =L67+M67 -> 0 | L67: 0 | M67: ='3'!I190 -> 0
B68: 1157 | D68: ='3'!F113 -> Քաղաքային զարգացում | E68: =E70 -> -192010.2 | F68: =F70 -> 0 | G68: =G70 -> -192010.2 | H68: =H70 -> -192010.2 | I68: =I70 -> 0 | J68: =J70 -> -192010.2 | K68: =K70 -> -150000 | L68: =L70 -> 0 | M68: =M70 -> -150000
D69: այդ թվում`
C70: 12029 | D70: ='3'!F124 -> Ասիական զարգացման բանկի աջակցությամբ իրականացվող քաղաքային կանաչ զարգացման ներդրումային ծրագրի համակարգում և կառավարում | E70: =E72 -> -192010.2 | F70: =F72 -> 0 | G70: =G72 -> -192010.2 | H70: =H72 -> -192010.2 | I70: =I72 -> 0 | J70: =J72 -> -192010.2 | K70: =K72 -> -150000 | L70: =L72 -> 0 | M70: =M72 -> -150000
D71: այդ թվում` ըստ կատարողների
D72: ՀՀ տարածքային կառավարման և ենթակառուցվածքների նախարարություն | E72: =E77 -> -192010.2 | F72: =F77 -> 0 | G72: =G77 -> -192010.2 | H72: =H77 -> -192010.2 | I72: =I77 -> 0 | J72: =J77 -> -192010.2 | K72: =K77 -> -150000 | L72: =L77 -> 0 | M72: =M77 -> -150000
D73: այդ թվում` բյուջետային ծախսերի տնտեսագիտական դասակարգման հոդվածներ
D74: ԸՆԴԱՄԵՆԸ ԾԱԽՍԵՐ | E74: =E75 -> -192010.2 | F74: =F75 -> 0 | G74: =G75 -> -192010.2 | H74: =H75 -> -192010.2 | I74: =I75 -> 0 | J74: =J75 -> -192010.2 | K74: =K75 -> -150000 | L74: =L75 -> 0 | M74: =M75 -> -150000
D75: ='3'!F129 -> ԸՆԹԱՑԻԿ ԾԱԽՍԵՐ | E75: =E76 -> -192010.2 | F75: =F76 -> 0 | G75: =G76 -> -192010.2 | H75: =H76 -> -192010.2 | I75: =I76 -> 0 | J75: =J76 -> -192010.2 | K75: =K76 -> -150000 | L75: =L76 -> 0 | M75: =M76 -> -150000
D76: ='3'!F130 -> ԴՐԱՄԱՇՆՈՐՀՆԵՐ | E76: =E77 -> -192010.2 | F76: =F77 -> 0 | G76: =G77 -> -192010.2 | H76: =H77 -> -192010.2 | I76: =I77 -> 0 | J76: =J77 -> -192010.2 | K76: =K77 -> -150000 | L76: =L77 -> 0 | M76: =M77 -> -150000
D77: ='3'!F131 -> Կապիտալ դրամաշնորհներ պետական հատվածի այլ մակարդակներին | E77: =E78 -> -192010.2 | F77: =F78 -> 0 | G77: =G78 -> -192010.2 | H77: =H78 -> -192010.2 | I77: =I78 -> 0 | J77: =J78 -> -192010.2 | K77: =K78 -> -150000 | L77: =L78 -> 0 | M77: =M78 -> -150000
D78: ='3'!F132 -> - Այլ կապիտալ դրամաշնորհներ | E78: =F78+G78 -> -192010.2 | F78: 0 | G78: ='3'!G132 -> -192010.2 | H78: =I78+J78 -> -192010.2 | I78: 0 | J78: ='3'!H132 -> -192010.2 | K78: =L78+M78 -> -150000 | L78: 0 | M78: ='3'!I132 -> -150000
B79: 1189 | D79: ='3'!F219 -> Դպրոցների սեյսմիկ անվտանգության մակարդակի բարձրացման ծրագիր | E79: =E81+E93 -> -250000 | F79: =F81+F93 -> 0 | G79: =G81+G93 -> -250000 | H79: =H81+H93 -> -200000 | I79: =I81+I93 -> 0 | J79: =J81+J93 -> -200000 | K79: =K81+K93 -> 0 | L79: =L81+L93 -> 0 | M79: =M81+M93 -> 0
D80: այդ թվում`
C81: 12001 | D81: ='3'!F221 -> Ասիական զարգացման բանկի աջակցությամբ իրականացվող դպրոցների սեյսմիկ պաշտպանության ծրագրի շրջանակներում ՀՀ դպրոցների սեյսմիկ անվտանգության բարելավմանն ուղղված միջոցառումներ | E81: =E83 -> -250000 | F81: =F83 -> 0 | G81: =G83 -> -250000 | H81: =H83 -> -200000 | I81: =I83 -> 0 | J81: =J83 -> -200000 | K81: =K83 -> 0 | L81: =L83 -> 0 | M81: =M83 -> 0
D82: այդ թվում` ըստ կատարողների
D83: ՀՀ տարածքային կառավարման և ենթակառուցվածքների նախարարություն | E83: =E88 -> -250000 | F83: =F88 -> 0 | G83: =G88 -> -250000 | H83: =H88 -> -200000 | I83: =I88 -> 0 | J83: =J88 -> -200000 | K83: =K88 -> 0 | L83: =L88 -> 0 | M83: =M88 -> 0
D84: այդ թվում` բյուջետային ծախսերի տնտեսագիտական դասակարգման հոդվածներ
D85: ԸՆԴԱՄԵՆԸ ԾԱԽՍԵՐ | E85: =E86 -> -250000 | F85: =F86 -> 0 | G85: =G86 -> -250000 | H85: =H86 -> -200000 | I85: =I86 -> 0 | J85: =J86 -> -200000 | K85: =K86 -> 0 | L85: =L86 -> 0 | M85: =M86 -> 0
D86: ՈՉ ՖԻՆԱՆՍԱԿԱՆ ԱԿՏԻՎՆԵՐԻ ԳԾՈՎ ԾԱԽՍԵՐ | E86: =E87 -> -250000 | F86: =F87 -> 0 | G86: =G87 -> -250000 | H86: =H87 -> -200000 | I86: =I87 -> 0 | J86: =J87 -> -200000 | K86: =K87 -> 0 | L86: =L87 -> 0 | M86: =M87 -> 0
D87: ՀԻՄՆԱԿԱՆ ՄԻՋՈՑՆԵՐ | E87: =E88 -> -250000 | F87: =F88 -> 0 | G87: =G88 -> -250000 | H87: =H88 -> -200000 | I87: =I88 -> 0 | J87: =J88 -> -200000 | K87: =K88 -> 0 | L87: =L88 -> 0 | M87: =M88 -> 0
D88: ՇԵՆՔԵՐ ԵՎ ՇԻՆՈՒԹՅՈՒՆՆԵՐ | E88: =E89 -> -250000 | F88: =F89 -> 0 | G88: =G89 -> -250000 | H88: =H89 -> -200000 | I88: =I89 -> 0 | J88: =J89 -> -200000 | K88: =K89 -> 0 | L88: =L89 -> 0 | M88: =M89 -> 0
D89: - Շենքերի և շինությունների շինարարություն | E89: =F89+G89 -> -250000 | F89: 0 | G89: ='3'!G229 -> -250000 | H89: =I89+J89 -> -200000 | I89: 0 | J89: ='3'!H229 -> -200000 | K89: =L89+M89 -> 0 | L89: 0 | M89: ='3'!I229 -> 0
D91: ՀԱՅԱՍՏԱՆԻ ՀԱՆՐԱՊԵՏՈՒԹՅԱՆ ՎԱՐՉԱՊԵՏԻ ԱՇԽԱՏԱԿԱԶՄԻ ՂԵԿԱՎԱՐ՝ | I91: Ա.ՀԱՐՈՒԹՅՈՒՆՅԱՆ

Sheet 6
M1: Հավելված N6
M2: ՀՀ կառավարության 2023 թվականի
M3: ______________ ի ___Ն որոշման
B5: «ՀԱՅԱUՏԱՆԻ ՀԱՆՐԱՊԵՏՈՒԹՅԱՆ 2023 ԹՎԱԿԱՆԻ ՊԵՏԱԿԱՆ ԲՅՈՒՋԵԻ ՄԱUԻՆ» OՐԵՆՔԻ N 1 ՀԱՎԵԼՎԱԾԻ N 5 ԱՂՅՈՒՍԱԿՈՒՄ ԵՎ ՀԱՅԱՍՏԱՆԻ ՀԱՆՐԱՊԵՏՈՒԹՅԱՆ ԿԱՌԱՎԱՐՈՒԹՅԱՆ 2022 ԹՎԱԿԱՆԻ ԴԵԿՏԵՄԲԵՐԻ 29-Ի N 2111-Ն ՈՐՈՇՄԱՆ N 5 ՀԱՎԵԼՎԱԾԻ N 4 ԱՂՅՈՒՍԱԿՈՒՄ ԿԱՏԱՐՎՈՂ ՓՈՓՈԽՈՒԹՅՈՒՆՆԵՐԸ
M6: հազ. դրամ
B7: Ծրագրային դասիչը | D7: Բյուջետային գլխավոր կարգադրիչների, ծրագրերի և միջոցառումների անվանումները | E7: Ցուցանիշների փոփոխությունը (ավելացումները նշված են դրական նշանով, իսկ նվազեցումները` փակագծերում)
E8: Կիսամյակ | H8: Ինն ամիս | K8: Տարի
E9: Ընդամենը | F9: այդ թվում` | H9: Ընդամենը | I9: այդ թվում` | K9: Ընդամենը | L9: այդ թվում`
B10: Ծրագիր | C10: Միջոց առում | F10: Դրամաշնորհային միջոցներ | G10: Համաֆինանսավորում | I10: Դրամաշնորհային միջոցներ | J10: Համաֆինանսավորում | L10: Դրամաշնորհային միջոցներ | M10: Համաֆինանսավորում
D11: ԸՆԴԱՄԵՆԸ_x000D_ այդ թվում` | E11: =E12+E13 -> -546798.2 | F11: =F12+F13 -> 0 | G11: =G12+G13 -> -546798.2 | H11: =H12+H13 -> -546798.2 | I11: =I12+I13 -> 0 | J11: =J12+J13 -> -546798.2 | K11: =K12+K13 -> -546798.2 | L11: =L12+L13 -> 0 | M11: =M12+M13 -> -546798.2
D12: - ԸՆԹԱՑԻԿ ԾԱԽՍԵՐ | E12: 0 | F12: 0 | G12: 0 | H12: 0 | I12: 0 | J12: 0 | K12: 0 | L12: 0 | M12: 0
D13: - ՈՉ ՖԻՆԱՆՍԱԿԱՆ ԱԿՏԻՎՆԵՐԻ ԳԾՈՎ ԾԱԽՍԵՐ | E13: =E22 -> -546798.2 | F13: =F22 -> 0 | G13: =G22 -> -546798.2 | H13: =H22 -> -546798.2 | I13: =I22 -> 0 | J13: =J22 -> -546798.2 | K13: =K22 -> -546798.2 | L13: =L22 -> 0 | M13: =M22 -> -546798.2
D14: ՀՀ ՏԱՐԱԾՔԱՅԻՆ ԿԱՌԱՎԱՐՄԱՆ ԵՎ ԵՆԹԱԿԱՌՈՒՑՎԱԾՔՆԵՐԻ ՆԱԽԱՐԱՐՈՒԹՅՈՒՆ_x000D_ այդ թվում` | E14: =E15+E34+E47+E58+E69 -> -546798.2 | F14: =F15+F34+F47+F58+F69 -> 0 | G14: =G15+G34+G47+G58+G69 -> -546798.2 | H14: =H15+H34+H47+H58+H69 -> -546798.2 | I14: =I15+I34+I47+I58+I69 -> 0 | J14: =J15+J34+J47+J58+J69 -> -546798.2 | K14: =K15+K34+K47+K58+K69 -> -546798.2 | L14: =L15+L34+L47+L58+L69 -> 0 | M14: =M15+M34+M47+M58+M69 -> -546798.2
B15: 1157 | D15: Քաղաքային զարգացում | E15: =E17 -> -546798.2 | F15: =F17 -> 0 | G15: =G17 -> -546798.2 | H15: =H17 -> -546798.2 | I15: =I17 -> 0 | J15: =J17 -> -546798.2 | K15: =K17 -> -546798.2 | L15: =L17 -> 0 | M15: =M17 -> -546798.2
D16: այդ թվում`
C17: 12028 | D17: ='3'!F115 -> Արևելյան Եվրոպայի էներգախնյողության և շրջակա միջավայրի գործընկերության տարածաշրջանային հիմնադրամի աջակցությամբ իրականացվող Երևան քաղաքի հանրային տրանսպորտի նոր երթուղային ցանցի շարժակազմի ներդրման ֆինասական աջակցության դրամաշնորհային ծրագիր | E17: =E19 -> -546798.2 | F17: =F19 -> 0 | G17: =G19 -> -546798.2 | H17: =H19 -> -546798.2 | I17: =I19 -> 0 | J17: =J19 -> -546798.2 | K17: =K19 -> -546798.2 | L17: =L19 -> 0 | M17: =M19 -> -546798.2
D18: այդ թվում` ըստ կատարողների
D19: ՀՀ տարածքային կառավարման և ենթակառուցվածքների նախարարություն | E19: =E24 -> -546798.2 | F19: =F24 -> 0 | G19: =G24 -> -546798.2 | H19: =H24 -> -546798.2 | I19: =I24 -> 0 | J19: =J24 -> -546798.2 | K19: =K24 -> -546798.2 | L19: =L24 -> 0 | M19: =M24 -> -546798.2
D20: այդ թվում` բյուջետային ծախսերի տնտեսագիտական դասակարգման հոդվածներ
D21: ԸՆԴԱՄԵՆԸ ԾԱԽՍԵՐ | E21: =E22 -> -546798.2 | F21: =F22 -> 0 | G21: =G22 -> -546798.2 | H21: =H22 -> -546798.2 | I21: =I22 -> 0 | J21: =J22 -> -546798.2 | K21: =K22 -> -546798.2 | L21: =L22 -> 0 | M21: =M22 -> -546798.2
D22: ='3'!F120 -> ՈՉ ՖԻՆԱՆՍԱԿԱՆ ԱԿՏԻՎՆԵՐԻ ԳԾՈՎ ԾԱԽՍԵՐ | E22: =E23 -> -546798.2 | F22: =F23 -> 0 | G22: =G23 -> -546798.2 | H22: =H23 -> -546798.2 | I22: =I23 -> 0 | J22: =J23 -> -546798.2 | K22: =K23 -> -546798.2 | L22: =L23 -> 0 | M22: =M23 -> -546798.2
D23: ='3'!F121 -> ՀԻՄՆԱԿԱՆ ՄԻՋՈՑՆԵՐ | E23: =E24 -> -546798.2 | F23: =F24 -> 0 | G23: =G24 -> -546798.2 | H23: =H24 -> -546798.2 | I23: =I24 -> 0 | J23: =J24 -> -546798.2 | K23: =K24 -> -546798.2 | L23: =L24 -> 0 | M23: =M24 -> -546798.2
D24: ='3'!F122 -> ՄԵՔԵՆԱՆԵՐ ԵՎ ՍԱՐՔԱՎՈՐՈՒՄՆԵՐ | E24: =E25 -> -546798.2 | F24: =F25 -> 0 | G24: =G25 -> -546798.2 | H24: =H25 -> -546798.2 | I24: =I25 -> 0 | J24: =J25 -> -546798.2 | K24: =K25 -> -546798.2 | L24: =L25 -> 0 | M24: =M25 -> -546798.2
D25: ='3'!F123 -> - Տրանսպորտային սարքավորումներ | E25: =F25+G25 -> -546798.2 | F25: 0 | G25: ='3'!G123 -> -546798.2 | H25: =I25+J25 -> -546798.2 | I25: 0 | J25: ='3'!H123 -> -546798.2 | K25: =L25+M25 -> -546798.2 | L25: 0 | M25: ='3'!I123 -> -546798.2
C27: ՀԱՅԱՍՏԱՆԻ ՀԱՆՐԱՊԵՏՈՒԹՅԱՆ ՎԱՐՉԱՊԵՏԻ ԱՇԽԱՏԱԿԱԶՄԻ ՂԵԿԱՎԱՐ՝ | F27: Ա. ՀԱՐՈՒԹՅՈՒՆՅԱՆ

Sheet 7
F1: Հավելված N 7
F2: ՀՀ կառավարության 2023 թվականի
F3: ______________ ի ___Ն որոշման
B5: ՀԱՅԱՍՏԱՆԻ ՀԱՆՐԱՊԵՏՈՒԹՅԱՆ ԿԱՌԱՎԱՐՈՒԹՅԱՆ 2022 ԹՎԱԿԱՆԻ ԴԵԿՏԵՄԲԵՐԻ 29-Ի N 2111-Ն ՈՐՈՇՄԱՆ N 9 ՀԱՎԵԼՎԱԾԻ NN 9.7 ԱՂՅՈՒՍԱԿՈՒՄ ԿԱՏԱՐՎՈՂ ՓՈՓՈԽՈՒԹՅՈՒՆՆԵՐԸ ԵՎ ԼՐԱՑՈՒՄՆԵՐԸ
E7: Աղյուսակ 9.7
A8: ՀՀ տարածքային կառավարման և ենթակառուցվածքների նախարարություն
B9: ՄԱՍ 1. ՊԵՏԱԿԱՆ ՄԱՐՄՆԻ ԳԾՈՎ ԱՐԴՅՈՒՆՔԱՅԻՆ (ԿԱՏԱՐՈՂԱԿԱՆ) ՑՈՒՑԱՆԻՇՆԵՐԸ
B11: Ծրագրի դասիչը | C11: Ծրագրի անվանումը
B12: 1004 | C12: Ոռոգման համակարգի առողջացում
B14: Ծրագրի միջոցառումները
B15: Ծրագրի դասիչը` | C15: 1004 | D15: Ցուցանիշների փոփոխությունը (նվազեցումները նշված են փակագծերում)
B16: Միջոցառման դասիչը` | C16: 11010 | D16: Առաջին կիսամյակ | E16: Ինն ամիս | F16: Տարի
B17: Միջոցառման անվանումը` | C17: Գերմանիայի զարգացման վարկերի բանկի աջակցությամբ իրականացվող Ախուրյան գետի ջրային ռեսուրսների ինտեգրացված կառավարում փուլ 1 ծրագրով Ջրաձոր գյուղի վերաբնակեցման գործողությունների խորհրդատվություն և կառավարում
B18: Նկարագրությունը` | C18: Գերմանիայի զարգացման վարկերի բանկի աջակցությամբ իրականացվող Ախուրյան գետի ջրային ռեսուրսների ինտեգրացված կառավարում փուլ 1 ծրագրով Ջրաձոր գյուղի վերաբնակեցման գործողությունների համակարգում և ղեկավարում
B19: Միջոցառման տեսակը` | C19: Ծառայությունների մատուցում
B20: Միջոցառումն իրականացնողի անվանումը | C20: Մասնագիտացված միավոր
B21: Արդյունքի չափորոշիչներ
B22: Կառավարվող/վերահսկվող խորհրդատվական պայմանագրերի քանակը, հատ
B23: Միջոցառման վրա կատարվող ծախսը (հազար դրամ) | D23: ='3'!G31 -> -150000 | E23: ='3'!H31 -> -150000 | F23: ='3'!I31 -> 0
B25: Ծրագրի դասիչը` | C25: 1004 | D25: Ցուցանիշների փոփոխությունը (նվազեցումները նշված են փակագծերում)
B26: Միջոցառման դասիչը` | C26: 31004 | D26: Առաջին կիսամյակ | E26: Ինն ամիս | F26: Տարի
B27: Միջոցառման անվանումը` | C27: Գերմանիայի զարգացման վարկերի բանկի աջակցությամբ իրականացվող Ախուրյան գետի ջրային ռեսուրսների ինտեգրված կառավարման ծրագրի շրջանակներում ջրային տնտեսության ենթակառուցվածքների հիմնանորոգում
B28: Նկարագրությունը` | C28: Գերմանիայի զարգացման վարկերի բանկի աջակցությամբ իրականացվող Ախուրյան գետի ջրային ռեսուրսների ինտեգրված կառավարման ծրագիր
B29: Միջոցառման տեսակը` | C29: Պետական մարմինների կողմից օգտագործվող ոչ ֆինանսական ակտիվների հետ գործառնություններ
B30: Ակտիվն օգտագործող կազմակերպության(ների) անվանում(ները)՛ | C30: Մասնագիտացված միավոր
B31: Արդյունքի չափորոշիչներ
B32: Նոր կառուցվող պատվարի երկարություն, մ | D32: -1 | E32: -5 | F32: 0
B33: Միջոցառման վրա կատարվող ծախսը (հազար դրամ) | D33: ='3'!G40 -> -379099.4 | E33: ='3'!H40 -> -379099.4 | F33: ='3'!I40 -> 0
B34: Ծրագրի դասիչը | C34: Ծրագրի անվանումը
B36: Ծրագրի դասիչը | C36: Ծրագրի անվանումը
B37: 1019 | C37: Սոցիալական ներդրումների և տեղական զարգացման ծրագիր
B39: Ծրագրի դասիչը` | C39: =B37 -> 1019 | D39: Ցուցանիշների փոփոխությունը (նվազեցումները նշված են փակագծերում)
B40: Միջոցառման դասիչը` | C40: 12001 | D40: Առաջին կիսամյակ | E40: Ինն ամիս | F40: Տարի
B41: Միջոցառման անվանումը` | C41: ='1'!D39 -> Համաշխարհային բանկի աջակցությամբ իրականացվող Տարածքային զարգացման հիմնադրամի ծրագրի շրջանակներում ՀՀ տարածքներում ջրագծերի, առողջապահության, կրթության, մշակույթի, հատուկ խնամքի և ենթակառուցվածքների ոլորտի վերականգնման և շինարարության աշխատանքներ
B42: Նկարագրությունը` | C42: ='1'!D41 -> Տարածքային զարգացման հիմնադրամի ծրագրով նախատեսված ՀՀ տարածքներում ջրագծերի, առողջապահության, կրթության օբյեկտների, մշակույթային տների, ծերանոցների, մանկատների, հատուկ դպրոցների, մանկապարտեզների և կոյուղու օբյեկտների հիմնանորոգում և շինարարություն
B43: Միջոցառման տեսակը` | C43: Տրանսֆերտների տրամադրում
B44: Շահառուների ընտրության չափանիշները | C44: Համաձայն ՏԶՀ Ղեկավար ձեռնարկի, որը ֆինանսավորման համաձայնագրի մաս է կազմում
B45: Արդյունքի չափորոշիչներ
B46: Հիմնանորոգված և նոր կառուցված ջրագծերի, առողջապահության, կրթության, մշակույթի, հատուկ խնամքի և ենթակառուցվածքների ոլորտի օբյեկտներից օգտվող համայնքներ, համայնքների թիվ, հատ | D46: -1 | E46: -1 | F46: -1
B47: Ավարտման ենթակա միկրոծրագրերի թիվ, հատ | D47: -1 | E47: -1 | F47: -1
B48: Միջոցառման վրա կատարվող ծախսը (հազար դրամ) | D48: ='3'!G147 -> -50000 | E48: ='3'!H147 -> 0 | F48: ='3'!I147 -> 0
B50: Ծրագրի դասիչը` | C50: =B48 -> Միջոցառման վրա կատարվող ծախսը (հազար դրամ) | D50: Ցուցանիշների փոփոխությունը (նվազեցումները նշված են փակագծերում)
B51: Միջոցառման դասիչը` | C51: 12004 | D51: Առաջին կիսամյակ | E51: Ինն ամիս | F51: Տարի
B52: Միջոցառման անվանումը` | C52: Համաշխարհային բանկի աջակցությամբ իրականացվող Սոցիալական ներդրումների և տեղական զարգացման ծրագրի լրացուցիչ ֆինանսավորման վարկի շրջանակներում ՀՀ համայնքային և միջհամայնքային ենթակառուցվածքների որակի, օգտագործման և հասանելիության բարելավում:
B53: Նկարագրությունը` | C53: Ջրագծերի, առողջապահության, կրթության օբյեկտների, մշակույթային տների, ծերանոցների, մանկատների, հատուկ դպրոցների, մանկապարտզների և կոյուղու օբյեկտնրի հիմն. և շինարարություն., գույքի և սարքավորումների տրամադրում շահառու ենթածրագրերի համար:
B54: Միջոցառման տեսակը` | C54: Տրանսֆերտների տրամադրում
B55: Շահառուների ընտրության չափանիշները | C55: Համաձայն ՏԶՀ Ղեկավար ձեռնարկի, որը ֆինանսավորման համաձայնագրի մաս է կազմում
B56: Արդյունքի չափորոշիչներ
B57: Համայնքների թիվը, որոնց տրամադրվել են սարքավորումներ և տեխնիկա | D57: -3 | E57: -5 | F57: -15
B58: Հիմնանորոգված և նոր կառուցված ջրագծերի, առողջապահության, կրթության, մշակույթի, հատուկ խնամքի և ենթակառուցվածքների ոլորտի օբյեկտներից օգտվող համայնքներ, համայնքների թիվ, հատ | E58: -5 | F58: -5
B59: Ավարտման ենթակա միկրոծրագրերի թիվ, հատ | F59: -7
B60: Միջոցառման վրա կատարվող ծախսը (հազար դրամ) | D60: ='1'!E45 -> -285671 | E60: ='1'!F45 -> -485671 | F60: ='1'!G45 -> -385671
B62: Ծրագրի դասիչը | C62: Ծրագրի անվանումը
B63: 1040 | C63: Կոշտ թափոնների կառավարում
B65: Ծրագրի դասիչը` | C65: =B63 -> 1040 | D65: Ցուցանիշների փոփոխությունը (նվազեցումները նշված են փակագծերում)
B66: Միջոցառման դասիչը` | C66: 12003 | D66: Առաջին կիսամյակ | E66: Ինն ամիս | F66: Տարի
B67: Միջոցառման անվանումը` | C67: ՀՀ տարածքում փակման ենթակա աղբավայրերի փակում և շահագործվող աղբավայրերի բարեկարգում
B68: Նկարագրությունը` | C68: Հանրապետության տարածքում առկա սանիտարահիգիենիկ և բնապահպանական պահանջներին չհամապատասխանող աղբանոցների փակում և շահագործման ենթակա աղբավայրերի բարեկարգում
B69: Միջոցառման տեսակը` | C69: Տրանսֆերտների տրամադրում
B70: Շահառուների ընտրության չափանիշները | C70: ՀՀ համայնքների ենթակայության աղբավայրերի փակման և շահագործվող աղբավայրերի բարեկարգման անհրաժեշտությունը
B71: Արդյունքի չափորոշիչներ
B72: Միջոցառման վրա կատարվող ծախսը (հազար դրամ) | D72: ='3'!G173 -> -25000 | E72: ='3'!H173 -> -70000 | F72: ='3'!I173 -> 0
B74: Ծրագրի դասիչը | C74: Ծրագրի անվանումը
B75: Ծրագրի դասիչը` | C75: 1040 | D75: Ցուցանիշների փոփոխությունը (նվազեցումները նշված են փակագծերում)
B76: Միջոցառման դասիչը` | C76: 32009 | D76: Առաջին կիսամյակ | E76: Ինն ամիս | F76: Տարի
B77: Միջոցառման անվանումը` | C77: Միջազգային կազմակերպությունների աջակցությամբ իրականացվող ՀՀ 8 մարզերում աղբահանության և կոշտ թափոնների ինտեգրված համակարգի կառուցում
B78: Նկարագրությունը` | C78: ՀՀ 8 մարզերում աղբահանության և կոշտ թափոնների ինտեգրված համակարգ (4 սանիտարական աղբավայր, 16 փոխբեռնման կայան)
B79: Միջոցառման տեսակը` | C79: Այլ պետական կազմակերպությունների կողմից օգտագործվող ոչ ֆինանսական ակտիվների հետ գործառնություններ
B80: Միջոցառումն իրականացնողի անվանումը՛ | C80: ՀՀ տարածքային կառավարման և ենթակառուցվածքների նախարարություն
B81: Արդյունքի չափորոշիչներ
B82: Ծրագրում ընդգրկված համայնքների թիվը, հատ
B83: Միջոցառման վրա կատարվող ծախսը (հազար դրամ) | D83: ='3'!G190 -> -6281.4 | E83: ='3'!H190 -> -33762 | F83: ='3'!I190 -> 0
B85: Ծրագրի դասիչը | C85: Ծրագրի անվանումը
B86: 1049 | C86: Ճանապարհային ցանցի բարելավում
B88: Ծրագրի միջոցառումները
B89: Ծրագրի դասիչը` | C89: 1049 | D89: Ցուցանիշների փոփոխությունը (ավելացումները նշված են դրական նշանով)
B90: Միջոցառման դասիչը` | C90: 21001 | D90: Առաջին կիսամյակ | E90: Ինն ամիս | F90: Տարի
B91: Միջոցառման անվանումը` | C91: Պետական նշանակության ավտոճանապարհների հիմնանորոգում
B92: Նկարագրությունը` | C92: Միջպետական, հանրապետական և մարզային նշանակության ավտոճոնապարհների քայքայված ծածկի վերանորոգում, մաշված ծածկի փոխարինում
B93: Միջոցառման տեսակը` | C93: Հանրության կողմից անմիջականորեն օգտագործվող ակտիվների հետ կապված միջոցառումներ
B94: Միջոցառումն իրականացնողի անվանումը | C94: Մասնագիտացված միավոր
B95: Արդյունքի չափորոշիչներ
B96: Միջպետական նշանակության ավտոճանապարհներ | D96: 0 | E96: 0 | F96: 7.2
B97: Հանրապետական նշանակության ավտոճանապարհներ | D97: 0 | E97: 0 | F97: 4
B98: Մարզային նշանակության ավտոճանապարհներ | D98: 0 | E98: 0 | F98: 3.9
B99: Միջոցառման վրա կատարվող ծախսը (հազար դրամ) | D99: ='3'!G66 -> 3160970.5 | E99: ='3'!H66 -> 2551628.1 | F99: ='3'!I66 -> 4033172.2
B101: Ծրագրի դասիչը` | C101: 1049 | D101: Ցուցանիշների փոփոխությունը (ավելացումները նշված են դրական նշանով)
B102: Միջոցառման դասիչը` | C102: 21002 | D102: Առաջին կիսամյակ | E102: Ինն ամիս | F102: Տարի
B103: Միջոցառման անվանումը` | C103: Տրանսպորտային օբյեկտների հիմնանորոգում
B104: Նկարագրությունը` | C104: Ավտոմոբիլային ճանապարհների վրա գտնվող կամուրջների հիմնանորոգում
B105: Միջոցառման տեսակը` | C105: Հանրության կողմից անմիջականորեն օգտագործվող ակտիվների հետ կապված միջոցառումներ
B106: Միջոցառումն իրականացնողի անվանումը | C106: Մասնագիտացված միավոր
B107: Արդյունքի չափորոշիչներ
B108: Շինարարություն (մ) | F108: 55
B109: Միջոցառման վրա կատարվող ծախսը (հազար դրամ) | D109: ='3'!G78 -> 0 | E109: ='3'!H78 -> 136154.8 | F109: ='3'!I78 -> 261269.6
B111: Ծրագրի դասիչը` | C111: 1049 | D111: Ցուցանիշների փոփոխությունը (նվազեցումները նշված են փակագծերում)
B112: Միջոցառման դասիչը` | C112: 21019 | D112: Առաջին կիսամյակ | E112: Ինն ամիս | F112: Տարի
B113: Միջոցառման անվանումը` | C113: Վթարային իրավիճակներում արտակարգ օպերատիվ ծառայությունների կանչի ավտոմատացված համակարգերի ներդրում
B114: Նկարագրությունը` | C114: Վթարների դեպքում տրանսպորտային միջոցի վայրի տեղորոշում, արտակարգ օպերատիվ կանչի կենտրոնի ստեղծում, զանգերի ֆիլտրում և ուղղորդում, օպերատիվ ծառայությունների արագ արձագանքում
B115: Միջոցառման տեսակը` | C115: Հանրության կողմից անմիջականորեն օգտագործվող ակտիվների հետ կապված միջոցառումներ
...

Sheet 8
F1: Հավելված N 8
F2: ՀՀ կառավարության 2023 թվականի
F3: ______________ ի ___Ն որոշման
B5: ՀԱՅԱՍՏԱՆԻ ՀԱՆՐԱՊԵՏՈՒԹՅԱՆ ԿԱՌԱՎԱՐՈՒԹՅԱՆ 2022 ԹՎԱԿԱՆԻ ԴԵԿՏԵՄԲԵՐԻ 29-Ի N 2111-Ն ՈՐՈՇՄԱՆ N 9.1 ՀԱՎԵԼՎԱԾԻ NN 9.1.7 , 9.1.25 ԵՎ 9.1.58 ԱՂՅՈՒՍԱԿՆԵՐՈՒՄ ԿԱՏԱՐՎՈՂ ՓՈՓՈԽՈՒԹՅՈՒՆՆԵՐԸ ԵՎ ԼՐԱՑՈՒՄՆԵՐԸ
E7: Աղյուսակ 9.1.7
A8: ՀՀ տարածքային կառավարման և ենթակառուցվածքների նախարարություն
B9: ՄԱՍ 1. ՊԵՏԱԿԱՆ ՄԱՐՄՆԻ ԳԾՈՎ ԱՐԴՅՈՒՆՔԱՅԻՆ (ԿԱՏԱՐՈՂԱԿԱՆ) ՑՈՒՑԱՆԻՇՆԵՐԸ
B11: Ծրագրի դասիչը | C11: Ծրագրի անվանումը
B12: 1019 | C12: Սոցիալական ներդրումների և տեղական զարգացման ծրագիր
B14: Ծրագրի դասիչը` | C14: =B12 -> 1019 | D14: Ցուցանիշների փոփոխությունը (նվազեցումները նշված են փակագծերում)
B15: Միջոցառման դասիչը` | C15: 12001 | D15: Առաջին կիսամյակ | E15: Ինն ամիս | F15: Տարի
B16: Միջոցառման անվանումը` | C16: ='1'!D39 -> Համաշխարհային բանկի աջակցությամբ իրականացվող Տարածքային զարգացման հիմնադրամի ծրագրի շրջանակներում ՀՀ տարածքներում ջրագծերի, առողջապահության, կրթության, մշակույթի, հատուկ խնամքի և ենթակառուցվածքների ոլորտի վերականգնման և շինարարության աշխատանքներ
B17: Նկարագրությունը` | C17: ='1'!D41 -> Տարածքային զարգացման հիմնադրամի ծրագրով նախատեսված ՀՀ տարածքներում ջրագծերի, առողջապահության, կրթության օբյեկտների, մշակույթային տների, ծերանոցների, մանկատների, հատուկ դպրոցների, մանկապարտեզների և կոյուղու օբյեկտների հիմնանորոգում և շինարարություն
B18: Միջոցառման տեսակը` | C18: Տրանսֆերտների տրամադրում
B19: Շահառուների ընտրության չափանիշները | C19: Համաձայն ՏԶՀ Ղեկավար ձեռնարկի, որը ֆինանսավորման համաձայնագրի մաս է կազմում
B20: Արդյունքի չափորոշիչներ
B21: Հիմնանորոգված և նոր կառուցված ջրագծերի, առողջապահության, կրթության, մշակույթի, հատուկ խնամքի և ենթակառուցվածքների ոլորտի օբյեկտներից օգտվող համայնքներ, համայնքների թիվ, հատ | D21: -1 | E21: -1 | F21: -1
B22: Ավարտման ենթակա միկրոծրագրերի թիվ, հատ | D22: -1 | E22: -1 | F22: -1
B23: Միջոցառման վրա կատարվող ծախսը (հազար դրամ) | D23: ='3'!G147 -> -50000 | E23: ='3'!H147 -> 0 | F23: ='3'!I147 -> 0
B25: Ծրագրի դասիչը` | C25: =B23 -> Միջոցառման վրա կատարվող ծախսը (հազար դրամ) | D25: Ցուցանիշների փոփոխությունը (նվազեցումները նշված են փակագծերում)
B26: Միջոցառման դասիչը` | C26: 12004 | D26: Առաջին կիսամյակ | E26: Ինն ամիս | F26: Տարի
B27: Միջոցառման անվանումը` | C27: Համաշխարհային բանկի աջակցությամբ իրականացվող Սոցիալական ներդրումների և տեղական զարգացման ծրագրի լրացուցիչ ֆինանսավորման վարկի շրջանակներում ՀՀ համայնքային և միջհամայնքային ենթակառուցվածքների որակի, օգտագործման և հասանելիության բարելավում:
B28: Նկարագրությունը` | C28: Ջրագծերի, առողջապահության, կրթության օբյեկտների, մշակույթային տների, ծերանոցների, մանկատների, հատուկ դպրոցների, մանկապարտզների և կոյուղու օբյեկտնրի հիմն. և շինարարություն., գույքի և սարքավորումների տրամադրում շահառու ենթածրագրերի համար:
B29: Միջոցառման տեսակը` | C29: Տրանսֆերտների տրամադրում
B30: Շահառուների ընտրության չափանիշները | C30: Համաձայն ՏԶՀ Ղեկավար ձեռնարկի, որը ֆինանսավորման համաձայնագրի մաս է կազմում
B31: Արդյունքի չափորոշիչներ
B32: Համայնքների թիվը, որոնց տրամադրվել են սարքավորումներ և տեխնիկա | D32: -3 | E32: -5 | F32: -15
B33: Հիմնանորոգված և նոր կառուցված ջրագծերի, առողջապահության, կրթության, մշակույթի, հատուկ խնամքի և ենթակառուցվածքների ոլորտի օբյեկտներից օգտվող համայնքներ, համայնքների թիվ, հատ | E33: -5 | F33: -5
B34: Ավարտման ենթակա միկրոծրագրերի թիվ, հատ | F34: -7
B35: Միջոցառման վրա կատարվող ծախսը (հազար դրամ) | D35: ='1'!E45 -> -285671 | E35: ='1'!F45 -> -485671 | F35: ='1'!G45 -> -385671
B37: Ծրագրի դասիչը` | C37: 1040 | D37: Ցուցանիշների փոփոխությունը (նվազեցումները նշված են փակագծերում)
B38: Միջոցառման դասիչը` | C38: 32009 | D38: Առաջին կիսամյակ | E38: Ինն ամիս | F38: Տարի
B39: Միջոցառման անվանումը` | C39: Միջազգային կազմակերպությունների աջակցությամբ իրականացվող ՀՀ 8 մարզերում աղբահանության և կոշտ թափոնների ինտեգրված համակարգի կառուցում
B40: Նկարագրությունը` | C40: ՀՀ 8 մարզերում աղբահանության և կոշտ թափոնների ինտեգրված համակարգ (4 սանիտարական աղբավայր, 16 փոխբեռնման կայան)
B41: Միջոցառման տեսակը` | C41: Այլ պետական կազմակերպությունների կողմից օգտագործվող ոչ ֆինանսական ակտիվների հետ գործառնություններ
B42: Միջոցառումն իրականացնողի անվանումը՛ | C42: ՀՀ տարածքային կառավարման և ենթակառուցվածքների նախարարություն
B43: Արդյունքի չափորոշիչներ
B44: Ծրագրում ընդգրկված համայնքների թիվը, հատ
B45: Միջոցառման վրա կատարվող ծախսը (հազար դրամ) | D45: ='3'!G190 -> -6281.4 | E45: ='3'!H190 -> -33762 | F45: ='3'!I190 -> 0
B47: Ծրագրի դասիչը | C47: Ծրագրի անվանումը
B48: 1049 | C48: Ճանապարհային ցանցի բարելավում
B50: Ծրագրի միջոցառումները
B51: Ծրագրի դասիչը` | C51: 1049 | D51: Ցուցանիշների փոփոխությունը (ավելացումները նշված են դրական նշանով)
B52: Միջոցառման դասիչը` | C52: 21001 | D52: Առաջին կիսամյակ | E52: Ինն ամիս | F52: Տարի
B53: Միջոցառման անվանումը` | C53: Պետական նշանակության ավտոճանապարհների հիմնանորոգում
B54: Նկարագրությունը` | C54: Միջպետական, հանրապետական և մարզային նշանակության ավտոճոնապարհների քայքայված ծածկի վերանորոգում, մաշված ծածկի փոխարինում
B55: Միջոցառման տեսակը` | C55: Հանրության կողմից անմիջականորեն օգտագործվող ակտիվների հետ կապված միջոցառումներ
B56: Միջոցառումն իրականացնողի անվանումը | C56: Մասնագիտացված միավոր
B57: Արդյունքի չափորոշիչներ
B58: Միջպետական նշանակության ավտոճանապարհներ | D58: 0 | E58: 0 | F58: 7.2
B59: Հանրապետական նշանակության ավտոճանապարհներ | D59: 0 | E59: 0 | F59: 4
B60: Մարզային նշանակության ավտոճանապարհներ | D60: 0 | E60: 0 | F60: 3.9
B61: Միջոցառման վրա կատարվող ծախսը (հազար դրամ) | D61: ='3'!G66 -> 3160970.5 | E61: ='3'!H66 -> 2551628.1 | F61: ='3'!I66 -> 4033172.2
B63: Ծրագրի դասիչը` | C63: 1049 | D63: Ցուցանիշների փոփոխությունը (ավելացումները նշված են դրական նշանով)
B64: Միջոցառման դասիչը` | C64: 21002 | D64: Առաջին կիսամյակ | E64: Ինն ամիս | F64: Տարի
B65: Միջոցառման անվանումը` | C65: Տրանսպորտային օբյեկտների հիմնանորոգում
B66: Նկարագրությունը` | C66: Ավտոմոբիլային ճանապարհների վրա գտնվող կամուրջների հիմնանորոգում
B67: Միջոցառման տեսակը` | C67: Հանրության կողմից անմիջականորեն օգտագործվող ակտիվների հետ կապված միջոցառումներ
B68: Միջոցառումն իրականացնողի անվանումը | C68: Մասնագիտացված միավոր
B69: Արդյունքի չափորոշիչներ
B70: Շինարարություն (մ) | F70: 55
B71: Միջոցառման վրա կատարվող ծախսը (հազար դրամ) | D71: ='3'!G78 -> 0 | E71: ='3'!H78 -> 136154.8 | F71: ='3'!I78 -> 261269.6
B73: Ծրագրի դասիչը` | C73: 1049 | D73: Ցուցանիշների փոփոխությունը (նվազեցումները նշված են փակագծերում)
B74: Միջոցառման դասիչը` | C74: 21019 | D74: Առաջին կիսամյակ | E74: Ինն ամիս | F74: Տարի
B75: Միջոցառման անվանումը` | C75: Վթարային իրավիճակներում արտակարգ օպերատիվ ծառայությունների կանչի ավտոմատացված համակարգերի ներդրում
B76: Նկարագրությունը` | C76: Վթարների դեպքում տրանսպորտային միջոցի վայրի տեղորոշում, արտակարգ օպերատիվ կանչի կենտրոնի ստեղծում, զանգերի ֆիլտրում և ուղղորդում, օպերատիվ ծառայությունների արագ արձագանքում
B77: Միջոցառման տեսակը` | C77: Հանրության կողմից անմիջականորեն օգտագործվող ակտիվների հետ կապված միջոցառումներ
B78: Միջոցառումն իրականացնողի անվանումը | C78: Մասնագիտացված միավոր
B79: Արդյունքի չափորոշիչներ
B80: Միջոցառման վրա կատարվող ծախսը (հազար դրամ) | D80: ='3'!G89 -> -270000 | E80: ='3'!H89 -> 0 | F80: ='3'!I89 -> 0
B82: Ծրագրի դասիչը` | C82: 1049 | D82: Ցուցանիշների փոփոխությունը (նվազեցումները նշված են փակագծերում)
B83: Միջոցառման դասիչը` | C83: 31002 | D83: Առաջին կիսամյակ | E83: Ինն ամիս | F83: Տարի
B84: Միջոցառման անվանումը` | C84: ='1'!D89 -> Տրանսպորտային միջոցների տեխնիկական զննության գործընթացի ավտոմատացված համակարգի ներդրում
B85: Նկարագրությունը` | C85: ='1'!D91 -> Տրանսպորտային միջոցների տեխնիկական զննության գործընթացի ավտոմատացված համակարգի ներդրում
B86: Միջոցառման տեսակը` | C86: ='1'!D93 -> Պետական մարմինների կողմից օգտագործվող ոչ ֆինանսական ակտիվների հետ գործառնություններ
B87: Միջոցառումն իրականացնողի անվանումը | C87: Մասնագիտացված միավոր
B88: Արդյունքի չափորոշիչներ
B90: Միջոցառման վրա կատարվող ծախսը (հազար դրամ) | D90: ='1'!E89 -> -4500 | E90: ='1'!F89 -> 0 | F90: ='1'!G89 -> 0
B92: Ծրագրի դասիչը | C92: Ծրագրի անվանումը
B93: 1157 | C93: Քաղաքային զարգացում
B95: Ծրագրի միջոցառումները
B96: Ծրագրի դասիչը` | C96: 1157 | D96: Ցուցանիշների փոփոխությունը (նվազեցումները նշված են փակագծերում)
B97: Միջոցառման դասիչը` | C97: 12028 | D97: Առաջին կիսամյակ | E97: Ինն ամիս | F97: Տարի
B98: Միջոցառման անվանումը` | C98: Արևելյան Եվրոպայի էներգախնյողության և շրջակա միջավայրի գործընկերության տարածաշրջանային հիմնադրամի աջակցությամբ իրականացվող Երևան քաղաքի հանրային տրանսպորտի նոր երթուղային ցանցի շարժակազմի ներդրման ֆինասական աջակցության դրամաշնորհային ծրագիր
B99: Նկարագրությունը` | C99: Երևան քաղաքի տրանսպորտի և երթևեկության բարելավման համար տրամադրվող աջակցություն և ծառայություններ
B100: Միջոցառման տեսակը` | C100: Տրանսֆերտների տրամադրում
B101: Շահառուների ընտրության չափանիշները | C101: ՀՀ բնակչություն
B102: Արդյունքի չափորոշիչներ
B103: Ավտոբուսների ձեռք բերում, տոկոս
B104: Միջոցառման վրա կատարվող ծախսը (հազար դրամ) | D104: ='3'!G123 -> -546798.2 | E104: ='3'!H123 -> -546798.2 | F104: ='3'!I123 -> -546798.2
B106: Ծրագրի դասիչը` | C106: 1157 | D106: Ցուցանիշների փոփոխությունը (նվազեցումները նշված են փակագծերում)
B107: Միջոցառման դասիչը` | C107: 12029 | D107: Առաջին կիսամյակ | E107: Ինն ամիս | F107: Տարի
B108: Միջոցառման անվանումը` | C108: Ասիական զարգացման բանկի աջակցությամբ իրականացվող քաղաքային կանաչ զարգացման ներդրումային ծրագրի համակարգում և կառավարում
B109: Նկարագրությունը` | C109: Քաղաքային կանաչ զարգացման ներդրումային ծրագրի շրջանակներում համակարգում և կառավարում
B110: Միջոցառման տեսակը` | C110: Տրանսֆերտների տրամադրում
B111: Շահառուների ընտրության չափանիշները | C111: ՀՀ բնակչություն
B112: Արդյունքի չափորոշիչներ
B113: Հողի օտարման և տարաբնակեցման ծրագիր (չնախատեսված ծախսեր՛ բողոքներ, իրավանական ծառայությունների մատուցում), հատ
B114: Միջոցառման վրա կատարվող ծախսը (հազար դրամ) | D114: ='3'!G132 -> -192010.2 | E114: ='3'!H132 -> -192010.2 | F114: ='3'!I132 -> -150000
B116: Ծրագրի դասիչը | C116: Ծրագրի անվանումը
...

Sheet 9
H1: Հավելված N 9
H2: ՀՀ կառավարության 2023 թվականի
H3: ______________ ի ___Ն որոշման
B5: ՀԱՅԱՍՏԱՆԻ ՀԱՆՐԱՊԵՏՈՒԹՅԱՆ ԿԱՌԱՎԱՐՈՒԹՅԱՆ 2022 ԹՎԱԿԱՆԻ ԴԵԿՏԵՄԲԵՐԻ 29-Ի N 2111-Ն ՈՐՈՇՄԱՆ N 10 ՀԱՎԵԼՎԱԾՈՒՄ ԿԱՏԱՐՎՈՂ ԼՐԱՑՈՒՄՆԵՐԸ
B6: Կոդը | C6: Անվանումը | D6: Գնման ձևը | E6: Չափման միավորը | F6: Միավորի գինը | G6: Ցուցանիշների փոփոխությունը (ավելացումները նշված են դրական նշանով)
G7: Քանակը | H7: Գումարը (հազար դրամով)
B8: ՀՀ տարածքային կառավարման և ենթակառուցվածքների նախարարություն | H8: =+H9 -> 4154349.8
B9: Բաժին N 04 | C9: Խումբ N 05 | D9: Դաս N 01 | E9: Ճանապարհային տրանսպորտ | H9: =+H10+H36 -> 4154349.8
B10: 1049 21001 | C10: Պետական նշանակության ավտոճանապարհների հիմնանորոգում | H10: =+H11+H21 -> 3893080.2
B11: ՄԱՍ II. ԱՇԽԱՏԱՆՔՆԵՐ | H11: =SUM(H12:H20) -> 3838378.8
B12: 45231177 | C12: ճանապարհների վերանորոգման աշխատանքներ | D12: ՀԲՄ | E12: դրամ | F12: 258629904 | G12: 1 | H12: =+G12*F12/1000 -> 258629.9
B13: 45231177/511 | C13: ճանապարհների վերանորոգման աշխատանքներ | D13: ՀԲՄ | E13: դրամ | F13: 750000000 | G13: 1 | H13: =+G13*F13/1000 -> 750000
B14: 45231177 | C14: ճանապարհների վերանորոգման աշխատանքներ | D14: ՀԲՄ | E14: դրամ | F14: 98055000 | G14: 1 | H14: =+G14*F14/1000 -> 98055
B15: 45231177/503 | C15: ճանապարհների վերանորոգման աշխատանքներ | D15: ՀԲՄ | E15: դրամ | F15: 938299200 | G15: 1 | H15: =+G15*F15/1000 -> 938299.2
B16: 45231177 | C16: ճանապարհների վերանորոգման աշխատանքներ | D16: ԲՄ | E16: դրամ | F16: 95570613 | G16: 1 | H16: =+G16*F16/1000 -> 95570.613
B17: 45231177 | C17: ճանապարհների վերանորոգման աշխատանքներ | D17: ԲՄ | E17: դրամ | F17: 776808870 | G17: 1 | H17: =+G17*F17/1000 -> 776808.87
B18: 45231177 | C18: ճանապարհների վերանորոգման աշխատանքներ | D18: ՀԲՄ | E18: դրամ | F18: 49100000 | G18: 1 | H18: =+G18*F18/1000 -> 49100
B19: 45231177/513 | C19: ճանապարհների վերանորոգման աշխատանքներ | D19: ՀԲՄ | E19: դրամ | F19: 834499200 | G19: 1 | H19: =+G19*F19/1000 -> 834499.2
B20: 45231177 | C20: ճանապարհների վերանորոգման աշխատանքներ | D20: ՀԲՄ | E20: դրամ | F20: 37416005 | G20: 1 | H20: =+G20*F20/1000 -> 37416.005
B21: ՄԱՍ III. ԾԱՌԱՅՈՒԹՅՈՒՆՆԵՐ | H21: =SUM(H22:H35) -> 54701.382
B22: 71351540 | C22: տեխնիկական հսկողության ծառայություններ | D22: ՀԲՄ | E22: դրամ | F22: 3815188 | G22: 1 | H22: =+G22*F22/1000 -> 3815.188
B23: 71351540/509 | C23: տեխնիկական հսկողության ծառայություններ | D23: ՀԲՄ | E23: դրամ | F23: 2985428 | G23: 1 | H23: =+G23*F23/1000 -> 2985.428
B24: 71351540 | C24: տեխնիկական հսկողության ծառայություններ | D24: ՀԲՄ | E24: դրամ | F24: 1243813 | G24: 1 | H24: =+G24*F24/1000 -> 1243.813
B25: 71351540/511 | C25: տեխնիկական հսկողության ծառայություններ | D25: ՀԲՄ | E25: դրամ | F25: 4592500 | G25: 1 | H25: =+G25*F25/1000 -> 4592.5
B26: 71351540 | C26: տեխնիկական հսկողության ծառայություններ | D26: ՀԲՄ | E26: դրամ | F26: 521600 | G26: 1 | H26: =+G26*F26/1000 -> 521.6
B27: 71351540 | C27: տեխնիկական հսկողության ծառայություններ | D27: ԳՀ | E27: դրամ | F27: 6807432 | G27: 1 | H27: =+G27*F27/1000 -> 6807.432
B28: 71351540 | C28: տեխնիկական հսկողության ծառայություններ | D28: ԳՀ | E28: դրամ | F28: 521220 | G28: 1 | H28: =+G28*F28/1000 -> 521.22
B29: 98111140 | C29: հեղինակային հսկողության ծառայություններ | D29: ՄԱ | E29: դրամ | F29: 6845981 | G29: 1 | H29: =+G29*F29/1000 -> 6845.981
B30: 98111140 | C30: հեղինակային հսկողության ծառայություններ | D30: ՄԱ | E30: դրամ | F30: 2182500 | G30: 1 | H30: =+G30*F30/1000 -> 2182.5
B31: 98111140 | C31: հեղինակային հսկողության ծառայություններ | D31: ՄԱ | E31: դրամ | F31: 5129720 | G31: 1 | H31: =+G31*F31/1000 -> 5129.72
B32: 98111140 | C32: հեղինակային հսկողության ծառայություններ | D32: ՄԱ | E32: դրամ | F32: 6783170 | G32: 1 | H32: =+G32*F32/1000 -> 6783.17
B33: 98111140 | C33: հեղինակային հսկողության ծառայություններ | D33: ՄԱ | E33: դրամ | F33: 6722889 | G33: 1 | H33: =+G33*F33/1000 -> 6722.889
B34: 98111140 | C34: հեղինակային հսկողության ծառայություններ | D34: ՄԱ | E34: դրամ | F34: 5951609 | G34: 1 | H34: =+G34*F34/1000 -> 5951.609
B35: 98111140 | C35: հեղինակային հսկողության ծառայություններ | D35: ՄԱ | E35: դրամ | F35: 598332 | G35: 1 | H35: =+G35*F35/1000 -> 598.332
B36: 1049 21002 | C36: Տրանսպորտային օբյեկտների հիմնանորոգում | H36: =H37+H39 -> 261269.59
B37: ՄԱՍ II. ԱՇԽԱՏԱՆՔՆԵՐ | H37: =H38 -> 245304.79
B38: 45231177/505 | C38: ճանապարհների վերանորոգման աշխատանքներ | D38: ՀԲՄ | E38: դրամ | F38: 245304790 | G38: 1 | H38: =+G38*F38/1000 -> 245304.79
B39: ՄԱՍ III. ԾԱՌԱՅՈՒԹՅՈՒՆՆԵՐ | H39: =SUM(H40:H47) -> 15964.801
B40: 71351540 | C40: տեխնիկական հսկողության ծառայություններ | D40: ՀԲՄ | E40: դրամ | F40: 3468009 | G40: 1 | H40: =+G40*F40/1000 -> 3468.009
B41: 98111140 | C41: հեղինակային հսկողության ծառայություններ | D41: ՄԱ | E41: դրամ | F41: 1456792 | G41: 1 | H41: =+G41*F41/1000 -> 1456.792
B42: 71241200/511 | C42: նախագծերի պատրաստման,ծախսերի գնահատման ծառայություններ | D42: ՀԲՄ | E42: դրամ | F42: 2100000 | G42: 1 | H42: =+G42*F42/1000 -> 2100
B43: 71241200/512 | C43: նախագծերի պատրաստման,ծախսերի գնահատման ծառայություններ | D43: ՀԲՄ | E43: դրամ | F43: 4680000 | G43: 1 | H43: =+G43*F43/1000 -> 4680
B44: 71241200/513 | C44: նախագծերի պատրաստման,ծախսերի գնահատման ծառայություններ | D44: ՀԲՄ | E44: դրամ | F44: 3180000 | G44: 1 | H44: =+G44*F44/1000 -> 3180
B45: 50531140/510 | C45: փորձաքննության ծառայություններ | D45: ԳՀ | E45: դրամ | F45: 312000 | G45: 1 | H45: =+G45*F45/1000 -> 312
B46: 50531140/511 | C46: փորձաքննության ծառայություններ | D46: ԳՀ | E46: դրամ | F46: 312000 | G46: 1 | H46: =+G46*F46/1000 -> 312
B47: 50531140/512 | C47: փորձաքննության ծառայություններ | D47: ԳՀ | E47: դրամ | F47: 456000 | G47: 1 | H47: =+G47*F47/1000 -> 456
B48: ՀՀ տարածքային կառավարման և ենթակառուցվածքների նախարարության ջրային կոմիտե | H48: =H49 -> 0
B49: Բաժին N 06 | C49: Խումբ N 03 | D49: Դաս N 01 | E49: Ջրամատակարարում | H49: =+H50 -> 0
B50: 1072 31010 | C50: Ջրամատակարարման և ջրահեռացման համակարգի հիմնանորոգում | H50: =H51+H58 -> 0
C51: ՄԱՍ II. ԱՇԽԱՏԱՆՔՆԵՐ | H51: =SUM(H52:H57) -> -200335.2
B52: 45231131/3 | C52: ջրամատակարարման խողովակաշարերի հետ կապված աշխատանքներ | D52: ԳՀ | E52: դրամ | H52: -7083.7
B53: 45231131/20 | C53: ջրամատակարարման խողովակաշարերի հետ կապված աշխատանքներ | D53: ԲՄ | E53: դրամ | H53: -6857.1
B54: 45231131/23 | C54: ջրամատակարարման խողովակաշարերի հետ կապված աշխատանքներ | D54: ԲՄ | E54: դրամ | H54: -59365.1
B55: 45231131/24 | C55: ջրամատակարարման խողովակաշարերի հետ կապված աշխատանքներ | D55: ԲՄ | E55: դրամ | H55: -38780.6
B56: 45231131/25 | C56: ջրամատակարարման խողովակաշարերի հետ կապված աշխատանքներ | D56: ԲՄ | E56: դրամ | H56: -48104
B57: 45231131/26 | C57: ջրամատակարարման խողովակաշարերի հետ կապված աշխատանքներ | D57: ՀԲՄ | E57: դրամ | H57: -40144.7
C58: ՄԱՍ III. ԾԱՌԱՅՈՒԹՅՈՒՆՆԵՐ | H58: =SUM(H59:H70) -> 200335.2
B59: 45231131/1 | C59: ջրամատակարարման խողովակաշարերի հետ կապված աշխատանքներ | D59: ԲՄ | E59: դրամ | H59: 50000
B60: 45231131/4 | C60: ջրամատակարարման խողովակաշարերի հետ կապված աշխատանքներ | D60: ԳՀ | E60: դրամ | H60: 14158
B61: 45231131/5 | C61: ջրամատակարարման խողովակաշարերի հետ կապված աշխատանքներ | D61: ԳՀ | E61: դրամ | H61: 13554.6
B62: 45231131/8 | C62: ջրամատակարարման խողովակաշարերի հետ կապված աշխատանքներ | D62: ՀԲՄ | E62: դրամ | H62: 8008.3
B63: 45231131/11 | C63: ջրամատակարարման խողովակաշարերի հետ կապված աշխատանքներ | D63: ՀԲՄ | E63: դրամ | H63: 12000
B64: 45231131/12 | C64: ջրամատակարարման խողովակաշարերի հետ կապված աշխատանքներ | D64: ԲՄ | E64: դրամ | H64: 4682.1
B65: 45231131/13 | C65: ջրամատակարարման խողովակաշարերի հետ կապված աշխատանքներ | D65: ԲՄ | E65: դրամ | H65: 7.2
B66: 45231131/14 | C66: ջրամատակարարման խողովակաշարերի հետ կապված աշխատանքներ | D66: ԲՄ | E66: դրամ | H66: 5350
B67: 45231131/15 | C67: ջրամատակարարման խողովակաշարերի հետ կապված աշխատանքներ | D67: ՀԲՄ | E67: դրամ | H67: 10311.3
B68: 45231131/16 | C68: ջրամատակարարման խողովակաշարերի հետ կապված աշխատանքներ | D68: ԲՄ | E68: դրամ | H68: 38589.7
B69: 45231131/17 | C69: ջրամատակարարման խողովակաշարերի հետ կապված աշխատանքներ | D69: ԲՄ | E69: դրամ | H69: 27921
B70: 45231131/18 | C70: ջրամատակարարման խողովակաշարերի հետ կապված աշխատանքներ | D70: ԲՄ | E70: դրամ | H70: 15753
C72: ՀԱՅԱՍՏԱՆԻ ՀԱՆՐԱՊԵՏՈՒԹՅԱՆ ՎԱՐՉԱՊԵՏԻ ԱՇԽԱՏԱԿԱԶՄԻ ՂԵԿԱՎԱՐ՝ | F72: Ա.ՀԱՐՈՒԹՅՈՒՆՅԱՆ
