Workbook
Name AgencyCode: #REF!
Name AgencyCode: #REF!
Name AgencyCode: #REF!
Name AgencyCode: #REF!
Name AgencyCode: #REF!
Name AgencyCode: #REF!
Name AgencyCode: #REF!
Name AgencyCode: #REF!
Name AgencyCode: #REF!
Name AgencyName: #REF!
Name AgencyName: #REF!
Name AgencyName: #REF!
Name AgencyName: #REF!
Name AgencyName: #REF!
Name AgencyName: #REF!
Name AgencyName: #REF!
Name åû: #REF!
Name åû: #REF!
Name åû: #REF!
Name åû: #REF!
Name davit: #REF!
Name davit: #REF!
Name davit: #REF!
Name davit: #REF!
Name Functional1: #REF!
Name Functional1: #REF!
Name Functional1: #REF!
Name Functional1: #REF!
Name Functional1: #REF!
Name Functional1: #REF!
Name Functional1: #REF!
Name ggg: #REF!
Name ggg: #REF!
Name ggg: #REF!
Name ggg: #REF!
Name mas: #REF!
Name mas: #REF!
Name mas: #REF!
Name mas: #REF!
Name mass: #REF!
Name mass: #REF!
Name mass: #REF!
Name mass: #REF!
Name nax: #REF!
Name PANature: #REF!
Name PANature: #REF!
Name PANature: #REF!
Name PANature: #REF!
Name PANature: #REF!
Name PANature: #REF!
Name PANature: #REF!
Name PAType: #REF!
Name PAType: #REF!
Name PAType: #REF!
Name PAType: #REF!
Name PAType: #REF!
Name PAType: #REF!
Name PAType: #REF!
Name Performance2: #REF!
Name Performance2: #REF!

Sheet 1
G1: Հավելված N1
G2: ՀՀ կառավարության 2023 թվականի
G3: ______________ ի ___Ն որոշման
B5: «ՀԱՅԱUՏԱՆԻ ՀԱՆՐԱՊԵՏՈՒԹՅԱՆ 2023 ԹՎԱԿԱՆԻ ՊԵՏԱԿԱՆ ԲՅՈՒՋԵԻ ՄԱUԻՆ» OՐԵՆՔԻ N 1 ՀԱՎԵԼՎԱԾԻ N 2 ԱՂՅՈՒՍԱԿՈՒՄ ԿԱՏԱՐՎՈՂ ՎԵՐԱԲԱՇԽՈՒՄԸ ԵՎ ՀԱՅԱՍՏԱՆԻ ՀԱՆՐԱՊԵՏՈՒԹՅԱՆ ԿԱՌԱՎԱՐՈՒԹՅԱՆ 2022 ԹՎԱԿԱՆԻ ԴԵԿՏԵՄԲԵՐԻ 29-Ի N 2111-Ն ՈՐՈՇՄԱՆ N 5 ՀԱՎԵԼՎԱԾԻ N 1 ԱՂՅՈՒՍԱԿՈՒՄ ԿԱՏԱՐՎՈՂ ՓՈՓՈԽՈՒԹՅՈՒՆՆԵՐԸ
G6: հազ. դրամ
B7: Ծրագրային դասիչը | D7: Բյուջետային հատկացումների գլխավոր կարգադրիչների, ծրագրերի և միջոցառումների անվանումները | E7: Ցուցանիշների փոփոխությունը (ավելացումները նշված են դրական նշանով, իսկ նվազեցումները` փակագծերում)
B8: Ծրագիր | C8: Միջոցառում | E8: Առաջին կիսամյակ | F8: Ինն ամիս | G8: Տարի
B9: 1192 | D9: ԸՆԴԱՄԵՆԸ | E9: =+E11 -> 0 | F9: =+F11 -> 0 | G9: =+G11 -> -2.3283064e-10
D10: այդ թվում
C11: ՀՀ տարածքային կառավարման և ենթակառուցվածքների նախարարություն | E11: =E12+E31+E50+E70+E107+E126+E95 -> 0 | F11: =F12+F31+F50+F70+F107+F126+F95 -> 0 | G11: =G12+G31+G50+G70+G107+G126+G95 -> -2.3283064e-10
B12: 1004 | D12: Ծրագրի անվանումը` | E12: =E20+E26 -> -529099.4 | F12: =F20+F26 -> -529099.4 | G12: =G20+G26 -> 0
D13: Ոռոգման համակարգի առողջացում
D14: Ծրագրի նպատակը`
D15: Ոռոգման ծառայությունների հասանելիության և մատչելիության ապահովում
D16: Վերջնական արդյունքի նկարագրությունը`
D17: Ոռոգման ջրի մատակարարման արդյունավետության և հասանելիության բարելավում, կորուստների կրճատում
C18: Ծրագրի միջոցառումներ
C19: 11010 | D19: Միջոցառման անվանումը`
D20: Գերմանիայի զարգացման վարկերի բանկի աջակցությամբ իրականացվող Ախուրյան գետի ջրային ռեսուրսների ինտեգրացված կառավարում փուլ 1 ծրագրով Ջրաձոր գյուղի վերաբնակեցման գործողությունների խորհրդատվություն և կառավարում | E20: ='3'!G23 -> -150000 | F20: ='3'!H23 -> -150000 | G20: ='3'!I23 -> 0
D21: Միջոցառման նկարագրությունը`
D22: Գերմանիայի զարգացման վարկերի բանկի աջակցությամբ իրականացվող Ախուրյան գետի ջրային ռեսուրսների ինտեգրացված կառավարում փուլ 1 ծրագրով Ջրաձոր գյուղի վերաբնակեցման գործողությունների համակարգում և ղեկավարում
D23: Միջոցառման տեսակը
D24: Ծառայությունների մատուցում
C25: 31004 | D25: Միջոցառման անվանումը`
D26: Գերմանիայի զարգացման վարկերի բանկի աջակցությամբ իրականացվող Ախուրյան գետի ջրային ռեսուրսների ինտեգրված կառավարման ծրագրի շրջանակներում ջրային տնտեսության ենթակառուցվածքների հիմնանորոգում | E26: ='3'!G32 -> -379099.4 | F26: ='3'!H32 -> -379099.4 | G26: ='3'!I32 -> 0
D27: Միջոցառման նկարագրությունը`
D28: Գերմանիայի զարգացման վարկերի բանկի աջակցությամբ իրականացվող Ախուրյան գետի ջրային ռեսուրսների ինտեգրված կառավարման ծրագիր
D29: Միջոցառման տեսակը
D30: Պետական մարմինների կողմից օգտագործվող ոչ ֆինանսական ակտիվների հետ գործառնություններ
B31: 1019 | D31: Ծրագրի անվանումը` | E31: =E39+E45 -> -335671 | F31: =F39+F45 -> -485671 | G31: =G39+G45 -> -385671
D32: Սոցիալական ներդրումների և տեղական զարգացման ծրագիր
D33: Ծրագրի նպատակը`
D34: Նպաստել տարածքներում բնակչության նյութական և ոչ նյութական բարեկեցության աճին
D35: Վերջնական արդյունքի նկարագրությունը`
D36: Համայնքային և միջհամայնքային ենթակառուցվածքների և որակի հասանելիության բարելավում, ինստիտուցիոնալ և ֆինանասական կարողությունների հզորացում
C37: Ծրագրի միջոցառումներ
C38: 12001 | D38: Միջոցառման անվանումը`
D39: ='3'!F143 -> Համաշխարհային բանկի աջակցությամբ իրականացվող Տարածքային զարգացման հիմնադրամի ծրագրի շրջանակներում ՀՀ տարածքներում ջրագծերի, առողջապահության, կրթության, մշակույթի, հատուկ խնամքի և ենթակառուցվածքների ոլորտի վերականգնման և շինարարության աշխատանքներ | E39: ='3'!G143 -> -50000 | F39: ='3'!H143 -> 0 | G39: ='3'!I143 -> 0
D40: Միջոցառման նկարագրությունը`
D41: Տարածքային զարգացման հիմնադրամի ծրագրով նախատեսված ՀՀ տարածքներում ջրագծերի, առողջապահության, կրթության օբյեկտների, մշակույթային տների, ծերանոցների, մանկատների, հատուկ դպրոցների, մանկապարտեզների և կոյուղու օբյեկտների հիմնանորոգում և շինարարություն
...

Sheet 2
H1: Հավելված N 2
H2: ՀՀ կառավարության 2023 թվականի
H3: ______________ ի ___Ն որոշման
A4: «ՀԱՅԱՍՏԱՆԻ ՀԱՆՐԱՊԵՏՈՒԹՅԱՆ 2023 ԹՎԱԿԱՆԻ ՊԵՏԱԿԱՆ ԲՅՈՒՋԵԻ ՄԱՍԻՆ» ՕՐԵՆՔԻ N 1 ՀԱՎԵԼՎԱԾԻ N 3 ԱՂՅՈՒՍԱԿՈՒՄ ԿԱՏԱՐՎՈՂ ՓՈՓՈԽՈՒԹՅՈՒՆՆԵՐԸ ԵՎ ԼՐԱՑՈՒՄՆԵՐԸ
G5: հազ. դրամ
A6: Ծրագրային դասիչ | C6: Բյուջետային գլխավոր կարգադրիչների, ծրագրերի, միջոցառումների և ուղղությունների անվանումները | D6: Ցուցանիշների փոփոխությունը (Ավելացումները նշված են դրական նշանով, իսկ նվազեցումները` փակագծերում)
D7: Ընդամենը, | E7: այդ թվում՝
A8: Ծրագիր | B8: Միջոցառում | E8: Կառուցման աշխատանքներ | F8: Վերակառուցման, վերանորոգման և վերականգնման աշխատանքներ | G8: Նախագծահե- տազոտական, գեոդեզիա- քարտեզագրա- կան աշխա- տանքներ | H8: Ոչ ֆինանսական այլ ակտիվների ձեռքբերում
C9: ԸՆԴԱՄԵՆԸ | D9: =+E9+F9+G9+H9 -> 1082469.2 | E9: =+E11 -> 0 | F9: =+F11 -> 1071429.2 | G9: =+G11 -> 11040 | H9: =+H11 -> 0
C10: այդ թվում՝
C11: ՀՀ ՏԱՐԱԾՔԱՅԻՆ ԿԱՌԱՎԱՐՄԱՆ ԵՎ ԵՆԹԱԿԱՌՈՒՑՎԱԾՔՆԵՐԻ ՆԱԽԱՐԱՐՈՒԹՅՈՒՆ | D11: =+E11+F11+G11+H11 -> 1082469.2 | E11: =+E14+E30 -> 0 | F11: =+F14+F30+F13+F29 -> 1071429.2 | G11: =+G14+G30+G13+G29 -> 11040 | H11: =+H14+H30+H13+H29 -> 0
C12: այդ թվում`
A13: 1049 | B13: 21001 | C13: Պետական նշանակության ավտոճանապարհների հիմնանորոգում | D13: =+E13+F13+G13+H13 -> -2950703 | E13: 0 | F13: ='4'!G19 -> -2950703 | G13: 0 | H13: 0
A14: 1049 | B14: 21001 | C14: Պետական նշանակության ավտոճանապարհների հիմնանորոգում | D14: =+E14+F14+G14+H14 -> 4033172.2 | E14: =E16+E22+E26 -> 0 | F14: =F16+F22+F26 -> 4033172.2 | G14: =G16+G22+G26 -> 0 | H14: 0
C15: ='4'!D21 -> այդ թվում՝ ըստ ուղղությունների
B16: =+'[1]3'!B17 -> 1 | C16: ='4'!D22 -> Միջպետական նշանակության ավտոճանապարհներ, այդ թվում | D16: =+E16+F16+G16+H16 -> 2225377.1 | E16: =SUM(E17:E21) -> 0 | F16: =SUM(F17:F21) -> 2225377.1 | G16: =SUM(G17:G21) -> 0 | H16: =SUM(H17:H21) -> 0
C17: ='4'!D26 -> Մ-2, Երևան-Երասխ-Գորիս-Մեղրի-Իրանի սահման միջպետական նշանակության ավտոճանապարհի կմ150+700 - կմ167+600 հատվածի հիմնանորոգում | D17: =+E17+F17+G17+H17 -> 146937.7 | E17: 0 | F17: ='4'!G26 -> 146937.7 | G17: 0 | H17: 0
C18: ='4'!D27 -> Մ-3, Թուրքիայի սահման-Մարգարա-Վանաձոր-Տաշիր-Վրաստանի սահման միջպետական նշանակության ավտոճանապարհի կմ97+020-կմ104+700 հատվածի հիմնանորոգում | D18: =+E18+F18+G18+H18 -> 264627.6 | E18: 0 | F18: ='4'!G27 -> 264627.6 | G18: 0 | H18: 0
C19: ='4'!D28 -> Մ-6, Վանաձոր – Ալավերդի – Վրաստանի սահման միջպետական նշանակության ավտոճանապարհի ՊԿ384+50 - ՊԿ481+40 /ՊԿ467+50 – ՊԿ473+61/ տեղամասի (Օձունի խաչմերուկի /Մ6 և Հ35/ ավտոճանապարհների փոխհատում) վերականգնում և բարելավում | D19: =+E19+F19+G19+H19 -> 758115.2 | E19: 0 | F19: ='4'!G28 -> 758115.2 | G19: 0 | H19: 0
C20: ='4'!D29 -> Մ-13, /Մ-2/ - Անգեղակոթ - Նախիջևանի սահման միջպետական նշանակության ավտոճանապարհի կմ0+000-կմ8+000 հատվածի հիմնանորոգում | D20: =+E20+F20+G20+H20 -> 106082 | E20: 0 | F20: ='4'!G29 -> 106082 | G20: 0 | H20: 0
C21: ='4'!D30 -> Մ-16, /Մ-4/ - Ոսկեպար - Նոյեմբերյան - /Մ-6/ միջպետական նշանակության ավտոճանապարհի կմ0+070-կմ7+000 հատվածի հիմնանորոգում | D21: =+E21+F21+G21+H21 -> 949614.6 | E21: 0 | F21: ='4'!G30 -> 949614.6 | G21: 0 | H21: 0
B22: =+'[1]3'!B29 -> 2 | C22: ='4'!D31 -> Հանրապետական նշանակության ավտոճանապարհներ, այդ թվում | D22: =+E22+F22+G22+H22 -> 922001.2 | E22: =SUM(E23:E25) -> 0 | F22: =SUM(F23:F25) -> 922001.2 | G22: =SUM(G23:G25) -> 0 | H22: =SUM(H23:H25) -> 0
C23: ='4'!D32 -> Հ-2, /Հ-1/ Աբովյան- Արզնի-/Հ-6/ (Նոր Գեղի) հանրապետական նշանակության ավտոճանապարհի կմ0+000-կմ1+400 հատվածի հիմնանորոգում | D23: =+E23+F23+G23+H23 -> 95570.7 | E23: 0 | F23: ='4'!G32 -> 95570.7 | G23: 0 | H23: 0
C24: ='4'!D33 -> Հ-5, /Հ-6/-Նոր Գեղի-Արգել-Արզական-Հրազդան հանրապետական նշանակության ավտոճանապարհի կմ0+000 - կմ10+000 հատվածի հիմնանորոգում | D24: =+E24+F24+G24+H24 -> 776808.9 | E24: 0 | F24: ='4'!G33 -> 776808.9 | G24: 0 | H24: 0
C25: ='4'!D35 -> Հ-21, /Հ-75/ - Հոռոմ-Արթիկ-Ալագյազ հանրապետական նշանակության ավտոճանապարհի կմ19+000 - կմ23+900 հատվածի հիմնանորոգում | D25: =+E25+F25+G25+H25 -> 49621.6 | E25: 0 | F25: ='4'!G35 -> 49621.6 | G25: 0 | H25: 0
B26: =+'[1]3'!B38 -> 3 | C26: ='4'!D36 -> Մարզային նշանակության ավտոճանապարհներ, այդ թվում | D26: =+E26+F26+G26+H26 -> 885793.9 | E26: =SUM(E27:E28) -> 0 | F26: =SUM(F27:F28) -> 885793.9 | G26: =SUM(G27:G28) -> 0 | H26: =SUM(H27:H28) -> 0
C27: ='4'!D40 -> Վանաձոր քաղաքային համայնքի Կ. Դեմիրճյան փողոցի հիմնանորոգում | D27: =+E27+F27+G27+H27 -> 847258.3 | E27: 0 | F27: ='4'!G40 -> 847258.3 | G27: 0 | H27: 0
C28: ='4'!D41 -> ՀՀ Գեղարքունիքի մարզի Մարտունի համայնքի Մյասնիկյան փողոցի մայթերի կառուցում | D28: =+E28+F28+G28+H28 -> 38535.6 | E28: 0 | F28: ='4'!G41 -> 38535.6 | G28: 0 | H28: 0
A29: 1049 | B29: 21002 | C29: Տրանսպորտային օբյեկտների հիմնանորոգում | D29: =+E29+F29+G29+H29 -> -261269.6 | E29: =-E30 -> 0 | F29: ='4'!G49 -> -261269.6 | G29: 0 | H29: =-H30 -> 0
A30: 1049 | B30: 21002 | C30: Տրանսպորտային օբյեկտների հիմնանորոգում | D30: =+E30+F30+G30+H30 -> 261269.6 | E30: =SUM(E32:E35) -> 0 | F30: =SUM(F32:F35) -> 250229.6 | G30: =SUM(G32:G35) -> 11040 | H30: =SUM(H32:H35) -> 0
C31: ='4'!D51 -> այդ թվում՝ ըստ ուղղությունների
C32: ='4'!D52 -> Մ-4, Երևան - Սևան - Իջևան - Ադրբեջանի սահման կմ104+300 հատվածում գտնվող կամուրջի վերանորոգում | D32: =+E32+F32+G32+H32 -> 250229.6 | E32: 0 | F32: ='4'!G52 -> 250229.6 | G32: 0 | H32: 0
C33: ='4'!D53 -> Մ-4, Երևան - Սևան - Իջևան – Ադրբեջանի Հանրապետության սահման միջպետական նշանակության ավտոճանապարհի կմ19+800-ում գտնվող կամրջի հիմնանորոգում | D33: =+E33+F33+G33+H33 -> 2412 | E33: 0 | F33: 0 | G33: ='4'!G53 -> 2412 | H33: 0
C34: ='4'!D54 -> Մ-10, Սևան-Մարտունի-Գետափ-/Մ-2/ միջպետական նշանակության ավտոճանապարհի կմ61+380-ում գտնվող կամրջի հիմնանորոգում | D34: =+E34+F34+G34+H34 -> 4992 | E34: 0 | F34: 0 | G34: ='4'!G54 -> 4992 | H34: 0
C35: ='4'!D55 -> Մ-10, Սևան-Մարտունի-Գետափ միջպետական նշանակության ավտոճանապարհի կմ117+042-ում գտնվող կամրջի հիմնանորոգում | D35: =+E35+F35+G35+H35 -> 3636 | E35: 0 | F35: 0 | G35: ='4'!G55 -> 3636 | H35: 0
A36: 1072 | B36: 31010 | C36: ='4'!D62 -> Ջրամատակարարման և ջրահեռացման համակարգերի հիմնանորոգում | D36: =+E36+F36+G36+H36 -> 1.4551915e-11 | E36: =E38 -> 66510.7 | F36: =F38 -> -66510.7 | G36: =SUM(G37:G57) -> 0 | H36: =SUM(H37:H57) -> 0
C37: ='4'!D63 -> այդ թվում` ըստ կատարողների
C38: ='4'!D64 -> ՀՀ տարածքային կառավարման և ենթակառուցվածքների նախարարության ջրային կոմիտե | D38: =+E38+F38+G38+H38 -> 1.4551915e-11 | E38: =SUM(E39:E57) -> 66510.7 | F38: =SUM(F39:F57) -> -66510.7 | G38: =SUM(G39:G41) -> 0 | H38: 0
C39: ='4'!D65 -> այդ թվում՝ ըստ ուղղությունների | G39: ='4'!G65 -> 0 | H39: 0
C40: ='4'!D66 -> ՀՀ Գեղարքունիքի մարզի Ներքին Գետաշեն բնակավայրի ջրամատակարարման համակարգի վերակառուցում | D40: =+E40+F40+G40+H40 -> 50000 | F40: ='4'!G66 -> 50000
...

Sheet 3
I1: Հավելված N 3
I2: ՀՀ կառավարության 2023 թվականի
I3: ______________ ի ___Ն որոշման
A5: ՀԱՅԱՍՏԱՆԻ ՀԱՆՐԱՊԵՏՈՒԹՅԱՆ ԿԱՌԱՎԱՐՈՒԹՅԱՆ 2022 ԹՎԱԿԱՆԻ ԴԵԿՏԵՄԲԵՐԻ 29-Ի N 2111-Ն ՈՐՈՇՄԱՆ N 3 ԵՎ N 4 ՀԱՎԵԼՎԱԾՆԵՐՈՒՄ ԿԱՏԱՐՎՈՂ ՓՈՓՈԽՈՒԹՅՈՒՆՆԵՐԸ ԵՎ ԼՐԱՑՈՒՄՆԵՐԸ
I7: հազար դրամներով
A8: Գործառական դասիչը | D8: Ծրագրային դասիչը | F8: Բյուջետային հատկացումների գլխավոր կարգադրիչների, ծրագրերի, միջոցառումների և միջոցառումները կատարող պետական մարմինների անվանումները | G8: Ցուցանիշների փոփոխությունը (ավելացումները նշված են դրական նշանով, իսկ նվազեցումները` փակագծերում)
A9: Բաժին | B9: Խումբ | C9: Դաս | D9: Ծրագիր | E9: Միջոցառում | G9: Առաջին կիսամյակ | H9: Ինն ամիս | I9: Տարի
F10: ԸՆԴԱՄԵՆԸ | G10: =+G12 -> 0 | H10: =+H12 -> 0 | I10: =+I12 -> -2.3283064e-10
F11: այդ թվում
F12: ՀՀ տարածքային կառավարման և ենթակառուցվածքների նախարարություն | G12: =+G13+G133+G163+G41+G105+G211+G191 -> 0 | H12: =+H13+H133+H163+H41+H105+H211+H191 -> 0 | I12: =+I13+I133+I163+I41+I105+I211+I191 -> -2.3283064e-10
A13: 04 | F13: ՏՆՏԵՍԱԿԱՆ ՀԱՐԱԲԵՐՈՒԹՅՈՒՆՆԵՐ | G13: =G15 -> -529099.4 | H13: =H15 -> -529099.4 | I13: =I15 -> 0
F14: այդ թվում`
B15: 02 | F15: Գյուղատնտեսություն, անտառային տնտեսություն, ձկնորսություն և որսորդություն | G15: =G17 -> -529099.4 | H15: =H17 -> -529099.4 | I15: =I17 -> 0
F16: այդ թվում`
C17: 04 | F17: Ոռոգում | G17: =+G19 -> -529099.4 | H17: =+H19 -> -529099.4 | I17: =+I19 -> 0
F18: այդ թվում`
F19: ՀՀ տարածքային կառավարման և ենթակառուցվածքների նախարարություն | G19: =+G21 -> -529099.4 | H19: =+H21 -> -529099.4 | I19: =+I21 -> 0
F20: այդ թվում`
D21: 1004 | F21: Ոռոգման համակարգի առողջացում | G21: =G23+G32 -> -529099.4 | H21: =H23+H32 -> -529099.4 | I21: =I23+I32 -> 0
F22: այդ թվում`
E23: 11010 | F23: Գերմանիայի զարգացման վարկերի բանկի աջակցությամբ իրականացվող Ախուրյան գետի ջրային ռեսուրսների ինտեգրացված կառավարում փուլ 1 ծրագրով Ջրաձոր գյուղի վերաբնակեցման գործողությունների խորհրդատվություն և կառավարում | G23: =G25 -> -150000 | H23: =H25 -> -150000 | I23: =I182+I25 -> 0
F24: այդ թվում` ըստ կատարողների
F25: ՀՀ տարածքային կառավարման և ենթակառուցվածքների նախարարության ջրային կոմիտե | G25: =G27 -> -150000 | H25: =H27 -> -150000 | I25: =I27 -> 0
F26: այդ թվում` բյուջետային ծախսերի տնտեսագիտական դասակարգման հոդվածներ
F27: ԸՆԴԱՄԵՆԸ ԾԱԽՍԵՐ | G27: =+G29 -> -150000 | H27: =+H29 -> -150000 | I27: =+I29 -> 0
F28: ԸՆԹԱՑԻԿ ԾԱԽՍԵՐ | G28: =G29 -> -150000 | H28: =H29 -> -150000 | I28: =I29 -> 0
F29: ԴՐԱՄԱՇՆՈՐՀՆԵՐ | G29: =G30 -> -150000 | H29: =H30 -> -150000 | I29: =I30 -> 0
F30: Ընթացիկ դրամաշնորհներ պետական հատվածի այլ մակարդակներին | G30: =G31 -> -150000 | H30: =H31 -> -150000 | I30: =I31 -> 0
F31: - Այլ ընթացիկ դրամաշնորհներ | G31: -150000 | H31: -150000 | I31: 0
E32: 31004 | F32: Գերմանիայի զարգացման վարկերի բանկի աջակցությամբ իրականացվող Ախուրյան գետի ջրային ռեսուրսների ինտեգրված կառավարման ծրագրի շրջանակներում ջրային տնտեսության ենթակառուցվածքների հիմնանորոգում | G32: =G34 -> -379099.4 | H32: =H34 -> -379099.4 | I32: =I34 -> 0
F33: այդ թվում` ըստ կատարողների
F34: ՀՀ տարածքային կառավարման և ենթակառուցվածքների նախարարության ջրային կոմիտե | G34: =G36 -> -379099.4 | H34: =H36 -> -379099.4 | I34: =I36 -> 0
F35: այդ թվում` բյուջետային ծախսերի տնտեսագիտական դասակարգման հոդվածներ
F36: ԸՆԴԱՄԵՆԸ ԾԱԽՍԵՐ | G36: =+G37 -> -379099.4 | H36: =+H37 -> -379099.4 | I36: =+I37 -> 0
F37: ՈՉ ՖԻՆԱՆՍԱԿԱՆ ԱԿՏԻՎՆԵՐԻ ԳԾՈՎ ԾԱԽՍԵՐ | G37: =G38 -> -379099.4 | H37: =H38 -> -379099.4 | I37: =I38 -> 0
F38: ՀԻՄՆԱԿԱՆ ՄԻՋՈՑՆԵՐ | G38: =G39 -> -379099.4 | H38: =H39 -> -379099.4 | I38: =I39 -> 0
F39: ՇԵՆՔԵՐ ԵՎ ՇԻՆՈՒԹՅՈՒՆՆԵՐ | G39: =G40 -> -379099.4 | H39: =H40 -> -379099.4 | I39: =I40 -> 0
F40: - Շենքերի և շինությունների շինարարություն | G40: -379099.4 | H40: -379099.4 | I40: 0
A41: 04 | F41: ՏՆՏԵՍԱԿԱՆ ՀԱՐԱԲԵՐՈՒԹՅՈՒՆՆԵՐ | G41: =G43 -> 2886470.5 | H41: =H43 -> 2551628.1 | I41: =I43 -> 1082469.2
F42: այդ թվում`
...

Sheet 4
G1: Հավելված N4
G2: ՀՀ կառավարության 2023 թվականի
G3: ______________ ի ___Ն որոշման
A5: ՀԱՅԱՍՏԱՆԻ ՀԱՆՐԱՊԵՏՈՒԹՅԱՆ ԿԱՌԱՎԱՐՈՒԹՅԱՆ 2022 ԹՎԱԿԱՆԻ ԴԵԿՏԵՄԲԵՐԻ 29-Ի N 2111-Ն ՈՐՈՇՄԱՆ N 5 ՀԱՎԵԼՎԱԾԻ N 2 ԱՂՅՈՒՍԱԿՈՒՄ ԿԱՏԱՐՎՈՂ ՓՈՓՈԽՈՒԹՅՈՒՆՆԵՐԸ ԵՎ ԼՐԱՑՈՒՄՆԵՐԸ
G7: հազար դրամներով
B8: Ծրագրային դասիչը | D8: Հատկացումների տրամադրման նպատակները և բյուջետային գլխավոր կարգադրիչների, ծրագրերի, միջոցառումների և կատարող պետական մարմնի անվանումները | E8: Ցուցանիշների փոփոխությունը (Ավելացումները նշված են դրական նշանով, իսկ նվազեցումները` փակագծերում)
B9: Ծրագիր | C9: Միջոցառում | E9: Առաջին կիսամյակ | F9: Ինն ամիս | G9: Տարի
D10: ԸՆԴԱՄԵՆԸ | E10: =+E12 -> 1859860.2 | F10: =+F12 -> 1987340.8 | G10: =+G12 -> 1082469.2
D11: այդ թվում՝
D12: ՀՀ ՏԱՐԱԾՔԱՅԻՆ ԿԱՌԱՎԱՐՄԱՆ ԵՎ ԵՆԹԱԿԱՌՈՒՑՎԱԾՔՆԵՐԻ ՆԱԽԱՐԱՐՈՒԹՅՈՒՆ | E12: =E14+E17+E47+E56+E59+E62 -> 1859860.2 | F12: =F14+F17+F47+F56+F59+F62 -> 1987340.8 | G12: =G14+G17+G47+G56+G59+G62 -> 1082469.2
D13: այդ թվում`
B14: 1040 | C14: 12003 | D14: Հանրապետության տարածքում փակման ենթակա աղբավայրերի փակում և շահագործվող աղբավայրերի բարեկարգում | E14: =E16 -> -25000 | F14: =F16 -> -70000 | G14: =G16 -> 0
D15: այդ թվում` ըստ կատարողների
D16: ՀՀ կառավարություն | E16: ='3'!G173 -> -25000 | F16: ='3'!H173 -> -70000 | G16: ='3'!I173 -> 0
B17: 1049 | C17: 21001 | D17: Պետական նշանակության ավտոճանապարհների հիմնանորոգում | E17: =+E19+E20 -> 3160970.5 | F17: =+F19+F20 -> 2551628.1 | G17: =+G19+G20 -> 1082469.2
D18: այդ թվում` ըստ կատարողների
D19: ՀՀ կառավարություն | E19: ='3'!G59 -> 0 | F19: ='3'!H59 -> 0 | G19: ='3'!I59 -> -2950703
D20: ՀՀ տարածքային կառավարման և ենթակառուցվածքների նախարարություն | E20: =+E22+E31+E36 -> 3160970.5 | F20: =+F22+F31+F36 -> 2551628.1 | G20: =+G22+G31+G36 -> 4033172.2
D21: այդ թվում՝ ըստ ուղղությունների
C22: 1 | D22: Միջպետական նշանակության ավտոճանապարհներ, այդ թվում | E22: =SUM(E23:E30) -> 798558.2 | F22: =SUM(F23:F30) -> 1368421.8 | G22: =SUM(G23:G30) -> 2225377.1
D23: Մ-2, Երևան-Երասխ-Գորիս-Մեղրի-Իրանի սահման կմ53+150 - կմ65+350 հատվածի հիմնանորոգում | E23: 250000 | F23: 0 | G23: 0
D24: Մ-2, Երևան-Երասխ-Գորիս-Մեղրի-Իրանի սահման միջպետական նշանակության ավտոճանապարհի կմ131+500 - կմ139+000 հատվածի հիմնանորոգում | E24: 300000 | F24: 0 | G24: 0
D25: Մ-2, Երևան-Երասխ-Գորիս-Մեղրի-Իրանի սահման միջպետական նշանակության ավտոճանապարհի կմ142+000 - կմ150+700 հատվածի հիմնանորոգում | E25: 248558.2 | G25: 0
D26: Մ-2, Երևան-Երասխ-Գորիս-Մեղրի-Իրանի սահման միջպետական նշանակության ավտոճանապարհի կմ150+700 - կմ167+600 հատվածի հիմնանորոգում | E26: 0 | F26: 146937.7 | G26: 146937.7
D27: Մ-3, Թուրքիայի սահման-Մարգարա-Վանաձոր-Տաշիր-Վրաստանի սահման միջպետական նշանակության ավտոճանապարհի կմ97+020-կմ104+700 հատվածի հիմնանորոգում | E27: 0 | F27: 191730 | G27: 264627.6
D28: Մ-6, Վանաձոր – Ալավերդի – Վրաստանի սահման միջպետական նշանակության ավտոճանապարհի ՊԿ384+50 - ՊԿ481+40 /ՊԿ467+50 – ՊԿ473+61/ տեղամասի (Օձունի խաչմերուկի /Մ6 և Հ35/ ավտոճանապարհների փոխհատում) վերականգնում և բարելավում | E28: 0 | F28: 400000 | G28: 758115.2
D29: Մ-13, /Մ-2/ - Անգեղակոթ - Նախիջևանի սահման միջպետական նշանակության ավտոճանապարհի կմ0+000-կմ8+000 հատվածի հիմնանորոգում | E29: 0 | F29: 47760.9 | G29: 106082
D30: Մ-16, /Մ-4/ - Ոսկեպար - Նոյեմբերյան - /Մ-6/ միջպետական նշանակության ավտոճանապարհի կմ0+070-կմ7+000 հատվածի հիմնանորոգում | E30: 0 | F30: 581993.2 | G30: 949614.6
C31: 2 | D31: Հանրապետական նշանակության ավտոճանապարհներ, այդ թվում | E31: =SUM(E32:E35) -> 450000 | F31: =SUM(F32:F35) -> 644670.7 | G31: =SUM(G32:G35) -> 922001.2
D32: Հ-2, /Հ-1/ Աբովյան- Արզնի-/Հ-6/ (Նոր Գեղի) հանրապետական նշանակության ավտոճանապարհի կմ0+000-կմ1+400 հատվածի հիմնանորոգում | E32: 0 | F32: 95570.7 | G32: 95570.7
D33: Հ-5, /Հ-6/-Նոր Գեղի-Արգել-Արզական-Հրազդան հանրապետական նշանակության ավտոճանապարհի կմ0+000 - կմ10+000 հատվածի հիմնանորոգում | E33: 0 | F33: 500000 | G33: 776808.9
D34: Հ-4, Երևան - Եղվարդ - Արագյուղ - Հարթավան - /Մ-3/ հանրապետական նշանակության ավտոճանապարհի կմ0+000-կմ15+600 հատվածի հիմնանորոգում | E34: 300000 | F34: 0 | G34: 0
D35: Հ-21, /Հ-75/ - Հոռոմ-Արթիկ-Ալագյազ հանրապետական նշանակության ավտոճանապարհի կմ19+000 - կմ23+900 հատվածի հիմնանորոգում | E35: 150000 | F35: 49100 | G35: 49621.6
C36: 3 | D36: Մարզային նշանակության ավտոճանապարհներ, այդ թվում | E36: =SUM(E37:E46) -> 1912412.3 | F36: =SUM(F37:F46) -> 538535.6 | G36: =SUM(G37:G46) -> 885793.9
D37: Մ-6 - Եղեգնուտ - Դեբեդ ավտոճանապարհի կմ0+000 - կմ7+183 հատվածի հիմնանորոգում | E37: 300000 | F37: 0 | G37: 0
D38: Մ-4-Ակնաղբյուր ավտոճանապարհի 2,85կմ հատվածի և դեպի Մատուռ տանող 0,246 կմ ճանապարհի հիմնանորոգում | E38: 122000 | F38: 0 | G38: 0
D39: Տ-10-32, /Մ-4/ - Դիտավան ավտոճանապարհի կմ0+000 - կմ3+100 հատվածի հիմնանորոգում | E39: 150000 | F39: 0 | G39: 0
D40: Վանաձոր քաղաքային համայնքի Կ. Դեմիրճյան փողոցի հիմնանորոգում | E40: 0 | F40: 500000 | G40: 847258.3
D41: ՀՀ Գեղարքունիքի մարզի Մարտունի համայնքի Մյասնիկյան փողոցի մայթերի կառուցում | E41: 0 | F41: 38535.6 | G41: 38535.6
D42: Տ-8-93, Լծեն-Տաթև ավտոճանապարհի վերակառուցում | E42: 350000 | F42: 0 | G42: 0
...

Sheet 5
M1: Հավելված N5
M2: ՀՀ կառավարության 2023 թվականի
M3: ______________ ի ___Ն որոշման
B5: «ՀԱՅԱUՏԱՆԻ ՀԱՆՐԱՊԵՏՈՒԹՅԱՆ 2023 ԹՎԱԿԱՆԻ ՊԵՏԱԿԱՆ ԲՅՈՒՋԵԻ ՄԱUԻՆ» OՐԵՆՔԻ N 1 ՀԱՎԵԼՎԱԾԻ N 4 ԱՂՅՈՒՍԱԿՈՒՄ ԵՎ ՀԱՅԱՍՏԱՆԻ ՀԱՆՐԱՊԵՏՈՒԹՅԱՆ ԿԱՌԱՎԱՐՈՒԹՅԱՆ 2022 ԹՎԱԿԱՆԻ ԴԵԿՏԵՄԲԵՐԻ 29-Ի N 2111-Ն ՈՐՈՇՄԱՆ N 5 ՀԱՎԵԼՎԱԾԻ N 3 ԱՂՅՈՒՍԱԿՈՒՄ ԿԱՏԱՐՎՈՂ ՓՈՓՈԽՈՒԹՅՈՒՆՆԵՐԸ
M6: հազ. դրամ
B7: Ծրագրային դասիչը | D7: Բյուջետային գլխավոր կարգադրիչների, ծրագրերի և միջոցառումների անվանումները | E7: Ցուցանիշների փոփոխությունը (ավելացումները նշված են դրական նշանով, իսկ նվազեցումները` փակագծերում)
E8: Առաջին կիսամյակ | H8: Ինն ամիս | K8: Տարի
E9: Ընդամենը | F9: այդ թվում` | H9: Ընդամենը | I9: այդ թվում` | K9: Ընդամենը | L9: այդ թվում`
B10: Ծրագիր | C10: Միջոց առում | F10: Վարկային միջոցներ | G10: Համաֆինանսավորում | I10: Վարկային միջոցներ | J10: Համաֆինանսավորում | L10: Վարկային միջոցներ | M10: Համաֆինանսավորում
D11: ԸՆԴԱՄԵՆԸ_x000D_ այդ թվում` | E11: =E12+E13 -> -1313062 | F11: =F12+F13 -> 0 | G11: =G12+G13 -> -1313062 | H11: =H12+H13 -> -1440542.6 | I11: =I12+I13 -> 0 | J11: =J12+J13 -> -1440542.6 | K11: =K12+K13 -> -535671 | L11: =L12+L13 -> 0 | M11: =M12+M13 -> -535671
D12: - ԸՆԹԱՑԻԿ ԾԱԽՍԵՐ | E12: =E22+E75 -> -342010.2 | F12: =F22+F75 -> 0 | G12: =G22+G75 -> -342010.2 | H12: =H22+H75 -> -342010.2 | I12: =I22+I75 -> 0 | J12: =J22+J75 -> -342010.2 | K12: =K22+K75 -> -150000 | L12: =L22+L75 -> 0 | M12: =M22+M75 -> -150000
D13: - ՈՉ ՖԻՆԱՆՍԱԿԱՆ ԱԿՏԻՎՆԵՐԻ ԳԾՈՎ ԾԱԽՍԵՐ | E13: =E31+E51+E64+E86+E42 -> -971051.8 | F13: =F31+F51+F64+F86+F42 -> 0 | G13: =G31+G51+G64+G86+G42 -> -971051.8 | H13: =H31+H51+H64+H86+H42 -> -1098532.4 | I13: =I31+I51+I64+I86+I42 -> 0 | J13: =J31+J51+J64+J86+J42 -> -1098532.4 | K13: =K31+K51+K64+K86+K42 -> -385671 | L13: =L31+L51+L64+L86+L42 -> 0 | M13: =M31+M51+M64+M86+M42 -> -385671
D14: ՀՀ ՏԱՐԱԾՔԱՅԻՆ ԿԱՌԱՎԱՐՄԱՆ ԵՎ ԵՆԹԱԿԱՌՈՒՑՎԱԾՔՆԵՐԻ ՆԱԽԱՐԱՐՈՒԹՅՈՒՆ_x000D_ այդ թվում` | E14: =E15+E35+E57+E68+E79 -> -1313062 | F14: =F15+F35+F57+F68+F79 -> 0 | G14: =G15+G35+G57+G68+G79 -> -1313062 | H14: =H15+H35+H57+H68+H79 -> -1440542.6 | I14: =I15+I35+I57+I68+I79 -> 0 | J14: =J15+J35+J57+J68+J79 -> -1440542.6 | K14: =K15+K35+K57+K68+K79 -> -535671 | L14: =L15+L35+L57+L68+L79 -> 0 | M14: =M15+M35+M57+M68+M79 -> -535671
B15: 1004 | D15: Ոռոգման համակարգի առողջացում | E15: =E17+E26 -> -529099.4 | F15: =F17+F26 -> 0 | G15: =G17+G26 -> -529099.4 | H15: =H17+H26 -> -529099.4 | I15: =I17+I26 -> 0 | J15: =J17+J26 -> -529099.4 | K15: =K17+K26 -> 0 | L15: =L17+L26 -> 0 | M15: =M17+M26 -> 0
D16: այդ թվում`
C17: 11010 | D17: Գերմանիայի զարգացման վարկերի բանկի աջակցությամբ իրականացվող Ախուրյան գետի ջրային ռեսուրսների ինտեգրացված կառավարում փուլ 1 ծրագրով Ջրաձոր գյուղի վերաբնակեցման գործողությունների խորհրդատվություն և կառավարում | E17: =E19 -> -150000 | F17: =F19 -> 0 | G17: =G19 -> -150000 | H17: =H19 -> -150000 | I17: =I19 -> 0 | J17: =J19 -> -150000 | K17: =K19 -> 0 | L17: =L19 -> 0 | M17: =M19 -> 0
D18: այդ թվում` ըստ կատարողների
D19: ՀՀ տարածքային կառավարման և ենթակառուցվածքների նախարարության ջրային կոմիտե | E19: =E21 -> -150000 | F19: =F21 -> 0 | G19: =G21 -> -150000 | H19: =H21 -> -150000 | I19: =I21 -> 0 | J19: =J21 -> -150000 | K19: =K21 -> 0 | L19: =L21 -> 0 | M19: =M21 -> 0
D20: այդ թվում` բյուջետային ծախսերի տնտեսագիտական դասակարգման հոդվածներ
D21: ԸՆԴԱՄԵՆԸ ԾԱԽՍԵՐ | E21: =E23 -> -150000 | F21: =F23 -> 0 | G21: =G23 -> -150000 | H21: =H23 -> -150000 | I21: =I23 -> 0 | J21: =J23 -> -150000 | K21: =K23 -> 0 | L21: =L23 -> 0 | M21: =M23 -> 0
D22: ='3'!F28 -> ԸՆԹԱՑԻԿ ԾԱԽՍԵՐ | E22: =E23 -> -150000 | F22: =F23 -> 0 | G22: =G23 -> -150000 | H22: =H23 -> -150000 | I22: =I23 -> 0 | J22: =J23 -> -150000 | K22: =K23 -> 0 | L22: =L23 -> 0 | M22: =M23 -> 0
D23: ԴՐԱՄԱՇՆՈՐՀՆԵՐ | E23: =E24 -> -150000 | F23: =F24 -> 0 | G23: =G24 -> -150000 | H23: =H24 -> -150000 | I23: =I24 -> 0 | J23: =J24 -> -150000 | K23: =K24 -> 0 | L23: =L24 -> 0 | M23: =M24 -> 0
D24: Ընթացիկ դրամաշնորհներ պետական հատվածի այլ մակարդակներին | E24: =E25 -> -150000 | F24: =F25 -> 0 | G24: =G25 -> -150000 | H24: =H25 -> -150000 | I24: =I25 -> 0 | J24: =J25 -> -150000 | K24: =K25 -> 0 | L24: =L25 -> 0 | M24: =M25 -> 0
D25: - Այլ ընթացիկ դրամաշնորհներ | E25: =F25+G25 -> -150000 | F25: 0 | G25: ='3'!G31 -> -150000 | H25: =I25+J25 -> -150000 | I25: 0 | J25: ='3'!H31 -> -150000 | K25: =L25+M25 -> 0 | L25: =0 -> 0 | M25: ='3'!I31 -> 0
C26: 31004 | D26: Գերմանիայի զարգացման վարկերի բանկի աջակցությամբ իրականացվող Ախուրյան գետի ջրային ռեսուրսների ինտեգրված կառավարման ծրագրի շրջանակներում ջրային տնտեսության ենթակառուցվածքների հիմնանորոգում | E26: =E28 -> -379099.4 | F26: =F28 -> 0 | G26: =G28 -> -379099.4 | H26: =H28 -> -379099.4 | I26: =I28 -> 0 | J26: =J28 -> -379099.4 | K26: =K28 -> 0 | L26: =L28 -> 0 | M26: =M28 -> 0
D27: այդ թվում` ըստ կատարողների
D28: ՀՀ տարածքային կառավարման և ենթակառուցվածքների նախարարության ջրային կոմիտե | E28: =E33 -> -379099.4 | F28: =F33 -> 0 | G28: =G33 -> -379099.4 | H28: =H33 -> -379099.4 | I28: =I33 -> 0 | J28: =J33 -> -379099.4 | K28: =K33 -> 0 | L28: =L33 -> 0 | M28: =M33 -> 0
D29: այդ թվում` բյուջետային ծախսերի տնտեսագիտական դասակարգման հոդվածներ
D30: ԸՆԴԱՄԵՆԸ ԾԱԽՍԵՐ | E30: =E31 -> -379099.4 | F30: =F31 -> 0 | G30: =G31 -> -379099.4 | H30: =H31 -> -379099.4 | I30: =I31 -> 0 | J30: =J31 -> -379099.4 | K30: =K31 -> 0 | L30: =L31 -> 0 | M30: =M31 -> 0
D31: ՈՉ ՖԻՆԱՆՍԱԿԱՆ ԱԿՏԻՎՆԵՐԻ ԳԾՈՎ ԾԱԽՍԵՐ | E31: =E32 -> -379099.4 | F31: =F32 -> 0 | G31: =G32 -> -379099.4 | H31: =H32 -> -379099.4 | I31: =I32 -> 0 | J31: =J32 -> -379099.4 | K31: =K32 -> 0 | L31: =L32 -> 0 | M31: =M32 -> 0
D32: ՀԻՄՆԱԿԱՆ ՄԻՋՈՑՆԵՐ | E32: =E33 -> -379099.4 | F32: =F33 -> 0 | G32: =G33 -> -379099.4 | H32: =H33 -> -379099.4 | I32: =I33 -> 0 | J32: =J33 -> -379099.4 | K32: =K33 -> 0 | L32: =L33 -> 0 | M32: =M33 -> 0
D33: ՇԵՆՔԵՐ ԵՎ ՇԻՆՈՒԹՅՈՒՆՆԵՐ | E33: =E34 -> -379099.4 | F33: =F34 -> 0 | G33: =G34 -> -379099.4 | H33: =H34 -> -379099.4 | I33: =I34 -> 0 | J33: =J34 -> -379099.4 | K33: =K34 -> 0 | L33: =L34 -> 0 | M33: =M34 -> 0
D34: - Շենքերի և շինությունների շինարարություն | E34: =F34+G34 -> -379099.4 | F34: 0 | G34: ='3'!G40 -> -379099.4 | H34: =I34+J34 -> -379099.4 | I34: 0 | J34: ='3'!H40 -> -379099.4 | K34: =L34+M34 -> 0 | L34: 0 | M34: ='3'!I40 -> 0
B35: 1019 | D35: ='3'!F141 -> Սոցիալական ներդրումների և տեղական զարգացման ծրագիր | E35: =E37+E46 -> -335671 | F35: =F37+F46 -> 0 | G35: =G37+G46 -> -335671 | H35: =H37+H46 -> -485671 | I35: =I37+I46 -> 0 | J35: =J37+J46 -> -485671 | K35: =K37+K46 -> -385671 | L35: =L37+L46 -> 0 | M35: =M37+M46 -> -385671
D36: այդ թվում`
C37: 12001 | D37: ='3'!F143 -> Համաշխարհային բանկի աջակցությամբ իրականացվող Տարածքային զարգացման հիմնադրամի ծրագրի շրջանակներում ՀՀ տարածքներում ջրագծերի, առողջապահության, կրթության, մշակույթի, հատուկ խնամքի և ենթակառուցվածքների ոլորտի վերականգնման և շինարարության աշխատանքներ | E37: =E39 -> -50000 | F37: =F39 -> 0 | G37: =G39 -> -50000 | H37: =H39 -> 0 | I37: =I39 -> 0 | J37: =J39 -> 0 | K37: =K39 -> 0 | L37: =L39 -> 0 | M37: =M39 -> 0
D38: այդ թվում` ըստ կատարողների
D39: ՀՀ տարածքային կառավարման և ենթակառուցվածքների նախարարություն | E39: =E41 -> -50000 | F39: =F41 -> 0 | G39: =G41 -> -50000 | H39: =H41 -> 0 | I39: =I41 -> 0 | J39: =J41 -> 0 | K39: =K41 -> 0 | L39: =L41 -> 0 | M39: =M41 -> 0
D40: այդ թվում` բյուջետային ծախսերի տնտեսագիտական դասակարգման հոդվածներ
D41: ԸՆԴԱՄԵՆԸ ԾԱԽՍԵՐ | E41: =E42 -> -50000 | F41: =F42 -> 0 | G41: =G42 -> -50000 | H41: =H42 -> 0 | I41: =I42 -> 0 | J41: =J42 -> 0 | K41: =K42 -> 0 | L41: =L42 -> 0 | M41: =M42 -> 0
...

Sheet 6
M1: Հավելված N6
M2: ՀՀ կառավարության 2023 թվականի
M3: ______________ ի ___Ն որոշման
B5: «ՀԱՅԱUՏԱՆԻ ՀԱՆՐԱՊԵՏՈՒԹՅԱՆ 2023 ԹՎԱԿԱՆԻ ՊԵՏԱԿԱՆ ԲՅՈՒՋԵԻ ՄԱUԻՆ» OՐԵՆՔԻ N 1 ՀԱՎԵԼՎԱԾԻ N 5 ԱՂՅՈՒՍԱԿՈՒՄ ԵՎ ՀԱՅԱՍՏԱՆԻ ՀԱՆՐԱՊԵՏՈՒԹՅԱՆ ԿԱՌԱՎԱՐՈՒԹՅԱՆ 2022 ԹՎԱԿԱՆԻ ԴԵԿՏԵՄԲԵՐԻ 29-Ի N 2111-Ն ՈՐՈՇՄԱՆ N 5 ՀԱՎԵԼՎԱԾԻ N 4 ԱՂՅՈՒՍԱԿՈՒՄ ԿԱՏԱՐՎՈՂ ՓՈՓՈԽՈՒԹՅՈՒՆՆԵՐԸ
M6: հազ. դրամ
B7: Ծրագրային դասիչը | D7: Բյուջետային գլխավոր կարգադրիչների, ծրագրերի և միջոցառումների անվանումները | E7: Ցուցանիշների փոփոխությունը (ավելացումները նշված են դրական նշանով, իսկ նվազեցումները` փակագծերում)
E8: Կիսամյակ | H8: Ինն ամիս | K8: Տարի
E9: Ընդամենը | F9: այդ թվում` | H9: Ընդամենը | I9: այդ թվում` | K9: Ընդամենը | L9: այդ թվում`
B10: Ծրագիր | C10: Միջոց առում | F10: Դրամաշնորհային միջոցներ | G10: Համաֆինանսավորում | I10: Դրամաշնորհային միջոցներ | J10: Համաֆինանսավորում | L10: Դրամաշնորհային միջոցներ | M10: Համաֆինանսավորում
D11: ԸՆԴԱՄԵՆԸ_x000D_ այդ թվում` | E11: =E12+E13 -> -546798.2 | F11: =F12+F13 -> 0 | G11: =G12+G13 -> -546798.2 | H11: =H12+H13 -> -546798.2 | I11: =I12+I13 -> 0 | J11: =J12+J13 -> -546798.2 | K11: =K12+K13 -> -546798.2 | L11: =L12+L13 -> 0 | M11: =M12+M13 -> -546798.2
D12: - ԸՆԹԱՑԻԿ ԾԱԽՍԵՐ | E12: 0 | F12: 0 | G12: 0 | H12: 0 | I12: 0 | J12: 0 | K12: 0 | L12: 0 | M12: 0
D13: - ՈՉ ՖԻՆԱՆՍԱԿԱՆ ԱԿՏԻՎՆԵՐԻ ԳԾՈՎ ԾԱԽՍԵՐ | E13: =E22 -> -546798.2 | F13: =F22 -> 0 | G13: =G22 -> -546798.2 | H13: =H22 -> -546798.2 | I13: =I22 -> 0 | J13: =J22 -> -546798.2 | K13: =K22 -> -546798.2 | L13: =L22 -> 0 | M13: =M22 -> -546798.2
D14: ՀՀ ՏԱՐԱԾՔԱՅԻՆ ԿԱՌԱՎԱՐՄԱՆ ԵՎ ԵՆԹԱԿԱՌՈՒՑՎԱԾՔՆԵՐԻ ՆԱԽԱՐԱՐՈՒԹՅՈՒՆ_x000D_ այդ թվում` | E14: =E15+E34+E47+E58+E69 -> -546798.2 | F14: =F15+F34+F47+F58+F69 -> 0 | G14: =G15+G34+G47+G58+G69 -> -546798.2 | H14: =H15+H34+H47+H58+H69 -> -546798.2 | I14: =I15+I34+I47+I58+I69 -> 0 | J14: =J15+J34+J47+J58+J69 -> -546798.2 | K14: =K15+K34+K47+K58+K69 -> -546798.2 | L14: =L15+L34+L47+L58+L69 -> 0 | M14: =M15+M34+M47+M58+M69 -> -546798.2
B15: 1157 | D15: Քաղաքային զարգացում | E15: =E17 -> -546798.2 | F15: =F17 -> 0 | G15: =G17 -> -546798.2 | H15: =H17 -> -546798.2 | I15: =I17 -> 0 | J15: =J17 -> -546798.2 | K15: =K17 -> -546798.2 | L15: =L17 -> 0 | M15: =M17 -> -546798.2
D16: այդ թվում`
C17: 12028 | D17: ='3'!F115 -> Արևելյան Եվրոպայի էներգախնյողության և շրջակա միջավայրի գործընկերության տարածաշրջանային հիմնադրամի աջակցությամբ իրականացվող Երևան քաղաքի հանրային տրանսպորտի նոր երթուղային ցանցի շարժակազմի ներդրման ֆինասական աջակցության դրամաշնորհային ծրագիր | E17: =E19 -> -546798.2 | F17: =F19 -> 0 | G17: =G19 -> -546798.2 | H17: =H19 -> -546798.2 | I17: =I19 -> 0 | J17: =J19 -> -546798.2 | K17: =K19 -> -546798.2 | L17: =L19 -> 0 | M17: =M19 -> -546798.2
D18: այդ թվում` ըստ կատարողների
D19: ՀՀ տարածքային կառավարման և ենթակառուցվածքների նախարարություն | E19: =E24 -> -546798.2 | F19: =F24 -> 0 | G19: =G24 -> -546798.2 | H19: =H24 -> -546798.2 | I19: =I24 -> 0 | J19: =J24 -> -546798.2 | K19: =K24 -> -546798.2 | L19: =L24 -> 0 | M19: =M24 -> -546798.2
D20: այդ թվում` բյուջետային ծախսերի տնտեսագիտական դասակարգման հոդվածներ
D21: ԸՆԴԱՄԵՆԸ ԾԱԽՍԵՐ | E21: =E22 -> -546798.2 | F21: =F22 -> 0 | G21: =G22 -> -546798.2 | H21: =H22 -> -546798.2 | I21: =I22 -> 0 | J21: =J22 -> -546798.2 | K21: =K22 -> -546798.2 | L21: =L22 -> 0 | M21: =M22 -> -546798.2
D22: ='3'!F120 -> ՈՉ ՖԻՆԱՆՍԱԿԱՆ ԱԿՏԻՎՆԵՐԻ ԳԾՈՎ ԾԱԽՍԵՐ | E22: =E23 -> -546798.2 | F22: =F23 -> 0 | G22: =G23 -> -546798.2 | H22: =H23 -> -546798.2 | I22: =I23 -> 0 | J22: =J23 -> -546798.2 | K22: =K23 -> -546798.2 | L22: =L23 -> 0 | M22: =M23 -> -546798.2
D23: ='3'!F121 -> ՀԻՄՆԱԿԱՆ ՄԻՋՈՑՆԵՐ | E23: =E24 -> -546798.2 | F23: =F24 -> 0 | G23: =G24 -> -546798.2 | H23: =H24 -> -546798.2 | I23: =I24 -> 0 | J23: =J24 -> -546798.2 | K23: =K24 -> -546798.2 | L23: =L24 -> 0 | M23: =M24 -> -546798.2
D24: ='3'!F122 -> ՄԵՔԵՆԱՆԵՐ ԵՎ ՍԱՐՔԱՎՈՐՈՒՄՆԵՐ | E24: =E25 -> -546798.2 | F24: =F25 -> 0 | G24: =G25 -> -546798.2 | H24: =H25 -> -546798.2 | I24: =I25 -> 0 | J24: =J25 -> -546798.2 | K24: =K25 -> -546798.2 | L24: =L25 -> 0 | M24: =M25 -> -546798.2
D25: ='3'!F123 -> - Տրանսպորտային սարքավորումներ | E25: =F25+G25 -> -546798.2 | F25: 0 | G25: ='3'!G123 -> -546798.2 | H25: =I25+J25 -> -546798.2 | I25: 0 | J25: ='3'!H123 -> -546798.2 | K25: =L25+M25 -> -546798.2 | L25: 0 | M25: ='3'!I123 -> -546798.2
C27: ՀԱՅԱՍՏԱՆԻ ՀԱՆՐԱՊԵՏՈՒԹՅԱՆ ՎԱՐՉԱՊԵՏԻ ԱՇԽԱՏԱԿԱԶՄԻ ՂԵԿԱՎԱՐ՝ | F27: Ա. ՀԱՐՈՒԹՅՈՒՆՅԱՆ

Sheet 7
F1: Հավելված N 7
F2: ՀՀ կառավարության 2023 թվականի
F3: ______________ ի ___Ն որոշման
B5: ՀԱՅԱՍՏԱՆԻ ՀԱՆՐԱՊԵՏՈՒԹՅԱՆ ԿԱՌԱՎԱՐՈՒԹՅԱՆ 2022 ԹՎԱԿԱՆԻ ԴԵԿՏԵՄԲԵՐԻ 29-Ի N 2111-Ն ՈՐՈՇՄԱՆ N 9 ՀԱՎԵԼՎԱԾԻ NN 9.7 ԱՂՅՈՒՍԱԿՈՒՄ ԿԱՏԱՐՎՈՂ ՓՈՓՈԽՈՒԹՅՈՒՆՆԵՐԸ ԵՎ ԼՐԱՑՈՒՄՆԵՐԸ
E7: Աղյուսակ 9.7
A8: ՀՀ տարածքային կառավարման և ենթակառուցվածքների նախարարություն
B9: ՄԱՍ 1. ՊԵՏԱԿԱՆ ՄԱՐՄՆԻ ԳԾՈՎ ԱՐԴՅՈՒՆՔԱՅԻՆ (ԿԱՏԱՐՈՂԱԿԱՆ) ՑՈՒՑԱՆԻՇՆԵՐԸ
B11: Ծրագրի դասիչը | C11: Ծրագրի անվանումը
B12: 1004 | C12: Ոռոգման համակարգի առողջացում
B14: Ծրագրի միջոցառումները
B15: Ծրագրի դասիչը` | C15: 1004 | D15: Ցուցանիշների փոփոխությունը (նվազեցումները նշված են փակագծերում)
B16: Միջոցառման դասիչը` | C16: 11010 | D16: Առաջին կիսամյակ | E16: Ինն ամիս | F16: Տարի
B17: Միջոցառման անվանումը` | C17: Գերմանիայի զարգացման վարկերի բանկի աջակցությամբ իրականացվող Ախուրյան գետի ջրային ռեսուրսների ինտեգրացված կառավարում փուլ 1 ծրագրով Ջրաձոր գյուղի վերաբնակեցման գործողությունների խորհրդատվություն և կառավարում
B18: Նկարագրությունը` | C18: Գերմանիայի զարգացման վարկերի բանկի աջակցությամբ իրականացվող Ախուրյան գետի ջրային ռեսուրսների ինտեգրացված կառավարում փուլ 1 ծրագրով Ջրաձոր գյուղի վերաբնակեցման գործողությունների համակարգում և ղեկավարում
B19: Միջոցառման տեսակը` | C19: Ծառայությունների մատուցում
B20: Միջոցառումն իրականացնողի անվանումը | C20: Մասնագիտացված միավոր
B21: Արդյունքի չափորոշիչներ
B22: Կառավարվող/վերահսկվող խորհրդատվական պայմանագրերի քանակը, հատ
B23: Միջոցառման վրա կատարվող ծախսը (հազար դրամ) | D23: ='3'!G31 -> -150000 | E23: ='3'!H31 -> -150000 | F23: ='3'!I31 -> 0
B25: Ծրագրի դասիչը` | C25: 1004 | D25: Ցուցանիշների փոփոխությունը (նվազեցումները նշված են փակագծերում)
B26: Միջոցառման դասիչը` | C26: 31004 | D26: Առաջին կիսամյակ | E26: Ինն ամիս | F26: Տարի
B27: Միջոցառման անվանումը` | C27: Գերմանիայի զարգացման վարկերի բանկի աջակցությամբ իրականացվող Ախուրյան գետի ջրային ռեսուրսների ինտեգրված կառավարման ծրագրի շրջանակներում ջրային տնտեսության ենթակառուցվածքների հիմնանորոգում
B28: Նկարագրությունը` | C28: Գերմանիայի զարգացման վարկերի բանկի աջակցությամբ իրականացվող Ախուրյան գետի ջրային ռեսուրսների ինտեգրված կառավարման ծրագիր
B29: Միջոցառման տեսակը` | C29: Պետական մարմինների կողմից օգտագործվող ոչ ֆինանսական ակտիվների հետ գործառնություններ
B30: Ակտիվն օգտագործող կազմակերպության(ների) անվանում(ները)՛ | C30: Մասնագիտացված միավոր
B31: Արդյունքի չափորոշիչներ
B32: Նոր կառուցվող պատվարի երկարություն, մ | D32: -1 | E32: -5 | F32: 0
B33: Միջոցառման վրա կատարվող ծախսը (հազար դրամ) | D33: ='3'!G40 -> -379099.4 | E33: ='3'!H40 -> -379099.4 | F33: ='3'!I40 -> 0
B34: Ծրագրի դասիչը | C34: Ծրագրի անվանումը
B36: Ծրագրի դասիչը | C36: Ծրագրի անվանումը
B37: 1019 | C37: Սոցիալական ներդրումների և տեղական զարգացման ծրագիր
B39: Ծրագրի դասիչը` | C39: =B37 -> 1019 | D39: Ցուցանիշների փոփոխությունը (նվազեցումները նշված են փակագծերում)
B40: Միջոցառման դասիչը` | C40: 12001 | D40: Առաջին կիսամյակ | E40: Ինն ամիս | F40: Տարի
B41: Միջոցառման անվանումը` | C41: ='1'!D39 -> Համաշխարհային բանկի աջակցությամբ իրականացվող Տարածքային զարգացման հիմնադրամի ծրագրի շրջանակներում ՀՀ տարածքներում ջրագծերի, առողջապահության, կրթության, մշակույթի, հատուկ խնամքի և ենթակառուցվածքների ոլորտի վերականգնման և շինարարության աշխատանքներ
B42: Նկարագրությունը` | C42: ='1'!D41 -> Տարածքային զարգացման հիմնադրամի ծրագրով նախատեսված ՀՀ տարածքներում ջրագծերի, առողջապահության, կրթության օբյեկտների, մշակույթային տների, ծերանոցների, մանկատների, հատուկ դպրոցների, մանկապարտեզների և կոյուղու օբյեկտների հիմնանորոգում և շինարարություն
B43: Միջոցառման տեսակը` | C43: Տրանսֆերտների տրամադրում
B44: Շահառուների ընտրության չափանիշները | C44: Համաձայն ՏԶՀ Ղեկավար ձեռնարկի, որը ֆինանսավորման համաձայնագրի մաս է կազմում
B45: Արդյունքի չափորոշիչներ
B46: Հիմնանորոգված և նոր կառուցված ջրագծերի, առողջապահության, կրթության, մշակույթի, հատուկ խնամքի և ենթակառուցվածքների ոլորտի օբյեկտներից օգտվող համայնքներ, համայնքների թիվ, հատ | D46: -1 | E46: -1 | F46: -1
B47: Ավարտման ենթակա միկրոծրագրերի թիվ, հատ | D47: -1 | E47: -1 | F47: -1
...

Sheet 8
F1: Հավելված N 8
F2: ՀՀ կառավարության 2023 թվականի
F3: ______________ ի ___Ն որոշման
B5: ՀԱՅԱՍՏԱՆԻ ՀԱՆՐԱՊԵՏՈՒԹՅԱՆ ԿԱՌԱՎԱՐՈՒԹՅԱՆ 2022 ԹՎԱԿԱՆԻ ԴԵԿՏԵՄԲԵՐԻ 29-Ի N 2111-Ն ՈՐՈՇՄԱՆ N 9.1 ՀԱՎԵԼՎԱԾԻ NN 9.1.7 , 9.1.25 ԵՎ 9.1.58 ԱՂՅՈՒՍԱԿՆԵՐՈՒՄ ԿԱՏԱՐՎՈՂ ՓՈՓՈԽՈՒԹՅՈՒՆՆԵՐԸ ԵՎ ԼՐԱՑՈՒՄՆԵՐԸ
E7: Աղյուսակ 9.1.7
A8: ՀՀ տարածքային կառավարման և ենթակառուցվածքների նախարարություն
B9: ՄԱՍ 1. ՊԵՏԱԿԱՆ ՄԱՐՄՆԻ ԳԾՈՎ ԱՐԴՅՈՒՆՔԱՅԻՆ (ԿԱՏԱՐՈՂԱԿԱՆ) ՑՈՒՑԱՆԻՇՆԵՐԸ
B11: Ծրագրի դասիչը | C11: Ծրագրի անվանումը
B12: 1019 | C12: Սոցիալական ներդրումների և տեղական զարգացման ծրագիր
B14: Ծրագրի դասիչը` | C14: =B12 -> 1019 | D14: Ցուցանիշների փոփոխությունը (նվազեցումները նշված են փակագծերում)
B15: Միջոցառման դասիչը` | C15: 12001 | D15: Առաջին կիսամյակ | E15: Ինն ամիս | F15: Տարի
B16: Միջոցառման անվանումը` | C16: ='1'!D39 -> Համաշխարհային բանկի աջակցությամբ իրականացվող Տարածքային զարգացման հիմնադրամի ծրագրի շրջանակներում ՀՀ տարածքներում ջրագծերի, առողջապահության, կրթության, մշակույթի, հատուկ խնամքի և ենթակառուցվածքների ոլորտի վերականգնման և շինարարության աշխատանքներ
B17: Նկարագրությունը` | C17: ='1'!D41 -> Տարածքային զարգացման հիմնադրամի ծրագրով նախատեսված ՀՀ տարածքներում ջրագծերի, առողջապահության, կրթության օբյեկտների, մշակույթային տների, ծերանոցների, մանկատների, հատուկ դպրոցների, մանկապարտեզների և կոյուղու օբյեկտների հիմնանորոգում և շինարարություն
B18: Միջոցառման տեսակը` | C18: Տրանսֆերտների տրամադրում
B19: Շահառուների ընտրության չափանիշները | C19: Համաձայն ՏԶՀ Ղեկավար ձեռնարկի, որը ֆինանսավորման համաձայնագրի մաս է կազմում
B20: Արդյունքի չափորոշիչներ
B21: Հիմնանորոգված և նոր կառուցված ջրագծերի, առողջապահության, կրթության, մշակույթի, հատուկ խնամքի և ենթակառուցվածքների ոլորտի օբյեկտներից օգտվող համայնքներ, համայնքների թիվ, հատ | D21: -1 | E21: -1 | F21: -1
B22: Ավարտման ենթակա միկրոծրագրերի թիվ, հատ | D22: -1 | E22: -1 | F22: -1
B23: Միջոցառման վրա կատարվող ծախսը (հազար դրամ) | D23: ='3'!G147 -> -50000 | E23: ='3'!H147 -> 0 | F23: ='3'!I147 -> 0
B25: Ծրագրի դասիչը` | C25: =B23 -> Միջոցառման վրա կատարվող ծախսը (հազար դրամ) | D25: Ցուցանիշների փոփոխությունը (նվազեցումները նշված են փակագծերում)
B26: Միջոցառման դասիչը` | C26: 12004 | D26: Առաջին կիսամյակ | E26: Ինն ամիս | F26: Տարի
B27: Միջոցառման անվանումը` | C27: Համաշխարհային բանկի աջակցությամբ իրականացվող Սոցիալական ներդրումների և տեղական զարգացման ծրագրի լրացուցիչ ֆինանսավորման վարկի շրջանակներում ՀՀ համայնքային և միջհամայնքային ենթակառուցվածքների որակի, օգտագործման և հասանելիության բարելավում:
B28: Նկարագրությունը` | C28: Ջրագծերի, առողջապահության, կրթության օբյեկտների, մշակույթային տների, ծերանոցների, մանկատների, հատուկ դպրոցների, մանկապարտզների և կոյուղու օբյեկտնրի հիմն. և շինարարություն., գույքի և սարքավորումների տրամադրում շահառու ենթածրագրերի համար:
B29: Միջոցառման տեսակը` | C29: Տրանսֆերտների տրամադրում
B30: Շահառուների ընտրության չափանիշները | C30: Համաձայն ՏԶՀ Ղեկավար ձեռնարկի, որը ֆինանսավորման համաձայնագրի մաս է կազմում
B31: Արդյունքի չափորոշիչներ
B32: Համայնքների թիվը, որոնց տրամադրվել են սարքավորումներ և տեխնիկա | D32: -3 | E32: -5 | F32: -15
B33: Հիմնանորոգված և նոր կառուցված ջրագծերի, առողջապահության, կրթության, մշակույթի, հատուկ խնամքի և ենթակառուցվածքների ոլորտի օբյեկտներից օգտվող համայնքներ, համայնքների թիվ, հատ | E33: -5 | F33: -5
B34: Ավարտման ենթակա միկրոծրագրերի թիվ, հատ | F34: -7
B35: Միջոցառման վրա կատարվող ծախսը (հազար դրամ) | D35: ='1'!E45 -> -285671 | E35: ='1'!F45 -> -485671 | F35: ='1'!G45 -> -385671
B37: Ծրագրի դասիչը` | C37: 1040 | D37: Ցուցանիշների փոփոխությունը (նվազեցումները նշված են փակագծերում)
B38: Միջոցառման դասիչը` | C38: 32009 | D38: Առաջին կիսամյակ | E38: Ինն ամիս | F38: Տարի
B39: Միջոցառման անվանումը` | C39: Միջազգային կազմակերպությունների աջակցությամբ իրականացվող ՀՀ 8 մարզերում աղբահանության և կոշտ թափոնների ինտեգրված համակարգի կառուցում
B40: Նկարագրությունը` | C40: ՀՀ 8 մարզերում աղբահանության և կոշտ թափոնների ինտեգրված համակարգ (4 սանիտարական աղբավայր, 16 փոխբեռնման կայան)
B41: Միջոցառման տեսակը` | C41: Այլ պետական կազմակերպությունների կողմից օգտագործվող ոչ ֆինանսական ակտիվների հետ գործառնություններ
B42: Միջոցառումն իրականացնողի անվանումը՛ | C42: ՀՀ տարածքային կառավարման և ենթակառուցվածքների նախարարություն
B43: Արդյունքի չափորոշիչներ
B44: Ծրագրում ընդգրկված համայնքների թիվը, հատ
B45: Միջոցառման վրա կատարվող ծախսը (հազար դրամ) | D45: ='3'!G190 -> -6281.4 | E45: ='3'!H190 -> -33762 | F45: ='3'!I190 -> 0
B47: Ծրագրի դասիչը | C47: Ծրագրի անվանումը
...

Sheet 9
H1: Հավելված N 9
H2: ՀՀ կառավարության 2023 թվականի
H3: ______________ ի ___Ն որոշման
B5: ՀԱՅԱՍՏԱՆԻ ՀԱՆՐԱՊԵՏՈՒԹՅԱՆ ԿԱՌԱՎԱՐՈՒԹՅԱՆ 2022 ԹՎԱԿԱՆԻ ԴԵԿՏԵՄԲԵՐԻ 29-Ի N 2111-Ն ՈՐՈՇՄԱՆ N 10 ՀԱՎԵԼՎԱԾՈՒՄ ԿԱՏԱՐՎՈՂ ԼՐԱՑՈՒՄՆԵՐԸ
B6: Կոդը | C6: Անվանումը | D6: Գնման ձևը | E6: Չափման միավորը | F6: Միավորի գինը | G6: Ցուցանիշների փոփոխությունը (ավելացումները նշված են դրական նշանով)
G7: Քանակը | H7: Գումարը (հազար դրամով)
B8: ՀՀ տարածքային կառավարման և ենթակառուցվածքների նախարարություն | H8: =+H9 -> 4154349.8
B9: Բաժին N 04 | C9: Խումբ N 05 | D9: Դաս N 01 | E9: Ճանապարհային տրանսպորտ | H9: =+H10+H36 -> 4154349.8
B10: 1049 21001 | C10: Պետական նշանակության ավտոճանապարհների հիմնանորոգում | H10: =+H11+H21 -> 3893080.2
B11: ՄԱՍ II. ԱՇԽԱՏԱՆՔՆԵՐ | H11: =SUM(H12:H20) -> 3838378.8
B12: 45231177 | C12: ճանապարհների վերանորոգման աշխատանքներ | D12: ՀԲՄ | E12: դրամ | F12: 258629904 | G12: 1 | H12: =+G12*F12/1000 -> 258629.9
B13: 45231177/511 | C13: ճանապարհների վերանորոգման աշխատանքներ | D13: ՀԲՄ | E13: դրամ | F13: 750000000 | G13: 1 | H13: =+G13*F13/1000 -> 750000
B14: 45231177 | C14: ճանապարհների վերանորոգման աշխատանքներ | D14: ՀԲՄ | E14: դրամ | F14: 98055000 | G14: 1 | H14: =+G14*F14/1000 -> 98055
B15: 45231177/503 | C15: ճանապարհների վերանորոգման աշխատանքներ | D15: ՀԲՄ | E15: դրամ | F15: 938299200 | G15: 1 | H15: =+G15*F15/1000 -> 938299.2
B16: 45231177 | C16: ճանապարհների վերանորոգման աշխատանքներ | D16: ԲՄ | E16: դրամ | F16: 95570613 | G16: 1 | H16: =+G16*F16/1000 -> 95570.613
B17: 45231177 | C17: ճանապարհների վերանորոգման աշխատանքներ | D17: ԲՄ | E17: դրամ | F17: 776808870 | G17: 1 | H17: =+G17*F17/1000 -> 776808.87
B18: 45231177 | C18: ճանապարհների վերանորոգման աշխատանքներ | D18: ՀԲՄ | E18: դրամ | F18: 49100000 | G18: 1 | H18: =+G18*F18/1000 -> 49100
B19: 45231177/513 | C19: ճանապարհների վերանորոգման աշխատանքներ | D19: ՀԲՄ | E19: դրամ | F19: 834499200 | G19: 1 | H19: =+G19*F19/1000 -> 834499.2
B20: 45231177 | C20: ճանապարհների վերանորոգման աշխատանքներ | D20: ՀԲՄ | E20: դրամ | F20: 37416005 | G20: 1 | H20: =+G20*F20/1000 -> 37416.005
B21: ՄԱՍ III. ԾԱՌԱՅՈՒԹՅՈՒՆՆԵՐ | H21: =SUM(H22:H35) -> 54701.382
B22: 71351540 | C22: տեխնիկական հսկողության ծառայություններ | D22: ՀԲՄ | E22: դրամ | F22: 3815188 | G22: 1 | H22: =+G22*F22/1000 -> 3815.188
B23: 71351540/509 | C23: տեխնիկական հսկողության ծառայություններ | D23: ՀԲՄ | E23: դրամ | F23: 2985428 | G23: 1 | H23: =+G23*F23/1000 -> 2985.428
B24: 71351540 | C24: տեխնիկական հսկողության ծառայություններ | D24: ՀԲՄ | E24: դրամ | F24: 1243813 | G24: 1 | H24: =+G24*F24/1000 -> 1243.813
B25: 71351540/511 | C25: տեխնիկական հսկողության ծառայություններ | D25: ՀԲՄ | E25: դրամ | F25: 4592500 | G25: 1 | H25: =+G25*F25/1000 -> 4592.5
B26: 71351540 | C26: տեխնիկական հսկողության ծառայություններ | D26: ՀԲՄ | E26: դրամ | F26: 521600 | G26: 1 | H26: =+G26*F26/1000 -> 521.6
B27: 71351540 | C27: տեխնիկական հսկողության ծառայություններ | D27: ԳՀ | E27: դրամ | F27: 6807432 | G27: 1 | H27: =+G27*F27/1000 -> 6807.432
B28: 71351540 | C28: տեխնիկական հսկողության ծառայություններ | D28: ԳՀ | E28: դրամ | F28: 521220 | G28: 1 | H28: =+G28*F28/1000 -> 521.22
B29: 98111140 | C29: հեղինակային հսկողության ծառայություններ | D29: ՄԱ | E29: դրամ | F29: 6845981 | G29: 1 | H29: =+G29*F29/1000 -> 6845.981
B30: 98111140 | C30: հեղինակային հսկողության ծառայություններ | D30: ՄԱ | E30: դրամ | F30: 2182500 | G30: 1 | H30: =+G30*F30/1000 -> 2182.5
B31: 98111140 | C31: հեղինակային հսկողության ծառայություններ | D31: ՄԱ | E31: դրամ | F31: 5129720 | G31: 1 | H31: =+G31*F31/1000 -> 5129.72
B32: 98111140 | C32: հեղինակային հսկողության ծառայություններ | D32: ՄԱ | E32: դրամ | F32: 6783170 | G32: 1 | H32: =+G32*F32/1000 -> 6783.17
B33: 98111140 | C33: հեղինակային հսկողության ծառայություններ | D33: ՄԱ | E33: դրամ | F33: 6722889 | G33: 1 | H33: =+G33*F33/1000 -> 6722.889
B34: 98111140 | C34: հեղինակային հսկողության ծառայություններ | D34: ՄԱ | E34: դրամ | F34: 5951609 | G34: 1 | H34: =+G34*F34/1000 -> 5951.609
B35: 98111140 | C35: հեղինակային հսկողության ծառայություններ | D35: ՄԱ | E35: դրամ | F35: 598332 | G35: 1 | H35: =+G35*F35/1000 -> 598.332
B36: 1049 21002 | C36: Տրանսպորտային օբյեկտների հիմնանորոգում | H36: =H37+H39 -> 261269.59
B37: ՄԱՍ II. ԱՇԽԱՏԱՆՔՆԵՐ | H37: =H38 -> 245304.79
B38: 45231177/505 | C38: ճանապարհների վերանորոգման աշխատանքներ | D38: ՀԲՄ | E38: դրամ | F38: 245304790 | G38: 1 | H38: =+G38*F38/1000 -> 245304.79
B39: ՄԱՍ III. ԾԱՌԱՅՈՒԹՅՈՒՆՆԵՐ | H39: =SUM(H40:H47) -> 15964.801
B40: 71351540 | C40: տեխնիկական հսկողության ծառայություններ | D40: ՀԲՄ | E40: դրամ | F40: 3468009 | G40: 1 | H40: =+G40*F40/1000 -> 3468.009
B41: 98111140 | C41: հեղինակային հսկողության ծառայություններ | D41: ՄԱ | E41: դրամ | F41: 1456792 | G41: 1 | H41: =+G41*F41/1000 -> 1456.792
...
