Workbook
Name AgencyCode: #REF!
Name AgencyCode: #REF!
Name AgencyName: #REF!
Name AgencyName: #REF!
Name åû: #REF!
Name åû: #REF!
Name davit: #REF!
Name davit: #REF!
Name Functional1: #REF!
Name Functional1: #REF!
Name ggg: #REF!
Name ggg: #REF!
Name hav: #REF!
Name hav: #REF!
Name havelvac: #REF!
Name havelvac: #REF!
Name mas: #REF!
Name mas: #REF!
Name mass: #REF!
Name mass: #REF!
Name PANature: #REF!
Name PANature: #REF!
Name PAType: #REF!
Name PAType: #REF!
Name Performance2: #REF!
Name Performance2: #REF!
Name PerformanceType: #REF!
Name PerformanceType: #REF!
Name x: #REF!
Name x: #REF!
Name Հավելված: #REF!
Name Հավելված: #REF!
Name Մաս: #REF!
Name Մաս: #REF!
Name շախմատիստ: #REF!
Name շախմատիստ: #REF!

Sheet 1
F1: Հավելված N 1
F2: ՀՀ կառավարության 2023 թվականի
C3: -----------------ի N -----------Ն որոշման
A6: ՀԱՅԱՍՏԱՆԻ ՀԱՆՐԱՊԵՏՈՒԹՅԱՆ 2023 ԹՎԱԿԱՆԻ ՊԵՏԱԿԱՆ ԲՅՈՒՋԵԻ ՄԱՍԻՆ» ՕՐԵՆՔԻ N 1 ՀԱՎԵԼՎԱԾԻ N 2 ԱՂՅՈՒՍԱԿՈՒՄ ԿԱՏԱՐՎՈՂ ՎԵՐԱԲԱՇԽՈՒՄԸ ԵՎ ԼՐԱՑՈՒՄԸ ԵՎ ՀԱՅԱՍՏԱՆԻ ՀԱՆՐԱՊԵՏՈՒԹՅԱՆ ԿԱՌԱՎԱՐՈՒԹՅԱՆ 2022 ԹՎԱԿԱՆԻ ԴԵԿՏԵՄԲԵՐԻ 29-Ի N 2111-Ն ՈՐՈՇՄԱՆ N 5 ՀԱՎԵԼՎԱԾԻ N 1 ԱՂՅՈՒՍԱԿՈՒՄ ԿԱՏԱՐՎՈՂ ՓՈՓՈԽՈՒԹՅՈՒՆՆԵՐԸ ԵՎ ԼՐԱՑՈՒՄՆԵՐԸ
D8: (հազար դրամ)
A9: Ծրագրային դասիչը | C9: Բյուջետային հատկացումների գլխավոր կարգադրիչների, ծրագրերի և միջոցառումների անվանումները | D9: Ցուցանիշների փոփոխությունները ավելացումները նշված են դրական նշանով, իսկ նվազեցումները՝ փակագծերում
A10: Ծրագիր | B10: Միջոցառում | D10: Առաջին կիսամյակ | E10: Ինն ամիս | F10: Տարի
C11: ԸՆԴԱՄԵՆԸ | D11: =+D12+D50 -> 0 | E11: =+E12+E50 -> 0 | F11: =F12 -> 0
C12: ՀՀ աշխատանքի և սոցիալական հարցերի նախարարություն | D12: =+D13 -> 0 | E12: =+E13 -> 0 | F12: =+F13 -> 0
A13: 1088 | C13: Ծրագրի անվանումը` | D13: =D20+D26+D32+D38+D44 -> 0 | E13: =E20+E26+E32+E38+E44 -> 0 | F13: =F20+F26+F32+F38+F44 -> 0
C14: Զբաղվածության ծրագիր
C15: Ծրագրի նպատակը`
C16: Բնակչության կայուն և ժամանակավոր զբաղվածության ապահովմանը միտված պայմանների ստեղծում
C17: Վերջնական արդյունքի նկարագրությունը`
C18: Կայուն և ժամանակավոր զբաղվածների թվաքանակի աճ
A19: Ծրագրի միջոցառումներ
B20: 11004 | C20: Միջոցառման անվանումը` | D20: -14000 | E20: -23000 | F20: -30000
C21: Աշխատաշուկայում անմրցունակ անձանց փոքր ձեռնարկատիրական գործունեության աջակցության տրամադրում ծրագրի ուսուցման կազմակերպման և խորհրդատվական ծառայություններ
C22: Միջոցառման նկարագրությունը`
C23: Անմրցունակ անձանց ձեռնարկատիրական գործունեության մեկնարկի և իրականացման համար աջակցության տրամադրում և տնտեսական գործունեությունն սկսելուց հետո մեկ տարվա ընթացքում ուղեկցման աշխատանքների իրականացում:
C24: Միջոցառման տեսակը
C25: Ծառայությունների մատուցում
B26: 12001 | C26: Միջոցառման անվանումը` | D26: -1800 | E26: -82358.3 | F26: -100114.5
C27: Աշխատաշուկայում անմրցունակ անձանց փոքր ձեռնարկատիրական գործունեության աջակցության տրամադրում
C28: Միջոցառման նկարագրությունը`
C29: Փոքր ձեռնարկատիրական գործունեությամբ զբաղվելու և լրացուցիչ աշխատատեղեր ստեղծելու նպատակով աշխատաշուկայում անմրցունակ անձանց ֆինանսական աջակցության տրամադրում՛ ապահովելով հավասար հնարավորություններ կանանց և տղամարդկանց համար
C30: Միջոցառման տեսակը
C31: Տրանսֆերտների տրամադրում
B32: 12005 | C32: Միջոցառման անվանումը` | D32: 0 | E32: -24841.7 | F32: -76373
C33: Աշխատաշուկայում անմրցունակ անձանց աշխատանքի տեղավորման դեպքում գործատուին միանվագ փոխհատուցման տրամադրում
C34: Միջոցառման նկարագրությունը`
C35: Աշխատաշուկայում անմրցունակ անձանց աշխ. ունակությունների և կարողությունների` աշխ. վայրում ձեռքբերման հնարավորությունների ընձեռում և հաշմանդամութ. ունեցող անձանց համար աշխատատեղի հարմարեցում՛ ապահովելով հավասար հնարավորություններ կանանց և տղամարդկանց համար
C36: Միջոցառման տեսակը
C37: Տրանսֆերտների տրամադրում
B38: 12020 | C38: Միջոցառման անվանումը` | D38: 0 | E38: 0 | F38: 6750
C39: Գործազուրկների զբաղվածության ապահովում
C40: Միջոցառման նկարագրությունը`
C41: Միջոցառման շրջանակում՝ ՄՍԾ-ի տարածքային կենտրոնում հաշվառված և վերջին երեք ամսվա ընթացքում անընդմեջ գործազուրկի կարգավիճակ ունեցող, 35 տարեկանից բարձր տարիքի յուրաքանչյուր գործազուրկի՝ առնվազն մեկ տարի ժամկետով աշխատանքի տեղավորման դեպքում՝ գործատուին տրամադրվում է միանվագ փոխհատուցում 250 000 դրամի չափով , նպաստառու ընտանիքի գործազուրկ անձի աշխատանքի տեղավորման դեպքում՝ 350 000 դրամի չափով։
C42: Միջոցառման տեսակը
C43: Տրանսֆերտների տրամադրում
...

Sheet 2
G1: Հավելված N 2
F2: ՀՀ կառավարության 2023 թվականի
F3: -----------------ի N -----------Ն որոշման
A5: ՀԱՅԱՍՏԱՆԻ ՀԱՆՐԱՊԵՏՈՒԹՅԱՆ ԿԱՌԱՎԱՐՈՒԹՅԱՆ 2022 ԹՎԱԿԱՆԻ ԴԵԿՏԵՄԲԵՐԻ 29-Ի N 2111-Ն ՈՐՈՇՄԱՆ N N 3 ԵՎ 4 ՀԱՎԵԼՎԱԾՆԵՐՈՒՄ ԿԱՏԱՐՎՈՂ ՓՈՓՈԽՈՒԹՅՈՒՆՆԵՐԸ ԵՎ ԼՐԱՑՈՒՄՆԵՐԸ
I7: (հազար դրամ)
A8: Գործառական դասիչը | D8: Ծրագրային դասիչը | F8: Բյուջետային ծախսերի գործառական դասակարգման բաժինների, խմբերի և դասերի, բյուջետային ծրագրերի միջոցառումների, բյուջետային հատկացումների գլխավոր կարգադրիչների անվանումները | G8: Ցուցանիշների փոփոխությունները (ավելացումները նշված են դրական, իսկ նվազեցումները՝ փակագծերում)
A9: Բաժինը | B9: Խումբը | C9: Դասը | D9: Ծրագիր | E9: Միջոցառում | G9: Առաջին կիսամյակ | H9: Ինն ամիս | I9: Տարի
F10: ԸՆԴԱՄԵՆԸ ԾԱԽՍԵՐ | G10: =+G13+G70 -> 0 | H10: =+H13+H70 -> 0 | I10: =I13 -> 0
F11: այդ թվում`
F12: ՀՀ աշխատանքի և սոցիալական հարցերի նախարարություն
A13: 10 | F13: ՍՈՑԻԱԼԱԿԱՆ ՊԱՇՏՊԱՆՈՒԹՅՈՒՆ | G13: =G15 -> 0 | H13: =H15 -> 0 | I13: =I15 -> 0
F14: այդ թվում`
B15: ՛05 | F15: Գործազրկություն | G15: =G17 -> 0 | H15: =H17 -> 0 | I15: =I17 -> 0
F16: այդ թվում`
C17: ՛01 | F17: Գործազրկություն | G17: =G19 -> 0 | H17: =H19 -> 0 | I17: =I19 -> 0
F18: այդ թվում`
D19: 1088 | F19: Զբաղվածության ծրագիր | G19: =G22+G31+G40+G49+G58 -> 0 | H19: =H22+H31+H40+H49+H58 -> 0 | I19: =I22+I31+I40+I49+I58 -> 0
F20: այդ թվում`
D21: Ծրագրի միջոցառումներ
E22: 11004 | F22: Աշխատաշուկայում անմրցունակ անձանց փոքր ձեռնարկատիրական գործունեության աջակցության տրամադրում ծրագրի ուսուցման կազմակերպման և խորհրդատվական ծառայություններ | G22: =G24 -> -14000 | H22: =H24 -> -23000 | I22: =I24 -> -30000
F23: այդ թվում` ըստ կատարողների
F24: ՀՀ աշխատանքի և սոցիալական հարցերի նախարարության միասնական սոցիալական ծառայություն | G24: =G26 -> -14000 | H24: =H26 -> -23000 | I24: =I26 -> -30000
F25: այդ թվում` բյուջետային ծախսերի տնտեսագիտական դասակարգման հոդվածներ
F26: ԸՆԴԱՄԵՆԸ ԾԱԽՍԵՐ | G26: =G27 -> -14000 | H26: =H27 -> -23000 | I26: =I27 -> -30000
F27: ԸՆԹԱՑԻԿ ԾԱԽՍԵՐ | G27: =G28 -> -14000 | H27: =H28 -> -23000 | I27: =I28 -> -30000
F28: ԾԱՌԱՅՈՒԹՅՈՒՆՆԵՐԻ ԵՎ ԱՊՐԱՆՔՆԵՐԻ ՁԵՌՔԲԵՐՈՒՄ | G28: =G29 -> -14000 | H28: =H29 -> -23000 | I28: =I29 -> -30000
F29: Այլ մասնագիտական ծառայությունների ձեռքբերում | G29: =G30 -> -14000 | H29: =H30 -> -23000 | I29: =I30 -> -30000
F30: - Մասնագիտական ծառայություններ | G30: ='1'!D20 -> -14000 | H30: ='1'!E20 -> -23000 | I30: ='1'!F20 -> -30000
E31: 12001 | F31: Աշխատաշուկայում անմրցունակ անձանց փոքր ձեռնարկատիրական գործունեության աջակցության տրամադրում | G31: =G33 -> -1800 | H31: =H33 -> -82358.3 | I31: =I33 -> -100114.5
F32: այդ թվում` ըստ կատարողների
F33: ՀՀ աշխատանքի և սոցիալական հարցերի նախարարության միասնական սոցիալական ծառայություն | G33: =G35 -> -1800 | H33: =H35 -> -82358.3 | I33: =I35 -> -100114.5
F34: այդ թվում` բյուջետային ծախսերի տնտեսագիտական դասակարգման հոդվածներ
F35: ԸՆԴԱՄԵՆԸ ԾԱԽՍԵՐ | G35: =G36 -> -1800 | H35: =H36 -> -82358.3 | I35: =I36 -> -100114.5
F36: ԸՆԹԱՑԻԿ ԾԱԽՍԵՐ | G36: =G37 -> -1800 | H36: =H37 -> -82358.3 | I36: =I37 -> -100114.5
F37: ՍՈՑԻԱԼԱԿԱՆ ՆՊԱՍՏՆԵՐ ԵՎ ԿԵՆՍԱԹՈՇԱԿՆԵՐ | G37: =G38 -> -1800 | H37: =H38 -> -82358.3 | I37: =I38 -> -100114.5
F38: Սոցիալական օգնության դրամական արտահայտությամբ նպաստներ (բյուջեից) | G38: =G39 -> -1800 | H38: =H39 -> -82358.3 | I38: =I39 -> -100114.5
F39: - Այլ նպաստներ բյուջեից | G39: ='1'!D26 -> -1800 | H39: ='1'!E26 -> -82358.3 | I39: ='1'!F26 -> -100114.5
E40: 12005 | F40: Աշխատաշուկայում անմրցունակ անձանց աշխատանքի տեղավորման դեպքում գործատուին միանվագ փոխհատուցման տրամադրում | G40: =G42 -> 0 | H40: =H42 -> -24841.7 | I40: =I42 -> -76373
F41: այդ թվում` ըստ կատարողների
F42: ՀՀ աշխատանքի և սոցիալական հարցերի նախարարության միասնական սոցիալական ծառայություն | G42: =G44 -> 0 | H42: =H44 -> -24841.7 | I42: =I44 -> -76373
...

Sheet 3
H2: Հավելված N 3
H3: ՀՀ կառավարության 2023 թվականի
H4: -----------------ի N -----------Ն որոշման
B6: ՀԱՅԱՍՏԱՆԻ ՀԱՆՐԱՊԵՏՈՒԹՅԱՆ ԿԱՌԱՎԱՐՈՒԹՅԱՆ 2022 ԹՎԱԿԱՆԻ ԴԵԿՏԵՄԲԵՐԻ 29-Ի N 2111-Ն ՈՐՈՇՄԱՆ N 5 ՀԱՎԵԼՎԱԾԻ N 7 ԱՂՅՈՒՍԱԿՈՒՄ ԿԱՏԱՐՎՈՂ ՓՈՓՈԽՈՒԹՅՈՒՆՆԵՐԸ ԵՎ ԼՐԱՑՈՒՄՆԵՐԸ
H7: (հազար դրամ)
B8: Ծրագրային դասիչ | D8: Բյուջետային գլխավոր կարգադրիչների, ծրագրերի, միջոցառումների, միջոցառումները կատարող պետական մարմինների և ուղղությունների անվանումները | G8: Միջոցառումները կատարող պետական մարմինների և դրամաշնորհ ստացող տնտեսավարող սուբյեկտների անվանումները | H8: Ցուցանիշների փոփոխությունը (նվազեցումը նշված է փակագծերում)
B9: Ծրագիր | C9: Միջոցառում | H9: Տարի
B11: 1 | C11: 2 | D11: 3 | G11: 4 | H11: 5
B12: ՀՀ աշխատանքի և սոցիալական հարցերի նախարարություն | H12: =+H13 -> 63177
B13: 1088 | C13: Զբաղվածության ծրագիր | H13: =+H14+H16+H18 -> 63177
C14: 12005 | D14: Աշխատաշուկայում անմրցունակ անձանց աշխատանքի տեղավորման դեպքում գործատուին միանվագ փոխհատուցման տրամադրում | G14: ՀՀ աշխատանքի և սոցիալական հարցերի նախարարության միասնական սոցիալական ծառայություն | H14: =+H15 -> -76373
G15: Աշխատաշուկայում անմրցունակ անձանց օրենսդրությամբ սահմանված կարգով աշխատանքով ապահովող կազմակերպություններ | H15: =+'1'!F32 -> -76373
C16: 12018 | D16: =+'1'!C45 -> Ադրբեջանի կողմից 2016 և 2020 թվականներին սանձազերծված ռազմական գործողություններին մասնակցած գործազուրկ անձանց մասնագիտական ուսուցման կազմակերպման և զբաղվածության ապահովում | G16: ՀՀ աշխատանքի և սոցիալական հարցերի նախարարության միասնական սոցիալական ծառայություն | H16: =+H17 -> 132800
G17: Գործազուրկներին զբաղվածությունն ապահովող կազմակերպություններ | H17: =+'2'!I66 -> 132800
C18: 12020 | D18: =+'2'!F49 -> Գործազուրկների զբաղվածության ապահովում | G18: ՀՀ աշխատանքի և սոցիալական հարցերի նախարարության միասնական սոցիալական ծառայություն | H18: =+H19 -> 6750
G19: Գործազուրկներին զբաղվածությունն ապահովող կազմակերպություններ | H19: =+'2'!I57 -> 6750

Sheet 4
E2: Հավելված N 4
E3: ՀՀ կառավարության 2023 թվականի
E4: -----------------ի N -----------Ն որոշման
A6: ՀԱՅԱՍՏԱՆԻ ՀԱՆՐԱՊԵՏՈՒԹՅԱՆ ԿԱՌԱՎԱՐՈՒԹՅԱՆ 2022 ԹՎԱԿԱՆԻ ԴԵԿՏԵՄԲԵՐԻ 29-Ի N 2111-Ն ՈՐՈՇՄԱՆ N 9 ՀԱՎԵԼՎԱԾԻ NN 9.15 ԵՎ 9.47 ԱՂՅՈՒՍԱԿՆԵՐՈՒՄ ԿԱՏԱՐՎՈՂ ՓՈՓՈԽՈՒԹՅՈՒՆՆԵՐԸ ԵՎ ԼՐԱՑՈՒՄՆԵՐԸ
A7: Հայաստանի Հանրապետության աշխատանքի և սոցիալական հարցերի նախարարություն
A8: ՄԱՍ 2. ՊԵՏԱԿԱՆ ՄԱՐՄՆԻ ԳԾՈՎ ԱՐԴՅՈՒՆՔԱՅԻՆ (ԿԱՏԱՐՈՂԱԿԱՆ) ՑՈՒՑԱՆԻՇՆԵՐԸ
A10: Ծրագրի դասիչը | B10: Ծրագրի անվանումը
A11: 1088 | B11: Զբաղվածության ծրագիր
A13: Ծրագրի միջոցառումները
A15: Ծրագրի դասիչը` | B15: 1088 | C15: Ցուցանիշների փոփոխությունը (նվազեցումը նշված է փակագծերում)
A16: Միջոցառման դասիչը` | B16: 11004 | C16: Առաջին կիսամյակ | D16: Ինն ամիս | E16: Տարի
A17: Միջոցառման անվանումը` | B17: Աշխատաշուկայում անմրցունակ անձանց փոքր ձեռնարկատիրական գործունեության աջակցության տրամադրում ծրագրի ուսուցման կազմակերպման և խորհրդատվական ծառայություններ
A18: Նկարագրությունը` | B18: Անմրցունակ անձանց ձեռնարկատիրական գործունեության մեկնարկի և իրականացման համար աջակցության տրամադրում և տնտեսական գործունեությունն սկսելուց հետո մեկ տարվա ընթացքում ուղեկցման աշխատանքների իրականացում:
A19: Միջոցառման տեսակը` | B19: Ծառայությունների մատուցում
A20: Միջոցառումն իրականացնողի անվանումը? | B20: «Գնումների մասին» ՀՀ օրենքի համաձայն ընտրված կազմակերպություն
A21: Արդյունքի չափորոշիչներ
A22: Ծրագրի շահառուների թիվ, մարդ, այդ թվում | C22: -70 | D22: -115 | E22: -150
A23: Միջոցառման վրա կատարվող ծախսը (հազար դրամ) | C23: ='1'!D20 -> -14000 | D23: ='1'!E20 -> -23000 | E23: ='1'!F20 -> -30000
A25: Ծրագրի դասիչը` | B25: 1088 | C25: Ցուցանիշների փոփոխությունը (նվազեցումը նշված է փակագծերում)
A26: Միջոցառման դասիչը` | B26: 12001 | C26: Առաջին կիսամյակ | D26: Ինն ամիս | E26: Տարի
A27: Միջոցառման անվանումը` | B27: Աշխատաշուկայում անմրցունակ անձանց փոքր ձեռնարկատիրական գործունեության աջակցության տրամադրում
A28: Նկարագրությունը` | B28: Փոքր ձեռնարկատիրական գործունեությամբ զբաղվելու և լրացուցիչ աշխատատեղեր ստեղծելու նպատակով աշխատաշուկայում անմրցունակ անձանց ֆինանսական աջակցության տրամադրում՛ ապահովելով հավասար հնարավորություններ կանանց և տղամարդկանց համար
A29: Միջոցառման տեսակը` | B29: Տրանսֆերտների տրամադրում
A30: Շահառուների ընտրության չափանիշները | B30: Զբաղվածության տարածքային կենտրոններում հաշվառված աշխատաշուկայում անմրցունակ և առնվազն երեք ամիս գործազուրկի կարգավիճակում գտնվող անձինք:
A31: Արդյունքի չափորոշիչներ
A32: Ինքնազբաղվածությամբ ապահովված անձանց թիվ, այդ թվում | C32: -1 | D32: -56 | E32: -74
A33: հաշմանդամություն ունեցող անձանց թիվը | C33: -7 | D33: -12 | E33: -17
A34: Միջոցառման վրա կատարվող ծախսը (հազար դրամ) | C34: ='1'!D26 -> -1800 | D34: ='1'!E26 -> -82358.3 | E34: ='1'!F26 -> -100114.5
A36: Ծրագրի դասիչը` | B36: 1088 | C36: Ցուցանիշների փոփոխությունը (նվազեցումը նշված է փակագծերում)
A37: Միջոցառման դասիչը` | B37: 12005 | C37: Առաջին կիսամյակ | D37: Ինն ամիս | E37: Տարի
A38: Միջոցառման անվանումը` | B38: Աշխատաշուկայում անմրցունակ անձանց աշխատանքի տեղավորման դեպքում գործատուին միանվագ փոխհատուցման տրամադրում
A39: Նկարագրությունը` | B39: Աշխատաշուկայում անմրցունակ անձանց աշխ. ունակությունների և կարողությունների` աշխ. վայրում ձեռքբերման հնարավորությունների ընձեռում և հաշմանդամութ. ունեցող անձանց համար աշխատատեղի հարմարեցում՛ ապահովելով հավասար հնարավորություններ կանանց և տղամարդկանց համար
A40: Միջոցառման տեսակը` | B40: Տրանսֆերտների տրամադրում
A41: Շահառուների ընտրության չափանիշները | B41: Զբաղվածության տարածքային կենտրոններում հաշվառված աշխատաշուկայում անմրցունակ անձինք
A42: Արդյունքի չափորոշիչներ
A43: Աշխատաշուկայում անմրցունակ անձանց թիվը, որոնք գործատուի մոտ աշխատանքային ունակություններ և կարողություններ են ձեռք բերում | C43: -375 | D43: -674 | E43: -1040
A44: Հաշմանդամություն ունեցող անձանց թիվը, որոնց համար իրականացվել է աշխատատեղի հարմարեցում | C44: -48 | D44: -96 | E44: -140
A45: Միջոցառման վրա կատարվող ծախսը (հազար դրամ) | D45: ='1'!E32 -> -24841.7 | E45: ='1'!F32 -> -76373
A47: Ծրագրի դասիչը` | B47: 1088 | C47: Ցուցանիշների փոփոխությունը (ավելացումը նշված է դրական)
A48: Միջոցառման դասիչը` | B48: 12018 | C48: Առաջին կիսամյակ | D48: Ինն ամիս | E48: Տարի
...

Sheet 5
E2: Հավելված N 5
E3: ՀՀ կառավարության 2023 թվականի
E4: -----------------ի N -----------Ն որոշման
A6: ՀԱՅԱՍՏԱՆԻ ՀԱՆՐԱՊԵՏՈՒԹՅԱՆ ԿԱՌԱՎԱՐՈՒԹՅԱՆ 2022 ԹՎԱԿԱՆԻ ԴԵԿՏԵՄԲԵՐԻ 29-Ի N 2111-Ն ՈՐՈՇՄԱՆ N 9.1 ՀԱՎԵԼՎԱԾԻ NN 9.1.19 ԵՎ 9.1.58 ԱՂՅՈՒՍԱԿՆԵՐՈՒՄ ԿԱՏԱՐՎՈՂ ՓՈՓՈԽՈՒԹՅՈՒՆՆԵՐԸ ԵՎ ԼՐԱՑՈՒՄՆԵՐԸ
A7: Հայաստանի Հանրապետության աշխատանքի և սոցիալական հարցերի նախարարության միասնական սոցիալական ծառայություն
A8: ՄԱՍ 2. ՊԵՏԱԿԱՆ ՄԱՐՄՆԻ ԳԾՈՎ ԱՐԴՅՈՒՆՔԱՅԻՆ (ԿԱՏԱՐՈՂԱԿԱՆ) ՑՈՒՑԱՆԻՇՆԵՐԸ
A10: Ծրագրի դասիչը | B10: Ծրագրի անվանումը
A11: 1088 | B11: Զբաղվածության ծրագիր
A13: Ծրագրի միջոցառումները
A15: Ծրագրի դասիչը` | B15: 1088 | C15: Ցուցանիշների փոփոխությունը (նվազեցումը նշված է փակագծերում)
A16: Միջոցառման դասիչը` | B16: 11004 | C16: Առաջին կիսամյակ | D16: Ինն ամիս | E16: Տարի
A17: Միջոցառման անվանումը` | B17: Աշխատաշուկայում անմրցունակ անձանց փոքր ձեռնարկատիրական գործունեության աջակցության տրամադրում ծրագրի ուսուցման կազմակերպման և խորհրդատվական ծառայություններ
A18: Նկարագրությունը` | B18: Անմրցունակ անձանց ձեռնարկատիրական գործունեության մեկնարկի և իրականացման համար աջակցության տրամադրում և տնտեսական գործունեությունն սկսելուց հետո մեկ տարվա ընթացքում ուղեկցման աշխատանքների իրականացում:
A19: Միջոցառման տեսակը` | B19: Ծառայությունների մատուցում
A20: Միջոցառումն իրականացնողի անվանումը? | B20: «Գնումների մասին» ՀՀ օրենքի համաձայն ընտրված կազմակերպություն
A21: Արդյունքի չափորոշիչներ
A22: Ծրագրի շահառուների թիվ, մարդ, այդ թվում | C22: =+'4'!C22 -> -70 | D22: =+'4'!D22 -> -115 | E22: =+'4'!E22 -> -150
A23: Միջոցառման վրա կատարվող ծախսը (հազար դրամ) | C23: =+'4'!C23 -> -14000 | D23: =+'4'!D23 -> -23000 | E23: =+'4'!E23 -> -30000
A25: Ծրագրի դասիչը` | B25: 1088 | C25: Ցուցանիշների փոփոխությունը (նվազեցումը նշված է փակագծերում)
A26: Միջոցառման դասիչը` | B26: 12001 | C26: Առաջին կիսամյակ | D26: Ինն ամիս | E26: Տարի
A27: Միջոցառման անվանումը` | B27: Աշխատաշուկայում անմրցունակ անձանց փոքր ձեռնարկատիրական գործունեության աջակցության տրամադրում
A28: Նկարագրությունը` | B28: Փոքր ձեռնարկատիրական գործունեությամբ զբաղվելու և լրացուցիչ աշխատատեղեր ստեղծելու նպատակով աշխատաշուկայում անմրցունակ անձանց ֆինանսական աջակցության տրամադրում՛ ապահովելով հավասար հնարավորություններ կանանց և տղամարդկանց համար
A29: Միջոցառման տեսակը` | B29: Տրանսֆերտների տրամադրում
A30: Շահառուների ընտրության չափանիշները | B30: Զբաղվածության տարածքային կենտրոններում հաշվառված աշխատաշուկայում անմրցունակ և առնվազն երեք ամիս գործազուրկի կարգավիճակում գտնվող անձինք:
A31: Արդյունքի չափորոշիչներ
A32: Ինքնազբաղվածությամբ ապահովված անձանց թիվ, այդ թվում | C32: =+'4'!C32 -> -1 | D32: =+'4'!D32 -> -56 | E32: =+'4'!E32 -> -74
A33: հաշմանդամություն ունեցող անձանց թիվը | C33: ='4'!C33 -> -7 | D33: =+'4'!D33 -> -12 | E33: =+'4'!E33 -> -17
A34: Միջոցառման վրա կատարվող ծախսը (հազար դրամ) | C34: =+'4'!C34 -> -1800 | D34: =+'4'!D34 -> -82358.3 | E34: =+'4'!E34 -> -100114.5
A36: Ծրագրի դասիչը` | B36: 1088 | C36: Ցուցանիշների փոփոխությունը (նվազեցումը նշված է փակագծերում)
A37: Միջոցառման դասիչը` | B37: 12005 | C37: Առաջին կիսամյակ | D37: Ինն ամիս | E37: Տարի
A38: Միջոցառման անվանումը` | B38: Աշխատաշուկայում անմրցունակ անձանց աշխատանքի տեղավորման դեպքում գործատուին միանվագ փոխհատուցման տրամադրում
A39: Նկարագրությունը` | B39: Աշխատաշուկայում անմրցունակ անձանց աշխ. ունակությունների և կարողությունների` աշխ. վայրում ձեռքբերման հնարավորությունների ընձեռում և հաշմանդամութ. ունեցող անձանց համար աշխատատեղի հարմարեցում՛ ապահովելով հավասար հնարավորություններ կանանց և տղամարդկանց համար
A40: Միջոցառման տեսակը` | B40: Տրանսֆերտների տրամադրում
A41: Շահառուների ընտրության չափանիշները | B41: Զբաղվածության տարածքային կենտրոններում հաշվառված աշխատաշուկայում անմրցունակ անձինք
A42: Արդյունքի չափորոշիչներ
A43: Աշխատաշուկայում անմրցունակ անձանց թիվը, որոնք գործատուի մոտ աշխատանքային ունակություններ և կարողություններ են ձեռք բերում | C43: =+'4'!C43 -> -375 | D43: =+'4'!D43 -> -674 | E43: =+'4'!E43 -> -1040
A44: Հաշմանդամություն ունեցող անձանց թիվը, որոնց համար իրականացվել է աշխատատեղի հարմարեցում | C44: =+'4'!C44 -> -48 | D44: =+'4'!D44 -> -96 | E44: =+'4'!E44 -> -140
A45: Միջոցառման վրա կատարվող ծախսը (հազար դրամ) | D45: =+'4'!D45 -> -24841.7 | E45: =+'4'!E45 -> -76373
A47: Ծրագրի դասիչը` | B47: 1088 | C47: Ցուցանիշների փոփոխությունը (ավելացումը նշված է դրական)
A48: Միջոցառման դասիչը` | B48: 12018 | C48: Առաջին կիսամյակ | D48: Ինն ամիս | E48: Տարի
...

Sheet 6
I2: Հավելված N 6
I3: ՀՀ կառավարության 2023 թվականի
I4: -----------------ի N -----------Ն որոշման
A6: ՀԱՅԱՍՏԱՆԻ ՀԱՆՐԱՊԵՏՈՒԹՅԱՆ ԿԱՌԱՎԱՐՈՒԹՅԱՆ 2021 ԹՎԱԿԱՆԻ ԴԵԿՏԵՄԲԵՐԻ 23-Ի N 2121-Ն ՈՐՈՇՄԱՆ N 10 ՀԱՎԵԼՎԱԾՈՒՄ ԿԱՏԱՐՎՈՂ ՓՈՓՈԽՈՒԹՅՈՒՆՆԵՐԸ
A7: ՀԱՅԱՍՏԱՆԻ ՀԱՆՐԱՊԵՏՈՒԹՅԱՆ ԿԱՌԱՎԱՐՈՒԹՅԱՆ 2022 ԹՎԱԿԱՆԻ ԴԵԿՏԵՄԲԵՐԻ 29-Ի N 2111-Ն ՈՐՈՇՄԱՆ N 10 ՀԱՎԵԼՎԱԾՈՒՄ ԿԱՏԱՐՎՈՂ ՓՈՓՈԽՈՒԹՅՈՒՆՆԵՐԸ
A9: Գնման առարկայի | G9: Միավորի գինը ( դրամ) | H9: Ցուցանիշների փոփոխությունը (նվազեցումները նշված են փակագծերում)
A10: Կոդը | D10: Անվանումը | E10: Գնման ձևը | F10: Չափման միավորը | H10: Քանակը | I10: Գումարը (հազար դրամ)
A11: ՀՀ աշխատանքի և սոցիալական հարցերի նախարարության միասնական սոցիալական ծառայություն | I11: =I12 -> -30000
A12: Բաժին N 10 | B12: Խումբ N 05 | C12: Դաս N 01 | D12: Գործազրկություն | I12: =+I13 -> -30000
A13: 1088 11004 | B13: ='[1]2'!F31 -> Աշխատաշուկայում անմրցունակ անձանց փոքր ձեռնարկատիրական գործունեության աջակցության տրամադրում ծրագրի ուսուցման կազմակերպման և խորհրդատվական ծառայություններ | I13: =I15 -> -30000
B14: ՄԱՍ III. ԾԱՌԱՅՈՒԹՅՈՒՆՆԵՐ
A15: 80531100-1 | B15: արդյունաբերական ուսուցման ծառայություններ | E15: ԷԱՃ | F15: դրամ | G15: 30000 | H15: -1 | I15: ='1'!F20 -> -30000

Sheet 7
I1: Հավելված N 7
I2: ՀՀ կառավարության 2023 թվականի
I3: -----------------ի N -----------Ն որոշման
A5: ՀԱՅԱՍՏԱՆԻ ՀԱՆՐԱՊԵՏՈՒԹՅԱՆ 2023 ԹՎԱԿԱՆԻ ՊԵՏԱԿԱՆ ԲՅՈՒՋԵՈՎ ՆԱԽԱՏԵՍՎԱԾ՝ ՀԱՅԱՍՏԱՆԻ ՀԱՆՐԱՊԵՏՈՒԹՅԱՆ ԿԱՌԱՎԱՐՈՒԹՅԱՆ ՊԱՀՈՒՍՏԱՅԻՆ ՖՈՆԴԻՑ ՀԱՏԿԱՑՈՒՄՆԵՐ ԿԱՏԱՐԵԼՈՒ ՎԵՐԱԲԵՐՅԱԼ
G6: (հազար դրամ)
A7: Գործառական դասիչը | D7: Ծրագրային դասիչը | F7: Բյուջետային ծախսերի գործառական դասակարգման բաժինների, խմբերի և դասերի, բյուջետային ծրագրերի միջոցառումների, բյուջետային հատկացումների գլխավոր կարգադրիչների անվանումները | G7: ='[2]1'!D7 -> Ցուցանիշների փոփոխությունները ավելացումները նշված են դրական նշանով, իսկ նվազեցումները՝ փակագծերում
A8: Բաժինը | B8: Խումբը | C8: Դասը | D8: Ծրագիր | E8: Միջոցառում | G8: Առաջին կիսամյակ | H8: Ինն ամիս | I8: Տարի
F9: ԸՆԴԱՄԵՆԸ ԾԱԽՍԵՐ | G9: =+G12+G30 -> 0 | H9: =+H12+H30 -> 0 | I9: =+I12+I30 -> 6750
F10: այդ թվում`
F11: ՀՀ աշխատանքի և սոցիալական հարցերի նախարարություն
A12: 10 | F12: ՍՈՑԻԱԼԱԿԱՆ ՊԱՇՏՊԱՆՈՒԹՅՈՒՆ | G12: =G14 -> 0 | H12: =H14 -> 0 | I12: =I14 -> 6750
F13: այդ թվում`
B14: ՛05 | F14: Գործազրկություն | G14: =G16 -> 0 | H14: =H16 -> 0 | I14: =I16 -> 6750
F15: այդ թվում`
C16: ՛01 | F16: Գործազրկություն | G16: =G18 -> 0 | H16: =H18 -> 0 | I16: =I18 -> 6750
F17: այդ թվում`
D18: 1088 | F18: Զբաղվածության ծրագիր | G18: =G31+G40+G49+G58+G67 -> 0 | H18: =H31+H40+H49+H58+H67 -> 0 | I18: =I31+I40+I49+I58+I67 -> 6750
F19: այդ թվում`
D20: Ծրագրի միջոցառումներ
E21: 12020 | F21: ='1'!C11 -> ԸՆԴԱՄԵՆԸ | G21: =+'2'!G49 -> 0 | H21: =+'2'!H49 -> 0 | I21: =+'2'!I49 -> 6750
F22: այդ թվում` ըստ կատարողների | G22: =+'2'!G50 -> 0 | H22: =+'2'!H50 -> 0 | I22: =+'2'!I50 -> 0
F23: ՀՀ աշխատանքի և սոցիալական հարցերի նախարարության միասնական սոցիալական ծառայություն | G23: =+'2'!G51 -> 0 | H23: =+'2'!H51 -> 0 | I23: =+'2'!I51 -> 6750
F24: այդ թվում` բյուջետային ծախսերի տնտեսագիտական դասակարգման հոդվածներ | G24: =+'2'!G52 -> 0 | H24: =+'2'!H52 -> 0 | I24: =+'2'!I52 -> 0
F25: ԸՆԴԱՄԵՆԸ ԾԱԽՍԵՐ | G25: =+'2'!G53 -> 0 | H25: =+'2'!H53 -> 0 | I25: =+'2'!I53 -> 6750
F26: ԸՆԹԱՑԻԿ ԾԱԽՍԵՐ | G26: =+'2'!G54 -> 0 | H26: =+'2'!H54 -> 0 | I26: =+'2'!I54 -> 6750
F27: ԴՐԱՄԱՇՆՈՐՀՆԵՐ | G27: =+'2'!G55 -> 0 | H27: =+'2'!H55 -> 0 | I27: =+'2'!I55 -> 6750
F28: Ընթացիկ դրամաշնորհներ պետական հատվածի այլ մակարդակներին | G28: =+'2'!G56 -> 0 | H28: =+'2'!H56 -> 0 | I28: =+'2'!I56 -> 6750
F29: - Այլ ընթացիկ դրամաշնորհներ | G29: =+'2'!G57 -> 0 | H29: =+'2'!H57 -> 0 | I29: =+'2'!I57 -> 6750
A30: 11 | F30: ՀԻՄՆԱԿԱՆ ԲԱԺԻՆՆԵՐԻՆ ՉԴԱՍՎՈՂ ՊԱՀՈՒՍՏԱՅԻՆ ՖՈՆԴԵՐ | G30: =G32 -> 0 | H30: =H32 -> 0 | I30: =I32 -> 0
F31: այդ թվում՝
B32: 01 | F32: ՀՀ կառավարության և համայնքների պահուստային ֆոնդ | G32: =G36 -> 0 | H32: =H36 -> 0 | I32: =I36 -> 0
F33: այդ թվում՝
C34: 01 | F34: ՀՀ կառավարության պահուստային ֆոնդ | G34: =G36 -> 0 | H34: =H36 -> 0 | I34: =I36 -> 0
F35: այդ թվում՝ ՀՀ կառավարություն | G35: =+G36 -> 0 | H35: =+H36 -> 0 | I35: =+I36 -> 0
D36: 1139 | F36: ՀՀ կառավարության պահուստային ֆոնդ | G36: =G38+G46 -> 0 | H36: =H38+H46 -> 0 | I36: =I38+I46 -> 0
F37: այդ թվում՝
E38: 11001 | F38: ՀՀ կառավարության պահուստային ֆոնդ | G38: =G40 -> 0 | H38: =H40 -> 0 | I38: =I40 -> 6750
F39: այդ թվում՝ ըստ կատարողների
F40: ՀՀ կառավարություն | G40: =G42 -> 0 | H40: =H42 -> 0 | I40: =I42 -> 6750
F41: այդ թվում՝ բյուջետային ծախսերի տնտեսագիտական դասակարգման հոդվածներ
...
