Workbook
Name AgencyCode: #REF!
Name AgencyCode: #REF!
Name AgencyName: #REF!
Name AgencyName: #REF!
Name åû: #REF!
Name åû: #REF!
Name davit: #REF!
Name davit: #REF!
Name Functional1: #REF!
Name Functional1: #REF!
Name ggg: #REF!
Name ggg: #REF!
Name hav: #REF!
Name hav: #REF!
Name havelvac: #REF!
Name havelvac: #REF!
Name mas: #REF!
Name mas: #REF!
Name mass: #REF!
Name mass: #REF!
Name PANature: #REF!
Name PANature: #REF!
Name PAType: #REF!
Name PAType: #REF!
Name Performance2: #REF!
Name Performance2: #REF!
Name PerformanceType: #REF!
Name PerformanceType: #REF!
Name x: #REF!
Name x: #REF!
Name Հավելված: #REF!
Name Հավելված: #REF!
Name Մաս: #REF!
Name Մաս: #REF!
Name շախմատիստ: #REF!
Name շախմատիստ: #REF!

Sheet 1
F1: Հավելված N 1
F2: ՀՀ կառավարության 2023 թվականի
C3: -----------------ի N -----------Ն որոշման
A6: ՀԱՅԱՍՏԱՆԻ ՀԱՆՐԱՊԵՏՈՒԹՅԱՆ 2023 ԹՎԱԿԱՆԻ ՊԵՏԱԿԱՆ ԲՅՈՒՋԵԻ ՄԱՍԻՆ» ՕՐԵՆՔԻ N 1 ՀԱՎԵԼՎԱԾԻ N 2 ԱՂՅՈՒՍԱԿՈՒՄ ԿԱՏԱՐՎՈՂ ՎԵՐԱԲԱՇԽՈՒՄԸ ԵՎ ԼՐԱՑՈՒՄԸ ԵՎ ՀԱՅԱՍՏԱՆԻ ՀԱՆՐԱՊԵՏՈՒԹՅԱՆ ԿԱՌԱՎԱՐՈՒԹՅԱՆ 2022 ԹՎԱԿԱՆԻ ԴԵԿՏԵՄԲԵՐԻ 29-Ի N 2111-Ն ՈՐՈՇՄԱՆ N 5 ՀԱՎԵԼՎԱԾԻ N 1 ԱՂՅՈՒՍԱԿՈՒՄ ԿԱՏԱՐՎՈՂ ՓՈՓՈԽՈՒԹՅՈՒՆՆԵՐԸ ԵՎ ԼՐԱՑՈՒՄՆԵՐԸ
D8: (հազար դրամ)
A9: Ծրագրային դասիչը | C9: Բյուջետային հատկացումների գլխավոր կարգադրիչների, ծրագրերի և միջոցառումների անվանումները | D9: Ցուցանիշների փոփոխությունները ավելացումները նշված են դրական նշանով, իսկ նվազեցումները՝ փակագծերում
A10: Ծրագիր | B10: Միջոցառում | D10: Առաջին կիսամյակ | E10: Ինն ամիս | F10: Տարի
C11: ԸՆԴԱՄԵՆԸ | D11: =+D12+D50 -> 0 | E11: =+E12+E50 -> 0 | F11: =F12 -> 0
C12: ՀՀ աշխատանքի և սոցիալական հարցերի նախարարություն | D12: =+D13 -> 0 | E12: =+E13 -> 0 | F12: =+F13 -> 0
A13: 1088 | C13: Ծրագրի անվանումը` | D13: =D20+D26+D32+D38+D44 -> 0 | E13: =E20+E26+E32+E38+E44 -> 0 | F13: =F20+F26+F32+F38+F44 -> 0
C14: Զբաղվածության ծրագիր
C15: Ծրագրի նպատակը`
C16: Բնակչության կայուն և ժամանակավոր զբաղվածության ապահովմանը միտված պայմանների ստեղծում
C17: Վերջնական արդյունքի նկարագրությունը`
C18: Կայուն և ժամանակավոր զբաղվածների թվաքանակի աճ
A19: Ծրագրի միջոցառումներ
B20: 11004 | C20: Միջոցառման անվանումը` | D20: -14000 | E20: -23000 | F20: -30000
C21: Աշխատաշուկայում անմրցունակ անձանց փոքր ձեռնարկատիրական գործունեության աջակցության տրամադրում ծրագրի ուսուցման կազմակերպման և խորհրդատվական ծառայություններ
C22: Միջոցառման նկարագրությունը`
C23: Անմրցունակ անձանց ձեռնարկատիրական գործունեության մեկնարկի և իրականացման համար աջակցության տրամադրում և տնտեսական գործունեությունն սկսելուց հետո մեկ տարվա ընթացքում ուղեկցման աշխատանքների իրականացում:
C24: Միջոցառման տեսակը
C25: Ծառայությունների մատուցում
B26: 12001 | C26: Միջոցառման անվանումը` | D26: -1800 | E26: -82358.3 | F26: -100114.5
C27: Աշխատաշուկայում անմրցունակ անձանց փոքր ձեռնարկատիրական գործունեության աջակցության տրամադրում
C28: Միջոցառման նկարագրությունը`
C29: Փոքր ձեռնարկատիրական գործունեությամբ զբաղվելու և լրացուցիչ աշխատատեղեր ստեղծելու նպատակով աշխատաշուկայում անմրցունակ անձանց ֆինանսական աջակցության տրամադրում՛ ապահովելով հավասար հնարավորություններ կանանց և տղամարդկանց համար
C30: Միջոցառման տեսակը
C31: Տրանսֆերտների տրամադրում
B32: 12005 | C32: Միջոցառման անվանումը` | D32: 0 | E32: -24841.7 | F32: -76373
C33: Աշխատաշուկայում անմրցունակ անձանց աշխատանքի տեղավորման դեպքում գործատուին միանվագ փոխհատուցման տրամադրում
C34: Միջոցառման նկարագրությունը`
C35: Աշխատաշուկայում անմրցունակ անձանց աշխ. ունակությունների և կարողությունների` աշխ. վայրում ձեռքբերման հնարավորությունների ընձեռում և հաշմանդամութ. ունեցող անձանց համար աշխատատեղի հարմարեցում՛ ապահովելով հավասար հնարավորություններ կանանց և տղամարդկանց համար
C36: Միջոցառման տեսակը
C37: Տրանսֆերտների տրամադրում
B38: 12020 | C38: Միջոցառման անվանումը` | D38: 0 | E38: 0 | F38: 6750
C39: Գործազուրկների զբաղվածության ապահովում
C40: Միջոցառման նկարագրությունը`
C41: Միջոցառման շրջանակում՝ ՄՍԾ-ի տարածքային կենտրոնում հաշվառված և վերջին երեք ամսվա ընթացքում անընդմեջ գործազուրկի կարգավիճակ ունեցող, 35 տարեկանից բարձր տարիքի յուրաքանչյուր գործազուրկի՝ առնվազն մեկ տարի ժամկետով աշխատանքի տեղավորման դեպքում՝ գործատուին տրամադրվում է միանվագ փոխհատուցում 250 000 դրամի չափով , նպաստառու ընտանիքի գործազուրկ անձի աշխատանքի տեղավորման դեպքում՝ 350 000 դրամի չափով։
C42: Միջոցառման տեսակը
C43: Տրանսֆերտների տրամադրում
B44: 12018 | C44: Միջոցառման անվանումը` | D44: 15800 | E44: 130200 | F44: 199737.5
C45: Ադրբեջանի կողմից 2016 և 2020 թվականներին սանձազերծված ռազմական գործողություններին մասնակցած գործազուրկ անձանց մասնագիտական ուսուցման կազմակերպման և զբաղվածության ապահովում
C46: Միջոցառման նկարագրությունը`
C47: Զբաղվածության ապահովում Ադրբեջանի կողմից 2016 և 2020 թվականներին սանձազերծված ռազմական գործողություններին մասնակցած գործազուրկ անձանց համար
C48: Միջոցառման տեսակը
C49: Տրանսֆերտների տրամադրում
C50: ՀՀ կառավարություն | D50: =D51+D64+D78 -> 0 | E50: =E51+E64+E78 -> 0 | F50: =F51+F64+F78 -> 0
A51: 1139 | C51: Ծրագրի անվանումը` | D51: =SUM(D59,D65) -> 0 | E51: =SUM(E59,E65) -> 0 | F51: =SUM(F59,F65) -> 0
C52: ՀՀ կառավարության պահուստային ֆոնդ
C53: Ծրագրի նպատակը`
C54: Պետական բյուջեում չկանխատեսված, ինչպես նաեւ բյուջետային երաշխիքների ապահովման ծախսերի ֆինանսավորման ապահովում
C55: Վերջնական արդյունքի նկարագրությունը`
C56: Պահուստային ֆոնդի կառավարման արդյունավետության և թափանցիկության ապահովում
A57: Ծրագրի միջոցառումներ
B58: 11001 | C58: Միջոցառման անվանումը`
C59: ՀՀ կառավարության պահուստային ֆոնդ | D59: =+D38 -> 0 | E59: =+E38 -> 0 | F59: =+F38 -> 6750
C60: Միջոցառման նկարագրությունը`
C61: ՀՀ պետական բյուջեում նախատեսված ելքերի լրացուցիչ ֆինանսավորման, պետական բյուջեում չկանխատեսված ելքերի, ինչպես նաև բյուջետային երաշխիքների ապահովման ելքերի ֆինանսավորման ապահովում
C62: Միջոցառման տեսակը
C63: Ծառայությունների մատուցում
B64: 11001 | C64: Միջոցառման անվանումը`
C65: ՀՀ կառավարության պահուստային ֆոնդ | D65: =0-D59 -> 0 | E65: =0-E59 -> 0 | F65: =0-F59 -> -6750
C66: Միջոցառման նկարագրությունը`
C67: ՀՀ պետական բյուջեում նախատեսված ելքերի լրացուցիչ ֆինանսավորման, պետական բյուջեում չկանխատեսված ելքերի, ինչպես նաև բյուջետային երաշխիքների ապահովման ելքերի ֆինանսավորման ապահովում
C68: Միջոցառման տեսակը
C69: Ծառայությունների մատուցում

Sheet 2
G1: Հավելված N 2
F2: ՀՀ կառավարության 2023 թվականի
F3: -----------------ի N -----------Ն որոշման
A5: ՀԱՅԱՍՏԱՆԻ ՀԱՆՐԱՊԵՏՈՒԹՅԱՆ ԿԱՌԱՎԱՐՈՒԹՅԱՆ 2022 ԹՎԱԿԱՆԻ ԴԵԿՏԵՄԲԵՐԻ 29-Ի N 2111-Ն ՈՐՈՇՄԱՆ N N 3 ԵՎ 4 ՀԱՎԵԼՎԱԾՆԵՐՈՒՄ ԿԱՏԱՐՎՈՂ ՓՈՓՈԽՈՒԹՅՈՒՆՆԵՐԸ ԵՎ ԼՐԱՑՈՒՄՆԵՐԸ
I7: (հազար դրամ)
A8: Գործառական դասիչը | D8: Ծրագրային դասիչը | F8: Բյուջետային ծախսերի գործառական դասակարգման բաժինների, խմբերի և դասերի, բյուջետային ծրագրերի միջոցառումների, բյուջետային հատկացումների գլխավոր կարգադրիչների անվանումները | G8: Ցուցանիշների փոփոխությունները (ավելացումները նշված են դրական, իսկ նվազեցումները՝ փակագծերում)
A9: Բաժինը | B9: Խումբը | C9: Դասը | D9: Ծրագիր | E9: Միջոցառում | G9: Առաջին կիսամյակ | H9: Ինն ամիս | I9: Տարի
F10: ԸՆԴԱՄԵՆԸ ԾԱԽՍԵՐ | G10: =+G13+G70 -> 0 | H10: =+H13+H70 -> 0 | I10: =I13 -> 0
F11: այդ թվում`
F12: ՀՀ աշխատանքի և սոցիալական հարցերի նախարարություն
A13: 10 | F13: ՍՈՑԻԱԼԱԿԱՆ ՊԱՇՏՊԱՆՈՒԹՅՈՒՆ | G13: =G15 -> 0 | H13: =H15 -> 0 | I13: =I15 -> 0
F14: այդ թվում`
B15: ՛05 | F15: Գործազրկություն | G15: =G17 -> 0 | H15: =H17 -> 0 | I15: =I17 -> 0
F16: այդ թվում`
C17: ՛01 | F17: Գործազրկություն | G17: =G19 -> 0 | H17: =H19 -> 0 | I17: =I19 -> 0
F18: այդ թվում`
D19: 1088 | F19: Զբաղվածության ծրագիր | G19: =G22+G31+G40+G49+G58 -> 0 | H19: =H22+H31+H40+H49+H58 -> 0 | I19: =I22+I31+I40+I49+I58 -> 0
F20: այդ թվում`
D21: Ծրագրի միջոցառումներ
E22: 11004 | F22: Աշխատաշուկայում անմրցունակ անձանց փոքր ձեռնարկատիրական գործունեության աջակցության տրամադրում ծրագրի ուսուցման կազմակերպման և խորհրդատվական ծառայություններ | G22: =G24 -> -14000 | H22: =H24 -> -23000 | I22: =I24 -> -30000
F23: այդ թվում` ըստ կատարողների
F24: ՀՀ աշխատանքի և սոցիալական հարցերի նախարարության միասնական սոցիալական ծառայություն | G24: =G26 -> -14000 | H24: =H26 -> -23000 | I24: =I26 -> -30000
F25: այդ թվում` բյուջետային ծախսերի տնտեսագիտական դասակարգման հոդվածներ
F26: ԸՆԴԱՄԵՆԸ ԾԱԽՍԵՐ | G26: =G27 -> -14000 | H26: =H27 -> -23000 | I26: =I27 -> -30000
F27: ԸՆԹԱՑԻԿ ԾԱԽՍԵՐ | G27: =G28 -> -14000 | H27: =H28 -> -23000 | I27: =I28 -> -30000
F28: ԾԱՌԱՅՈՒԹՅՈՒՆՆԵՐԻ ԵՎ ԱՊՐԱՆՔՆԵՐԻ ՁԵՌՔԲԵՐՈՒՄ | G28: =G29 -> -14000 | H28: =H29 -> -23000 | I28: =I29 -> -30000
F29: Այլ մասնագիտական ծառայությունների ձեռքբերում | G29: =G30 -> -14000 | H29: =H30 -> -23000 | I29: =I30 -> -30000
F30: - Մասնագիտական ծառայություններ | G30: ='1'!D20 -> -14000 | H30: ='1'!E20 -> -23000 | I30: ='1'!F20 -> -30000
E31: 12001 | F31: Աշխատաշուկայում անմրցունակ անձանց փոքր ձեռնարկատիրական գործունեության աջակցության տրամադրում | G31: =G33 -> -1800 | H31: =H33 -> -82358.3 | I31: =I33 -> -100114.5
F32: այդ թվում` ըստ կատարողների
F33: ՀՀ աշխատանքի և սոցիալական հարցերի նախարարության միասնական սոցիալական ծառայություն | G33: =G35 -> -1800 | H33: =H35 -> -82358.3 | I33: =I35 -> -100114.5
F34: այդ թվում` բյուջետային ծախսերի տնտեսագիտական դասակարգման հոդվածներ
F35: ԸՆԴԱՄԵՆԸ ԾԱԽՍԵՐ | G35: =G36 -> -1800 | H35: =H36 -> -82358.3 | I35: =I36 -> -100114.5
F36: ԸՆԹԱՑԻԿ ԾԱԽՍԵՐ | G36: =G37 -> -1800 | H36: =H37 -> -82358.3 | I36: =I37 -> -100114.5
F37: ՍՈՑԻԱԼԱԿԱՆ ՆՊԱՍՏՆԵՐ ԵՎ ԿԵՆՍԱԹՈՇԱԿՆԵՐ | G37: =G38 -> -1800 | H37: =H38 -> -82358.3 | I37: =I38 -> -100114.5
F38: Սոցիալական օգնության դրամական արտահայտությամբ նպաստներ (բյուջեից) | G38: =G39 -> -1800 | H38: =H39 -> -82358.3 | I38: =I39 -> -100114.5
F39: - Այլ նպաստներ բյուջեից | G39: ='1'!D26 -> -1800 | H39: ='1'!E26 -> -82358.3 | I39: ='1'!F26 -> -100114.5
E40: 12005 | F40: Աշխատաշուկայում անմրցունակ անձանց աշխատանքի տեղավորման դեպքում գործատուին միանվագ փոխհատուցման տրամադրում | G40: =G42 -> 0 | H40: =H42 -> -24841.7 | I40: =I42 -> -76373
F41: այդ թվում` ըստ կատարողների
F42: ՀՀ աշխատանքի և սոցիալական հարցերի նախարարության միասնական սոցիալական ծառայություն | G42: =G44 -> 0 | H42: =H44 -> -24841.7 | I42: =I44 -> -76373
F43: այդ թվում` բյուջետային ծախսերի տնտեսագիտական դասակարգման հոդվածներ
F44: ԸՆԴԱՄԵՆԸ ԾԱԽՍԵՐ | G44: =G45 -> 0 | H44: =H45 -> -24841.7 | I44: =I45 -> -76373
F45: ԸՆԹԱՑԻԿ ԾԱԽՍԵՐ | G45: =G46 -> 0 | H45: =H46 -> -24841.7 | I45: =I46 -> -76373
F46: ԴՐԱՄԱՇՆՈՐՀՆԵՐ | G46: =G47 -> 0 | H46: =H47 -> -24841.7 | I46: =I47 -> -76373
F47: Ընթացիկ դրամաշնորհներ պետական հատվածի այլ մակարդակներին | G47: =G48 -> 0 | H47: =H48 -> -24841.7 | I47: =I48 -> -76373
F48: - Այլ ընթացիկ դրամաշնորհներ | G48: ='1'!D32 -> 0 | H48: ='1'!E32 -> -24841.7 | I48: ='1'!F32 -> -76373
E49: 12020 | F49: ='1'!C39 -> Գործազուրկների զբաղվածության ապահովում | G49: =G51 -> 0 | H49: =H51 -> 0 | I49: =I51 -> 6750
F50: այդ թվում` ըստ կատարողների
F51: ՀՀ աշխատանքի և սոցիալական հարցերի նախարարության միասնական սոցիալական ծառայություն | G51: =G53 -> 0 | H51: =H53 -> 0 | I51: =I53 -> 6750
F52: այդ թվում` բյուջետային ծախսերի տնտեսագիտական դասակարգման հոդվածներ
F53: ԸՆԴԱՄԵՆԸ ԾԱԽՍԵՐ | G53: =G54 -> 0 | H53: =H54 -> 0 | I53: =I54 -> 6750
F54: ԸՆԹԱՑԻԿ ԾԱԽՍԵՐ | G54: =G55 -> 0 | H54: =H55 -> 0 | I54: =I55 -> 6750
F55: ԴՐԱՄԱՇՆՈՐՀՆԵՐ | G55: =G56 -> 0 | H55: =H56 -> 0 | I55: =I56 -> 6750
F56: Ընթացիկ դրամաշնորհներ պետական հատվածի այլ մակարդակներին | G56: =G57 -> 0 | H56: =H57 -> 0 | I56: =I57 -> 6750
F57: - Այլ ընթացիկ դրամաշնորհներ | G57: ='1'!D38 -> 0 | H57: ='1'!E38 -> 0 | I57: ='1'!F38 -> 6750
E58: 12018 | F58: ='1'!C45 -> Ադրբեջանի կողմից 2016 և 2020 թվականներին սանձազերծված ռազմական գործողություններին մասնակցած գործազուրկ անձանց մասնագիտական ուսուցման կազմակերպման և զբաղվածության ապահովում | G58: =G60 -> 15800 | H58: =H60 -> 130200 | I58: =I60 -> 199737.5
F59: այդ թվում` ըստ կատարողների
F60: ՀՀ աշխատանքի և սոցիալական հարցերի նախարարության միասնական սոցիալական ծառայություն | G60: =G62 -> 15800 | H60: =H62 -> 130200 | I60: =I62 -> 199737.5
F61: այդ թվում` բյուջետային ծախսերի տնտեսագիտական դասակարգման հոդվածներ
F62: ԸՆԴԱՄԵՆԸ ԾԱԽՍԵՐ | G62: =G63 -> 15800 | H62: =H63 -> 130200 | I62: =I63 -> 199737.5
F63: ԸՆԹԱՑԻԿ ԾԱԽՍԵՐ | G63: =+G66+G69 -> 15800 | H63: =+H66+H69 -> 130200 | I63: =+I66+I69 -> 199737.5
F64: ԴՐԱՄԱՇՆՈՐՀՆԵՐ | G64: =G65 -> 13000 | H64: =H65 -> 84000 | I64: =I65 -> 132800
F65: Ընթացիկ դրամաշնորհներ պետական հատվածի այլ մակարդակներին | G65: =G66 -> 13000 | H65: =H66 -> 84000 | I65: =I66 -> 132800
F66: - Այլ ընթացիկ դրամաշնորհներ | G66: 13000 | H66: 84000 | I66: 132800
F67: ՍՈՑԻԱԼԱԿԱՆ ՆՊԱՍՏՆԵՐ ԵՎ ԿԵՆՍԱԹՈՇԱԿՆԵՐ | G67: =G68 -> 2800 | H67: =H68 -> 46200 | I67: =I68 -> 66937.5
F68: Սոցիալական օգնության դրամական արտահայտությամբ նպաստներ (բյուջեից) | G68: =G69 -> 2800 | H68: =H69 -> 46200 | I68: =I69 -> 66937.5
F69: - Այլ նպաստներ բյուջեից | G69: 2800 | H69: 46200 | I69: 66937.5
A70: 11 | F70: ՀԻՄՆԱԿԱՆ ԲԱԺԻՆՆԵՐԻՆ ՉԴԱՍՎՈՂ ՊԱՀՈՒՍՏԱՅԻՆ ՖՈՆԴԵՐ | G70: =G72 -> 0 | H70: =H72 -> 0 | I70: =I72 -> 0
F71: այդ թվում՝
B72: 01 | F72: ՀՀ կառավարության և համայնքների պահուստային ֆոնդ | G72: =G76 -> 0 | H72: =H76 -> 0 | I72: =I76 -> 0
F73: այդ թվում՝
C74: 01 | F74: ՀՀ կառավարության պահուստային ֆոնդ | G74: =G76 -> 0 | H74: =H76 -> 0 | I74: =I76 -> 0
F75: այդ թվում՝ ՀՀ կառավարություն | G75: =+G76 -> 0 | H75: =+H76 -> 0 | I75: =+I76 -> 0
D76: 1139 | F76: ՀՀ կառավարության պահուստային ֆոնդ | G76: =G78+G86 -> 0 | H76: =H78+H86 -> 0 | I76: =I78+I86 -> 0
F77: այդ թվում՝
E78: 11001 | F78: ՀՀ կառավարության պահուստային ֆոնդ | G78: =G80 -> 0 | H78: =H80 -> 0 | I78: =I80 -> 6750
F79: այդ թվում՝ ըստ կատարողների
F80: ՀՀ կառավարություն | G80: =G82 -> 0 | H80: =H82 -> 0 | I80: =I82 -> 6750
F81: այդ թվում՝ բյուջետային ծախսերի տնտեսագիտական դասակարգման հոդվածներ
F82: ԸՆԴԱՄԵՆԸ ԾԱԽՍԵՐ | G82: =G83 -> 0 | H82: =H83 -> 0 | I82: =I83 -> 6750
F83: ԸՆԹԱՑԻԿ ԾԱԽՍԵՐ | G83: =G84 -> 0 | H83: =H84 -> 0 | I83: =I84 -> 6750
F84: ԱՅԼ ԾԱԽՍԵՐ | G84: =G85 -> 0 | H84: =H85 -> 0 | I84: =I85 -> 6750
F85: - Պահուստային միջոցներ | G85: ='1'!D59 -> 0 | H85: ='1'!E59 -> 0 | I85: ='1'!F59 -> 6750
E86: 11001 | F86: ՀՀ կառավարության պահուստային ֆոնդ | G86: =G88 -> 0 | H86: =H88 -> 0 | I86: =I88 -> -6750
F87: այդ թվում՝ ըստ կատարողների
F88: ՀՀ կառավարություն | G88: =G90 -> 0 | H88: =H90 -> 0 | I88: =I90 -> -6750
F89: այդ թվում՝ բյուջետային ծախսերի տնտեսագիտական դասակարգման հոդվածներ
F90: ԸՆԴԱՄԵՆԸ ԾԱԽՍԵՐ | G90: =G91 -> 0 | H90: =H91 -> 0 | I90: =I91 -> -6750
F91: ԸՆԹԱՑԻԿ ԾԱԽՍԵՐ | G91: =G92 -> 0 | H91: =H92 -> 0 | I91: =I92 -> -6750
F92: ԱՅԼ ԾԱԽՍԵՐ | G92: =G93 -> 0 | H92: =H93 -> 0 | I92: =I93 -> -6750
F93: - Պահուստային միջոցներ | G93: ='1'!D65 -> 0 | H93: ='1'!E65 -> 0 | I93: ='1'!F65 -> -6750

Sheet 3
H2: Հավելված N 3
H3: ՀՀ կառավարության 2023 թվականի
H4: -----------------ի N -----------Ն որոշման
B6: ՀԱՅԱՍՏԱՆԻ ՀԱՆՐԱՊԵՏՈՒԹՅԱՆ ԿԱՌԱՎԱՐՈՒԹՅԱՆ 2022 ԹՎԱԿԱՆԻ ԴԵԿՏԵՄԲԵՐԻ 29-Ի N 2111-Ն ՈՐՈՇՄԱՆ N 5 ՀԱՎԵԼՎԱԾԻ N 7 ԱՂՅՈՒՍԱԿՈՒՄ ԿԱՏԱՐՎՈՂ ՓՈՓՈԽՈՒԹՅՈՒՆՆԵՐԸ ԵՎ ԼՐԱՑՈՒՄՆԵՐԸ
H7: (հազար դրամ)
B8: Ծրագրային դասիչ | D8: Բյուջետային գլխավոր կարգադրիչների, ծրագրերի, միջոցառումների, միջոցառումները կատարող պետական մարմինների և ուղղությունների անվանումները | G8: Միջոցառումները կատարող պետական մարմինների և դրամաշնորհ ստացող տնտեսավարող սուբյեկտների անվանումները | H8: Ցուցանիշների փոփոխությունը (նվազեցումը նշված է փակագծերում)
B9: Ծրագիր | C9: Միջոցառում | H9: Տարի
B11: 1 | C11: 2 | D11: 3 | G11: 4 | H11: 5
B12: ՀՀ աշխատանքի և սոցիալական հարցերի նախարարություն | H12: =+H13 -> 63177
B13: 1088 | C13: Զբաղվածության ծրագիր | H13: =+H14+H16+H18 -> 63177
C14: 12005 | D14: Աշխատաշուկայում անմրցունակ անձանց աշխատանքի տեղավորման դեպքում գործատուին միանվագ փոխհատուցման տրամադրում | G14: ՀՀ աշխատանքի և սոցիալական հարցերի նախարարության միասնական սոցիալական ծառայություն | H14: =+H15 -> -76373
G15: Աշխատաշուկայում անմրցունակ անձանց օրենսդրությամբ սահմանված կարգով աշխատանքով ապահովող կազմակերպություններ | H15: =+'1'!F32 -> -76373
C16: 12018 | D16: =+'1'!C45 -> Ադրբեջանի կողմից 2016 և 2020 թվականներին սանձազերծված ռազմական գործողություններին մասնակցած գործազուրկ անձանց մասնագիտական ուսուցման կազմակերպման և զբաղվածության ապահովում | G16: ՀՀ աշխատանքի և սոցիալական հարցերի նախարարության միասնական սոցիալական ծառայություն | H16: =+H17 -> 132800
G17: Գործազուրկներին զբաղվածությունն ապահովող կազմակերպություններ | H17: =+'2'!I66 -> 132800
C18: 12020 | D18: =+'2'!F49 -> Գործազուրկների զբաղվածության ապահովում | G18: ՀՀ աշխատանքի և սոցիալական հարցերի նախարարության միասնական սոցիալական ծառայություն | H18: =+H19 -> 6750
G19: Գործազուրկներին զբաղվածությունն ապահովող կազմակերպություններ | H19: =+'2'!I57 -> 6750

Sheet 4
E2: Հավելված N 4
E3: ՀՀ կառավարության 2023 թվականի
E4: -----------------ի N -----------Ն որոշման
A6: ՀԱՅԱՍՏԱՆԻ ՀԱՆՐԱՊԵՏՈՒԹՅԱՆ ԿԱՌԱՎԱՐՈՒԹՅԱՆ 2022 ԹՎԱԿԱՆԻ ԴԵԿՏԵՄԲԵՐԻ 29-Ի N 2111-Ն ՈՐՈՇՄԱՆ N 9 ՀԱՎԵԼՎԱԾԻ NN 9.15 ԵՎ 9.47 ԱՂՅՈՒՍԱԿՆԵՐՈՒՄ ԿԱՏԱՐՎՈՂ ՓՈՓՈԽՈՒԹՅՈՒՆՆԵՐԸ ԵՎ ԼՐԱՑՈՒՄՆԵՐԸ
A7: Հայաստանի Հանրապետության աշխատանքի և սոցիալական հարցերի նախարարություն
A8: ՄԱՍ 2. ՊԵՏԱԿԱՆ ՄԱՐՄՆԻ ԳԾՈՎ ԱՐԴՅՈՒՆՔԱՅԻՆ (ԿԱՏԱՐՈՂԱԿԱՆ) ՑՈՒՑԱՆԻՇՆԵՐԸ
A10: Ծրագրի դասիչը | B10: Ծրագրի անվանումը
A11: 1088 | B11: Զբաղվածության ծրագիր
A13: Ծրագրի միջոցառումները
A15: Ծրագրի դասիչը` | B15: 1088 | C15: Ցուցանիշների փոփոխությունը (նվազեցումը նշված է փակագծերում)
A16: Միջոցառման դասիչը` | B16: 11004 | C16: Առաջին կիսամյակ | D16: Ինն ամիս | E16: Տարի
A17: Միջոցառման անվանումը` | B17: Աշխատաշուկայում անմրցունակ անձանց փոքր ձեռնարկատիրական գործունեության աջակցության տրամադրում ծրագրի ուսուցման կազմակերպման և խորհրդատվական ծառայություններ
A18: Նկարագրությունը` | B18: Անմրցունակ անձանց ձեռնարկատիրական գործունեության մեկնարկի և իրականացման համար աջակցության տրամադրում և տնտեսական գործունեությունն սկսելուց հետո մեկ տարվա ընթացքում ուղեկցման աշխատանքների իրականացում:
A19: Միջոցառման տեսակը` | B19: Ծառայությունների մատուցում
A20: Միջոցառումն իրականացնողի անվանումը? | B20: «Գնումների մասին» ՀՀ օրենքի համաձայն ընտրված կազմակերպություն
A21: Արդյունքի չափորոշիչներ
A22: Ծրագրի շահառուների թիվ, մարդ, այդ թվում | C22: -70 | D22: -115 | E22: -150
A23: Միջոցառման վրա կատարվող ծախսը (հազար դրամ) | C23: ='1'!D20 -> -14000 | D23: ='1'!E20 -> -23000 | E23: ='1'!F20 -> -30000
A25: Ծրագրի դասիչը` | B25: 1088 | C25: Ցուցանիշների փոփոխությունը (նվազեցումը նշված է փակագծերում)
A26: Միջոցառման դասիչը` | B26: 12001 | C26: Առաջին կիսամյակ | D26: Ինն ամիս | E26: Տարի
A27: Միջոցառման անվանումը` | B27: Աշխատաշուկայում անմրցունակ անձանց փոքր ձեռնարկատիրական գործունեության աջակցության տրամադրում
A28: Նկարագրությունը` | B28: Փոքր ձեռնարկատիրական գործունեությամբ զբաղվելու և լրացուցիչ աշխատատեղեր ստեղծելու նպատակով աշխատաշուկայում անմրցունակ անձանց ֆինանսական աջակցության տրամադրում՛ ապահովելով հավասար հնարավորություններ կանանց և տղամարդկանց համար
A29: Միջոցառման տեսակը` | B29: Տրանսֆերտների տրամադրում
A30: Շահառուների ընտրության չափանիշները | B30: Զբաղվածության տարածքային կենտրոններում հաշվառված աշխատաշուկայում անմրցունակ և առնվազն երեք ամիս գործազուրկի կարգավիճակում գտնվող անձինք:
A31: Արդյունքի չափորոշիչներ
A32: Ինքնազբաղվածությամբ ապահովված անձանց թիվ, այդ թվում | C32: -1 | D32: -56 | E32: -74
A33: հաշմանդամություն ունեցող անձանց թիվը | C33: -7 | D33: -12 | E33: -17
A34: Միջոցառման վրա կատարվող ծախսը (հազար դրամ) | C34: ='1'!D26 -> -1800 | D34: ='1'!E26 -> -82358.3 | E34: ='1'!F26 -> -100114.5
A36: Ծրագրի դասիչը` | B36: 1088 | C36: Ցուցանիշների փոփոխությունը (նվազեցումը նշված է փակագծերում)
A37: Միջոցառման դասիչը` | B37: 12005 | C37: Առաջին կիսամյակ | D37: Ինն ամիս | E37: Տարի
A38: Միջոցառման անվանումը` | B38: Աշխատաշուկայում անմրցունակ անձանց աշխատանքի տեղավորման դեպքում գործատուին միանվագ փոխհատուցման տրամադրում
A39: Նկարագրությունը` | B39: Աշխատաշուկայում անմրցունակ անձանց աշխ. ունակությունների և կարողությունների` աշխ. վայրում ձեռքբերման հնարավորությունների ընձեռում և հաշմանդամութ. ունեցող անձանց համար աշխատատեղի հարմարեցում՛ ապահովելով հավասար հնարավորություններ կանանց և տղամարդկանց համար
A40: Միջոցառման տեսակը` | B40: Տրանսֆերտների տրամադրում
A41: Շահառուների ընտրության չափանիշները | B41: Զբաղվածության տարածքային կենտրոններում հաշվառված աշխատաշուկայում անմրցունակ անձինք
A42: Արդյունքի չափորոշիչներ
A43: Աշխատաշուկայում անմրցունակ անձանց թիվը, որոնք գործատուի մոտ աշխատանքային ունակություններ և կարողություններ են ձեռք բերում | C43: -375 | D43: -674 | E43: -1040
A44: Հաշմանդամություն ունեցող անձանց թիվը, որոնց համար իրականացվել է աշխատատեղի հարմարեցում | C44: -48 | D44: -96 | E44: -140
A45: Միջոցառման վրա կատարվող ծախսը (հազար դրամ) | D45: ='1'!E32 -> -24841.7 | E45: ='1'!F32 -> -76373
A47: Ծրագրի դասիչը` | B47: 1088 | C47: Ցուցանիշների փոփոխությունը (ավելացումը նշված է դրական)
A48: Միջոցառման դասիչը` | B48: 12018 | C48: Առաջին կիսամյակ | D48: Ինն ամիս | E48: Տարի
A49: Միջոցառման անվանումը` | B49: ='1'!C45 -> Ադրբեջանի կողմից 2016 և 2020 թվականներին սանձազերծված ռազմական գործողություններին մասնակցած գործազուրկ անձանց մասնագիտական ուսուցման կազմակերպման և զբաղվածության ապահովում
A50: Նկարագրությունը` | B50: ='1'!C47 -> Զբաղվածության ապահովում Ադրբեջանի կողմից 2016 և 2020 թվականներին սանձազերծված ռազմական գործողություններին մասնակցած գործազուրկ անձանց համար
A51: Միջոցառման տեսակը` | B51: Տրանսֆերտների տրամադրում
A52: Շահառուների ընտրության չափանիշները | B52: ՀՀ կառավարության 2022 թվականի հուլիսի 21-ի N 1179-Լ որոշմամբ սահմանված չափանիշներ
A53: Արդյունքի չափորոշիչներ
A54: Միջոցառման մեջ ընդգրկված շահառուների թիվը, մարդ, այդ թվում՝ | C54: =C55+C56+C57 -> 82 | D54: =D55+D56+D57 -> 402 | E54: =E55+E56+E57 -> 500
A55: մասնագիտական ուսուցման մեջ ընդգրկված անձանց թիվը | C55: 32 | D55: 132 | E55: 153
A56: աշխատանքային փորձի ձեռքբերման գործընթացում ընդգրկված անձանց թիվը | C56: 10 | D56: 60 | E56: 67
A57: գործատուին միանվագ փոխհատուցման տրամադրման արդյունքում՝ զբաղված դարձած անձանց թիվը | C57: 40 | D57: 210 | E57: 280
A58: Միջոցառման վրա կատարվող ծախսը (հազար դրամ) | C58: ='1'!D44 -> 15800 | D58: ='1'!E44 -> 130200 | E58: ='1'!F44 -> 199737.5
A60: Ծրագրի դասիչը` | B60: 1088 | C60: Ցուցանիշների փոփոխությունը (ավելացումը նշված է դրական)
A61: Միջոցառման դասիչը` | B61: 12020 | C61: Առաջին կիսամյակ | D61: Ինն ամիս | E61: Տարի
A62: Միջոցառման անվանումը` | B62: ='1'!C39 -> Գործազուրկների զբաղվածության ապահովում
A63: Նկարագրությունը` | B63: ='1'!C41 -> Միջոցառման շրջանակում՝ ՄՍԾ-ի տարածքային կենտրոնում հաշվառված և վերջին երեք ամսվա ընթացքում անընդմեջ գործազուրկի կարգավիճակ ունեցող, 35 տարեկանից բարձր տարիքի յուրաքանչյուր գործազուրկի՝ առնվազն մեկ տարի ժամկետով աշխատանքի տեղավորման դեպքում՝ գործատուին տրամադրվում է միանվագ փոխհատուցում 250 000 դրամի չափով , նպաստառու ընտանիքի գործազուրկ անձի աշխատանքի տեղավորման դեպքում՝ 350 000 դրամի չափով։
A64: Միջոցառման տեսակը` | B64: Տրանսֆերտների տրամադրում
A65: Շահառուների ընտրության չափանիշները | B65: ՀՀ կառավարության 2022 թվականի օգոստոսի 18-ի N 1296-Լ որոշմամբ սահմանված չափանիշներ
A66: Արդյունքի չափորոշիչներ
A67: 2022 թվականին միջոցառման մեջ ընդգրկված շահառուների թիվը, որոնց մասով 2023 թվականին առկա են ֆինանսական պարտավորություններ, մարդ, այդ թվում՝ | E67: =E68+E69 -> 23
A68: ոչ նպաստառու ընտանիքների գործազուրկներ | E68: 13
A69: նպաստառու ընտանիքների գործազուրկներ | E69: 10
A70: Միջոցառման վրա կատարվող ծախսը (հազար դրամ) | E70: ='1'!F38 -> 6750
A72: Հայաստանի Հանրապետության կառավարություն
A73: ՄԱՍ 2. ՊԵՏԱԿԱՆ ՄԱՐՄՆԻ ԳԾՈՎ ԱՐԴՅՈՒՆՔԱՅԻՆ (ԿԱՏԱՐՈՂԱԿԱՆ) ՑՈՒՑԱՆԻՇՆԵՐԸ
A74: Ծրագրի դասիչը | B74: Ծրագրի անվանումը
A75: 1139 | B75: =+'2'!F76 -> ՀՀ կառավարության պահուստային ֆոնդ
A76: Ծրագրի միջոցառումները
A78: Ծրագրի դասիչը` | B78: =SUM(A75) -> 1139 | C78: Ցուցանիշների փոփոխությունը (ավելացումը նշված է դրական նշանով)
A79: Միջոցառման դասիչը` | B79: 11001 | C79: Առաջին կիսամյակ | D79: Ինն ամիս | E79: Տարի
A80: Միջոցառման անվանումը` | B80: ՀՀ կառավարության պահուստային ֆոնդ
A81: Նկարագրությունը` | B81: ՀՀ պետական բյուջեում նախատեսված ելքերի լրացուցիչ ֆինանսավորման, պետական բյուջեում չկանխատեսված ելքերի, ինչպես նաև բյուջետային երաշխիքների ապահովման ելքերի ֆինանսավորման ապահովում
A82: Միջոցառման տեսակը` | B82: Ծառայությունների մատուցում
A83: Միջոցառման վրա կատարվող ծախսը (հազար դրամ) | C83: =+'2'!G85 -> 0 | D83: =+'2'!H85 -> 0 | E83: =+'2'!I85 -> 6750
A85: Ծրագրի դասիչը` | B85: 1139 | C85: Ցուցանիշների փոփոխությունը (նվազեցումը նշված է փակագծերում)
A86: Միջոցառման դասիչը` | B86: 11001
A87: Միջոցառման անվանումը` | B87: ՀՀ կառավարության պահուստային ֆոնդ
A88: Նկարագրությունը` | B88: ՀՀ պետական բյուջեում նախատեսված ելքերի լրացուցիչ ֆինանսավորման, պետական բյուջեում չկանխատեսված ելքերի, ինչպես նաև բյուջետային երաշխիքների ապահովման ելքերի ֆինանսավորման ապահովում
A89: Միջոցառման տեսակը` | B89: Ծառայությունների մատուցում
A90: Միջոցառման վրա կատարվող ծախսը (հազար դրամ) | C90: =+'2'!G93 -> 0 | D90: =+'2'!H93 -> 0 | E90: =+'2'!I93 -> -6750

Sheet 5
E2: Հավելված N 5
E3: ՀՀ կառավարության 2023 թվականի
E4: -----------------ի N -----------Ն որոշման
A6: ՀԱՅԱՍՏԱՆԻ ՀԱՆՐԱՊԵՏՈՒԹՅԱՆ ԿԱՌԱՎԱՐՈՒԹՅԱՆ 2022 ԹՎԱԿԱՆԻ ԴԵԿՏԵՄԲԵՐԻ 29-Ի N 2111-Ն ՈՐՈՇՄԱՆ N 9.1 ՀԱՎԵԼՎԱԾԻ NN 9.1.19 ԵՎ 9.1.58 ԱՂՅՈՒՍԱԿՆԵՐՈՒՄ ԿԱՏԱՐՎՈՂ ՓՈՓՈԽՈՒԹՅՈՒՆՆԵՐԸ ԵՎ ԼՐԱՑՈՒՄՆԵՐԸ
A7: Հայաստանի Հանրապետության աշխատանքի և սոցիալական հարցերի նախարարության միասնական սոցիալական ծառայություն
A8: ՄԱՍ 2. ՊԵՏԱԿԱՆ ՄԱՐՄՆԻ ԳԾՈՎ ԱՐԴՅՈՒՆՔԱՅԻՆ (ԿԱՏԱՐՈՂԱԿԱՆ) ՑՈՒՑԱՆԻՇՆԵՐԸ
A10: Ծրագրի դասիչը | B10: Ծրագրի անվանումը
A11: 1088 | B11: Զբաղվածության ծրագիր
A13: Ծրագրի միջոցառումները
A15: Ծրագրի դասիչը` | B15: 1088 | C15: Ցուցանիշների փոփոխությունը (նվազեցումը նշված է փակագծերում)
A16: Միջոցառման դասիչը` | B16: 11004 | C16: Առաջին կիսամյակ | D16: Ինն ամիս | E16: Տարի
A17: Միջոցառման անվանումը` | B17: Աշխատաշուկայում անմրցունակ անձանց փոքր ձեռնարկատիրական գործունեության աջակցության տրամադրում ծրագրի ուսուցման կազմակերպման և խորհրդատվական ծառայություններ
A18: Նկարագրությունը` | B18: Անմրցունակ անձանց ձեռնարկատիրական գործունեության մեկնարկի և իրականացման համար աջակցության տրամադրում և տնտեսական գործունեությունն սկսելուց հետո մեկ տարվա ընթացքում ուղեկցման աշխատանքների իրականացում:
A19: Միջոցառման տեսակը` | B19: Ծառայությունների մատուցում
A20: Միջոցառումն իրականացնողի անվանումը? | B20: «Գնումների մասին» ՀՀ օրենքի համաձայն ընտրված կազմակերպություն
A21: Արդյունքի չափորոշիչներ
A22: Ծրագրի շահառուների թիվ, մարդ, այդ թվում | C22: =+'4'!C22 -> -70 | D22: =+'4'!D22 -> -115 | E22: =+'4'!E22 -> -150
A23: Միջոցառման վրա կատարվող ծախսը (հազար դրամ) | C23: =+'4'!C23 -> -14000 | D23: =+'4'!D23 -> -23000 | E23: =+'4'!E23 -> -30000
A25: Ծրագրի դասիչը` | B25: 1088 | C25: Ցուցանիշների փոփոխությունը (նվազեցումը նշված է փակագծերում)
A26: Միջոցառման դասիչը` | B26: 12001 | C26: Առաջին կիսամյակ | D26: Ինն ամիս | E26: Տարի
A27: Միջոցառման անվանումը` | B27: Աշխատաշուկայում անմրցունակ անձանց փոքր ձեռնարկատիրական գործունեության աջակցության տրամադրում
A28: Նկարագրությունը` | B28: Փոքր ձեռնարկատիրական գործունեությամբ զբաղվելու և լրացուցիչ աշխատատեղեր ստեղծելու նպատակով աշխատաշուկայում անմրցունակ անձանց ֆինանսական աջակցության տրամադրում՛ ապահովելով հավասար հնարավորություններ կանանց և տղամարդկանց համար
A29: Միջոցառման տեսակը` | B29: Տրանսֆերտների տրամադրում
A30: Շահառուների ընտրության չափանիշները | B30: Զբաղվածության տարածքային կենտրոններում հաշվառված աշխատաշուկայում անմրցունակ և առնվազն երեք ամիս գործազուրկի կարգավիճակում գտնվող անձինք:
A31: Արդյունքի չափորոշիչներ
A32: Ինքնազբաղվածությամբ ապահովված անձանց թիվ, այդ թվում | C32: =+'4'!C32 -> -1 | D32: =+'4'!D32 -> -56 | E32: =+'4'!E32 -> -74
A33: հաշմանդամություն ունեցող անձանց թիվը | C33: ='4'!C33 -> -7 | D33: =+'4'!D33 -> -12 | E33: =+'4'!E33 -> -17
A34: Միջոցառման վրա կատարվող ծախսը (հազար դրամ) | C34: =+'4'!C34 -> -1800 | D34: =+'4'!D34 -> -82358.3 | E34: =+'4'!E34 -> -100114.5
A36: Ծրագրի դասիչը` | B36: 1088 | C36: Ցուցանիշների փոփոխությունը (նվազեցումը նշված է փակագծերում)
A37: Միջոցառման դասիչը` | B37: 12005 | C37: Առաջին կիսամյակ | D37: Ինն ամիս | E37: Տարի
A38: Միջոցառման անվանումը` | B38: Աշխատաշուկայում անմրցունակ անձանց աշխատանքի տեղավորման դեպքում գործատուին միանվագ փոխհատուցման տրամադրում
A39: Նկարագրությունը` | B39: Աշխատաշուկայում անմրցունակ անձանց աշխ. ունակությունների և կարողությունների` աշխ. վայրում ձեռքբերման հնարավորությունների ընձեռում և հաշմանդամութ. ունեցող անձանց համար աշխատատեղի հարմարեցում՛ ապահովելով հավասար հնարավորություններ կանանց և տղամարդկանց համար
A40: Միջոցառման տեսակը` | B40: Տրանսֆերտների տրամադրում
A41: Շահառուների ընտրության չափանիշները | B41: Զբաղվածության տարածքային կենտրոններում հաշվառված աշխատաշուկայում անմրցունակ անձինք
A42: Արդյունքի չափորոշիչներ
A43: Աշխատաշուկայում անմրցունակ անձանց թիվը, որոնք գործատուի մոտ աշխատանքային ունակություններ և կարողություններ են ձեռք բերում | C43: =+'4'!C43 -> -375 | D43: =+'4'!D43 -> -674 | E43: =+'4'!E43 -> -1040
A44: Հաշմանդամություն ունեցող անձանց թիվը, որոնց համար իրականացվել է աշխատատեղի հարմարեցում | C44: =+'4'!C44 -> -48 | D44: =+'4'!D44 -> -96 | E44: =+'4'!E44 -> -140
A45: Միջոցառման վրա կատարվող ծախսը (հազար դրամ) | D45: =+'4'!D45 -> -24841.7 | E45: =+'4'!E45 -> -76373
A47: Ծրագրի դասիչը` | B47: 1088 | C47: Ցուցանիշների փոփոխությունը (ավելացումը նշված է դրական)
A48: Միջոցառման դասիչը` | B48: 12018 | C48: Առաջին կիսամյակ | D48: Ինն ամիս | E48: Տարի
A49: Միջոցառման անվանումը` | B49: ='1'!C45 -> Ադրբեջանի կողմից 2016 և 2020 թվականներին սանձազերծված ռազմական գործողություններին մասնակցած գործազուրկ անձանց մասնագիտական ուսուցման կազմակերպման և զբաղվածության ապահովում
A50: Նկարագրությունը` | B50: ='1'!C47 -> Զբաղվածության ապահովում Ադրբեջանի կողմից 2016 և 2020 թվականներին սանձազերծված ռազմական գործողություններին մասնակցած գործազուրկ անձանց համար
A51: Միջոցառման տեսակը` | B51: Տրանսֆերտների տրամադրում
A52: Շահառուների ընտրության չափանիշները | B52: ՀՀ կառավարության 2022 թվականի հուլիսի 21-ի N 1179-Լ որոշմամբ սահմանված չափանիշներ
A53: Արդյունքի չափորոշիչներ
A54: Միջոցառման մեջ ընդգրկված շահառուների թիվը, մարդ, այդ թվում՝ | C54: =+'4'!C54 -> 82 | D54: =+'4'!D54 -> 402 | E54: =+'4'!E54 -> 500
A55: մասնագիտական ուսուցման մեջ ընդգրկված անձանց թիվը | C55: =+'4'!C55 -> 32 | D55: =+'4'!D55 -> 132 | E55: =+'4'!E55 -> 153
A56: աշխատանքային փորձի ձեռքբերման գործընթացում ընդգրկված անձանց թիվը | C56: =+'4'!C56 -> 10 | D56: =+'4'!D56 -> 60 | E56: =+'4'!E56 -> 67
A57: գործատուին միանվագ փոխհատուցման տրամադրման արդյունքում՝ զբաղված դարձած անձանց թիվը | C57: =+'4'!C57 -> 40 | D57: =+'4'!D57 -> 210 | E57: =+'4'!E57 -> 280
A58: Միջոցառման վրա կատարվող ծախսը (հազար դրամ) | C58: =+'4'!C58 -> 15800 | D58: =+'4'!D58 -> 130200 | E58: =+'4'!E58 -> 199737.5
A60: Ծրագրի դասիչը` | B60: 1088 | C60: Ցուցանիշների փոփոխությունը (ավելացումը նշված է դրական)
A61: Միջոցառման դասիչը` | B61: 12020 | C61: Առաջին կիսամյակ | D61: Ինն ամիս | E61: Տարի
A62: Միջոցառման անվանումը` | B62: ='1'!C39 -> Գործազուրկների զբաղվածության ապահովում
A63: Նկարագրությունը` | B63: ='1'!C41 -> Միջոցառման շրջանակում՝ ՄՍԾ-ի տարածքային կենտրոնում հաշվառված և վերջին երեք ամսվա ընթացքում անընդմեջ գործազուրկի կարգավիճակ ունեցող, 35 տարեկանից բարձր տարիքի յուրաքանչյուր գործազուրկի՝ առնվազն մեկ տարի ժամկետով աշխատանքի տեղավորման դեպքում՝ գործատուին տրամադրվում է միանվագ փոխհատուցում 250 000 դրամի չափով , նպաստառու ընտանիքի գործազուրկ անձի աշխատանքի տեղավորման դեպքում՝ 350 000 դրամի չափով։
A64: Միջոցառման տեսակը` | B64: Տրանսֆերտների տրամադրում
A65: Շահառուների ընտրության չափանիշները | B65: ՀՀ կառավարության 2022 թվականի օգոստոսի 18-ի N 1296-Լ որոշմամբ սահմանված չափանիշներ
A66: Արդյունքի չափորոշիչներ
A67: 2022 թվականին միջոցառման մեջ ընդգրկված շահառուների թիվը, որոնց մասով 2023 թվականին առկա են ֆինանսական պարտավորություններ, մարդ, այդ թվում՝ | C67: =+'4'!C67 -> 0 | D67: =+'4'!D67 -> 0 | E67: =+'4'!E67 -> 23
A68: ոչ նպաստառու ընտանիքների գործազուրկներ | C68: =+'4'!C68 -> 0 | D68: =+'4'!D68 -> 0 | E68: =+'4'!E68 -> 13
A69: նպաստառու ընտանիքների գործազուրկներ | C69: =+'4'!C69 -> 0 | D69: =+'4'!D69 -> 0 | E69: =+'4'!E69 -> 10
A70: Միջոցառման վրա կատարվող ծախսը (հազար դրամ) | C70: =+'4'!C70 -> 0 | D70: =+'4'!D70 -> 0 | E70: =+'4'!E70 -> 6750
A72: Հայաստանի Հանրապետության կառավարություն
A73: ՄԱՍ 2. ՊԵՏԱԿԱՆ ՄԱՐՄՆԻ ԳԾՈՎ ԱՐԴՅՈՒՆՔԱՅԻՆ (ԿԱՏԱՐՈՂԱԿԱՆ) ՑՈՒՑԱՆԻՇՆԵՐԸ
A74: Ծրագրի դասիչը | B74: Ծրագրի անվանումը
A75: 1139 | B75: =+'2'!F76 -> ՀՀ կառավարության պահուստային ֆոնդ
A76: Ծրագրի միջոցառումները
A78: Ծրագրի դասիչը` | B78: =SUM(A75) -> 1139 | C78: Ցուցանիշների փոփոխությունը (ավելացումը նշված է դրական նշանով)
A79: Միջոցառման դասիչը` | B79: 11001 | C79: Առաջին կիսամյակ | D79: Ինն ամիս | E79: Տարի
A80: Միջոցառման անվանումը` | B80: ՀՀ կառավարության պահուստային ֆոնդ
A81: Նկարագրությունը` | B81: ՀՀ պետական բյուջեում նախատեսված ելքերի լրացուցիչ ֆինանսավորման, պետական բյուջեում չկանխատեսված ելքերի, ինչպես նաև բյուջետային երաշխիքների ապահովման ելքերի ֆինանսավորման ապահովում
A82: Միջոցառման տեսակը` | B82: Ծառայությունների մատուցում
A83: Միջոցառման վրա կատարվող ծախսը (հազար դրամ) | C83: =+'2'!G85 -> 0 | D83: =+'2'!H85 -> 0 | E83: =+'2'!I85 -> 6750
A85: Ծրագրի դասիչը` | B85: 1139 | C85: Ցուցանիշների փոփոխությունը (նվազեցումը նշված է փակագծերում)
A86: Միջոցառման դասիչը` | B86: 11001
A87: Միջոցառման անվանումը` | B87: ՀՀ կառավարության պահուստային ֆոնդ
A88: Նկարագրությունը` | B88: ՀՀ պետական բյուջեում նախատեսված ելքերի լրացուցիչ ֆինանսավորման, պետական բյուջեում չկանխատեսված ելքերի, ինչպես նաև բյուջետային երաշխիքների ապահովման ելքերի ֆինանսավորման ապահովում
A89: Միջոցառման տեսակը` | B89: Ծառայությունների մատուցում
A90: Միջոցառման վրա կատարվող ծախսը (հազար դրամ) | C90: =+'2'!G93 -> 0 | D90: =+'2'!H93 -> 0 | E90: =+'2'!I93 -> -6750

Sheet 6
I2: Հավելված N 6
I3: ՀՀ կառավարության 2023 թվականի
I4: -----------------ի N -----------Ն որոշման
A6: ՀԱՅԱՍՏԱՆԻ ՀԱՆՐԱՊԵՏՈՒԹՅԱՆ ԿԱՌԱՎԱՐՈՒԹՅԱՆ 2021 ԹՎԱԿԱՆԻ ԴԵԿՏԵՄԲԵՐԻ 23-Ի N 2121-Ն ՈՐՈՇՄԱՆ N 10 ՀԱՎԵԼՎԱԾՈՒՄ ԿԱՏԱՐՎՈՂ ՓՈՓՈԽՈՒԹՅՈՒՆՆԵՐԸ
A7: ՀԱՅԱՍՏԱՆԻ ՀԱՆՐԱՊԵՏՈՒԹՅԱՆ ԿԱՌԱՎԱՐՈՒԹՅԱՆ 2022 ԹՎԱԿԱՆԻ ԴԵԿՏԵՄԲԵՐԻ 29-Ի N 2111-Ն ՈՐՈՇՄԱՆ N 10 ՀԱՎԵԼՎԱԾՈՒՄ ԿԱՏԱՐՎՈՂ ՓՈՓՈԽՈՒԹՅՈՒՆՆԵՐԸ
A9: Գնման առարկայի | G9: Միավորի գինը ( դրամ) | H9: Ցուցանիշների փոփոխությունը (նվազեցումները նշված են փակագծերում)
A10: Կոդը | D10: Անվանումը | E10: Գնման ձևը | F10: Չափման միավորը | H10: Քանակը | I10: Գումարը (հազար դրամ)
A11: ՀՀ աշխատանքի և սոցիալական հարցերի նախարարության միասնական սոցիալական ծառայություն | I11: =I12 -> -30000
A12: Բաժին N 10 | B12: Խումբ N 05 | C12: Դաս N 01 | D12: Գործազրկություն | I12: =+I13 -> -30000
A13: 1088 11004 | B13: ='[1]2'!F31 -> Աշխատաշուկայում անմրցունակ անձանց փոքր ձեռնարկատիրական գործունեության աջակցության տրամադրում ծրագրի ուսուցման կազմակերպման և խորհրդատվական ծառայություններ | I13: =I15 -> -30000
B14: ՄԱՍ III. ԾԱՌԱՅՈՒԹՅՈՒՆՆԵՐ
A15: 80531100-1 | B15: արդյունաբերական ուսուցման ծառայություններ | E15: ԷԱՃ | F15: դրամ | G15: 30000 | H15: -1 | I15: ='1'!F20 -> -30000

Sheet 7
I1: Հավելված N 7
I2: ՀՀ կառավարության 2023 թվականի
I3: -----------------ի N -----------Ն որոշման
A5: ՀԱՅԱՍՏԱՆԻ ՀԱՆՐԱՊԵՏՈՒԹՅԱՆ 2023 ԹՎԱԿԱՆԻ ՊԵՏԱԿԱՆ ԲՅՈՒՋԵՈՎ ՆԱԽԱՏԵՍՎԱԾ՝ ՀԱՅԱՍՏԱՆԻ ՀԱՆՐԱՊԵՏՈՒԹՅԱՆ ԿԱՌԱՎԱՐՈՒԹՅԱՆ ՊԱՀՈՒՍՏԱՅԻՆ ՖՈՆԴԻՑ ՀԱՏԿԱՑՈՒՄՆԵՐ ԿԱՏԱՐԵԼՈՒ ՎԵՐԱԲԵՐՅԱԼ
G6: (հազար դրամ)
A7: Գործառական դասիչը | D7: Ծրագրային դասիչը | F7: Բյուջետային ծախսերի գործառական դասակարգման բաժինների, խմբերի և դասերի, բյուջետային ծրագրերի միջոցառումների, բյուջետային հատկացումների գլխավոր կարգադրիչների անվանումները | G7: ='[2]1'!D7 -> Ցուցանիշների փոփոխությունները ավելացումները նշված են դրական նշանով, իսկ նվազեցումները՝ փակագծերում
A8: Բաժինը | B8: Խումբը | C8: Դասը | D8: Ծրագիր | E8: Միջոցառում | G8: Առաջին կիսամյակ | H8: Ինն ամիս | I8: Տարի
F9: ԸՆԴԱՄԵՆԸ ԾԱԽՍԵՐ | G9: =+G12+G30 -> 0 | H9: =+H12+H30 -> 0 | I9: =+I12+I30 -> 6750
F10: այդ թվում`
F11: ՀՀ աշխատանքի և սոցիալական հարցերի նախարարություն
A12: 10 | F12: ՍՈՑԻԱԼԱԿԱՆ ՊԱՇՏՊԱՆՈՒԹՅՈՒՆ | G12: =G14 -> 0 | H12: =H14 -> 0 | I12: =I14 -> 6750
F13: այդ թվում`
B14: ՛05 | F14: Գործազրկություն | G14: =G16 -> 0 | H14: =H16 -> 0 | I14: =I16 -> 6750
F15: այդ թվում`
C16: ՛01 | F16: Գործազրկություն | G16: =G18 -> 0 | H16: =H18 -> 0 | I16: =I18 -> 6750
F17: այդ թվում`
D18: 1088 | F18: Զբաղվածության ծրագիր | G18: =G31+G40+G49+G58+G67 -> 0 | H18: =H31+H40+H49+H58+H67 -> 0 | I18: =I31+I40+I49+I58+I67 -> 6750
F19: այդ թվում`
D20: Ծրագրի միջոցառումներ
E21: 12020 | F21: ='1'!C11 -> ԸՆԴԱՄԵՆԸ | G21: =+'2'!G49 -> 0 | H21: =+'2'!H49 -> 0 | I21: =+'2'!I49 -> 6750
F22: այդ թվում` ըստ կատարողների | G22: =+'2'!G50 -> 0 | H22: =+'2'!H50 -> 0 | I22: =+'2'!I50 -> 0
F23: ՀՀ աշխատանքի և սոցիալական հարցերի նախարարության միասնական սոցիալական ծառայություն | G23: =+'2'!G51 -> 0 | H23: =+'2'!H51 -> 0 | I23: =+'2'!I51 -> 6750
F24: այդ թվում` բյուջետային ծախսերի տնտեսագիտական դասակարգման հոդվածներ | G24: =+'2'!G52 -> 0 | H24: =+'2'!H52 -> 0 | I24: =+'2'!I52 -> 0
F25: ԸՆԴԱՄԵՆԸ ԾԱԽՍԵՐ | G25: =+'2'!G53 -> 0 | H25: =+'2'!H53 -> 0 | I25: =+'2'!I53 -> 6750
F26: ԸՆԹԱՑԻԿ ԾԱԽՍԵՐ | G26: =+'2'!G54 -> 0 | H26: =+'2'!H54 -> 0 | I26: =+'2'!I54 -> 6750
F27: ԴՐԱՄԱՇՆՈՐՀՆԵՐ | G27: =+'2'!G55 -> 0 | H27: =+'2'!H55 -> 0 | I27: =+'2'!I55 -> 6750
F28: Ընթացիկ դրամաշնորհներ պետական հատվածի այլ մակարդակներին | G28: =+'2'!G56 -> 0 | H28: =+'2'!H56 -> 0 | I28: =+'2'!I56 -> 6750
F29: - Այլ ընթացիկ դրամաշնորհներ | G29: =+'2'!G57 -> 0 | H29: =+'2'!H57 -> 0 | I29: =+'2'!I57 -> 6750
A30: 11 | F30: ՀԻՄՆԱԿԱՆ ԲԱԺԻՆՆԵՐԻՆ ՉԴԱՍՎՈՂ ՊԱՀՈՒՍՏԱՅԻՆ ՖՈՆԴԵՐ | G30: =G32 -> 0 | H30: =H32 -> 0 | I30: =I32 -> 0
F31: այդ թվում՝
B32: 01 | F32: ՀՀ կառավարության և համայնքների պահուստային ֆոնդ | G32: =G36 -> 0 | H32: =H36 -> 0 | I32: =I36 -> 0
F33: այդ թվում՝
C34: 01 | F34: ՀՀ կառավարության պահուստային ֆոնդ | G34: =G36 -> 0 | H34: =H36 -> 0 | I34: =I36 -> 0
F35: այդ թվում՝ ՀՀ կառավարություն | G35: =+G36 -> 0 | H35: =+H36 -> 0 | I35: =+I36 -> 0
D36: 1139 | F36: ՀՀ կառավարության պահուստային ֆոնդ | G36: =G38+G46 -> 0 | H36: =H38+H46 -> 0 | I36: =I38+I46 -> 0
F37: այդ թվում՝
E38: 11001 | F38: ՀՀ կառավարության պահուստային ֆոնդ | G38: =G40 -> 0 | H38: =H40 -> 0 | I38: =I40 -> 6750
F39: այդ թվում՝ ըստ կատարողների
F40: ՀՀ կառավարություն | G40: =G42 -> 0 | H40: =H42 -> 0 | I40: =I42 -> 6750
F41: այդ թվում՝ բյուջետային ծախսերի տնտեսագիտական դասակարգման հոդվածներ
F42: ԸՆԴԱՄԵՆԸ ԾԱԽՍԵՐ | G42: =G43 -> 0 | H42: =H43 -> 0 | I42: =I43 -> 6750
F43: ԸՆԹԱՑԻԿ ԾԱԽՍԵՐ | G43: =G44 -> 0 | H43: =H44 -> 0 | I43: =I44 -> 6750
F44: ԱՅԼ ԾԱԽՍԵՐ | G44: =G45 -> 0 | H44: =H45 -> 0 | I44: =I45 -> 6750
F45: - Պահուստային միջոցներ | G45: ='2'!G85 -> 0 | H45: ='2'!H85 -> 0 | I45: ='2'!I85 -> 6750
E46: 11001 | F46: ՀՀ կառավարության պահուստային ֆոնդ | G46: =G48 -> 0 | H46: =H48 -> 0 | I46: =I48 -> -6750
F47: այդ թվում՝ ըստ կատարողների
F48: ՀՀ կառավարություն | G48: =G50 -> 0 | H48: =H50 -> 0 | I48: =I50 -> -6750
F49: այդ թվում՝ բյուջետային ծախսերի տնտեսագիտական դասակարգման հոդվածներ
F50: ԸՆԴԱՄԵՆԸ ԾԱԽՍԵՐ | G50: =G51 -> 0 | H50: =H51 -> 0 | I50: =I51 -> -6750
F51: ԸՆԹԱՑԻԿ ԾԱԽՍԵՐ | G51: =G52 -> 0 | H51: =H52 -> 0 | I51: =I52 -> -6750
F52: ԱՅԼ ԾԱԽՍԵՐ | G52: =G53 -> 0 | H52: =H53 -> 0 | I52: =I53 -> -6750
F53: - Պահուստային միջոցներ | G53: ='2'!G93 -> 0 | H53: ='2'!H93 -> 0 | I53: ='2'!I93 -> -6750
