Workbook
Name a: #REF!
Name a: #REF!
Name AgencyCode: #REF!
Name AgencyCode: #REF!
Name AgencyCode: #REF!
Name AgencyCode: #REF!
Name AgencyCode: #REF!
Name AgencyCode: #REF!
Name AgencyName: #REF!
Name AgencyName: #REF!
Name AgencyName: #REF!
Name davit: #REF!
Name davit: #REF!
Name Functional1: #REF!
Name Functional1: #REF!
Name Functional1: #REF!
Name ggg: #REF!
Name ggg: #REF!
Name PANature: #REF!
Name PANature: #REF!
Name PANature: #REF!
Name PAType: #REF!
Name PAType: #REF!
Name PAType: #REF!
Name Performance2: #REF!
Name Performance2: #REF!
Name Performance2: #REF!
Name PerformanceType: #REF!
Name PerformanceType: #REF!
Name PerformanceType: #REF!
Name Հավելված: #REF!
Name Հավելված: #REF!
Name Մաս: #REF!
Name Մաս: #REF!
Name շախմատիստ: #REF!
Name շախմատիստ: #REF!

Sheet Հավելված N 1
D1: Հավելված N 1
D2: ՀՀ կառավարության 2023 թվականի
D3: ______________ ի ___Ն որոշման
A6: «ՀԱՅԱUՏԱՆԻ ՀԱՆՐԱՊԵՏՈՒԹՅԱՆ 2023 ԹՎԱԿԱՆԻ ՊԵՏԱԿԱՆ ԲՅՈՒՋԵԻ ՄԱUԻՆ» ՀԱՅԱUՏԱՆԻ ՀԱՆՐԱՊԵՏՈՒԹՅԱՆ OՐԵՆՔԻ N 1 ՀԱՎԵԼՎԱԾԻ N 2 ԱՂՅՈՒՍԱԿՈՒՄ ԿԱՏԱՐՎՈՂ ՎԵՐԱԲԱՇԽՈՒՄԸ ԵՎ ՀԱՅԱՍՏԱՆԻ ՀԱՆՐԱՊԵՏՈՒԹՅԱՆ ԿԱՌԱՎԱՐՈՒԹՅԱՆ 2022 ԹՎԱԿԱՆԻ ԴԵԿՏԵՄԲԵՐԻ 29-Ի N 2111-Ն ՈՐՈՇՄԱՆ N 5 ՀԱՎԵԼՎԱԾԻ N 1 ԱՂՅՈՒՍԱԿՈՒՄ ԿԱՏԱՐՎՈՂ ՓՈՓՈԽՈՒԹՅՈՒՆՆԵՐԸ ԵՎ ԼՐԱՑՈՒՄՆԵՐԸ
E9: հազ. դրամներով
A10: Ծրագրային դասիչը | C10: Բյուջետային հատկացումների գլխավոր կարգադրիչների, ծրագրերի և միջոցառումների անվանումները | D10: Ցուցանիշների փոփոխությունը (ավելացումները նշված են դրական նշանով, իսկ նվազեցումները փակագծերում)
A11: Ծրագիր | B11: Միջոցառում | D11: Ինն ամիս | E11: Տարի
A12: 1192 | C12: ԸՆԴԱՄԵՆԸ | D12: =+D14 -> 0 | E12: =+E14 -> 0
C13: այդ թվում
C14: ՀՀ ԿՐԹՈՒԹՅԱՆ, ԳԻՏՈՒԹՅԱՆ, ՄՇԱԿՈՒՅԹԻ ԵՎ ՍՊՈՐՏԻ ՆԱԽԱՐԱՐՈՒԹՅՈՒՆ | D14: =+D16 -> 0 | E14: =+E16 -> 0
A15: 1183 | C15: Ծրագրի անվանումը`
C16: Ապահով դպրոց | D16: =+D23+D29+D35+D41 -> 0 | E16: =+E23+E29+E35+E41 -> 0
C17: Ծրագրի նպատակը`
C18: Դպրոցներին սպառնացող աղետների ռիսկի կառավարման կարողությունների հզորացում, դպրոցի անձնակազմի և աշակերտների անվտանգության ապահովման մակարդակի բարձրացում՛ կիրառելով ներառական և երեխայակենտրոն մոտեցում
C19: Վերջնական արդյունքի նկարագրությունը`
C20: Դպրոցական միջավայրի բարելավում
C21: Ծրագրի միջոցառումներ
B22: 32002 | C22: Միջոցառման անվանումը`
C23: Կրթական օբյեկտների շենքային ապահովվածության բարելավում | D23: =+'Հավելված N 2'!G24 -> 0 | E23: =+'Հավելված N 2'!H24 -> 196300
C24: Միջոցառման նկարագրությունը`
C25: Կրթական օբյեկտների շենքերի (մասնաշենքերի) կառուցում (համաշինարարական աշխատանքներ, ջեռուցման համակարգի իրականացում, ներքին հարդարում, տարածքի բարեկարգում) և նախագծում
C26: Միջոցառման տեսակը
C27: Այլ պետական կազմակերպությունների կողմից օգտագործվող ոչ ֆինանսական ակտիվների հետ գործառնություններ
B28: 32003 | C28: Միջոցառման անվանումը`
C29: Փոքրաքանակ երեխաներով համալրված հանրակրթական դպրոցների և կրթահամալիրներ մոդուլային շենքերի կառուցում | D29: =+'Հավելված N 2'!G33 -> 0 | E29: =+'Հավելված N 2'!H33 -> -309795
C30: Միջոցառման նկարագրությունը`
C31: Կրթական հաստատությունների կառուցում համայնքային կենտրոնների մոդելով
C32: Միջոցառման տեսակը
C33: Այլ պետական կազմակերպությունների կողմից օգտագործվող ոչ ֆինանսական ակտիվների հետ գործառնություններ
B34: 32007 | C34: Միջոցառման անվանումը`
C35: Հանրակրթական կրթություն իրականացնող ուսումնական հաստատությունների նոր մարզադահլիճների կառուցում | D35: =+'Հավելված N 2'!G49 -> 0 | E35: =+'Հավելված N 2'!H49 -> 35595
C36: Միջոցառման նկարագրությունը`
C37: Հանրակրթական ուսուցում իրականացնող ուսումնական հաստատությունների նոր մարզադահլիճների կառուցման նախագծանախահաշվային փաստաթղթերի մշակում
C38: Միջոցառման տեսակը
C39: Այլ պետական կազմակերպությունների կողմից օգտագործվող ոչ ֆինանսական ակտիվների հետ գործառնություններ
B40: 32013 | C40: Միջոցառման անվանումը`
C41: ՀՀ մարզերում կրթական որակյալ ծառայությունների հասանելիության ապահովման ծրագրի շրջանակներում կրթական կենտրոնների ստեղծում | D41: =+'Հավելված N 2'!G58 -> 0 | E41: =+'Հավելված N 2'!H58 -> 77900
C42: Միջոցառման նկարագրությունը`
C43: ՀՀ մարզերում կրթական որակյալ ծառայությունների հասանելիության ապահովման ծրագրի շրջանակներում հանրակրթական և նախադպրոցական կրթության հասանելիության ապահովման նպատակով կրթական կենտրոնների կառուցում
C44: Միջոցառման տեսակը
...

Sheet Հավելված N 2
F1: Հավելված N 2
F2: ՀՀ կառավարության 2023 թվականի
F3: ______________ ի ___Ն որոշման
A6: ՀԱՅԱՍՏԱՆԻ ՀԱՆՐԱՊԵՏՈՒԹՅԱՆ ԿԱՌԱՎԱՐՈՒԹՅԱՆ 2022 ԹՎԱԿԱՆԻ ԴԵԿՏԵՄԲԵՐԻ 29-Ի N2111-Ն ՈՐՈՇՄԱՆ N 3 ԵՎ N 4 ՀԱՎԵԼՎԱԾՆԵՐՈՒՄ ԿԱՏԱՐՎՈՂ ՓՈՓՈԽՈՒԹՅՈՒՆՆԵՐԸ ԵՎ ԼՐԱՑՈՒՄՆԵՐԸ
H8: հազ. դրամներով
A9: Գործառական դասիչը | D9: Ծրագրային դասիչը | F9: Բյուջետային հատկացումների գլխավոր կարգադրիչների, ծրագրերի, միջոցառումների և միջոցառումները կատարող պետական մարմինների անվանումները | G9: Ցուցանիշների փոփոխությունը (ավելացումները նշված են դրական նշանով, իսկ նվազեցումները փակագծերում)
A10: Բաժին | B10: Խումբ | C10: Դաս | D10: Ծրագիր | E10: Միջոցառում | G10: Ինն ամիս | H10: Տարի
F11: ԸՆԴԱՄԵՆԸ | G11: =+G13 -> 0 | H11: =+H13 -> 0
F12: այդ թվում
F13: ՀՀ ԿՐԹՈՒԹՅԱՆ, ԳԻՏՈՒԹՅԱՆ, ՄՇԱԿՈՒՅԹԻ ԵՎ ՍՊՈՐՏԻ ՆԱԽԱՐԱՐՈՒԹՅՈՒՆ | G13: =+G14 -> 0 | H13: =+H14 -> 0
A14: 09 | F14: ԿՐԹՈՒԹՅՈՒՆ | G14: =+G16 -> 0 | H14: =+H16 -> 0
F15: այդ թվում`
B16: 06 | F16: Կրթությանը տրամադրվող օժանդակ ծառայություններ | G16: =+G18 -> 0 | H16: =+H18 -> 0
F17: այդ թվում`
C18: 01 | F18: Կրթությանը տրամադրվող օժանդակ ծառայություններ | G18: =+G20 -> 0 | H18: =+H20 -> 0
F19: այդ թվում`
F20: ՀՀ կրթության, գիտության, մշակույթի և սպորտի նախարարություն | G20: =+G22 -> 0 | H20: =+H22 -> 0
F21: այդ թվում`
D22: 1183 | E22: Ապահով դպրոց | G22: =+G24+G33+G49+G58 -> 0 | H22: =+H24+H33+H49+H58 -> 0
F23: այդ թվում`
E24: 32002 | F24: Կրթական օբյեկտների շենքային ապահովվածության բարելավում | G24: =+G26 -> 0 | H24: =+H26 -> 196300
F25: այդ թվում` ըստ կատարողների
F26: ՀՀ քաղաքաշինության կոմիտե | G26: =+G28 -> 0 | H26: =+H28 -> 196300
F27: այդ թվում՝ բյուջետային ծախսերի տնտեսագիտական դասակարգման հոդվածներ
F28: ԸՆԴԱՄԵՆԸ ԾԱԽՍԵՐ | G28: =+G29 -> 0 | H28: =+H29 -> 196300
F29: ՈՉ ՖԻՆԱՆՍԱԿԱՆ ԱԿՏԻՎՆԵՐԻ ԳԾՈՎ ԾԱԽՍԵՐ | G29: =+G30 -> 0 | H29: =+H30 -> 196300
F30: ՀԻՄՆԱԿԱՆ ՄԻՋՈՑՆԵՐ | G30: =+G31 -> 0 | H30: =+H31 -> 196300
F31: ԱՅԼ ՀԻՄՆԱԿԱՆ ՄԻՋՈՑՆԵՐ | G31: =+G32 -> 0 | H31: =+H32 -> 196300
F32: - Նախագծահետազոտական ծախսեր | G32: =+'Հավելված N 4'!E14 -> 0 | H32: =+'Հավելված N 4'!F14 -> 196300
E33: 32003 | F33: Փոքրաքանակ երեխաներով համալրված հանրակրթական դպրոցների և կրթահամալիրների մոդուլային շենքերի կառուցում | G33: =+G35+G42 -> 0 | H33: =+H35+H42 -> -309795
F34: այդ թվում` ըստ կատարողների
F35: ՀՀ քաղաքաշինության կոմիտե | G35: =+G37 -> -10000 | H35: =+H37 -> -10000
F36: այդ թվում՝ բյուջետային ծախսերի տնտեսագիտական դասակարգման հոդվածներ
F37: ԸՆԴԱՄԵՆԸ ԾԱԽՍԵՐ | G37: =+G38 -> -10000 | H37: =+H38 -> -10000
F38: ՈՉ ՖԻՆԱՆՍԱԿԱՆ ԱԿՏԻՎՆԵՐԻ ԳԾՈՎ ԾԱԽՍԵՐ | G38: =+G39 -> -10000 | H38: =+H39 -> -10000
F39: ՀԻՄՆԱԿԱՆ ՄԻՋՈՑՆԵՐ | G39: =+G40 -> -10000 | H39: =+H40 -> -10000
F40: ԱՅԼ ՀԻՄՆԱԿԱՆ ՄԻՋՈՑՆԵՐ | G40: =+G41 -> -10000 | H40: =+H41 -> -10000
F41: - Նախագծահետազոտական ծախսեր | G41: =+'Հավելված N 4'!E43 -> -10000 | H41: =+'Հավելված N 4'!F43 -> -10000
F42: ՀՀ կառավարություն | G42: =+G44 -> 10000 | H42: =+H44 -> -299795
F43: այդ թվում՝ բյուջետային ծախսերի տնտեսագիտական դասակարգման հոդվածներ
...

Sheet Հավելված N 3
F1: Հավելված N 3
F2: ՀՀ կառավարության 2023 թվականի
F3: ______________ ի ___Ն որոշման
A5: «ՀԱՅԱUՏԱՆԻ ՀԱՆՐԱՊԵՏՈՒԹՅԱՆ 2023 ԹՎԱԿԱՆԻ ՊԵՏԱԿԱՆ ԲՅՈՒՋԵԻ ՄԱUԻՆ» ՀԱՅԱUՏԱՆԻ ՀԱՆՐԱՊԵՏՈՒԹՅԱՆ OՐԵՆՔԻ N 1 ՀԱՎԵԼՎԱԾԻ N 3 ԱՂՅՈՒՍԱԿՈՒՄ ԿԱՏԱՐՎՈՂ ՓՈՓՈԽՈՒԹՅՈՒՆՆԵՐԸ ԵՎ ԼՐԱՑՈՒՄՆԵՐԸ
G8: հազ. դրամներով
A9: Ծրագրային դասիչ | C9: Բյուջետային գլխավոր կարգադրիչների, ծրագրերի, միջոցառումների, միջոցառումները կատարող պետական մարմինների և ուղղությունների անվանումները | D9: Ընդամենը | E9: Ցուցանիշների փոփոխությունը (ավելացումները նշված են դրական նշանով, իսկ նվազեցումները՝ փակագծերում)
A10: Ծրագիր | B10: Միջոցառում | E10: Կառուցման աշխատանքներ | F10: Վերակառուցման, վերանորոգման և վերականգնման աշխատանքներ | G10: Նախագծահե- տազոտական, գեոդեզիա- քարտեզագրա- կան աշխա- տանքներ | H10: Ոչ ֆինանսական այլ ակտիվների ձեռքբերում
C11: ԸՆԴԱՄԵՆԸ | D11: =SUM(E11:H11) -> 0 | E11: =+E13 -> -299795 | F11: =+F13 -> 0 | G11: =+G13 -> 299795 | H11: =+H13 -> 0
C12: այդ թվում՝
C13: ՀՀ ԿՐԹՈՒԹՅԱՆ, ԳԻՏՈՒԹՅԱՆ, ՄՇԱԿՈՒՅԹԻ ԵՎ ՍՊՈՐՏԻ ՆԱԽԱՐԱՐՈՒԹՅՈՒՆ | D13: =SUM(E13:H13) -> 0 | E13: =+E15+E42+E49+E60 -> -299795 | F13: =+F15+F42+F49+F60 -> 0 | G13: =+G15+G42+G49+G60 -> 299795 | H13: =+H15+H42+H49+H60 -> 0
C14: այդ թվում`
A15: 1183 | B15: 32002 | C15: Կրթական օբյեկտների շենքային ապահովվածության բարելավում | D15: =SUM(E15:H15) -> 196300 | E15: =+E17+E29+E39 -> 0 | F15: =+F17+F29+F39 -> 0 | G15: =+G17+G29+G39 -> 196300 | H15: =+H17+H29+H39 -> 0
C16: այդ թվում`
C17: ՀՀ Լոռու մարզ | D17: =SUM(E17:H17) -> 110800 | E17: =SUM(E18:E28) -> 0 | F17: =SUM(F18:F28) -> 0 | G17: =SUM(G18:G28) -> 110800 | H17: =SUM(H18:H28) -> 0
C18: գ. Ճոճկանի միջնակարգ դպրոց | D18: =+E18+F18+G18+H18 -> 9500 | G18: =+'Հավելված N 7'!I17+'Հավելված N 7'!I39 -> 9500
C19: գ. Արևածագի Կ․ Մելիքսեթյան անվան միջնակարգ դպրոց | D19: =+E19+F19+G19+H19 -> 9500 | G19: =+'Հավելված N 7'!I18+'Հավելված N 7'!I40 -> 9500
C20: գ. Օձունի թիվ 2 միջնակարգ դպրոց | D20: =+E20+F20+G20+H20 -> 9500 | G20: =+'Հավելված N 7'!I19+'Հավելված N 7'!I41 -> 9500
C21: ք. Տաշիրի միջնակարգ դպրոց (ք. Տաշիրի թիվ 1 հիմնական դպրոցի տեղակայման վայրում) | D21: =+E21+F21+G21+H21 -> 11600 | G21: =+'Հավելված N 7'!I20+'Հավելված N 7'!I42 -> 11600
C22: ք. Սպիտակի թիվ 8 միջնակարգ դպրոց | D22: =+E22+F22+G22+H22 -> 11600 | G22: =+'Հավելված N 7'!I21+'Հավելված N 7'!I43 -> 11600
C23: գ. Աքորու միջնակարգ դպրոց | D23: =+E23+F23+G23+H23 -> 9500 | G23: =+'Հավելված N 7'!I22+'Հավելված N 7'!I44 -> 9500
C24: ք. Ալավերդու Մյասնիկյանի անվան թիվ 7 միջնակարգ դպրոց | D24: =+E24+F24+G24+H24 -> 9500 | G24: =+'Հավելված N 7'!I23+'Հավելված N 7'!I45 -> 9500
C25: ք. Վանաձորի Ստ.Շահումյանի անվան թիվ 6 հիմնական դպրոց | D25: =+E25+F25+G25+H25 -> 11600 | G25: =+'Հավելված N 7'!I24+'Հավելված N 7'!I46 -> 11600
C26: գ. Մեծավանի թիվ 2 միջնակարգ դպրոց | D26: =+E26+F26+G26+H26 -> 9500 | G26: =+'Հավելված N 7'!I25+'Հավելված N 7'!I47 -> 9500
C27: գ. Դսեղի Հ.Թումանյանի անվան միջնակարգ դպրոց | D27: =+E27+F27+G27+H27 -> 9500 | G27: =+'Հավելված N 7'!I26+'Հավելված N 7'!I48 -> 9500
C28: գ. Շիրակամուտի թիվ 1 միջնակարգ դպրոց | D28: =+E28+F28+G28+H28 -> 9500 | G28: =+'Հավելված N 7'!I27+'Հավելված N 7'!I49 -> 9500
C29: ՀՀ Շիրակի մարզ | D29: =SUM(E29:H29) -> 89700 | E29: =SUM(E30:E38) -> 0 | F29: =SUM(F30:F38) -> 0 | G29: =SUM(G30:G38) -> 89700 | H29: =SUM(H30:H38) -> 0
C30: գ․ Սարատակի միջնակարգ դպրոց | D30: =+E30+F30+G30+H30 -> 9500 | G30: =+'Հավելված N 7'!I28+'Հավելված N 7'!I50 -> 9500
C31: գ․ Ամասիայի միջնակարգ դպրոց | D31: =+E31+F31+G31+H31 -> 9500 | G31: =+'Հավելված N 7'!I29+'Հավելված N 7'!I51 -> 9500
C32: գ․ Ջրափիի միջնակարգ դպրոց | D32: =+E32+F32+G32+H32 -> 9500 | G32: =+'Հավելված N 7'!I30+'Հավելված N 7'!I52 -> 9500
C33: գ․ Շիրակավանի միջնակարգ դպրոց | D33: =+E33+F33+G33+H33 -> 9500 | G33: =+'Հավելված N 7'!I31+'Հավելված N 7'!I53 -> 9500
C34: գ․ Երազգավորսի միջնակարգ դպրոց | D34: =+E34+F34+G34+H34 -> 11600 | G34: =+'Հավելված N 7'!I32+'Հավելված N 7'!I54 -> 11600
C35: ք. Գյումրու Գ.Սարյանի անվան թիվ 24 հիմնական դպրոց | D35: =+E35+F35+G35+H35 -> 9500 | G35: =+'Հավելված N 7'!I33+'Հավելված N 7'!I55 -> 9500
C36: գ․ Մայիսյանի միջնակարգ դպրոց | D36: =+E36+F36+G36+H36 -> 9500 | G36: =+'Հավելված N 7'!I34+'Հավելված N 7'!I56 -> 9500
C37: գ․ Փոքր Մանթաշի միջնակարգ դպրոց | D37: =+E37+F37+G37+H37 -> 9500 | G37: =+'Հավելված N 7'!I35+'Հավելված N 7'!I57 -> 9500
C38: գ․ Սառնաղբյուրի միջնակարգ դպրոց | D38: =+E38+F38+G38+H38 -> 11600 | G38: =+'Հավելված N 7'!I36+'Հավելված N 7'!I58 -> 11600
C39: ՀՀ Տավուշի մարզ | D39: =SUM(E39:H39) -> -4200 | E39: =SUM(E40:E41) -> 0 | F39: =SUM(F40:F41) -> 0 | G39: =SUM(G40:G41) -> -4200 | H39: =SUM(H40:H41) -> 0
C40: գ. Կողբի Ջ.Կարախանյանի անվ. թիվ 1 միջնակարգ դպրոց | D40: =+E40+F40+G40+H40 -> -2100 | G40: =+'Հավելված N 7'!I37+'Հավելված N 7'!I59 -> -2100
C41: գ. Սևքարի միջնակարգ դպրոց | D41: =+E41+F41+G41+H41 -> -2100 | G41: =+'Հավելված N 7'!I38+'Հավելված N 7'!I60 -> -2100
A42: 1183 | B42: 32003 | C42: Փոքրաքանակ երեխաներով համալրված հանրակրթական դպրոցների և կրթահամալիրների մոդուլային շենքերի կառուցում | D42: =SUM(E42:H42) -> -309795 | E42: =+E44+E45+E47 -> -299795 | F42: =+F44+F45+F47 -> 0 | G42: =+G44+G45+G47 -> -10000 | H42: =+H44+H45+H47 -> 0
C43: այդ թվում`
...

Sheet Հավելված N 4
D1: Հավելված N 4
D2: ՀՀ կառավարության 2023 թվականի
D3: ______________ ի ___Ն որոշման
B5: ՀԱՅԱՍՏԱՆԻ ՀԱՆՐԱՊԵՏՈՒԹՅԱՆ ԿԱՌԱՎԱՐՈՒԹՅԱՆ 2022 ԹՎԱԿԱՆԻ ԴԵԿՏԵՄԲԵՐԻ 29-Ի N 2111-Ն ՈՐՈՇՄԱՆ N 5 ՀԱՎԵԼՎԱԾԻ N 2 ԱՂՅՈՒՍԱԿՈՒՄ ԿԱՏԱՐՎՈՂ ՓՈՓՈԽՈՒԹՅՈՒՆՆԵՐԸ ԵՎ ԼՐԱՑՈՒՄՆԵՐԸ
F7: հազ. դրամներով
B8: Ծրագրային դասիչ | D8: Բյուջետային գլխավոր կարգադրիչների, ծրագրերի, միջոցառումների, միջոցառումները կատարող պետական մարմինների և ուղղությունների անվանումները | E8: Ցուցանիշների փոփոխությունը (ավելացումները նշված են դրական նշանով, իսկ նվազեցումները փակագծերում)
B9: Ծրագիր | C9: Միջոցառում | E9: Ինն ամիս | F9: Տարի
D10: ՀՀ ԿՐԹՈՒԹՅԱՆ, ԳԻՏՈՒԹՅԱՆ, ՄՇԱԿՈՒՅԹԻ ԵՎ ՍՊՈՐՏԻ ՆԱԽԱՐԱՐՈՒԹՅՈՒՆ | E10: =+E12+E41+E49+E62 -> 0 | F10: =+F12+F41+F49+F62 -> 0
D11: այդ թվում՝
B12: 1183 | C12: 32002 | D12: Կրթական օբյեկտների շենքային ապահովվածության բարելավում | E12: =+E14 -> 0 | F12: =+F14 -> 196300
D13: այդ թվում` ըստ կատարողների
D14: ՀՀ քաղաքաշինության կոմիտե | E14: =+E16+E28+E38 -> 0 | F14: =+F16+F28+F38 -> 196300
D15: այդ թվում՝ ըստ ուղղությունների
D16: ՀՀ Լոռու մարզ | E16: =SUM(E17:E27) -> 0 | F16: =SUM(F17:F27) -> 110800
D17: =+'Հավելված N 3'!C18 -> գ. Ճոճկանի միջնակարգ դպրոց | E17: 0 | F17: =+'Հավելված N 3'!D18 -> 9500
D18: =+'Հավելված N 3'!C19 -> գ. Արևածագի Կ․ Մելիքսեթյան անվան միջնակարգ դպրոց | E18: 0 | F18: =+'Հավելված N 3'!D19 -> 9500
D19: =+'Հավելված N 3'!C20 -> գ. Օձունի թիվ 2 միջնակարգ դպրոց | E19: 0 | F19: =+'Հավելված N 3'!D20 -> 9500
D20: =+'Հավելված N 3'!C21 -> ք. Տաշիրի միջնակարգ դպրոց (ք. Տաշիրի թիվ 1 հիմնական դպրոցի տեղակայման վայրում) | E20: 0 | F20: =+'Հավելված N 3'!D21 -> 11600
D21: =+'Հավելված N 3'!C22 -> ք. Սպիտակի թիվ 8 միջնակարգ դպրոց | E21: 0 | F21: =+'Հավելված N 3'!D22 -> 11600
D22: =+'Հավելված N 3'!C23 -> գ. Աքորու միջնակարգ դպրոց | E22: 0 | F22: =+'Հավելված N 3'!D23 -> 9500
D23: =+'Հավելված N 3'!C24 -> ք. Ալավերդու Մյասնիկյանի անվան թիվ 7 միջնակարգ դպրոց | E23: 0 | F23: =+'Հավելված N 3'!D24 -> 9500
D24: =+'Հավելված N 3'!C25 -> ք. Վանաձորի Ստ.Շահումյանի անվան թիվ 6 հիմնական դպրոց | E24: 0 | F24: =+'Հավելված N 3'!D25 -> 11600
D25: =+'Հավելված N 3'!C26 -> գ. Մեծավանի թիվ 2 միջնակարգ դպրոց | E25: 0 | F25: =+'Հավելված N 3'!D26 -> 9500
D26: =+'Հավելված N 3'!C27 -> գ. Դսեղի Հ.Թումանյանի անվան միջնակարգ դպրոց | E26: 0 | F26: =+'Հավելված N 3'!D27 -> 9500
D27: =+'Հավելված N 3'!C28 -> գ. Շիրակամուտի թիվ 1 միջնակարգ դպրոց | E27: 0 | F27: =+'Հավելված N 3'!D28 -> 9500
D28: ՀՀ Շիրակի մարզ | E28: =SUM(E29:E37) -> 0 | F28: =SUM(F29:F37) -> 89700
D29: =+'Հավելված N 3'!C30 -> գ․ Սարատակի միջնակարգ դպրոց | E29: 0 | F29: =+'Հավելված N 3'!D30 -> 9500
D30: =+'Հավելված N 3'!C31 -> գ․ Ամասիայի միջնակարգ դպրոց | E30: 0 | F30: =+'Հավելված N 3'!D31 -> 9500
D31: =+'Հավելված N 3'!C32 -> գ․ Ջրափիի միջնակարգ դպրոց | E31: 0 | F31: =+'Հավելված N 3'!D32 -> 9500
D32: =+'Հավելված N 3'!C33 -> գ․ Շիրակավանի միջնակարգ դպրոց | E32: 0 | F32: =+'Հավելված N 3'!D33 -> 9500
D33: =+'Հավելված N 3'!C34 -> գ․ Երազգավորսի միջնակարգ դպրոց | E33: 0 | F33: =+'Հավելված N 3'!D34 -> 11600
D34: =+'Հավելված N 3'!C35 -> ք. Գյումրու Գ.Սարյանի անվան թիվ 24 հիմնական դպրոց | E34: 0 | F34: =+'Հավելված N 3'!D35 -> 9500
D35: =+'Հավելված N 3'!C36 -> գ․ Մայիսյանի միջնակարգ դպրոց | E35: 0 | F35: =+'Հավելված N 3'!D36 -> 9500
D36: =+'Հավելված N 3'!C37 -> գ․ Փոքր Մանթաշի միջնակարգ դպրոց | E36: 0 | F36: =+'Հավելված N 3'!D37 -> 9500
D37: =+'Հավելված N 3'!C38 -> գ․ Սառնաղբյուրի միջնակարգ դպրոց | E37: 0 | F37: =+'Հավելված N 3'!D38 -> 11600
D38: ՀՀ Տավուշի մարզ | E38: =SUM(E39:E40) -> 0 | F38: =SUM(F39:F40) -> -4200
D39: =+'Հավելված N 3'!C40 -> գ. Կողբի Ջ.Կարախանյանի անվ. թիվ 1 միջնակարգ դպրոց | E39: 0 | F39: =+'Հավելված N 3'!D40 -> -2100
D40: =+'Հավելված N 3'!C41 -> գ. Սևքարի միջնակարգ դպրոց | E40: 0 | F40: =+'Հավելված N 3'!D41 -> -2100
B41: 1183 | C41: 32003 | D41: Փոքրաքանակ երեխաներով համալրված հանրակրթական դպրոցների և կրթահամալիրների մոդուլային շենքերի կառուցում | E41: =+E43+E48 -> 0 | F41: =+F43+F48 -> -309795
D42: այդ թվում` ըստ կատարողների
...

Sheet Հավելված N 5
C1: Հավելված N 5
C2: ՀՀ կառավարության 2023 թվականի
C3: ______________ ի ___Ն որոշման
B6: ՀԱՅԱՍՏԱՆԻ ՀԱՆՐԱՊԵՏՈՒԹՅԱՆ ԿԱՌԱՎԱՐՈՒԹՅԱՆ 2022 ԹՎԱԿԱՆԻ ԴԵԿՏԵՄԲԵՐԻ 29-Ի N 2111-Ն ՈՐՈՇՄԱՆ N 9 ՀԱՎԵԼՎԱԾԻ N 9.13 ԱՂՅՈՒՍԱԿՈՒՄ ԿԱՏԱՐՎՈՂ ՓՈՓՈԽՈՒԹՅՈՒՆՆԵՐԸ ԵՎ ԼՐԱՑՈՒՄՆԵՐԸ
A8: Աղյուսակ 9․13
C9: ՀՀ կրթության, գիտության, մշակույթի և սպորտի նախարարություն
B10: ՄԱՍ 2. ՊԵՏԱԿԱՆ ՄԱՐՄՆԻ ԳԾՈՎ ԱՐԴՅՈՒՆՔԱՅԻՆ (ԿԱՏԱՐՈՂԱԿԱՆ) ՑՈՒՑԱՆԻՇՆԵՐԸ
B13: Ծրագրի դասիչը | C13: Ծրագրի անվանումը
B14: 1183 | C14: Ապահով դպրոց
B16: Ծրագրի միջոցառումները
B17: Ծրագրի դասիչը՝ | C17: 1183 | D17: Ցուցանիշների փոփոխությունը (ավելացումները նշված են դրական նշանով)
B18: Միջոցառման դասիչը՝ | C18: 32002 | D18: Ինն ամիս | E18: Տարի
B19: Միջոցառման անվանումը` | C19: Կրթական օբյեկտների շենքային ապահովվածության բարելավում
B20: Նկարագրությունը` | C20: Կրթական օբյեկտների շենքերի (մասնաշենքերի) կառուցում (համաշինարարական աշխատանքներ, ջեռուցման համակարգի իրականացում, ներքին հարդարում, տարածքի բարեկարգում) և նախագծում
B21: Միջոցառման տեսակը` | C21: Այլ պետական կազմակերպությունների կողմից օգտագործվող ոչ ֆինանսական ակտիվների հետ գործառնություններ
B22: Ակտիվն օգտագործող կազմակերպությունների անվանումները | C22: Հանրակրթական դպրոցներ
B23: Արդյունքի չափորոշիչներ
B24: Նախագծանախահաշվային փաստաթղթերի քանակ, հատ | D24: 0 | E24: 20
B25: Միջոցառման վրա կատարվող ծախսը (հազար դրամ) | D25: =+'Հավելված N 1'!D23 -> 0 | E25: =+'Հավելված N 1'!E23 -> 196300
B27: Ծրագրի միջոցառումները
B28: Ծրագրի դասիչը՝ | C28: 1183 | D28: Ցուցանիշների փոփոխությունը (նվազեցումները նշված են փակագծերում)
B29: Միջոցառման դասիչը՝ | C29: 32003 | D29: Ինն ամիս | E29: Տարի
B30: Միջոցառման անվանումը՝ | C30: Փոքրաքանակ երեխաներով համալրված հանրակրթական դպրոցների մոդուլային շենքերի կառուցում
B31: Նկարագրությունը՝ | C31: Կրթական հաստատությունների կառուցում համայնքային կենտրոնների մոդելով
B32: Միջոցառման տեսակը՝ | C32: Այլ պետական կազմակերպությունների կողմից օգտագործվող ոչ ֆինանսական ակտիվների հետ գործառնություններ
B33: Ակտիվն օգտագործող կազմակերպությունների անվանում | C33: Փոքրաքանակ երեխաներով համալրված հանրակրթական դպրոցներ
B34: Արդյունքի չափորոշիչներ
B35: Նախագծանախահաշվային փաստաթղթերի քանակ, հատ | D35: -2 | E35: -2
B36: Միջոցառման վրա կատարվող ծախսը (հազար դրամ) | D36: =+'Հավելված N 1'!D29 -> 0 | E36: =+'Հավելված N 1'!E29 -> -309795
B38: Ծրագրի միջոցառումները
B39: Ծրագրի դասիչը՝ | C39: 1183 | D39: Ցուցանիշների փոփոխությունը (ավելացումները նշված են դրական նշանով)
B40: Միջոցառման դասիչը՝ | C40: 32007 | D40: Ինն ամիս | E40: Տարի
B41: Միջոցառման անվանումը՝ | C41: Հանրակրթական կրթություն իրականացնող ուսումնական հաստատությունների նոր մարզադահլիճների կառուցում
B42: Նկարագրությունը՝ | C42: Հանրակրթական ուսուցում իրականացնող ուսումնական հաստատությունների նոր մարզադահլիճների կառուցման նախագծանախահաշվային փաստաթղթերի մշակում
B43: Միջոցառման տեսակը՝ | C43: Այլ պետական կազմակերպությունների կողմից օգտագործվող ոչ ֆինանսական ակտիվների հետ գործառնություններ
B44: Ակտիվն օգտագործող կազմակերպությունների անվանում | C44: Հանրակրթական դպրոցներ
B45: Արդյունքի չափորոշիչներ
B46: Նախագծանախահաշվային փաստաթղթերի քանակ, հատ | D46: 0 | E46: 7
B47: Միջոցառման վրա կատարվող ծախսը (հազար դրամ) | D47: =+'Հավելված N 1'!D35 -> 0 | E47: =+'Հավելված N 1'!E35 -> 35595
B49: Ծրագրի միջոցառումները
...

Sheet Հավելված N 6
C1: Հավելված N 6
C2: ՀՀ կառավարության 2023 թվականի
C3: ______________ ի ___Ն որոշման
B6: ՀԱՅԱՍՏԱՆԻ ՀԱՆՐԱՊԵՏՈՒԹՅԱՆ ԿԱՌԱՎԱՐՈՒԹՅԱՆ 2022 ԹՎԱԿԱՆԻ ԴԵԿՏԵՄԲԵՐԻ 29-Ի N 2111-Ն ՈՐՈՇՄԱՆ N 9.1 ՀԱՎԵԼՎԱԾԻ N 9.1.41 ԵՎ 9.1.58 ԱՂՅՈՒՍԱԿՆԵՐՈՒՄ ԿԱՏԱՐՎՈՂ ՓՈՓՈԽՈՒԹՅՈՒՆՆԵՐԸ ԵՎ ԼՐԱՑՈՒՄՆԵՐԸ
A8: Աղյուսակ 9․1.41
C9: ՀՀ քաղաքաշինության կոմիտե
B10: ՄԱՍ 1. ՊԵՏԱԿԱՆ ՄԱՐՄՆԻ ԳԾՈՎ ԱՐԴՅՈՒՆՔԱՅԻՆ (ԿԱՏԱՐՈՂԱԿԱՆ) ՑՈՒՑԱՆԻՇՆԵՐԸ
B13: Ծրագրի դասիչը | C13: Ծրագրի անվանումը
B14: 1183 | C14: Ապահով դպրոց
B16: Ծրագրի միջոցառումները
B17: Ծրագրի դասիչը՝ | C17: 1183 | D17: Ցուցանիշների փոփոխությունը (ավելացումները նշված են դրական նշանով)
B18: Միջոցառման դասիչը՝ | C18: 32002 | D18: Ինն ամիս | E18: Տարի
B19: Միջոցառման անվանումը` | C19: Կրթական օբյեկտների շենքային ապահովվածության բարելավում
B20: Նկարագրությունը` | C20: Կրթական օբյեկտների շենքերի (մասնաշենքերի) կառուցում (համաշինարարական աշխատանքներ, ջեռուցման համակարգի իրականացում, ներքին հարդարում, տարածքի բարեկարգում) և նախագծում
B21: Միջոցառման տեսակը` | C21: Այլ պետական կազմակերպությունների կողմից օգտագործվող ոչ ֆինանսական ակտիվների հետ գործառնություններ
B22: Ակտիվն օգտագործող կազմակերպությունների անվանումները | C22: Հանրակրթական դպրոցներ
B23: Արդյունքի չափորոշիչներ
B24: Նախագծանախահաշվային փաստաթղթերի քանակ, հատ | D24: 0 | E24: 20
B25: Միջոցառման վրա կատարվող ծախսը (հազար դրամ) | D25: =+'Հավելված N 2'!G26 -> 0 | E25: =+'Հավելված N 2'!H26 -> 196300
B27: Ծրագրի միջոցառումները
B28: Ծրագրի դասիչը՝ | C28: 1183 | D28: Ցուցանիշների փոփոխությունը (նվազեցումները նշված են փակագծերում)
B29: Միջոցառման դասիչը՝ | C29: 32003 | D29: Ինն ամիս | E29: Տարի
B30: Միջոցառման անվանումը՝ | C30: Փոքրաքանակ երեխաներով համալրված հանրակրթական դպրոցների մոդուլային շենքերի կառուցում
B31: Նկարագրությունը՝ | C31: Կրթական հաստատությունների կառուցում համայնքային կենտրոնների մոդելով
B32: Միջոցառման տեսակը՝ | C32: Այլ պետական կազմակերպությունների կողմից օգտագործվող ոչ ֆինանսական ակտիվների հետ գործառնություններ
B33: Ակտիվն օգտագործող կազմակերպությունների անվանում | C33: Փոքրաքանակ երեխաներով համալրված հանրակրթական դպրոցներ
B34: Արդյունքի չափորոշիչներ
B35: Նախագծանախահաշվային փաստաթղթերի քանակ, հատ | D35: -2 | E35: -2
B36: Միջոցառման վրա կատարվող ծախսը (հազար դրամ) | D36: =+'Հավելված N 2'!G35 -> -10000 | E36: =+'Հավելված N 2'!H35 -> -10000
B38: Ծրագրի միջոցառումները
B39: Ծրագրի դասիչը՝ | C39: 1183 | D39: Ցուցանիշների փոփոխությունը (ավելացումները նշված են դրական նշանով)
B40: Միջոցառման դասիչը՝ | C40: 32007 | D40: Ինն ամիս | E40: Տարի
B41: Միջոցառման անվանումը՝ | C41: Հանրակրթական կրթություն իրականացնող ուսումնական հաստատությունների նոր մարզադահլիճների կառուցում
B42: Նկարագրությունը՝ | C42: Հանրակրթական ուսուցում իրականացնող ուսումնական հաստատությունների նոր մարզադահլիճների կառուցման նախագծանախահաշվային փաստաթղթերի մշակում
B43: Միջոցառման տեսակը՝ | C43: Այլ պետական կազմակերպությունների կողմից օգտագործվող ոչ ֆինանսական ակտիվների հետ գործառնություններ
B44: Ակտիվն օգտագործող կազմակերպությունների անվանում | C44: Հանրակրթական դպրոցներ
B45: Արդյունքի չափորոշիչներ
B46: Նախագծանախահաշվային փաստաթղթերի քանակ, հատ | D46: 0 | E46: 7
B47: Միջոցառման վրա կատարվող ծախսը (հազար դրամ) | D47: =+'Հավելված N 2'!G51 -> 0 | E47: =+'Հավելված N 2'!H51 -> 35595
B49: Ծրագրի միջոցառումները
...

Sheet Հավելված N 7
H1: Հավելված N 7
H2: ՀՀ կառավարության 2023 թվականի
H3: ______________ ի ___Ն որոշման
A6: ՀԱՅԱՍՏԱՆԻ ՀԱՆՐԱՊԵՏՈՒԹՅԱՆ ԿԱՌԱՎԱՐՈՒԹՅԱՆ 2022 ԹՎԱԿԱՆԻ ԴԵԿՏԵՄԲԵՐԻ 29-Ի N 2111-Ն N 10 ՀԱՎԵԼՎԱԾՈՒՄ ԿԱՏԱՐՎՈՂ ՓՈՓՈԽՈՒԹՅՈՒՆՆԵՐԸ ԵՎ ԼՐԱՑՈՒՄՆԵՐԸ
A10: Կոդը | B10: Անվանումը | E10: Գնման ձևը | F10: Չափման միավորը | G10: Միավորի գինը | H10: Ցուցանիշների փոփոխությունը (ավելացումները նշված են դրական նշանով, իսկ նվազեցումները՝ փակագծերում)
H11: Քանակը | I11: Գումարը (հազար դրամ)
A12: 1 | B12: 2 | E12: 3 | F12: 4 | G12: 5 | H12: 6 | I12: 7
A13: ՀՀ քաղաքաշինության կոմիտե | I13: =+I14 -> 299795
A14: Բաժին N 09 | B14: Խումբ N 06 | C14: Դաս N 01 | D14: Կրթությանը տրամադրվող օժանդակ ծառայություններ | I14: =+I15+I61+I67+I83 -> 299795
A15: 1183-32002 | B15: Կրթական օբյեկտների շենքային ապահովվածության բարելավում | I15: =+I16 -> 196300
B16: ՄԱՍ III. ԾԱՌԱՅՈՒԹՅՈՒՆՆԵՐ | I16: =SUM(I17:I60) -> 196300
A17: 71241200 | B17: նախագծերի պատրաստում, ծախսերի գնահատում | E17: ԳՀ | F17: դրամ | G17: 9000000 | H17: 1 | I17: =+H17*G17/1000 -> 9000
A18: 71241200 | B18: նախագծերի պատրաստում, ծախսերի գնահատում | E18: ԳՀ | F18: դրամ | G18: 9000000 | H18: 1 | I18: =+H18*G18/1000 -> 9000
A19: 71241200 | B19: նախագծերի պատրաստում, ծախսերի գնահատում | E19: ԳՀ | F19: դրամ | G19: 9000000 | H19: 1 | I19: =+H19*G19/1000 -> 9000
A20: 71241200 | B20: նախագծերի պատրաստում, ծախսերի գնահատում | E20: ԳՀ | F20: դրամ | G20: 11000000 | H20: 1 | I20: =+H20*G20/1000 -> 11000
A21: 71241200 | B21: նախագծերի պատրաստում, ծախսերի գնահատում | E21: ԳՀ | F21: դրամ | G21: 11000000 | H21: 1 | I21: =+H21*G21/1000 -> 11000
A22: 71241200 | B22: նախագծերի պատրաստում, ծախսերի գնահատում | E22: ԳՀ | F22: դրամ | G22: 9000000 | H22: 1 | I22: =+H22*G22/1000 -> 9000
A23: 71241200 | B23: նախագծերի պատրաստում, ծախսերի գնահատում | E23: ԳՀ | F23: դրամ | G23: 9000000 | H23: 1 | I23: =+H23*G23/1000 -> 9000
A24: 71241200 | B24: նախագծերի պատրաստում, ծախսերի գնահատում | E24: ԳՀ | F24: դրամ | G24: 11000000 | H24: 1 | I24: =+H24*G24/1000 -> 11000
A25: 71241200 | B25: նախագծերի պատրաստում, ծախսերի գնահատում | E25: ԳՀ | F25: դրամ | G25: 9000000 | H25: 1 | I25: =+H25*G25/1000 -> 9000
A26: 71241200 | B26: նախագծերի պատրաստում, ծախսերի գնահատում | E26: ԳՀ | F26: դրամ | G26: 9000000 | H26: 1 | I26: =+H26*G26/1000 -> 9000
A27: 71241200 | B27: նախագծերի պատրաստում, ծախսերի գնահատում | E27: ԳՀ | F27: դրամ | G27: 9000000 | H27: 1 | I27: =+H27*G27/1000 -> 9000
A28: 71241200 | B28: նախագծերի պատրաստում, ծախսերի գնահատում | E28: ԳՀ | F28: դրամ | G28: 9000000 | H28: 1 | I28: =+H28*G28/1000 -> 9000
... A36: 71241200 | B36: նախագծերի պատրաստում, ծախսերի գնահատում | E36: ԳՀ | F36: դրամ | G36: 11000000 | H36: 1 | I36: =+H36*G36/1000 -> 11000
A37: 71241200-144 | B37: նախագծերի պատրաստում, ծախսերի գնահատում | E37: ԳՀ | F37: դրամ | I37: -2000
A38: 71241200-145 | B38: նախագծերի պատրաստում, ծախսերի գնահատում | E38: ԳՀ | F38: դրամ | I38: -2000
A39: 50531140 | B39: փորձաքննության ծառայություններ | E39: ԳՀ | F39: դրամ | G39: 500000 | H39: 1 | I39: =+H39*G39/1000 -> 500
A40: 50531140 | B40: փորձաքննության ծառայություններ | E40: ԳՀ | F40: դրամ | G40: 500000 | H40: 1 | I40: =+H40*G40/1000 -> 500
A41: 50531140 | B41: փորձաքննության ծառայություններ | E41: ԳՀ | F41: դրամ | G41: 500000 | H41: 1 | I41: =+H41*G41/1000 -> 500
A42: 50531140 | B42: փորձաքննության ծառայություններ | E42: ԳՀ | F42: դրամ | G42: 600000 | H42: 1 | I42: =+H42*G42/1000 -> 600
A43: 50531140 | B43: փորձաքննության ծառայություններ | E43: ԳՀ | F43: դրամ | G43: 600000 | H43: 1 | I43: =+H43*G43/1000 -> 600
A44: 50531140 | B44: փորձաքննության ծառայություններ | E44: ԳՀ | F44: դրամ | G44: 500000 | H44: 1 | I44: =+H44*G44/1000 -> 500
A45: 50531140 | B45: փորձաքննության ծառայություններ | E45: ԳՀ | F45: դրամ | G45: 500000 | H45: 1 | I45: =+H45*G45/1000 -> 500
A46: 50531140 | B46: փորձաքննության ծառայություններ | E46: ԳՀ | F46: դրամ | G46: 600000 | H46: 1 | I46: =+H46*G46/1000 -> 600
A47: 50531140 | B47: փորձաքննության ծառայություններ | E47: ԳՀ | F47: դրամ | G47: 500000 | H47: 1 | I47: =+H47*G47/1000 -> 500
A48: 50531140 | B48: փորձաքննության ծառայություններ | E48: ԳՀ | F48: դրամ | G48: 500000 | H48: 1 | I48: =+H48*G48/1000 -> 500
A49: 50531140 | B49: փորձաքննության ծառայություններ | E49: ԳՀ | F49: դրամ | G49: 500000 | H49: 1 | I49: =+H49*G49/1000 -> 500
A50: 50531140 | B50: փորձաքննության ծառայություններ | E50: ԳՀ | F50: դրամ | G50: 500000 | H50: 1 | I50: =+H50*G50/1000 -> 500
... A58: 50531140 | B58: փորձաքննության ծառայություններ | E58: ԳՀ | F58: դրամ | G58: 600000 | H58: 1 | I58: =+H58*G58/1000 -> 600
A59: 50531140-140 | B59: փորձաքննության ծառայություններ | E59: ԳՀ | F59: դրամ | I59: -100
...
