Workbook
Name _GoBack: '2'!#REF!
Name _tab10: #REF!
Name _tab11: #REF!
Name _tab12: #REF!
Name _tab13: #REF!
Name _tab14: #REF!
Name _tab15: #REF!
Name _tab16: #REF!
Name _tab17: #REF!
Name _tab18: #REF!
Name _tab19: #REF!
Name _tab20: #REF!
Name _tab21: #REF!
Name _tab22: #REF!
Name _tab23: #REF!
Name _tab24: #REF!
Name _tab5: #REF!
Name _tab6: #REF!
Name _tab7: #REF!
Name _tab8: #REF!
Name _tab9: #REF!
Name par_count: #REF!,#REF!,#REF!,#REF!,#REF!,#REF!,#REF!,#REF!,#REF!,#REF!,#REF!,#REF!,#REF!,#REF!,#REF!
Name par_qual: #REF!,#REF!,#REF!,#REF!,#REF!
Name par_time: #REF!,#REF!,#REF!,#REF!
Name par2.12s: #REF!
Name par2.4s: #REF!,#REF!,#REF!,#REF!,#REF!,#REF!,#REF!,#REF!,#REF!,#REF!,#REF!,#REF!,#REF!,#REF!,#REF!,#REF!
Name par2.5s: #REF!,#REF!
Name par2.6s: #REF!,#REF!,#REF!,#REF!
Name par2.7s: #REF!,#REF!
Name par2.9s: #REF!,#REF!,#REF!,#REF!,#REF!,#REF!,#REF!,#REF!,#REF!,#REF!,#REF!,#REF!,#REF!,#REF!,#REF!,#REF!
Name par4.10s: #REF!,#REF!
Name par4.11d: #REF!,#REF!,#REF!,#REF!,#REF!
Name par4.12d: #REF!
Name par4.13s: #REF!
Name par4.14: #REF!,#REF!,#REF!,#REF!,#REF!,#REF!
Name par4.15: #REF!,#REF!,#REF!
Name par4.16: #REF!,#REF!,#REF!
Name par4.17: #REF!,#REF!,#REF!,#REF!
Name par4.18d: #REF!,#REF!
Name par4.19s: #REF!
Name par4.20f: #REF!
Name par4.21f: #REF!
Name par4.22: #REF!
Name par4.4: #REF!
Name par4.5: #REF!
Name par4.6s: #REF!
Name par4.7s: #REF!
Name par4.8: #REF!,#REF!,#REF!,#REF!,#REF!
Name par4.9: #REF!,#REF!,#REF!,#REF!,#REF!,#REF!
Name par5.1: #REF!,#REF!
Name par5.3: #REF!,#REF!,#REF!,#REF!,#REF!,#REF!
Name par5.4: #REF!,#REF!,#REF!,#REF!,#REF!
Name par5.5: #REF!
Name par5.6: #REF!,#REF!
Name program: #REF!,#REF!,#REF!,#REF!,#REF!,#REF!,#REF!,#REF!,#REF!,#REF!,#REF!,#REF!,#REF!,#REF!,#REF!,#REF!,#REF!,#REF!,#REF!,#REF!

Sheet 1
E1: Հավելված № 1
C2: ՀՀ կառավարության 2023թվականի
E3: № ------------ -Ն որոշման
A5: ՀԱՅԱՍՏԱՆԻ ՀԱՆՐԱՊԵՏՈՒԹՅԱՆ ԿԱՌԱՎԱՐՈՒԹՅԱՆ 2022 ԹՎԱԿԱՆԻ ԴԵԿՏԵՄԲԵՐԻ 29-Ի № 2111-Ն ՈՐՈՇՄԱՆ N 5 ՀԱՎԵԼՎԱԾԻ N 2 ԱՂՅՈՒՍԱԿՈՒՄ ԿԱՏԱՐՎՈՂ ՓՈՓՈԽՈՒԹՅՈՒՆՆԵՐԸ
E6: (հազ. դրամ)
A8: Ծրագրային դասիչը | C8: Բյուջետային գլխավոր կարգադրիչների, ծրագրերի, միջոցառումների, միջոցառումները կատարող պետական մարմինների և ուղղությունների անվանումները | D8: Ցուցանիշների փոփոխությունը (ավելացումները նշված են դրական նշանով)
A10: ծրագիրը | B10: միջոցառումը | D10: Ինը ամիս | E10: Տարի
C11: ԸՆԴԱՄԵՆԸ | D11: =+D15 -> 0 | E11: =+E15 -> 0
C12: այդ թվում`
A13: 1103 | B13: 21001 | C13: Քաղաքաշինության բնագավառում պետական ծրագրերի իրականացման ապահովում | D13: =+D15 -> 0 | E13: =+E15 -> 0
C14: այդ թվում` ըստ կատարողների
C15: ՀՀ քաղաքաշինության կոմիտե | D15: =SUM(D17:D18) -> 0 | E15: =SUM(E17:E18) -> 0
C16: այդ թվում` ըստ ուղղությունների
C17: ՀՀ Լոռու մարզի Ստեփանավան համայնքի Աշոտաբերդ թաղամասի կառուցապատման աշխատանքներ | D17: -100000 | E17: -227993.6
C18: ՀՀ Սյունիքի մարզի սահմանամերձ Գորիս համայնքի Շուռնուխ բնակավայրում բնակելի թաղամասի կառուցում | D18: 100000 | E18: 227993.6

Sheet 2
F1: Հավելված № 2
D2: ՀՀ կառավարության 2023 թվականի
E3: № ------------ -Ն որոշման
A5: «ՀԱՅԱՍՏԱՆԻ ՀԱՆՐԱՊԵՏՈՒԹՅԱՆ 2023 ԹՎԱԿԱՆԻ ՊԵՏԱԿԱՆ ԲՅՈՒՋԵԻ ՄԱՍԻՆ» ՀԱՅԱՍՏԱՆԻ ՀԱՆՐԱՊԵՏՈՒԹՅԱՆ ՕՐԵՆՔԻ ՀԱՎԵԼՎԱԾ 1-Ի N 3 ԱՂՅՈՒՍԱԿՈՒՄ ԿԱՏԱՐՎՈՂ ՎԵՐԱԲԱՇԽՈՒՄԸ
H6: (հազ. դրամ)
A7: Ծրագրային դասիչը | C7: Բյուջետային գլխավոր կարգադրիչների, ծրագրերի, միջոցառումների, միջոցառումները կատարող պետական մարմինների և ուղղությունների անվանումները | D7: Ընդամենը | E7: Կառուցման աշխատանքներ | F7: Վերակառուցման, վերանորոգման և վերականգնման աշխատանքներ | G7: Նախագծահետազոտական, գեոդեզիա-քարտեզագրական աշխատանքներ | H7: Ոչ ֆինանսական այլ ակտիվերի ձեռքբերում
A8: ծրագիրը | B8: միջոցառումը | C8: ԸՆԴԱՄԵՆԸ | D8: =SUM(E8:H8) -> 0 | E8: =+E10 -> 0 | F8: 0 | G8: =+G10 -> 0 | H8: 0
C9: այդ թվում`
C10: ՀՀ քաղաքաշինության կոմիտե | D10: =SUM(E10:H10) -> 0 | E10: =+E12 -> 0 | F10: 0 | G10: =+G12 -> 0 | H10: 0
C11: այդ թվում`
A12: 1103 | B12: 21001 | C12: Քաղաքաշինության բնագավառում պետական ծրագրերի իրականացման ապահովում | D12: =+D13+D14 -> 0 | E12: =+E13+E14 -> 0 | F12: =SUM(F13:F13) -> 0 | G12: =SUM(G13:G13) -> 0 | H12: =SUM(H13:H13) -> 0
C13: Հայաստանի Հանրապետության Սյունիքի մարզի սահմանամերձ Գորիս համայնքի Շուռնուխ բնակավայրում բնակելի թաղամասի կառուցում | D13: =+'1'!D18 -> 100000 | E13: =+'1'!E18 -> 227993.6 | F13: 0 | G13: 0 | H13: 0
C14: =+'1'!C17 -> ՀՀ Լոռու մարզի Ստեփանավան համայնքի Աշոտաբերդ թաղամասի կառուցապատման աշխատանքներ | D14: =+'1'!D17 -> -100000 | E14: =+'1'!E17 -> -227993.6 | F14: 0 | G14: 0 | H14: 0

Sheet 3
G1: Հավելված № 3
E2: ՀՀ կառավարության 2023 թվականի
F3: № ------------ -Ն որոշման
A6: ՀԱՅԱՍՏԱՆԻ ՀԱՆՐԱՊԵՏՈՒԹՅԱՆ ԿԱՌԱՎԱՐՈՒԹՅԱՆ 2022 ԹՎԱԿԱՆԻ ԴԵԿՏԵՄԲԵՐԻ 29-Ի № 2111-Ն ՈՐՈՇՄԱՆ N 10 ՀԱՎԵԼՎԱԾՈՒՄ ԿԱՏԱՐՎՈՂ ՓՈՓՈԽՈՒԹՅՈՒՆՆԵՐԸ
A8: կոդը | B8: անվանումը | E8: Գնման ձևը | F8: Չափի միավորը | G8: Միավորի գինը | H8: Ցուցանիշների փոփոխությունը (ավելացումները նշված են դրական նշանով)
H9: Քանակը | I9: Գումարը (հազար դրամով)
A10: 1 | B10: 2 | E10: 3 | F10: 4 | G10: 5 | H10: 6 | I10: 7
A11: ՀՀ Քաղաքաշինության կոմիտե | I11: =+I12 -> 0
A12: Բաժին 06 | B12: Խումբ 01 | D12: Դաս 01 | F12: Բնակարանային շինարարություն | I12: =+I13 -> 0
A13: 1103 21001 | B13: Քաղաքաշինության բնագավառում պետական ծրագրերի իրականացման ապահովում | I13: =+I14+I17 -> 0
B14: ՄԱՍ II. ԱՇԽԱՏԱՆՔՆԵՐ | I14: 1014.7
A15: 45221142-2 | B15: ընդհանուր շինարարական աշխատանքներ | E15: ՀՄԱ | F15: դրամ | I15: 223080.5
A16: 45221142-1 | B16: ընդհանուր շինարարական աշխատանքներ | E16: ԲՄ | F16: դրամ | I16: -222065.8
B17: ՄԱՍ III. ԾԱՌԱՅՈՒԹՅՈՒՆՆԵՐ | I17: =+I18+I19+I20+I21 -> -1014.7
A18: 71351540-2 | B18: տեխնիկական հսկողության ծառայություններ | E18: ՀՄԱ | F18: դրամ | I18: 2998.2
A19: 98111140-2 | B19: հեղինակային հսկողության ծառայություններ | E19: ՄԱ | F19: դրամ | I19: 1914.9
A20: 71351540-1 | B20: տեխնիկական հսկողության ծառայություններ | E20: ԳՀ | F20: դրամ | I20: -4559.8
A21: 98111140-1 | B21: հեղինակային հսկողության ծառայություններ | E21: ՄԱ | F21: դրամ | I21: -1368
I26: 227993.6
I27: =+I26*97.4/100 -> 222065.77
I28: =+I26*2/100 -> 4559.872
I29: =+I26*0.6/100 -> 1367.9616
