Workbook
Name a: #REF!
Name a: #REF!
Name a: #REF!
Name AgencyCode: #REF!
Name AgencyCode: #REF!
Name AgencyCode: #REF!
Name AgencyCode: #REF!
Name AgencyCode: #REF!
Name AgencyName: #REF!
Name AgencyName: #REF!
Name AgencyName: #REF!
Name AgencyName: #REF!
Name davit: #REF!
Name davit: #REF!
Name davit: #REF!
Name Functional1: #REF!
Name Functional1: #REF!
Name Functional1: #REF!
Name Functional1: #REF!
Name ggg: #REF!
Name ggg: #REF!
Name ggg: #REF!
Name PANature: #REF!
Name PANature: #REF!
Name PANature: #REF!
Name PANature: #REF!
Name PAType: #REF!
Name PAType: #REF!
Name PAType: #REF!
Name PAType: #REF!
Name Performance2: #REF!
Name Performance2: #REF!
Name Performance2: #REF!
Name Performance2: #REF!
Name PerformanceType: #REF!
Name PerformanceType: #REF!
Name PerformanceType: #REF!
Name PerformanceType: #REF!
Name Հավելված: #REF!
Name Հավելված: #REF!
Name Հավելված: #REF!
Name Հավելված: #REF!
Name Մաս: #REF!
Name Մաս: #REF!
Name Մաս: #REF!
Name շախմատիստ: #REF!
Name շախմատիստ: #REF!
Name շախմատիստ: #REF!

Sheet Հավելված N 1
C1: Հավելված N 1
C2: ՀՀ կառավարության 2023 թվականի
C3: ______________ ի ___Ն որոշման
A6: «ՀԱՅԱUՏԱՆԻ ՀԱՆՐԱՊԵՏՈՒԹՅԱՆ 2023 ԹՎԱԿԱՆԻ ՊԵՏԱԿԱՆ ԲՅՈՒՋԵԻ ՄԱUԻՆ» ՀԱՅԱUՏԱՆԻ ՀԱՆՐԱՊԵՏՈՒԹՅԱՆ OՐԵՆՔԻ N 1 ՀԱՎԵԼՎԱԾԻ N 2 ԱՂՅՈՒՍԱԿՈՒՄ ԿԱՏԱՐՎՈՂ ՎԵՐԱԲԱՇԽՈՒՄԸ ԵՎ ՀԱՅԱՍՏԱՆԻ ՀԱՆՐԱՊԵՏՈՒԹՅԱՆ ԿԱՌԱՎԱՐՈՒԹՅԱՆ 2022 ԹՎԱԿԱՆԻ ԴԵԿՏԵՄԲԵՐԻ 29-Ի N 2111-Ն ՈՐՈՇՄԱՆ N 5 ՀԱՎԵԼՎԱԾԻ N 1 ԱՂՅՈՒՍԱԿՈՒՄ ԿԱՏԱՐՎՈՂ ՓՈՓՈԽՈՒԹՅՈՒՆՆԵՐԸ ԵՎ ԼՐԱՑՈՒՄՆԵՐԸ
E9: հազ. դրամներով
A10: Ծրագրային դասիչը | C10: Բյուջետային հատկացումների գլխավոր կարգադրիչների, ծրագրերի և միջոցառումների անվանումները | D10: Ցուցանիշների փոփոխությունը (ավելացումները նշված են դրական նշանով, իսկ նվազեցումները՝ փակագծերում)
A11: Ծրագիր | B11: Միջոցառում | D11: Ինն ամիս | E11: Տարի
A12: 1192 | C12: ԸՆԴԱՄԵՆԸ | D12: =+D14+D181 -> 0 | E12: =+E14+E181 -> 0
C13: այդ թվում
C14: ՀՀ ԿՐԹՈՒԹՅԱՆ, ԳԻՏՈՒԹՅԱՆ, ՄՇԱԿՈՒՅԹԻ ԵՎ ՍՊՈՐՏԻ ՆԱԽԱՐԱՐՈՒԹՅՈՒՆ | D14: =+D16+D35+D60+D73+D86+D99+D112+D131+D144 -> -190362 | E14: =+E16+E35+E60+E73+E86+E99+E112+E131+E144 -> -324760
A15: 1045 | C15: Ծրագրի անվանումը`
C16: Նախնական (արհեստագործական) և միջին մասնագիտական կրթություն | D16: =+D23+D29 -> -3360.5 | E16: =+E23+E29 -> 113044
C17: Ծրագրի նպատակը`
C18: Աշխատաշուկայի արդի պահանջներին համապատասխան նախնական մասնագիտական (արհեստագործական) և միջին մասնագիտական կրթության որակավորում ունեցող մասնագետների պատրաստում, կրթության մատչելիության ապահովում:
C19: Վերջնական արդյունքի նկարագրությունը`
C20: Նախնական (արհեստագործական) և միջին մասնագիտական կրթության գրավչության բարձրացում, մատչելի և մրցունակ նախնական (արհեստագործական) և միջին մասնագիտական կրթության ապահովում
C21: Ծրագրի միջոցառումներ
B22: 32001 | C22: Միջոցառման անվանումը`
C23: Նախնական մասնագիտական (արհեստագործական) և միջին մասնագիտական ուսումնական հաստատությունների շենքային պայմանների բարելավում | D23: =+'Հավելված N 2'!G159 -> 1757.3 | E23: =+'Հավելված N 2'!H159 -> 118161.8
C24: Միջոցառման նկարագրությունը`
C25: ՆՄՄԿՈՒ հաստատությունների շենքերի հիմնանորոգման և նախագծման (շինարարական աշխատանքներ, ջեռուցման համակարգի ստեղծում, ներքին հարդարում, տարածքի բարեկարգում) աշխատանքների իրականացում
C26: Միջոցառման տեսակը
C27: Այլ պետական կազմակերպությունների կողմից օգտագործվող ոչ ֆինանսական ակտիվների հետ գործառնություններ
B28: 32005 | C28: Միջոցառման անվանումը`
C29: Նախնական մասնագիտական (արհեստագործական) և միջին մասնագիտական ուսումնական հաստատությունների շենքերի կառուցում | D29: =+'Հավելված N 2'!G172 -> -5117.8 | E29: =+'Հավելված N 2'!H172 -> -5117.8
C30: Միջոցառման նկարագրությունը`
C31: ՆՄՄԿՈՒ հաստատությունների շենքերի (մասնաշենքերի) կառուցման և նախագծման աշխատանքների իրականացում
C32: Միջոցառման տեսակը
C33: Այլ պետական կազմակերպությունների կողմից օգտագործվող ոչ ֆինանսական ակտիվների հետ գործառնություններ
A34: 1075 | C34: Ծրագրի անվանումը`
C35: Մշակութային ժառանգության ծրագիր | D35: =+D42+D48+D54 -> 77235.1 | E35: =+E42+E48+E54 -> 152705.2
C36: Ծրագրի նպատակը`
C37: Մշակութային ժառանգության պահպանում, օգտագործում, համալրում և հանրահռչակում
C38: Վերջնական արդյունքի նկարագրությունը`
C39: Մշակութային ժառանգության շարունակական պահպանում, մշակութային զբոսաշրջության զարգացում և խթանում
C40: Ծրագրի միջոցառումներ
B41: 21001 | C41: Միջոցառման անվանումը`
C42: Հուշարձանների ամրակայում, նորոգում և վերականգնում | D42: =+'Հավելված N 2'!G123 -> 57218.7 | E42: =+'Հավելված N 2'!H123 -> 57218.7
C43: Միջոցառման նկարագրությունը`
C44: Հուշարձանների գիտանախագծային փաստաթղթերի կազմում, հրատապ ուսումնասիրում, վավերագրման և ուսումնասիրման աշխատանքներ, հետախուզում և հնագիտական պեղում, ամրակայում, նորոգում և վերականգնում
...

Sheet Հավելված N 2
F1: Հավելված N 2
F2: ՀՀ կառավարության 2023 թվականի
F3: ______________ ի ___Ն որոշման
A5: ՀԱՅԱՍՏԱՆԻ ՀԱՆՐԱՊԵՏՈՒԹՅԱՆ ԿԱՌԱՎԱՐՈՒԹՅԱՆ 2022 ԹՎԱԿԱՆԻ ԴԵԿՏԵՄԲԵՐԻ 29-Ի N2111-Ն ՈՐՈՇՄԱՆ N 3 ԵՎ N 4 ՀԱՎԵԼՎԱԾՆԵՐՈՒՄ ԿԱՏԱՐՎՈՂ ՓՈՓՈԽՈՒԹՅՈՒՆՆԵՐԸ ԵՎ ԼՐԱՑՈՒՄՆԵՐԸ
H8: հազ. դրամներով
A9: Գործառական դասիչը | D9: Ծրագրային դասիչը | F9: Բյուջետային հատկացումների գլխավոր կարգադրիչների, ծրագրերի, միջոցառումների և միջոցառումները կատարող պետական մարմինների անվանումները | G9: Ցուցանիշների փոփոխությունը (ավելացումները նշված են դրական նշանով, իսկ նվազեցումները՝ փակագծերում)
A10: Բաժին | B10: Խումբ | C10: Դաս | D10: Ծրագիր | E10: Միջոցառում | G10: Ինն ամիս | H10: Տարի
F11: ԸՆԴԱՄԵՆԸ | G11: =+G13+G279 -> 0 | H11: =+H13+H279 -> 0
F12: այդ թվում՝
F13: ՀՀ ԿՐԹՈՒԹՅԱՆ, ԳԻՏՈՒԹՅԱՆ, ՄՇԱԿՈՒՅԹԻ ԵՎ ՍՊՈՐՏԻ ՆԱԽԱՐԱՐՈՒԹՅՈՒՆ | G13: =+G14+G132 -> -190362 | H13: =+H14+H132 -> -324760
A14: 08 | F14: ՀԱՆԳԻՍՏ, ՄՇԱԿՈՒՅԹ ԵՎ ԿՐՈՆ | G14: =+G16+G33 -> -40637.8 | H14: =+H16+H33 -> 716.2
F15: այդ թվում`
B16: 01 | F16: Հանգստի և սպորտի ծառայություններ | G16: =+G18 -> 0 | H16: =+H18 -> 9318
F17: այդ թվում`
C18: 01 | F18: Հանգստի և սպորտի ծառայություններ | G18: =+G20 -> 0 | H18: =+H20 -> 9318
F19: այդ թվում`
F20: ՀՀ կրթության, գիտության, մշակույթի և սպորտի նախարարություն | G20: =+G22 -> 0 | H20: =+H22 -> 9318
F21: այդ թվում`
D22: 1163 | E22: Մասսայական սպորտ | G22: =+G24 -> 0 | H22: =+H24 -> 9318
F23: այդ թվում`
E24: 32003 | F24: Թեթև կոնստրուկցիաներով մարզադահլիճների հիմնում | G24: =+G26 -> 0 | H24: =+H26 -> 9318
F25: այդ թվում` ըստ կատարողների
F26: ՀՀ կրթության, գիտության, մշակույթի և սպորտի նախարարություն | G26: =+G28 -> 0 | H26: =+H28 -> 9318
F27: այդ թվում՝ բյուջետային ծախսերի տնտեսագիտական դասակարգման հոդվածներ
F28: ԸՆԴԱՄԵՆԸ ԾԱԽՍԵՐ | G28: =+G29 -> 0 | H28: =+H29 -> 9318
F29: ՈՉ ՖԻՆԱՆՍԱԿԱՆ ԱԿՏԻՎՆԵՐԻ ԳԾՈՎ ԾԱԽՍԵՐ | G29: =+G30 -> 0 | H29: =+H30 -> 9318
F30: ՀԻՄՆԱԿԱՆ ՄԻՋՈՑՆԵՐ | G30: =+G31 -> 0 | H30: =+H31 -> 9318
F31: ԱՅԼ ՀԻՄՆԱԿԱՆ ՄԻՋՈՑՆԵՐ | G31: =+G32 -> 0 | H31: =+H32 -> 9318
F32: - Նախագծահետազոտական ծախսեր | G32: =+'Հավելված N 4'!E57 -> 0 | H32: =+'Հավելված N 4'!F57 -> 9318
B33: 02 | F33: Մշակութային ծառայություններ | G33: =+G35+G50+G69+G84+G117 -> -40637.8 | H33: =+H35+H50+H69+H84+H117 -> -8601.8
F34: այդ թվում`
C35: 01 | F35: Գրադարաններ | G35: =+G37 -> 31522 | H35: =+H37 -> 31522
F36: այդ թվում`
F37: ՀՀ կրթության, գիտության, մշակույթի և սպորտի նախարարություն | G37: =+G39 -> 31522 | H37: =+H39 -> 31522
F38: այդ թվում`
D39: 1124 | E39: Գրահրատարակչության և գրադարանների ծրագիր | G39: =+G41 -> 31522 | H39: =+H41 -> 31522
F40: այդ թվում`
E41: 32001 | F41: Հանրային գրադարանների նյութատեխնիկական բազայի զարգացում | G41: =+G43 -> 31522 | H41: =+H43 -> 31522
F42: այդ թվում` ըստ կատարողների
F43: ՀՀ կրթության, գիտության, մշակույթի և սպորտի նախարարություն | G43: =+G45 -> 31522 | H43: =+H45 -> 31522
...

Sheet Հավելված N 3
F1: Հավելված N 3
F2: ՀՀ կառավարության 2023 թվականի
F3: ______________ ի ___Ն որոշման
A5: «ՀԱՅԱUՏԱՆԻ ՀԱՆՐԱՊԵՏՈՒԹՅԱՆ 2023 ԹՎԱԿԱՆԻ ՊԵՏԱԿԱՆ ԲՅՈՒՋԵԻ ՄԱUԻՆ» ՀԱՅԱUՏԱՆԻ ՀԱՆՐԱՊԵՏՈՒԹՅԱՆ OՐԵՆՔԻ N 1 ՀԱՎԵԼՎԱԾԻ N 3 ԱՂՅՈՒՍԱԿՈՒՄ ԿԱՏԱՐՎՈՂ ՓՈՓՈԽՈՒԹՅՈՒՆՆԵՐԸ ԵՎ ԼՐԱՑՈՒՄՆԵՐԸ
H8: հազ. դրամներով
A9: Ծրագրային դասիչ | C9: Բյուջետային գլխավոր կարգադրիչների, ծրագրերի, միջոցառումների և ուղղությունների անվանումները | D9: Ընդամենը | E9: Ցուցանիշների փոփոխությունը (ավելացումները նշված են դրական նշանով, իսկ նվազեցումները՝ փակագծերում)
A10: Ծրագիր | B10: Միջոցառում | E10: Կառուցման աշխատանքներ | F10: Վերակառուցման, վերանորոգման և վերականգնման աշխատանքներ | G10: Նախագծահե- տազոտական, գեոդեզիա- քարտեզագրա- կան աշխա- տանքներ | H10: Ոչ ֆինանսական այլ ակտիվների ձեռքբերում
C11: ԸՆԴԱՄԵՆԸ | D11: =SUM(E11:H11) -> -486836.8 | E11: =+E13 -> -589212.3 | F11: =+F13 -> 76687.1 | G11: =+G13 -> 25688.4 | H11: =+H13 -> 0
C12: այդ թվում՝
C13: ՀՀ ԿՐԹՈՒԹՅԱՆ, ԳԻՏՈՒԹՅԱՆ, ՄՇԱԿՈՒՅԹԻ ԵՎ ՍՊՈՐՏԻ ՆԱԽԱՐԱՐՈՒԹՅՈՒՆ | D13: =SUM(E13:H13) -> -486836.8 | E13: =+E15+E21+E25+E29+E36+E40+E44+E48+E55+E62+E65+E75 -> -589212.3 | F13: =+F15+F21+F25+F29+F36+F40+F44+F48+F55+F62+F65+F75 -> 76687.1 | G13: =+G15+G21+G25+G29+G36+G40+G44+G48+G55+G62+G65+G75 -> 25688.4 | H13: =+H15+H21+H25+H29+H36+H40+H44+H48+H55+H62+H65+H75 -> 0
C14: այդ թվում`
A15: 1045 | B15: 32001 | C15: Նախնական մասնագիտական (արհեստագործական) և միջին մասնագիտական ուսումնական հաստատությունների շենքային պայմանների բարելավում | D15: =+E15+F15+G15+H15 -> 116404.5 | E15: =+E17 -> 0 | F15: =+F17 -> 116404.5 | G15: =+G17 -> 0 | H15: =+H17 -> 0
C16: այդ թվում`
C17: Երևան քաղաք | D17: =SUM(E17:H17) -> 116404.5 | E17: =+E18+E19+E20 -> 0 | F17: =+F18+F19+F20 -> 116404.5 | G17: =+G18+G19+G20 -> 0 | H17: =+H18+H19+H20 -> 0
C18: «Երևանի պետական հումանիտար քոլեջ» ՊՈԱԿ | D18: =+E18+F18+G18+H18 -> 38444.8 | F18: =+'Հավելված N 8'!I40+'Հավելված N 8'!I44+'Հավելված N 8'!I47 -> 38444.8
C19: «Երևանի հ. 4 արհեստագործական ուսումնարան» ՊՈԱԿ | D19: =+E19+F19+G19+H19 -> 48854.6 | F19: =+'Հավելված N 8'!I41+'Հավելված N 8'!I45+'Հավելված N 8'!I48 -> 48854.6
C20: «Երևանի հ. 9 արհեստագործական ուսումնարան» ՊՈԱԿ | D20: =+E20+F20+G20+H20 -> 29105.1 | F20: =+'Հավելված N 8'!I42+'Հավելված N 8'!I46+'Հավելված N 8'!I49 -> 29105.1
A21: 1045 | B21: 32005 | C21: Նախնական մասնագիտական (արհեստագործական) և միջին մասնագիտական ուսումնական հաստատությունների շենքերի կառուցում | D21: =+E21+F21+G21+H21 -> -5117.8 | E21: =+E23 -> 0 | F21: =+F23 -> 0 | G21: =+G23 -> -5117.8 | H21: =+H23 -> 0
C22: այդ թվում`
C23: Երևան քաղաք | D23: =SUM(E23:H23) -> -5117.8 | E23: =+E24 -> 0 | F23: =+F24 -> 0 | G23: =+G24 -> -5117.8 | H23: =+H24 -> 0
C24: «Երևանի զարդակիրառական արվեստի արհեստագործական պետական ուսումնարան» ՊՈԱԿ | D24: =+E24+F24+G24+H24 -> -5117.8 | G24: =+'Հավելված N 8'!I52+'Հավելված N 8'!I53 -> -5117.8
A25: 1075 | B25: 32001 | C25: Ներդրումներ թանգարանների և պատկերասրահների հիմնանորոգման համար | D25: =+E25+F25+G25+H25 -> 75470.1 | E25: =+E27 -> 0 | F25: =+F27 -> 75470.1 | G25: =+G27 -> 0 | H25: =+H27 -> 0
C26: այդ թվում`
C27: Երևան քաղաք | D27: =SUM(E27:H27) -> 75470.1 | E27: =+E28 -> 0 | F27: =+F28 -> 75470.1 | G27: =+G28 -> 0 | H27: =+H28 -> 0
C28: «Հայաստանի ազգային պատկերասրահ» ՊՈԱԿ | D28: =+E28+F28+G28+H28 -> 75470.1 | F28: =+'Հավելված N 8'!I19+'Հավելված N 8'!I21+'Հավելված N 8'!I22 -> 75470.1
A29: 1146 | B29: 12010 | C29: «Մոդուլային» տիպի մանկապարտեզների շենքային ապահովում | D29: =+E29+F29+G29+H29 -> -320020 | E29: =+E31+E33 -> -329700 | F29: =+F31+F33 -> 0 | G29: =+G31+G33 -> 9680 | H29: =+H31+H33 -> 0
C30: այդ թվում`
C31: ՀՀ Լոռու մարզ | D31: =SUM(E31:H31) -> 4740 | E31: =+E32 -> 0 | F31: =+F32 -> 0 | G31: =+G32 -> 4740 | H31: =+H32 -> 0
C32: ՀՀ Լոռու մարզի Լուսաղբյուր համայնքում «Մոդուլային» տիպի 144 տեղ հզորությամբ մսուր-մանկապարտեզ | D32: =+E32+F32+G32+H32 -> 4740 | G32: =+'Հավելված N 8'!I88 -> 4740
C33: ՀՀ Վայոց Ձորի մարզ | D33: =SUM(E33:H33) -> -324760 | E33: =+E34+E35 -> -329700 | F33: =+F34+F35 -> 0 | G33: =+G34+G35 -> 4940 | H33: =+H34+H35 -> 0
C34: ՀՀ Վայոց ձորի մարզի Եղեգիս համայնքի Շատին բնակավայրում «Մոդուլային» տիպի 144 տեղ հզորությամբ մսուր-մանկապարտեզ | D34: =+E34+F34+G34+H34 -> -381500 | E34: -381500
C35: ՀՀ Վայոց ձորի մարզի Եղեգիս համայնքի Շատին բնակավայրում «Մոդուլային» տիպի 250 տեղ հզորությամբ մսուր-մանկապարտեզ | D35: =+E35+F35+G35+H35 -> 56740 | E35: =381500+'Հավելված N 8'!I84+'Հավելված N 8'!I86+'Հավելված N 8'!I87 -> 51800 | G35: =+'Հավելված N 8'!I89+'Հավելված N 8'!I90 -> 4940
A36: 1148 | B36: 32005 | C36: Արտադպրոցական դաստիարակություն իրականացնող կազմակերպությունների շենքային պայմանների բարելավում | D36: =+E36+F36+G36+H36 -> 669.3 | E36: =+E38 -> 0 | F36: =+F38 -> 0 | G36: =+G38 -> 669.3 | H36: =+H38 -> 0
C37: այդ թվում`
C38: Երևան քաղաք | D38: =SUM(E38:H38) -> 669.3 | E38: =+E39 -> 0 | F38: =+F39 -> 0 | G38: =+G39 -> 669.3 | H38: =+H39 -> 0
C39: «Երևանի հրաձգության մանկապատանեկան մարզադպրոց» ՊՈԱԿ | D39: =+E39+F39+G39+H39 -> 669.3 | G39: =+'Հավելված N 8'!I35+'Հավելված N 8'!I36 -> 669.3
A40: 1163 | B40: 12001 | C40: Աջակցություն համայնքներին մարզական հաստատությունների շենքային պայմանների բարելավման համար | D40: =+E40+F40+G40+H40 -> -3142.8 | E40: =+E42 -> 0 | F40: =+F42 -> -3142.8 | G40: =+G42 -> 0 | H40: =+H42 -> 0
C41: այդ թվում`
C42: Երևան քաղաք | D42: =SUM(E42:H42) -> -3142.8 | E42: =+E43 -> 0 | F42: =+F43 -> -3142.8 | G42: =+G43 -> 0 | H42: =+H43 -> 0
C43: «Երևանի թենիսի և բադմինթոնի մանկապատանեկան մարզադպրոց» ՀՈԱԿ | D43: =+E43+F43+G43+H43 -> -3142.8 | F43: =+'Հավելված N 8'!I93+'Հավելված N 8'!I95 -> -3142.8
...

Sheet Հավելված N 4
D1: Հավելված N 4
D2: ՀՀ կառավարության 2023 թվականի
D3: ______________ ի ___Ն որոշման
B5: ՀԱՅԱՍՏԱՆԻ ՀԱՆՐԱՊԵՏՈՒԹՅԱՆ ԿԱՌԱՎԱՐՈՒԹՅԱՆ 2022 ԹՎԱԿԱՆԻ ԴԵԿՏԵՄԲԵՐԻ 29-Ի N 2111-Ն ՈՐՈՇՄԱՆ N 5 ՀԱՎԵԼՎԱԾԻ N 2 ԱՂՅՈՒՍԱԿՈՒՄ ԿԱՏԱՐՎՈՂ ՓՈՓՈԽՈՒԹՅՈՒՆՆԵՐԸ ԵՎ ԼՐԱՑՈՒՄՆԵՐԸ
F8: հազ. դրամներով
B9: Ծրագրային դասիչ | D9: Բյուջետային գլխավոր կարգադրիչների, ծրագրերի, միջոցառումների, միջոցառումները կատարող պետական մարմինների և ուղղությունների անվանումները | E9: Ցուցանիշների փոփոխությունը (ավելացումները նշված են դրական նշանով, իսկ նվազեցումները՝ փակագծերում)
B10: Ծրագիր | C10: Միջոցառում | E10: Ինն ամիս | F10: Տարի
D12: ՀՀ ԿՐԹՈՒԹՅԱՆ, ԳԻՏՈՒԹՅԱՆ, ՄՇԱԿՈՒՅԹԻ ԵՎ ՍՊՈՐՏԻ ՆԱԽԱՐԱՐՈՒԹՅՈՒՆ | E12: =+E14+E22+E28+E34+E43+E49+E55+E61+E72+E80+E83+E95 -> -352438.8 | F12: =+F14+F22+F28+F34+F43+F49+F55+F61+F72+F80+F83+F95 -> -486836.8
D13: այդ թվում՝
B14: 1045 | C14: 32001 | D14: Նախնական մասնագիտական (արհեստագործական) և միջին մասնագիտական ուսումնական հաստատությունների շենքային պայմանների բարելավում | E14: =+E16 -> 0 | F14: =+F16 -> 116404.5
D15: այդ թվում` ըստ կատարողների
D16: ՀՀ կրթության, գիտության, մշակույթի և սպորտի նախարարություն | E16: =+E18 -> 0 | F16: =+F18 -> 116404.5
D17: այդ թվում՝ ըստ ուղղությունների
D18: Երևան քաղաք | E18: =+E19+E20+E21 -> 0 | F18: =+F19+F20+F21 -> 116404.5
D19: =+'Հավելված N 3'!C18 -> «Երևանի պետական հումանիտար քոլեջ» ՊՈԱԿ | E19: 0 | F19: =+'Հավելված N 3'!D18 -> 38444.8
D20: =+'Հավելված N 3'!C19 -> «Երևանի հ. 4 արհեստագործական ուսումնարան» ՊՈԱԿ | E20: 0 | F20: =+'Հավելված N 3'!D19 -> 48854.6
D21: =+'Հավելված N 3'!C20 -> «Երևանի հ. 9 արհեստագործական ուսումնարան» ՊՈԱԿ | E21: 0 | F21: =+'Հավելված N 3'!D20 -> 29105.1
B22: 1045 | C22: 32005 | D22: Նախնական մասնագիտական (արհեստագործական) և միջին մասնագիտական ուսումնական հաստատությունների շենքերի կառուցում | E22: =+E24 -> -5117.8 | F22: =+F24 -> -5117.8
D23: այդ թվում` ըստ կատարողների
D24: ՀՀ կրթության, գիտության, մշակույթի և սպորտի նախարարություն | E24: =+E26 -> -5117.8 | F24: =+F26 -> -5117.8
D25: այդ թվում՝ ըստ ուղղությունների
D26: Երևան քաղաք | E26: =+E27 -> -5117.8 | F26: =+F27 -> -5117.8
D27: =+'Հավելված N 3'!C24 -> «Երևանի զարդակիրառական արվեստի արհեստագործական պետական ուսումնարան» ՊՈԱԿ | E27: =+'Հավելված N 3'!D24 -> -5117.8 | F27: =+'Հավելված N 3'!D24 -> -5117.8
B28: 1075 | C28: 32001 | D28: Ներդրումներ թանգարանների և պատկերասրահների հիմնանորոգման համար | E28: =+E30 -> 0 | F28: =+F30 -> 75470.1
D29: այդ թվում` ըստ կատարողների
D30: ՀՀ կրթության, գիտության, մշակույթի և սպորտի նախարարություն | E30: =+E32 -> 0 | F30: =+F32 -> 75470.1
D31: այդ թվում՝ ըստ ուղղությունների
D32: Երևան քաղաք | E32: =+E33 -> 0 | F32: =+F33 -> 75470.1
D33: =+'Հավելված N 3'!C28 -> «Հայաստանի ազգային պատկերասրահ» ՊՈԱԿ | E33: 0 | F33: =+'Հավելված N 3'!D28 -> 75470.1
B34: 1146 | C34: 12010 | D34: «Մոդուլային» տիպի մանկապարտեզների շենքային ապահովում | E34: =+E36 -> -181070 | F34: =+F36 -> -320020
D35: այդ թվում` ըստ կատարողների
D36: ՀՀ քաղաքաշինության կոմիտե | E36: =+E38+E40 -> -181070 | F36: =+F38+F40 -> -320020
D37: այդ թվում` ըստ ուղղությունների
D38: ՀՀ Լոռու մարզ | E38: =+E39 -> 4740 | F38: =+F39 -> 4740
D39: =+'Հավելված N 3'!C32 -> ՀՀ Լոռու մարզի Լուսաղբյուր համայնքում «Մոդուլային» տիպի 144 տեղ հզորությամբ մսուր-մանկապարտեզ | E39: =+'Հավելված N 3'!D32 -> 4740 | F39: =+E39 -> 4740
D40: ՀՀ Վայոց Ձորի մարզ | E40: =+E41+E42 -> -185810 | F40: =+F41+F42 -> -324760
D41: =+'Հավելված N 3'!C34 -> ՀՀ Վայոց ձորի մարզի Եղեգիս համայնքի Շատին բնակավայրում «Մոդուլային» տիպի 144 տեղ հզորությամբ մսուր-մանկապարտեզ | E41: -190750 | F41: =+'Հավելված N 3'!D34 -> -381500
D42: =+'Հավելված N 3'!C35 -> ՀՀ Վայոց ձորի մարզի Եղեգիս համայնքի Շատին բնակավայրում «Մոդուլային» տիպի 250 տեղ հզորությամբ մսուր-մանկապարտեզ | E42: =+'Հավելված N 3'!G35 -> 4940 | F42: =+'Հավելված N 3'!D35 -> 56740
B43: 1148 | C43: 32005 | D43: Արտադպրոցական դաստիարակություն իրականացնող կազմակերպությունների շենքային պայմանների բարելավում | E43: =+E45 -> 0 | F43: =+F45 -> 669.3
D44: այդ թվում` ըստ կատարողների
...

Sheet Հավելված N 5
F1: Հավելված 5
F2: ՀՀ կառավարության 2023 թվականի
F3: ______________ ի ___Ն որոշման
A6: ՀԱՅԱՍՏԱՆԻ ՀԱՆՐԱՊԵՏՈՒԹՅԱՆ ԿԱՌԱՎԱՐՈՒԹՅԱՆ 2022 ԹՎԱԿԱՆԻ ԴԵԿՏԵՄԲԵՐԻ 29-Ի N 2111-Ն ՈՐՈՇՄԱՆ N 5 ՀԱՎԵԼՎԱԾԻ N 7 ԱՂՅՈՒՍԱԿՈՒՄ ԿԱՏԱՐՎՈՂ ԼՐԱՑՈՒՄՆԵՐԸ
A7: հազ. դրամներով
A8: Ծրագրային դասիչը | D8: Բյուջետային հատկացումների գլխավոր կարգադրիչների, ծրագրերի, միջոցառումների և միջոցառումները կատարող պետական մարմինների անվանումները | F8: Միջոցառումները կատարող պետական մարմինների և դրամաշնորհ ստացող տնտեսվարող սուբյեկտների անվանումները | G8: Ցուցանիշների փոփոխությունը (ավելացումները նշված են դրական նշանով)
A9: Ծրագիր | B9: Միջոցառում | G9: Տարի
A10: ՀՀ կրթության, գիտության, մշակույթի և սպորտի նախարարություն | G10: =+G11+G14+G22+G25+G28+G31 -> 162076.8
A11: 1045 | B11: Նախնական (արհեստագործական) և միջին մասնագիտական կրթություն | G11: =+G12 -> 1757.3
B12: 32001 | C12: Նախնական մասնագիտական (արհեստագործական) և միջին մասնագիտական ուսումնական հաստատությունների շենքային պայմանների բարելավում | F12: ՀՀ կրթության, գիտության, մշակույթի և սպորտի նախարարություն | G12: =+G13 -> 1757.3
F13: «Երևանի պարարվեստի պետական քոլեջ» ՊՈԱԿ | G13: 1757.3
A14: 1075 | B14: Մշակութային ժառանգության ծրագիր | G14: =+G15+G18+G20 -> 77235.1
B15: 21001 | C15: Հուշարձանների ամրակայում, նորոգում և վերականգնում | F15: ՀՀ կրթության, գիտության, մշակույթի և սպորտի նախարարություն | G15: =+G17 -> 57218.7
D16: այդ թվում՝ ըստ ուղղությունների և միջոցառումների անվանումների
E17: Վերականգնողական աշխատանքներ | F17: «Պատմամշակութային արգելոց-թանգարանների և պատմական միջավայրի պահպանության ծառայություն» ՊՈԱԿ | G17: 57218.7
B18: 32001 | C18: Ներդրումներ թանգարանների և պատկերասրահների հիմնանորոգման համար | F18: ՀՀ կրթության, գիտության, մշակույթի և սպորտի նախարարություն | G18: =+G19 -> 8979.2
F19: «Սարդարապատի հերոսամարտի հուշահամալիր, Հայոց ազգագրության և ազատագրական պայքարի պատմության ազգային թանգարան» ՊՈԱԿ | G19: 8979.2
B20: 32009 | C20: Պատմամշակութային ժառանգության ոլորտի կազմակերպությունների գույքային ապահովվածության բարելավում | F20: ՀՀ կրթության, գիտության, մշակույթի և սպորտի նախարարություն | G20: =+G21 -> 11037.2
F21: «Պատմամշակութային ժառանգության գիտահետազոտական կենտրոն» ՊՈԱԿ | G21: 11037.2
A22: 1124 | B22: Գրահրատարակչության և գրադարանների ծրագիր | G22: =+G23 -> 31522
B23: 32001 | C23: Հանրային գրադարանների նյութատեխնիկական բազայի զարգացում | F23: ՀՀ կրթության, գիտության, մշակույթի և սպորտի նախարարություն | G23: =+G24 -> 31522
F24: «Հայաստանի ազգային գրադարան» ՊՈԱԿ | G24: 31522
A25: 1130 | B25: Կրթության, գիտության, մշակույթի և սպորտի բնագավառի պետական քաղաքականության մշակում, ծրագրերի համակարգում և մոնիտորինգ | G25: =+G26 -> 33460.2
B26: 32001 | C26: ՀՀ կրթության, գիտության, մշակույթի և սպորտի բնագավառում օժանդակ ծրագրեր իրականացնող կազմակերպությունների շենքային պայմանների և գույքային հագեցվածության բարելավում | F26: ՀՀ կրթության, գիտության, մշակույթի և սպորտի նախարարություն | G26: =SUM(G27:G27) -> 33460.2
F27: «Գնահատման և թեստավորման կենտրոն» ՊՈԱԿ | G27: 33460.2
A28: 1168 | B28: Արվեստների ծրագիր | G28: =+G29 -> 14988.4
B29: 32001 | C29: Ներդրումներ թատրոնների շենքերի կապիտալ վերանորոգման համար | F29: ՀՀ կրթության, գիտության, մշակույթի և սպորտի նախարարություն | G29: =+G30 -> 14988.4
F30: «Երևանի Հ.Թումանյանի անվան պետական տիկնիկային թատրոն» ՊՈԱԿ | G30: 14988.4
A31: 1183 | B31: Ապահով դպրոց | G31: =+G32 -> 3113.8
B32: 32012 | C32: Հանրակրթական դպրոցների գույքով և տեխնիկայով ապահովում | G32: =+G33+G35 -> 3113.8
F33: ՀՀ կրթության, գիտության, մշակույթի և սպորտի նախարարություն | G33: =+G34 -> 601.8
F34: «Վանաձորի Սայաթ-Նովայի անվան N 10 ավագ դպրոց» ՊՈԱԿ | G34: 601.8
F35: ՀՀ Շիրակի մարզպետարան | G35: =+G36 -> 2512
F36: «Լանջիկի միջնակարգ դպրոց» ՊՈԱԿ | G36: 2512

Sheet Հավելված N 6
C1: Հավելված N 6
C2: ՀՀ կառավարության 2023 թվականի
C3: ______________ ի ___Ն որոշման
B5: ՀԱՅԱՍՏԱՆԻ ՀԱՆՐԱՊԵՏՈՒԹՅԱՆ ԿԱՌԱՎԱՐՈՒԹՅԱՆ 2022 ԹՎԱԿԱՆԻ ԴԵԿՏԵՄԲԵՐԻ 29-Ի N 2111-Ն ՈՐՈՇՄԱՆ N 9 ՀԱՎԵԼՎԱԾԻ NN 9.13 ԵՎ 9.47 ԱՂՅՈՒՍԱԿՆԵՐՈՒՄ ԿԱՏԱՐՎՈՂ ՓՈՓՈԽՈՒԹՅՈՒՆՆԵՐԸ ԵՎ ԼՐԱՑՈՒՄՆԵՐԸ
A7: Աղյուսակ 9․13
C8: ՀՀ կրթության, գիտության, մշակույթի և սպորտի նախարարություն
B9: ՄԱՍ 2. ՊԵՏԱԿԱՆ ՄԱՐՄՆԻ ԳԾՈՎ ԱՐԴՅՈՒՆՔԱՅԻՆ (ԿԱՏԱՐՈՂԱԿԱՆ) ՑՈՒՑԱՆԻՇՆԵՐԸ
B12: Ծրագրի դասիչը | C12: Ծրագրի անվանումը
B13: 1045 | C13: Նախնական (արհեստագործական) և միջին մասնագիտական կրթություն
B15: Ծրագրի միջոցառումները | D15: Ցուցանիշների փոփոխությունը (ավելացումները նշված են դրական նշանով)
B16: Ծրագրի դասիչը՝ | C16: 1045
B17: Միջոցառման դասիչը՝ | C17: 32001 | D17: Ինն ամիս | E17: Տարի
B18: Միջոցառման անվանումը՝ | C18: Նախնական մասնագիտական (արհեստագործական) և միջին մասնագիտական ուսումնական հաստատությունների շենքային պայմանների բարելավում
B19: Նկարագրությունը՝ | C19: ՆՄՄԿՈՒ հաստատությունների շենքերի հիմնանորոգման և նախագծման (շինարարական աշխատանքներ, ջեռուցման համակարգի ստեղծում, ներքին հարդարում, տարածքի բարեկարգում) աշխատանքների իրականացում
B20: Միջոցառման տեսակը՝ | C20: Այլ պետական կազմակերպությունների կողմից օգտագործվող ոչ ֆինանսական ակտիվների հետ գործառնություններ
B21: Ակտիվն օգտագործող կազմակերպությունների անվանումները | C21: Նախնական մասնագիտական (արհեստագործական) և միջին մասնագիտական ուսումնական հաստատություններ
B22: Արդյունքի չափորոշիչներ
B23: Հիմնանորոգվող միջին մասնագիտական ուսումնական հաստատությունների քանակ, հատ | D23: 0 | E23: 4
B24: Հաստատությունների քանակ, որոնց շինարարական աշխատանքների ավարտվածության աստիճանը 100% է, հատ | D24: 0 | E24: 4
B25: Միջոցառման վրա կատարվող ծախսը (հազար դրամ) | D25: =+'Հավելված N 1'!D23 -> 1757.3 | E25: =+'Հավելված N 1'!E23 -> 118161.8
B27: Ծրագրի միջոցառումները | D27: Ցուցանիշների փոփոխությունը (նվազեցումները նշված են փակագծերում)
B28: Ծրագրի դասիչը՝ | C28: 1045
B29: Միջոցառման դասիչը՝ | C29: 32005 | D29: Ինն ամիս | E29: Տարի
B30: Միջոցառման անվանումը` | C30: Նախնական մասնագիտական (արհեստագործական) և միջին մասնագիտական ուսումնական հաստատությունների շենքերի կառուցում
B31: Նկարագրությունը` | C31: ՆՄՄԿՈՒ հաստատությունների շենքերի (մասնաշենքերի) կառուցման և նախագծման աշխատանքների իրականացում
B32: Միջոցառման տեսակը` | C32: Այլ պետական կազմակերպությունների կողմից օգտագործվող ոչ ֆինանսական ակտիվների հետ գործառնություններ
B33: Ակտիվն օգտագործող կազմակերպությունների անվանումները | C33: Նախնական մասնագիտական (արհեստագործական) և միջին մասնագիտական ուսումնական հաստատություններ
B34: Արդյունքի չափորոշիչներ
B35: Նախագծանախահաշվային փաստաթղթերի քանակ, հատ | D35: -1 | E35: -1
B36: Միջոցառման վրա կատարվող ծախսը (հազար դրամ) | D36: =+'Հավելված N 1'!D29 -> -5117.8 | E36: =+'Հավելված N 1'!E29 -> -5117.8
B38: Ծրագրի դասիչը | C38: Ծրագրի անվանումը
B39: 1075 | C39: Մշակութային ժառանգության ծրագիր
B41: Ծրագրի միջոցառումները | D41: Ցուցանիշների փոփոխությունը (ավելացումները նշված են դրական նշանով)
B42: Ծրագրի դասիչը՝ | C42: 1075
B43: Միջոցառման դասիչը՝ | C43: 21001 | D43: Ինն ամիս | E43: Տարի
B44: Միջոցառման անվանումը՝ | C44: Հուշարձանների ամրակայում, նորոգում և վերականգնում
B45: Նկարագրությունը՝ | C45: Հուշարձանների գիտանախագծային փաստաթղթերի կազմում, հրատապ ուսումնասիրում, վավերագրման և ուսումնասիրման աշխատանքներ, հետախուզում և հնագիտական պեղում, ամրակայում, նորոգում և վերականգնում
B46: Միջոցառման տեսակը՝ | C46: Հանրության կողմից անմիջականորեն օգտագործվող ակտիվների հետ կապված միջոցառումներ
B47: Միջոցառումն իրականացնողի անվանումը | C47: Մասնագիտացված կազմակերպություն
B48: Արդյունքի չափորոշիչներ
...

Sheet Հավելված N 7
C1: Հավելված N 7
C2: ՀՀ կառավարության 2023 թվականի
C3: ______________ ի ___Ն որոշման
B5: ՀԱՅԱՍՏԱՆԻ ՀԱՆՐԱՊԵՏՈՒԹՅԱՆ ԿԱՌԱՎԱՐՈՒԹՅԱՆ 2022 ԹՎԱԿԱՆԻ ԴԵԿՏԵՄԲԵՐԻ 29-Ի N 2111-Ն ՈՐՈՇՄԱՆ N 9.1 ՀԱՎԵԼՎԱԾԻ NN 9.1.13, 9.1.41, 9.1.54 ԵՎ 9.1.58 ԱՂՅՈՒՍԱԿՆԵՐՈՒՄ ԿԱՏԱՐՎՈՂ ՓՈՓՈԽՈՒԹՅՈՒՆՆԵՐԸ ԵՎ ԼՐԱՑՈՒՄՆԵՐԸ
A7: Աղյուսակ 9․1.13
C8: ՀՀ կրթության, գիտության, մշակույթի և սպորտի նախարարություն
B9: ՄԱՍ 1. ՊԵՏԱԿԱՆ ՄԱՐՄՆԻ ԳԾՈՎ ԱՐԴՅՈՒՆՔԱՅԻՆ (ԿԱՏԱՐՈՂԱԿԱՆ) ՑՈՒՑԱՆԻՇՆԵՐԸ
B12: Ծրագրի դասիչը | C12: Ծրագրի անվանումը
B13: 1045 | C13: Նախնական (արհեստագործական) և միջին մասնագիտական կրթություն
B15: Ծրագրի միջոցառումները | D15: Ցուցանիշների փոփոխությունը (ավելացումները նշված են դրական նշանով)
B16: Ծրագրի դասիչը՝ | C16: 1045
B17: Միջոցառման դասիչը՝ | C17: 32001 | D17: Ինն ամիս | E17: Տարի
B18: Միջոցառման անվանումը՝ | C18: Նախնական մասնագիտական (արհեստագործական) և միջին մասնագիտական ուսումնական հաստատությունների շենքային պայմանների բարելավում
B19: Նկարագրությունը՝ | C19: ՆՄՄԿՈՒ հաստատությունների շենքերի հիմնանորոգման և նախագծման (շինարարական աշխատանքներ, ջեռուցման համակարգի ստեղծում, ներքին հարդարում, տարածքի բարեկարգում) աշխատանքների իրականացում
B20: Միջոցառման տեսակը՝ | C20: Այլ պետական կազմակերպությունների կողմից օգտագործվող ոչ ֆինանսական ակտիվների հետ գործառնություններ
B21: Ակտիվն օգտագործող կազմակերպությունների անվանումները | C21: Նախնական մասնագիտական (արհեստագործական) և միջին մասնագիտական ուսումնական հաստատություններ
B22: Արդյունքի չափորոշիչներ
B23: Հիմնանորոգվող միջին մասնագիտական ուսումնական հաստատությունների քանակ, հատ | D23: 0 | E23: 4
B24: Հաստատությունների քանակ, որոնց շինարարական աշխատանքների ավարտվածության աստիճանը 100% է, հատ | D24: 0 | E24: 4
B25: Միջոցառման վրա կատարվող ծախսը (հազար դրամ) | D25: =+'Հավելված N 2'!G161 -> 1757.3 | E25: =+'Հավելված N 2'!H161 -> 118161.8
B27: Ծրագրի միջոցառումները | D27: Ցուցանիշների փոփոխությունը (նվազեցումները նշված են փակագծերում)
B28: Ծրագրի դասիչը՝ | C28: 1045
B29: Միջոցառման դասիչը՝ | C29: 32005 | D29: Ինն ամիս | E29: Տարի
B30: Միջոցառման անվանումը` | C30: Նախնական մասնագիտական (արհեստագործական) և միջին մասնագիտական ուսումնական հաստատությունների շենքերի կառուցում
B31: Նկարագրությունը` | C31: ՆՄՄԿՈՒ հաստատությունների շենքերի (մասնաշենքերի) կառուցման և նախագծման աշխատանքների իրականացում
B32: Միջոցառման տեսակը` | C32: Այլ պետական կազմակերպությունների կողմից օգտագործվող ոչ ֆինանսական ակտիվների հետ գործառնություններ
B33: Ակտիվն օգտագործող կազմակերպությունների անվանումները | C33: Նախնական մասնագիտական (արհեստագործական) և միջին մասնագիտական ուսումնական հաստատություններ
B34: Արդյունքի չափորոշիչներ
B35: Նախագծանախահաշվային փաստաթղթերի քանակ, հատ | D35: -1 | E35: -1
B36: Միջոցառման վրա կատարվող ծախսը (հազար դրամ) | D36: =+'Հավելված N 2'!G174 -> -5117.8 | E36: =+'Հավելված N 2'!H174 -> -5117.8
B38: Ծրագրի դասիչը | C38: Ծրագրի անվանումը
B39: 1075 | C39: Մշակութային ժառանգության ծրագիր
B41: Ծրագրի միջոցառումները | D41: Ցուցանիշների փոփոխությունը (ավելացումները նշված են դրական նշանով)
B42: Ծրագրի դասիչը՝ | C42: 1075
B43: Միջոցառման դասիչը՝ | C43: 21001 | D43: Ինն ամիս | E43: Տարի
B44: Միջոցառման անվանումը՝ | C44: Հուշարձանների ամրակայում, նորոգում և վերականգնում
B45: Նկարագրությունը՝ | C45: Հուշարձանների գիտանախագծային փաստաթղթերի կազմում, հրատապ ուսումնասիրում, վավերագրման և ուսումնասիրման աշխատանքներ, հետախուզում և հնագիտական պեղում, ամրակայում, նորոգում և վերականգնում
B46: Միջոցառման տեսակը՝ | C46: Հանրության կողմից անմիջականորեն օգտագործվող ակտիվների հետ կապված միջոցառումներ
B47: Միջոցառումն իրականացնողի անվանումը | C47: Մասնագիտացված կազմակերպություն
B48: Արդյունքի չափորոշիչներ
...

Sheet Հավելված N 8
H1: Հավելված N 8
H2: ՀՀ կառավարության 2023 թվականի
H3: ______________ ի ___Ն որոշման
A5: ՀԱՅԱՍՏԱՆԻ ՀԱՆՐԱՊԵՏՈՒԹՅԱՆ ԿԱՌԱՎԱՐՈՒԹՅԱՆ 2022 ԹՎԱԿԱՆԻ ԴԵԿՏԵՄԲԵՐԻ 29-Ի N 2111-Ն ՈՐՈՇՄԱՆ N 10 ՀԱՎԵԼՎԱԾՈՒՄ ԿԱՏԱՐՎՈՂ ՓՈՓՈԽՈՒԹՅՈՒՆՆԵՐԸ ԵՎ ԼՐԱՑՈՒՄՆԵՐԸ
A7: Կոդը | B7: Անվանումը | E7: Գնման ձևը | F7: Չափման միավորը | G7: Միավորի գինը | H7: Ցուցանիշների փոփոխությունը (ավելացումները նշված են դրական նշանով, իսկ նվազեցումները՝ փակագծերում)
H8: Քանակը | I8: Գումարը (հազար դրամ)
A9: 1 | B9: 2 | E9: 3 | F9: 4 | G9: 5 | H9: 6 | I9: 7
A10: ՀՀ կրթության, գիտության, մշակույթի և սպորտի նախարարություն | I10: =+I11+I16+I23+I27+I32+I37 -> 303995.7
A11: Բաժին N 08 | B11: Խումբ N 01 | C11: Դաս N 01 | D11: Հանգստի և սպորտի ծառայություններ | I11: =+I12 -> 9318
A12: 1163-32003 | B12: Թեթև կոնստրուկցիաներով մարզադահլիճների հիմնում | I12: =+I13 -> 9318
B13: ՄԱՍ III. ԾԱՌԱՅՈՒԹՅՈՒՆՆԵՐ | I13: =SUM(I14:I15) -> 9318
A14: 71241200-502 | B14: նախագծերի պատրաստում, ծախսերի գնահատում | E14: ԳՀ | F14: դրամ | G14: 8498000 | H14: 1 | I14: =+ROUND(H14*G14/1000,1) -> 8498
A15: 50531140-502 | B15: փորձաքննության ծառայություններ | E15: ԳՀ | F15: դրամ | G15: 820000 | H15: 1 | I15: =+ROUND(H15*G15/1000,1) -> 820
A16: Բաժին N 08 | B16: Խումբ N 02 | C16: Դաս N 02 | D16: Թանգարաններ և ցուցասրահներ | I16: =+I17 -> 75470.1
A17: 1075-32001 | B17: Ներդրումներ թանգարանների և պատկերասրահների հիմնանորոգման համար | I17: =+I18+I20 -> 75470.1
B18: ՄԱՍ II. ԱՇԽԱՏԱՆՔՆԵՐ | I18: =SUM(I19:I19) -> 73200.9
A19: 45611200 | B19: մշակութային օբյեկտների հիմնանորոգում | E19: ԲՄ | F19: դրամ | G19: 73200880 | H19: 1 | I19: =+ROUND(H19*G19/1000,1) -> 73200.9
B20: ՄԱՍ III. ԾԱՌԱՅՈՒԹՅՈՒՆՆԵՐ | I20: =SUM(I21:I22) -> 2269.2
A21: 71351540 | B21: տեխնիկական հսկողության ծառայություններ | E21: ԳՀ | F21: դրամ | G21: 1830000 | H21: 1 | I21: =+ROUND(H21*G21/1000,1) -> 1830
A22: 98111140 | B22: հեղինակային հսկողության ծառայություններ | E22: ՄԱ | F22: դրամ | G22: 439200 | H22: 1 | I22: =+ROUND(H22*G22/1000,1) -> 439.2
A23: Բաժին N 08 | B23: Խումբ N 02 | C23: Դաս N 05 | D23: Արվեստ | I23: =+I24 -> 820
A24: 1168-32001 | B24: Ներդրումներ թատրոնների շենքերի կապիտալ վերանորոգման համար | I24: =+I25 -> 820
B25: ՄԱՍ III. ԾԱՌԱՅՈՒԹՅՈՒՆՆԵՐ | I25: =+I26 -> 820
A26: 50531140 | B26: փորձաքննության ծառայություններ | E26: ԳՀ | F26: դրամ | G26: 820000 | H26: 1 | I26: =+ROUND(H26*G26/1000,1) -> 820
A27: Բաժին N 08 | B27: Խումբ N 02 | C27: Դաս N 07 | D27: Հուշարձանների և մշակութային արժեքների վերականգնում և պահպանում | I27: =+I28 -> 0
A28: 1075-21001 | B28: Հուշարձանների ամրակայում, նորոգում և վերականգնում | I28: =+I29 -> 0
B29: ՄԱՍ II. ԱՇԽԱՏԱՆՔՆԵՐ | I29: =SUM(I30:I31) -> 0
A30: 45451600-3 | B30: վերականգնողական աշխատանքներ | E30: ԲՄ | F30: դրամ | G30: 71366400 | H30: -1 | I30: =+ROUND(H30*G30/1000,1) -> -71366.4
A31: 45451600 | B31: վերականգնողական աշխատանքներ | E31: ՀԲՄ | F31: դրամ | G31: 71366400 | H31: 1 | I31: =+ROUND(H31*G31/1000,1) -> 71366.4
A32: Բաժին N 09 | B32: Խումբ N 05 | C32: Դաս N 01 | D32: Արտադպրոցական դաստիարակություն | I32: =+I33 -> 669.3
A33: 1148-32005 | B33: Արտադպրոցական դաստիարակություն իրականացնող կազմակերպությունների շենքային պայմանների բարելավում | I33: =+I34 -> 669.3
B34: ՄԱՍ III. ԾԱՌԱՅՈՒԹՅՈՒՆՆԵՐ | I34: =SUM(I35:I36) -> 669.3
A35: 71241200-501 | B35: նախագծերի պատրաստում, ծախսերի գնահատում | E35: ԳՀ | F35: դրամ | G35: 593000 | H35: 1 | I35: =+ROUND(H35*G35/1000,1) -> 593
A36: 50531140 | B36: փորձաքննության ծառայություններ | E36: ԳՀ | F36: դրամ | G36: 76290 | H36: 1 | I36: =+ROUND(H36*G36/1000,1) -> 76.3
A37: Բաժին N 09 | B37: Խումբ N 06 | C37: Դաս N 01 | D37: Կրթությանը տրամադրվող օժանդակ ծառայություններ | I37: =+I38+I50+I54+I61 -> 217718.3
A38: 1045-32001 | B38: Նախնական մասնագիտական (արհեստագործական) և միջին մասնագիտական ուսումնական հաստատությունների շենքային պայմանների բարելավում | I38: =+I39+I43 -> 116404.5
B39: ՄԱՍ II. ԱՇԽԱՏԱՆՔՆԵՐ | I39: =SUM(I40:I42) -> 113824.4
A40: 45611100 | B40: կրթական օբյեկտների հիմնանորոգում | E40: ԳՀ | F40: դրամ | G40: 37840300 | H40: 1 | I40: =+ROUND(H40*G40/1000,1) -> 37840.3
A41: 45611100 | B41: կրթական օբյեկտների հիմնանորոգում | E41: ԳՀ | F41: դրամ | G41: 47616600 | H41: 1 | I41: =+ROUND(H41*G41/1000,1) -> 47616.6
A42: 45611100 | B42: կրթական օբյեկտների հիմնանորոգում | E42: ԳՀ | F42: դրամ | G42: 28367500 | H42: 1 | I42: =+ROUND(H42*G42/1000,1) -> 28367.5
...

Sheet Հավելված N 9
G1: Հավելված N 9
H2: ՀՀ կառավարության 2023 թվականի
H3: ______________ ի ___Ն որոշման
A6: ՀԱՅԱՍՏԱՆԻ ՀԱՆՐԱՊԵՏՈՒԹՅԱՆ 2023 ԹՎԱԿԱՆԻ ՊԵՏԱԿԱՆ ԲՅՈՒՋԵՈՎ ՆԱԽԱՏԵՍՎԱԾ՝ ՀԱՅԱՍՏԱՆԻ ՀԱՆՐԱՊԵՏՈՒԹՅԱՆ ԿԱՌԱՎԱՐՈՒԹՅԱՆ ՊԱՀՈՒՍՏԱՅԻՆ ՖՈՆԴԻՑ ՀԱՏԿԱՑՈՒՄՆԵՐ ԿԱՏԱՐԵԼՈՒ ՎԵՐԱԲԵՐՅԱԼ
G8: հազ. դրամներով
A9: Գործառական դասիչը | D9: Ծրագրային դասիչը | F9: Բյուջետային հատկացումների գլխավոր կարգադրիչների, ծրագրերի, միջոցառումների և միջոցառումները կատարող պետական մարմինների անվանումները | G9: Ցուցանիշների փոփոխությունը (ավելացումները նշված են դրական նշանով, իսկ նվազեցումները` փակագծերում)
A10: Բաժին | B10: Խումբ | C10: Դաս | D10: Ծրագիր | E10: Միջոցառում | G10: Ինն ամիս | H10: Տարի
F11: ԸՆԴԱՄԵՆԸ | G11: =+G13+G34 -> 0 | H11: =+H13+H34 -> 0
F12: այդ թվում
F13: ՀՀ ԿԱՌԱՎԱՐՈՒԹՅՈՒՆ | G13: =+G14 -> -11037.2 | H13: =+H14 -> -21024.5
A14: 11 | F14: ՀԻՄՆԱԿԱՆ ԲԱԺԻՆՆԵՐԻՆ ՉԴԱՍՎՈՂ ՊԱՀՈՒՍՏԱՅԻՆ ՖՈՆԴԵՐ | G14: =+G16 -> -11037.2 | H14: =+H16 -> -21024.5
F15: այդ թվում`
B16: 01 | F16: ՀՀ կառավարության և համայնքների պահուստային ֆոնդ | G16: =+G18 -> -11037.2 | H16: =+H18 -> -21024.5
F17: այդ թվում`
C18: 01 | F18: ՀՀ կառավարության պահուստային ֆոնդ | G18: =+G20 -> -11037.2 | H18: =+H20 -> -21024.5
F19: այդ թվում`
F20: ՀՀ կառավարություն | G20: =+G22 -> -11037.2 | H20: =+H22 -> -21024.5
F21: այդ թվում`
D22: 1139 | E22: ՀՀ կառավարության պահուստային ֆոնդ | F22: ՀՀ կառավարության պահուստային ֆոնդ | G22: =+G24 -> -11037.2 | H22: =+H24 -> -21024.5
F23: այդ թվում`
E24: 11001 | F24: ՀՀ կառավարության պահուստային ֆոնդ | G24: =+G26 -> -11037.2 | H24: =+H26 -> -21024.5
F25: այդ թվում` ըստ կատարողների
F26: ՀՀ կառավարություն | G26: =+G28 -> -11037.2 | H26: =+H28 -> -21024.5
F27: այդ թվում՝ բյուջետային ծախսերի տնտեսագիտական դասակարգման հոդվածներ
F28: ԸՆԴԱՄԵՆԸ ԾԱԽՍԵՐ | G28: =+G29 -> -11037.2 | H28: =+H29 -> -21024.5
F29: ՈՉ ՖԻՆԱՆՍԱԿԱՆ ԱԿՏԻՎՆԵՐԻ ԳԾՈՎ ԾԱԽՍԵՐ | G29: =+G30 -> -11037.2 | H29: =+H30 -> -21024.5
F30: ՀԻՄՆԱԿԱՆ ՄԻՋՈՑՆԵՐ | G30: =+G31 -> -11037.2 | H30: =+H31 -> -21024.5
F31: ՇԵՆՔԵՐ ԵՎ ՇԻՆՈՒԹՅՈՒՆՆԵՐ | G31: =+G32 -> -11037.2 | H31: =+H32 -> -21024.5
F32: - Շենքերի և շինությունների շինարարություն | G32: =+'Հավելված N 2'!G307 -> -11037.2 | H32: =+'Հավելված N 2'!H307 -> -21024.5
F34: ՀՀ ԿՐԹՈՒԹՅԱՆ, ԳԻՏՈՒԹՅԱՆ, ՄՇԱԿՈՒՅԹԻ ԵՎ ՍՊՈՐՏԻ ՆԱԽԱՐԱՐՈՒԹՅՈՒՆ | G34: =+G35+G71 -> 11037.2 | H34: =+H35+H71 -> 21024.5
A35: 08 | F35: ՀԱՆԳԻՍՏ, ՄՇԱԿՈՒՅԹ ԵՎ ԿՐՈՆ | G35: =+G37+G54 -> 11037.2 | H35: =+H37+H54 -> 20355.2
F36: այդ թվում`
B37: 01 | F37: Հանգստի և սպորտի ծառայություններ | G37: =+G39 -> 0 | H37: =+H39 -> 9318
F38: այդ թվում`
C39: 01 | F39: Հանգստի և սպորտի ծառայություններ | G39: =+G41 -> 0 | H39: =+H41 -> 9318
F40: այդ թվում`
F41: ՀՀ կրթության, գիտության, մշակույթի և սպորտի նախարարություն | G41: =+G43 -> 0 | H41: =+H43 -> 9318
F42: այդ թվում`
D43: 1163 | E43: Մասսայական սպորտ | G43: =+G45 -> 0 | H43: =+H45 -> 9318
F44: այդ թվում`
...
