Workbook
Name a: #REF!
Name a: #REF!
Name a: #REF!
Name AgencyCode: #REF!
Name AgencyCode: #REF!
Name AgencyCode: #REF!
Name AgencyCode: #REF!
Name AgencyCode: #REF!
Name AgencyName: #REF!
Name AgencyName: #REF!
Name AgencyName: #REF!
Name AgencyName: #REF!
Name davit: #REF!
Name davit: #REF!
Name davit: #REF!
Name Functional1: #REF!
Name Functional1: #REF!
Name Functional1: #REF!
Name Functional1: #REF!
Name ggg: #REF!
Name ggg: #REF!
Name ggg: #REF!
Name PANature: #REF!
Name PANature: #REF!
Name PANature: #REF!
Name PANature: #REF!
Name PAType: #REF!
Name PAType: #REF!
Name PAType: #REF!
Name PAType: #REF!
Name Performance2: #REF!
Name Performance2: #REF!
Name Performance2: #REF!
Name Performance2: #REF!
Name PerformanceType: #REF!
Name PerformanceType: #REF!
Name PerformanceType: #REF!
Name PerformanceType: #REF!
Name Հավելված: #REF!
Name Հավելված: #REF!
Name Հավելված: #REF!
Name Հավելված: #REF!
Name Մաս: #REF!
Name Մաս: #REF!
Name Մաս: #REF!
Name շախմատիստ: #REF!
Name շախմատիստ: #REF!
Name շախմատիստ: #REF!

Sheet Հավելված N 1
C1: Հավելված N 1
C2: ՀՀ կառավարության 2023 թվականի
C3: ______________ ի ___Ն որոշման
A6: «ՀԱՅԱUՏԱՆԻ ՀԱՆՐԱՊԵՏՈՒԹՅԱՆ 2023 ԹՎԱԿԱՆԻ ՊԵՏԱԿԱՆ ԲՅՈՒՋԵԻ ՄԱUԻՆ» ՀԱՅԱUՏԱՆԻ ՀԱՆՐԱՊԵՏՈՒԹՅԱՆ OՐԵՆՔԻ N 1 ՀԱՎԵԼՎԱԾԻ N 2 ԱՂՅՈՒՍԱԿՈՒՄ ԿԱՏԱՐՎՈՂ ՎԵՐԱԲԱՇԽՈՒՄԸ ԵՎ ՀԱՅԱՍՏԱՆԻ ՀԱՆՐԱՊԵՏՈՒԹՅԱՆ ԿԱՌԱՎԱՐՈՒԹՅԱՆ 2022 ԹՎԱԿԱՆԻ ԴԵԿՏԵՄԲԵՐԻ 29-Ի N 2111-Ն ՈՐՈՇՄԱՆ N 5 ՀԱՎԵԼՎԱԾԻ N 1 ԱՂՅՈՒՍԱԿՈՒՄ ԿԱՏԱՐՎՈՂ ՓՈՓՈԽՈՒԹՅՈՒՆՆԵՐԸ ԵՎ ԼՐԱՑՈՒՄՆԵՐԸ
E9: հազ. դրամներով
A10: Ծրագրային դասիչը | C10: Բյուջետային հատկացումների գլխավոր կարգադրիչների, ծրագրերի և միջոցառումների անվանումները | D10: Ցուցանիշների փոփոխությունը (ավելացումները նշված են դրական նշանով, իսկ նվազեցումները՝ փակագծերում)
A11: Ծրագիր | B11: Միջոցառում | D11: Ինն ամիս | E11: Տարի
A12: 1192 | C12: ԸՆԴԱՄԵՆԸ | D12: =+D14+D181 -> 0 | E12: =+E14+E181 -> 0
C13: այդ թվում
C14: ՀՀ ԿՐԹՈՒԹՅԱՆ, ԳԻՏՈՒԹՅԱՆ, ՄՇԱԿՈՒՅԹԻ ԵՎ ՍՊՈՐՏԻ ՆԱԽԱՐԱՐՈՒԹՅՈՒՆ | D14: =+D16+D35+D60+D73+D86+D99+D112+D131+D144 -> -190362 | E14: =+E16+E35+E60+E73+E86+E99+E112+E131+E144 -> -324760
A15: 1045 | C15: Ծրագրի անվանումը`
C16: Նախնական (արհեստագործական) և միջին մասնագիտական կրթություն | D16: =+D23+D29 -> -3360.5 | E16: =+E23+E29 -> 113044
C17: Ծրագրի նպատակը`
C18: Աշխատաշուկայի արդի պահանջներին համապատասխան նախնական մասնագիտական (արհեստագործական) և միջին մասնագիտական կրթության որակավորում ունեցող մասնագետների պատրաստում, կրթության մատչելիության ապահովում:
C19: Վերջնական արդյունքի նկարագրությունը`
C20: Նախնական (արհեստագործական) և միջին մասնագիտական կրթության գրավչության բարձրացում, մատչելի և մրցունակ նախնական (արհեստագործական) և միջին մասնագիտական կրթության ապահովում
C21: Ծրագրի միջոցառումներ
B22: 32001 | C22: Միջոցառման անվանումը`
C23: Նախնական մասնագիտական (արհեստագործական) և միջին մասնագիտական ուսումնական հաստատությունների շենքային պայմանների բարելավում | D23: =+'Հավելված N 2'!G159 -> 1757.3 | E23: =+'Հավելված N 2'!H159 -> 118161.8
C24: Միջոցառման նկարագրությունը`
C25: ՆՄՄԿՈՒ հաստատությունների շենքերի հիմնանորոգման և նախագծման (շինարարական աշխատանքներ, ջեռուցման համակարգի ստեղծում, ներքին հարդարում, տարածքի բարեկարգում) աշխատանքների իրականացում
C26: Միջոցառման տեսակը
C27: Այլ պետական կազմակերպությունների կողմից օգտագործվող ոչ ֆինանսական ակտիվների հետ գործառնություններ
B28: 32005 | C28: Միջոցառման անվանումը`
C29: Նախնական մասնագիտական (արհեստագործական) և միջին մասնագիտական ուսումնական հաստատությունների շենքերի կառուցում | D29: =+'Հավելված N 2'!G172 -> -5117.8 | E29: =+'Հավելված N 2'!H172 -> -5117.8
C30: Միջոցառման նկարագրությունը`
C31: ՆՄՄԿՈՒ հաստատությունների շենքերի (մասնաշենքերի) կառուցման և նախագծման աշխատանքների իրականացում
C32: Միջոցառման տեսակը
C33: Այլ պետական կազմակերպությունների կողմից օգտագործվող ոչ ֆինանսական ակտիվների հետ գործառնություններ
A34: 1075 | C34: Ծրագրի անվանումը`
C35: Մշակութային ժառանգության ծրագիր | D35: =+D42+D48+D54 -> 77235.1 | E35: =+E42+E48+E54 -> 152705.2
C36: Ծրագրի նպատակը`
C37: Մշակութային ժառանգության պահպանում, օգտագործում, համալրում և հանրահռչակում
C38: Վերջնական արդյունքի նկարագրությունը`
C39: Մշակութային ժառանգության շարունակական պահպանում, մշակութային զբոսաշրջության զարգացում և խթանում
C40: Ծրագրի միջոցառումներ
B41: 21001 | C41: Միջոցառման անվանումը`
C42: Հուշարձանների ամրակայում, նորոգում և վերականգնում | D42: =+'Հավելված N 2'!G123 -> 57218.7 | E42: =+'Հավելված N 2'!H123 -> 57218.7
C43: Միջոցառման նկարագրությունը`
C44: Հուշարձանների գիտանախագծային փաստաթղթերի կազմում, հրատապ ուսումնասիրում, վավերագրման և ուսումնասիրման աշխատանքներ, հետախուզում և հնագիտական պեղում, ամրակայում, նորոգում և վերականգնում
C45: Միջոցառման տեսակը
C46: Հանրության կողմից անմիջականորեն օգտագործվող ակտիվների հետ կապված միջոցառումներ
B47: 32001 | C47: Միջոցառման անվանումը`
C48: Ներդրումներ թանգարանների և պատկերասրահների հիմնանորոգման համար | D48: =+'Հավելված N 2'!G56 -> 8979.2 | E48: =+'Հավելված N 2'!H56 -> 84449.3
C49: Միջոցառման նկարագրությունը`
C50: Թանգարանների և պատկերասրահների շենքերի, մասնաշենքերի հիմնանորոգում, համաշինարարական աշխատանքներ, ջեռուցման համակարգի իրականացում, ներքին հարդարում, տարածքի բարեկարգում և նախագծում
C51: Միջոցառման տեսակը
C52: Այլ պետական կազմակերպությունների կողմից օգտագործվող ոչ ֆինանսական ակտիվների հետ գործառնություններ
B53: 32009 | C53: Միջոցառման անվանումը`
C54: Պատմամշակութային ժառանգության ոլորտի կազմակերպությունների գույքային ապահովվածության բարելավում | D54: =+'Հավելված N 2'!G75 -> 11037.2 | E54: =+'Հավելված N 2'!H75 -> 11037.2
C55: Միջոցառման նկարագրությունը`
C56: Պատմամշակութային ժառանգության ոլորտի կազմակերպությունների գույքով և տեխնիկաով ապահովում
C57: Միջոցառման տեսակը
C58: Այլ պետական կազմակերպությունների կողմից օգտագործվող ոչ ֆինանսական ակտիվների հետ գործառնություններ
A59: 1124 | C59: Ծրագրի անվանումը`
C60: Գրահրատարակչության և գրադարանների ծրագիր | D60: =+D67 -> 31522 | E60: =+E67 -> 31522
C61: Ծրագրի նպատակը`
C62: Նպաստել գրականության զարգացմանը, տարածմանը և հանրահռչակմանը
C63: Վերջնական արդյունքի նկարագրությունը`
C64: Գրքի և գրական արտադրանքի բազմազանության և հասանելիության ապահովում, ստեղծագործական գործընթացների խթանում
C65: Ծրագրի միջոցառումներ
B66: 32001 | C66: Միջոցառման անվանումը`
C67: Հանրային գրադարանների նյութատեխնիկական բազայի զարգացում | D67: =+'Հավելված N 2'!G41 -> 31522 | E67: =+'Հավելված N 2'!H41 -> 31522
C68: Միջոցառման նկարագրությունը`
C69: Հանրային գրադարանների նյութատեխնիկական բազայի զարգացում
C70: Միջոցառման տեսակը
C71: Այլ պետական կազմակերպությունների կողմից օգտագործվող ոչ ֆինանսական ակտիվների հետ գործառնություններ
A72: 1130 | C72: Ծրագրի անվանումը`
C73: Կրթության, գիտության, մշակույթի և սպորտի բնագավառի պետական քաղաքականության մշակում, ծրագրերի համակարգում և մոնիտորինգ | D73: =+D80 -> 33460.2 | E73: =+E80 -> 33460.2
C74: Ծրագրի նպատակը`
C75: Ապահովել համընդհանուր, հավասարապես հասանելի, ներառական և որակյալ կրթություն՛ բավարարելով տնտեսության ու հասարակության պահանջները, լիարժեք ծառայելով ազգային շահերին
C76: Վերջնական արդյունքի նկարագրությունը`
C77: Կրթության, գիտության, մշակույթի և սպորտի բնագավառում իրականացվող ծրագրերի ազդեցության և արդյունավետության բարելավում
C78: Ծրագրի միջոցառումներ
B79: 32001 | C79: Միջոցառման անվանումը`
C80: ՀՀ կրթության, գիտության, մշակույթի և սպորտի բնագավառում օժանդակ ծրագրեր իրականացնող կազմակերպությունների շենքային պայմանների և գույքային հագեցվածության բարելավում | D80: =+'Հավելված N 2'!G269 -> 33460.2 | E80: =+'Հավելված N 2'!H269 -> 33460.2
C81: Միջոցառման նկարագրությունը`
C82: ՀՀ կրթության, գիտության, մշակույթի և սպորտի բնագավառում օժանդակ ծրագրեր իրականացնող կազմակերպությունների աշխատանքային պայմանների բարելավում
C83: Միջոցառման տեսակը
C84: Այլ պետական կազմակերպությունների կողմից օգտագործվող ոչ ֆինանսական ակտիվների հետ գործառնություններ
A85: 1146 | C85: Ծրագրի անվանումը`
C86: Հանրակրթության ծրագիր | D86: =+D93 -> -181070 | E86: =+E93 -> -320020
C87: Ծրագրի նպատակը`
C88: Ապահովել անվճար և որակյալ հանրակրթություն
C89: Վերջնական արդյունքի նկարագրությունը`
C90: Մտավոր, հոգևոր, ֆիզիկական և սոցիալական ունակությունների համակողմանի ու ներդաշնակ զարգացմամբ, հայրենասիրության, պետականության և մարդասիրության ոգով դաստիրակված, պատշաճ վարքով և վարվելակերպով անձի ձևավորում
C91: Ծրագրի միջոցառումներ
B92: 12010 | C92: Միջոցառման անվանումը`
C93: «Մոդուլային» տիպի մանկապարտեզների շենքային ապահովում | D93: =+'Հավելված N 2'!G183 -> -181070 | E93: =+'Հավելված N 2'!H183 -> -320020
C94: Միջոցառման նկարագրությունը`
C95: Համայնքներում «Մոդուլային» տիպի մանկապարտեզների կառուցում և նախագծում
C96: Միջոցառման տեսակը
C97: Տրանսֆերտների տրամադրում
A98: 1148 | C98: Ծրագրի անվանումը`
C99: Արտադպրոցական դաստիարակության ծրագիր | D99: =+D106 -> 0 | E99: =+E106 -> 669.3
C100: Ծրագրի նպատակը`
C101: Նպաստել հանրակրթական ուսուցման համակարգում ընդգրկված երեխաների ֆիզիկական, հոգևոր և գեղագիտական զարգացմանը, բնապահպանական և կիրառական գիտելիքների ձեռքբերմանը
C102: Վերջնական արդյունքի նկարագրությունը`
C103: Ստեղծել պայմաններ սովորողների ազատ ժամանացի կազմակերպան միջոցով նրանց հետաքրքրությունների բացահայտման, ձևավորման և զարգացման համար
C104: Ծրագրի միջոցառումներ
...

Sheet Հավելված N 2
F1: Հավելված N 2
F2: ՀՀ կառավարության 2023 թվականի
F3: ______________ ի ___Ն որոշման
A5: ՀԱՅԱՍՏԱՆԻ ՀԱՆՐԱՊԵՏՈՒԹՅԱՆ ԿԱՌԱՎԱՐՈՒԹՅԱՆ 2022 ԹՎԱԿԱՆԻ ԴԵԿՏԵՄԲԵՐԻ 29-Ի N2111-Ն ՈՐՈՇՄԱՆ N 3 ԵՎ N 4 ՀԱՎԵԼՎԱԾՆԵՐՈՒՄ ԿԱՏԱՐՎՈՂ ՓՈՓՈԽՈՒԹՅՈՒՆՆԵՐԸ ԵՎ ԼՐԱՑՈՒՄՆԵՐԸ
H8: հազ. դրամներով
A9: Գործառական դասիչը | D9: Ծրագրային դասիչը | F9: Բյուջետային հատկացումների գլխավոր կարգադրիչների, ծրագրերի, միջոցառումների և միջոցառումները կատարող պետական մարմինների անվանումները | G9: Ցուցանիշների փոփոխությունը (ավելացումները նշված են դրական նշանով, իսկ նվազեցումները՝ փակագծերում)
A10: Բաժին | B10: Խումբ | C10: Դաս | D10: Ծրագիր | E10: Միջոցառում | G10: Ինն ամիս | H10: Տարի
F11: ԸՆԴԱՄԵՆԸ | G11: =+G13+G279 -> 0 | H11: =+H13+H279 -> 0
F12: այդ թվում՝
F13: ՀՀ ԿՐԹՈՒԹՅԱՆ, ԳԻՏՈՒԹՅԱՆ, ՄՇԱԿՈՒՅԹԻ ԵՎ ՍՊՈՐՏԻ ՆԱԽԱՐԱՐՈՒԹՅՈՒՆ | G13: =+G14+G132 -> -190362 | H13: =+H14+H132 -> -324760
A14: 08 | F14: ՀԱՆԳԻՍՏ, ՄՇԱԿՈՒՅԹ ԵՎ ԿՐՈՆ | G14: =+G16+G33 -> -40637.8 | H14: =+H16+H33 -> 716.2
F15: այդ թվում`
B16: 01 | F16: Հանգստի և սպորտի ծառայություններ | G16: =+G18 -> 0 | H16: =+H18 -> 9318
F17: այդ թվում`
C18: 01 | F18: Հանգստի և սպորտի ծառայություններ | G18: =+G20 -> 0 | H18: =+H20 -> 9318
F19: այդ թվում`
F20: ՀՀ կրթության, գիտության, մշակույթի և սպորտի նախարարություն | G20: =+G22 -> 0 | H20: =+H22 -> 9318
F21: այդ թվում`
D22: 1163 | E22: Մասսայական սպորտ | G22: =+G24 -> 0 | H22: =+H24 -> 9318
F23: այդ թվում`
E24: 32003 | F24: Թեթև կոնստրուկցիաներով մարզադահլիճների հիմնում | G24: =+G26 -> 0 | H24: =+H26 -> 9318
F25: այդ թվում` ըստ կատարողների
F26: ՀՀ կրթության, գիտության, մշակույթի և սպորտի նախարարություն | G26: =+G28 -> 0 | H26: =+H28 -> 9318
F27: այդ թվում՝ բյուջետային ծախսերի տնտեսագիտական դասակարգման հոդվածներ
F28: ԸՆԴԱՄԵՆԸ ԾԱԽՍԵՐ | G28: =+G29 -> 0 | H28: =+H29 -> 9318
F29: ՈՉ ՖԻՆԱՆՍԱԿԱՆ ԱԿՏԻՎՆԵՐԻ ԳԾՈՎ ԾԱԽՍԵՐ | G29: =+G30 -> 0 | H29: =+H30 -> 9318
F30: ՀԻՄՆԱԿԱՆ ՄԻՋՈՑՆԵՐ | G30: =+G31 -> 0 | H30: =+H31 -> 9318
F31: ԱՅԼ ՀԻՄՆԱԿԱՆ ՄԻՋՈՑՆԵՐ | G31: =+G32 -> 0 | H31: =+H32 -> 9318
F32: - Նախագծահետազոտական ծախսեր | G32: =+'Հավելված N 4'!E57 -> 0 | H32: =+'Հավելված N 4'!F57 -> 9318
B33: 02 | F33: Մշակութային ծառայություններ | G33: =+G35+G50+G69+G84+G117 -> -40637.8 | H33: =+H35+H50+H69+H84+H117 -> -8601.8
F34: այդ թվում`
C35: 01 | F35: Գրադարաններ | G35: =+G37 -> 31522 | H35: =+H37 -> 31522
F36: այդ թվում`
F37: ՀՀ կրթության, գիտության, մշակույթի և սպորտի նախարարություն | G37: =+G39 -> 31522 | H37: =+H39 -> 31522
F38: այդ թվում`
D39: 1124 | E39: Գրահրատարակչության և գրադարանների ծրագիր | G39: =+G41 -> 31522 | H39: =+H41 -> 31522
F40: այդ թվում`
E41: 32001 | F41: Հանրային գրադարանների նյութատեխնիկական բազայի զարգացում | G41: =+G43 -> 31522 | H41: =+H43 -> 31522
F42: այդ թվում` ըստ կատարողների
F43: ՀՀ կրթության, գիտության, մշակույթի և սպորտի նախարարություն | G43: =+G45 -> 31522 | H43: =+H45 -> 31522
F44: այդ թվում՝ բյուջետային ծախսերի տնտեսագիտական դասակարգման հոդվածներ
F45: ԸՆԴԱՄԵՆԸ ԾԱԽՍԵՐ | G45: =+G46 -> 31522 | H45: =+H46 -> 31522
F46: ԸՆԹԱՑԻԿ ԾԱԽՍԵՐ | G46: =+G47 -> 31522 | H46: =+H47 -> 31522
F47: ԴՐԱՄԱՇՆՈՐՀՆԵՐ | G47: =+G48 -> 31522 | H47: =+H48 -> 31522
F48: ԿԱՊԻՏԱԼ ԴՐԱՄԱՇՆՈՐՀՆԵՐ ՊԵՏԱԿԱՆ ՀԱՏՎԱԾԻ ԱՅԼ ՄԱԿԱՐԴԱԿՆԵՐԻՆ | G48: =+G49 -> 31522 | H48: =+H49 -> 31522
F49: - Կապիտալ դրամաշնորհներ պետական և համայնքային ոչ առևտրային կազմակերպություններին | G49: =+'Հավելված N 5'!G23 -> 31522 | H49: =+G49 -> 31522
C50: 02 | F50: Թանգարաններ և ցուցասրահներ | G50: =+G52 -> 8979.2 | H50: =+H52 -> 84449.3
F51: այդ թվում`
F52: ՀՀ կրթության, գիտության, մշակույթի և սպորտի նախարարություն | G52: =+G54 -> 8979.2 | H52: =+H54 -> 84449.3
F53: այդ թվում`
D54: 1075 | E54: Մշակութային ժառանգության ծրագիր | G54: =+G56 -> 8979.2 | H54: =+H56 -> 84449.3
F55: այդ թվում`
E56: 32001 | F56: Ներդրումներ թանգարանների և պատկերասրահների հիմնանորոգման համար | G56: =+G58 -> 8979.2 | H56: =+H58 -> 84449.3
F57: այդ թվում` ըստ կատարողների
F58: ՀՀ կրթության, գիտության, մշակույթի և սպորտի նախարարություն | G58: =+G60 -> 8979.2 | H58: =+H60 -> 84449.3
F59: այդ թվում՝ բյուջետային ծախսերի տնտեսագիտական դասակարգման հոդվածներ
F60: ԸՆԴԱՄԵՆԸ ԾԱԽՍԵՐ | G60: =+G61+G65 -> 8979.2 | H60: =+H61+H65 -> 84449.3
F61: ԸՆԹԱՑԻԿ ԾԱԽՍԵՐ | G61: =+G62 -> 8979.2 | H61: =+H62 -> 8979.2
F62: ԴՐԱՄԱՇՆՈՐՀՆԵՐ | G62: =+G63 -> 8979.2 | H62: =+H63 -> 8979.2
F63: ԿԱՊԻՏԱԼ ԴՐԱՄԱՇՆՈՐՀՆԵՐ ՊԵՏԱԿԱՆ ՀԱՏՎԱԾԻ ԱՅԼ ՄԱԿԱՐԴԱԿՆԵՐԻՆ | G63: =+G64 -> 8979.2 | H63: =+H64 -> 8979.2
F64: - Կապիտալ դրամաշնորհներ պետական և համայնքային ոչ առևտրային կազմակերպություններին | G64: =+'Հավելված N 5'!G18 -> 8979.2 | H64: =+G64 -> 8979.2
F65: ՈՉ ՖԻՆԱՆՍԱԿԱՆ ԱԿՏԻՎՆԵՐԻ ԳԾՈՎ ԾԱԽՍԵՐ | G65: =+G66 -> 0 | H65: =+H66 -> 75470.1
F66: ՀԻՄՆԱԿԱՆ ՄԻՋՈՑՆԵՐ | G66: =+G67 -> 0 | H66: =+H67 -> 75470.1
F67: ՇԵՆՔԵՐ ԵՎ ՇԻՆՈՒԹՅՈՒՆՆԵՐ | G67: =+G68 -> 0 | H67: =+H68 -> 75470.1
F68: - Շենքերի և շինությունների կապիտալ վերանորոգում | G68: =+'Հավելված N 4'!E30 -> 0 | H68: =+'Հավելված N 4'!F30 -> 75470.1
C69: 04 | F69: Այլ մշակութային կազմակերպություններ | G69: =+G71 -> 11037.2 | H69: =+H71 -> 11037.2
F70: այդ թվում`
F71: ՀՀ կրթության, գիտության, մշակույթի և սպորտի նախարարություն | G71: =+G73 -> 11037.2 | H71: =+H73 -> 11037.2
F72: այդ թվում`
D73: 1075 | E73: Մշակութային ժառանգության ծրագիր | G73: =+G75 -> 11037.2 | H73: =+H75 -> 11037.2
F74: այդ թվում`
E75: 32009 | F75: Պատմամշակութային ժառանգության ոլորտի կազմակերպությունների գույքային ապահովվածության բարելավում | G75: =+G77 -> 11037.2 | H75: =+H77 -> 11037.2
F76: այդ թվում` ըստ կատարողների
F77: ՀՀ կրթության, գիտության, մշակույթի և սպորտի նախարարություն | G77: =+G79 -> 11037.2 | H77: =+H79 -> 11037.2
F78: այդ թվում՝ բյուջետային ծախսերի տնտեսագիտական դասակարգման հոդվածներ
F79: ԸՆԴԱՄԵՆԸ ԾԱԽՍԵՐ | G79: =+G80 -> 11037.2 | H79: =+H80 -> 11037.2
F80: ԸՆԹԱՑԻԿ ԾԱԽՍԵՐ | G80: =+G81 -> 11037.2 | H80: =+H81 -> 11037.2
F81: ԴՐԱՄԱՇՆՈՐՀՆԵՐ | G81: =+G82 -> 11037.2 | H81: =+H82 -> 11037.2
F82: ԿԱՊԻՏԱԼ ԴՐԱՄԱՇՆՈՐՀՆԵՐ ՊԵՏԱԿԱՆ ՀԱՏՎԱԾԻ ԱՅԼ ՄԱԿԱՐԴԱԿՆԵՐԻՆ | G82: =+G83 -> 11037.2 | H82: =+H83 -> 11037.2
F83: - Կապիտալ դրամաշնորհներ պետական և համայնքային ոչ առևտրային կազմակերպություններին | G83: =+'Հավելված N 5'!G20 -> 11037.2 | H83: =+G83 -> 11037.2
C84: 05 | F84: Արվեստ | G84: =+G86 -> -149394.9 | H84: =+H86 -> -192829
F85: այդ թվում`
F86: ՀՀ կրթության, գիտության, մշակույթի և սպորտի նախարարություն | G86: =+G88 -> -149394.9 | H86: =+H88 -> -192829
F87: այդ թվում`
D88: 1168 | E88: Արվեստների ծրագիր | G88: =+G90 -> -149394.9 | H88: =+H90 -> -192829
F89: այդ թվում`
E90: 32001 | F90: Ներդրումներ թատրոնների շենքերի կապիտալ վերանորոգման համար | G90: =+G92+G103+G110 -> -149394.9 | H90: =+H92+H103+H110 -> -192829
F91: այդ թվում` ըստ կատարողների
F92: ՀՀ կրթության, գիտության, մշակույթի և սպորտի նախարարություն | G92: =+G94 -> 15808.4 | H92: =+H94 -> 15808.4
F93: այդ թվում՝ բյուջետային ծախսերի տնտեսագիտական դասակարգման հոդվածներ
F94: ԸՆԴԱՄԵՆԸ ԾԱԽՍԵՐ | G94: =+G95+G99 -> 15808.4 | H94: =+H95+H99 -> 15808.4
F95: ԸՆԹԱՑԻԿ ԾԱԽՍԵՐ | G95: =+G96 -> 14988.4 | H95: =+H96 -> 14988.4
F96: ԴՐԱՄԱՇՆՈՐՀՆԵՐ | G96: =+G97 -> 14988.4 | H96: =+H97 -> 14988.4
F97: ԿԱՊԻՏԱԼ ԴՐԱՄԱՇՆՈՐՀՆԵՐ ՊԵՏԱԿԱՆ ՀԱՏՎԱԾԻ ԱՅԼ ՄԱԿԱՐԴԱԿՆԵՐԻՆ | G97: =+G98 -> 14988.4 | H97: =+H98 -> 14988.4
F98: - Կապիտալ դրամաշնորհներ պետական և համայնքային ոչ առևտրային կազմակերպություններին | G98: =+'Հավելված N 5'!G29 -> 14988.4 | H98: =+G98 -> 14988.4
F99: ՈՉ ՖԻՆԱՆՍԱԿԱՆ ԱԿՏԻՎՆԵՐԻ ԳԾՈՎ ԾԱԽՍԵՐ | G99: =+G100 -> 820 | H99: =+H100 -> 820
F100: ՀԻՄՆԱԿԱՆ ՄԻՋՈՑՆԵՐ | G100: =+G101 -> 820 | H100: =+H101 -> 820
F101: ԱՅԼ ՀԻՄՆԱԿԱՆ ՄԻՋՈՑՆԵՐ | G101: =+G102 -> 820 | H101: =+H102 -> 820
F102: - Նախագծահետազոտական ծախսեր | G102: =+'Հավելված N 4'!E63 -> 820 | H102: =+'Հավելված N 4'!F63 -> 820
F103: ՀՀ քաղաքաշինության կոմիտե | G103: =+G105 -> -165203.3 | H103: =+H105 -> -330406.6
...

Sheet Հավելված N 3
F1: Հավելված N 3
F2: ՀՀ կառավարության 2023 թվականի
F3: ______________ ի ___Ն որոշման
A5: «ՀԱՅԱUՏԱՆԻ ՀԱՆՐԱՊԵՏՈՒԹՅԱՆ 2023 ԹՎԱԿԱՆԻ ՊԵՏԱԿԱՆ ԲՅՈՒՋԵԻ ՄԱUԻՆ» ՀԱՅԱUՏԱՆԻ ՀԱՆՐԱՊԵՏՈՒԹՅԱՆ OՐԵՆՔԻ N 1 ՀԱՎԵԼՎԱԾԻ N 3 ԱՂՅՈՒՍԱԿՈՒՄ ԿԱՏԱՐՎՈՂ ՓՈՓՈԽՈՒԹՅՈՒՆՆԵՐԸ ԵՎ ԼՐԱՑՈՒՄՆԵՐԸ
H8: հազ. դրամներով
A9: Ծրագրային դասիչ | C9: Բյուջետային գլխավոր կարգադրիչների, ծրագրերի, միջոցառումների և ուղղությունների անվանումները | D9: Ընդամենը | E9: Ցուցանիշների փոփոխությունը (ավելացումները նշված են դրական նշանով, իսկ նվազեցումները՝ փակագծերում)
A10: Ծրագիր | B10: Միջոցառում | E10: Կառուցման աշխատանքներ | F10: Վերակառուցման, վերանորոգման և վերականգնման աշխատանքներ | G10: Նախագծահե- տազոտական, գեոդեզիա- քարտեզագրա- կան աշխա- տանքներ | H10: Ոչ ֆինանսական այլ ակտիվների ձեռքբերում
C11: ԸՆԴԱՄԵՆԸ | D11: =SUM(E11:H11) -> -486836.8 | E11: =+E13 -> -589212.3 | F11: =+F13 -> 76687.1 | G11: =+G13 -> 25688.4 | H11: =+H13 -> 0
C12: այդ թվում՝
C13: ՀՀ ԿՐԹՈՒԹՅԱՆ, ԳԻՏՈՒԹՅԱՆ, ՄՇԱԿՈՒՅԹԻ ԵՎ ՍՊՈՐՏԻ ՆԱԽԱՐԱՐՈՒԹՅՈՒՆ | D13: =SUM(E13:H13) -> -486836.8 | E13: =+E15+E21+E25+E29+E36+E40+E44+E48+E55+E62+E65+E75 -> -589212.3 | F13: =+F15+F21+F25+F29+F36+F40+F44+F48+F55+F62+F65+F75 -> 76687.1 | G13: =+G15+G21+G25+G29+G36+G40+G44+G48+G55+G62+G65+G75 -> 25688.4 | H13: =+H15+H21+H25+H29+H36+H40+H44+H48+H55+H62+H65+H75 -> 0
C14: այդ թվում`
A15: 1045 | B15: 32001 | C15: Նախնական մասնագիտական (արհեստագործական) և միջին մասնագիտական ուսումնական հաստատությունների շենքային պայմանների բարելավում | D15: =+E15+F15+G15+H15 -> 116404.5 | E15: =+E17 -> 0 | F15: =+F17 -> 116404.5 | G15: =+G17 -> 0 | H15: =+H17 -> 0
C16: այդ թվում`
C17: Երևան քաղաք | D17: =SUM(E17:H17) -> 116404.5 | E17: =+E18+E19+E20 -> 0 | F17: =+F18+F19+F20 -> 116404.5 | G17: =+G18+G19+G20 -> 0 | H17: =+H18+H19+H20 -> 0
C18: «Երևանի պետական հումանիտար քոլեջ» ՊՈԱԿ | D18: =+E18+F18+G18+H18 -> 38444.8 | F18: =+'Հավելված N 8'!I40+'Հավելված N 8'!I44+'Հավելված N 8'!I47 -> 38444.8
C19: «Երևանի հ. 4 արհեստագործական ուսումնարան» ՊՈԱԿ | D19: =+E19+F19+G19+H19 -> 48854.6 | F19: =+'Հավելված N 8'!I41+'Հավելված N 8'!I45+'Հավելված N 8'!I48 -> 48854.6
C20: «Երևանի հ. 9 արհեստագործական ուսումնարան» ՊՈԱԿ | D20: =+E20+F20+G20+H20 -> 29105.1 | F20: =+'Հավելված N 8'!I42+'Հավելված N 8'!I46+'Հավելված N 8'!I49 -> 29105.1
A21: 1045 | B21: 32005 | C21: Նախնական մասնագիտական (արհեստագործական) և միջին մասնագիտական ուսումնական հաստատությունների շենքերի կառուցում | D21: =+E21+F21+G21+H21 -> -5117.8 | E21: =+E23 -> 0 | F21: =+F23 -> 0 | G21: =+G23 -> -5117.8 | H21: =+H23 -> 0
C22: այդ թվում`
C23: Երևան քաղաք | D23: =SUM(E23:H23) -> -5117.8 | E23: =+E24 -> 0 | F23: =+F24 -> 0 | G23: =+G24 -> -5117.8 | H23: =+H24 -> 0
C24: «Երևանի զարդակիրառական արվեստի արհեստագործական պետական ուսումնարան» ՊՈԱԿ | D24: =+E24+F24+G24+H24 -> -5117.8 | G24: =+'Հավելված N 8'!I52+'Հավելված N 8'!I53 -> -5117.8
A25: 1075 | B25: 32001 | C25: Ներդրումներ թանգարանների և պատկերասրահների հիմնանորոգման համար | D25: =+E25+F25+G25+H25 -> 75470.1 | E25: =+E27 -> 0 | F25: =+F27 -> 75470.1 | G25: =+G27 -> 0 | H25: =+H27 -> 0
C26: այդ թվում`
C27: Երևան քաղաք | D27: =SUM(E27:H27) -> 75470.1 | E27: =+E28 -> 0 | F27: =+F28 -> 75470.1 | G27: =+G28 -> 0 | H27: =+H28 -> 0
C28: «Հայաստանի ազգային պատկերասրահ» ՊՈԱԿ | D28: =+E28+F28+G28+H28 -> 75470.1 | F28: =+'Հավելված N 8'!I19+'Հավելված N 8'!I21+'Հավելված N 8'!I22 -> 75470.1
A29: 1146 | B29: 12010 | C29: «Մոդուլային» տիպի մանկապարտեզների շենքային ապահովում | D29: =+E29+F29+G29+H29 -> -320020 | E29: =+E31+E33 -> -329700 | F29: =+F31+F33 -> 0 | G29: =+G31+G33 -> 9680 | H29: =+H31+H33 -> 0
C30: այդ թվում`
C31: ՀՀ Լոռու մարզ | D31: =SUM(E31:H31) -> 4740 | E31: =+E32 -> 0 | F31: =+F32 -> 0 | G31: =+G32 -> 4740 | H31: =+H32 -> 0
C32: ՀՀ Լոռու մարզի Լուսաղբյուր համայնքում «Մոդուլային» տիպի 144 տեղ հզորությամբ մսուր-մանկապարտեզ | D32: =+E32+F32+G32+H32 -> 4740 | G32: =+'Հավելված N 8'!I88 -> 4740
C33: ՀՀ Վայոց Ձորի մարզ | D33: =SUM(E33:H33) -> -324760 | E33: =+E34+E35 -> -329700 | F33: =+F34+F35 -> 0 | G33: =+G34+G35 -> 4940 | H33: =+H34+H35 -> 0
C34: ՀՀ Վայոց ձորի մարզի Եղեգիս համայնքի Շատին բնակավայրում «Մոդուլային» տիպի 144 տեղ հզորությամբ մսուր-մանկապարտեզ | D34: =+E34+F34+G34+H34 -> -381500 | E34: -381500
C35: ՀՀ Վայոց ձորի մարզի Եղեգիս համայնքի Շատին բնակավայրում «Մոդուլային» տիպի 250 տեղ հզորությամբ մսուր-մանկապարտեզ | D35: =+E35+F35+G35+H35 -> 56740 | E35: =381500+'Հավելված N 8'!I84+'Հավելված N 8'!I86+'Հավելված N 8'!I87 -> 51800 | G35: =+'Հավելված N 8'!I89+'Հավելված N 8'!I90 -> 4940
A36: 1148 | B36: 32005 | C36: Արտադպրոցական դաստիարակություն իրականացնող կազմակերպությունների շենքային պայմանների բարելավում | D36: =+E36+F36+G36+H36 -> 669.3 | E36: =+E38 -> 0 | F36: =+F38 -> 0 | G36: =+G38 -> 669.3 | H36: =+H38 -> 0
C37: այդ թվում`
C38: Երևան քաղաք | D38: =SUM(E38:H38) -> 669.3 | E38: =+E39 -> 0 | F38: =+F39 -> 0 | G38: =+G39 -> 669.3 | H38: =+H39 -> 0
C39: «Երևանի հրաձգության մանկապատանեկան մարզադպրոց» ՊՈԱԿ | D39: =+E39+F39+G39+H39 -> 669.3 | G39: =+'Հավելված N 8'!I35+'Հավելված N 8'!I36 -> 669.3
A40: 1163 | B40: 12001 | C40: Աջակցություն համայնքներին մարզական հաստատությունների շենքային պայմանների բարելավման համար | D40: =+E40+F40+G40+H40 -> -3142.8 | E40: =+E42 -> 0 | F40: =+F42 -> -3142.8 | G40: =+G42 -> 0 | H40: =+H42 -> 0
C41: այդ թվում`
C42: Երևան քաղաք | D42: =SUM(E42:H42) -> -3142.8 | E42: =+E43 -> 0 | F42: =+F43 -> -3142.8 | G42: =+G43 -> 0 | H42: =+H43 -> 0
C43: «Երևանի թենիսի և բադմինթոնի մանկապատանեկան մարզադպրոց» ՀՈԱԿ | D43: =+E43+F43+G43+H43 -> -3142.8 | F43: =+'Հավելված N 8'!I93+'Հավելված N 8'!I95 -> -3142.8
A44: 1163 | B44: 32003 | C44: Թեթև կոնստրուկցիաներով մարզադահլիճների հիմնում | D44: =+E44+F44+G44+H44 -> 9318 | E44: =+E46 -> 0 | F44: =+F46 -> 0 | G44: =+G46 -> 9318 | H44: =+H46 -> 0
C45: այդ թվում`
C46: ՀՀ Կոտայքի մարզ | D46: =SUM(E46:H46) -> 9318 | E46: =+E47 -> 0 | F46: =+F47 -> 0 | G46: =+G47 -> 9318 | H46: =+H47 -> 0
C47: ՀՀ Կոտայքի մարզի Նաիրի համայնքի Զովունի գյուղում թեթև կոնստրուկցիաներով մարզադահլիճ | D47: =+E47+F47+G47+H47 -> 9318 | G47: =+'Հավելված N 8'!I14+'Հավելված N 8'!I15 -> 9318
A48: 1168 | B48: 32001 | C48: Ներդրումներ թատրոնների շենքերի կապիտալ վերանորոգման համար | D48: =+E48+F48+G48+H48 -> -207817.4 | E48: =+E50+E52+E54 -> 0 | F48: =+F50+F52+F54 -> -208637.4 | G48: =+G50+G52+G54 -> 820 | H48: =+H50+H52+H54 -> 0
C49: այդ թվում`
C50: Երևան քաղաք | D50: =SUM(E50:H50) -> 820 | E50: =+E51 -> 0 | F50: =+F51 -> 0 | G50: =+G51 -> 820 | H50: =+H51 -> 0
C51: «Հայաստանի պետական սիմֆոնիկ նվագախումբ» ՊՈԱԿ | D51: =+E51+F51+G51+H51 -> 820 | G51: =+'Հավելված N 8'!I26 -> 820
C52: ՀՀ Լոռու մարզ | D52: =SUM(E52:H52) -> -330406.6 | E52: =+E53 -> 0 | F52: =+F53 -> -330406.6 | G52: =+G53 -> 0 | H52: =+H53 -> 0
C53: «Վանաձորի Հ. Աբելյանի անվան պետական դրամատիկական թատրոն» ՊՈԱԿ | D53: =+E53+F53+G53+H53 -> -330406.6 | F53: =+'Հավելված N 8'!I77+'Հավելված N 8'!I79+'Հավելված N 8'!I80 -> -330406.6
C54: Ներդրումներ թատրոնների և համերգային կազմակերպությունների շենքերի կապիտալ վերանորոգման համար | D54: =SUM(E54:H54) -> 121769.2 | E54: 0 | F54: 121769.2 | G54: 0 | H54: 0
A55: 1183 | B55: 32001 | C55: Կրթական օբյեկտների շենքային պայմանների բարելավում | D55: =+E55+F55+G55+H55 -> 8659.9 | E55: =+E57+E60 -> 0 | F55: =+F57+F60 -> 0 | G55: =+G57+G60 -> 8659.9 | H55: =+H57+H60 -> 0
C56: այդ թվում`
C57: Երևան քաղաք | D57: =SUM(E57:H57) -> -383.9 | E57: =+E58+E59 -> 0 | F57: =+F58+F59 -> 0 | G57: =+G58+G59 -> -383.9 | H57: =+H58+H59 -> 0
C58: «Երևանի Վ.Համբարձումյանի անվան հ.12 հիմնական դպրոց» ՊՈԱԿ | D58: =+E58+F58+G58+H58 -> 865.8 | G58: =+'Հավելված N 8'!I57+'Հավելված N 8'!I60 -> 865.8
C59: «Երևանի Գր. Բաղյանի անվան հ. 141 հիմնական դպրոց» ՊՈԱԿ | D59: =+E59+F59+G59+H59 -> -1249.7 | G59: =+'Հավելված N 8'!I56+'Հավելված N 8'!I59 -> -1249.7
C60: ՀՀ Արմավիրի մարզ | D60: =SUM(E60:H60) -> 9043.8 | E60: =+E61 -> 0 | F60: =+F61 -> 0 | G60: =+G61 -> 9043.8 | H60: =+H61 -> 0
C61: «Վաղարշապատի Մեսրոպ Մաշտոցի անվան թիվ 1 հիմնական դպրոց» ՊՈԱԿ | D61: =+E61+F61+G61+H61 -> 9043.8 | G61: =+'Հավելված N 8'!I58 -> 9043.8
A62: 1183 | B62: 32003 | C62: Փոքրաքանակ երեխաներով համալրված հանրակրթական դպրոցների և կրթահամալիրների մոդուլային շենքերի կառուցում | D62: =SUM(E62:H62) -> -259512.3 | E62: =+E64 -> -259512.3 | F62: =+F64 -> 0 | G62: =+G64 -> 0 | H62: =+H64 -> 0
C63: այդ թվում`
C64: Փոքրաքանակ երեխաներով համալրված հանրակրթական դպրոցների և կրթահամալիրների մոդուլային շենքերի կառուցում | D64: =+E64+F64+G64+H64 -> -259512.3 | E64: -259512.3
A65: 1183 | B65: 32004 | C65: Ավագ մակարդակի կրթություն իրականացնող ուսումնական հաստատությունների շենքային պայմանների բարելավում | D65: =+E65+F65+G65+H65 -> 97771.7 | E65: =+E67+E69+E71+E73 -> 0 | F65: =+F67+F69+F71+F73 -> 96592.7 | G65: =+G67+G69+G71+G73 -> 1179 | H65: =+H67+H69+H71+H73 -> 0
C66: այդ թվում`
C67: ՀՀ Արագածոտնի մարզ | D67: =SUM(E67:H67) -> 47134 | E67: =+E68 -> 0 | F67: =+F68 -> 47134 | G67: =+G68 -> 0 | H67: =+H68 -> 0
C68: «Ապարանի ֆիզիկամաթեմատիկական ավագ դպրոց» ՊՈԱԿ | D68: =+E68+F68+G68+H68 -> 47134 | F68: =+'Հավելված N 8'!I64+'Հավելված N 8'!I70+'Հավելված N 8'!I72 -> 47134
C69: ՀՀ Արարատի մարզ | D69: =SUM(E69:H69) -> 929 | E69: =+E70 -> 0 | F69: =+F70 -> 0 | G69: =+G70 -> 929 | H69: =+H70 -> 0
C70: «Արտաշատի ավագ դպրոց» ՊՈԱԿ | D70: =+E70+F70+G70+H70 -> 929 | G70: =+'Հավելված N 8'!I66+'Հավելված N 8'!I67 -> 929
C71: ՀՀ Լոռու մարզ | D71: =SUM(E71:H71) -> 49458.7 | E71: =+E72 -> 0 | F71: =+F72 -> 49458.7 | G71: =+G72 -> 0 | H71: =+H72 -> 0
C72: «Ալավերդու N 5 ավագ դպրոց» ՊՈԱԿ | D72: =+E72+F72+G72+H72 -> 49458.7 | F72: =+'Հավելված N 8'!I63+'Հավելված N 8'!I69+'Հավելված N 8'!I71 -> 49458.7
C73: ՀՀ Շիրակի մարզ | D73: =SUM(E73:H73) -> 250 | E73: =+E74 -> 0 | F73: =+F74 -> 0 | G73: =+G74 -> 250 | H73: =+H74 -> 0
C74: «Գյումրու «Ֆոտոն» վարժարան» ՊՈԱԿ | D74: =+E74+F74+G74+H74 -> 250 | G74: =+'Հավելված N 8'!I68 -> 250
A75: 1183 | B75: 32007 | C75: Հանրակրթական կրթություն իրականացնող ուսումնական հաստատությունների նոր մարզադահլիճների կառուցում | D75: =SUM(E75:H75) -> 480 | E75: =+E77 -> 0 | F75: =+F77 -> 0 | G75: =+G77 -> 480 | H75: =+H77 -> 0
C76: այդ թվում`
C77: ՀՀ Շիրակի մարզ | D77: =SUM(E77:H77) -> 480 | E77: =+E78 -> 0 | F77: =+F78 -> 0 | G77: =+G78 -> 480 | H77: =+H78 -> 0
C78: «Ախուրյանի Նիկոլ Աղբալյանի անվան ավագ դպրոց»ՊՈԱԿ | D78: =SUM(E78:H78) -> 480 | G78: =+'Հավելված N 8'!I102 -> 480

Sheet Հավելված N 4
D1: Հավելված N 4
D2: ՀՀ կառավարության 2023 թվականի
D3: ______________ ի ___Ն որոշման
B5: ՀԱՅԱՍՏԱՆԻ ՀԱՆՐԱՊԵՏՈՒԹՅԱՆ ԿԱՌԱՎԱՐՈՒԹՅԱՆ 2022 ԹՎԱԿԱՆԻ ԴԵԿՏԵՄԲԵՐԻ 29-Ի N 2111-Ն ՈՐՈՇՄԱՆ N 5 ՀԱՎԵԼՎԱԾԻ N 2 ԱՂՅՈՒՍԱԿՈՒՄ ԿԱՏԱՐՎՈՂ ՓՈՓՈԽՈՒԹՅՈՒՆՆԵՐԸ ԵՎ ԼՐԱՑՈՒՄՆԵՐԸ
F8: հազ. դրամներով
B9: Ծրագրային դասիչ | D9: Բյուջետային գլխավոր կարգադրիչների, ծրագրերի, միջոցառումների, միջոցառումները կատարող պետական մարմինների և ուղղությունների անվանումները | E9: Ցուցանիշների փոփոխությունը (ավելացումները նշված են դրական նշանով, իսկ նվազեցումները՝ փակագծերում)
B10: Ծրագիր | C10: Միջոցառում | E10: Ինն ամիս | F10: Տարի
D12: ՀՀ ԿՐԹՈՒԹՅԱՆ, ԳԻՏՈՒԹՅԱՆ, ՄՇԱԿՈՒՅԹԻ ԵՎ ՍՊՈՐՏԻ ՆԱԽԱՐԱՐՈՒԹՅՈՒՆ | E12: =+E14+E22+E28+E34+E43+E49+E55+E61+E72+E80+E83+E95 -> -352438.8 | F12: =+F14+F22+F28+F34+F43+F49+F55+F61+F72+F80+F83+F95 -> -486836.8
D13: այդ թվում՝
B14: 1045 | C14: 32001 | D14: Նախնական մասնագիտական (արհեստագործական) և միջին մասնագիտական ուսումնական հաստատությունների շենքային պայմանների բարելավում | E14: =+E16 -> 0 | F14: =+F16 -> 116404.5
D15: այդ թվում` ըստ կատարողների
D16: ՀՀ կրթության, գիտության, մշակույթի և սպորտի նախարարություն | E16: =+E18 -> 0 | F16: =+F18 -> 116404.5
D17: այդ թվում՝ ըստ ուղղությունների
D18: Երևան քաղաք | E18: =+E19+E20+E21 -> 0 | F18: =+F19+F20+F21 -> 116404.5
D19: =+'Հավելված N 3'!C18 -> «Երևանի պետական հումանիտար քոլեջ» ՊՈԱԿ | E19: 0 | F19: =+'Հավելված N 3'!D18 -> 38444.8
D20: =+'Հավելված N 3'!C19 -> «Երևանի հ. 4 արհեստագործական ուսումնարան» ՊՈԱԿ | E20: 0 | F20: =+'Հավելված N 3'!D19 -> 48854.6
D21: =+'Հավելված N 3'!C20 -> «Երևանի հ. 9 արհեստագործական ուսումնարան» ՊՈԱԿ | E21: 0 | F21: =+'Հավելված N 3'!D20 -> 29105.1
B22: 1045 | C22: 32005 | D22: Նախնական մասնագիտական (արհեստագործական) և միջին մասնագիտական ուսումնական հաստատությունների շենքերի կառուցում | E22: =+E24 -> -5117.8 | F22: =+F24 -> -5117.8
D23: այդ թվում` ըստ կատարողների
D24: ՀՀ կրթության, գիտության, մշակույթի և սպորտի նախարարություն | E24: =+E26 -> -5117.8 | F24: =+F26 -> -5117.8
D25: այդ թվում՝ ըստ ուղղությունների
D26: Երևան քաղաք | E26: =+E27 -> -5117.8 | F26: =+F27 -> -5117.8
D27: =+'Հավելված N 3'!C24 -> «Երևանի զարդակիրառական արվեստի արհեստագործական պետական ուսումնարան» ՊՈԱԿ | E27: =+'Հավելված N 3'!D24 -> -5117.8 | F27: =+'Հավելված N 3'!D24 -> -5117.8
B28: 1075 | C28: 32001 | D28: Ներդրումներ թանգարանների և պատկերասրահների հիմնանորոգման համար | E28: =+E30 -> 0 | F28: =+F30 -> 75470.1
D29: այդ թվում` ըստ կատարողների
D30: ՀՀ կրթության, գիտության, մշակույթի և սպորտի նախարարություն | E30: =+E32 -> 0 | F30: =+F32 -> 75470.1
D31: այդ թվում՝ ըստ ուղղությունների
D32: Երևան քաղաք | E32: =+E33 -> 0 | F32: =+F33 -> 75470.1
D33: =+'Հավելված N 3'!C28 -> «Հայաստանի ազգային պատկերասրահ» ՊՈԱԿ | E33: 0 | F33: =+'Հավելված N 3'!D28 -> 75470.1
B34: 1146 | C34: 12010 | D34: «Մոդուլային» տիպի մանկապարտեզների շենքային ապահովում | E34: =+E36 -> -181070 | F34: =+F36 -> -320020
D35: այդ թվում` ըստ կատարողների
D36: ՀՀ քաղաքաշինության կոմիտե | E36: =+E38+E40 -> -181070 | F36: =+F38+F40 -> -320020
D37: այդ թվում` ըստ ուղղությունների
D38: ՀՀ Լոռու մարզ | E38: =+E39 -> 4740 | F38: =+F39 -> 4740
D39: =+'Հավելված N 3'!C32 -> ՀՀ Լոռու մարզի Լուսաղբյուր համայնքում «Մոդուլային» տիպի 144 տեղ հզորությամբ մսուր-մանկապարտեզ | E39: =+'Հավելված N 3'!D32 -> 4740 | F39: =+E39 -> 4740
D40: ՀՀ Վայոց Ձորի մարզ | E40: =+E41+E42 -> -185810 | F40: =+F41+F42 -> -324760
D41: =+'Հավելված N 3'!C34 -> ՀՀ Վայոց ձորի մարզի Եղեգիս համայնքի Շատին բնակավայրում «Մոդուլային» տիպի 144 տեղ հզորությամբ մսուր-մանկապարտեզ | E41: -190750 | F41: =+'Հավելված N 3'!D34 -> -381500
D42: =+'Հավելված N 3'!C35 -> ՀՀ Վայոց ձորի մարզի Եղեգիս համայնքի Շատին բնակավայրում «Մոդուլային» տիպի 250 տեղ հզորությամբ մսուր-մանկապարտեզ | E42: =+'Հավելված N 3'!G35 -> 4940 | F42: =+'Հավելված N 3'!D35 -> 56740
B43: 1148 | C43: 32005 | D43: Արտադպրոցական դաստիարակություն իրականացնող կազմակերպությունների շենքային պայմանների բարելավում | E43: =+E45 -> 0 | F43: =+F45 -> 669.3
D44: այդ թվում` ըստ կատարողների
D45: ՀՀ կրթության, գիտության, մշակույթի և սպորտի նախարարություն | E45: =+E47 -> 0 | F45: =+F47 -> 669.3
D46: այդ թվում` ըստ ուղղությունների
D47: Երևան քաղաք | E47: =+E48 -> 0 | F47: =+F48 -> 669.3
D48: =+'Հավելված N 3'!C39 -> «Երևանի հրաձգության մանկապատանեկան մարզադպրոց» ՊՈԱԿ | E48: =+'Հավելված N 3'!D45 -> 0 | F48: =+'Հավելված N 3'!D39 -> 669.3
B49: 1163 | C49: 12001 | D49: Աջակցություն համայնքներին մարզական հաստատությունների շենքային պայմանների բարելավման համար | E49: =+E51 -> -3142.8 | F49: =+F51 -> -3142.8
D50: այդ թվում` ըստ կատարողների
D51: ՀՀ քաղաքաշինության կոմիտե | E51: =+E53 -> -3142.8 | F51: =+F53 -> -3142.8
D52: այդ թվում՝ ըստ ուղղությունների
D53: Երևան քաղաք | E53: =+E54 -> -3142.8 | F53: =+F54 -> -3142.8
D54: =+'Հավելված N 3'!C43 -> «Երևանի թենիսի և բադմինթոնի մանկապատանեկան մարզադպրոց» ՀՈԱԿ | E54: =+'Հավելված N 3'!D43 -> -3142.8 | F54: =+E54 -> -3142.8
B55: 1163 | C55: 32003 | D55: Թեթև կոնստրուկցիաներով մարզադահլիճների հիմնում | E55: =+E57 -> 0 | F55: =+F57 -> 9318
D56: այդ թվում` ըստ կատարողների
D57: ՀՀ կրթության, գիտության, մշակույթի և սպորտի նախարարություն | E57: =+E59 -> 0 | F57: =+F59 -> 9318
D58: այդ թվում՝ ըստ ուղղությունների
D59: ՀՀ Կոտայքի մարզ | E59: =+E60 -> 0 | F59: =+F60 -> 9318
D60: =+'Հավելված N 3'!C47 -> ՀՀ Կոտայքի մարզի Նաիրի համայնքի Զովունի գյուղում թեթև կոնստրուկցիաներով մարզադահլիճ | E60: 0 | F60: =+'Հավելված N 3'!D47 -> 9318
B61: 1168 | C61: 32001 | D61: Ներդրումներ թատրոնների շենքերի կապիտալ վերանորոգման համար | E61: =+E63+E67+E71 -> -164383.3 | F61: =+F63+F67+F71 -> -207817.4
D62: այդ թվում` ըստ կատարողների
D63: ՀՀ կրթության, գիտության, մշակույթի և սպորտի նախարարություն | E63: =+E65 -> 820 | F63: =+F65 -> 820
D64: այդ թվում՝ ըստ ուղղությունների
D65: Երևան քաղաք | E65: =+E66 -> 820 | F65: =+F66 -> 820
D66: =+'Հավելված N 3'!C51 -> «Հայաստանի պետական սիմֆոնիկ նվագախումբ» ՊՈԱԿ | E66: =+'Հավելված N 3'!D51 -> 820 | F66: =+E66 -> 820
D67: ՀՀ քաղաքաշինության կոմիտե | E67: =+E69 -> -165203.3 | F67: =+F69 -> -330406.6
D68: այդ թվում` ըստ ուղղությունների
D69: ՀՀ Լոռու մարզ | E69: =+E70 -> -165203.3 | F69: =+F70 -> -330406.6
D70: =+'Հավելված N 3'!C53 -> «Վանաձորի Հ. Աբելյանի անվան պետական դրամատիկական թատրոն» ՊՈԱԿ | E70: -165203.3 | F70: =+'Հավելված N 3'!D53 -> -330406.6
D71: ՀՀ կառավարություն | E71: 0 | F71: =+'Հավելված N 3'!D54 -> 121769.2
B72: 1183 | C72: 32001 | D72: Կրթական օբյեկտների շենքային պայմանների բարելավում | E72: =+E74 -> -383.9 | F72: =+F74 -> 8659.9
D73: այդ թվում` ըստ կատարողների
D74: ՀՀ կրթության, գիտության, մշակույթի և սպորտի նախարարություն | E74: =+E75+E78 -> -383.9 | F74: =+F75+F78 -> 8659.9
D75: Երևան քաղաք | E75: =+E76+E77 -> -383.9 | F75: =+F76+F77 -> -383.9
D76: =+'Հավելված N 3'!C58 -> «Երևանի Վ.Համբարձումյանի անվան հ.12 հիմնական դպրոց» ՊՈԱԿ | E76: =+'Հավելված N 3'!D58 -> 865.8 | F76: =+E76 -> 865.8
D77: =+'Հավելված N 3'!C59 -> «Երևանի Գր. Բաղյանի անվան հ. 141 հիմնական դպրոց» ՊՈԱԿ | E77: =+'Հավելված N 3'!D59 -> -1249.7 | F77: =+E77 -> -1249.7
D78: ՀՀ Արմավիրի մարզ | E78: =+E79 -> 0 | F78: =+F79 -> 9043.8
D79: =+'Հավելված N 3'!C61 -> «Վաղարշապատի Մեսրոպ Մաշտոցի անվան թիվ 1 հիմնական դպրոց» ՊՈԱԿ | E79: 0 | F79: =+'Հավելված N 3'!D61 -> 9043.8
B80: 1183 | C80: 32003 | D80: Փոքրաքանակ երեխաներով համալրված հանրակրթական դպրոցների և կրթահամալիրների մոդուլային շենքերի կառուցում | E80: =+E82 -> 0 | F80: =+F82 -> -259512.3
D81: այդ թվում` ըստ կատարողների
D82: ՀՀ կառավարություն | E82: 0 | F82: =+'Հավելված N 3'!D64 -> -259512.3
B83: 1183 | C83: 32004 | D83: Ավագ մակարդակի կրթություն իրականացնող ուսումնական հաստատությունների շենքային պայմանների բարելավում | E83: =+E85 -> 1179 | F83: =+F85 -> 97771.7
D84: այդ թվում` ըստ կատարողների
D85: ՀՀ կրթության, գիտության, մշակույթի և սպորտի նախարարություն | E85: =+E87+E89+E91+E93 -> 1179 | F85: =+F87+F89+F91+F93 -> 97771.7
D86: այդ թվում` ըստ ուղղությունների
D87: ՀՀ Արագածոտնի մարզ | E87: =+E88 -> 0 | F87: =+F88 -> 47134
D88: =+'Հավելված N 3'!C68 -> «Ապարանի ֆիզիկամաթեմատիկական ավագ դպրոց» ՊՈԱԿ | E88: 0 | F88: =+'Հավելված N 3'!D68 -> 47134
D89: ՀՀ Արարատի մարզ | E89: =+E90 -> 929 | F89: =+F90 -> 929
D90: =+'Հավելված N 3'!C70 -> «Արտաշատի ավագ դպրոց» ՊՈԱԿ | E90: =+'Հավելված N 3'!D70 -> 929 | F90: =+E90 -> 929
D91: ՀՀ Լոռու մարզ | E91: =+E92 -> 0 | F91: =+F92 -> 49458.7
D92: =+'Հավելված N 3'!C72 -> «Ալավերդու N 5 ավագ դպրոց» ՊՈԱԿ | E92: 0 | F92: =+'Հավելված N 3'!D72 -> 49458.7
D93: ՀՀ Շիրակի մարզ | E93: =+E94 -> 250 | F93: =+F94 -> 250
D94: =+'Հավելված N 3'!C74 -> «Գյումրու «Ֆոտոն» վարժարան» ՊՈԱԿ | E94: =+'Հավելված N 3'!D74 -> 250 | F94: =+E94 -> 250
B95: 1183 | C95: 32007 | D95: Հանրակրթական կրթություն իրականացնող ուսումնական հաստատությունների նոր մարզադահլիճների կառուցում | E95: =+E97 -> 480 | F95: =+F97 -> 480
D96: այդ թվում` ըստ կատարողների
D97: ՀՀ քաղաքաշինության կոմիտե | E97: =+E99 -> 480 | F97: =+F99 -> 480
D98: այդ թվում` ըստ ուղղությունների
D99: ՀՀ Շիրակի մարզ | E99: =+E100 -> 480 | F99: =+F100 -> 480
D100: =+'Հավելված N 3'!C78 -> «Ախուրյանի Նիկոլ Աղբալյանի անվան ավագ դպրոց»ՊՈԱԿ | E100: =+'Հավելված N 3'!D78 -> 480 | F100: =+E100 -> 480

Sheet Հավելված N 5
F1: Հավելված 5
F2: ՀՀ կառավարության 2023 թվականի
F3: ______________ ի ___Ն որոշման
A6: ՀԱՅԱՍՏԱՆԻ ՀԱՆՐԱՊԵՏՈՒԹՅԱՆ ԿԱՌԱՎԱՐՈՒԹՅԱՆ 2022 ԹՎԱԿԱՆԻ ԴԵԿՏԵՄԲԵՐԻ 29-Ի N 2111-Ն ՈՐՈՇՄԱՆ N 5 ՀԱՎԵԼՎԱԾԻ N 7 ԱՂՅՈՒՍԱԿՈՒՄ ԿԱՏԱՐՎՈՂ ԼՐԱՑՈՒՄՆԵՐԸ
A7: հազ. դրամներով
A8: Ծրագրային դասիչը | D8: Բյուջետային հատկացումների գլխավոր կարգադրիչների, ծրագրերի, միջոցառումների և միջոցառումները կատարող պետական մարմինների անվանումները | F8: Միջոցառումները կատարող պետական մարմինների և դրամաշնորհ ստացող տնտեսվարող սուբյեկտների անվանումները | G8: Ցուցանիշների փոփոխությունը (ավելացումները նշված են դրական նշանով)
A9: Ծրագիր | B9: Միջոցառում | G9: Տարի
A10: ՀՀ կրթության, գիտության, մշակույթի և սպորտի նախարարություն | G10: =+G11+G14+G22+G25+G28+G31 -> 162076.8
A11: 1045 | B11: Նախնական (արհեստագործական) և միջին մասնագիտական կրթություն | G11: =+G12 -> 1757.3
B12: 32001 | C12: Նախնական մասնագիտական (արհեստագործական) և միջին մասնագիտական ուսումնական հաստատությունների շենքային պայմանների բարելավում | F12: ՀՀ կրթության, գիտության, մշակույթի և սպորտի նախարարություն | G12: =+G13 -> 1757.3
F13: «Երևանի պարարվեստի պետական քոլեջ» ՊՈԱԿ | G13: 1757.3
A14: 1075 | B14: Մշակութային ժառանգության ծրագիր | G14: =+G15+G18+G20 -> 77235.1
B15: 21001 | C15: Հուշարձանների ամրակայում, նորոգում և վերականգնում | F15: ՀՀ կրթության, գիտության, մշակույթի և սպորտի նախարարություն | G15: =+G17 -> 57218.7
D16: այդ թվում՝ ըստ ուղղությունների և միջոցառումների անվանումների
E17: Վերականգնողական աշխատանքներ | F17: «Պատմամշակութային արգելոց-թանգարանների և պատմական միջավայրի պահպանության ծառայություն» ՊՈԱԿ | G17: 57218.7
B18: 32001 | C18: Ներդրումներ թանգարանների և պատկերասրահների հիմնանորոգման համար | F18: ՀՀ կրթության, գիտության, մշակույթի և սպորտի նախարարություն | G18: =+G19 -> 8979.2
F19: «Սարդարապատի հերոսամարտի հուշահամալիր, Հայոց ազգագրության և ազատագրական պայքարի պատմության ազգային թանգարան» ՊՈԱԿ | G19: 8979.2
B20: 32009 | C20: Պատմամշակութային ժառանգության ոլորտի կազմակերպությունների գույքային ապահովվածության բարելավում | F20: ՀՀ կրթության, գիտության, մշակույթի և սպորտի նախարարություն | G20: =+G21 -> 11037.2
F21: «Պատմամշակութային ժառանգության գիտահետազոտական կենտրոն» ՊՈԱԿ | G21: 11037.2
A22: 1124 | B22: Գրահրատարակչության և գրադարանների ծրագիր | G22: =+G23 -> 31522
B23: 32001 | C23: Հանրային գրադարանների նյութատեխնիկական բազայի զարգացում | F23: ՀՀ կրթության, գիտության, մշակույթի և սպորտի նախարարություն | G23: =+G24 -> 31522
F24: «Հայաստանի ազգային գրադարան» ՊՈԱԿ | G24: 31522
A25: 1130 | B25: Կրթության, գիտության, մշակույթի և սպորտի բնագավառի պետական քաղաքականության մշակում, ծրագրերի համակարգում և մոնիտորինգ | G25: =+G26 -> 33460.2
B26: 32001 | C26: ՀՀ կրթության, գիտության, մշակույթի և սպորտի բնագավառում օժանդակ ծրագրեր իրականացնող կազմակերպությունների շենքային պայմանների և գույքային հագեցվածության բարելավում | F26: ՀՀ կրթության, գիտության, մշակույթի և սպորտի նախարարություն | G26: =SUM(G27:G27) -> 33460.2
F27: «Գնահատման և թեստավորման կենտրոն» ՊՈԱԿ | G27: 33460.2
A28: 1168 | B28: Արվեստների ծրագիր | G28: =+G29 -> 14988.4
B29: 32001 | C29: Ներդրումներ թատրոնների շենքերի կապիտալ վերանորոգման համար | F29: ՀՀ կրթության, գիտության, մշակույթի և սպորտի նախարարություն | G29: =+G30 -> 14988.4
F30: «Երևանի Հ.Թումանյանի անվան պետական տիկնիկային թատրոն» ՊՈԱԿ | G30: 14988.4
A31: 1183 | B31: Ապահով դպրոց | G31: =+G32 -> 3113.8
B32: 32012 | C32: Հանրակրթական դպրոցների գույքով և տեխնիկայով ապահովում | G32: =+G33+G35 -> 3113.8
F33: ՀՀ կրթության, գիտության, մշակույթի և սպորտի նախարարություն | G33: =+G34 -> 601.8
F34: «Վանաձորի Սայաթ-Նովայի անվան N 10 ավագ դպրոց» ՊՈԱԿ | G34: 601.8
F35: ՀՀ Շիրակի մարզպետարան | G35: =+G36 -> 2512
F36: «Լանջիկի միջնակարգ դպրոց» ՊՈԱԿ | G36: 2512

Sheet Հավելված N 6
C1: Հավելված N 6
C2: ՀՀ կառավարության 2023 թվականի
C3: ______________ ի ___Ն որոշման
B5: ՀԱՅԱՍՏԱՆԻ ՀԱՆՐԱՊԵՏՈՒԹՅԱՆ ԿԱՌԱՎԱՐՈՒԹՅԱՆ 2022 ԹՎԱԿԱՆԻ ԴԵԿՏԵՄԲԵՐԻ 29-Ի N 2111-Ն ՈՐՈՇՄԱՆ N 9 ՀԱՎԵԼՎԱԾԻ NN 9.13 ԵՎ 9.47 ԱՂՅՈՒՍԱԿՆԵՐՈՒՄ ԿԱՏԱՐՎՈՂ ՓՈՓՈԽՈՒԹՅՈՒՆՆԵՐԸ ԵՎ ԼՐԱՑՈՒՄՆԵՐԸ
A7: Աղյուսակ 9․13
C8: ՀՀ կրթության, գիտության, մշակույթի և սպորտի նախարարություն
B9: ՄԱՍ 2. ՊԵՏԱԿԱՆ ՄԱՐՄՆԻ ԳԾՈՎ ԱՐԴՅՈՒՆՔԱՅԻՆ (ԿԱՏԱՐՈՂԱԿԱՆ) ՑՈՒՑԱՆԻՇՆԵՐԸ
B12: Ծրագրի դասիչը | C12: Ծրագրի անվանումը
B13: 1045 | C13: Նախնական (արհեստագործական) և միջին մասնագիտական կրթություն
B15: Ծրագրի միջոցառումները | D15: Ցուցանիշների փոփոխությունը (ավելացումները նշված են դրական նշանով)
B16: Ծրագրի դասիչը՝ | C16: 1045
B17: Միջոցառման դասիչը՝ | C17: 32001 | D17: Ինն ամիս | E17: Տարի
B18: Միջոցառման անվանումը՝ | C18: Նախնական մասնագիտական (արհեստագործական) և միջին մասնագիտական ուսումնական հաստատությունների շենքային պայմանների բարելավում
B19: Նկարագրությունը՝ | C19: ՆՄՄԿՈՒ հաստատությունների շենքերի հիմնանորոգման և նախագծման (շինարարական աշխատանքներ, ջեռուցման համակարգի ստեղծում, ներքին հարդարում, տարածքի բարեկարգում) աշխատանքների իրականացում
B20: Միջոցառման տեսակը՝ | C20: Այլ պետական կազմակերպությունների կողմից օգտագործվող ոչ ֆինանսական ակտիվների հետ գործառնություններ
B21: Ակտիվն օգտագործող կազմակերպությունների անվանումները | C21: Նախնական մասնագիտական (արհեստագործական) և միջին մասնագիտական ուսումնական հաստատություններ
B22: Արդյունքի չափորոշիչներ
B23: Հիմնանորոգվող միջին մասնագիտական ուսումնական հաստատությունների քանակ, հատ | D23: 0 | E23: 4
B24: Հաստատությունների քանակ, որոնց շինարարական աշխատանքների ավարտվածության աստիճանը 100% է, հատ | D24: 0 | E24: 4
B25: Միջոցառման վրա կատարվող ծախսը (հազար դրամ) | D25: =+'Հավելված N 1'!D23 -> 1757.3 | E25: =+'Հավելված N 1'!E23 -> 118161.8
B27: Ծրագրի միջոցառումները | D27: Ցուցանիշների փոփոխությունը (նվազեցումները նշված են փակագծերում)
B28: Ծրագրի դասիչը՝ | C28: 1045
B29: Միջոցառման դասիչը՝ | C29: 32005 | D29: Ինն ամիս | E29: Տարի
B30: Միջոցառման անվանումը` | C30: Նախնական մասնագիտական (արհեստագործական) և միջին մասնագիտական ուսումնական հաստատությունների շենքերի կառուցում
B31: Նկարագրությունը` | C31: ՆՄՄԿՈՒ հաստատությունների շենքերի (մասնաշենքերի) կառուցման և նախագծման աշխատանքների իրականացում
B32: Միջոցառման տեսակը` | C32: Այլ պետական կազմակերպությունների կողմից օգտագործվող ոչ ֆինանսական ակտիվների հետ գործառնություններ
B33: Ակտիվն օգտագործող կազմակերպությունների անվանումները | C33: Նախնական մասնագիտական (արհեստագործական) և միջին մասնագիտական ուսումնական հաստատություններ
B34: Արդյունքի չափորոշիչներ
B35: Նախագծանախահաշվային փաստաթղթերի քանակ, հատ | D35: -1 | E35: -1
B36: Միջոցառման վրա կատարվող ծախսը (հազար դրամ) | D36: =+'Հավելված N 1'!D29 -> -5117.8 | E36: =+'Հավելված N 1'!E29 -> -5117.8
B38: Ծրագրի դասիչը | C38: Ծրագրի անվանումը
B39: 1075 | C39: Մշակութային ժառանգության ծրագիր
B41: Ծրագրի միջոցառումները | D41: Ցուցանիշների փոփոխությունը (ավելացումները նշված են դրական նշանով)
B42: Ծրագրի դասիչը՝ | C42: 1075
B43: Միջոցառման դասիչը՝ | C43: 21001 | D43: Ինն ամիս | E43: Տարի
B44: Միջոցառման անվանումը՝ | C44: Հուշարձանների ամրակայում, նորոգում և վերականգնում
B45: Նկարագրությունը՝ | C45: Հուշարձանների գիտանախագծային փաստաթղթերի կազմում, հրատապ ուսումնասիրում, վավերագրման և ուսումնասիրման աշխատանքներ, հետախուզում և հնագիտական պեղում, ամրակայում, նորոգում և վերականգնում
B46: Միջոցառման տեսակը՝ | C46: Հանրության կողմից անմիջականորեն օգտագործվող ակտիվների հետ կապված միջոցառումներ
B47: Միջոցառումն իրականացնողի անվանումը | C47: Մասնագիտացված կազմակերպություն
B48: Արդյունքի չափորոշիչներ
B49: Հուշարձանների ամրակայման, նորոգման և վերականգնման աշխատանքներ, քանակ | D49: 0 | E49: 1
B50: Միջոցառման վրա կատարվող ծախսը (հազար դրամ) | D50: =+'Հավելված N 1'!D42 -> 57218.7 | E50: =+'Հավելված N 1'!E42 -> 57218.7
B52: Ծրագրի միջոցառումները | D52: Ցուցանիշների փոփոխությունը (ավելացումները նշված են դրական նշանով)
B53: Ծրագրի դասիչը՝ | C53: 1075
B54: Միջոցառման դասիչը՝ | C54: 32001 | D54: Ինն ամիս | E54: Տարի
B55: Միջոցառման անվանումը` | C55: Ներդրումներ թանգարանների և պատկերասրահների հիմնանորոգման համար
B56: Նկարագրությունը` | C56: Թանգարանների և պատկերասրահների շենքերի, մասնաշենքերի հիմնանորոգում, համաշինարարական աշխատանքներ, ջեռուցման համակարգի իրականացում, ներքին հարդարում, տարածքի բարեկարգում և նախագծում
B57: Միջոցառման տեսակը` | C57: Այլ պետական կազմակերպությունների կողմից օգտագործվող ոչ ֆինանսական ակտիվների հետ գործառնություններ
B58: Ակտիվն օգտագործող կազմակերպությունների անվանումները | C58: Թանգարաններ և պատկերասրահներ
B59: Արդյունքի չափորոշիչներ
B60: Հիմնանորոգվող թանգարաններ և պատկերասրահներ քանակ, հատ | D60: 0 | E60: 2
B61: Հաստատությունների քանակ, որոնց շինարարական աշխատանքների ավարտվածության աստիճանը 100% է, հատ | D61: 0 | E61: 1
B62: Միջոցառման վրա կատարվող ծախսը (հազար դրամ) | D62: =+'Հավելված N 1'!D48 -> 8979.2 | E62: =+'Հավելված N 1'!E48 -> 84449.3
B64: Ծրագրի միջոցառումները | D64: Ցուցանիշների փոփոխությունը (ավելացումները նշված են դրական նշանով)
B65: Ծրագրի դասիչը՝ | C65: 1075
B66: Միջոցառման դասիչը՝ | C66: 32009 | D66: Ինն ամիս | E66: Տարի
B67: Միջոցառման անվանումը՝ | C67: Պատմամշակութային ժառանգության ոլորտի կազմակերպությունների գույքային ապահովվածության բարելավում
B68: Նկարագրությունը՝ | C68: Պատմամշակութային ժառանգության ոլորտի կազմակերպությունների գույքով և տեխնիկաով ապահովում
B69: Միջոցառման տեսակը՝ | C69: Այլ պետական կազմակերպությունների կողմից օգտագործվող ոչ ֆինանսական ակտիվների հետ գործառնություններ
B70: Ակտիվն օգտագործող կազմակերպությունների անվանումները | C70: Պատմամշակութային ժառանգության ոլորտի կազմակերպություններ
B71: Արդյունքի չափորոշիչներ
B72: Կազմակերպությունների թիվը, որտեղ կատարվում են ներդրումները, հատ | D72: 0 | E72: 1
B73: Միջոցառման վրա կատարվող ծախսը (հազար դրամ) | D73: =+'Հավելված N 1'!D54 -> 11037.2 | E73: =+'Հավելված N 1'!E54 -> 11037.2
B75: Ծրագրի դասիչը | C75: Ծրագրի անվանումը
B76: 1124 | C76: Գրահրատարակչության և գրադարանների ծրագիր
B78: Ծրագրի միջոցառումները | D78: Ցուցանիշների փոփոխությունը (ավելացումները նշված են դրական նշանով, իսկ նվազեցումները՝ փակագծերում)
B79: Ծրագրի դասիչը՝ | C79: 1124
B80: Միջոցառման դասիչը՝ | C80: 32001 | D80: Ինն ամիս | E80: Տարի
B81: Միջոցառման անվանումը՝ | C81: Հանրային գրադարանների նյութատեխնիկական բազայի զարգացում
B82: Նկարագրությունը՝ | C82: Հանրային գրադարանների նյութատեխնիկական բազայի զարգացում
B83: Միջոցառման տեսակը՝ | C83: Այլ պետական կազմակերպությունների կողմից օգտագործվող ոչ ֆինանսական ակտիվների հետ գործառնություններ
B84: Ակտիվն օգտագործող կազմակերպությունների անվանումները | C84: Հանրային գրադարաններ
B85: Արդյունքի չափորոշիչներ
B86: Վերազինվող գրադարանների թիվը | E86: -7
B87: Միջոցառման վրա կատարվող ծախսը (հազար դրամ) | D87: =+'Հավելված N 1'!D67 -> 31522 | E87: =+'Հավելված N 1'!E67 -> 31522
B89: Ծրագրի դասիչը | C89: Ծրագրի անվանումը
B90: 1130 | C90: Կրթության, գիտության, մշակույթի և սպորտի բնագավառի պետական քաղաքականության մշակում, ծրագրերի համակարգում և մոնիտորինգ
B92: Ծրագրի միջոցառումները | D92: Ցուցանիշների փոփոխությունը (ավելացումները նշված են դրական նշանով)
B93: Ծրագրի դասիչը՝ | C93: 1130
B94: Միջոցառման դասիչը՝ | C94: 32001 | D94: Ինն ամիս | E94: Տարի
B95: Միջոցառման անվանումը՝ | C95: ՀՀ կրթության, գիտության, մշակույթի և սպորտի բնագավառում օժանդակ ծրագրեր իրականացնող կազմակերպությունների շենքային պայմանների և գույքային հագեցվածության բարելավում
B96: Նկարագրությունը՝ | C96: ՀՀ կրթության, գիտության, մշակույթի և սպորտի բնագավառում օժանդակ ծրագրեր իրականացնող կազմակերպությունների աշխատանքային պայմանների բարելավում
B97: Միջոցառման տեսակը՝ | C97: Այլ պետական կազմակերպությունների կողմից օգտագործվող ոչ ֆինանսական ակտիվների հետ գործառնություններ
B98: Ակտիվն օգտագործող կազմակերպության անվանումը | C98: Մասնագիտացված կազմակերպություններ
B99: Արդյունքի չափորոշիչներ
B100: Կազմակերպությունների թիվը, որոնք ապահովվում են գույքով, հատ | E100: 1
B101: Միջոցառման վրա կատարվող ծախսը (հազար դրամ) | D101: =+'Հավելված N 1'!D80 -> 33460.2 | E101: =+'Հավելված N 1'!E80 -> 33460.2
B103: Ծրագրի դասիչը | C103: Ծրագրի անվանումը
B104: 1146 | C104: Հանրակրթության ծրագիր
B106: Ծրագրի միջոցառումները | D106: Ցուցանիշների փոփոխությունը (ավելացումները նշված են դրական նշանով, իսկ նվազեցումները՝ փակագծերում)
B107: Ծրագրի դասիչը՝ | C107: 1146
B108: Միջոցառման դասիչը՝ | C108: 12010 | D108: Ինն ամիս | E108: Տարի
B109: Միջոցառման անվանումը` | C109: «Մոդուլային» տիպի մանկապարտեզների շենքային ապահովում
B110: Նկարագրությունը` | C110: Համայնքներում «Մոդուլային» տիպի մանկապարտեզների կառուցում և նախագծում
B111: Միջոցառման տեսակը` | C111: Տրանսֆերտների տրամադրում
B112: Շահառուների ընտրության չափանիշները | C112: Նախադպրոցական կրթությույն իրականացնող ուսումնական հաստատություններ
B113: Արդյունքի չափորոշիչներ
B114: Նախագծանախահաշվային փաստաթղթերի քանակ, հատ | D114: 2 | E114: 2
B115: Կառուցվող օբյեկտների քանակ, հատ | D115: -1
B116: Միջոցառման վրա կատարվող ծախսը (հազար դրամ) | D116: =+'Հավելված N 1'!D93 -> -181070 | E116: =+'Հավելված N 1'!E93 -> -320020
...

Sheet Հավելված N 7
C1: Հավելված N 7
C2: ՀՀ կառավարության 2023 թվականի
C3: ______________ ի ___Ն որոշման
B5: ՀԱՅԱՍՏԱՆԻ ՀԱՆՐԱՊԵՏՈՒԹՅԱՆ ԿԱՌԱՎԱՐՈՒԹՅԱՆ 2022 ԹՎԱԿԱՆԻ ԴԵԿՏԵՄԲԵՐԻ 29-Ի N 2111-Ն ՈՐՈՇՄԱՆ N 9.1 ՀԱՎԵԼՎԱԾԻ NN 9.1.13, 9.1.41, 9.1.54 ԵՎ 9.1.58 ԱՂՅՈՒՍԱԿՆԵՐՈՒՄ ԿԱՏԱՐՎՈՂ ՓՈՓՈԽՈՒԹՅՈՒՆՆԵՐԸ ԵՎ ԼՐԱՑՈՒՄՆԵՐԸ
A7: Աղյուսակ 9․1.13
C8: ՀՀ կրթության, գիտության, մշակույթի և սպորտի նախարարություն
B9: ՄԱՍ 1. ՊԵՏԱԿԱՆ ՄԱՐՄՆԻ ԳԾՈՎ ԱՐԴՅՈՒՆՔԱՅԻՆ (ԿԱՏԱՐՈՂԱԿԱՆ) ՑՈՒՑԱՆԻՇՆԵՐԸ
B12: Ծրագրի դասիչը | C12: Ծրագրի անվանումը
B13: 1045 | C13: Նախնական (արհեստագործական) և միջին մասնագիտական կրթություն
B15: Ծրագրի միջոցառումները | D15: Ցուցանիշների փոփոխությունը (ավելացումները նշված են դրական նշանով)
B16: Ծրագրի դասիչը՝ | C16: 1045
B17: Միջոցառման դասիչը՝ | C17: 32001 | D17: Ինն ամիս | E17: Տարի
B18: Միջոցառման անվանումը՝ | C18: Նախնական մասնագիտական (արհեստագործական) և միջին մասնագիտական ուսումնական հաստատությունների շենքային պայմանների բարելավում
B19: Նկարագրությունը՝ | C19: ՆՄՄԿՈՒ հաստատությունների շենքերի հիմնանորոգման և նախագծման (շինարարական աշխատանքներ, ջեռուցման համակարգի ստեղծում, ներքին հարդարում, տարածքի բարեկարգում) աշխատանքների իրականացում
B20: Միջոցառման տեսակը՝ | C20: Այլ պետական կազմակերպությունների կողմից օգտագործվող ոչ ֆինանսական ակտիվների հետ գործառնություններ
B21: Ակտիվն օգտագործող կազմակերպությունների անվանումները | C21: Նախնական մասնագիտական (արհեստագործական) և միջին մասնագիտական ուսումնական հաստատություններ
B22: Արդյունքի չափորոշիչներ
B23: Հիմնանորոգվող միջին մասնագիտական ուսումնական հաստատությունների քանակ, հատ | D23: 0 | E23: 4
B24: Հաստատությունների քանակ, որոնց շինարարական աշխատանքների ավարտվածության աստիճանը 100% է, հատ | D24: 0 | E24: 4
B25: Միջոցառման վրա կատարվող ծախսը (հազար դրամ) | D25: =+'Հավելված N 2'!G161 -> 1757.3 | E25: =+'Հավելված N 2'!H161 -> 118161.8
B27: Ծրագրի միջոցառումները | D27: Ցուցանիշների փոփոխությունը (նվազեցումները նշված են փակագծերում)
B28: Ծրագրի դասիչը՝ | C28: 1045
B29: Միջոցառման դասիչը՝ | C29: 32005 | D29: Ինն ամիս | E29: Տարի
B30: Միջոցառման անվանումը` | C30: Նախնական մասնագիտական (արհեստագործական) և միջին մասնագիտական ուսումնական հաստատությունների շենքերի կառուցում
B31: Նկարագրությունը` | C31: ՆՄՄԿՈՒ հաստատությունների շենքերի (մասնաշենքերի) կառուցման և նախագծման աշխատանքների իրականացում
B32: Միջոցառման տեսակը` | C32: Այլ պետական կազմակերպությունների կողմից օգտագործվող ոչ ֆինանսական ակտիվների հետ գործառնություններ
B33: Ակտիվն օգտագործող կազմակերպությունների անվանումները | C33: Նախնական մասնագիտական (արհեստագործական) և միջին մասնագիտական ուսումնական հաստատություններ
B34: Արդյունքի չափորոշիչներ
B35: Նախագծանախահաշվային փաստաթղթերի քանակ, հատ | D35: -1 | E35: -1
B36: Միջոցառման վրա կատարվող ծախսը (հազար դրամ) | D36: =+'Հավելված N 2'!G174 -> -5117.8 | E36: =+'Հավելված N 2'!H174 -> -5117.8
B38: Ծրագրի դասիչը | C38: Ծրագրի անվանումը
B39: 1075 | C39: Մշակութային ժառանգության ծրագիր
B41: Ծրագրի միջոցառումները | D41: Ցուցանիշների փոփոխությունը (ավելացումները նշված են դրական նշանով)
B42: Ծրագրի դասիչը՝ | C42: 1075
B43: Միջոցառման դասիչը՝ | C43: 21001 | D43: Ինն ամիս | E43: Տարի
B44: Միջոցառման անվանումը՝ | C44: Հուշարձանների ամրակայում, նորոգում և վերականգնում
B45: Նկարագրությունը՝ | C45: Հուշարձանների գիտանախագծային փաստաթղթերի կազմում, հրատապ ուսումնասիրում, վավերագրման և ուսումնասիրման աշխատանքներ, հետախուզում և հնագիտական պեղում, ամրակայում, նորոգում և վերականգնում
B46: Միջոցառման տեսակը՝ | C46: Հանրության կողմից անմիջականորեն օգտագործվող ակտիվների հետ կապված միջոցառումներ
B47: Միջոցառումն իրականացնողի անվանումը | C47: Մասնագիտացված կազմակերպություն
B48: Արդյունքի չափորոշիչներ
B49: Հուշարձանների ամրակայման, նորոգման և վերականգնման աշխատանքներ, քանակ | D49: 0 | E49: 1
B50: Միջոցառման վրա կատարվող ծախսը (հազար դրամ) | D50: =+'Հավելված N 2'!G125 -> 57218.7 | E50: =+'Հավելված N 2'!H125 -> 57218.7
B52: Ծրագրի միջոցառումները | D52: Ցուցանիշների փոփոխությունը (ավելացումները նշված են դրական նշանով)
B53: Ծրագրի դասիչը՝ | C53: 1075
B54: Միջոցառման դասիչը՝ | C54: 32001 | D54: Ինն ամիս | E54: Տարի
B55: Միջոցառման անվանումը` | C55: Ներդրումներ թանգարանների և պատկերասրահների հիմնանորոգման համար
B56: Նկարագրությունը` | C56: Թանգարանների և պատկերասրահների շենքերի, մասնաշենքերի հիմնանորոգում, համաշինարարական աշխատանքներ, ջեռուցման համակարգի իրականացում, ներքին հարդարում, տարածքի բարեկարգում և նախագծում
B57: Միջոցառման տեսակը` | C57: Այլ պետական կազմակերպությունների կողմից օգտագործվող ոչ ֆինանսական ակտիվների հետ գործառնություններ
B58: Ակտիվն օգտագործող կազմակերպությունների անվանումները | C58: Թանգարաններ և պատկերասրահներ
B59: Արդյունքի չափորոշիչներ
B60: Հիմնանորոգվող թանգարաններ և պատկերասրահներ քանակ, հատ | D60: 0 | E60: 2
B61: Հաստատությունների քանակ, որոնց շինարարական աշխատանքների ավարտվածության աստիճանը 100% է, հատ | D61: 0 | E61: 1
B62: Միջոցառման վրա կատարվող ծախսը (հազար դրամ) | D62: =+'Հավելված N 2'!G58 -> 8979.2 | E62: =+'Հավելված N 2'!H58 -> 84449.3
B64: Ծրագրի միջոցառումները | D64: Ցուցանիշների փոփոխությունը (ավելացումները նշված են դրական նշանով)
B65: Ծրագրի դասիչը՝ | C65: 1075
B66: Միջոցառման դասիչը՝ | C66: 32009 | D66: Ինն ամիս | E66: Տարի
B67: Միջոցառման անվանումը՝ | C67: Պատմամշակութային ժառանգության ոլորտի կազմակերպությունների գույքային ապահովվածության բարելավում
B68: Նկարագրությունը՝ | C68: Պատմամշակութային ժառանգության ոլորտի կազմակերպությունների գույքով և տեխնիկաով ապահովում
B69: Միջոցառման տեսակը՝ | C69: Այլ պետական կազմակերպությունների կողմից օգտագործվող ոչ ֆինանսական ակտիվների հետ գործառնություններ
B70: Ակտիվն օգտագործող կազմակերպությունների անվանումները | C70: Պատմամշակութային ժառանգության ոլորտի կազմակերպություններ
B71: Արդյունքի չափորոշիչներ
B72: Կազմակերպությունների թիվը, որտեղ կատարվում են ներդրումները, հատ | D72: 0 | E72: 1
B73: Միջոցառման վրա կատարվող ծախսը (հազար դրամ) | D73: =+'Հավելված N 2'!G77 -> 11037.2 | E73: =+'Հավելված N 2'!H77 -> 11037.2
B75: Ծրագրի դասիչը | C75: Ծրագրի անվանումը
B76: 1124 | C76: Գրահրատարակչության և գրադարանների ծրագիր
B78: Ծրագրի միջոցառումները | D78: Ցուցանիշների փոփոխությունը (ավելացումները նշված են դրական նշանով, իսկ նվազեցումները՝ փակագծերում)
B79: Ծրագրի դասիչը՝ | C79: 1124
B80: Միջոցառման դասիչը՝ | C80: 32001 | D80: Ինն ամիս | E80: Տարի
B81: Միջոցառման անվանումը՝ | C81: Հանրային գրադարանների նյութատեխնիկական բազայի զարգացում
B82: Նկարագրությունը՝ | C82: Հանրային գրադարանների նյութատեխնիկական բազայի զարգացում
B83: Միջոցառման տեսակը՝ | C83: Այլ պետական կազմակերպությունների կողմից օգտագործվող ոչ ֆինանսական ակտիվների հետ գործառնություններ
B84: Ակտիվն օգտագործող կազմակերպությունների անվանումները | C84: Հանրային գրադարաններ
B85: Արդյունքի չափորոշիչներ
B86: Վերազինվող գրադարանների թիվը | E86: -7
B87: Միջոցառման վրա կատարվող ծախսը (հազար դրամ) | D87: =+'Հավելված N 2'!G43 -> 31522 | E87: =+'Հավելված N 2'!H43 -> 31522
B89: Ծրագրի դասիչը | C89: Ծրագրի անվանումը
B90: 1130 | C90: Կրթության, գիտության, մշակույթի և սպորտի բնագավառի պետական քաղաքականության մշակում, ծրագրերի համակարգում և մոնիտորինգ
B92: Ծրագրի միջոցառումները | D92: Ցուցանիշների փոփոխությունը (ավելացումները նշված են դրական նշանով)
B93: Ծրագրի դասիչը՝ | C93: 1130
B94: Միջոցառման դասիչը՝ | C94: 32001 | D94: Ինն ամիս | E94: Տարի
B95: Միջոցառման անվանումը՝ | C95: ՀՀ կրթության, գիտության, մշակույթի և սպորտի բնագավառում օժանդակ ծրագրեր իրականացնող կազմակերպությունների շենքային պայմանների և գույքային հագեցվածության բարելավում
B96: Նկարագրությունը՝ | C96: ՀՀ կրթության, գիտության, մշակույթի և սպորտի բնագավառում օժանդակ ծրագրեր իրականացնող կազմակերպությունների աշխատանքային պայմանների բարելավում
B97: Միջոցառման տեսակը՝ | C97: Այլ պետական կազմակերպությունների կողմից օգտագործվող ոչ ֆինանսական ակտիվների հետ գործառնություններ
B98: Ակտիվն օգտագործող կազմակերպության անվանումը | C98: Մասնագիտացված կազմակերպություններ
B99: Արդյունքի չափորոշիչներ
B100: Կազմակերպությունների թիվը, որոնք ապահովվում են գույքով, հատ | E100: 1
B101: Միջոցառման վրա կատարվող ծախսը (հազար դրամ) | D101: =+'Հավելված N 2'!G271 -> 33460.2 | E101: =+'Հավելված N 2'!H271 -> 33460.2
B103: Ծրագրի դասիչը | C103: Ծրագրի անվանումը
B104: 1148 | C104: Արտադպրոցական դաստիարակության ծրագիր
B106: Ծրագրի միջոցառումները | D106: Ցուցանիշների փոփոխությունը (ավելացումները նշված են դրական նշանով)
B107: Ծրագրի դասիչը՝ | C107: 1148
B108: Միջոցառման դասիչը՝ | C108: 32005 | D108: Ինն ամիս | E108: Տարի
B109: Միջոցառման անվանումը` | C109: Արտադպրոցական դաստիարակություն իրականացնող կազմակերպությունների շենքային պայմանների բարելավում
B110: Նկարագրությունը՝ | C110: Կառույցների տեխնիկական կարողությունների և աշխատանքային միջավայրի բարելավում
B111: Միջոցառման տեսակը՝ | C111: Այլ պետական կազմակերպությունների կողմից օգտագործվող ոչ ֆինանսական ակտիվների հետ գործառնություններ
B112: Ակտիվն օգտագործող կազմակերպության անվանումը | C112: Արտադպրոցական դաստիարակություն իրականացնող կազմակերպություններ
B113: Արդյունքի չափորոշիչներ
B114: Հաստատությունների թիվ, որտեղ կատարվում են ներդրումները, հատ | D114: 0 | E114: 1
B115: Միջոցառման վրա կատարվող ծախսը (հազար դրամ) | D115: =+'Հավելված N 2'!G144 -> 0 | E115: =+'Հավելված N 2'!H144 -> 669.3
B117: Ծրագրի դասիչը | C117: Ծրագրի անվանումը
...

Sheet Հավելված N 8
H1: Հավելված N 8
H2: ՀՀ կառավարության 2023 թվականի
H3: ______________ ի ___Ն որոշման
A5: ՀԱՅԱՍՏԱՆԻ ՀԱՆՐԱՊԵՏՈՒԹՅԱՆ ԿԱՌԱՎԱՐՈՒԹՅԱՆ 2022 ԹՎԱԿԱՆԻ ԴԵԿՏԵՄԲԵՐԻ 29-Ի N 2111-Ն ՈՐՈՇՄԱՆ N 10 ՀԱՎԵԼՎԱԾՈՒՄ ԿԱՏԱՐՎՈՂ ՓՈՓՈԽՈՒԹՅՈՒՆՆԵՐԸ ԵՎ ԼՐԱՑՈՒՄՆԵՐԸ
A7: Կոդը | B7: Անվանումը | E7: Գնման ձևը | F7: Չափման միավորը | G7: Միավորի գինը | H7: Ցուցանիշների փոփոխությունը (ավելացումները նշված են դրական նշանով, իսկ նվազեցումները՝ փակագծերում)
H8: Քանակը | I8: Գումարը (հազար դրամ)
A9: 1 | B9: 2 | E9: 3 | F9: 4 | G9: 5 | H9: 6 | I9: 7
A10: ՀՀ կրթության, գիտության, մշակույթի և սպորտի նախարարություն | I10: =+I11+I16+I23+I27+I32+I37 -> 303995.7
A11: Բաժին N 08 | B11: Խումբ N 01 | C11: Դաս N 01 | D11: Հանգստի և սպորտի ծառայություններ | I11: =+I12 -> 9318
A12: 1163-32003 | B12: Թեթև կոնստրուկցիաներով մարզադահլիճների հիմնում | I12: =+I13 -> 9318
B13: ՄԱՍ III. ԾԱՌԱՅՈՒԹՅՈՒՆՆԵՐ | I13: =SUM(I14:I15) -> 9318
A14: 71241200-502 | B14: նախագծերի պատրաստում, ծախսերի գնահատում | E14: ԳՀ | F14: դրամ | G14: 8498000 | H14: 1 | I14: =+ROUND(H14*G14/1000,1) -> 8498
A15: 50531140-502 | B15: փորձաքննության ծառայություններ | E15: ԳՀ | F15: դրամ | G15: 820000 | H15: 1 | I15: =+ROUND(H15*G15/1000,1) -> 820
A16: Բաժին N 08 | B16: Խումբ N 02 | C16: Դաս N 02 | D16: Թանգարաններ և ցուցասրահներ | I16: =+I17 -> 75470.1
A17: 1075-32001 | B17: Ներդրումներ թանգարանների և պատկերասրահների հիմնանորոգման համար | I17: =+I18+I20 -> 75470.1
B18: ՄԱՍ II. ԱՇԽԱՏԱՆՔՆԵՐ | I18: =SUM(I19:I19) -> 73200.9
A19: 45611200 | B19: մշակութային օբյեկտների հիմնանորոգում | E19: ԲՄ | F19: դրամ | G19: 73200880 | H19: 1 | I19: =+ROUND(H19*G19/1000,1) -> 73200.9
B20: ՄԱՍ III. ԾԱՌԱՅՈՒԹՅՈՒՆՆԵՐ | I20: =SUM(I21:I22) -> 2269.2
A21: 71351540 | B21: տեխնիկական հսկողության ծառայություններ | E21: ԳՀ | F21: դրամ | G21: 1830000 | H21: 1 | I21: =+ROUND(H21*G21/1000,1) -> 1830
A22: 98111140 | B22: հեղինակային հսկողության ծառայություններ | E22: ՄԱ | F22: դրամ | G22: 439200 | H22: 1 | I22: =+ROUND(H22*G22/1000,1) -> 439.2
A23: Բաժին N 08 | B23: Խումբ N 02 | C23: Դաս N 05 | D23: Արվեստ | I23: =+I24 -> 820
A24: 1168-32001 | B24: Ներդրումներ թատրոնների շենքերի կապիտալ վերանորոգման համար | I24: =+I25 -> 820
B25: ՄԱՍ III. ԾԱՌԱՅՈՒԹՅՈՒՆՆԵՐ | I25: =+I26 -> 820
A26: 50531140 | B26: փորձաքննության ծառայություններ | E26: ԳՀ | F26: դրամ | G26: 820000 | H26: 1 | I26: =+ROUND(H26*G26/1000,1) -> 820
A27: Բաժին N 08 | B27: Խումբ N 02 | C27: Դաս N 07 | D27: Հուշարձանների և մշակութային արժեքների վերականգնում և պահպանում | I27: =+I28 -> 0
A28: 1075-21001 | B28: Հուշարձանների ամրակայում, նորոգում և վերականգնում | I28: =+I29 -> 0
B29: ՄԱՍ II. ԱՇԽԱՏԱՆՔՆԵՐ | I29: =SUM(I30:I31) -> 0
A30: 45451600-3 | B30: վերականգնողական աշխատանքներ | E30: ԲՄ | F30: դրամ | G30: 71366400 | H30: -1 | I30: =+ROUND(H30*G30/1000,1) -> -71366.4
A31: 45451600 | B31: վերականգնողական աշխատանքներ | E31: ՀԲՄ | F31: դրամ | G31: 71366400 | H31: 1 | I31: =+ROUND(H31*G31/1000,1) -> 71366.4
A32: Բաժին N 09 | B32: Խումբ N 05 | C32: Դաս N 01 | D32: Արտադպրոցական դաստիարակություն | I32: =+I33 -> 669.3
A33: 1148-32005 | B33: Արտադպրոցական դաստիարակություն իրականացնող կազմակերպությունների շենքային պայմանների բարելավում | I33: =+I34 -> 669.3
B34: ՄԱՍ III. ԾԱՌԱՅՈՒԹՅՈՒՆՆԵՐ | I34: =SUM(I35:I36) -> 669.3
A35: 71241200-501 | B35: նախագծերի պատրաստում, ծախսերի գնահատում | E35: ԳՀ | F35: դրամ | G35: 593000 | H35: 1 | I35: =+ROUND(H35*G35/1000,1) -> 593
A36: 50531140 | B36: փորձաքննության ծառայություններ | E36: ԳՀ | F36: դրամ | G36: 76290 | H36: 1 | I36: =+ROUND(H36*G36/1000,1) -> 76.3
A37: Բաժին N 09 | B37: Խումբ N 06 | C37: Դաս N 01 | D37: Կրթությանը տրամադրվող օժանդակ ծառայություններ | I37: =+I38+I50+I54+I61 -> 217718.3
A38: 1045-32001 | B38: Նախնական մասնագիտական (արհեստագործական) և միջին մասնագիտական ուսումնական հաստատությունների շենքային պայմանների բարելավում | I38: =+I39+I43 -> 116404.5
B39: ՄԱՍ II. ԱՇԽԱՏԱՆՔՆԵՐ | I39: =SUM(I40:I42) -> 113824.4
A40: 45611100 | B40: կրթական օբյեկտների հիմնանորոգում | E40: ԳՀ | F40: դրամ | G40: 37840300 | H40: 1 | I40: =+ROUND(H40*G40/1000,1) -> 37840.3
A41: 45611100 | B41: կրթական օբյեկտների հիմնանորոգում | E41: ԳՀ | F41: դրամ | G41: 47616600 | H41: 1 | I41: =+ROUND(H41*G41/1000,1) -> 47616.6
A42: 45611100 | B42: կրթական օբյեկտների հիմնանորոգում | E42: ԳՀ | F42: դրամ | G42: 28367500 | H42: 1 | I42: =+ROUND(H42*G42/1000,1) -> 28367.5
B43: ՄԱՍ III. ԾԱՌԱՅՈՒԹՅՈՒՆՆԵՐ | I43: =SUM(I44:I49) -> 2580.1
A44: 71351540 | B44: տեխնիկական հսկողության ծառայություններ | E44: ԳՀ | F44: դրամ | G44: 377800 | H44: 1 | I44: =+ROUND(H44*G44/1000,1) -> 377.8
A45: 71351540 | B45: տեխնիկական հսկողության ծառայություններ | E45: ԳՀ | F45: դրամ | G45: 952300 | H45: 1 | I45: =+ROUND(H45*G45/1000,1) -> 952.3
A46: 71351540 | B46: տեխնիկական հսկողության ծառայություններ | E46: ԳՀ | F46: դրամ | G46: 567350 | H46: 1 | I46: =+ROUND(H46*G46/1000,1) -> 567.4
A47: 98111140 | B47: հեղինակային հսկողության ծառայություններ | E47: ՄԱ | F47: դրամ | G47: 226700 | H47: 1 | I47: =+ROUND(H47*G47/1000,1) -> 226.7
A48: 98111140 | B48: հեղինակային հսկողության ծառայություններ | E48: ՄԱ | F48: դրամ | G48: 285700 | H48: 1 | I48: =+ROUND(H48*G48/1000,1) -> 285.7
A49: 98111140 | B49: հեղինակային հսկողության ծառայություններ | E49: ՄԱ | F49: դրամ | G49: 170200 | H49: 1 | I49: =+ROUND(H49*G49/1000,1) -> 170.2
A50: 1045-32005 | B50: Նախնական մասնագիտական (արհեստագործական) և միջին մասնագիտական ուսումնական հաստատությունների շենքերի կառուցում | I50: =+I51 -> -5117.8
B51: ՄԱՍ III. ԾԱՌԱՅՈՒԹՅՈՒՆՆԵՐ | I51: =SUM(I52:I53) -> -5117.8
A52: 71241200-512 | B52: նախագծերի պատրաստում, ծախսերի գնահատում | E52: ԳՀ | F52: դրամ | G52: 4652500 | H52: -1 | I52: =+ROUND(H52*G52/1000,1) -> -4652.5
A53: 50531140-525 | B53: փորձաքննության ծառայություններ | E53: ԳՀ | F53: դրամ | G53: 465300 | H53: -1 | I53: =+ROUND(H53*G53/1000,1) -> -465.3
A54: 1183-32001 | B54: Կրթական օբյեկտների շենքային պայմանների բարելավում | I54: =+I55 -> 8659.9
B55: ՄԱՍ III. ԾԱՌԱՅՈՒԹՅՈՒՆՆԵՐ | I55: =SUM(I56:I60) -> 8659.9
A56: 71241200-513 | B56: նախագծերի պատրաստում, ծախսերի գնահատում | E56: ԳՀ | F56: դրամ | G56: 1136100 | H56: -1 | I56: =+ROUND(H56*G56/1000,1) -> -1136.1
A57: 71241200 | B57: նախագծերի պատրաստում, ծախսերի գնահատում | E57: ՀՄԱ | F57: դրամ | G57: 780000 | H57: 1 | I57: =+ROUND(H57*G57/1000,1) -> 780
A58: 71241200 | B58: նախագծերի պատրաստում, ծախսերի գնահատում | E58: ԳՀ | F58: դրամ | G58: 9043770 | H58: 1 | I58: =+ROUND(H58*G58/1000,1) -> 9043.8
A59: 50531140-526 | B59: փորձաքննության ծառայություններ | E59: ԳՀ | F59: դրամ | G59: 113600 | H59: -1 | I59: =+ROUND(H59*G59/1000,1) -> -113.6
A60: 50531140 | B60: փորձաքննության ծառայություններ | E60: ԳՀ | F60: դրամ | G60: 85800 | H60: 1 | I60: =+ROUND(H60*G60/1000,1) -> 85.8
A61: 1183-32004 | B61: Ավագ մակարդակի կրթություն իրականացնող ուսումնական հաստատությունների շենքային պայմանների բարելավում | I61: =+I62+I65 -> 97771.7
B62: ՄԱՍ II. ԱՇԽԱՏԱՆՔՆԵՐ | I62: =SUM(I63:I64) -> 94169.4
A63: 45231129 | B63: ջեռուցման հետ կապված աշխատանքներ | E63: ԳՀ | F63: դրամ | G63: 48205350 | H63: 1 | I63: =+ROUND(H63*G63/1000,1) -> 48205.4
A64: 45611100 | B64: կրթական օբյեկտների հիմնանորոգում | E64: ԳՀ | F64: դրամ | G64: 45964000 | H64: 1 | I64: =+ROUND(H64*G64/1000,1) -> 45964
B65: ՄԱՍ III. ԾԱՌԱՅՈՒԹՅՈՒՆՆԵՐ | I65: =SUM(I66:I72) -> 3602.3
A66: 71241200 | B66: նախագծերի պատրաստում, ծախսերի գնահատում | E66: ՀՄԱ | F66: դրամ | G66: 836880 | H66: 1 | I66: =+ROUND(H66*G66/1000,1) -> 836.9
A67: 50531140 | B67: փորձաքննության ծառայություններ | E67: ԳՀ | F67: դրամ | G67: 92057 | H67: 1 | I67: =+ROUND(H67*G67/1000,1) -> 92.1
A68: 50531140-503 | B68: փորձաքննության ծառայություններ | E68: ԳՀ | F68: դրամ | G68: 250000 | H68: 1 | I68: =+ROUND(H68*G68/1000,1) -> 250
A69: 71351540 | B69: տեխնիկական հսկողության ծառայություններ | E69: ԳՀ | F69: դրամ | G69: 964100 | H69: 1 | I69: =+ROUND(H69*G69/1000,1) -> 964.1
A70: 71351540 | B70: տեխնիկական հսկողության ծառայություններ | E70: ԳՀ | F70: դրամ | G70: 899990 | H70: 1 | I70: =+ROUND(H70*G70/1000,1) -> 900
A71: 98111140 | B71: հեղինակային հսկողության ծառայություններ | E71: ՄԱ | F71: դրամ | G71: 289200 | H71: 1 | I71: =+ROUND(H71*G71/1000,1) -> 289.2
A72: 98111140 | B72: հեղինակային հսկողության ծառայություններ | E72: ՄԱ | F72: դրամ | G72: 269990 | H72: 1 | I72: =+ROUND(H72*G72/1000,1) -> 270
A73: ՀՀ քաղաքաշինության կոմիտե | I73: =+I74+I81 -> -653089.4
A74: Բաժին N 08 | B74: Խումբ N 02 | C74: Դաս N 05 | D74: Արվեստ | I74: =+I75 -> -330406.6
A75: 1168-32001 | B75: Ներդրումներ թատրոնների շենքերի կապիտալ վերանորոգման համար | I75: =+I76+I78 -> -330406.6
B76: ՄԱՍ II. ԱՇԽԱՏԱՆՔՆԵՐ | I76: =SUM(I77:I77) -> -318925.3
A77: 45611200-1 | B77: մշակութային օբյեկտների հիմնանորոգում | E77: ԲՄ | F77: դրամ | G77: 318925300 | H77: -1 | I77: =+ROUND(H77*G77/1000,1) -> -318925.3
B78: ՄԱՍ III. ԾԱՌԱՅՈՒԹՅՈՒՆՆԵՐ | I78: =SUM(I79:I80) -> -11481.3
A79: 71351540-1 | B79: տեխնիկական հսկողության ծառայություններ | E79: ԳՀ | F79: դրամ | G79: 9567700 | H79: -1 | I79: =+ROUND(H79*G79/1000,1) -> -9567.7
A80: 98111140-1 | B80: հեղինակային հսկողության ծառայություններ | E80: ՄԱ | F80: դրամ | G80: 1913600 | H80: -1 | I80: =+ROUND(H80*G80/1000,1) -> -1913.6
A81: Բաժին N 09 | B81: Խումբ N 06 | C81: Դաս N 01 | D81: Կրթությանը տրամադրվող օժանդակ ծառայություններ | I81: =+I82+I91+I96+I100 -> -322682.8
A82: 1146-12010 | B82: «Մոդուլային» տիպի մանկապարտեզների շենքային ապահովում | I82: =+I83+I85 -> -320020
B83: ՄԱՍ II. ԱՇԽԱՏԱՆՔՆԵՐ | I83: =+I84 -> -300000
A84: 45221142-16 | B84: ընդհանուր շինարարական աշխատանքներ | E84: ԲՄ | F84: դրամ | I84: -300000
B85: ՄԱՍ III. ԾԱՌԱՅՈՒԹՅՈՒՆՆԵՐ | I85: =SUM(I86:I90) -> -20020
A86: 71351540-16 | B86: տեխնիկական հսկողության ծառայություններ | E86: ԳՀ | F86: դրամ | I86: -9000
A87: 98111140-16 | B87: հեղինակային հսկողության ծառայություններ | E87: ՄԱ | F87: դրամ | I87: -20700
A88: 71241200 | B88: նախագծերի պատրաստում, ծախսերի գնահատում | E88: ՀՄԱ | F88: դրամ | G88: 4740000 | H88: 1 | I88: =+ROUND(H88*G88/1000,1) -> 4740
A89: 71241200 | B89: նախագծերի պատրաստում, ծախսերի գնահատում | E89: ՀՄԱ | F89: դրամ | G89: 4740000 | H89: 1 | I89: =+ROUND(H89*G89/1000,1) -> 4740
A90: 50531140 | B90: փորձաքննության ծառայություններ | E90: ԳՀ | F90: դրամ | G90: 200000 | H90: 1 | I90: =+ROUND(H90*G90/1000,1) -> 200
A91: 1163-12001 | B91: Աջակցություն համայնքներին մարզական հաստատությունների շենքային պայմանների բարելավման համար | I91: =+I92+I94 -> -3142.8
B92: ՄԱՍ II. ԱՇԽԱՏԱՆՔՆԵՐ | I92: =+I93 -> 7353.8
A93: 45211131-2 | B93: մարզական օբյեկտների շինարարական աշխատանքներ | E93: ՀՄԱ | F93: դրամ | I93: 7353.8
B94: ՄԱՍ III. ԾԱՌԱՅՈՒԹՅՈՒՆՆԵՐ | I94: =+I95 -> -10496.6
A95: 71351540-1 | B95: տեխնիկական հսկողության ծառայություններ | E95: ՀՄԱ | F95: դրամ | I95: -10496.6
A96: 1163-32001 | B96: Մարզական օբյեկտների շինարարություն | I96: =+I97 -> 0
B97: ՄԱՍ III. ԾԱՌԱՅՈՒԹՅՈՒՆՆԵՐ | I97: =SUM(I98:I99) -> 0
A98: 71241200-1 | B98: նախագծերի պատրաստում, ծախսերի գնահատում | E98: ՄԱ | F98: դրամ | G98: 32400000 | H98: -1 | I98: =+ROUND(H98*G98/1000,1) -> -32400
A99: 71241200 | B99: նախագծերի պատրաստում, ծախսերի գնահատում | E99: ՀՄԱ | F99: դրամ | G99: 32400000 | H99: 1 | I99: =+ROUND(H99*G99/1000,1) -> 32400
A100: 1183-32007 | B100: Հանրակրթական կրթություն իրականացնող ուսումնական հաստատությունների նոր մարզադահլիճների կառուցում | I100: =+I101 -> 480
B101: ՄԱՍ III. ԾԱՌԱՅՈՒԹՅՈՒՆՆԵՐ | I101: =SUM(I102:I102) -> 480
A102: 50531140 | B102: փորձաքննության ծառայություններ | E102: ԳՀ | F102: դրամ | G102: 480000 | H102: 1 | I102: =+ROUND(H102*G102/1000,1) -> 480

Sheet Հավելված N 9
G1: Հավելված N 9
H2: ՀՀ կառավարության 2023 թվականի
H3: ______________ ի ___Ն որոշման
A6: ՀԱՅԱՍՏԱՆԻ ՀԱՆՐԱՊԵՏՈՒԹՅԱՆ 2023 ԹՎԱԿԱՆԻ ՊԵՏԱԿԱՆ ԲՅՈՒՋԵՈՎ ՆԱԽԱՏԵՍՎԱԾ՝ ՀԱՅԱՍՏԱՆԻ ՀԱՆՐԱՊԵՏՈՒԹՅԱՆ ԿԱՌԱՎԱՐՈՒԹՅԱՆ ՊԱՀՈՒՍՏԱՅԻՆ ՖՈՆԴԻՑ ՀԱՏԿԱՑՈՒՄՆԵՐ ԿԱՏԱՐԵԼՈՒ ՎԵՐԱԲԵՐՅԱԼ
G8: հազ. դրամներով
A9: Գործառական դասիչը | D9: Ծրագրային դասիչը | F9: Բյուջետային հատկացումների գլխավոր կարգադրիչների, ծրագրերի, միջոցառումների և միջոցառումները կատարող պետական մարմինների անվանումները | G9: Ցուցանիշների փոփոխությունը (ավելացումները նշված են դրական նշանով, իսկ նվազեցումները` փակագծերում)
A10: Բաժին | B10: Խումբ | C10: Դաս | D10: Ծրագիր | E10: Միջոցառում | G10: Ինն ամիս | H10: Տարի
F11: ԸՆԴԱՄԵՆԸ | G11: =+G13+G34 -> 0 | H11: =+H13+H34 -> 0
F12: այդ թվում
F13: ՀՀ ԿԱՌԱՎԱՐՈՒԹՅՈՒՆ | G13: =+G14 -> -11037.2 | H13: =+H14 -> -21024.5
A14: 11 | F14: ՀԻՄՆԱԿԱՆ ԲԱԺԻՆՆԵՐԻՆ ՉԴԱՍՎՈՂ ՊԱՀՈՒՍՏԱՅԻՆ ՖՈՆԴԵՐ | G14: =+G16 -> -11037.2 | H14: =+H16 -> -21024.5
F15: այդ թվում`
B16: 01 | F16: ՀՀ կառավարության և համայնքների պահուստային ֆոնդ | G16: =+G18 -> -11037.2 | H16: =+H18 -> -21024.5
F17: այդ թվում`
C18: 01 | F18: ՀՀ կառավարության պահուստային ֆոնդ | G18: =+G20 -> -11037.2 | H18: =+H20 -> -21024.5
F19: այդ թվում`
F20: ՀՀ կառավարություն | G20: =+G22 -> -11037.2 | H20: =+H22 -> -21024.5
F21: այդ թվում`
D22: 1139 | E22: ՀՀ կառավարության պահուստային ֆոնդ | F22: ՀՀ կառավարության պահուստային ֆոնդ | G22: =+G24 -> -11037.2 | H22: =+H24 -> -21024.5
F23: այդ թվում`
E24: 11001 | F24: ՀՀ կառավարության պահուստային ֆոնդ | G24: =+G26 -> -11037.2 | H24: =+H26 -> -21024.5
F25: այդ թվում` ըստ կատարողների
F26: ՀՀ կառավարություն | G26: =+G28 -> -11037.2 | H26: =+H28 -> -21024.5
F27: այդ թվում՝ բյուջետային ծախսերի տնտեսագիտական դասակարգման հոդվածներ
F28: ԸՆԴԱՄԵՆԸ ԾԱԽՍԵՐ | G28: =+G29 -> -11037.2 | H28: =+H29 -> -21024.5
F29: ՈՉ ՖԻՆԱՆՍԱԿԱՆ ԱԿՏԻՎՆԵՐԻ ԳԾՈՎ ԾԱԽՍԵՐ | G29: =+G30 -> -11037.2 | H29: =+H30 -> -21024.5
F30: ՀԻՄՆԱԿԱՆ ՄԻՋՈՑՆԵՐ | G30: =+G31 -> -11037.2 | H30: =+H31 -> -21024.5
F31: ՇԵՆՔԵՐ ԵՎ ՇԻՆՈՒԹՅՈՒՆՆԵՐ | G31: =+G32 -> -11037.2 | H31: =+H32 -> -21024.5
F32: - Շենքերի և շինությունների շինարարություն | G32: =+'Հավելված N 2'!G307 -> -11037.2 | H32: =+'Հավելված N 2'!H307 -> -21024.5
F34: ՀՀ ԿՐԹՈՒԹՅԱՆ, ԳԻՏՈՒԹՅԱՆ, ՄՇԱԿՈՒՅԹԻ ԵՎ ՍՊՈՐՏԻ ՆԱԽԱՐԱՐՈՒԹՅՈՒՆ | G34: =+G35+G71 -> 11037.2 | H34: =+H35+H71 -> 21024.5
A35: 08 | F35: ՀԱՆԳԻՍՏ, ՄՇԱԿՈՒՅԹ ԵՎ ԿՐՈՆ | G35: =+G37+G54 -> 11037.2 | H35: =+H37+H54 -> 20355.2
F36: այդ թվում`
B37: 01 | F37: Հանգստի և սպորտի ծառայություններ | G37: =+G39 -> 0 | H37: =+H39 -> 9318
F38: այդ թվում`
C39: 01 | F39: Հանգստի և սպորտի ծառայություններ | G39: =+G41 -> 0 | H39: =+H41 -> 9318
F40: այդ թվում`
F41: ՀՀ կրթության, գիտության, մշակույթի և սպորտի նախարարություն | G41: =+G43 -> 0 | H41: =+H43 -> 9318
F42: այդ թվում`
D43: 1163 | E43: Մասսայական սպորտ | G43: =+G45 -> 0 | H43: =+H45 -> 9318
F44: այդ թվում`
E45: 32003 | F45: Թեթև կոնստրուկցիաներով մարզադահլիճների հիմնում | G45: =+G47 -> 0 | H45: =+H47 -> 9318
F46: այդ թվում` ըստ կատարողների
F47: ՀՀ կրթության, գիտության, մշակույթի և սպորտի նախարարություն | G47: =+G49 -> 0 | H47: =+H49 -> 9318
F48: այդ թվում՝ բյուջետային ծախսերի տնտեսագիտական դասակարգման հոդվածներ
F49: ԸՆԴԱՄԵՆԸ ԾԱԽՍԵՐ | G49: =+G50 -> 0 | H49: =+H50 -> 9318
F50: ՈՉ ՖԻՆԱՆՍԱԿԱՆ ԱԿՏԻՎՆԵՐԻ ԳԾՈՎ ԾԱԽՍԵՐ | G50: =+G51 -> 0 | H50: =+H51 -> 9318
F51: ՀԻՄՆԱԿԱՆ ՄԻՋՈՑՆԵՐ | G51: =+G52 -> 0 | H51: =+H52 -> 9318
F52: ԱՅԼ ՀԻՄՆԱԿԱՆ ՄԻՋՈՑՆԵՐ | G52: =+G53 -> 0 | H52: =+H53 -> 9318
F53: - Նախագծահետազոտական ծախսեր | G53: =+'Հավելված N 2'!G32 -> 0 | H53: =+'Հավելված N 2'!H32 -> 9318
B54: 02 | F54: Մշակութային ծառայություններ | G54: =+G56 -> 11037.2 | H54: =+H56 -> 11037.2
F55: այդ թվում`
C56: 04 | F56: Այլ մշակութային կազմակերպություններ | G56: =+G58 -> 11037.2 | H56: =+H58 -> 11037.2
F57: այդ թվում`
F58: ՀՀ կրթության, գիտության, մշակույթի և սպորտի նախարարություն | G58: =+G60 -> 11037.2 | H58: =+H60 -> 11037.2
F59: այդ թվում`
D60: 1075 | E60: Մշակութային ժառանգության ծրագիր | G60: =+G62 -> 11037.2 | H60: =+H62 -> 11037.2
F61: այդ թվում`
E62: 32009 | F62: Պատմամշակութային ժառանգության ոլորտի կազմակերպությունների գույքային ապահովվածության բարելավում | G62: =+G64 -> 11037.2 | H62: =+H64 -> 11037.2
F63: այդ թվում` ըստ կատարողների
F64: ՀՀ կրթության, գիտության, մշակույթի և սպորտի նախարարություն | G64: =+G66 -> 11037.2 | H64: =+H66 -> 11037.2
F65: այդ թվում՝ բյուջետային ծախսերի տնտեսագիտական դասակարգման հոդվածներ
F66: ԸՆԴԱՄԵՆԸ ԾԱԽՍԵՐ | G66: =+G67 -> 11037.2 | H66: =+H67 -> 11037.2
F67: ԸՆԹԱՑԻԿ ԾԱԽՍԵՐ | G67: =+G68 -> 11037.2 | H67: =+H68 -> 11037.2
F68: ԴՐԱՄԱՇՆՈՐՀՆԵՐ | G68: =+G69 -> 11037.2 | H68: =+H69 -> 11037.2
F69: ԿԱՊԻՏԱԼ ԴՐԱՄԱՇՆՈՐՀՆԵՐ ՊԵՏԱԿԱՆ ՀԱՏՎԱԾԻ ԱՅԼ ՄԱԿԱՐԴԱԿՆԵՐԻՆ | G69: =+G70 -> 11037.2 | H69: =+H70 -> 11037.2
F70: - Կապիտալ դրամաշնորհներ պետական և համայնքային ոչ առևտրային կազմակերպություններին | G70: =+'Հավելված N 2'!G83 -> 11037.2 | H70: =+'Հավելված N 2'!H83 -> 11037.2
A71: 09 | F71: ԿՐԹՈՒԹՅՈՒՆ | G71: =+G73 -> 0 | H71: =+H73 -> 669.3
F72: այդ թվում`
B73: 05 | F73: Ըստ մակարդակների չդասակարգվող կրթություն | G73: =+G75 -> 0 | H73: =+H75 -> 669.3
F74: այդ թվում`
C75: 01 | F75: Արտադպրոցական դաստիարակություն | G75: =+G77 -> 0 | H75: =+H77 -> 669.3
F76: այդ թվում`
F77: ՀՀ կրթության, գիտության, մշակույթի և սպորտի նախարարություն | G77: =+G79 -> 0 | H77: =+H79 -> 669.3
F78: այդ թվում`
D79: 1148 | E79: Արտադպրոցական դաստիարակության ծրագիր | G79: =+G81 -> 0 | H79: =+H81 -> 669.3
F80: այդ թվում`
E81: 32005 | F81: Արտադպրոցական դաստիարակություն իրականացնող կազմակերպությունների շենքային պայմանների բարելավում | G81: =+G83 -> 0 | H81: =+H83 -> 669.3
F82: այդ թվում` ըստ կատարողների
F83: ՀՀ կրթության, գիտության, մշակույթի և սպորտի նախարարություն | G83: =+G85 -> 0 | H83: =+H85 -> 669.3
F84: այդ թվում՝ բյուջետային ծախսերի տնտեսագիտական դասակարգման հոդվածներ
F85: ԸՆԴԱՄԵՆԸ ԾԱԽՍԵՐ | G85: =+G86 -> 0 | H85: =+H86 -> 669.3
F86: ՈՉ ՖԻՆԱՆՍԱԿԱՆ ԱԿՏԻՎՆԵՐԻ ԳԾՈՎ ԾԱԽՍԵՐ | G86: =+G87 -> 0 | H86: =+H87 -> 669.3
F87: ՀԻՄՆԱԿԱՆ ՄԻՋՈՑՆԵՐ | G87: =+G88 -> 0 | H87: =+H88 -> 669.3
F88: ԱՅԼ ՀԻՄՆԱԿԱՆ ՄԻՋՈՑՆԵՐ | G88: =+G89 -> 0 | H88: =+H89 -> 669.3
F89: - Նախագծահետազոտական ծախսեր | G89: =+'Հավելված N 2'!G150 -> 0 | H89: =+'Հավելված N 2'!H150 -> 669.3
