Workbook

Sheet Հավելված 1
D1: Հավելված N 1
D2: ՀՀ կառավարության 2023 թվականի
D3: ______________ ի ___Ն որոշման
A5: «ՀԱՅԱՍՏԱՆԻ ՀԱՆՐԱՊԵՏՈՒԹՅԱՆ 2023 ԹՎԱԿԱՆԻ ՊԵՏԱԿԱՆ ԲՅՈՒՋԵԻ ՄԱՍԻՆ» ՀԱՅԱՍՏԱՆԻ ՀԱՆՐԱՊԵՏՈՒԹՅԱՆ ՕՐԵՆՔԻ N 1 ՀԱՎԵԼՎԱԾԻ N 2 ԱՂՅՈՒՍԱԿՈՒՄ ԿԱՏԱՐՎՈՂ ՎԵՐԱԲԱՇԽՈՒՄԸ ԵՎ ՀԱՅԱՍՏԱՆԻ ՀԱՆՐԱՊԵՏՈՒԹՅԱՆ ԿԱՌԱՎԱՐՈՒԹՅԱՆ 2022 ԹՎԱԿԱՆԻ ԴԵԿՏԵՄԲԵՐԻ 29-Ի N 2111-Ն ՈՐՈՇՄԱՆ N 5 ՀԱՎԵԼՎԱԾԻ N 1 ԱՂՅՈՒՍԱԿՈՒՄ ԿԱՏԱՐՎՈՂ ՓՈՓՈԽՈՒԹՅՈՒՆՆԵՐԸ
D6: հազ. դրամներով
A7: Ծրագրային դասիչը | C7: Բյուջետային հատկացումների գլխավոր կարգադրիչների, ծրագրերի և միջոցառումների անվանումները | D7: Ցուցանիշների փոփոխությունը (ավելացումները նշված են դրական նշանով, իսկ նվազեցումները՝ փակագծերում)
A8: Ծրագիր | B8: Միջոցառում | D8: Տարի
C9: ԸՆԴԱՄԵՆԸ | D9: =D10 -> 0
C10: ՀՀ պետական եկամուտների կոմիտե | D10: =D11 -> 0
A11: 1023 | C11: Ծրագրի անվանումը՝ | D11: =D18+D24 -> 0
C12: Հարկային և մաքսային ծառայություններ
C13: Ծրագրի նպատակը՝
C14: Հարկային և մաքսային միասնական պետական քաղաքականության իրականացում, հարկային և մաքսային օրենսդրության ամբողջական և համահավասար կիրառում
C15: Վերջնական արդյունքի նկարագրությունը՝
C16: Արդյունավետ հարկային և մաքսային հսկողության իրականացում, պետական բյուջեի եկամուտների ապահովում
A17: Ծրագրի միջոցառումներ
B18: 11001 | C18: Միջոցառման անվանումը` | D18: ='Հավելված 2'!G20 -> -40205.2
C19: Հարկային և մաքսային ծառայություններ
C20: Միջոցառման նկարագրությունը`
C21: Հարկային և մաքսային քաղաքականության մշակման, պլանավորման, մոնիտորինգի, ծրագրերի համակարգման, գանձման, վերահսկողության և աջակցության ծառայություններ
C22: Միջոցառման տեսակը
C23: Ծառայությունների մատուցում
B24: 11003 | C24: Միջոցառման անվանումը` | D24: ='Հավելված 2'!G48 -> 40205.2
C25: Հարկային և մաքսային ծառայողների վերապատրաստում
C26: Միջոցառման նկարագրությունը`
C27: Հարկային և մաքսային ծառայողների վերապատրաստման մեթոդիկայի մշակման, պլանավորման, ծրագրերի իրականացման և աջակցության ծառայություններ
C28: Միջոցառման տեսակը
C29: Ծառայությունների մատուցում

Sheet Հավելված  2
G1: Հավելված N 2
G2: ՀՀ կառավարության 2023 թվականի
G3: ______________ ի ___Ն որոշման
A5: ՀԱՅԱՍՏԱՆԻ ՀԱՆՐԱՊԵՏՈՒԹՅԱՆ ԿԱՌԱՎԱՐՈՒԹՅԱՆ 2022 ԹՎԱԿԱՆԻ ԴԵԿՏԵՄԲԵՐԻ 29-Ի N 2111-Ն ՈՐՈՇՄԱՆ NN 3 ԵՎ 4 ՀԱՎԵԼՎԱԾՆԵՐԻ ԱՂՅՈՒՍԱԿՆԵՐՈՒՄ ԿԱՏԱՐՎՈՂ ՓՈՓՈԽՈՒԹՅՈՒՆՆԵՐԸ
G6: հազ. դրամներով
A7: Գործառնական դասիչը | D7: Ծրագրային դասիչը | F7: Բյուջետային ծախսերի գործառնական դասակարգման բաժինների, խմբերի և դասերի, բյուջետային ծրագրերի միջոցառումների, բյուջետային հատկացումների գլխավոր կարգադրիչների անվանումները | G7: Ցուցանիշների փոփոխությունը (ավելացումները նշված են դրական նշանով, իսկ նվազեցումները՝ փակագծերում)
A8: բաժին | B8: խումբ | C8: դաս | D8: ծրագիր | E8: միջոցառում | G8: Տարի
F9: ԸՆԴԱՄԵՆԸ ԾԱԽՍԵՐ | G9: =G11+G31 -> 0
F10: այդ թվում՝
A11: 01 | F11: ԸՆԴՀԱՆՈՒՐ ԲՆՈՒՅԹԻ ՀԱՆՐԱՅԻՆ ԾԱՌԱՅՈՒԹՅՈՒՆՆԵՐ | G11: =G13 -> -40205.2
F12: այդ թվում՝
B13: 01 | F13: Օրենսդիր և գործադիր մարմիններ, պետական կառավարում, ֆինանսական և հարկաբյուջետային հարաբերություններ, արտաքին հարաբերություններ | G13: =G15 -> -40205.2
F14: այդ թվում՝
C15: 02 | F15: Ֆինանսական և հարկաբյուջետային հարաբերություններ | G15: =G17 -> -40205.2
F16: այդ թվում՝
F17: ՀՀ պետական եկամուտների կոմիտե | G17: =G18 -> -40205.2
D18: 1023 | F18: Հարկային և մաքսային ծառայություններ | G18: =G20 -> -40205.2
F19: այդ թվում՝
E20: 11001 | F20: Հարկային և մաքսային ծառայություններ | G20: =G22 -> -40205.2
F21: այդ թվում` ըստ կատարողների
F22: ՀՀ պետական եկամուտների կոմիտե | G22: =G24 -> -40205.2
F23: այդ թվում` բյուջետային ծախսերի տնտեսագիտական դասակարգման հոդվածներ
F24: ԸՆԴԱՄԵՆԸ ԾԱԽՍԵՐ | G24: =G25 -> -40205.2
F25: ԸՆԹԱՑԻԿ ԾԱԽՍԵՐ | G25: =G26 -> -40205.2
F26: ԾԱՌԱՅՈՒԹՅՈՒՆՆԵՐԻ ԵՎ ԱՊՐԱՆՔՆԵՐԻ ՁԵՌՔԲԵՐՈՒՄ | G26: =G27+G29 -> -40205.2
F27: Շարունակական ծախսեր | G27: =G28 -> 0
F28: - Կապի ծառայություններ | G28: 0
F29: Պայմանագրային այլ ծառայությունների ձեռքբերում | G29: =G30 -> -40205.2
F30: - Ընդհանուր բնույթի այլ ծառայություններ | G30: =-G48 -> -40205.2
A31: 09 | F31: ԿՐԹՈՒԹՅՈՒՆ | G31: =G33 -> 40205.2
F32: այդ թվում՝
B33: 05 | F33: Ըստ մակարդակների չդասակարգվող կրթություն | G33: =G35 -> 40205.2
F34: այդ թվում՝
C35: 02 | F35: Լրացուցիչ կրթություն | G35: =G37 -> 40205.2
F36: այդ թվում՝
F37: ՀՀ պետական եկամուտների կոմիտե | G37: =G38 -> 40205.2
D38: 1023 | F38: Հարկային և մաքսային ծառայություններ | G38: =G40 -> 40205.2
F39: այդ թվում՝
E40: 11003 | F40: Հարկային և մաքսային ծառայողների վերապատրաստում | G40: =G42 -> 40205.2
F41: այդ թվում` ըստ կատարողների
...

Sheet Հավելված 3
G1: Հավելված N 3
G2: ՀՀ կառավարության 2023 թվականի
G3: ______________ ի ___Ն որոշման
A5: ՀԱՅԱՍՏԱՆԻ ՀԱՆՐԱՊԵՏՈՒԹՅԱՆ ԿԱՌԱՎԱՐՈՒԹՅԱՆ 2022 ԹՎԱԿԱՆԻ ԴԵԿՏԵՄԲԵՐԻ 29-Ի N 2111-Ն ՈՐՈՇՄԱՆ N 5 ՀԱՎԵԼՎԱԾԻ N 7 ԱՂՅՈՒՍԱԿՈՒՄ ԿԱՏԱՐՎՈՂ ՓՈՓՈԽՈՒԹՅՈՒՆՆԵՐԸ
G7: հազ. դրամներով
A8: Ծրագրային դասիչ | C8: Բյուջետային հատկացումների գլխավոր կարգադրիչների, ծրագրերի, միջոցառումների, ծախսային ուղղությունների անվանումները | F8: Միջոցառումները կատարող պետական մարմինների և դրամաշնորհ ստացող տնտեսվարող սուբյեկտների անվանումները | G8: Ցուցանիշների փոփոխությունը (ավելացումները նշված են դրական նշանով)
A9: Ծրագիր | B9: Միջոցառում | G9: Տարի
A10: 1 | B10: 2 | C10: 3 | F10: 4 | G10: 5
A11: ՀՀ պետական եկամուտների կոմիտե | G11: =G12 -> 40205.2
A12: 1023 | B12: Հարկային և մաքսային ծառայություններ | G12: =G13 -> 40205.2
B13: 11003 | C13: Հարկային և մաքսային ծառայողների վերապատրաստում | F13: ՀՀ պետական եկամուտների կոմիտե | G13: =G14 -> 40205.2
F14: ՀՀ ՊԵԿ «Ուսումնական կենտրոն» ՊՈԱԿ | G14: ='Հավելված 2'!G48 -> 40205.2

Sheet Հավելված 4 աղյուսակներ 1,2
D1: Հավելված N 4
D2: ՀՀ կառավարության 2023 թվականի
D3: ______________ ի ___Ն որոշման
D5: Աղյուսակ N 1
B6: ՀԱՅԱՍՏԱՆԻ ՀԱՆՐԱՊԵՏՈՒԹՅԱՆ ԿԱՌԱՎԱՐՈՒԹՅԱՆ 2022 ԹՎԱԿԱՆԻ ԴԵԿՏԵՄԲԵՐԻ 29-Ի N 2111-Ն ՈՐՈՇՄԱՆ N 9 ՀԱՎԵԼՎԱԾԻ N 9.25 ԱՂՅՈՒՍԱԿՈՒՄ ԿԱՏԱՐՎՈՂ ՓՈՓՈԽՈՒԹՅՈՒՆՆԵՐԸ ՈՒ ԼՐԱՑՈՒՄՆԵՐԸ
B8: ՀՀ պետական եկամուտների կոմիտե
B10: ՄԱՍ 2. ՊԵՏԱԿԱՆ ՄԱՐՄՆԻ ԳԾՈՎ ԱՐԴՅՈՒՆՔԱՅԻՆ (ԿԱՏԱՐՈՂԱԿԱՆ) ՑՈՒՑԱՆԻՇՆԵՐԸ
B12: Ծրագրի դասիչը | C12: Ծրագրի անվանումը
B13: 1023 | C13: Հարկային և մաքսային ծառայություններ
B15: Ծրագրի միջոցառումները
B17: Ծրագրի դասիչը՝ | C17: 1023 | D17: Ցուցանիշների փոփոխությունը (նվազեցումները նշված են փակագծերում)
B18: Միջոցառման դասիչը՝ | C18: 11001 | D18: Տարի
B19: Միջոցառման անվանումը՝ | C19: Հարկային և մաքսային ծառայություններ
B20: Նկարագրությունը՝ | C20: Հարկային և մաքսային քաղաքականության մշակման, պլանավորման, մոնիտորինգի, ծրագրերի համակարգման, գանձման, վերահսկողության և աջակցության ծառայություններ
B21: Միջոցառման տեսակը՝ | C21: Ծառայությունների մատուցում
B22: Ծառայությունը մատուցող կազմակերպության անվանումը | C22: ՀՀ պետական եկամուտների կոմիտե
C23: Արդյունքի չափորոշիչներ
B24: Միջոցառման վրա կատարվող ծախսը (հազար դրամ) | D24: ='Հավելված 2'!G20 -> -40205.2
B26: Ծրագրի դասիչը` | C26: 1023 | D26: Ցուցանիշների փոփոխությունը (ավելացումները նշված են դրական նշանով)
B27: Միջոցառման դասիչը` | C27: 11003 | D27: Տարի
B28: Միջոցառման անվանումը` | C28: Հարկային և մաքսային ծառայողների վերապատրաստում
B29: Նկարագրությունը` | C29: Հարկային և մաքսային ծառայողների վերապատրաստման մեթոդիկայի մշակման, պլանավորման, ծրագրերի իրականացման և աջակցության ծառայություններ
B30: Միջոցառման տեսակը` | C30: Ծառայությունների մատուցում
B31: Ծառայությունը մատուցող կազմակերպության(ների) անվանում(ներ)ը | C31: Մասնագիտացված կազմակերպություն
B32: Արդյունքի չափորոշիչներ
B33: Դասընթացների քանակ, հատ | D33: 1
B34: Ուսուցման խմբերի քանակ, հատ | D34: 32
B35: Մասնակիցների թվաքանակ, մարդ | D35: 570
B36: Ուսուցման խմբերում (մաքսային ծառայողի պատրաստում) ընդգրկված կին աշխատակիցների հարաբերակցությունը ընդհանուր մասնակիցների նկատմամբ (տոկոս) | D36: 35
B37: Ուսուցման խմբերում (մաքսային ծառայողի պատրաստում) ընդգրկված տղամարդ աշխատակիցների հարաբերակցությունը ընդհանուր մասնակիցների նկատմամբ (տոկոս) | D37: 65
B38: Մեկ խմբի դասընթացի միջին տևողություն (մաքսային ծառայողի պատրաստում), ժամ | D38: 81
B39: Միջոցառման վրա կատարվող ծախսը (հազար դրամ) | D39: ='Հավելված 2'!G48 -> 40205.2
D41: Աղյուսակ N 2
B42: ՀԱՅԱՍՏԱՆԻ ՀԱՆՐԱՊԵՏՈՒԹՅԱՆ ԿԱՌԱՎԱՐՈՒԹՅԱՆ 2022 ԹՎԱԿԱՆԻ ԴԵԿՏԵՄԲԵՐԻ 29-Ի N 2111-Ն ՈՐՈՇՄԱՆ N 9.1 ՀԱՎԵԼՎԱԾԻ N 9.1.27 ԱՂՅՈՒՍԱԿՈՒՄ ԿԱՏԱՐՎՈՂ ՓՈՓՈԽՈՒԹՅՈՒՆՆԵՐԸ ՈՒ ԼՐԱՑՈՒՄՆԵՐԸ
B44: ՀՀ պետական եկամուտների կոմիտե
B46: ՄԱՍ 1. ՊԵՏԱԿԱՆ ՄԱՐՄՆԻ ԳԾՈՎ ԱՐԴՅՈՒՆՔԱՅԻՆ (ԿԱՏԱՐՈՂԱԿԱՆ) ՑՈՒՑԱՆԻՇՆԵՐԸ
B48: Ծրագրի դասիչը | C48: Ծրագրի անվանումը
B49: 1023 | C49: Հարկային և մաքսային ծառայություններ
B51: Ծրագրի միջոցառումները
B53: Ծրագրի դասիչը՝ | C53: 1023 | D53: Ցուցանիշների փոփոխությունը (նվազեցումները նշված են փակագծերում)
...

Sheet Հավելված 5
G1: Հավելված N 5
G2: ՀՀ կառավարության 2023 թվականի
G3: ______________ ի ___Ն որոշման
A5: ՀԱՅԱՍՏԱՆԻ ՀԱՆՐԱՊԵՏՈՒԹՅԱՆ ԿԱՌԱՎԱՐՈՒԹՅԱՆ 2022 ԹՎԱԿԱՆԻ ԴԵԿՏԵՄԲԵՐԻ 29-Ի N 2111-Ն ՈՐՈՇՄԱՆ N 10 ՀԱՎԵԼՎԱԾՈՒՄ ԿԱՏԱՐՎՈՂ ՓՈՓՈԽՈՒԹՅՈՒՆՆԵՐԸ
A7: Գնման առարկայի | E7: Ցուցանիշների փոփոխությունը (նվազեցումները նշված են փակագծերում)
A8: կոդը | B8: անվանումը | C8: գնման ձևը | D8: չափի միավորը | E8: միավորի գինը | F8: քանակը | G8: Գումարը (հազար դրամ)
A10: ՀՀ պետական եկամուտների կոմիտե | G10: =G11 -> -40205.2
A11: Բաժին N 01 | B11: Խումբ N 01 | C11: Դաս N 02 | D11: Ֆինանսական և հարկաբյուջետային հարաբերություններ | G11: =G12 -> -40205.2
A12: 1023 11001 | B12: Հարկային և մաքսային ծառայություններ | G12: =G13 -> -40205.2
B13: ՄԱՍ III. ԾԱՌԱՅՈՒԹՅՈՒՆՆԵՐ | G13: =G14 -> -40205.2
A14: 90911110/1 | B14: շենքերի մաքրման ծառայություններ | C14: ԷԱՃ | D14: դրամ | G14: -40205.2
