Workbook

Sheet h1
D1: Հավելված N 1
D2: ՀՀ կառավարության 2023 թվականի
D3: ______________ ի ___Ն որոշման
B5: «ՀԱՅԱՍՏԱՆԻ ՀԱՆՐԱՊԵՏՈՒԹՅԱՆ 2023 ԹՎԱԿԱՆԻ ՊԵՏԱԿԱՆ ԲՅՈՒՋԵԻ ՄԱՍԻՆ» ՀԱՅԱՍՏԱՆԻ ՀԱՆՐԱՊԵՏՈՒԹՅԱՆ OՐԵՆՔԻ N 1 ՀԱՎԵԼՎԱԾԻ N 2 ԱՂՅՈՒՍԱԿՈՒՄ ԿԱՏԱՐՎՈՂ ՎԵՐԱԲԱՇԽՈՒՄԸ ԵՎ ՀԱՅԱՍՏԱՆԻ ՀԱՆՐԱՊԵՏՈՒԹՅԱՆ ԿԱՌԱՎԱՐՈՒԹՅԱՆ 2022 ԹՎԱԿԱՆԻ ԴԵԿՏԵՄԲԵՐԻ 29-Ի N 2111-Ն ՈՐՈՇՄԱՆ N 5 ՀԱՎԵԼՎԱԾԻ N 1 ԱՂՅՈՒՍԱԿՈՒՄ ԿԱՏԱՐՎՈՂ ՓՈՓՈԽՈՒԹՅՈՒՆՆԵՐԸ
B7: Ծրագրային դասիչը | D7: Բյուջետային գլխավոր կարգադրիչների, ծրագրերի և միջոցառումների անվանումները | E7: Ցուցանիշների փոփոխությունը (ավելացումները նշված են դրական նշանով, իսկ նվազեցումները` փակագծերում)
B8: Ծրագիրը | C8: միջոցառումը | E8: Տարի
D9: ԸՆԴԱՄԵՆԸ | E9: =E10+E23 -> 0
D10: ՀՀ տարածքային կառավարման և ենթակառուցվածքների նախարարություն | E10: =E11 -> 53600
B11: 1176 | D11: Ծրագրի անվանումը | E11: =E17 -> 53600
D12: Ավիացիայի բնագավառում վերահսկողության և կանոնակարգման ապահովում
D13: Ծրագրի նպատակը
D14: ՀՀ քաղաքացիական ավիացիայի համակարգի ենթակառուցվածքների գործունեության կանոնակարգում և զարգացում
D15: Վերջնական արդյունքի նկարագրությունը
D16: ՀՀ օդային տարածքով քաղաքացիների և բեռների անվտանգ և արագ տեղափոխման գործընթացների պատշաճ կանոնակարգում և դրանց պահանջների ապահովում
C17: ='h2'!E23 -> 11006 | D17: Միջոցառման անվանումը | E17: ='h2'!H23 -> 53600
D18: ='h2'!F23 -> Օդային փոխադրումների ծառայության կազմակերպում և իրականացում
D19: Միջոցառման նկարագրությունը
D20: Իսրայելում ստեղծված իրավիճակով պայմանավորված Թել Ավիվ քաղաքից Հայաստանի Հանրապետության քաղաքացիաներին դեպի Երևան տեղափոխում
D21: Միջոցառման տեսակը
D22: Ծառայությունների մատուցում
D23: ՀՀ կառավարություն | E23: =E24 -> -53600
B24: 1139 | D24: Ծրագրի անվանումը | E24: =E30 -> -53600
D25: ՀՀ կառավարության պահուստային ֆոնդ
D26: Ծրագրի նպատակը
D27: Պետական բյուջեում չկանխատեսված, ինչպես նաև բյուջետային երաշխիքների ապահովման ծախսերի ֆինանսավորման ապահովում
D28: Վերջնական արդյունքի նկարագրությունը
D29: Պահուստային ֆոնդի կառավարման արդյունավետության և թափանցիկության ապահովում
C30: 11001 | D30: Միջոցառման անվանումը | E30: ='h2'!H32 -> -53600
D31: ՀՀ կառավարության պահուստային ֆոնդ
D32: Միջոցառման նկարագրությունը
D33: ՀՀ պետական բյուջեում նախատեսված ելքերի լրացուցիչ ֆինանսավորման, պետական բյուջեում չկանխատեսված ելքերի, ինչպես նաև բյուջետային երաշխիքների ապահովման ելքերի ֆինանսավորման ապահովում
D34: Միջոցառման տեսակը
D35: Ծառայությունների մատուցում

Sheet h2
F1: Հավելված N 2
F2: ՀՀ կառավարության 2023 թվականի
F3: ______________ ի ___Ն որոշման
A5: ՀԱՅԱՍՏԱՆԻ ՀԱՆՐԱՊԵՏՈՒԹՅԱՆ ԿԱՌԱՎԱՐՈՒԹՅԱՆ 2022 ԹՎԱԿԱՆԻ ԴԵԿՏԵՄԲԵՐԻ 29-Ի N 2111-Ն ՈՐՈՇՄԱՆ NN 3 ԵՎ 4 ՀԱՎԵԼՎԱԾՆԵՐՈՒՄ ԿԱՏԱՐՎՈՂ ՓՈՓՈԽՈՒԹՅՈՒՆՆԵՐԸ
A7: Գործառական դասիչը | D7: Ծրագրային դասիչը | F7: Բյուջետային հատկացումների գլխավոր կարգադրիչների, ծրագրերի, միջոցառումների և միջոցառումները կատարող պետական մարմինների անվանումները | H7: Ցուցանիշների փոփոխությունը (ավելացումները նշված են դրական նշանով, իսկ նվազեցումները` փակագծերում)
A8: բաժինը | B8: խումբը | C8: դասը | D8: ծրագիրը | E8: միջոցառումը | G8: Առաջին կիսամյակ | H8: Տարի
F10: ԸՆԴԱՄԵՆԸ՝ ԾԱԽՍԵՐ | H10: =H12+H32 -> 0
F11: =F13 -> այդ թվում`
F12: =F20 -> ՀՀ տարածքային կառավարման և ենթակառուցվածքների նախարարություն | H12: =H14 -> 53600
F13: այդ թվում`
A14: 04 | F14: ՏՆՏԵՍԱԿԱՆ ՀԱՐԱԲԵՐՈՒԹՅՈՒՆՆԵՐ | H14: =H16 -> 53600
F15: այդ թվում`
B16: 05 | F16: ՏՐԱՆՍՊՈՐՏ | H16: =H18 -> 53600
F17: այդ թվում`
C18: 04 | F18: ՕԴԱՅԻՆ ՏՐԱՆՍՊՈՐՏ | H18: =H21 -> 53600
F19: այդ թվում`
F20: ՀՀ տարածքային կառավարման և ենթակառուցվածքների նախարարություն | H20: =H21 -> 53600
D21: 1176 | F21: Ավիացիայի բնագավառում վերահսկողության և կանոնակարգման ապահովում | H21: =H23 -> 53600
F22: այդ թվում`
E23: 11006 | F23: Օդային փոխադրումների ծառայության կազմակերպում և իրականացում | H23: =H25 -> 53600
F24: այդ թվում` ըստ կատարողների
F25: ՀՀ տարածքային կառավարման և ենթակառուցվածքների նախարարության քաղաքացիական ավիացիայի կոմիտե | H25: =H27 -> 53600
F26: այդ թվում` բյուջետային ծախսերի տնտեսագիտական դասակարգման հոդվածներ
F27: ԸՆԴԱՄԵՆԸ՝ ԾԱԽՍԵՐ | H27: =H28 -> 53600
F28: ԸՆԹԱՑԻԿ ԾԱԽՍԵՐ | H28: =H29 -> 53600
F29: ԾԱՌԱՅՈՒԹՅՈՒՆՆԵՐԻ ԵՎ ԱՊՐԱՆՔՆԵՐԻ ՁԵՌՔԲԵՐՈՒՄ | H29: =H30 -> 53600
F30: Պայմանագրային այլ ծառայությունների ձեռքբերում | H30: =+H31 -> 53600
F31: - Ընդհանուր բնույթի այլ ծառայություններ | H31: 53600
F32: =F41 -> ՀՀ կառավարություն | H32: =H33 -> -53600
A33: 11 | F33: ՀԻՄՆԱԿԱՆ ԲԱԺԻՆՆԵՐԻՆ ՉԴԱՍՎՈՂ ՊԱՀՈՒՍՏԱՅԻՆ ՖՈՆԴԵՐ | G33: 0 | H33: =H35 -> -53600
F34: այդ թվում`
B35: 01 | F35: ՀՀ կառավարության և համայնքների պահուստային ֆոնդ | G35: 0 | H35: =H37 -> -53600
F36: այդ թվում`
C37: 01 | F37: ՀՀ կառավարության պահուստային ֆոնդ | G37: 0 | H37: =H39 -> -53600
F38: այդ թվում`
D39: 1139 | F39: ՀՀ կառավարության պահուստային ֆոնդ | G39: 0 | H39: =H41 -> -53600
F40: այդ թվում`
F41: ՀՀ կառավարություն | G41: 0 | H41: =H43 -> -53600
F42: այդ թվում`
E43: 11001 | F43: ՀՀ կառավարության պահուստային ֆոնդ | G43: 0 | H43: =+H44 -> -53600
F44: այդ թվում` ըստ կատարողների | G44: 0 | H44: =+H45 -> -53600
F45: ՀՀ կառավարություն | G45: 0 | H45: =H47 -> -53600
F46: այդ թվում` բյուջետային ծախսերի տնտեսագիտական դասակարգման հոդվածներ | G46: 0
F47: ԸՆԴԱՄԵՆԸ ԾԱԽՍԵՐ | G47: 0 | H47: =+H49 -> -53600
F48: ԸՆԹԱՑԻԿ ԾԱԽՍԵՐ
F49: ԱՅԼ ԾԱԽՍԵՐ | G49: 0 | H49: =H50 -> -53600
F50: Պահուստային միջոցներ | H50: =-H23 -> -53600

Sheet h3
C1: Հավելված N3
C2: ՀՀ կառավարության 2023 թվականի
C3: ______________ ի ___Ն որոշման
B5: ՀԱՅԱՍՏԱՆԻ ՀԱՆՐԱՊԵՏՈՒԹՅԱՆ ԿԱՌԱՎԱՐՈՒԹՅԱՆ 2022 ԹՎԱԿԱՆԻ ԴԵԿՏԵՄԲԵՐԻ 29-Ի N 2111-Ն ՈՐՈՇՄԱՆ N 9 ՀԱՎԵԼՎԱԾԻ N 9.7 ԵՎ N 9.47 ԱՂՅՈՒՍԱԿՈՒՄ ԿԱՏԱՐՎՈՂ ՓՈՓՈԽՈՒԹՅՈՒՆՆԵՐԸ
E6: Աղյուսակ 9.7
B7: ՀՀ տարածքային կառավարման և ենթակառուցվածքների նախարարության
C8: ՄԱՍ 2. ՊԵՏԱԿԱՆ ՄԱՐՄՆԻ ԳԾՈՎ ԱՐԴՅՈՒՆՔԱՅԻՆ (ԿԱՏԱՐՈՂԱԿԱՆ) ՑՈՒՑԱՆԻՇՆԵՐԸ
B10: Ծրագրի դասիչը | C10: Ծրագրի անվանումը
B11: 1176 | C11: Ավիացիայի բնագավառում վերահսկողության և կանոնակարգման ապահովում
B12: Ծրագրի միջոցառումները
B13: Ծրագրի դասիչը | C13: 1176 | D13: Ցուցանիշների փոփոխությունը (ավելացումները նշված են դրական նշանով)
B14: Միջոցառման դասիչը | C14: ='h2'!E23 -> 11006 | D14: Տարի
B15: Միջոցառման անվանումը | C15: ='h1'!D18 -> Օդային փոխադրումների ծառայության կազմակերպում և իրականացում
B16: Նկարագրությունը | C16: ='h1'!D20 -> Իսրայելում ստեղծված իրավիճակով պայմանավորված Թել Ավիվ քաղաքից Հայաստանի Հանրապետության քաղաքացիաներին դեպի Երևան տեղափոխում
B17: Միջոցառման տեսակը | C17: Ծառայությունների մատուցում
B18: Միջոցառումն իրականացնողի անվանումը | C18: ՀՀ տարածքային կառավարման և ենթակառուցվածքների նախարարության քաղաքացիական ավիացիայի կոմիտե
B19: Արդյունքի չափորոշիչներ
B20: Ավիաչվերթների իրականացում, քանակ | D20: 1
B21: Միջոցառման վրա կատարվող ծախսը (հազ. դրամ) | D21: ='h4'!D20 -> 53600
E24: Աղյուսակ 9.47
C25: ՀՀ կառավարություն
C26: ՄԱՍ 2. ՊԵՏԱԿԱՆ ՄԱՐՄՆԻ ԳԾՈՎ ԱՐԴՅՈՒՆՔԱՅԻՆ (ԿԱՏԱՐՈՂԱԿԱՆ) ՑՈՒՑԱՆԻՇՆԵՐԸ
B28: Ծրագրի դասիչը | C28: Ծրագրի անվանումը
B29: 1139 | C29: ՀՀ կառավարության պահուստային ֆոնդ
B30: Ծրագրի միջոցառումները
B31: Ծրագրի դասիչը | C31: 1139 | D31: Ցուցանիշների փոփոխությունը (նվազեցումները նշված են բացասական նշանով)
B32: Միջոցառման դասիչը | C32: 11001 | D32: Տարի
B33: Միջոցառման անվանումը | C33: ՀՀ կառավարության պահուստային ֆոնդ
B34: Նկարագրությունը | C34: ՀՀ պետական բյուջեում նախատեսված ելքերի լրացուցիչ ֆինանսավորման, պետական բյուջեում չկանխատեսված ելքերի, ինչպես նաև բյուջետային երաշխիքների ապահովման ելքերի ֆինանսավորման ապահովում
B35: Միջոցառման տեսակը | C35: Ծառայությունների մատուցում
B36: Արդյունքի չափորոշիչներ
B37: Միջոցառման վրա կատարվող ծախսը (հազ. դրամ) | D37: ='h2'!H32 -> -53600

Sheet h4
B1: Հավելված N 4
B2: ՀՀ կառավարության 2023 թվականի
B3: ______________ ի ___Ն որոշման
A4: ՀԱՅԱՍՏԱՆԻ ՀԱՆՐԱՊԵՏՈՒԹՅԱՆ ԿԱՌԱՎԱՐՈՒԹՅԱՆ 2022 ԹՎԱԿԱՆԻ ԴԵԿՏԵՄԲԵՐԻ 29-Ի N 2111-Ն ՈՐՈՇՄԱՆ N 9.1 ՀԱՎԵԼՎԱԾԻ N 9.1.29 ԵՎ 9.1.58 ԱՂՅՈՒՍԱԿՈՒՄ ԿԱՏԱՐՎՈՂ ՓՈՓՈԽՈՒԹՅՈՒՆՆԵՐԸ
E5: Աղյուսակ 9.1.29
A6: ՀՀ տարածքային կառավարման և ենթակառուցվածքների նախարարության քաղաքացիական ավիացիայի կոմիտե
B7: ՄԱՍ 1. ՊԵՏԱԿԱՆ ՄԱՐՄՆԻ ԳԾՈՎ ԱՐԴՅՈՒՆՔԱՅԻՆ (ԿԱՏԱՐՈՂԱԿԱՆ) ՑՈՒՑԱՆԻՇՆԵՐԸ
A9: Ծրագրի դասիչը | B9: Ծրագրի անվանումը
A10: 1176 | B10: Ավիացիայի բնագավառում վերահսկողության և կանոնակարգման ապահովում
A11: Ծրագրի միջոցառումները
A12: Ծրագրի դասիչը | B12: 1176 | C12: Ցուցանիշների փոփոխությունը (ավելացումները նշված են դրական նշանով) | D12: Ցուցանիշների փոփոխությունը (ավելացումները նշված են դրական նշանով)
A13: Միջոցառման դասիչը | B13: ='h3'!C14 -> 11006 | C13: Առաջին կիսամյակ | D13: Տարի
A14: Միջոցառման անվանումը | B14: ='h3'!C15 -> Օդային փոխադրումների ծառայության կազմակերպում և իրականացում
A15: Նկարագրությունը | B15: ='h3'!C16 -> Իսրայելում ստեղծված իրավիճակով պայմանավորված Թել Ավիվ քաղաքից Հայաստանի Հանրապետության քաղաքացիաներին դեպի Երևան տեղափոխում
A16: Միջոցառման տեսակը | B16: Ծառայությունների մատուցում
A17: Միջոցառումն իրականացնողի անվանումը | B17: ՀՀ տարածքային կառավարման և ենթակառուցվածքների նախարարության քաղաքացիական ավիացիայի կոմիտե
A18: Արդյունքի չափորոշիչներ
A19: Ավիաչվերթների իրականացում, քանակ | D19: 1
A20: Միջոցառման վրա կատարվող ծախսը (հազ. դրամ) | D20: =+'h2'!H23 -> 53600
D23: Աղյուսակ 9.1.58
B24: ՀՀ կառավարություն
B25: ՄԱՍ 2. ՊԵՏԱԿԱՆ ՄԱՐՄՆԻ ԳԾՈՎ ԱՐԴՅՈՒՆՔԱՅԻՆ (ԿԱՏԱՐՈՂԱԿԱՆ) ՑՈՒՑԱՆԻՇՆԵՐԸ
A28: Ծրագրի դասիչը | B28: Ծրագրի անվանումը
A29: 1139 | B29: ՀՀ կառավարության պահուստային ֆոնդ
A31: Ծրագրի միջոցառումները
A32: Ծրագրի դասիչը | B32: 1139 | C32: =#REF! -> #REF! | D32: Ցուցանիշների փոփոխությունները (նվազեցումները նշված են փակագծերում)
A33: Միջոցառման դասիչը | B33: 11001 | C33: Ինն ամիս
A34: Միջոցառման անվանումը | B34: ՀՀ կառավարության պահուստային ֆոնդ
A35: Նկարագրությունը | B35: ՀՀ պետական բյուջեում նախատեսված ելքերի լրացուցիչ ֆինանսավորման, պետական բյուջեում չկանխատեսված ելքերի, ինչպես նաև բյուջետային երաշխիքների ապահովման ելքերի ֆինանսավորման ապահովում
A36: Միջոցառման տեսակը | B36: Ծառայությունների մատուցում
A37: Արդյունքի չափորոշիչներ
A38: Միջոցառման վրա կատարվող ծախսը (հազ. դրամ) | C38: =[1]h3!G89 -> 0 | D38: ='h3'!D37 -> -53600

Sheet h5
F1: Հավելված N 5
F2: ՀՀ կառավարության 2023 թվականի
F3: ______________ ի ___Ն որոշման
B5: ՀԱՅԱՍՏԱՆԻ ՀԱՆՐԱՊԵՏՈՒԹՅԱՆ ԿԱՌԱՎԱՐՈՒԹՅԱՆ 2022 ԹՎԱԿԱՆԻ ԴԵԿՏԵՄԲԵՐԻ 29-Ի N 2111-Ն ՈՐՈՇՄԱՆ N 10 ՀԱՎԵԼՎԱԾՈՒՄ ԿԱՏԱՐՎՈՂ ԼՐԱՑՈՒՄՆԵՐԸ
B7: Կոդը | C7: Անվանումը | D7: Գնման ձևը | E7: Չափման միավորը | F7: Միավորի գինը (դրամ) | G7: Ցուցանիշների փոփոխությունը (ավելացումները նշված են դրական նշանով)
G8: քանակը | H8: գումարը
H9: (հազ. դրամ)
B10: ՀՀ տարածքային կառավարման և ենթակառուցվածքների նախարարության քաղաքացիական ավիացիայի կոմիտե | H10: =H11 -> 53600
B11: Բաժին N 04 | C11: Խումբ N 05 | D11: Դաս N 04 | E11: Օդային տրանսպորտ | H11: =H12 -> 53600
B12: 1176 11006 | C12: Ավիացիայի բնագավառում վերահսկողության և կանոնակարգման ապահովում Միջոցառումը՝ Օդային փոխադրումների ծառայության կազմակերպում և իրականացում | H12: =H13 -> 53600
C13: ՄԱՍ III. Ծառայություններ | H13: =H14 -> 53600
B14: 60421400/1 | C14: Ինքնաթիռի վարձակալություն՝ անձնակազմի հետ միասին | D14: ՀՄԱ | E14: դրամ | F14: 53600000 | G14: 1 | H14: =F14/1000 -> 53600
