Workbook
Name AgencyCode: #REF!
Name AgencyCode: #REF!
Name AgencyName: #REF!
Name AgencyName: #REF!
Name åû: #REF!
Name davit: #REF!
Name Functional1: #REF!
Name Functional1: #REF!
Name ggg: #REF!
Name mas: #REF!
Name mass: #REF!
Name PANature: #REF!
Name PANature: #REF!
Name PAType: #REF!
Name PAType: #REF!
Name Performance2: #REF!
Name Performance2: #REF!
Name PerformanceType: #REF!
Name PerformanceType: #REF!
Name x: #REF!
Name Հավելված: #REF!
Name Մաս: #REF!
Name շախմատիստ: #REF!

Sheet Հ1
A1: Հավելված N 1
A2: ՀՀ կառավարության 2023 թվականի
A3: ______________ ի ___Ն որոշման
A5: «ՀԱՅԱUՏԱՆԻ ՀԱՆՐԱՊԵՏՈՒԹՅԱՆ 2023 ԹՎԱԿԱՆԻ ՊԵՏԱԿԱՆ ԲՅՈՒՋԵԻ ՄԱUԻՆ» OՐԵՆՔԻ N 1 ՀԱՎԵԼՎԱԾԻ N 2 ԱՂՅՈՒՍԱԿՈՒՄ ԿԱՏԱՐՎՈՂ ՎԵՐԱԲԱՇԽՈՒՄԸ ԵՎ ՀԱՅԱՍՏԱՆԻ ՀԱՆՐԱՊԵՏՈՒԹՅԱՆ ԿԱՌԱՎԱՐՈՒԹՅԱՆ 2022 ԹՎԱԿԱՆԻ ԴԵԿՏԵՄԲԵՐԻ 29-Ի N 2111-Ն ՈՐՈՇՄԱՆ N 5 ՀԱՎԵԼՎԱԾԻ N 1 ԱՂՅՈՒՍԱԿՈՒՄ ԿԱՏԱՐՎՈՂ ՓՈՓՈԽՈՒԹՅՈՒՆՆԵՐԸ
D7: հազար դրամով
A8: Ծրագրային դասիչը | C8: Բյուջետային հատկացումների գլխավոր կարգադրիչների, ծրագրերի և միջոցառումների անվանումները | D8: Ցուցանիշների փոփոխությունը (ավելացումները նշված են դրական նշանով, իսկ նվազեցումները` փակագծերում)
A9: Ծրագիր | B9: Միջոցառում | D9: Տարի
A10: 1192 | C10: ԸՆԴԱՄԵՆԸ | D10: =+D12+D26 -> 0
C11: այդ թվում
B12: ՀՀ տարածքային կառավարման և ենթակառուցվածքների նախարարություն | D12: =D14 -> 1000000
A13: 1212 | C13: Ծրագրի անվանումը`
C14: Տարածքային զարգացում | D14: =D21 -> 1000000
C15: Ծրագրի նպատակը`
C16: Տարածքային համաչափ զարգացման խթանում
C17: Վերջնական արդյունքի նկարագրությունը`
C18: ՀՀ համայնքների կառավարման արդյունավետության բարձրացում և տնտեսական գործունեության խթանում
C19: Ծրագրի միջոցառումներ
B20: 12030 | C20: Միջոցառման անվանումը`
C21: Լեռնային Ղարաբաղից Հայաստանի Հանրապետություն բռնի տեղահանված անձանց համար առաջնային անհրաժեշտության ապրանքների և ծառայությունների տրամադրում | D21: ='Հ2 '!G23 -> 1000000
C22: Միջոցառման նկարագրությունը`
C23: Լեռնային Ղարաբաղից Հայաստանի Հանրապետություն բռնի տեղահանված անձանց պարենային և ոչ պարենային ապրանքներով ապահովում և հյուրանոցային ծախսերի փոխհատուցում
C24: Միջոցառման տեսակը
C25: Տրանսֆերտների տրամադրում
B26: ՀՀ կառավարություն | C26: ՀՀ կառավարություն | D26: =+D28 -> -1000000
A27: 1139 | C27: Ծրագրի անվանումը`
C28: ՀՀ կառավարության պահուստային ֆոնդ | D28: =+D34 -> -1000000
C29: Ծրագրի նպատակը`
C30: Պետական բյուջեում չկանխատեսված, ինչպես նաև բյուջետային երաշխիքների ապահովման ծախսերի ֆինանսավորման ապահովում
C31: Վերջնական արդյունքի նկարագրությունը`
C32: Պահուստային ֆոնդի կառավարման արդյունավետության և թափանցիկության ապահովում
B33: 11001 | C33: Միջոցառման անվանումը`
C34: ՀՀ կառավարության պահուստային ֆոնդ | D34: ='Հ2 '!G121 -> -1000000
C35: Միջոցառման նկարագրությունը`
C36: ՀՀ պետական բյուջեում նախատեսված ելքերի լրացուցիչ ֆինանսավորման՝ պետական բյուջեում չկանխատեսված ելքերի, ինչպես նաև բյուջետային երաշխիքների ապահովման ելքերի ֆինանսավորման ապահովում
C37: Միջոցառման տեսակը
C38: Ծառայությունների մատուցում

Sheet Հ2 
A1: Հավելված N 2
A2: ՀՀ կառավարության 2023 թվականի
A3: ______________ ի ___Ն որոշման
A5: ՀԱՅԱՍՏԱՆԻ ՀԱՆՐԱՊԵՏՈՒԹՅԱՆ ԿԱՌԱՎԱՐՈՒԹՅԱՆ 2022 ԹՎԱԿԱՆԻ ԴԵԿՏԵՄԲԵՐԻ 29-Ի N 2111-Ն ՈՐՈՇՄԱՆ N 3 ԵՎ N 4 ՀԱՎԵԼՎԱԾՆԵՐՈՒՄ ԿԱՏԱՐՎՈՂ ՓՈՓՈԽՈՒԹՅՈՒՆՆԵՐԸ ԵՎ ԼՐԱՑՈՒՄՆԵՐԸ
G7: հազար դրամով
A8: Գործառական դասիչը | D8: Ծրագրային դասիչը | F8: Բյուջետային հատկացումների գլխավոր կարգադրիչների, ծրագրերի, միջոցառումների և միջոցառումները կատարող պետական մարմինների անվանումները | G8: Ցուցանիշների փոփոխությունը (ավելացումները նշված են դրական նշանով, իսկ նվազեցումները` փակագծերում)
A9: Բաժին | B9: Խումբ | C9: Դաս | D9: Ծրագիր | E9: Միջոցառում | G9: Տարի
F10: ԸՆԴԱՄԵՆԸ | G10: =+G12+G112 -> 0
F11: այդ թվում
F12: ՀՀ տարածքային կառավարման և ենթակառուցվածքների նախարարություն | G12: =+G13 -> 1000000
A13: 01 | F13: ԸՆԴՀԱՆՈՒՐ ԲՆՈՒՅԹԻ ՀԱՆՐԱՅԻՆ ԾԱՌԱՅՈՒԹՅՈՒՆՆԵՐ | G13: =G15 -> 1000000
F14: այդ թվում`
B15: 08 | F15: Կառավարության տարբեր մակարդակների միջև իրականացվող ընդհանուր բնույթի տրանսֆերտներ | G15: =G17 -> 1000000
F16: այդ թվում`
C17: 01 | F17: Կառավարության տարբեր մակարդակների միջև իրականացվող ընդհանուր բնույթի տրանսֆերտներ | G17: =+G19 -> 1000000
F18: այդ թվում`
F19: ՀՀ տարածքային կառավարման և ենթակառուցվածքների նախարարություն | G19: =+G21 -> 1000000
F20: այդ թվում`
D21: 1212 | E21: Տարածքային զարգացում | G21: =+G23 -> 1000000
E22: =Հ1!B20 -> 12030 | F22: այդ թվում`
F23: =Հ1!C21 -> Լեռնային Ղարաբաղից Հայաստանի Հանրապետություն բռնի տեղահանված անձանց համար առաջնային անհրաժեշտության ապրանքների և ծառայությունների տրամադրում | G23: =G25+G34+G41+G48+G55+G65+G74+G86+G96+G103 -> 1000000
F24: այդ թվում` ըստ կատարողների
F25: ՀՀ Արագածոտնի մարզպետի աշխատակազմ | G25: =G27 -> 68000
F26: այդ թվում`բյուջետային ծախսերի տնտեսագիտական դասակարգման հոդվածներ
F27: ԸՆԴԱՄԵՆԸ ԾԱԽՍԵՐ | G27: =+G28 -> 68000
F28: ԸՆԹԱՑԻԿ ԾԱԽՍԵՐ | G28: =G29 -> 68000
F29: ԾԱՌԱՅՈՒԹՅՈՒՆՆԵՐԻ ԵՎ ԱՊՐԱՆՔՆԵՐԻ ՁԵՌՔԲԵՐՈՒՄ | G29: =G30+G32 -> 68000
F30: Պայմանագրային այլ ծառայությունների ձեռքբերում | G30: =G31 -> 48200
F31: - Ընդհանուր բնույթի այլ ծառայություններ | G31: 48200
F32: Նյութեր (Ապրանքներ) | G32: 19800
F33: - Կենցաղային և հանրային սննդի նյութեր | G33: 19800
F34: ՀՀ Արմավիրի մարզպետի աշխատակազմ | G34: =G36 -> 118000
F35: այդ թվում`բյուջետային ծախսերի տնտեսագիտական դասակարգման հոդվածներ
F36: ԸՆԴԱՄԵՆԸ ԾԱԽՍԵՐ | G36: =+G37 -> 118000
F37: ԸՆԹԱՑԻԿ ԾԱԽՍԵՐ | G37: =G38 -> 118000
F38: ԾԱՌԱՅՈՒԹՅՈՒՆՆԵՐԻ ԵՎ ԱՊՐԱՆՔՆԵՐԻ ՁԵՌՔԲԵՐՈՒՄ | G38: =G39 -> 118000
F39: Նյութեր (Ապրանքներ) | G39: =G40 -> 118000
F40: - Կենցաղային և հանրային սննդի նյութեր | G40: 118000
F41: ՀՀ Արարատի մարզպետի աշխատակազմ | G41: =G43 -> 10000
F42: այդ թվում`բյուջետային ծախսերի տնտեսագիտական դասակարգման հոդվածներ
...

Sheet Հ3
C1: Հավելված N 3
C2: ՀՀ կառավարության 2023 թվականի
C3: ______________ ի ___Ն որոշման
A5: ՀԱՅԱՍՏԱՆԻ ՀԱՆՐԱՊԵՏՈՒԹՅԱՆ ԿԱՌԱՎԱՐՈՒԹՅԱՆ 2022 ԹՎԱԿԱՆԻ ԴԵԿՏԵՄԲԵՐԻ 29-Ի N 2111-Ն ՈՐՈՇՄԱՆ N 9 ՀԱՎԵԼՎԱԾԻ NN 9.7 ԵՎ 9.47 ԱՂՅՈՒՍԱԿՆԵՐՈՒՄ ԿԱՏԱՐՎՈՂ ՓՈՓՈԽՈՒԹՅՈՒՆՆԵՐԸ
C7: Աղյուսակ 9.7
A8: ՀՀ տարածքային կառավարման և ենթակառուցվածքների նախարարություն
A9: ՄԱՍ 2. ՊԵՏԱԿԱՆ ՄԱՐՄՆԻ ԳԾՈՎ ԱՐԴՅՈՒՆՔԱՅԻՆ (ԿԱՏԱՐՈՂԱԿԱՆ) ՑՈՒՑԱՆԻՇՆԵՐԸ
A11: Ծրագրի դասիչը | B11: Ծրագրի անվանումը
A12: 1212 | B12: Տարածքային զարգացում
A14: Ծրագրի միջոցառումները
A15: Ծրագրի դասիչը` | B15: 1212 | C15: Ցուցանիշների փոփոխությունը (ավելացումները նշված են դրական նշանով)
A16: Միջոցառման դասիչը` | B16: =Հ1!B20 -> 12030 | C16: Տարի
A17: Միջոցառման անվանումը` | B17: =+Հ1!C21 -> Լեռնային Ղարաբաղից Հայաստանի Հանրապետություն բռնի տեղահանված անձանց համար առաջնային անհրաժեշտության ապրանքների և ծառայությունների տրամադրում
A18: Նկարագրությունը` | B18: =+Հ1!C23 -> Լեռնային Ղարաբաղից Հայաստանի Հանրապետություն բռնի տեղահանված անձանց պարենային և ոչ պարենային ապրանքներով ապահովում և հյուրանոցային ծախսերի փոխհատուցում
A19: Միջոցառման տեսակը` | B19: Տրանսֆերտների տրամադրում
A20: Շահառուների ընտրության չափանիշները` | B20: Աջակցության կարիք ունեցող ֆիզիկական անձինք
A21: Արդյունքի չափորոշիչներ
A22: Աջակցություն ստացող բռնի տեղահանված անձանց թիվ | C22: =Հ4!C22+Հ4!C40+Հ4!C58+Հ4!C76+Հ4!C94+Հ4!C112+Հ4!C130+Հ4!C148+Հ4!C166+Հ4!C184 -> 80424
A23: Միջոցառման վրա կատարվող ծախսը (հազար դրամ) | C23: ='Հ2 '!G21 -> 1000000
C25: Աղյուսակ 9.47
B26: ՀՀ կառավարություն
A27: ՄԱՍ 2. ՊԵՏԱԿԱՆ ՄԱՐՄՆԻ ԳԾՈՎ ԱՐԴՅՈՒՆՔԱՅԻՆ (ԿԱՏԱՐՈՂԱԿԱՆ) ՑՈՒՑԱՆԻՇՆԵՐԸ
A29: Ծրագրի դասիչը | B29: Ծրագրի անվանումը
A30: 1139 | B30: ՀՀ կառավարության պահուստային ֆոնդ
A32: Ծրագրի միջոցառումները
A33: Ծրագրի դասիչը՝ | B33: 1139 | C33: Ցուցանիշների փոփոխությունը (նվազեցումները նշված են փակագծերում)
A34: Միջոցառման դասիչը՝ | B34: 11001 | C34: Տարի
A35: Միջոցառման անվանումը՝ | B35: ՀՀ կառավարության պահուստային ֆոնդ
A36: Նկարագրությունը՝ | B36: ՀՀ պետական բյուջեում նախատեսված ելքերի լրացուցիչ ֆինանսավորման՝ պետական բյուջեում չկանխատեսված ելքերի, ինչպես նաև բյուջետային երաշխիքների ապահովման ելքերի ֆինանսավորման ապահովում
A37: Միջոցառման տեսակը՝ | B37: Ծառայությունների մատուցում
A38: Միջոցառումն իրականացնողի անվանումը | B38: ՀՀ կառավարություն
B39: Արդյունքի չափորոշիչներ
A40: Միջոցառման վրա կատարվող ծախսը (հազար դրամ) | C40: ='Հ2 '!G123 -> -1000000

Sheet Հ4
C1: Հավելված N 4
C2: ՀՀ կառավարության 2023 թվականի
C3: ______________ ի ___Ն որոշման
A5: ՀԱՅԱՍՏԱՆԻ ՀԱՆՐԱՊԵՏՈՒԹՅԱՆ ԿԱՌԱՎԱՐՈՒԹՅԱՆ 2022 ԹՎԱԿԱՆԻ ԴԵԿՏԵՄԲԵՐԻ 29-Ի N 2111-Ն ՈՐՈՇՄԱՆ N 9.1 ՀԱՎԵԼՎԱԾԻ NN 9.1.48, 9.1.49, 9.1.50, 9.1.51, 9.1.52 9.1.53, 9.1.54, 9.1.55, 9.1.56, 9.1.57 ԵՎ 9.1.58 ԱՂՅՈՒՍԱԿՆԵՐՈՒՄ ԿԱՏԱՐՎՈՂ ՓՈՓՈԽՈՒԹՅՈՒՆՆԵՐԸ
C7: Աղյուսակ 9.1.48
A8: ='Հ2 '!F25 -> ՀՀ Արագածոտնի մարզպետի աշխատակազմ
A9: ՄԱՍ 1. ՊԵՏԱԿԱՆ ՄԱՐՄՆԻ ԳԾՈՎ ԱՐԴՅՈՒՆՔԱՅԻՆ (ԿԱՏԱՐՈՂԱԿԱՆ) ՑՈՒՑԱՆԻՇՆԵՐԸ
A11: Ծրագրի դասիչը | B11: Ծրագրի անվանումը
A12: 1212 | B12: Տարածքային զարգացում
A14: Ծրագրի միջոցառումները
A15: Ծրագրի դասիչը` | B15: 1212 | C15: Ցուցանիշների փոփոխությունը (ավելացումները նշված են դրական նշանով)
A16: Միջոցառման դասիչը` | B16: =Հ1!B20 -> 12030 | C16: Տարի
A17: Միջոցառման անվանումը` | B17: =Հ1!C21 -> Լեռնային Ղարաբաղից Հայաստանի Հանրապետություն բռնի տեղահանված անձանց համար առաջնային անհրաժեշտության ապրանքների և ծառայությունների տրամադրում
A18: Նկարագրությունը` | B18: =Հ1!C23 -> Լեռնային Ղարաբաղից Հայաստանի Հանրապետություն բռնի տեղահանված անձանց պարենային և ոչ պարենային ապրանքներով ապահովում և հյուրանոցային ծախսերի փոխհատուցում
A19: Միջոցառման տեսակը` | B19: Տրանսֆերտների տրամադրում
A20: Շահառուների ընտրության չափանիշները` | B20: Աջակցության կարիք ունեցող ֆիզիկական անձինք
A21: Արդյունքի չափորոշիչներ
A22: Աջակցություն ստացող բռնի տեղահանված անձանց թիվ | C22: 4397
A23: Միջոցառման վրա կատարվող ծախսը (հազար դրամ) | C23: ='Հ2 '!G25 -> 68000
C25: Աղյուսակ 9.1.50
A26: ='Հ2 '!F34 -> ՀՀ Արմավիրի մարզպետի աշխատակազմ
A27: ՄԱՍ 1. ՊԵՏԱԿԱՆ ՄԱՐՄՆԻ ԳԾՈՎ ԱՐԴՅՈՒՆՔԱՅԻՆ (ԿԱՏԱՐՈՂԱԿԱՆ) ՑՈՒՑԱՆԻՇՆԵՐԸ
A29: Ծրագրի դասիչը | B29: Ծրագրի անվանումը
A30: 1212 | B30: Տարածքային զարգացում
A32: Ծրագրի միջոցառումները
A33: Ծրագրի դասիչը` | B33: 1212 | C33: Ցուցանիշների փոփոխությունը (ավելացումները նշված են դրական նշանով)
A34: Միջոցառման դասիչը` | B34: 12030 | C34: Տարի
A35: Միջոցառման անվանումը` | B35: =B17 -> Լեռնային Ղարաբաղից Հայաստանի Հանրապետություն բռնի տեղահանված անձանց համար առաջնային անհրաժեշտության ապրանքների և ծառայությունների տրամադրում
A36: Նկարագրությունը` | B36: =B18 -> Լեռնային Ղարաբաղից Հայաստանի Հանրապետություն բռնի տեղահանված անձանց պարենային և ոչ պարենային ապրանքներով ապահովում և հյուրանոցային ծախսերի փոխհատուցում
A37: Միջոցառման տեսակը` | B37: Տրանսֆերտների տրամադրում
A38: Շահառուների ընտրության չափանիշները` | B38: Աջակցության կարիք ունեցող ֆիզիկական անձինք
A39: Արդյունքի չափորոշիչներ
A40: Աջակցություն ստացող բռնի տեղահանված անձանց թիվ | C40: 8772
A41: Միջոցառման վրա կատարվող ծախսը (հազար դրամ) | C41: ='Հ2 '!G34 -> 118000
C43: Աղյուսակ 9.1.49
A44: ='Հ2 '!F41 -> ՀՀ Արարատի մարզպետի աշխատակազմ
A45: ՄԱՍ 1. ՊԵՏԱԿԱՆ ՄԱՐՄՆԻ ԳԾՈՎ ԱՐԴՅՈՒՆՔԱՅԻՆ (ԿԱՏԱՐՈՂԱԿԱՆ) ՑՈՒՑԱՆԻՇՆԵՐԸ
A47: Ծրագրի դասիչը | B47: Ծրագրի անվանումը
A48: 1212 | B48: Տարածքային զարգացում
A50: Ծրագրի միջոցառումները
...
