Workbook
Name AgencyCode: #REF!
Name AgencyCode: #REF!
Name AgencyName: #REF!
Name AgencyName: #REF!
Name åû: #REF!
Name davit: #REF!
Name Functional1: #REF!
Name Functional1: #REF!
Name ggg: #REF!
Name mas: #REF!
Name mass: #REF!
Name PANature: #REF!
Name PANature: #REF!
Name PAType: #REF!
Name PAType: #REF!
Name Performance2: #REF!
Name Performance2: #REF!
Name PerformanceType: #REF!
Name PerformanceType: #REF!
Name x: #REF!
Name Հավելված: #REF!
Name Մաս: #REF!
Name շախմատիստ: #REF!

Sheet Հ1
A1: Հավելված N 1
A2: ՀՀ կառավարության 2023 թվականի
A3: ______________ ի ___Ն որոշման
A5: «ՀԱՅԱUՏԱՆԻ ՀԱՆՐԱՊԵՏՈՒԹՅԱՆ 2023 ԹՎԱԿԱՆԻ ՊԵՏԱԿԱՆ ԲՅՈՒՋԵԻ ՄԱUԻՆ» OՐԵՆՔԻ N 1 ՀԱՎԵԼՎԱԾԻ N 2 ԱՂՅՈՒՍԱԿՈՒՄ ԿԱՏԱՐՎՈՂ ՎԵՐԱԲԱՇԽՈՒՄԸ ԵՎ ՀԱՅԱՍՏԱՆԻ ՀԱՆՐԱՊԵՏՈՒԹՅԱՆ ԿԱՌԱՎԱՐՈՒԹՅԱՆ 2022 ԹՎԱԿԱՆԻ ԴԵԿՏԵՄԲԵՐԻ 29-Ի N 2111-Ն ՈՐՈՇՄԱՆ N 5 ՀԱՎԵԼՎԱԾԻ N 1 ԱՂՅՈՒՍԱԿՈՒՄ ԿԱՏԱՐՎՈՂ ՓՈՓՈԽՈՒԹՅՈՒՆՆԵՐԸ
D7: հազար դրամով
A8: Ծրագրային դասիչը | C8: Բյուջետային հատկացումների գլխավոր կարգադրիչների, ծրագրերի և միջոցառումների անվանումները | D8: Ցուցանիշների փոփոխությունը (ավելացումները նշված են դրական նշանով, իսկ նվազեցումները` փակագծերում)
A9: Ծրագիր | B9: Միջոցառում | D9: Տարի
A10: 1192 | C10: ԸՆԴԱՄԵՆԸ | D10: =+D12+D26 -> 0
C11: այդ թվում
B12: ՀՀ տարածքային կառավարման և ենթակառուցվածքների նախարարություն | D12: =D14 -> 1000000
A13: 1212 | C13: Ծրագրի անվանումը`
C14: Տարածքային զարգացում | D14: =D21 -> 1000000
C15: Ծրագրի նպատակը`
C16: Տարածքային համաչափ զարգացման խթանում
C17: Վերջնական արդյունքի նկարագրությունը`
C18: ՀՀ համայնքների կառավարման արդյունավետության բարձրացում և տնտեսական գործունեության խթանում
C19: Ծրագրի միջոցառումներ
B20: 12030 | C20: Միջոցառման անվանումը`
C21: Լեռնային Ղարաբաղից Հայաստանի Հանրապետություն բռնի տեղահանված անձանց համար առաջնային անհրաժեշտության ապրանքների և ծառայությունների տրամադրում | D21: ='Հ2 '!G23 -> 1000000
C22: Միջոցառման նկարագրությունը`
C23: Լեռնային Ղարաբաղից Հայաստանի Հանրապետություն բռնի տեղահանված անձանց պարենային և ոչ պարենային ապրանքներով ապահովում և հյուրանոցային ծախսերի փոխհատուցում
C24: Միջոցառման տեսակը
C25: Տրանսֆերտների տրամադրում
B26: ՀՀ կառավարություն | C26: ՀՀ կառավարություն | D26: =+D28 -> -1000000
A27: 1139 | C27: Ծրագրի անվանումը`
C28: ՀՀ կառավարության պահուստային ֆոնդ | D28: =+D34 -> -1000000
C29: Ծրագրի նպատակը`
C30: Պետական բյուջեում չկանխատեսված, ինչպես նաև բյուջետային երաշխիքների ապահովման ծախսերի ֆինանսավորման ապահովում
C31: Վերջնական արդյունքի նկարագրությունը`
C32: Պահուստային ֆոնդի կառավարման արդյունավետության և թափանցիկության ապահովում
B33: 11001 | C33: Միջոցառման անվանումը`
C34: ՀՀ կառավարության պահուստային ֆոնդ | D34: ='Հ2 '!G121 -> -1000000
C35: Միջոցառման նկարագրությունը`
C36: ՀՀ պետական բյուջեում նախատեսված ելքերի լրացուցիչ ֆինանսավորման՝ պետական բյուջեում չկանխատեսված ելքերի, ինչպես նաև բյուջետային երաշխիքների ապահովման ելքերի ֆինանսավորման ապահովում
C37: Միջոցառման տեսակը
C38: Ծառայությունների մատուցում

Sheet Հ2 
A1: Հավելված N 2
A2: ՀՀ կառավարության 2023 թվականի
A3: ______________ ի ___Ն որոշման
A5: ՀԱՅԱՍՏԱՆԻ ՀԱՆՐԱՊԵՏՈՒԹՅԱՆ ԿԱՌԱՎԱՐՈՒԹՅԱՆ 2022 ԹՎԱԿԱՆԻ ԴԵԿՏԵՄԲԵՐԻ 29-Ի N 2111-Ն ՈՐՈՇՄԱՆ N 3 ԵՎ N 4 ՀԱՎԵԼՎԱԾՆԵՐՈՒՄ ԿԱՏԱՐՎՈՂ ՓՈՓՈԽՈՒԹՅՈՒՆՆԵՐԸ ԵՎ ԼՐԱՑՈՒՄՆԵՐԸ
G7: հազար դրամով
A8: Գործառական դասիչը | D8: Ծրագրային դասիչը | F8: Բյուջետային հատկացումների գլխավոր կարգադրիչների, ծրագրերի, միջոցառումների և միջոցառումները կատարող պետական մարմինների անվանումները | G8: Ցուցանիշների փոփոխությունը (ավելացումները նշված են դրական նշանով, իսկ նվազեցումները` փակագծերում)
A9: Բաժին | B9: Խումբ | C9: Դաս | D9: Ծրագիր | E9: Միջոցառում | G9: Տարի
F10: ԸՆԴԱՄԵՆԸ | G10: =+G12+G112 -> 0
F11: այդ թվում
F12: ՀՀ տարածքային կառավարման և ենթակառուցվածքների նախարարություն | G12: =+G13 -> 1000000
A13: 01 | F13: ԸՆԴՀԱՆՈՒՐ ԲՆՈՒՅԹԻ ՀԱՆՐԱՅԻՆ ԾԱՌԱՅՈՒԹՅՈՒՆՆԵՐ | G13: =G15 -> 1000000
F14: այդ թվում`
B15: 08 | F15: Կառավարության տարբեր մակարդակների միջև իրականացվող ընդհանուր բնույթի տրանսֆերտներ | G15: =G17 -> 1000000
F16: այդ թվում`
C17: 01 | F17: Կառավարության տարբեր մակարդակների միջև իրականացվող ընդհանուր բնույթի տրանսֆերտներ | G17: =+G19 -> 1000000
F18: այդ թվում`
F19: ՀՀ տարածքային կառավարման և ենթակառուցվածքների նախարարություն | G19: =+G21 -> 1000000
F20: այդ թվում`
D21: 1212 | E21: Տարածքային զարգացում | G21: =+G23 -> 1000000
E22: =Հ1!B20 -> 12030 | F22: այդ թվում`
F23: =Հ1!C21 -> Լեռնային Ղարաբաղից Հայաստանի Հանրապետություն բռնի տեղահանված անձանց համար առաջնային անհրաժեշտության ապրանքների և ծառայությունների տրամադրում | G23: =G25+G34+G41+G48+G55+G65+G74+G86+G96+G103 -> 1000000
F24: այդ թվում` ըստ կատարողների
F25: ՀՀ Արագածոտնի մարզպետի աշխատակազմ | G25: =G27 -> 68000
F26: այդ թվում`բյուջետային ծախսերի տնտեսագիտական դասակարգման հոդվածներ
F27: ԸՆԴԱՄԵՆԸ ԾԱԽՍԵՐ | G27: =+G28 -> 68000
F28: ԸՆԹԱՑԻԿ ԾԱԽՍԵՐ | G28: =G29 -> 68000
F29: ԾԱՌԱՅՈՒԹՅՈՒՆՆԵՐԻ ԵՎ ԱՊՐԱՆՔՆԵՐԻ ՁԵՌՔԲԵՐՈՒՄ | G29: =G30+G32 -> 68000
F30: Պայմանագրային այլ ծառայությունների ձեռքբերում | G30: =G31 -> 48200
F31: - Ընդհանուր բնույթի այլ ծառայություններ | G31: 48200
F32: Նյութեր (Ապրանքներ) | G32: 19800
F33: - Կենցաղային և հանրային սննդի նյութեր | G33: 19800
F34: ՀՀ Արմավիրի մարզպետի աշխատակազմ | G34: =G36 -> 118000
F35: այդ թվում`բյուջետային ծախսերի տնտեսագիտական դասակարգման հոդվածներ
F36: ԸՆԴԱՄԵՆԸ ԾԱԽՍԵՐ | G36: =+G37 -> 118000
F37: ԸՆԹԱՑԻԿ ԾԱԽՍԵՐ | G37: =G38 -> 118000
F38: ԾԱՌԱՅՈՒԹՅՈՒՆՆԵՐԻ ԵՎ ԱՊՐԱՆՔՆԵՐԻ ՁԵՌՔԲԵՐՈՒՄ | G38: =G39 -> 118000
F39: Նյութեր (Ապրանքներ) | G39: =G40 -> 118000
F40: - Կենցաղային և հանրային սննդի նյութեր | G40: 118000
F41: ՀՀ Արարատի մարզպետի աշխատակազմ | G41: =G43 -> 10000
F42: այդ թվում`բյուջետային ծախսերի տնտեսագիտական դասակարգման հոդվածներ
F43: ԸՆԴԱՄԵՆԸ ԾԱԽՍԵՐ | G43: =+G44 -> 10000
F44: ԸՆԹԱՑԻԿ ԾԱԽՍԵՐ | G44: =G45 -> 10000
F45: ՍՈՑԻԱԼԱԿԱՆ ՆՊԱՍՏՆԵՐ ԵՎ ԿԵՆՍԱԹՈՇԱԿՆԵՐ | G45: =G46 -> 10000
F46: Սոցիալական օգնության դրամական արտահայտությամբ նպաստներ (բյուջեից) | G46: =G47 -> 10000
F47: - Այլ նպաստներ բյուջեից | G47: 10000
F48: ՀՀ Գեղարքունիքի մարզպետի աշխատակազմ | G48: =G50 -> 100000
F49: այդ թվում`բյուջետային ծախսերի տնտեսագիտական դասակարգման հոդվածներ
F50: ԸՆԴԱՄԵՆԸ ԾԱԽՍԵՐ | G50: =+G51 -> 100000
F51: ԸՆԹԱՑԻԿ ԾԱԽՍԵՐ | G51: =G52 -> 100000
F52: ԾԱՌԱՅՈՒԹՅՈՒՆՆԵՐԻ ԵՎ ԱՊՐԱՆՔՆԵՐԻ ՁԵՌՔԲԵՐՈՒՄ | G52: =G53 -> 100000
F53: Պայմանագրային այլ ծառայությունների ձեռքբերում | G53: =G54 -> 100000
F54: - Ընդհանուր բնույթի այլ ծառայություններ | G54: 100000
F55: ՀՀ Լոռու մարզպետի աշխատակազմ | G55: =G57 -> 110000
F56: այդ թվում`բյուջետային ծախսերի տնտեսագիտական դասակարգման հոդվածներ
F57: ԸՆԴԱՄԵՆԸ ԾԱԽՍԵՐ | G57: =+G58 -> 110000
F58: ԸՆԹԱՑԻԿ ԾԱԽՍԵՐ | G58: =G59+G62 -> 110000
F59: ԾԱՌԱՅՈՒԹՅՈՒՆՆԵՐԻ ԵՎ ԱՊՐԱՆՔՆԵՐԻ ՁԵՌՔԲԵՐՈՒՄ | G59: =G60 -> 103000
F60: Պայմանագրային այլ ծառայությունների ձեռքբերում | G60: =G61 -> 103000
F61: - Ընդհանուր բնույթի այլ ծառայություններ | G61: 103000
F62: ՍՈՑԻԱԼԱԿԱՆ ՆՊԱՍՏՆԵՐ ԵՎ ԿԵՆՍԱԹՈՇԱԿՆԵՐ | G62: =G63 -> 7000
F63: Սոցիալական օգնության դրամական արտահայտությամբ նպաստներ (բյուջեից) | G63: =G64 -> 7000
F64: - Այլ նպաստներ բյուջեից | G64: 7000
F65: ՀՀ Կոտայքի մարզպետի աշխատակազմ | G65: =G67 -> 216000
F66: այդ թվում`բյուջետային ծախսերի տնտեսագիտական դասակարգման հոդվածներ
F67: ԸՆԴԱՄԵՆԸ ԾԱԽՍԵՐ | G67: =+G68 -> 216000
F68: ԸՆԹԱՑԻԿ ԾԱԽՍԵՐ | G68: =G69 -> 216000
F69: ԾԱՌԱՅՈՒԹՅՈՒՆՆԵՐԻ ԵՎ ԱՊՐԱՆՔՆԵՐԻ ՁԵՌՔԲԵՐՈՒՄ | G69: =G70+G72 -> 216000
F70: Պայմանագրային այլ ծառայությունների ձեռքբերում | G70: =G71 -> 95000
F71: - Ընդհանուր բնույթի այլ ծառայություններ | G71: 95000
F72: Նյութեր (Ապրանքներ) | G72: =G73 -> 121000
F73: - Կենցաղային և հանրային սննդի նյութեր | G73: 121000
F74: ՀՀ Շիրակի մարզպետի աշխատակազմ | G74: =G76 -> 80000
F75: այդ թվում`բյուջետային ծախսերի տնտեսագիտական դասակարգման հոդվածներ
F76: ԸՆԴԱՄԵՆԸ ԾԱԽՍԵՐ | G76: =+G77 -> 80000
F77: ԸՆԹԱՑԻԿ ԾԱԽՍԵՐ | G77: =G78+G83 -> 80000
F78: ԾԱՌԱՅՈՒԹՅՈՒՆՆԵՐԻ ԵՎ ԱՊՐԱՆՔՆԵՐԻ ՁԵՌՔԲԵՐՈՒՄ | G78: =G79+G81 -> 70000
F79: Պայմանագրային այլ ծառայությունների ձեռքբերում | G79: =G80 -> 40000
F80: - Ընդհանուր բնույթի այլ ծառայություններ | G80: 40000
F81: Նյութեր (Ապրանքներ) | G81: =G82 -> 30000
F82: - Կենցաղային և հանրային սննդի նյութեր | G82: 30000
F83: ՍՈՑԻԱԼԱԿԱՆ ՆՊԱՍՏՆԵՐ ԵՎ ԿԵՆՍԱԹՈՇԱԿՆԵՐ | G83: =G84 -> 10000
F84: Սոցիալական օգնության դրամական արտահայտությամբ նպաստներ (բյուջեից) | G84: =G85 -> 10000
F85: - Այլ նպաստներ բյուջեից | G85: 10000
F86: ՀՀ Սյունիքի մարզպետի աշխատակազմ | G86: =G88 -> 160000
F87: այդ թվում`բյուջետային ծախսերի տնտեսագիտական դասակարգման հոդվածներ
F88: ԸՆԴԱՄԵՆԸ ԾԱԽՍԵՐ | G88: =+G89 -> 160000
F89: ԸՆԹԱՑԻԿ ԾԱԽՍԵՐ | G89: =G90+G93 -> 160000
F90: ԾԱՌԱՅՈՒԹՅՈՒՆՆԵՐԻ ԵՎ ԱՊՐԱՆՔՆԵՐԻ ՁԵՌՔԲԵՐՈՒՄ | G90: =G91 -> 140000
F91: Պայմանագրային այլ ծառայությունների ձեռքբերում | G91: =G92 -> 140000
F92: - Ընդհանուր բնույթի այլ ծառայություններ | G92: 140000
F93: ՍՈՑԻԱԼԱԿԱՆ ՆՊԱՍՏՆԵՐ ԵՎ ԿԵՆՍԱԹՈՇԱԿՆԵՐ | G93: =G94 -> 20000
F94: Սոցիալական օգնության դրամական արտահայտությամբ նպաստներ (բյուջեից) | G94: =G95 -> 20000
F95: - Այլ նպաստներ բյուջեից | G95: 20000
F96: ՀՀ Վայոց ձորի մարզպետի աշխատակազմ | G96: =G98 -> 50000
F97: այդ թվում`բյուջետային ծախսերի տնտեսագիտական դասակարգման հոդվածներ
F98: ԸՆԴԱՄԵՆԸ ԾԱԽՍԵՐ | G98: =+G99 -> 50000
F99: ԸՆԹԱՑԻԿ ԾԱԽՍԵՐ | G99: =G100 -> 50000
F100: ՍՈՑԻԱԼԱԿԱՆ ՆՊԱՍՏՆԵՐ ԵՎ ԿԵՆՍԱԹՈՇԱԿՆԵՐ | G100: =G101 -> 50000
F101: Սոցիալական օգնության դրամական արտահայտությամբ նպաստներ (բյուջեից) | G101: =G102 -> 50000
F102: - Այլ նպաստներ բյուջեից | G102: 50000
...

Sheet Հ3
C1: Հավելված N 3
C2: ՀՀ կառավարության 2023 թվականի
C3: ______________ ի ___Ն որոշման
A5: ՀԱՅԱՍՏԱՆԻ ՀԱՆՐԱՊԵՏՈՒԹՅԱՆ ԿԱՌԱՎԱՐՈՒԹՅԱՆ 2022 ԹՎԱԿԱՆԻ ԴԵԿՏԵՄԲԵՐԻ 29-Ի N 2111-Ն ՈՐՈՇՄԱՆ N 9 ՀԱՎԵԼՎԱԾԻ NN 9.7 ԵՎ 9.47 ԱՂՅՈՒՍԱԿՆԵՐՈՒՄ ԿԱՏԱՐՎՈՂ ՓՈՓՈԽՈՒԹՅՈՒՆՆԵՐԸ
C7: Աղյուսակ 9.7
A8: ՀՀ տարածքային կառավարման և ենթակառուցվածքների նախարարություն
A9: ՄԱՍ 2. ՊԵՏԱԿԱՆ ՄԱՐՄՆԻ ԳԾՈՎ ԱՐԴՅՈՒՆՔԱՅԻՆ (ԿԱՏԱՐՈՂԱԿԱՆ) ՑՈՒՑԱՆԻՇՆԵՐԸ
A11: Ծրագրի դասիչը | B11: Ծրագրի անվանումը
A12: 1212 | B12: Տարածքային զարգացում
A14: Ծրագրի միջոցառումները
A15: Ծրագրի դասիչը` | B15: 1212 | C15: Ցուցանիշների փոփոխությունը (ավելացումները նշված են դրական նշանով)
A16: Միջոցառման դասիչը` | B16: =Հ1!B20 -> 12030 | C16: Տարի
A17: Միջոցառման անվանումը` | B17: =+Հ1!C21 -> Լեռնային Ղարաբաղից Հայաստանի Հանրապետություն բռնի տեղահանված անձանց համար առաջնային անհրաժեշտության ապրանքների և ծառայությունների տրամադրում
A18: Նկարագրությունը` | B18: =+Հ1!C23 -> Լեռնային Ղարաբաղից Հայաստանի Հանրապետություն բռնի տեղահանված անձանց պարենային և ոչ պարենային ապրանքներով ապահովում և հյուրանոցային ծախսերի փոխհատուցում
A19: Միջոցառման տեսակը` | B19: Տրանսֆերտների տրամադրում
A20: Շահառուների ընտրության չափանիշները` | B20: Աջակցության կարիք ունեցող ֆիզիկական անձինք
A21: Արդյունքի չափորոշիչներ
A22: Աջակցություն ստացող բռնի տեղահանված անձանց թիվ | C22: =Հ4!C22+Հ4!C40+Հ4!C58+Հ4!C76+Հ4!C94+Հ4!C112+Հ4!C130+Հ4!C148+Հ4!C166+Հ4!C184 -> 80424
A23: Միջոցառման վրա կատարվող ծախսը (հազար դրամ) | C23: ='Հ2 '!G21 -> 1000000
C25: Աղյուսակ 9.47
B26: ՀՀ կառավարություն
A27: ՄԱՍ 2. ՊԵՏԱԿԱՆ ՄԱՐՄՆԻ ԳԾՈՎ ԱՐԴՅՈՒՆՔԱՅԻՆ (ԿԱՏԱՐՈՂԱԿԱՆ) ՑՈՒՑԱՆԻՇՆԵՐԸ
A29: Ծրագրի դասիչը | B29: Ծրագրի անվանումը
A30: 1139 | B30: ՀՀ կառավարության պահուստային ֆոնդ
A32: Ծրագրի միջոցառումները
A33: Ծրագրի դասիչը՝ | B33: 1139 | C33: Ցուցանիշների փոփոխությունը (նվազեցումները նշված են փակագծերում)
A34: Միջոցառման դասիչը՝ | B34: 11001 | C34: Տարի
A35: Միջոցառման անվանումը՝ | B35: ՀՀ կառավարության պահուստային ֆոնդ
A36: Նկարագրությունը՝ | B36: ՀՀ պետական բյուջեում նախատեսված ելքերի լրացուցիչ ֆինանսավորման՝ պետական բյուջեում չկանխատեսված ելքերի, ինչպես նաև բյուջետային երաշխիքների ապահովման ելքերի ֆինանսավորման ապահովում
A37: Միջոցառման տեսակը՝ | B37: Ծառայությունների մատուցում
A38: Միջոցառումն իրականացնողի անվանումը | B38: ՀՀ կառավարություն
B39: Արդյունքի չափորոշիչներ
A40: Միջոցառման վրա կատարվող ծախսը (հազար դրամ) | C40: ='Հ2 '!G123 -> -1000000

Sheet Հ4
C1: Հավելված N 4
C2: ՀՀ կառավարության 2023 թվականի
C3: ______________ ի ___Ն որոշման
A5: ՀԱՅԱՍՏԱՆԻ ՀԱՆՐԱՊԵՏՈՒԹՅԱՆ ԿԱՌԱՎԱՐՈՒԹՅԱՆ 2022 ԹՎԱԿԱՆԻ ԴԵԿՏԵՄԲԵՐԻ 29-Ի N 2111-Ն ՈՐՈՇՄԱՆ N 9.1 ՀԱՎԵԼՎԱԾԻ NN 9.1.48, 9.1.49, 9.1.50, 9.1.51, 9.1.52 9.1.53, 9.1.54, 9.1.55, 9.1.56, 9.1.57 ԵՎ 9.1.58 ԱՂՅՈՒՍԱԿՆԵՐՈՒՄ ԿԱՏԱՐՎՈՂ ՓՈՓՈԽՈՒԹՅՈՒՆՆԵՐԸ
C7: Աղյուսակ 9.1.48
A8: ='Հ2 '!F25 -> ՀՀ Արագածոտնի մարզպետի աշխատակազմ
A9: ՄԱՍ 1. ՊԵՏԱԿԱՆ ՄԱՐՄՆԻ ԳԾՈՎ ԱՐԴՅՈՒՆՔԱՅԻՆ (ԿԱՏԱՐՈՂԱԿԱՆ) ՑՈՒՑԱՆԻՇՆԵՐԸ
A11: Ծրագրի դասիչը | B11: Ծրագրի անվանումը
A12: 1212 | B12: Տարածքային զարգացում
A14: Ծրագրի միջոցառումները
A15: Ծրագրի դասիչը` | B15: 1212 | C15: Ցուցանիշների փոփոխությունը (ավելացումները նշված են դրական նշանով)
A16: Միջոցառման դասիչը` | B16: =Հ1!B20 -> 12030 | C16: Տարի
A17: Միջոցառման անվանումը` | B17: =Հ1!C21 -> Լեռնային Ղարաբաղից Հայաստանի Հանրապետություն բռնի տեղահանված անձանց համար առաջնային անհրաժեշտության ապրանքների և ծառայությունների տրամադրում
A18: Նկարագրությունը` | B18: =Հ1!C23 -> Լեռնային Ղարաբաղից Հայաստանի Հանրապետություն բռնի տեղահանված անձանց պարենային և ոչ պարենային ապրանքներով ապահովում և հյուրանոցային ծախսերի փոխհատուցում
A19: Միջոցառման տեսակը` | B19: Տրանսֆերտների տրամադրում
A20: Շահառուների ընտրության չափանիշները` | B20: Աջակցության կարիք ունեցող ֆիզիկական անձինք
A21: Արդյունքի չափորոշիչներ
A22: Աջակցություն ստացող բռնի տեղահանված անձանց թիվ | C22: 4397
A23: Միջոցառման վրա կատարվող ծախսը (հազար դրամ) | C23: ='Հ2 '!G25 -> 68000
C25: Աղյուսակ 9.1.50
A26: ='Հ2 '!F34 -> ՀՀ Արմավիրի մարզպետի աշխատակազմ
A27: ՄԱՍ 1. ՊԵՏԱԿԱՆ ՄԱՐՄՆԻ ԳԾՈՎ ԱՐԴՅՈՒՆՔԱՅԻՆ (ԿԱՏԱՐՈՂԱԿԱՆ) ՑՈՒՑԱՆԻՇՆԵՐԸ
A29: Ծրագրի դասիչը | B29: Ծրագրի անվանումը
A30: 1212 | B30: Տարածքային զարգացում
A32: Ծրագրի միջոցառումները
A33: Ծրագրի դասիչը` | B33: 1212 | C33: Ցուցանիշների փոփոխությունը (ավելացումները նշված են դրական նշանով)
A34: Միջոցառման դասիչը` | B34: 12030 | C34: Տարի
A35: Միջոցառման անվանումը` | B35: =B17 -> Լեռնային Ղարաբաղից Հայաստանի Հանրապետություն բռնի տեղահանված անձանց համար առաջնային անհրաժեշտության ապրանքների և ծառայությունների տրամադրում
A36: Նկարագրությունը` | B36: =B18 -> Լեռնային Ղարաբաղից Հայաստանի Հանրապետություն բռնի տեղահանված անձանց պարենային և ոչ պարենային ապրանքներով ապահովում և հյուրանոցային ծախսերի փոխհատուցում
A37: Միջոցառման տեսակը` | B37: Տրանսֆերտների տրամադրում
A38: Շահառուների ընտրության չափանիշները` | B38: Աջակցության կարիք ունեցող ֆիզիկական անձինք
A39: Արդյունքի չափորոշիչներ
A40: Աջակցություն ստացող բռնի տեղահանված անձանց թիվ | C40: 8772
A41: Միջոցառման վրա կատարվող ծախսը (հազար դրամ) | C41: ='Հ2 '!G34 -> 118000
C43: Աղյուսակ 9.1.49
A44: ='Հ2 '!F41 -> ՀՀ Արարատի մարզպետի աշխատակազմ
A45: ՄԱՍ 1. ՊԵՏԱԿԱՆ ՄԱՐՄՆԻ ԳԾՈՎ ԱՐԴՅՈՒՆՔԱՅԻՆ (ԿԱՏԱՐՈՂԱԿԱՆ) ՑՈՒՑԱՆԻՇՆԵՐԸ
A47: Ծրագրի դասիչը | B47: Ծրագրի անվանումը
A48: 1212 | B48: Տարածքային զարգացում
A50: Ծրագրի միջոցառումները
A51: Ծրագրի դասիչը` | B51: 1212 | C51: Ցուցանիշների փոփոխությունը (ավելացումները նշված են դրական նշանով)
A52: Միջոցառման դասիչը` | B52: 12030 | C52: Տարի
A53: Միջոցառման անվանումը` | B53: =B35 -> Լեռնային Ղարաբաղից Հայաստանի Հանրապետություն բռնի տեղահանված անձանց համար առաջնային անհրաժեշտության ապրանքների և ծառայությունների տրամադրում
A54: Նկարագրությունը` | B54: =B36 -> Լեռնային Ղարաբաղից Հայաստանի Հանրապետություն բռնի տեղահանված անձանց պարենային և ոչ պարենային ապրանքներով ապահովում և հյուրանոցային ծախսերի փոխհատուցում
A55: Միջոցառման տեսակը` | B55: Տրանսֆերտների տրամադրում
A56: Շահառուների ընտրության չափանիշները` | B56: Աջակցության կարիք ունեցող ֆիզիկական անձինք
A57: Արդյունքի չափորոշիչներ
A58: Աջակցություն ստացող բռնի տեղահանված անձանց թիվ | C58: 18939
A59: Միջոցառման վրա կատարվող ծախսը (հազար դրամ) | C59: ='Հ2 '!G41 -> 10000
C61: Աղյուսակ 9.1.51
A62: ='Հ2 '!F48 -> ՀՀ Գեղարքունիքի մարզպետի աշխատակազմ
A63: ՄԱՍ 1. ՊԵՏԱԿԱՆ ՄԱՐՄՆԻ ԳԾՈՎ ԱՐԴՅՈՒՆՔԱՅԻՆ (ԿԱՏԱՐՈՂԱԿԱՆ) ՑՈՒՑԱՆԻՇՆԵՐԸ
A65: Ծրագրի դասիչը | B65: Ծրագրի անվանումը
A66: 1212 | B66: Տարածքային զարգացում
A68: Ծրագրի միջոցառումները
A69: Ծրագրի դասիչը` | B69: 1212 | C69: Ցուցանիշների փոփոխությունը (ավելացումները նշված են դրական նշանով)
A70: Միջոցառման դասիչը` | B70: 12030 | C70: Տարի
A71: Միջոցառման անվանումը` | B71: =B53 -> Լեռնային Ղարաբաղից Հայաստանի Հանրապետություն բռնի տեղահանված անձանց համար առաջնային անհրաժեշտության ապրանքների և ծառայությունների տրամադրում
A72: Նկարագրությունը` | B72: =B54 -> Լեռնային Ղարաբաղից Հայաստանի Հանրապետություն բռնի տեղահանված անձանց պարենային և ոչ պարենային ապրանքներով ապահովում և հյուրանոցային ծախսերի փոխհատուցում
A73: Միջոցառման տեսակը` | B73: Տրանսֆերտների տրամադրում
A74: Շահառուների ընտրության չափանիշները` | B74: Աջակցության կարիք ունեցող ֆիզիկական անձինք
A75: Արդյունքի չափորոշիչներ
A76: Աջակցություն ստացող բռնի տեղահանված անձանց թիվ | C76: 4742
A77: Միջոցառման վրա կատարվող ծախսը (հազար դրամ) | C77: ='Հ2 '!G48 -> 100000
C79: Աղյուսակ 9.1.52
A80: ='Հ2 '!F55 -> ՀՀ Լոռու մարզպետի աշխատակազմ
A81: ՄԱՍ 1. ՊԵՏԱԿԱՆ ՄԱՐՄՆԻ ԳԾՈՎ ԱՐԴՅՈՒՆՔԱՅԻՆ (ԿԱՏԱՐՈՂԱԿԱՆ) ՑՈՒՑԱՆԻՇՆԵՐԸ
A83: Ծրագրի դասիչը | B83: Ծրագրի անվանումը
A84: 1212 | B84: Տարածքային զարգացում
A86: Ծրագրի միջոցառումները
A87: Ծրագրի դասիչը` | B87: 1212 | C87: Ցուցանիշների փոփոխությունը (ավելացումները նշված են դրական նշանով)
A88: Միջոցառման դասիչը` | B88: 12030 | C88: Տարի
A89: Միջոցառման անվանումը` | B89: =B71 -> Լեռնային Ղարաբաղից Հայաստանի Հանրապետություն բռնի տեղահանված անձանց համար առաջնային անհրաժեշտության ապրանքների և ծառայությունների տրամադրում
A90: Նկարագրությունը` | B90: =B72 -> Լեռնային Ղարաբաղից Հայաստանի Հանրապետություն բռնի տեղահանված անձանց պարենային և ոչ պարենային ապրանքներով ապահովում և հյուրանոցային ծախսերի փոխհատուցում
A91: Միջոցառման տեսակը` | B91: Տրանսֆերտների տրամադրում
A92: Շահառուների ընտրության չափանիշները` | B92: Աջակցության կարիք ունեցող ֆիզիկական անձինք
A93: Արդյունքի չափորոշիչներ
A94: Աջակցություն ստացող բռնի տեղահանված անձանց թիվ | C94: 5187
A95: Միջոցառման վրա կատարվող ծախսը (հազար դրամ) | C95: ='Հ2 '!G55 -> 110000
C97: Աղյուսակ 9.1.53
A98: ='Հ2 '!F65 -> ՀՀ Կոտայքի մարզպետի աշխատակազմ
A99: ՄԱՍ 1. ՊԵՏԱԿԱՆ ՄԱՐՄՆԻ ԳԾՈՎ ԱՐԴՅՈՒՆՔԱՅԻՆ (ԿԱՏԱՐՈՂԱԿԱՆ) ՑՈՒՑԱՆԻՇՆԵՐԸ
A101: Ծրագրի դասիչը | B101: Ծրագրի անվանումը
A102: 1212 | B102: Տարածքային զարգացում
A104: Ծրագրի միջոցառումները
A105: Ծրագրի դասիչը` | B105: 1212 | C105: Ցուցանիշների փոփոխությունը (ավելացումները նշված են դրական նշանով)
A106: Միջոցառման դասիչը` | B106: 12030 | C106: Տարի
A107: Միջոցառման անվանումը` | B107: =B89 -> Լեռնային Ղարաբաղից Հայաստանի Հանրապետություն բռնի տեղահանված անձանց համար առաջնային անհրաժեշտության ապրանքների և ծառայությունների տրամադրում
A108: Նկարագրությունը` | B108: =B90 -> Լեռնային Ղարաբաղից Հայաստանի Հանրապետություն բռնի տեղահանված անձանց պարենային և ոչ պարենային ապրանքներով ապահովում և հյուրանոցային ծախսերի փոխհատուցում
A109: Միջոցառման տեսակը` | B109: Տրանսֆերտների տրամադրում
A110: Շահառուների ընտրության չափանիշները` | B110: Աջակցության կարիք ունեցող ֆիզիկական անձինք
A111: Արդյունքի չափորոշիչներ
A112: Աջակցություն ստացող բռնի տեղահանված անձանց թիվ | C112: 24529
A113: Միջոցառման վրա կատարվող ծախսը (հազար դրամ) | C113: ='Հ2 '!G65 -> 216000
C115: Աղյուսակ 9.1.54
A116: ='Հ2 '!F74 -> ՀՀ Շիրակի մարզպետի աշխատակազմ
A117: ՄԱՍ 1. ՊԵՏԱԿԱՆ ՄԱՐՄՆԻ ԳԾՈՎ ԱՐԴՅՈՒՆՔԱՅԻՆ (ԿԱՏԱՐՈՂԱԿԱՆ) ՑՈՒՑԱՆԻՇՆԵՐԸ
A119: Ծրագրի դասիչը | B119: Ծրագրի անվանումը
A120: 1212 | B120: Տարածքային զարգացում
A122: Ծրագրի միջոցառումները
...
