Workbook
Name _tab10: #REF!
Name _tab10: #REF!
Name _tab11: #REF!
Name _tab11: #REF!
Name _tab12: #REF!
Name _tab12: #REF!
Name _tab13: #REF!
Name _tab13: #REF!
Name _tab14: #REF!
Name _tab14: #REF!
Name _tab15: #REF!
Name _tab15: #REF!
Name _tab16: #REF!
Name _tab16: #REF!
Name _tab17: #REF!
Name _tab17: #REF!
Name _tab18: #REF!
Name _tab18: #REF!
Name _tab19: #REF!
Name _tab19: #REF!
Name _tab20: #REF!
Name _tab20: #REF!
Name _tab21: #REF!
Name _tab21: #REF!
Name _tab22: #REF!
Name _tab22: #REF!
Name _tab23: #REF!
Name _tab23: #REF!
Name _tab24: #REF!
Name _tab24: #REF!
Name _tab5: #REF!
Name _tab5: #REF!
Name _tab6: #REF!
Name _tab6: #REF!
Name _tab7: #REF!
Name _tab7: #REF!
Name _tab8: #REF!
Name _tab8: #REF!
Name _tab9: #REF!
Name _tab9: #REF!
Name AgencyCode: #REF!
Name AgencyCode: #REF!
Name AgencyName: #REF!
Name AgencyName: #REF!
Name åû: #REF!
Name åû: #REF!
Name davit: #REF!
Name davit: #REF!
Name Functional1: #REF!
Name Functional1: #REF!
Name ggg: #REF!
Name ggg: #REF!
Name hav: #REF!
Name hav: #REF!
Name havelvac: #REF!
Name havelvac: #REF!
Name mas: #REF!
Name mas: #REF!
Name mass: #REF!
Name mass: #REF!

Sheet 1
D1: Հավելված N 1
C2: ՀՀ կառավարության 2023 թվականի
C3: -----------------ի N -----------Ն որոշման
A6: ՀԱՅԱՍՏԱՆԻ ՀԱՆՐԱՊԵՏՈՒԹՅԱՆ 2023 ԹՎԱԿԱՆԻ ՊԵՏԱԿԱՆ ԲՅՈՒՋԵԻ ՄԱՍԻՆ» ՕՐԵՆՔԻ N 1 ՀԱՎԵԼՎԱԾԻ N 2 ԱՂՅՈՒՍԱԿՈՒՄ ԿԱՏԱՐՎՈՂ ՎԵՐԱԲԱՇԽՈՒՄԸ ԵՎ ՀԱՅԱՍՏԱՆԻ ՀԱՆՐԱՊԵՏՈՒԹՅԱՆ ԿԱՌԱՎԱՐՈՒԹՅԱՆ 2022 ԹՎԱԿԱՆԻ ԴԵԿՏԵՄԲԵՐԻ 29-Ի N 2111-Ն ՈՐՈՇՄԱՆ N 5 ՀԱՎԵԼՎԱԾԻ N 1 ԱՂՅՈՒՍԱԿՈՒՄ ԿԱՏԱՐՎՈՂ ՓՈՓՈԽՈՒԹՅՈՒՆՆԵՐԸ
D7: (հազար դրամ)
A8: Ծրագրային դասիչը | C8: Բյուջետային հատկացումների գլխավոր կարգադրիչների, ծրագրերի և միջոցառումների անվանումները | D8: Ցուցանիշների փոփոխությունները ավելացումները նշված են դրական նշանով, իսկ նվազեցումները՝ փակագծերում
A9: Ծրագիր | B9: Միջոցառում | D9: տարի
C10: ԸՆԴԱՄԵՆԸ | D10: =D11 -> 0
C11: ՀՀ աշխատանքի և սոցիալական հարցերի նախարարություն | D11: =D12+D25 -> 0
A12: 1205 | C12: Ծրագրի անվանումը` | D12: =D19 -> 1800000
C13: Սոցիալական ապահովություն
C14: Ծրագրի նպատակը`
C15: Սոցիալական ապահովության իրավունքի իրականացման ապահովում
C16: Վերջնական արդյունքի նկարագրությունը`
C17: Սոցիալական ապահովության իրավունքի իրականացում
A18: Ծրագրի միջոցառումներ
B19: 12029 | C19: Միջոցառման անվանումը` | D19: 1800000
C20: Անկանխիկ եղանակով վճարումներից կենսաթոշակառուներին հետվճարի տրամադրում
C21: Միջոցառման նկարագրությունը`
C22: Անկանխիկ եղանակով վճարումներից կենսաթոշակառուներին հետվճարի տրամադրում՝ պետություն-մասնավոր սոցիալական փոխգործակցության միջոցառման շրջանակում
C23: Միջոցառման տեսակը
C24: Տրանսֆերտների տրամադրում
A25: 1011 | C25: Ծրագրի անվանումը` | D25: =D32 -> -1800000
C26: Անապահով սոցիալական խմբերին աջակցություն
C27: Ծրագրի նպատակը`
C28: Օժանդակել անապահով ընտանիքների կենսամակարդակի բարձրացմանը
C29: Վերջնական արդյունքի նկարագրությունը`
C30: Աղքատության մեղմում և ծայրահեղ աղքատության կրճատում
A31: Ծրագրի միջոցառումներ
B32: 12001 | C32: Միջոցառման անվանումը` | D32: -1800000
C33: Ընտանիքի կենսամակարդակի բարձրացմանն ուղղված նպաստներ
C34: Միջոցառման նկարագրությունը`
C35: Ընտանիքների անապահովության գնահատման համակարգում հաշվառված, անապահով ճանաչված ընտանիքներին նպաստի, սոցիալական նպաստի և հրատապ օգնության տրամադրում
C36: Միջոցառման տեսակը
C37: Տրանսֆերտների տրամադրում

Sheet 2
G1: Հավելված N 2
F2: ՀՀ կառավարության 2023 թվականի
F3: -----------------ի N -----------Ն որոշման
A5: ՀԱՅԱՍՏԱՆԻ ՀԱՆՐԱՊԵՏՈՒԹՅԱՆ ԿԱՌԱՎԱՐՈՒԹՅԱՆ 2022 ԹՎԱԿԱՆԻ ԴԵԿՏԵՄԲԵՐԻ 29-Ի N 2111-Ն ՈՐՈՇՄԱՆ N N 3 ԵՎ 4 ՀԱՎԵԼՎԱԾՆԵՐՈՒՄ ԿԱՏԱՐՎՈՂ ՓՈՓՈԽՈՒԹՅՈՒՆՆԵՐԸ
G6: հազար դրամ
A7: Գործառական դասիչը | D7: Ծրագրային դասիչը | F7: Բյուջետային ծախսերի գործառական դասակարգման բաժինների, խմբերի և դասերի, բյուջետային ծրագրերի միջոցառումների, բյուջետային հատկացումների գլխավոր կարգադրիչների անվանումները | G7: ='1'!D8 -> Ցուցանիշների փոփոխությունները ավելացումները նշված են դրական նշանով, իսկ նվազեցումները՝ փակագծերում
A8: Բաժինը | B8: Խումբը | C8: Դասը | D8: Ծրագիր | E8: Միջոցառում | G8: տարի
F9: ԸՆԴԱՄԵՆԸ ԾԱԽՍԵՐ | G9: =G11 -> 0
F10: այդ թվում`
A11: 10 | F11: ՍՈՑԻԱԼԱԿԱՆ ՊԱՇՏՊԱՆՈՒԹՅՈՒՆ | G11: =G13+G30 -> 0
F12: այդ թվում`
B13: 02 | F13: Ծերություն | G13: =G15 -> 1800000
F14: այդ թվում՝
C15: 01 | F15: Ծերություն | G15: =G17 -> 1800000
F16: այդ թվում`
F17: ='[1]1'!C24 -> ՀՀ աշխատանքի և սոցիալական հարցերի նախարարություն | G17: =G19 -> 1800000
F18: այդ թվում`
D19: 1205 | F19: ='1'!C13 -> Սոցիալական ապահովություն | G19: =G21 -> 1800000
F20: այդ թվում`
E21: ='1'!B19 -> 12029 | F21: ='1'!C20 -> Անկանխիկ եղանակով վճարումներից կենսաթոշակառուներին հետվճարի տրամադրում | G21: =G23 -> 1800000
F22: այդ թվում` ըստ կատարողների
F23: ՀՀ աշխատանքի և սոցիալական հարցերի նախարարության միասնական սոցիալական ծառայություն | G23: =G25 -> 1800000
F24: այդ թվում` բյուջետային ծախսերի տնտեսագիտական դասակարգման հոդվածներ
F25: ԸՆԴԱՄԵՆԸ ԾԱԽՍԵՐ | G25: =G26 -> 1800000
F26: ԸՆԹԱՑԻԿ ԾԱԽՍԵՐ | G26: =G27 -> 1800000
F27: ՍՈՑԻԱԼԱԿԱՆ ՆՊԱՍՏՆԵՐ ԵՎ ԿԵՆՍԱԹՈՇԱԿՆԵՐ | G27: =G28 -> 1800000
F28: Սոցիալական օգնության դրամական արտահայտությամբ նպաստներ (բյուջեից) | G28: =G29 -> 1800000
F29: - Այլ նպաստներ բյուջեից | G29: ='1'!D19 -> 1800000
B30: 04 | F30: Ընտանիքի անդամներ և զավակներ | G30: =G32 -> -1800000
F31: այդ թվում`
C32: 01 | F32: Ընտանիքի անդամներ և զավակներ | G32: =G34 -> -1800000
F33: այդ թվում`
F34: ՀՀ աշխատանքի և սոցիալական հարցերի նախարարություն | G34: =G36 -> -1800000
F35: այդ թվում`
D36: 1011 | F36: ='[2]1'!C12 -> Անապահով սոցիալական խմբերին աջակցություն | G36: =G38 -> -1800000
F37: այդ թվում`
E38: 12001 | F38: Ընտանիքի կենսամակարդակի բարձրացմանն ուղղված նպաստներ | G38: =G40 -> -1800000
F39: այդ թվում` ըստ կատարողների
F40: ՀՀ աշխատանքի և սոցիալական հարցերի նախարարության միասնական սոցիալական ծառայություն | G40: =G42 -> -1800000
F41: այդ թվում` բյուջետային ծախսերի տնտեսագիտական դասակարգման հոդվածներ
F42: ԸՆԴԱՄԵՆԸ ԾԱԽՍԵՐ | G42: =G44 -> -1800000
F43: ԸՆԹԱՑԻԿ ԾԱԽՍԵՐ | G43: =G45 -> -1800000
F44: ՍՈՑԻԱԼԱԿԱՆ ՆՊԱՍՏՆԵՐ ԵՎ ԿԵՆՍԱԹՈՇԱԿՆԵՐ | G44: =G45 -> -1800000
F45: Սոցիալական օգնության դրամական արտահայտությամբ նպաստներ (բյուջեից) | G45: =G46 -> -1800000
F46: - Երեխաների կամ ընտանեկան նպաստներ բյուջեից | G46: ='1'!D32 -> -1800000

Sheet 3
C1: Հավելված N 3
B2: ՀՀ կառավարության 2023 թվականի
B3: -----------------ի N -----------Ն որոշման
A5: ՀԱՅԱՍՏԱՆԻ ՀԱՆՐԱՊԵՏՈՒԹՅԱՆ ԿԱՌԱՎԱՐՈՒԹՅԱՆ 2020 ԹՎԱԿԱՆԻ ԴԵԿՏԵՄԲԵՐԻ 30-Ի N 2215-Ն ՈՐՈՇՄԱՆ N 9 ՀԱՎԵԼՎԱԾԻ N 9.1.20 ԱՂՅՈՒՍԱԿՈՒՄ ԿԱՏԱՐՎՈՂ ՓՈՓՈԽՈՒԹՅՈՒՆՆԵՐԸ
A6: ՀԱՅԱՍՏԱՆԻ ՀԱՆՐԱՊԵՏՈՒԹՅԱՆ ԿԱՌԱՎԱՐՈՒԹՅԱՆ 2022 ԹՎԱԿԱՆԻ ԴԵԿՏԵՄԲԵՐԻ 29-Ի N 2111-Ն ՈՐՈՇՄԱՆ N 9 ՀԱՎԵԼՎԱԾԻ N 9.15 ԵՎ ԱՂՅՈՒՍԱԿՈՒՄ ԿԱՏԱՐՎՈՂ ՓՈՓՈԽՈՒԹՅՈՒՆՆԵՐԸ
A8: ՄԱՍ 2. ՊԵՏԱԿԱՆ ՄԱՐՄՆԻ ԳԾՈՎ ԱՐԴՅՈՒՆՔԱՅԻՆ (ԿԱՏԱՐՈՂԱԿԱՆ) ՑՈՒՑԱՆԻՇՆԵՐԸ
A10: Հայաստանի Հանրապետության աշխատանքի և սոցիալական հարցերի նախարարություն
A12: Ծրագրի դասիչը | B12: Ծրագրի անվանումը
A13: 1205 | B13: ='1'!C13 -> Սոցիալական ապահովություն
A14: Ծրագրի միջոցառումներ
A16: Ծրագրի դասիչը` | B16: ='1'!A12 -> 1205 | C16: Ցուցանիշների փոփոխությունները ավելացումները նշված են դրական նշանով
A17: Միջոցառման դասիչը` | B17: ='1'!B19 -> 12029 | C17: Տարի
A18: Միջոցառման անվանումը` | B18: ='1'!C20 -> Անկանխիկ եղանակով վճարումներից կենսաթոշակառուներին հետվճարի տրամադրում
A19: Նկարագրությունը` | B19: ='1'!C22 -> Անկանխիկ եղանակով վճարումներից կենսաթոշակառուներին հետվճարի տրամադրում՝ պետություն-մասնավոր սոցիալական փոխգործակցության միջոցառման շրջանակում
A20: Միջոցառման տեսակը` | B20: Տրանսֆերտների տրամադրում
A21: Միջոցառումն իրականացնողի անվանումը | B21: ՀՀ աշխատանքի և սոցիալական հարցերի նախարարության միասնական սոցիալական ծառայություն
A22: Արդյունքի չափորոշիչներ
A23: Անկանխիկ եղանակով վճարումներ իրականացնող շահառուների թիվ | C23: 80000
A24: Միջոցառման վրա կատարվող ծախսը (հազար դրամ) | C24: ='1'!D19 -> 1800000
A28: Ծրագրի դասիչը | B28: Ծրագրի անվանումը
A29: 1011 | B29: ='1'!C26 -> Անապահով սոցիալական խմբերին աջակցություն
A31: Ծրագրի միջոցառումներ
A33: Ծրագրի դասիչը` | B33: 1011 | C33: Ցուցանիշների փոփոխությունները նվազեցումները նշված են փակագծերում
A34: Միջոցառման դասիչը` | B34: 12001 | C34: Տարի
A35: Միջոցառման անվանումը` | B35: Ընտանիքի կենսամակարդակի բարձրացմանն ուղղված նպաստներ
A36: Նկարագրությունը` | B36: Ընտանիքների անապահովության գնահատման համակարգում հաշվառված, անապահով ճանաչված ընտանիքներին նպաստի, սոցիալական նպաստի և հրատապ օգնության տրամադրում
A37: Միջոցառման տեսակը` | B37: Տրանսֆերտների տրամադրում
A38: Շահառուների ընտրության չափանիշները | B38: Ընտանիքների անապահովության գնահատման համակարգում հաշվառված ընտանիք (ընտանիքի անապահովության միավորի հիման վրա)
A39: Արդյունքի չափորոշիչներ
A40: Ընտանիքի կենսամակարդակի բարձրացմանն ուղղված նպաստներ ստացող ընտանիքների թիվ, հատ | C40: -4498
A41: Միջոցառման վրա կատարվող ծախսը (հազար դրամ) | C41: ='2'!G46 -> -1800000

Sheet 4
C1: Հավելված N 4
B2: ՀՀ կառավարության 2023 թվականի
B3: -----------------ի N -----------Ն որոշման
A4: ՀԱՅԱՍՏԱՆԻ ՀԱՆՐԱՊԵՏՈՒԹՅԱՆ ԿԱՌԱՎԱՐՈՒԹՅԱՆ 2020 ԹՎԱԿԱՆԻ ԴԵԿՏԵՄԲԵՐԻ 30-Ի N 2215-Ն ՈՐՈՇՄԱՆ N 9 ՀԱՎԵԼՎԱԾԻ N 9.1.20 ԱՂՅՈՒՍԱԿՈՒՄ ԿԱՏԱՐՎՈՂ ՓՈՓՈԽՈՒԹՅՈՒՆՆԵՐԸ
A5: ՀԱՅԱՍՏԱՆԻ ՀԱՆՐԱՊԵՏՈՒԹՅԱՆ ԿԱՌԱՎԱՐՈՒԹՅԱՆ 2022 ԹՎԱԿԱՆԻ ԴԵԿՏԵՄԲԵՐԻ 29-Ի N 2111-Ն ՈՐՈՇՄԱՆ N 9.1 ՀԱՎԵԼՎԱԾԻ N 9.1.19 ԱՂՅՈՒՍԱԿՈՒՄԿԱՏԱՐՎՈՂ ՓՈՓՈԽՈՒԹՅՈՒՆՆԵՐԸ
A7: ՄԱՍ 1. ՊԵՏԱԿԱՆ ՄԱՐՄՆԻ ԳԾՈՎ ԱՐԴՅՈՒՆՔԱՅԻՆ (ԿԱՏԱՐՈՂԱԿԱՆ) ՑՈՒՑԱՆԻՇՆԵՐԸ
A9: ՀՀ աշխատանքի և սոցիալական հարցերի նախարարության միասնական սոցիալական ծառայություն
A11: Ծրագրի դասիչը | B11: Ծրագրի անվանումը
A12: 1205 | B12: ='1'!C13 -> Սոցիալական ապահովություն
A13: Ծրագրի միջոցառումներ
A15: Ծրագրի դասիչը` | B15: ='3'!B16 -> 1205 | C15: Ցուցանիշների փոփոխությունները ավելացումները նշված են դրական նշանով
A16: Միջոցառման դասիչը` | B16: ='3'!B17 -> 12029 | C16: Տարի
A17: Միջոցառման անվանումը` | B17: ='3'!B18 -> Անկանխիկ եղանակով վճարումներից կենսաթոշակառուներին հետվճարի տրամադրում
A18: Նկարագրությունը` | B18: ='3'!B19 -> Անկանխիկ եղանակով վճարումներից կենսաթոշակառուներին հետվճարի տրամադրում՝ պետություն-մասնավոր սոցիալական փոխգործակցության միջոցառման շրջանակում
A19: Միջոցառման տեսակը` | B19: ='3'!B20 -> Տրանսֆերտների տրամադրում
A20: ='3'!A21 -> Միջոցառումն իրականացնողի անվանումը | B20: ='3'!B21 -> ՀՀ աշխատանքի և սոցիալական հարցերի նախարարության միասնական սոցիալական ծառայություն
A21: Արդյունքի չափորոշիչներ
A22: ='3'!A23:B23 -> Անկանխիկ եղանակով վճարումներ իրականացնող շահառուների թիվ | C22: ='3'!C23 -> 80000
A23: Միջոցառման վրա կատարվող ծախսը (հազար դրամ) | C23: ='3'!C24 -> 1800000
A26: Ծրագրի դասիչը | B26: Ծրագրի անվանումը
A27: 1011 | B27: ='3'!B29 -> Անապահով սոցիալական խմբերին աջակցություն
A29: Ծրագրի միջոցառումներ
A31: Ծրագրի դասիչը` | B31: ='3'!B33 -> 1011 | C31: Ցուցանիշների փոփոխությունները նվազեցումները նշված են փակագծերում
A32: Միջոցառման դասիչը` | B32: ='3'!B34 -> 12001 | C32: Տարի
A33: Միջոցառման անվանումը` | B33: ='3'!B35 -> Ընտանիքի կենսամակարդակի բարձրացմանն ուղղված նպաստներ
A34: Նկարագրությունը` | B34: ='3'!B36 -> Ընտանիքների անապահովության գնահատման համակարգում հաշվառված, անապահով ճանաչված ընտանիքներին նպաստի, սոցիալական նպաստի և հրատապ օգնության տրամադրում
A35: Միջոցառման տեսակը` | B35: ='3'!B37 -> Տրանսֆերտների տրամադրում
A36: Շահառուների ընտրության չափանիշները | B36: ='3'!B38 -> Ընտանիքների անապահովության գնահատման համակարգում հաշվառված ընտանիք (ընտանիքի անապահովության միավորի հիման վրա)
A37: Արդյունքի չափորոշիչներ
A38: Ընտանիքի կենսամակարդակի բարձրացմանն ուղղված նպաստներ ստացող ընտանիքների թիվ, հատ | C38: -4498
A39: Միջոցառման վրա կատարվող ծախսը (հազար դրամ) | C39: ='2'!G46 -> -1800000
