Workbook
Name AgencyCode: #REF!
Name AgencyCode: #REF!
Name AgencyCode: #REF!
Name AgencyName: #REF!
Name AgencyName: #REF!
Name åû: #REF!
Name davit: #REF!
Name Functional1: #REF!
Name Functional1: #REF!
Name ggg: #REF!
Name mas: #REF!
Name mass: #REF!
Name PANature: #REF!
Name PANature: #REF!
Name PAType: #REF!
Name PAType: #REF!
Name Performance2: #REF!
Name Performance2: #REF!
Name PerformanceType: #REF!
Name PerformanceType: #REF!
Name x: #REF!
Name Հավելված: #REF!
Name Մաս: #REF!
Name շախմատիստ: #REF!

Sheet h1
D1: Հավելված N 1
C2: ՀՀ կառավարության 2023 թվականի
D3: ի ___Ն որոշման
A6: «ՀԱՅԱՍՏԱՆԻ ՀԱՆՐԱՊԵՏՈՒԹՅԱՆ 2023 ԹՎԱԿԱՆԻ ՊԵՏԱԿԱՆ ԲՅՈՒՋԵԻ ՄԱՍԻՆ» ՀԱՅԱՍՏԱՆԻ ՀԱՆՐԱՊԵՏՈՒԹՅԱՆ ՕՐԵՆՔԻ N 1 ՀԱՎԵԼՎԱԾԻ N 2 ԱՂՅՈՒՍԱԿՈՒՄ ՎԵՐԱԲԱՇԽՈՒՄ ԵՎ ՀԱՅԱՍՏԱՆԻ ՀԱՆՐԱՊԵՏՈՒԹՅԱՆ ԿԱՌԱՎԱՐՈՒԹՅԱՆ 2022 ԹՎԱԿԱՆԻ ԴԵԿՏԵՄԲԵՐԻ 29-Ի N 2111-Ն ՈՐՈՇՄԱՆ N 5 ՀԱՎԵԼՎԱԾԻ N 1 ԱՂՅՈՒՍԱԿՈՒՄ ԿԱՏԱՐՎՈՂ ՓՈՓՈԽՈՒԹՅՈՒՆՆԵՐԸ ԵՎ ԼՐԱՑՈՒՄՆԵՐԸ
A9: Ծրագրային դասիչը | C9: Բյուջետային հատկացումների գլխավոր կարգադրիչների, ծրագրերի և միջոցառումների անվանումները | D9: Ցուցանիշների փոփոխությունը (ավելացումները նշված են դրական նշանով, իսկ նվազեցումները` փակագծերում)
A10: Ծրագիր | B10: Միջոցառում | D10: Տարի
C11: ԸՆԴԱՄԵՆԸ ԾԱԽՍԵՐ | D11: =D12+D32 -> 0
C12: ՀՀ տարածքային կառավարման և ենթակառուցվածքների նախարարություն | D12: =D13 -> 0
A13: ='h2'!D22 -> 1001 | C13: Ծրագրի անվանումը` | D13: =D20+D26 -> 0
C14: Տարածքային կառավարման ոլորտում քաղաքականության մշակում, ծրագրերի համակարգում և մոնիտորինգի իրականացում
C15: Ծրագրի նպատակը`
C16: Տարածքային կառավարման բնագավառում պետական արդյունավետ քաղաքականության մշակման և իրականացման ապահովում
C17: Վերջնական արդյունքի նկարագրությունը`
C18: Տարածքային կառավարման քաղաքականության իրագործմանն ուղղված ծրագրերի ազդեցության և արդյունավետության բարելավում
C19: Ծրագրի միջոցառումներ
B20: ='h2'!E24 -> 11001 | C20: Միջոցառման անվանումը` | D20: ='h6'!J13 -> -27789.9
C21: Տարածքային կառավարման և ենթակառուցվածքների քաղաքականության մշակում և ծառայությունների մատուցում
C22: Միջոցառման նկարագրությունը`
C23: Տարածքային կառավարման և ենթակառուցվածքների բնագավառում պետական քաղաքականության մշակման և դրա կատարման համակարգման, պետական ծրագրերի մշակման, իրականացման, մոնիտորինգի, խորհրդատվության և աջակցության ծառայություններ
C24: Միջոցառման տեսակը
C25: Ծառայությունների մատուցում
B26: ='h2'!E32 -> 31001 | C26: Միջոցառման անվանումը՝ | D26: =-D20 -> 27789.9
C27: ՀՀ տարածքային կառավարման և ենթակառուցվածքների նախարարության կարողությունների զարգացում և տեխնիկական հագեցվածության ապահովում
C28: Միջոցառման նկարագրությունը՝
C29: ՀՀ տարածքային կառավարման և ենթակառուցվածքների նախարարության աշխատանքային պայմանների բարելավման համար վարչական սարքավորումների ձեռքբերում
C30: Միջոցառման տեսակը՝
C31: Պետական մարմինների կողմից օգտագործվող ոչ ֆինանսական ակտիվների հետ գործառնություններ
C32: ՀՀ կառավարություն | D32: =D33 -> 0
A33: 1139 | C33: Ծրագրի անվանումը` | D33: =D39+D45 -> 0
C34: ՀՀ կառավարության պահուստային ֆոնդ
C35: Ծրագրի նպատակը`
C36: Պետական բյուջեում չկանխատեսված՝ ինչպես նաև բյուջետային երաշխիքների ապահովման ծախսերի ֆինանսավորման ապահովում
C37: Վերջնական արդյունքի նկարագրությունը`
C38: Պահուստային ֆոնդի կառավարման արդյունավետություն և թափանցիկություն
B39: 11001 | C39: Միջոցառման անվանումը` | D39: =D20 -> -27789.9
C40: ՀՀ կառավարության պահուստային ֆոնդ
C41: Միջոցառման նկարագրությունը`
C42: ՀՀ պետական բյուջեում նախատեսված ելքերի լրացուցիչ ֆինանսավորման՝ պետական բյուջեում չկանխատեսված ելքերի՝ ինչպես նաև բյուջետային երաշխիքների ապահովման ելքերի ֆինանսավորման ապահովում
C43: Միջոցառման տեսակը
C44: Ծառայությունների մատուցում
B45: 11001 | C45: Միջոցառման անվանումը` | D45: =D26 -> 27789.9
C46: ՀՀ կառավարության պահուստային ֆոնդ
C47: Միջոցառման նկարագրությունը`
C48: ՀՀ պետական բյուջեում նախատեսված ելքերի լրացուցիչ ֆինանսավորման՝ պետական բյուջեում չկանխատեսված ելքերի՝ ինչպես նաև բյուջետային երաշխիքների ապահովման ելքերի ֆինանսավորման ապահովում
C49: Միջոցառման տեսակը
C50: Ծառայությունների մատուցում

Sheet h2
A1: Հավելված N2
A2: ՀՀ կառավարության 2023 թվականի
A3: ______________ ի ___Ն որոշման
A5: ՀԱՅԱՍՏԱՆԻ ՀԱՆՐԱՊԵՏՈՒԹՅԱՆ ԿԱՌԱՎԱՐՈՒԹՅԱՆ 2022 ԹՎԱԿԱՆԻ ԴԵԿՏԵՄԲԵՐԻ 29-Ի N 2111-Ն ՈՐՈՇՄԱՆ N 3 ԵՎ N 4 ՀԱՎԵԼՎԱԾՆԵՐՈՒՄ ԿԱՏԱՐՎՈՂ ՓՈՓՈԽՈՒԹՅՈՒՆՆԵՐԸ
A8: Գործառական դասիչը | D8: Ծրագրային դասիչը | F8: Բյուջետային ծախսերի գործառական դասակարգման բաժինների, խմբերի և դասերի, բյուջետային հատկացումների գլխավոր կարգադրիչների, ծրագրերի, միջոցառումների և միջոցառումները կատարող պետական մարմինների անվանումները | G8: Ցուցանիշների փոփոխությունը (ավելացումները նշված են դրական նշանով, իսկ նվազեցումները` փակագծերում)
A9: Բաժին | B9: Խումբ | C9: Դաս | D9: Ծրագիր | E9: Միջոցառում | G9: Տարի
F10: ԸՆԴԱՄԵՆԸ ԾԱԽՍԵՐ | G10: =G12+G41 -> 0
F11: =F13 -> այդ թվում`
F12: ՀՀ տարածքային կառավարման և ենթակառուցվածքների նախարարություն | G12: =G14 -> 0
F13: այդ թվում`
A14: 01 | F14: ԸՆԴՀԱՆՈՒՐ ԲՆՈՒՅԹԻ ՀԱՆՐԱՅԻՆ ԾԱՌԱՅՈՒԹՅՈՒՆՆԵՐ | G14: =G24+G32 -> 0
F15: այդ թվում`
B16: 01 | F16: Օրենսդիր և գործադիր մարմիններ, պետական կառավարում, ֆինանսական և հարկաբյուջետային հարաբերություններ, արտաքին հարաբերություններ | G16: =G18 -> 0
F17: այդ թվում`
C18: 01 | F18: Օրենսդիր և գործադիր մարմիններ, պետական կառավարում | G18: =G20 -> 0
F19: այդ թվում`
F20: ՀՀ ՏԱՐԱԾՔԱՅԻՆ ԿԱՌԱՎԱՐՄԱՆ ԵՎ ԵՆԹԱԿԱՌՈՒՑՎԱԾՔՆԵՐԻ ՆԱԽԱՐԱՐՈՒԹՅՈՒՆ | G20: =+G22 -> 0
F21: այդ թվում`
D22: 1001 | F22: Տարածքային կառավարման ոլորտում քաղաքականության մշակում, ծրագրերի համակարգում և մոնիտորինգի իրականացում | G22: =G24+G32 -> 0
F23: այդ թվում`
E24: 11001 | F24: Տարածքային կառավարման և ենթակառուցվածքների քաղաքականության մշակում և ծառայությունների մատուցում | G24: =G25 -> -27789.9
F25: այդ թվում` ըստ կատարողների | G25: =G26 -> -27789.9
F26: ՀՀ տարածքային կառավարման և ենթակառուցվածքների նախարարություն | G26: =G27 -> -27789.9
F27: այդ թվում` բյուջետային ծախսերի տնտեսագիտական դասակարգման հոդվածներ | G27: =G28 -> -27789.9
F28: ԸՆԴԱՄԵՆԸ ԾԱԽՍԵՐ | G28: =G29 -> -27789.9
F29: ԸՆԹԱՑԻԿ ԾԱԽՍԵՐ | G29: =G30 -> -27789.9
F30: Պայմանագրային այլ ծառայությունների ձեռքբերում | G30: =G31 -> -27789.9
F31: - Կառավարչական ծառայություններ | G31: ='h1'!D20 -> -27789.9
E32: 31001 | F32: ՀՀ տարածքային կառավարման և ենթակառուցվածքների նախարարության կարողությունների զարգացում և տեխնիկական հագեցվածության ապահովում | G32: =G34 -> 27789.9
F33: այդ թվում` ըստ կատարողների
F34: ՀՀ տարածքային կառավարման և ենթակառուցվածքների նախարարություն | G34: =G35 -> 27789.9
F35: այդ թվում` բյուջետային ծախսերի տնտեսագիտական դասակարգման հոդվածներ | G35: =G36 -> 27789.9
F36: ԸՆԴԱՄԵՆԸ ԾԱԽՍԵՐ | G36: =G37 -> 27789.9
F37: ՈՉ ՖԻՆԱՆՍԱԿԱՆ ԱԿՏԻՎՆԵՐԻ ԳԾՈՎ ԾԱԽՍԵՐ | G37: =G38 -> 27789.9
F38: ՀԻՄՆԱԿԱՆ ՄԻՋՈՑՆԵՐ | G38: =G39 -> 27789.9
F39: ՄԵՔԵՆԱՆԵՐ ԵՎ ՍԱՐՔԱՎՈՐՈՒՄՆԵՐ | G39: =G40 -> 27789.9
F40: - Վարչական սարքավորումներ | G40: =-G50 -> 27789.9
F41: ՀՀ Կառավարություն | G41: =G48 -> 0
A42: 11 | F42: ՀԻՄՆԱԿԱՆ ԲԱԺԻՆՆԵՐԻՆ ՉԴԱՍՎՈՂ ՊԱՀՈՒՍՏԱՅԻՆ ՖՈՆԴԵՐ | G42: =G48 -> 0
F43: այդ թվում`
B44: 01 | F44: ՀՀ կառավարության և համայնքների պահուստային ֆոնդ | G44: =G48 -> 0
F45: այդ թվում`
C46: 01 | F46: ՀՀ կառավարության պահուստային ֆոնդ | G46: =G48 -> 0
F47: այդ թվում`
D48: 1139 | F48: ՀՀ կառավարության պահուստային ֆոնդ | G48: =G50+G58 -> 0
F49: այդ թվում`
E50: 11001 | F50: ՀՀ կառավարության պահուստային ֆոնդ | G50: =G52 -> -27789.9
F51: այդ թվում` ըստ կատարողների
F52: ՀՀ կառավարություն | G52: =G54 -> -27789.9
F53: այդ թվում` բյուջետային ծախսերի տնտեսագիտական դասակարգման հոդվածներ
F54: ԸՆԴԱՄԵՆԸ ԾԱԽՍԵՐ | G54: =G28 -> -27789.9
F55: ԸՆԹԱՑԻԿ ԾԱԽՍԵՐ | G55: =G29 -> -27789.9
F56: ԱՅԼ ԾԱԽՍԵՐ | G56: =G30 -> -27789.9
F57: Պահուստային միջոցներ | G57: =G31 -> -27789.9
E58: 11001 | F58: ՀՀ կառավարության պահուստային ֆոնդ | G58: =G60 -> 27789.9
F59: այդ թվում` ըստ կատարողների
F60: ՀՀ կառավարություն | G60: =G62 -> 27789.9
F61: այդ թվում` բյուջետային ծախսերի տնտեսագիտական դասակարգման հոդվածներ
F62: ԸՆԴԱՄԵՆԸ ԾԱԽՍԵՐ | G62: =G63 -> 27789.9
F63: ԸՆԹԱՑԻԿ ԾԱԽՍԵՐ | G63: =G64 -> 27789.9
F64: ԱՅԼ ԾԱԽՍԵՐ | G64: =G65 -> 27789.9
F65: Պահուստային միջոցներ | G65: =-G57 -> 27789.9
G165: ]

Sheet h3.
H1: Հավելված N 3
G2: ՀՀ կառավարության 2023 թվականի
G3: ------------ N ---------- որոշման
A4: «ՀԱՅԱՍՏԱՆԻ ՀԱՆՐԱՊԵՏՈՒԹՅԱՆ 2023 ԹՎԱԿԱՆԻ ՊԵՏԱԿԱՆ ԲՅՈՒՋԵԻ ՄԱՍԻՆ» ՕՐԵՆՔԻ N 1 ՀԱՎԵԼՎԱԾԻ N 3 ԱՂՅՈՒՍԱԿՈՒՄ ԿԱՏԱՐՎՈՂ ՓՈՓՈԽՈՒԹՅՈՒՆԸ
G5: հազ.դրամ
A6: Ծրագրային դասիչ | C6: Բյուջետային գլխավոր կարգադրիչների ծրագրերի միջոցառումների և ուղղությունների անվանումները | D6: Ընդամենը հազ. դրամ | E6: Ցուցանիշների փոփոխությունը (ավելացումները նշված են դրական նշանով)
E7: այդ թվում
A8: Ծրագիր | B8: Միջոցառում | E8: Կառուցման աշխատանքներ | F8: Վերակառուցման, վերանորոգման և վերականգնման աշխատանքներ | G8: Նախագծահե- տազոտական, գեոդեզիա- քարտեզագրա- կան աշխա- տանքներ | H8: Ոչ ֆինանսական այլ ակտիվների ձեռքբերում
C9: ԸՆԴԱՄԵՆԸ | D9: =H9 -> 27789.9 | E9: =E11 -> - | F9: =F11 -> - | G9: =G11 -> - | H9: =H11 -> 27789.9
C10: այդ թվում՝
C11: ՀՀ տարածքային կառավարման և ենթակառուցվածքների նախարարություն | D11: =H11 -> 27789.9 | E11: =E13 -> - | F11: =F13 -> - | G11: =G13 -> - | H11: =H13 -> 27789.9
C12: այդ թվում`
A13: ='h4'!A13 -> 1001 | B13: 31001 | C13: ՀՀ տարածքային կառավարման և ենթակառուցվածքների նախարարության կարողությունների զարգացում և տեխնիկական հագեցվածության ապահովում | D13: =H13 -> 27789.9 | E13: - | F13: - | G13: - | H13: ='h1'!D26 -> 27789.9

Sheet h4
D1: Հավելված N4
C2: ՀՀ կառավարության 2023 թվականի
C3: ______________ ի ___Ն որոշման
A5: ՀԱՅԱUՏԱՆԻ ՀԱՆՐԱՊԵՏՈՒԹՅԱՆ ԿԱՌԱՎԱՐՈՒԹՅԱՆ 2022 ԹՎԱԿԱՆԻ ԴԵԿՏԵՄԲԵՐԻ 29-Ի N 2111-Ն ՈՐՈՇՄԱՆ N 5 ՀԱՎԵԼՎԱԾԻ N 2 ԱՂՅՈՒՍԱԿՈՒՄ ԿԱՏԱՐՎՈՂ ՓՈՓՈԽՈՒԹՅՈՒՆԸ
D6: հազ. դրամ
A7: Ծրագրային դասիչը | C7: Բյուջետային գլխավոր կարգադրիչների, ծրագրերի, միջոցառումների և ուղղությունների անվանումները | D7: Ցուցանիշների փոփոխությունը (Ավելացումները նշված են դրական նշանով)
A8: Ծրագիր | B8: Միջոց_x000D_առում | D8: Տարի
C9: ԸՆԴԱՄԵՆԸ | D9: =D11 -> 27789.9
C10: այդ թվում`
C11: ՀՀ ՏԱՐԱԾՔԱՅԻՆ ԿԱՌԱՎԱՐՄԱՆ ԵՎ ԵՆԹԱԿԱՌՈՒՑՎԱԾՔՆԵՐԻ ՆԱԽԱՐԱՐՈՒԹՅՈՒՆ | D11: =D13 -> 27789.9
C12: այդ թվում`
A13: ='h2'!D22 -> 1001 | B13: ='h2'!E32 -> 31001 | C13: ='h2'!F32 -> ՀՀ տարածքային կառավարման և ենթակառուցվածքների նախարարության կարողությունների զարգացում և տեխնիկական հագեցվածության ապահովում | D13: ='h2'!G32 -> 27789.9
C14: Այդ թվում՝ ըստ կատարողների
C15: =C11 -> ՀՀ ՏԱՐԱԾՔԱՅԻՆ ԿԱՌԱՎԱՐՄԱՆ ԵՎ ԵՆԹԱԿԱՌՈՒՑՎԱԾՔՆԵՐԻ ՆԱԽԱՐԱՐՈՒԹՅՈՒՆ | D15: =D13 -> 27789.9

Sheet h5
B1: Հավելված N 5
B2: ՀՀ կառավարության 2023 թվականի
B3: ______________ ի ___Ն որոշման
B7: ՀԱՅԱՍՏԱՆԻ ՀԱՆՐԱՊԵՏՈՒԹՅԱՆ ԿԱՌԱՎԱՐՈՒԹՅԱՆ 2022 ԹՎԱԿԱՆԻ ԴԵԿՏԵՄԲԵՐԻ 29-Ի N 2111-Ն ՈՐՈՇՄԱՆ N 9 և N 9.1 ՀԱՎԵԼՎԱԾՆԵՐԻ NN 9.7,9.47 և 9.1.7, 9.1.58 ԱՂՅՈՒՍԱԿՆԵՐՈՒՄ ԿԱՏԱՐՎՈՂ ՓՈՓՈԽՈՒԹՅՈՒՆՆԵՐԸ ԵՎ ԼՐԱՑՈՒՄՆԵՐԸ
C8: Աղյուսակ 9.7
C9: Աղյուսակ 9.1.7
B10: ՀՀ ՏԱՐԱԾՔԱՅԻՆ ԿԱՌԱՎԱՐՄԱՆ ԵՎ ԵՆԹԱԿԱՌՈՒՑՎԱԾՔՆԵՐԻ ՆԱԽԱՐԱՐՈՒԹՅՈՒՆ
B11: ՄԱՍ 2. ՊԵՏԱԿԱՆ ՄԱՐՄՆԻ ԳԾՈՎ ԱՐԴՅՈՒՆՔԱՅԻՆ (ԿԱՏԱՐՈՂԱԿԱՆ) ՑՈՒՑԱՆԻՇՆԵՐԸ
B14: Ծրագրի դասիչը | C14: Ծրագրի անվանումը
B15: =C17 -> 1001 | C15: Տարածքային կառավարման ոլորտում քաղաքականության մշակում, ծրագրերի համակարգում և մոնիտորինգի իրականացում
B16: Ծրագրի միջոցառումները
B17: Ծրագրի դասիչը` | C17: 1001 | D17: Ցուցանիշների փոփոխությունը (նվազեցումները նշված են փակագծերում)
B18: Միջոցառման դասիչը` | C18: 11001 | D18: =D31 -> Տարի
B19: Միջոցառման անվանումը` | C19: Տարածքային կառավարման և ենթակառուցվածքների քաղաքականության մշակում և ծառայությունների մատուցում
B20: Նկարագրությունը` | C20: Տարածքային կառավարման և ենթակառուցվածքների բնագավառում պետական քաղաքականության մշակման և դրա կատարման համակարգման, պետական ծրագրերի մշակման, իրականացման, մոնիտորինգի, խորհրդատվության և աջակցության ծառայություններ
B21: Միջոցառման տեսակը` | C21: Ծառայությունների մատուցում
B22: Միջոցառումն իրականացնողի անվանումը | C22: ՀՀ տարածքային կառավարման և ենթակառուցվածքների նախարարություն
B23: Արդյունքի չափորոշիչներ
B24: Միջոցառման վրա կատարվող ծախսը (հազար դրամ) | D24: ='h2'!G24 -> -27789.9
B27: Ծրագրի դասիչը | C27: Ծրագրի անվանումը
B28: 1001 | C28: Տարածքային կառավարման ոլորտում քաղաքականության մշակում, ծրագրերի համակարգում և մոնիտորինգի իրականացում
B29: Ծրագրի միջոցառումները
B30: Ծրագրի դասիչը` | C30: 1001 | D30: Ցուցանիշների փոփոխությունը (ավելացումները նշված են դրական նշանով)
B31: Միջոցառման դասիչը` | C31: ='h2'!E32 -> 31001 | D31: Տարի
B32: Միջոցառման անվանումը` | C32: ՀՀ տարածքային կառավարման և ենթակառուցվածքների նախարարության կարողությունների զարգացում և տեխնիկական հագեցվածության ապահովում
B33: Նկարագրությունը` | C33: ՀՀ տարածքային կառավարման և ենթակառուցվածքների նախարարության աշխատանքային պայմանների բարելավման համար վարչական սարքավորումների ձեռքբերում
B34: Միջոցառման տեսակը` | C34: Պետական մարմինների կողմից օգտագործվող ոչ ֆինանսական ակտիվների հետ գործառնություններ
B35: Ակտիվն օգտագործող կազմակերպության անվանումը՝ | C35: ՀՀ տարածքային կառավարման և ենթակառուցվածքների նախարարություն
B36: Արդյունքի չափորոշիչներ
B37: Միջոցառման վրա կատարվող ծախսը (հազար դրամ) | D37: ='h2'!G32 -> 27789.9
D38: Աղյուսակ N 9.47
D39: Աղյուսակ N 9.1.58
B40: ՀՀ ԿԱՌԱՎԱՐՈՒԹՅՈՒՆ
B41: ՄԱՍ 1. ՊԵՏԱԿԱՆ ՄԱՐՄՆԻ ԳԾՈՎ ԱՐԴՅՈՒՆՔԱՅԻՆ (ԿԱՏԱՐՈՂԱԿԱՆ) ՑՈՒՑԱՆԻՇՆԵՐԸ
B43: Ծրագրի դասիչը | C43: Ծրագրի անվանումը
B44: 1139 | C44: ՀՀ կառավարության պահուստային ֆոնդ
B46: Ծրագրի միջոցառումները
B47: Ծրագրի դասիչը` | C47: 1139 | D47: Ցուցանիշների փոփոխությունը (ավելացումները նշված են դրական նշանով)
B48: Միջոցառման դասիչը` | C48: 11001 | D48: =D31 -> Տարի
B49: Միջոցառման անվանումը` | C49: ՀՀ կառավարության պահուստային ֆոնդ
B50: Նկարագրությունը` | C50: ՀՀ պետական բյուջեում նախատեսված ելքերի լրացուցիչ ֆինանսավորման՝ պետական բյուջեում չկանխատեսված ելքերի՝ ինչպես նաև բյուջետային երաշխիքների ապահովման ելքերի ֆինանսավորման ապահովում
B51: Միջոցառման տեսակը` | C51: Ծառայությունների մատուցում
B52: Միջոցառումն իրականացնողի անվանումը | C52: ՀՀ կառավարություն
B53: Արդյունքի չափորոշիչներ
B54: Միջոցառման վրա կատարվող ծախսը (հազար դրամ) | D54: ='h2'!G58 -> 27789.9
B56: Ծրագրի դասիչը | C56: Ծրագրի անվանումը
B57: 1139 | C57: ՀՀ կառավարության պահուստային ֆոնդ
B59: Ծրագրի միջոցառումները
B60: Ծրագրի դասիչը` | C60: 1139 | D60: Ցուցանիշների փոփոխությունը (նվազեցումները նշված են փակագծերում)
B61: Միջոցառման դասիչը` | C61: 11001 | D61: =D48 -> Տարի
B62: Միջոցառման անվանումը` | C62: ՀՀ կառավարության պահուստային ֆոնդ
B63: Նկարագրությունը` | C63: ՀՀ պետական բյուջեում նախատեսված ելքերի լրացուցիչ ֆինանսավորման՝ պետական բյուջեում չկանխատեսված ելքերի՝ ինչպես նաև բյուջետային երաշխիքների ապահովման ելքերի ֆինանսավորման ապահովում
B64: Միջոցառման տեսակը` | C64: Ծառայությունների մատուցում
B65: Միջոցառումն իրականացնողի անվանումը | C65: ՀՀ կառավարություն
B66: Արդյունքի չափորոշիչներ
B67: Միջոցառման վրա կատարվող ծախսը (հազար դրամ) | D67: ='h2'!G50 -> -27789.9

Sheet 10
B1: Հավելված N10
B2: ՀՀ կառավարության 2022 թվականի
B3: ______________ ի ___Ն որոշման
B5: ՀԱՅԱՍՏԱՆԻ ՀԱՆՐԱՊԵՏՈՒԹՅԱՆ ԿԱՌԱՎԱՐՈՒԹՅԱՆ ՊԱՀՈՒՍՏԱՅԻՆ ՖՈՆԴԻՑ ԿԱՏԱՐՎՈՂ ՀԱՏԿԱՑՈՒՄԸ
H7: հազ. դրամ
B8: Գործառական դասիչը | E8: Ծրագրային դասիչը | G8: Բյուջետային ծախսերի գործառական դասակարգման բաժինների, խմբերի և դասերի, բյուջետային հատկացումների գլխավոր կարգադրիչների, ծրագրերի, միջոցառումների և միջոցառումները կատարող պետական մարմինների անվանումները | H8: Ցուցանիշների փոփոխությունը (ավելացումները նշված են դրական նշանով, իսկ նվազեցումները` փակագծերում)
B9: Բաժին | C9: Խումբ | D9: Դաս | E9: Ծրագիր | F9: Միջոցառում | H9: Ինն ամիս | I9: Տարի
G10: ԸՆԴԱՄԵՆԸ ԾԱԽՍԵՐ | H10: =+H12+H35 -> 0 | I10: =+I12+I35 -> #REF!
G11: այդ թվում`
G12: ՀՀ ՏԱՐԱԾՔԱՅԻՆ ԿԱՌԱՎԱՐՄԱՆ ԵՎ ԵՆԹԱԿԱՌՈՒՑՎԱԾՔՆԵՐԻ ՆԱԽԱՐԱՐՈՒԹՅՈՒՆ | H12: =+H14 -> 0 | I12: =+I14 -> #REF!
G13: այդ թվում`
B14: 04 | G14: ՏՆՏԵՍԱԿԱՆ ՀԱՐԱԲԵՐՈՒԹՅՈՒՆՆԵՐ | H14: 0 | I14: =+I16 -> #REF!
G15: այդ թվում`
C16: 05 | G16: Տրանսպորտ | H16: 0 | I16: =+I18 -> #REF!
G17: այդ թվում`
D18: 01 | G18: Ճանապարհային տրանսպորտ | H18: =+H20 -> 0 | I18: =+I20 -> #REF!
G19: այդ թվում`
G20: ՀՀ ՏԱՐԱԾՔԱՅԻՆ ԿԱՌԱՎԱՐՄԱՆ ԵՎ ԵՆԹԱԿԱՌՈՒՑՎԱԾՔՆԵՐԻ ՆԱԽԱՐԱՐՈՒԹՅՈՒՆ | H20: =+H22 -> 0 | I20: =+I22 -> #REF!
G21: այդ թվում`
E22: 1049 | G22: Ճանապարհային ցանցի բարելավում | H22: 0 | I22: =+I24 -> #REF!
G23: այդ թվում`
F24: 21001 | G24: ='[1]1'!C13 -> Պետական նշանակության ավտոճանապարհների հիմնանորոգում | H24: =+H26 -> 0 | I24: =+I26 -> #REF!
G25: այդ թվում` ըստ կատարողների
G26: ՀՀ տարածքային կառավարման և ենթակառուցվածքների նախարարություն | H26: 0 | I26: =+I28 -> #REF!
G27: այդ թվում` բյուջետային ծախսերի տնտեսագիտական դասակարգման հոդվածների
G28: ԸՆԴԱՄԵՆԸ ԾԱԽՍԵՐ | H28: 0 | I28: =+I29 -> #REF!
G29: ՈՉ ՖԻՆԱՆՍԱԿԱՆ ԱԿՏԻՎՆԵՐԻ ԳԾՈՎ ԾԱԽՍԵՐ | H29: 0 | I29: =+I30 -> #REF!
G30: ՀԻՄՆԱԿԱՆ ՄԻՋՈՑՆԵՐ | H30: 0 | I30: =+I31 -> #REF!
G31: ՇԵՆՔԵՐ ԵՎ ՇԻՆՈՒԹՅՈՒՆՆԵՐ | H31: 0 | I31: =+I32 -> #REF!
G32: - Շենքերի և շինությունների կապիտալ վերանորոգում | H32: 0 | I32: =-I52 -> #REF!
G33: ՀՀ կառավարություն | H33: =+H35 -> 0 | I33: =+I35 -> #REF!
G34: այդ թվում`
B35: 11 | G35: ՀԻՄՆԱԿԱՆ ԲԱԺԻՆՆԵՐԻՆ ՉԴԱՍՎՈՂ ՊԱՀՈՒՍՏԱՅԻՆ ՖՈՆԴԵՐ | H35: =+H37 -> 0 | I35: =+I37 -> #REF!
G36: այդ թվում`
C37: 01 | G37: ՀՀ կառավարության և համայնքների պահուստային ֆոնդ | H37: =+H39 -> 0 | I37: =+I39 -> #REF!
G38: այդ թվում`
D39: 01 | G39: ՀՀ կառավարության պահուստային ֆոնդ | H39: =+H43 -> 0 | I39: =+I43 -> #REF!
G40: այդ թվում`
G41: ՀՀ կառավարություն | H41: =+H43 -> 0 | I41: =+I43 -> #REF!
G42: այդ թվում`
E43: 1139 | G43: ՀՀ կառավարության պահուստային ֆոնդ | H43: =+H45 -> 0 | I43: =+I45 -> #REF!
G44: այդ թվում`
F45: 11001 | G45: ՀՀ կառավարության պահուստային ֆոնդ | H45: =+H47 -> 0 | I45: =+I47 -> #REF!
G46: այդ թվում` ըստ կատարողների
G47: ՀՀ կառավարություն | H47: =+H49 -> 0 | I47: =+I49 -> #REF!
G48: այդ թվում` բյուջետային ծախսերի տնտեսագիտական դասակարգման հոդվածներ
G49: ԸՆԴԱՄԵՆԸ ԾԱԽՍԵՐ | H49: =+H50 -> 0 | I49: =+I50 -> #REF!
G50: ԸՆԹԱՑԻԿ ԾԱԽՍԵՐ | H50: =+H51 -> 0 | I50: =+I51 -> #REF!
G51: ԱՅԼ ԾԱԽՍԵՐ | H51: =+H52 -> 0 | I51: =+I52 -> #REF!
G52: Պահուստային միջոցներ | H52: 0 | I52: =+'h2'!#REF! -> #REF!

Sheet h6
E1: Հավելված N 6
B2: ՀՀ կառավարության 2023 թվականի
B3: ______________ ի ___Ն որոշման
B5: ՀԱՅԱՍՏԱՆԻ ՀԱՆՐԱՊԵՏՈՒԹՅԱՆ ԿԱՌԱՎԱՐՈՒԹՅԱՆ 2022 ԹՎԱԿԱՆԻ ԴԵԿՏԵՄԲԵՐԻ 29-Ի N 2111-Ն ՈՐՈՇՄԱՆ N 10 ՀԱՎԵԼՎԱԾՈՒՄ ԿԱՏԱՐՎՈՂ ՓՈՓՈԽՈՒԹՅՈՒՆՆԵՐԸ ԵՎ ԼՐԱՑՈՒՄՆԵՐԸ
B7: Կոդը | C7: Անվանումը | F7: Գնման ձևը | G7: Չափման միավորը | H7: Միավորի գինը | I7: Քանակը | J7: Ցուցանիշների փոփոխությունը (ավելացումները նշված են դրական նշանով, իսկ նվազեցումները` փակագծերում)
J8: Գումարը (հազար դրամ)
B10: 1 | C10: 2 | F10: 3 | G10: 4 | H10: 5 | I10: 6 | J10: 7
B11: ՀՀ տարածքային կառավարման և ենթակառուցվածքների նախարարություն | J11: =J12 -> 0
B12: Բաժին N 01 | C12: Խումբ N 01 | D12: Դաս N 01 | E12: Օրենսդիր և գործադիր մարմիններ, պետական կառավարում | J12: =J13+J16 -> 0
B13: 1001-11001 | C13: ='h1'!C21 -> Տարածքային կառավարման և ենթակառուցվածքների քաղաքականության մշակում և ծառայությունների մատուցում | J13: =J14 -> -27789.9
C14: ՄԱՍ III. ԾԱՌԱՅՈՒԹՅՈՒՆՆԵՐ | J14: =J15 -> -27789.9
B15: 79211180/1 | C15: Ներքին աուդիտի ծառայություններ | F15: ԷԱՃ | G15: դրամ | J15: =-J16 -> -27789.9
B16: 1001-31001 | C16: =[2]h2!F32 -> ՀՀ տարածքային կառավարման և ենթակառուցվածքների նախարարության կարողությունների զարգացում և տեխնիկական հագեցվածության ապահովում | J16: =SUM(J18:J30) -> 27789.9
C17: ՄԱՍ I. Ա Պ Ր Ա Ն Ք Ն Ե Ր | J17: =J18+J19+J20+J21+J22+J23+J24+J25+J26+J27+J28+J29+J30 -> 27789.9
B18: 30211190/501 | C18: Անձնական համակարգիչներ | F18: ԷԱՃ | G18: հատ | H18: 480000 | I18: 22 | J18: =H18*I18/1000 -> 10560
B19: 30232110/501 | C19: Լազերային տպիչներ | F19: ԷԱՃ | G19: հատ | H19: 450000 | I19: 3 | J19: =H19*I19/1000 -> 1350
B20: 32421300/503 | C20: Ցանցային բաժանարար | F20: ԷԱՃ | G20: հատ | H20: 115000 | I20: 9 | J20: =H20*I20/1000 -> 1035
B21: 32421300/501 | C21: Ցանցային բաժանարար | F21: ԷԱՃ | G21: հատ | H21: 115000 | I21: 2 | J21: =H21*I21/1000 -> 230
B22: 32421300/502 | C22: Ցանցային բաժանարար | F22: ԷԱՃ | G22: հատ | H22: 270000 | I22: 1 | J22: =H22*I22/1000 -> 270
B23: 31151120/501 | C23: Անխափան սնուցման աղբյուրներ | F23: ԷԱՃ | G23: հատ | H23: 60000 | I23: 25 | J23: =H23*I23/1000 -> 1500
B24: 39111180/501 | C24: Աթոռ գրասենյակային | F24: ԷԱՃ | G24: հատ | H24: 40000 | I24: 53 | J24: =H24*I24/1000 -> 2120
B25: 39111220/501 | C25: Բազկաթոռ՝ ղեկավարի | F25: ԷԱՃ | G25: հատ | H25: 122000 | I25: 4 | J25: =H25*I25/1000 -> 488
B26: 39531700/501 | C26: Ուղեգորգեր | F26: ԷԱՃ | G26: քմ | H26: 17000 | I26: 155.7 | J26: =H26*I26/1000 -> 2646.9
B27: 39515410/501 | C27: Ներքին շերտավարագույրներ | F27: ԷԱՃ | G27: քմ | H27: 6000 | I27: 100 | J27: =H27*I27/1000 -> 600
B28: 39714200/501 | C28: Օդորակիչներ | F28: ԷԱՃ | G28: հատ | H28: 330000 | I28: 3 | J28: =H28*I28/1000 -> 990
B29: 39714200/502 | C29: Օդորակիչներ | F29: ԷԱՃ | G29: հատ | H29: 250000 | I29: 4 | J29: =H29*I29/1000 -> 1000
B30: 32231220/501 | C30: Տեսակոնֆերանսի համակարգ | F30: ԷԱՃ | G30: հատ | H30: 5000000 | I30: 1 | J30: =H30*I30/1000 -> 5000
C34: ՀԱՅԱՍՏԱՆԻ ՀԱՆՐԱՊԵՏՈՒԹՅԱՆ ՎԱՐՉԱՊԵՏԻ ԱՇԽԱՏԱԿԱԶՄԻ ՂԵԿԱՎԱՐ | H34: Ա.ՀԱՐՈՒԹՅՈՒՆՅԱՆ
