Workbook
Name _tab10: #REF!
Name _tab10: #REF!
Name _tab11: #REF!
Name _tab11: #REF!
Name _tab12: #REF!
Name _tab12: #REF!
Name _tab13: #REF!
Name _tab13: #REF!
Name _tab14: #REF!
Name _tab14: #REF!
Name _tab15: #REF!
Name _tab15: #REF!
Name _tab16: #REF!
Name _tab16: #REF!
Name _tab17: #REF!
Name _tab17: #REF!
Name _tab18: #REF!
Name _tab18: #REF!
Name _tab19: #REF!
Name _tab19: #REF!
Name _tab20: #REF!
Name _tab20: #REF!
Name _tab21: #REF!
Name _tab21: #REF!
Name _tab22: #REF!
Name _tab22: #REF!
Name _tab22222: #REF!
Name _tab22222: #REF!
Name _tab23: #REF!
Name _tab23: #REF!
Name _tab24: #REF!
Name _tab24: #REF!
Name _tab5: #REF!
Name _tab5: #REF!
Name _tab6: #REF!
Name _tab6: #REF!
Name _tab7: #REF!
Name _tab7: #REF!
Name _tab8: #REF!
Name _tab8: #REF!
Name _tab9: #REF!
Name _tab9: #REF!
Name aaaaaaaaaaaa: #REF!
Name aaaaaaaaaaaa: #REF!
Name hhhh: #REF!
Name hhhh: #REF!
Name hunvar: #REF!,#REF!,#REF!,#REF!,#REF!,#REF!,#REF!,#REF!,#REF!,#REF!,#REF!,#REF!,#REF!,#REF!,#REF!
Name hunvar: #REF!,#REF!,#REF!,#REF!,#REF!,#REF!,#REF!,#REF!,#REF!,#REF!,#REF!,#REF!,#REF!,#REF!,#REF!
Name par_count: #REF!,#REF!,#REF!,#REF!,#REF!,#REF!,#REF!,#REF!,#REF!,#REF!,#REF!,#REF!,#REF!,#REF!,#REF!
Name par_count: #REF!,#REF!,#REF!,#REF!,#REF!,#REF!,#REF!,#REF!,#REF!,#REF!,#REF!,#REF!,#REF!,#REF!,#REF!
Name par_qual: #REF!,#REF!,#REF!,#REF!,#REF!
Name par_qual: #REF!,#REF!,#REF!,#REF!,#REF!
Name par_time: #REF!,#REF!,#REF!,#REF!
Name par_time: #REF!,#REF!,#REF!,#REF!
Name par2.12s: #REF!
Name par2.12s: #REF!
Name par2.4s: #REF!,#REF!,#REF!,#REF!,#REF!,#REF!,#REF!,#REF!,#REF!,#REF!,#REF!,#REF!,#REF!,#REF!,#REF!,#REF!
Name par2.4s: #REF!,#REF!,#REF!,#REF!,#REF!,#REF!,#REF!,#REF!,#REF!,#REF!,#REF!,#REF!,#REF!,#REF!,#REF!,#REF!
Name par2.5s: #REF!,#REF!
Name par2.5s: #REF!,#REF!

Sheet 1
B1: Հավելված № 1
B2: ՀՀ կառավարության 2023 թվականի
D3: __________ «____» -ի
B4: № ---------- -Ն որոշման
B5: «ՀԱՅԱՍՏԱՆԻ ՀԱՆՐԱՊԵՏՈՒԹՅԱՆ 2023 ԹՎԱԿԱՆԻ ՊԵՏԱԿԱՆ ԲՅՈՒՋԵԻ ՄԱՍԻՆ» ՀԱՅԱՍՏԱՆԻ ՀԱՆՐԱՊԵՏՈՒԹՅԱՆ ՕՐԵՆՔԻ N 1 ՀԱՎԵԼՎԱԾԻ N 1 ԱՂՅՈՒՍԱԿՈՒՄ ԿԱՏԱՐՎՈՂ ՓՈՓՈԽՈՒԹՅՈՒՆՆԵՐԸ
D6: հազար դրամ
B7: Ծրագրային դասիչը | C7: Ծրագրի անվանումը | D7: Ցուցանիշների փոփոխությունները (ավելացումները նշված են դրական նշանով, իսկ նվազեցումները` փակագծերում)
D8: Տարի
B9: Ընդամենը | D9: =+D10+D11+D12+D13+D14 -> 0
B10: 1003 | C10: Հանրային առողջության պահպանում | D10: 59279.46
B11: 1099 | C11: Առողջության առաջնային պահպանում | D11: -100000
B12: 1126 | C12: Առողջապահության ոլորտում պետական քաղաքականության մշակում, ծրագրերի համակարգում և մոնիտորինգ | D12: 14096.75
B13: 1188 | C13: Դեղապահովում | D13: -73376.21
B14: 1207 | C14: Վարակիչ հիվանդությունների կանխարգելման ծրագիր | D14: 100000

Sheet 2
B1: Հավելված № 2
B2: ՀՀ կառավարության 2023 թվականի
D3: __________ «____» -ի
B4: № ---------- -Ն որոշման
B5: «ՀԱՅԱՍՏԱՆԻ ՀԱՆՐԱՊԵՏՈՒԹՅԱՆ 2023 ԹՎԱԿԱՆԻ ՊԵՏԱԿԱՆ ԲՅՈՒՋԵԻ ՄԱՍԻՆ» ՀԱՅԱՍՏԱՆԻ ՀԱՆՐԱՊԵՏՈՒԹՅԱՆ ՕՐԵՆՔԻ N 1 ՀԱՎԵԼՎԱԾԻ N 2 ԱՂՅՈՒՍԱԿՈՒՄ ԿԱՏԱՐՎՈՂ ՎԵՐԱԲԱՇԽՈՒՄԸ ԵՎ ՀԱՅԱՍՏԱՆԻ ՀԱՆՐԱՊԵՏՈՒԹՅԱՆ ԿԱՌԱՎԱՐՈՒԹՅԱՆ 2022 ԹՎԱԿԱՆԻ ԴԵԿՏԵՄԲԵՐԻ 29-Ի № 2111-Ն ՈՐՈՇՄԱՆ № 5 ՀԱՎԵԼՎԱԾԻ № 1 ԱՂՅՈՒՍԱԿՈՒՄ ԿԱՏԱՐՎՈՂ ՓՈՓՈԽՈՒԹՅՈՒՆՆԵՐԸ
B6: հազար դրամ
B7: Ծրագրային դասիչը | D7: Բյուջետային հատկացումների գլխավոր կարգադրիչների, ծրագրերի և միջոցառումների անվանումները | E7: Ցուցանիշների փոփոխությունները (ավելացումները նշված են դրական նշանով, իսկ նվազեցումները` փակագծերում)
B8: Ծրագիր | C8: Միջոցառում | E8: Տարի
D9: ԸՆԴԱՄԵՆԸ | E9: =+E10 -> 0
D10: ՀՀ առողջապահության նախարարություն | E10: =+E11+E24+E37+E50+E63 -> 0
B11: 1003 | D11: Ծրագրի անվանումը` | E11: =+E18 -> 59279.46
D12: Հանրային առողջության պահպանում
D13: Ծրագրի նպատակը`
D14: Մարդու օրգանիզմի վրա շրջակա միջավայրի վնասակար և վտանգավոր գործոնների ազդեցության բացառում և նվազեցում, կառավարելի վարակիչ հիվանդությունների դեմ պայքար:
D15: Վերջնական արդյունքի նկարագրությունը`
D16: Բնակչության սանիտարահամաճարակային անվտանգության և վարակիչ հիվանդությունների նկատմամբ բնակչության անընկալության ապահովում: Հանրապետությունում արյան, արյան բաղադրամասերի և արյան պատրաստուկների անհրաժեշտ քանակության ապահովում
B17: Ծրագրի միջոցառումներ
C18: 11006 | D18: Միջոցառման անվանումը` | E18: =+'1'!D10 -> 59279.46
D19: Հայաստանի Հանրապետությանում կորոնավիրուսային վարակի (COVID-19) կանխարգելման, վերահսկման, բուժման և այլ համալիր միջոցառումների իրականացում
D20: Միջոցառման նկարագրությունը`
D21: Հայաստանի Հանրապետությանում կորոնավիրուսային վարակի (COVID-19) կանխարգելման, վերահսկման, բուժման և այլ համալիր միջոցառումների ծախսերի իրականացում
D22: Միջոցառման տեսակը
D23: Ծառայությունների մատուցում
B24: 1099 | D24: Ծրագրի անվանումը` | E24: =+E31 -> -100000
D25: Առողջության առաջնային պահպանում
D26: Ծրագրի նպատակը`
D27: Բնակչությանը մատչելի և որակյալ առաջնային բժշկական օգնության և սպասարկման տրամադրում, առողջության վատթարացման ռիսկի գործոնների վերհանում և դրանց հնարավոր անբարենպաստ ազդեցության կանխարգելում
D28: Վերջնական արդյունքի նկարագրությունը`
D29: Առողջության առաջնային պահպանման օղակում ցուցաբերվող բժշկական օգնության որակի, հիվանդությունների վաղ հայտնաբերման և կանխարգելման մակարդակի բարելավում, առողջապահական ծառայությունների վերաբերյալ իրազեկվածության և դրանց նկատմամբ պահանջարկի ավելացում
B30: Ծրագրի միջոցառումներ
C31: 11001 | D31: Միջոցառման անվանումը` | E31: =+'1'!D11 -> -100000
D32: Ամբուլատոր-պոլիկլինիկական բժշկական օգնության ծառայություններ
D33: Միջոցառման նկարագրությունը`
D34: Ամբուլատոր-պոլիկլինիկական բժշկական օգնության ծառայություններ
D35: Միջոցառման տեսակը
D36: Ծառայությունների մատուցում
B37: 1126 | D37: Ծրագրի անվանումը | E37: =+E44+E51 -> 14096.75
D38: Առողջապահության ոլորտում պետական քաղաքականության մշակում, ծրագրերի համակարգում և մոնիտորինգ
D39: Ծրագրի նպատակը
D40: Մարդու և հանրության առողջության պահպանում, բնակչության առողջության բարելավում, հիվանդությունների կանխարգելում, հաշմանդամության և մահացության ցուցանիշների նվազեցում
...

Sheet 3
B1: Հավելված № 3
B2: ՀՀ կառավարության 2023 թվականի
B3: __________ «____» -ի
B4: N_____ -Ն որոշման
B5: ՀԱՅԱՍՏԱՆԻ ՀԱՆՐԱՊԵՏՈՒԹՅԱՆ ԿԱՌԱՎԱՐՈՒԹՅԱՆ 2022 ԹՎԱԿԱՆԻ ԴԵԿՏԵՄԲԵՐԻ 29-Ի № 2111-Ն ՈՐՈՇՄԱՆ №№ 3 և 4 ՀԱՎԵԼՎԱԾՆԵՐՈՒՄ ԿԱՏԱՐՎՈՂ ՓՈՓՈԽՈՒԹՅՈՒՆՆԵՐԸ ԵՎ ԼՐԱՑՈՒՄԸ
B6: (հազ. դրամ)
B7: Գործառական դասիչը | E7: Ծրագրային դասիչը | G7: Բյուջետային հատկացումների գլխավոր կարգադրիչների, ծրագրերի, միջոցառումների և միջոցառումները կատարող պետական մարմինների անվանումները | H7: Ցուցանիշների փոփոխությունները (ավելացումները նշված են դրական նշանով, իսկ նվազեցումները` փակագծերում)
B8: բաժին | C8: խումբ | D8: դաս | E8: Ծրագիր | F8: Միջոցառում | H8: Տարի
B9: ԸՆԴԱՄԵՆԸ | H9: =+H10 -> -1.4551915e-11
B10: 07 | G10: ԱՌՈՂՋԱՊԱՀՈՒԹՅՈՒՆ | H10: =+H11+H28+H45+H62+H81 -> -1.4551915e-11
C11: 01 | G11: Բժշկական ապրանքներ, սարքեր և սարքավորումներ | H11: =+H13 -> -73376.21
G12: այդ թվում`
D13: 01 | G13: Դեղագործական ապրանքներ | H13: =+H15 -> -73376.21
G14: այդ թվում`
G15: ՀՀ առողջապահության նախարարություն | H15: =+H17 -> -73376.21
G16: այդ թվում՝
E17: 1188 | G17: Դեղապահովում | H17: =+H19 -> -73376.21
G18: այդ թվում`
F19: 12001 | G19: Դեղորայքի տրամադրում ամբուլատոր-պոլիկլինիկական, հիվանդանոցային բուժօգնություն ստացողներին և հատուկ խմբերում ընդգրկված ֆիզիկական անձանց | H19: =+H21 -> -73376.21
G20: այդ թվում` ըստ կատարողների
G21: ՀՀ առողջապահության նախարարություն | H21: =+H23 -> -73376.21
G22: այդ թվում` բյուջետային ծախսերի տնտեսագիտական դասակարգման հոդվածներ
G23: ԸՆԴԱՄԵՆԸ ԾԱԽՍԵՐ | H23: =+H24 -> -73376.21
G24: ԸՆԹԱՑԻԿ ԾԱԽՍԵՐ | H24: =+H25 -> -73376.21
G25: ԾԱՌԱՅՈՒԹՅՈՒՆՆԵՐԻ ԵՎ ԱՊՐԱՆՔՆԵՐԻ ՁԵՌՔԲԵՐՈՒՄ | H25: =+H26 -> -73376.21
G26: Նյութեր (Ապրանքներ) | H26: =+H27 -> -73376.21
G27: -Առողջապահական և լաբորատոր նյութեր | H27: =+'1'!D13 -> -73376.21
C28: 02 | G28: Արտահիվանդանոցային ծառայություններ | H28: =+H30 -> -100000
G29: այդ թվում`
D30: 01 | G30: Ընդհանուր բնույթի բժշկական ծառայություններ | H30: =+H32 -> -100000
G31: այդ թվում`
G32: ՀՀ առողջապահության նախարարություն | H32: =+H34 -> -100000
G33: այդ թվում՝
E34: 1099 | G34: Առողջության առաջնային պահպանում | H34: =+H36 -> -100000
G35: այդ թվում`
F36: 11001 | G36: Ամբուլատոր-պոլիկլինիկական բժշկական օգնության ծառայություններ | H36: =+H38 -> -100000
G37: այդ թվում` ըստ կատարողների
G38: ՀՀ առողջապահության նախարարություն | H38: =+H40 -> -100000
G39: այդ թվում` բյուջետային ծախսերի տնտեսագիտական դասակարգման հոդվածներ
G40: ԸՆԴԱՄԵՆԸ ԾԱԽՍԵՐ | H40: =+H41 -> -100000
...

Sheet 4
B1: Հավելված № 4
B2: ՀՀ կառավարության 2023 թվականի
B3: __________ «____» -ի
B4: N_____ -Ն որոշման
B5: ՀԱՅԱՍՏԱՆԻ ՀԱՆՐԱՊԵՏՈՒԹՅԱՆ ԿԱՌԱՎԱՐՈՒԹՅԱՆ 2022 ԹՎԱԿԱՆԻ ԴԵԿՏԵՄԲԵՐԻ 29-Ի ԹԻՎ 2111-Ն ՈՐՈՇՄԱՆ N5 ՀԱՎԵԼՎԱԾԻ N 7 ԱՂՅՈՒՍԱԿՈՒՄ ԿԱՏԱՐՎՈՂ ՓՈՓՈԽՈՒԹՅՈՒՆՆԵՐԸ ԵՎ ԼՐԱՑՈՒՄՆԵՐԸ
H6: հազար դրամ
B7: Ծրագրային դասիչ | D7: Բյուջետային հատկացումների գլխավոր կարգադրիչների, ծրագրերի, միջոցառումների, ծախսային ուղղությունների անվանումները | G7: Միջոցառումները կատարող պետական մարմինների և դրամաշնորհ ստացող տնտեսվարող սուբյեկտների անվանումները | H7: Տարի Ցուցանիշների փոփոխությունները (ավելացումները նշված են դրական նշանով)
B8: Ծրագիր | C8: Միջոցառում
B9: ՀՀ առողջապահության նախարարություն | H9: =+H10 -> 14096.75
B10: 1126 | C10: Առողջապահության ոլորտում պետական քաղաքականության մշակում, ծրագրերի համակարգում և մոնիտորինգ | H10: =+H11 -> 14096.75
C11: 12006 | D11: Առողջապահական համակարգի պետական առևտրային և ոչ առևտրային կազմակերպություններին ֆինանսական աջակցության հատկացում | G11: ՀՀ առողջապահության նախարարություն | H11: =SUM(H12:H12) -> 14096.75
G12: «Ավան» կլինիկա (նախկին Ոստիկանության հոսպիտալ) | H12: =+'3'!H97 -> 14096.75

Sheet 5
B1: Հավելված № 5
B2: ՀՀ կառավարության 2023 թվականի
B3: __________ «____» -ի
B4: N_____ -Ն որոշման
B5: ՀԱՅԱՍՏԱՆԻ ՀԱՆՐԱՊԵՏՈՒԹՅԱՆ ԿԱՌԱՎԱՐՈՒԹՅԱՆ 2022 ԹՎԱԿԱՆԻ ԴԵԿՏԵՄԲԵՐԻ 29-Ի N 2111-Ն ՈՐՈՇՄԱՆ N 9 ՀԱՎԵԼՎԱԾԻ 9.8 ԱՂՅՈՒՍԱԿՈՒՄ ԿԱՏԱՐՎՈՂ ՓՈՓՈԽՈՒԹՅՈՒՆՆԵՐԸ ԵՎ ԼՐԱՑՈՒՄՆԵՐԸ
B6: ՀՀ առողջապահության նախարարություն
B7: ՄԱՍ 2. ՊԵՏԱԿԱՆ ՄԱՐՄՆԻ ԳԾՈՎ ԱՐԴՅՈՒՆՔԱՅԻՆ (ԿԱՏԱՐՈՂԱԿԱՆ) ՑՈՒՑԱՆԻՇՆԵՐԸ
B9: Ծրագրի դասիչը | C9: Ծրագրի անվանումը
B10: 1003 | C10: Հանրային առողջության պահպանում
B11: Ծրագրի միջոցառումները
B12: Ծրագրի դասիչը` | C12: 1003 | D12: Ցուցանիշների փոփոխությունը (ավելացումը նշված է դրական նշանով)
B13: Միջոցառման դասիչը` | C13: 11006 | D13: Տարի
B14: Միջոցառման անվանումը` | C14: Հայաստանի Հանրապետությանում կորոնավիրուսային վարակի (COVID-19) կանխարգելման, վերահսկման, բուժման և այլ համալիր միջոցառումների իրականացում
B15: Նկարագրությունը` | C15: Հայաստանի Հանրապետությանում կորոնավիրուսային վարակի (COVID-19) կանխարգելման, վերահսկման, բուժման և այլ համալիր միջոցառումների ծախսերի իրականացում
B16: Միջոցառման տեսակը` | C16: Ծառայությունների մատուցում
B17: Ծառայությունը մատուցող կազմակերպության(ների) անվանում(ներ)ը | C17: ՀՀ գնումների մասին օրենսդրությանը համապատասխան ընտրված կազմակերպություններ
B18: Արդյունքի չափորոշիչներ
B19: Միջոցառման վրա կատարվող ծախսը (հազար դրամ) | D19: =+'1'!D10 -> 59279.46
B21: Ծրագրի դասիչը | C21: Ծրագրի անվանումը
B22: 1099 | C22: Առողջության առաջնային պահպանում
B23: Ծրագրի միջոցառումները
B24: Ծրագրի դասիչը` | C24: 1099 | D24: Ցուցանիշների փոփոխությունը (նվազեցումը նշված է փակագծերում)
B25: Միջոցառման դասիչը` | C25: 11001 | D25: Տարի
B26: Միջոցառման անվանումը` | C26: Ամբուլատոր-պոլիկլինիկական բժշկական օգնության ծառայություններ
B27: Նկարագրությունը` | C27: Ամբուլատոր-պոլիկլինիկական բժշկական օգնության ծառայություններ
B28: Միջոցառման տեսակը` | C28: Ծառայությունների մատուցում
B29: Ծառայությունը մատուցող կազմակերպության(ների) անվանում(ներ)ը | C29: ՀՀ գնումների մասին օրենսդրությանը համապատասխան ընտրված կազմակերպություններ
B30: Արդյունքի չափորոշիչներ
B31: Միջոցառման վրա կատարվող ծախսը (հազար դրամ) | D31: =+'1'!D11 -> -100000
B33: Ծրագրի դասիչը | C33: Ծրագրի անվանումը
B34: 1126 | C34: Առողջապահության ոլորտում պետական քաղաքականության մշակում, ծրագրերի համակարգում և մոնիտորինգ
B36: Ծրագրի միջոցառումները
B37: Ծրագրի դասիչը` | C37: 1126 | D37: Ցուցանիշների փոփոխությունները (ավելացումները նշված են դրական նշանով)
B38: Միջոցառման դասիչը` | C38: 12006 | D38: Տարի
B39: Միջոցառման անվանումը` | C39: Առողջապահական համակարգի պետական առևտրային և ոչ առևտրային կազմակերպություններին ֆինանսական աջակցության հատկացում
B40: Նկարագրությունը` | C40: Առողջապահական համակարգի պետական առևտրային և ոչ առևտրային կազմակերպություններին ֆինանսական աջակցության տրամադրում ընթացիկ գործունեության արդյունավետության բարձրացմանն ուղղված
B41: Միջոցառման տեսակը` | C41: Տրանսֆերտի տրամադրում
B42: Ակտիվն օգտագործող կազմակերպության (ների) անվանում(ներ)ը | C42: Առողջապահական կազմակերպություններ
B43: Արդյունքի չափորոշիչներ
B44: Ֆինանսական աջակցություն ստացող բժշկական հաստատությունների թիվ, հատ | D44: 1
...

Sheet 6
B1: Հավելված № 6
B2: ՀՀ կառավարության 2023 թվականի
B3: __________ «____» -ի
B4: N_____ -Ն որոշման
B5: ՀԱՅԱՍՏԱՆԻ ՀԱՆՐԱՊԵՏՈՒԹՅԱՆ ԿԱՌԱՎԱՐՈՒԹՅԱՆ 2022 ԹՎԱԿԱՆԻ ԴԵԿՏԵՄԲԵՐԻ 29-Ի N 2111-Ն ՈՐՈՇՄԱՆ N 9.1 ՀԱՎԵԼՎԱԾԻ 9.1.8 ԱՂՅՈՒՍԱԿՈՒՄ ԿԱՏԱՐՎՈՂ ՓՈՓՈԽՈՒԹՅՈՒՆՆԵՐԸ ԵՎ ԼՐԱՑՈՒՄՆԵՐԸ
B6: ՀՀ առողջապահության նախարարություն
B7: ՄԱՍ 1. ՊԵՏԱԿԱՆ ՄԱՐՄՆԻ ԳԾՈՎ ԱՐԴՅՈՒՆՔԱՅԻՆ (ԿԱՏԱՐՈՂԱԿԱՆ) ՑՈՒՑԱՆԻՇՆԵՐԸ
B9: Ծրագրի դասիչը | C9: Ծրագրի անվանումը
B10: 1003 | C10: Հանրային առողջության պահպանում
B11: Ծրագրի միջոցառումները
B12: Ծրագրի դասիչը` | C12: 1003 | D12: Ցուցանիշների փոփոխությունը (ավելացումը նշված է դրական նշանով)
B13: Միջոցառման դասիչը` | C13: 11006 | D13: Տարի
B14: Միջոցառման անվանումը` | C14: Հայաստանի Հանրապետությանում կորոնավիրուսային վարակի (COVID-19) կանխարգելման, վերահսկման, բուժման և այլ համալիր միջոցառումների իրականացում
B15: Նկարագրությունը` | C15: Հայաստանի Հանրապետությանում կորոնավիրուսային վարակի (COVID-19) կանխարգելման, վերահսկման, բուժման և այլ համալիր միջոցառումների ծախսերի իրականացում
B16: Միջոցառման տեսակը` | C16: Ծառայությունների մատուցում
B17: Ծառայությունը մատուցող կազմակերպության(ների) անվանում(ներ)ը | C17: ՀՀ գնումների մասին օրենսդրությանը համապատասխան ընտրված կազմակերպություններ
B18: Արդյունքի չափորոշիչներ
B19: Միջոցառման վրա կատարվող ծախսը (հազար դրամ) | D19: =+'1'!D10 -> 59279.46
B21: Ծրագրի դասիչը | C21: Ծրագրի անվանումը
B22: 1099 | C22: Առողջության առաջնային պահպանում
B23: Ծրագրի միջոցառումները
B24: Ծրագրի դասիչը` | C24: 1099 | D24: Ցուցանիշների փոփոխությունը (նվազեցումը նշված է փակագծերում)
B25: Միջոցառման դասիչը` | C25: 11001 | D25: Տարի
B26: Միջոցառման անվանումը` | C26: Ամբուլատոր-պոլիկլինիկական բժշկական օգնության ծառայություններ
B27: Նկարագրությունը` | C27: Ամբուլատոր-պոլիկլինիկական բժշկական օգնության ծառայություններ
B28: Միջոցառման տեսակը` | C28: Ծառայությունների մատուցում
B29: Ծառայությունը մատուցող կազմակերպության(ների) անվանում(ներ)ը | C29: ՀՀ գնումների մասին օրենսդրությանը համապատասխան ընտրված կազմակերպություններ
B30: Արդյունքի չափորոշիչներ
B31: Միջոցառման վրա կատարվող ծախսը (հազար դրամ) | D31: =+'1'!D11 -> -100000
B33: Ծրագրի դասիչը | C33: Ծրագրի անվանումը
B34: 1126 | C34: Առողջապահության ոլորտում պետական քաղաքականության մշակում, ծրագրերի համակարգում և մոնիտորինգ
B36: Ծրագրի միջոցառումները
B37: Ծրագրի դասիչը` | C37: 1126 | D37: Ցուցանիշների փոփոխությունները (ավելացումները նշված են դրական նշանով)
B38: Միջոցառման դասիչը` | C38: 12006 | D38: Տարի
B39: Միջոցառման անվանումը` | C39: Առողջապահական համակարգի պետական առևտրային և ոչ առևտրային կազմակերպություններին ֆինանսական աջակցության հատկացում
B40: Նկարագրությունը` | C40: Առողջապահական համակարգի պետական առևտրային և ոչ առևտրային կազմակերպություններին ֆինանսական աջակցության տրամադրում ընթացիկ գործունեության արդյունավետության բարձրացմանն ուղղված
B41: Միջոցառման տեսակը` | C41: Տրանսֆերտի տրամադրում
B42: Ակտիվն օգտագործող կազմակերպության (ների) անվանում(ներ)ը | C42: Առողջապահական կազմակերպություններ
B43: Արդյունքի չափորոշիչներ
B44: Ֆինանսական աջակցություն ստացող բժշկական հաստատությունների թիվ, հատ | D44: 1
...

Sheet 7
B1: Հավելված № 7
B2: ՀՀ կառավարության 2023 թվականի
B3: __________ «____» -ի
B4: N_____ -Ն որոշման
B5: ՀԱՅԱՍՏԱՆԻ ՀԱՆՐԱՊԵՏՈՒԹՅԱՆ ԿԱՌԱՎԱՐՈՒԹՅԱՆ 2022 ԹՎԱԿԱՆԻ ԴԵԿՏԵՄԲԵՐԻ 29-Ի № 2111-Ն ՈՐՈՇՄԱՆ № 10 ՀԱՎԵԼՎԱԾՈՒՄ ԿԱՏԱՐՎՈՂ ՓՈՓՈԽՈՒԹՅՈՒՆՆԵՐԸ
B6: Կոդը | C6: Անվանումը | F6: Գնման ձևը | G6: Չափման միավորը | H6: Ցուցանիշների փոփոխությունները (նվազեցումները նշված են փակագծերում)
H7: Միավորի գինը | I7: Քանակը | J7: Գումարը (հազար դրամով)
B8: ՀՀ Առողջապահության նախարարություն | J8: =+J24+J9+J14+J19 -> -123376.21
B9: Բաժին N 07 | C9: Խումբ N 01 | D9: Դաս N 01 | E9: Դեղագործական ապրանքներ | J9: =+J10 -> -73376.21
B10: 1188 12001 | C10: Դեղորայքի տրամադրում ամբուլատոր-պոլիկլինիկական, հիվանդանոցային բուժօգնություն ստացողներին և հատուկ խմբերում ընդգրկված ֆիզիկական անձանց | J10: =+J11 -> -73376.21
C11: ՄԱՍ I. Ա Պ Ր Ա Ն Ք Ն Ե Ր | J11: =+J12 -> -73376.21
B12: 33651300-2 | C12: տրաստուզումաբ | F12: ՀԲՄ | G12: հատ | J12: -73376.21
B14: Բաժին N 07 | C14: Խումբ N 02 | D14: Դաս N 01 | E14: Ընդհանուր բնույթի բժշկական ծառայություններ | J14: =+J15 -> -100000
B15: 1099 11001 | C15: Ամբուլատոր-պոլիկլինիկական բժշկական օգնության ծառայություններ | J15: =+J16 -> -100000
C16: ՄԱՍ III. ԾԱՌԱՅՈՒԹՅՈՒՆՆԵՐ | J16: =+J17 -> -100000
B17: 85121120-1 | C17: ամբուլատոր-բժշկական ծառայություններ | F17: ՄԱ | G17: դրամ | J17: -100000
B19: Բաժին N 07 | C19: Խումբ N 03 | D19: Դաս N 02 | E19: Մասնագիտացված հիվանդանոցային ծառայություններ | J19: =+J20 -> 100000
B20: 1208 11003 | C20: Աղիքային և այլ ինֆեկցիոն հիվանդությունների բժշկական օգնության ծառայություններ | J20: =+J21 -> 100000
C21: ՄԱՍ III. ԾԱՌԱՅՈՒԹՅՈՒՆՆԵՐ | J21: =+J22 -> 100000
B22: 85111120-1 | C22: հիվանդանոցների կողմից մատուցվող բժշկական ծառայություններ | F22: ՄԱ | G22: դրամ | J22: 100000
B24: Բաժին 07 | C24: Խումբ 04 | D24: Դաս 01 | E24: Հանրային առողջապահական ծառայություններ | J24: =+J25 -> -50000
B25: 1003 11006 | C25: Հայաստանի Հանրապետությանում կորոնավիրուսային վարակի (COVID-19) կանխարգելման, վերահսկման, բուժման և այլ համալիր միջոցառումների իրականացում | J25: =+J26 -> -50000
C26: ՄԱՍ III. ԾԱՌԱՅՈՒԹՅՈՒՆՆԵՐ | J26: =+J27 -> -50000
B27: 85111120-1 | C27: հիվանդանոցների կողմից մատուցվող բժշկական ծառայություններ | F27: ՄԱ | G27: դրամ | J27: -50000
