Workbook
Name _tab10: #REF!
Name _tab11: #REF!
Name _tab12: #REF!
Name _tab13: #REF!
Name _tab14: #REF!
Name _tab15: #REF!
Name _tab16: #REF!
Name _tab17: #REF!
Name _tab18: #REF!
Name _tab19: #REF!
Name _tab20: #REF!
Name _tab21: #REF!
Name _tab22: #REF!
Name _tab23: #REF!
Name _tab24: #REF!
Name _tab5: #REF!
Name _tab6: #REF!
Name _tab7: #REF!
Name _tab8: #REF!
Name _tab9: #REF!
Name AgencyCode: #REF!
Name AgencyCode: #REF!
Name AgencyCode: #REF!
Name AgencyCode: #REF!
Name AgencyCode: #REF!
Name AgencyName: #REF!
Name AgencyName: #REF!
Name AgencyName: #REF!
Name åû: #REF!
Name åû: #REF!
Name davit: #REF!
Name davit: #REF!
Name fff: #REF!
Name Functional1: #REF!
Name Functional1: #REF!
Name Functional1: #REF!
Name ggg: #REF!
Name ggg: #REF!
Name h: #REF!
Name mas: #REF!
Name mas: #REF!
Name mass: #REF!
Name mass: #REF!
Name PANature: #REF!
Name PANature: #REF!
Name PANature: #REF!
Name par_count: #REF!,#REF!,#REF!,#REF!,#REF!,#REF!,#REF!,#REF!,#REF!,#REF!,#REF!,#REF!,#REF!,#REF!,#REF!
Name par_qual: #REF!,#REF!,#REF!,#REF!,#REF!
Name par_time: #REF!,#REF!,#REF!,#REF!
Name par2.12s: #REF!
Name par2.4s: #REF!,#REF!,#REF!,#REF!,#REF!,#REF!,#REF!,#REF!,#REF!,#REF!,#REF!,#REF!,#REF!,#REF!,#REF!,#REF!
Name par2.5s: #REF!,#REF!
Name par2.6s: #REF!,#REF!,#REF!,#REF!
Name par2.7s: #REF!,#REF!
Name par2.9s: #REF!,#REF!,#REF!,#REF!,#REF!,#REF!,#REF!,#REF!,#REF!,#REF!,#REF!,#REF!,#REF!,#REF!,#REF!,#REF!
Name par4.10s: #REF!,#REF!
Name par4.11d: #REF!,#REF!,#REF!,#REF!,#REF!
Name par4.12d: #REF!
Name par4.13s: #REF!
Name par4.14: #REF!,#REF!,#REF!,#REF!,#REF!,#REF!

Sheet 1
E1: Հավելված N 1
E2: ՀՀ կառավարության 2023 թվականի
E3: ______________ ի ___Ն որոշման
B5: «ՀԱՅԱUՏԱՆԻ ՀԱՆՐԱՊԵՏՈՒԹՅԱՆ 2023 ԹՎԱԿԱՆԻ ՊԵՏԱԿԱՆ ԲՅՈՒՋԵԻ ՄԱUԻՆ» OՐԵՆՔԻ N 1 ՀԱՎԵԼՎԱԾԻ N 2 ԱՂՅՈՒՍԱԿՈՒՄ ԿԱՏԱՐՎՈՂ ՎԵՐԱԲԱՇԽՈՒՄԸ, ԼՐԱՑՈՒՄԸ ԵՎ ՀԱՅԱՍՏԱՆԻ ՀԱՆՐԱՊԵՏՈՒԹՅԱՆ ԿԱՌԱՎԱՐՈՒԹՅԱՆ 2022 ԹՎԱԿԱՆԻ ԴԵԿՏԵՄԲԵՐԻ 29-Ի N 2111-Ն ՈՐՈՇՄԱՆ N 5 ՀԱՎԵԼՎԱԾԻ N 1 ԱՂՅՈՒՍԱԿՈՒՄ ԿԱՏԱՐՎՈՂ ՓՈՓՈԽՈՒԹՅՈՒՆՆԵՐԸ ԵՎ ԼՐԱՑՈՒՄԸ
E6: հազ. դրամ
B7: Ծրագրային դասիչը | D7: Բյուջետային հատկացումների գլխավոր կարգադրիչների, ծրագրերի և միջոցառումների անվանումները | E7: Ցուցանիշների փոփոխությունը (ավելացումները նշված են դրական նշանով, իսկ նվազեցումները՝ փակագծերում)
B8: Ծրագիր | C8: Միջոցառում | E8: Տարի
D9: ԸՆԴԱՄԵՆԸ | E9: =+E11+E38 -> 0
D10: այդ թվում
D11: ՀՀ էկոնոմիկայի նախարարություն | E11: =+E25+E12 -> 0
B12: 1165 | D12: Ծրագրի անվանումը` | E12: =E19 -> 200000
D13: Ներդրումների և արտահանման խթանման ծրագիր
D14: Ծրագրի նպատակը`
D15: Ներդրումների ներգրավման և արտահանման խթանում
D16: Վերջնական արդյունքի նկարագրությունը`
D17: Նախորդ տարվա համեմատ ներդրումների և արտահանման ծավալների աճ
C18: .
C19: 11013 | D19: Միջոցառման անվանումը` | E19: 200000
D20: <<ԷՔՍՊՈ 2025>> Օսակա, Կանսայ, Ճապոնիա համաշխարհային ցուցահանդեսին ՀՀ մասնակցության կազմակերպման աշխատանքներ
D21: Միջոցառման նկարագրությունը`
D22: Ճապոնիայում և հարավասիական տարածաշրջանում ՀՀ ճանաչելիության բարձրացում բիզնեսի և այլ գործունեոթյան տեսակների համար որպես գրավիչ երկրի դիրքավորում
D23: Միջոցառման տեսակը
D24: Ծառայությունների մատուցում
B25: 1190 | D25: Ծրագրի անվանումը` | E25: =+E32 -> -200000
D26: Զբոսաշրջության զարգացման ծրագիր
D27: Ծրագրի նպատակը`
D28: Հայաստանի և հայկական զբոսաշրջային արդյունքի մրցունակության և ճանաչելիության բարձրացում
D29: Վերջնական արդյունքի նկարագրությունը`
D30: Զբոսաշրջիկների թվաքանակի ավելացում
D31: Ծրագրի միջոցառումներ
C32: 12001 | D32: Միջոցառման անվանումը` | E32: -200000
D33: Համաշխարհային բանկի աջակցությամբ իրականացվող Տեղական տնտեսության և ենթակառուցվածքների զարգացման ծրագրի շրջանակներում ՀՀ տարբեր մարզերում զբոսաշրջության հետ կապված ենթակառուցվածքների բարելավմանն ուղղված միջոցառումներ
D34: Միջոցառման նկարագրությունը`
D35: Ընտրված մարզերում զբոսաշրջության հետ կապված ենթակառուցվածքների, այդ թվում` ճանապարհների, ավտոկայանատեղերի, ջրամատակարարման համակարգերի, լուսավորության վերանորոգում և նորովի կառուցում
D36: Միջոցառման տեսակը
D37: Տրանսֆերտների տրամադրում
B38: ՀՀ կառավարություն | E38: =+E39 -> 0
B39: 1139 | D39: Ծրագրի անվանումը` | E39: =+E46+E52 -> 0
D40: ՀՀ կառավարության պահուստային ֆոնդ
D41: Ծրագրի նպատակը`
D42: Պետական բյուջեում չկանխատեսված՝ ինչպես նաև բյուջետային երաշխիքների ապահովման ծախսերի ֆինանսավորման ապահովում
D43: Վերջնական արդյունքի նկարագրությունը`
D44: Պահուստային ֆոնդի կառավարման արդյունավետության և թափանցիկության ապահովում
D45: Ծրագրի միջոցառումներ
C46: 11001 | D46: Միջոցառման անվանումը` | E46: =+E19 -> 200000
D47: ՀՀ կառավարության պահուստային ֆոնդ
D48: Միջոցառման նկարագրությունը`
D49: ՀՀ պետական բյուջեում նախատեսված ելքերի լրացուցիչ ֆինանսավորման՝ պետական բյուջեում չկանխատեսված ելքերի՝ ինչպես նաև բյուջետային երաշխիքների ապահովման ելքերի ֆինանսավորման ապահովում
D50: Միջոցառման տեսակը
D51: Ծառայությունների մատուցում
C52: 11001 | D52: Միջոցառման անվանումը` | E52: =+E32 -> -200000
D53: ՀՀ կառավարության պահուստային ֆոնդ
D54: Միջոցառման նկարագրությունը`
D55: ՀՀ պետական բյուջեում նախատեսված ելքերի լրացուցիչ ֆինանսավորման՝ պետական բյուջեում չկանխատեսված ելքերի՝ ինչպես նաև բյուջետային երաշխիքների ապահովման ելքերի ֆինանսավորման ապահովում
D56: Միջոցառման տեսակը
D57: Ծառայությունների մատուցում

Sheet 2
A1: Հավելված N2
A2: ՀՀ կառավարության 2023 թվականի
A3: ______________ ի ___Ն որոշման
A5: ՀԱՅԱՍՏԱՆԻ ՀԱՆՐԱՊԵՏՈՒԹՅԱՆ ԿԱՌԱՎԱՐՈՒԹՅԱՆ 2022 ԹՎԱԿԱՆԻ ԴԵԿՏԵՄԲԵՐԻ 29-Ի N 2111-Ն ՈՐՈՇՄԱՆ N 3 ԵՎ N 4 ՀԱՎԵԼՎԱԾՆԵՐՈՒՄ ԿԱՏԱՐՎՈՂ ՓՈՓՈԽՈՒԹՅՈՒՆՆԵՐԸ ԵՎ ԼՐԱՑՈՒՄԸ
G7: հազ. դրամ
A8: Գործառական դասիչը | D8: Ծրագրային դասիչը | F8: Բյուջետային ծախսերի գործառական դասակարգման բաժինների, խմբերի և դասերի, բյուջետային հատկացումների գլխավոր կարգադրիչների, ծրագրերի, միջոցառումների և միջոցառումները կատարող պետական մարմինների անվանումները | G8: Ցուցանիշների փոփոխությունը (ավելացումները նշված են դրական նշանով, իսկ նվազեցումները՝ փակագծերում)
A9: Բաժին | B9: Խումբ | C9: Դաս | D9: Ծրագիր | E9: Միջոցառում | G9: Տարի
F10: ԸՆԴԱՄԵՆԸ ԾԱԽՍԵՐ | G10: =+G12+G46 -> 0
F11: այդ թվում`
F12: ՀՀ էկոնոմիկայի նախարարություն | G12: =+G14 -> 0
F13: այդ թվում`
A14: 04 | F14: ՏՆՏԵՍԱԿԱՆ ՀԱՐԱԲԵՐՈՒԹՅՈՒՆՆԵՐ | G14: =G16+G48 -> 0
F15: այդ թվում`
B16: 01 | F16: Ընդհանուր բնույթի տնտեսական, առևտրային և աշխատանքի գծով հարաբերություններ | G16: =+G18 -> 0
F17: այդ թվում`
C18: 01 | F18: Ընդհանուր բնույթի տնտեսական և առևտրային հարաբերություններ | G18: =+G20 -> 0
F19: այդ թվում`
F20: ՀՀ էկոնոմիկայի նախարարություն | G20: =+G22+G33 -> 0
F21: այդ թվում`
D22: 1165 | F22: Ներդրումների և արտահանման խթանման ծրագիր | G22: =G24 -> 200000
F23: այդ թվում`
E24: 11013 | F24: <<ԷՔՍՊՈ 2025>> Օսակա, Կանսայ, Ճապոնիա համաշխարհային ցուցահանդեսին ՀՀ մասնակցության կազմակերպման աշխատանքներ | G24: =+G26 -> 200000
F25: այդ թվում` ըստ կատարողների
F26: ՀՀ էկոնոմիկայի նախարարություն | G26: =+G28 -> 200000
F27: այդ թվում` բյուջետային ծախսերի տնտեսագիտական դասակարգման հոդվածներ
F28: ԸՆԴԱՄԵՆԸ ԾԱԽՍԵՐ | G28: =+G29 -> 200000
F29: ԸՆԹԱՑԻԿ ԾԱԽՍԵՐ | G29: =+G30 -> 200000
F30: ԴՐԱՄԱՇՆՈՐՀՆԵՐ | G30: =+G31 -> 200000
F31: Դրամաշնորհներ միջազգային կազմակերպություններին | G31: =+G32 -> 200000
F32: - Ընթացիկ դրամաշնորհներ միջազգային կազմակերպություններին | G32: 200000
D33: 1190 | F33: Զբոսաշրջության զարգացման ծրագիր | G33: =+G37 -> -200000
F34: այդ թվում`
E35: 12001 | F35: Համաշխարհային բանկի աջակցությամբ իրականացվող Տեղական տնտեսության և ենթակառուցվածքների զարգացման ծրագրի շրջանակներում ՀՀ տարբեր մարզերում զբոսաշրջության հետ կապված ենթակառուցվածքների բարելավմանն ուղղված միջոցառումներ | G35: =+G37 -> -200000
F36: այդ թվում` ըստ կատարողների
F37: ՀՀ էկոնոմիկայի նախարարություն | G37: =+G39 -> -200000
F38: այդ թվում` բյուջետային ծախսերի տնտեսագիտական դասակարգման հոդվածներ
F39: ԸՆԴԱՄԵՆԸ ԾԱԽՍԵՐ | G39: =+G41 -> -200000
F40: ՈՉ ՖԻՆԱՆՍԱԿԱՆ ԱԿՏԻՎՆԵՐԻ ԳԾՈՎ ԾԱԽՍԵՐ
F41: ՀԻՄՆԱԿԱՆ ՄԻՋՈՑՆԵՐ | G41: =+G42+G44 -> -200000
F42: ՇԵՆՔԵՐ ԵՎ ՇԻՆՈՒԹՅՈՒՆՆԵՐ | G42: =+G43 -> -194500
F43: - Շենքերի և շինությունների շինարարություն | G43: =+'3'!E23 -> -194500
F44: ԱՅԼ ՀԻՄՆԱԿԱՆ ՄԻՋՈՑՆԵՐ | G44: =+G45 -> -5500
F45: - Նախագծահետազոտական ծախսեր | G45: =+'3'!E25 -> -5500
F46: ՀՀ կառավարություն | G46: =+G48 -> 0
F47: այդ թվում`
A48: 11 | F48: Հիմնական բաժիններին չդասվող պահուստային ֆոնդեր | G48: =+G50 -> 0
F49: այդ թվում`
B50: 01 | F50: ՀՀ կառավարության և համայնքների պահուստային ֆոնդ | G50: =+G52 -> 0
F51: այդ թվում`
C52: 01 | F52: ՀՀ կառավարության պահուստային ֆոնդ | G52: =+G54 -> 0
F53: այդ թվում`
D54: 1139 | F54: ՀՀ կառավարության պահուստային ֆոնդ | G54: =+G56+G64 -> 0
F55: այդ թվում`
E56: 11001 | F56: ՀՀ կառավարության պահուստային ֆոնդ | G56: =+G58 -> 200000
F57: այդ թվում` ըստ կատարողների
F58: ՀՀ կառավարություն | G58: =+G60 -> 200000
F59: այդ թվում` բյուջետային ծախսերի տնտեսագիտական դասակարգման հոդվածներ
F60: ԸՆԴԱՄԵՆԸ ԾԱԽՍԵՐ | G60: =+G61 -> 200000
F61: ԸՆԹԱՑԻԿ ԾԱԽՍԵՐ | G61: =+G62 -> 200000
F62: ԱՅԼ ԾԱԽՍԵՐ | G62: =+G63 -> 200000
F63: Պահուստային միջոցներ | G63: =+'1'!E46 -> 200000
E64: 11001 | F64: ՀՀ կառավարության պահուստային ֆոնդ | G64: =+G66 -> -200000
F65: այդ թվում` ըստ կատարողների
F66: ՀՀ կառավարություն | G66: =+G68 -> -200000
F67: այդ թվում` բյուջետային ծախսերի տնտեսագիտական դասակարգման հոդվածներ
F68: ԸՆԴԱՄԵՆԸ ԾԱԽՍԵՐ | G68: =+G69 -> -200000
F69: ԸՆԹԱՑԻԿ ԾԱԽՍԵՐ | G69: =+G70 -> -200000
F70: ԱՅԼ ԾԱԽՍԵՐ | G70: =+G71 -> -200000
F71: Պահուստային միջոցներ | G71: =+'1'!E52 -> -200000

Sheet 3
G1: Հավելված N3
G2: ՀՀ կառավարության 2023 թվականի
G3: ______________ ի ___Ն որոշման
B5: «ՀԱՅԱUՏԱՆԻ ՀԱՆՐԱՊԵՏՈՒԹՅԱՆ 2023 ԹՎԱԿԱՆԻ ՊԵՏԱԿԱՆ ԲՅՈՒՋԵԻ ՄԱUԻՆ» OՐԵՆՔԻ N 1 ՀԱՎԵԼՎԱԾԻ N 4 ԱՂՅՈՒՍԱԿՈՒՄ ԿԱՏԱՐՎՈՂ ՎԵՐԱԲԱՇԽՈՒՄԸ ԵՎ ՀԱՅԱՍՏԱՆԻ ՀԱՆՐԱՊԵՏՈՒԹՅԱՆ ԿԱՌԱՎԱՐՈՒԹՅԱՆ 2022 ԹՎԱԿԱՆԻ ԴԵԿՏԵՄԲԵՐԻ 29-Ի N 2111-Ն ՈՐՈՇՄԱՆ N 5 ՀԱՎԵԼՎԱԾԻ N 3 ԱՂՅՈՒՍԱԿՈՒՄ ԿԱՏԱՐՎՈՂ ՓՈՓՈԽՈՒԹՅՈՒՆԸ
G6: հազ. դրամ
B7: Ծրագրային դասիչը | D7: Բյուջետային գլխավոր կարգադրիչների, ծրագրերի և միջոցառումների անվանումները | E7: Ցուցանիշների փոփոխությունը (նվազեցումները նշված են փակագծերում)
E8: Տարի
E9: Ընդամենը | F9: այդ թվում`
B10: Ծրագիր | C10: Միջոց առում | F10: Վարկային միջոցներ | G10: Համաֆինան սավորում
D11: ԸՆԴԱՄԵՆԸ | E11: =+E13 -> -200000 | F11: =+F13 -> 0 | G11: =+G13 -> -200000
D12: այդ թվում`
D13: ՀՀ ԷԿՈՆՈՄԻԿԱՅԻ ՆԱԽԱՐԱՐՈՒԹՅՈՒՆ այդ թվում` | E13: =+F13+G13 -> -200000 | F13: =+F14 -> 0 | G13: =+G14 -> -200000
B14: 1190 | D14: Զբոսաշրջության զարգացման ծրագիր | E14: =+F14+G14 -> -200000 | F14: =+F16 -> 0 | G14: =+G16 -> -200000
D15: այդ թվում`
C16: 12001 | D16: Համաշխարհային բանկի աջակցությամբ իրականացվող Տեղական տնտեսության և ենթակառուցվածքների զարգացման ծրագրի շրջանակներում ՀՀ տարբեր մարզերում զբոսաշրջության հետ կապված ենթակառուցվածքների բարելավմանն ուղղված միջոցառումներ | E16: =+F16+G16 -> -200000 | F16: =+F18 -> 0 | G16: =+G18 -> -200000
D17: այդ թվում` ըստ կատարողների
D18: ՀՀ էկոնոմիկայի նախարարություն | E18: =F18+G18 -> -200000 | F18: =+F20 -> 0 | G18: =+G20 -> -200000
D19: այդ թվում` բյուջետային ծախսերի տնտեսագիտական դասակարգման հոդվածներ
D20: ՈՉ ՖԻՆԱՆՍԱԿԱՆ ԱԿՏԻՎՆԵՐԻ ԳԾՈՎ ԾԱԽՍԵՐ | E20: =+E21 -> -200000 | F20: =+F21 -> 0 | G20: =+G21 -> -200000
D21: ՀԻՄՆԱԿԱՆ ՄԻՋՈՑՆԵՐ | E21: =+F21+G21 -> -200000 | F21: =+F22+F24 -> 0 | G21: =+G22+G24 -> -200000
D22: ՇԵՆՔԵՐ ԵՎ ՇԻՆՈՒԹՅՈՒՆՆԵՐ | E22: =+F22+G22 -> -194500 | F22: =+F23 -> 0 | G22: =+G23 -> -194500
D23: - Շենքերի և շինությունների շինարարություն | E23: =+F23+G23 -> -194500 | F23: 0 | G23: -194500
D24: ԱՅԼ ՀԻՄՆԱԿԱՆ ՄԻՋՈՑՆԵՐ | E24: =+F24+G24 -> -5500 | F24: =+F25 -> 0 | G24: =+G25 -> -5500
D25: - Նախագծահետազոտական ծախսեր | E25: =+F25+G25 -> -5500 | F25: 0 | G25: -5500

Sheet 4
D1: Հավելված N 4
C2: ՀՀ կառավարության 2023 թվականի
C3: ___________ ___-ի N _______ -Ն որոշման
A6: ՀԱՅԱՍՏԱՆԻ ՀԱՆՐԱՊԵՏՈՒԹՅԱՆ ԿԱՌԱՎԱՐՈՒԹՅԱՆ 2022 ԹՎԱԿԱՆԻ ԴԵԿՏԵՄԲԵՐԻ 29-Ի N 2111-Ն ՈՐՈՇՄԱՆ N 5 ՀԱՎԵԼՎԱԾԻ 7 ԱՂՅՈՒՍԱԿՈՒՄ ԿԱՏԱՐՎՈՂ ԼՐԱՑՈՒՄԸ
G7: հազ. դրամ
A8: Ծրագրային դասիչ | C8: Բյուջետային հատկացումների գլխավոր կարգադրիչների, ծրագրերի, միջոցառումների, ծախսային ուղղությունների անվանումները | F8: Միջոցառումները կատարող պետական մարմինների և դրամաշնորհ ստացող տնտեսվարող սուբյեկտների անվանումները | G8: Ցուցանիշների փոփոխությունները (ավելացումները նշված են դրական նշանով)
A9: Ծրագիր | B9: Միջոցառում | G9: Տարի
A10: 1 | B10: 2 | C10: 3 | F10: 4 | G10: 5
A11: Ընդամենը | G11: =+G12 -> 200000
A12: ՀՀ էկոնոմիկայի նախարարություն | G12: =+G13 -> 200000
A13: 1165 | B13: Ներդրումների և արտահանման խթանման ծրագիր | G13: =+G14 -> 200000
B14: 11013 | C14: <<ԷՔՍՊՈ 2025>> Օսակա, Կանսայ, Ճապոնիա համաշխարհային ցուցահանդեսին ՀՀ մասնակցության կազմակերպման աշխատանքներ | F14: ՀՀ էկոնոմիկայի նախարարություն | G14: =+G15 -> 200000
F15: MASH CORPORATION | G15: 200000

Sheet 5
D1: Հավելված N 5
B2: ՀՀ կառավարության 2023 թվականի
B3: ______________ ի ___Ն որոշման
B5: ՀԱՅԱՍՏԱՆԻ ՀԱՆՐԱՊԵՏՈՒԹՅԱՆ ԿԱՌԱՎԱՐՈՒԹՅԱՆ 2022 ԹՎԱԿԱՆԻ ԴԵԿՏԵՄԲԵՐԻ 29-Ի N 2111-Ն ՈՐՈՇՄԱՆ N 9 ՀԱՎԵԼՎԱԾԻ 9.10 ԱՂՅՈՒՍԱԿՈՒՄ ԵՎ N 9.1 ՀԱՎԵԼՎԱԾԻ 9.1.10 ԱՂՅՈՒՍԱԿՈՒՄ ԿԱՏԱՐՎՈՂ ՓՈՓՈԽՈՒԹՅՈՒՆՆԵՐԸ ԵՎ ԼՐԱՑՈՒՄՆԵՐԸ
D6: Աղյուսակ 9.10
B7: ՀՀ ԷԿՈՆՈՄԻԿԱՅԻ ՆԱԽԱՐԱՐՈՒԹՅՈՒՆ
B8: ՄԱՍ 2. ՊԵՏԱԿԱՆ ՄԱՐՄՆԻ ԳԾՈՎ ԱՐԴՅՈՒՆՔԱՅԻՆ (ԿԱՏԱՐՈՂԱԿԱՆ) ՑՈՒՑԱՆԻՇՆԵՐԸ
B12: Ծրագրի դասիչը | C12: Ծրագրի անվանումը
B13: 1165 | C13: Ներդրումների և արտահանման խթանման ծրագիր
B15: Ծրագրի միջոցառումները
B18: Ծրագրի դասիչը` | C18: 1165 | D18: Ցուցանիշների փոփոխությունները (ավելացումները նշված են դրական նշանով)
B19: Միջոցառման դասիչը` | C19: 11013 | D19: Տարի
B20: Միջոցառման անվանումը` | C20: <<ԷՔՍՊՈ 2025>> Օսակա, Կանսայ, Ճապոնիա համաշխարհային ցուցահանդեսին ՀՀ մասնակցության կազմակերպման աշխատանքներ
B21: Նկարագրությունը` | C21: Ճապոնիայում և հարավասիական տարածաշրջանում ՀՀ ճանաչելիության բարձրացում բիզնեսի և այլ գործունեոթյան տեսակների համար որպես գրավիչ երկրի դիրքավորում
B22: Միջոցառման տեսակը` | C22: Ծառայությունների մատուցում
B23: Միջոցառումն իրականացնողի անվանումը` | C23: Մասնագիտացված կազմակերպություններ
B24: Արդյունքի չափորոշիչներ
B25: <<ԷՔՍՊՈ 2025>> Օսակա, Կանսայ, Ճապոնիա համաշխարհային ցուցահանդեսի նախապատրաստական աշխատանքների կազմակերպում, քանակ | D25: 1
B26: Միջոցառման վրա կատարվող ծախսը (հազար դրամ) | D26: 200000
B29: Ծրագրի դասիչը | C29: Ծրագրի անվանումը
B30: 1190 | C30: Զբոսաշրջության զարգացման ծրագիր
B32: Ծրագրի միջոցառումները
B34: Ծրագրի դասիչը` | C34: 1190 | D34: Ցուցանիշների փոփոխությունը (նվազեցումները նշված են փակագծերում)
B35: Միջոցառման դասիչը` | C35: 12001 | D35: Տարի
B36: Միջոցառման անվանումը` | C36: Համաշխարհային բանկի աջակցությամբ իրականացվող Տեղական տնտեսության և ենթակառուցվածքների զարգացման ծրագրի շրջանակներում ՀՀ տարբեր մարզերում զբոսաշրջության հետ կապված ենթակառուցվածքների բարելավմանն ուղղված միջոցառումներ
B37: Նկարագրությունը` | C37: Ընտրված մարզերում զբոսաշրջության հետ կապված ենթակառուցվածքների, այդ թվում` ճանապարհների, ավտոկայանատեղերի, ջրամատակարարման համակարգերի, լուսավորության վերանորոգում և նորովի կառուցում
B38: Միջոցառման տեսակը` | C38: Տրանսֆերտների տրամադրում
B39: Միջոցառումն իրականացնողի անվանումը | C39: Մասնագիտացված միավոր
B40: Արդյունքի չափորոշիչներ
B41: Միջոցառման վրա կատարված ծախսը (հազար դրամ) | D41: =+'3'!E16 -> -200000
B44: ՀԱՅԱՍՏԱՆԻ ՀԱՆՐԱՊԵՏՈՒԹՅԱՆ ԿԱՌԱՎԱՐՈՒԹՅԱՆ 2022 ԹՎԱԿԱՆԻ ԴԵԿՏԵՄԲԵՐԻ 29-Ի N 2111-Ն ՈՐՈՇՄԱՆ N 9 ՀԱՎԵԼՎԱԾԻ N 9.47 և N 9.1 ՀԱՎԵԼՎԱԾԻ N 9.1.58 ԱՂՅՈՒՍԱԿՆԵՐՈՒՄ ԿԱՏԱՐՎՈՂ ՓՈՓՈԽՈՒԹՅՈՒՆՆԵՐԸ
A47: ՀՀ կառավարություն
A49: ՄԱՍ 1. 2. ՊԵՏԱԿԱՆ ՄԱՐՄՆԻ ԳԾՈՎ ԱՐԴՅՈՒՆՔԱՅԻՆ (ԿԱՏԱՐՈՂԱԿԱՆ) ՑՈՒՑԱՆԻՇՆԵՐԸ
B52: Ծրագրի դասիչը՝ | C52: 1139 | D52: Ցուցանիշների փոփոխությունը (ավելացումները նշված են դրական նշանով)
B53: Միջոցառման դասիչը՝ | C53: 11001 | D53: Տարի
B54: Միջոցառման անվանումը՝ | C54: ՀՀ կառավարության պահուստային ֆոնդ
B55: Նկարագրությունը՝ | C55: ՀՀ պետական բյուջեում նախատեսված ելքերի լրացուցիչ ֆինանսավորման՝ պետական բյուջեում չկանխատեսված ելքերի, ինչպես նաև բյուջետային երաշխիքների ապահովման ելքերի ֆինանսավորման ապահովում
B56: Միջոցառման տեսակը՝ | C56: Ծառայությունների մատուցում
B57: Միջոցառումն իրականացնողի անվանումը | C57: ՀՀ կառավարություն
C58: Արդյունքի չափորոշիչներ
B59: Միջոցառման վրա կատարվող ծախսը (հազար դրամ) | D59: =+'1'!E46 -> 200000
B62: Ծրագրի դասիչը՝ | C62: 1139 | D62: Ցուցանիշների փոփոխությունը (նվազեցումները նշված են փակագծերում)
B63: Միջոցառման դասիչը՝ | C63: 11001 | D63: Տարի
B64: Միջոցառման անվանումը՝ | C64: ՀՀ կառավարության պահուստային ֆոնդ
B65: Նկարագրությունը՝ | C65: ՀՀ պետական բյուջեում նախատեսված ելքերի լրացուցիչ ֆինանսավորման՝ պետական բյուջեում չկանխատեսված ելքերի, ինչպես նաև բյուջետային երաշխիքների ապահովման ելքերի ֆինանսավորման ապահովում
B66: Միջոցառման տեսակը՝ | C66: Ծառայությունների մատուցում
B67: Միջոցառումն իրականացնողի անվանումը | C67: ՀՀ կառավարություն
C68: Արդյունքի չափորոշիչներ
B69: Միջոցառման վրա կատարվող ծախսը (հազար դրամ) | D69: =+'1'!E52 -> -200000

Sheet 15
B1: Հավելված N10
B2: ՀՀ կառավարության 2022 թվականի
B3: ______________ ի ___Ն որոշման
B5: ՀԱՅԱՍՏԱՆԻ ՀԱՆՐԱՊԵՏՈՒԹՅԱՆ ԿԱՌԱՎԱՐՈՒԹՅԱՆ ՊԱՀՈՒՍՏԱՅԻՆ ՖՈՆԴԻՑ ԿԱՏԱՐՎՈՂ ՀԱՏԿԱՑՈՒՄԸ
H7: հազ. դրամ
B8: Գործառական դասիչը | E8: Ծրագրային դասիչը | G8: Բյուջետային ծախսերի գործառական դասակարգման բաժինների, խմբերի և դասերի, բյուջետային հատկացումների գլխավոր կարգադրիչների, ծրագրերի, միջոցառումների և միջոցառումները կատարող պետական մարմինների անվանումները | H8: Ցուցանիշների փոփոխությունը (ավելացումները նշված են դրական նշանով, իսկ նվազեցումները` փակագծերում)
B9: Բաժին | C9: Խումբ | D9: Դաս | E9: Ծրագիր | F9: Միջոցառում | H9: Ինն ամիս | I9: Տարի
G10: ԸՆԴԱՄԵՆԸ ԾԱԽՍԵՐ | H10: =+H12+H35 -> 0 | I10: =+I12+I35 -> #REF!
G11: այդ թվում`
G12: ՀՀ ՏԱՐԱԾՔԱՅԻՆ ԿԱՌԱՎԱՐՄԱՆ ԵՎ ԵՆԹԱԿԱՌՈՒՑՎԱԾՔՆԵՐԻ ՆԱԽԱՐԱՐՈՒԹՅՈՒՆ | H12: =+H14 -> 0 | I12: =+I14 -> #REF!
G13: այդ թվում`
B14: 04 | G14: ՏՆՏԵՍԱԿԱՆ ՀԱՐԱԲԵՐՈՒԹՅՈՒՆՆԵՐ | H14: 0 | I14: =+I16 -> #REF!
G15: այդ թվում`
C16: 05 | G16: Տրանսպորտ | H16: 0 | I16: =+I18 -> #REF!
G17: այդ թվում`
D18: 01 | G18: Ճանապարհային տրանսպորտ | H18: =+H20 -> 0 | I18: =+I20 -> #REF!
G19: այդ թվում`
G20: ՀՀ ՏԱՐԱԾՔԱՅԻՆ ԿԱՌԱՎԱՐՄԱՆ ԵՎ ԵՆԹԱԿԱՌՈՒՑՎԱԾՔՆԵՐԻ ՆԱԽԱՐԱՐՈՒԹՅՈՒՆ | H20: =+H22 -> 0 | I20: =+I22 -> #REF!
G21: այդ թվում`
E22: 1049 | G22: Ճանապարհային ցանցի բարելավում | H22: 0 | I22: =+I24 -> #REF!
G23: այդ թվում`
F24: 21001 | G24: ='[1]1'!C13 -> Պետական նշանակության ավտոճանապարհների հիմնանորոգում | H24: =+H26 -> 0 | I24: =+I26 -> #REF!
G25: այդ թվում` ըստ կատարողների
G26: ՀՀ տարածքային կառավարման և ենթակառուցվածքների նախարարություն | H26: 0 | I26: =+I28 -> #REF!
G27: այդ թվում` բյուջետային ծախսերի տնտեսագիտական դասակարգման հոդվածների
G28: ԸՆԴԱՄԵՆԸ ԾԱԽՍԵՐ | H28: 0 | I28: =+I29 -> #REF!
G29: ՈՉ ՖԻՆԱՆՍԱԿԱՆ ԱԿՏԻՎՆԵՐԻ ԳԾՈՎ ԾԱԽՍԵՐ | H29: 0 | I29: =+I30 -> #REF!
G30: ՀԻՄՆԱԿԱՆ ՄԻՋՈՑՆԵՐ | H30: 0 | I30: =+I31 -> #REF!
G31: ՇԵՆՔԵՐ ԵՎ ՇԻՆՈՒԹՅՈՒՆՆԵՐ | H31: 0 | I31: =+I32 -> #REF!
G32: - Շենքերի և շինությունների կապիտալ վերանորոգում | H32: 0 | I32: =-I52 -> #REF!
G33: ՀՀ կառավարություն | H33: =+H35 -> 0 | I33: =+I35 -> #REF!
G34: այդ թվում`
B35: 11 | G35: ՀԻՄՆԱԿԱՆ ԲԱԺԻՆՆԵՐԻՆ ՉԴԱՍՎՈՂ ՊԱՀՈՒՍՏԱՅԻՆ ՖՈՆԴԵՐ | H35: =+H37 -> 0 | I35: =+I37 -> #REF!
G36: այդ թվում`
C37: 01 | G37: ՀՀ կառավարության և համայնքների պահուստային ֆոնդ | H37: =+H39 -> 0 | I37: =+I39 -> #REF!
G38: այդ թվում`
D39: 01 | G39: ՀՀ կառավարության պահուստային ֆոնդ | H39: =+H43 -> 0 | I39: =+I43 -> #REF!
G40: այդ թվում`
G41: ՀՀ կառավարություն | H41: =+H43 -> 0 | I41: =+I43 -> #REF!
G42: այդ թվում`
E43: 1139 | G43: ՀՀ կառավարության պահուստային ֆոնդ | H43: =+H45 -> 0 | I43: =+I45 -> #REF!
G44: այդ թվում`
F45: 11001 | G45: ՀՀ կառավարության պահուստային ֆոնդ | H45: =+H47 -> 0 | I45: =+I47 -> #REF!
G46: այդ թվում` ըստ կատարողների
G47: ՀՀ կառավարություն | H47: =+H49 -> 0 | I47: =+I49 -> #REF!
G48: այդ թվում` բյուջետային ծախսերի տնտեսագիտական դասակարգման հոդվածներ
G49: ԸՆԴԱՄԵՆԸ ԾԱԽՍԵՐ | H49: =+H50 -> 0 | I49: =+I50 -> #REF!
G50: ԸՆԹԱՑԻԿ ԾԱԽՍԵՐ | H50: =+H51 -> 0 | I50: =+I51 -> #REF!
G51: ԱՅԼ ԾԱԽՍԵՐ | H51: =+H52 -> 0 | I51: =+I52 -> #REF!
G52: Պահուստային միջոցներ | H52: 0 | I52: =+'2'!#REF! -> #REF!
