Workbook
Name AgencyCode: #REF!
Name AgencyCode: #REF!
Name AgencyCode: #REF!
Name AgencyName: #REF!
Name AgencyName: #REF!
Name AgencyName: #REF!
Name davit: #REF!
Name davit: #REF!
Name Functional1: #REF!
Name Functional1: #REF!
Name Functional1: #REF!
Name ggg: #REF!
Name ggg: #REF!
Name PANature: #REF!
Name PANature: #REF!
Name PANature: #REF!
Name PAType: #REF!
Name PAType: #REF!
Name PAType: #REF!
Name Performance2: #REF!
Name Performance2: #REF!
Name Performance2: #REF!
Name PerformanceType: #REF!
Name PerformanceType: #REF!
Name PerformanceType: #REF!
Name Հավելված: #REF!
Name Հավելված: #REF!
Name Մաս: #REF!
Name Մաս: #REF!
Name շախմատիստ: #REF!
Name շախմատիստ: #REF!

Sheet Havelvats 1
D1: Հավելված N 1
D2: ՀՀ կառավարության 2023 թվականի
D3: ______________ ի ___Ն որոշման
A5: «ՀԱՅԱUՏԱՆԻ ՀԱՆՐԱՊԵՏՈՒԹՅԱՆ 2023 ԹՎԱԿԱՆԻ ՊԵՏԱԿԱՆ ԲՅՈՒՋԵԻ ՄԱUԻՆ» ՀԱՅԱUՏԱՆԻ ՀԱՆՐԱՊԵՏՈՒԹՅԱՆ OՐԵՆՔԻ N 1 ՀԱՎԵԼՎԱԾԻ N 2 ԱՂՅՈՒՍԱԿՈՒՄ ԿԱՏԱՐՎՈՂ ՎԵՐԱԲԱՇԽՈՒՄԸ ԵՎ ՀԱՅԱՍՏԱՆԻ ՀԱՆՐԱՊԵՏՈՒԹՅԱՆ ԿԱՌԱՎԱՐՈՒԹՅԱՆ 2022 ԹՎԱԿԱՆԻ ԴԵԿՏԵՄԲԵՐԻ 29-Ի N 2111-Ն ՈՐՈՇՄԱՆ N 5 ՀԱՎԵԼՎԱԾԻ N 1 ԱՂՅՈՒՍԱԿՈՒՄ ԿԱՏԱՐՎՈՂ ՓՈՓՈԽՈՒԹՅՈՒՆՆԵՐԸ
D6: հազար դրամներով
A7: Ծրագրային դասիչը | C7: Բյուջետային հատկացումների գլխավոր կարգադրիչների, ծրագրերի և միջոցառումների անվանումները | D7: Ցուցանիշների փոփոխությունը (ավելացումները նշված են դրական նշանով, իսկ նվազեցումները՝ փակագծերում)
A8: Ծրագիր | B8: Միջոցառում | D8: Տարի
C9: ԸՆԴԱՄԵՆԸ | D9: =D11 -> -0.001
C10: այդ թվում
C11: ՀՀ ԿՐԹՈՒԹՅԱՆ, ԳԻՏՈՒԹՅԱՆ, ՄՇԱԿՈՒՅԹԻ ԵՎ ՍՊՈՐՏԻ ՆԱԽԱՐԱՐՈՒԹՅՈՒՆ | D11: =D12+D73+D85 -> -0.001
A12: 1041 | C12: Ծրագրի անվանումը` | D12: =D19+D25+D31+D37+D43+D49+D55+D61+D67 -> 28497.599
C13: Մեծ նվաճումների սպորտ
C14: Ծրագրի նպատակը`
C15: Նպաստել Հայաստանում մեծ սպորտի շարունակական զարգացմանը և միջազգային հարթակներում ՀՀ դիրքի բարելավմանը
C16: Վերջնական արդյունքի նկարագրությունը`
C17: ՀՀ առաջնությունների ընդլայնում, միջազգային սպորտային միջոցառումներին մասնակցության և նվաճումների ապահովում
C18: Ծրագրի միջոցառումներ
B19: 12003 | C19: Միջոցառման անվանումը` | D19: ='Havelvas 2'!G24 -> 112426.1
C20: Օլիմպիական խաղերում, աշխարհի և Եվրոպայի առաջնություններում բարձր արդյունքների հասած ՀՀ հավաքական թիմերի մարզիկներին և նրանց մարզիչներին անվանական թոշակի հատկացում
C21: Միջոցառման նկարագրությունը`
C22: Օլիմպիական խաղերում, աշխարհի և Եվրոպայի առաջնություններում բարձր արդյունքների հասած ՀՀ հավաքական թիմերի մարզիկներին և նրանց մարզիչներին անվանական թոշակի հատկացում
C23: Միջոցառման տեսակը
C24: Տրանսֆերտների տրամադրում
B25: 11003 | C25: Միջոցառման անվանումը` | D25: ='Havelvas 2'!G33 -> -15218.38
C26: Ադապտիվ սպորտին առնչվող ծառայություններ
C27: Միջոցառման նկարագրությունը`
C28: Հաշմանդամային մարզական ՀԿ-ի կողմից միջազգային մրցաշարերին մարզիկների նախապատրաստում և մասնակցության ապահովում և ՀՀ առաջնությունների և այլ մարզական միջոցառումների անցկացում
C29: Միջոցառման տեսակը
C30: Ծառայությունների մատուցում
B31: 11005 | C31: Միջոցառման անվանումը` | D31: ='Havelvas 2'!G42 -> -3133.8
C32: Աջակցություն հայկական կոխ ըմբշամարտ մարզաձևի զարգացմանը
C33: Միջոցառման նկարագրությունը`
C34: Աջակցություն հայկական կոխ ըմբշամարտ մարզաձևի զարգացմանը
C35: Միջոցառման տեսակը
C36: Ծառայությունների մատուցում
B37: 11012 | C37: Միջոցառման անվանումը` | D37: ='Havelvas 2'!G51 -> -1961.5
C38: Եվրոպայի երիտասարդության օլիմպիական փառատոներին մասնակցության ապահովում
C39: Միջոցառման նկարագրությունը`
C40: Եվրոպայի երիտասարդության օլիմպիական փառատոներին մասնակցության ապահովում
C41: Միջոցառման տեսակը
C42: Ծառայությունների մատուցում
B43: 11021 | C43: Միջոցառման անվանումը` | D43: ='Havelvas 2'!G60 -> -21671.3
C44: ՀՀ հանրակրթական, միջին մասնագիտական և բարձրագույն ուսումնական հաստատություններին, ինչպես նաև մանկապատանեկան մարզադպրոցներին, մարզաձևերի ազգային ֆեդերացիաներին և այլ մարզական հասարակական կազմակերպություններին գույքով ապահովում
C45: Միջոցառման նկարագրությունը`
C46: Ֆիզիկական կուլտուրայի և սպորտի զարգացման նպատակով հանրակրթական, միջին մասնագիտական և բարձրագույն ուսումնական հաստատություններին, ինչպես նաև մարզական հասարակական կազմակերպություններին մարզական և այլ անհրաժեշտ գույքի տրամադրում
C47: Միջոցառման տեսակը
C48: Ծառայությունների մատուցում
B49: 11022 | C49: Միջոցառման անվանումը` | D49: ='Havelvas 2'!G69 -> -8929.491
C50: Ֆրանկոֆոնիայի մարզամշակութային խաղերին Հայաստանի մարզական պատվիրակության մասնակցության ապահովում
C51: Միջոցառման նկարագրությունը`
C52: Ֆրանկոֆոնիայի մարզամշակութային խաղերին Հայաստանի մարզական պատվիրակության մասնակցության ապահովում
C53: Միջոցառման տեսակը
C54: Ծառայությունների մատուցում
B55: 11036 | C55: Միջոցառման անվանումը` | D55: ='Havelvas 2'!G84 -> -4251.13
C56: ԱՊՀ երկրների երկրորդ մարզական խաղերին ՀՀ մարզական պատվիրակության մասնակցության ապահովում
C57: Միջոցառման նկարագրությունը`
C58: ԱՊՀ երկրների երկրորդ մարզական խաղերին ՀՀ մարզական պատվիրակության մասնակցության ապահովում
C59: Միջոցառման տեսակը
C60: Ծառայությունների մատուցում
B61: 11037 | C61: Միջոցառման անվանումը` | D61: ='Havelvas 2'!G97 -> -26982.1
C62: Երևանում կայանալիք ծանրամարտի մեծահասկների Եվրոպայի առաջնության անցկացում
C63: Միջոցառման նկարագրությունը`
C64: 2023 թվականին Երևանում կայանալիք ծանրամարտի մեծահասկների Եվրոպայի առաջնության անցկացում
C65: Միջոցառման տեսակը
C66: Ծառայությունների մատուցում
B67: 12002 | C67: Միջոցառման անվանումը` | D67: ='Havelvas 2'!G109 -> -1780.8
C68: ՀՀ հավաքական թիմերի գլխավոր և ավագ մարզիչների վարձատրություն և աշխարհի չեմպիոններին, օլիմպիական խաղերի և շախմատի համաշխարհային օլիմպիադայի մրցանակակիրներին պատվովճարի հատկացում
C69: Միջոցառման նկարագրությունը`
C70: ՀՀ հավաքական թիմերի գլխավոր և ավագ մարզիչների վարձատրություն և աշխարհի չեմպիոններին, օլիմպիական խաղերի և շախմատի համաշխարհային օլիմպիադայի մրցանակակիրներին պատվովճարի հատկացում
C71: Միջոցառման տեսակը
C72: Տրանսֆերտների տրամադրում
A73: 1148 | C73: Ծրագրի անվանումը` | D73: =D79 -> -8103.4
C74: Արտադպրոցական դաստիարակության ծրագիր
C75: Ծրագրի նպատակը`
C76: Նպաստել հանրակրթական ուսուցման համակարգում ընդգրկված երեխաների ֆիզիկական, հոգևոր և գեղագիտական զարգացմանը, բնապահպանական և կիրառական գիտելիքների ձեռքբերմանը
C77: Վերջնական արդյունքի նկարագրությունը`
C78: Ստեղծել պայմաններ սովորողների ազատ ժամանացի կազմակերպան միջոցով նրանց հետաքրքրությունների բացահայտման, ձևավորման և զարգացման համար
B79: 11007 | C79: Միջոցառման անվանումը` | D79: ='Havelvas 2'!G157 -> -8103.4
C80: Մարզիչ-մանկավարժների վերապատրաստման կազմակերպում
C81: Միջոցառման նկարագրությունը`
C82: Մանկապատանեկան մարզադպրոցներում աշխատող մարզիչ-մանկավարժների վերապատրաստման կազմակերպում
C83: Միջոցառման տեսակը
C84: Ծառայությունների մատուցում
A85: 1163 | C85: Ծրագրի անվանումը` | D85: =D91+D97+D103 -> -20394.2
C86: Մասսայական սպորտ
C87: Ծրագրի նպատակը`
C88: Բնակչության շրջանում առողջ ապրելակերպի արմատավորում, անհատի բազմակողմանի ու ներդաշնակ զարգացման գործում ֆիզիկական կուլտուրայի և սպորտի դերի բարձրացում
C89: Վերջնական արդյունքի նկարագրությունը`
C90: Սպորտի նկատմամբ հետաքրքրվածության և մասնակցության ընդլայնում
B91: 11018 | C91: Միջոցառման անվանումը` | D91: ='Havelvas 2'!G120 -> -4040.2
C92: «Հայաստանի Հանրապետության Վարչապետի գավաթ» սիրողական խճուղային հեծանվավազքի մրցաշարի անցկացում
C93: Միջոցառման նկարագրությունը`
C94: «Հայաստանի Հանրապետության Վարչապետի գավաթ» սիրողական խճուղային հեծանվավազքի մրցաշարի կազմակերպում և անցկացում
C95: Միջոցառման տեսակը
C96: Ծառայությունների մատուցում
B97: 11019 | C97: Միջոցառման անվանումը` | D97: ='Havelvas 2'!G129 -> -2034
C98: «Հայաստանի Հանրապետության Վարչապետի գավաթ» սիրողական խճուղավազքի մրցաշարի անցկացում
C99: Միջոցառման նկարագրությունը`
C100: «Հայաստանի Հանրապետության Վարչապետի գավաթ» սիրողական խճուղավազքի մրցաշարի կազմակերպում և անցկացում
C101: Միջոցառման տեսակը
...

Sheet Havelvas 2
G1: Հավելված N 2
G2: ՀՀ կառավարության 2023 թվականի
G3: ______________ ի ___Ն որոշման
A5: ՀԱՅԱՍՏԱՆԻ ՀԱՆՐԱՊԵՏՈՒԹՅԱՆ ԿԱՌԱՎԱՐՈՒԹՅԱՆ 2022 ԹՎԱԿԱՆԻ ԴԵԿՏԵՄԲԵՐԻ 29-Ի N2111-Ն ՈՐՈՇՄԱՆ N 3 ԵՎ N 4 ՀԱՎԵԼՎԱԾՆԵՐՈՒՄ ԿԱՏԱՐՎՈՂ ՓՈՓՈԽՈՒԹՅՈՒՆՆԵՐԸ
G8: հազար դրամ
A9: Գործառական դասիչը | D9: Ծրագրային դասիչը | F9: Բյուջետային հատկացումների գլխավոր կարգադրիչների, ծրագրերի, միջոցառումների և միջոցառումները կատարող պետական մարմինների անվանումները | G9: Ցուցանիշների փոփոխությունը (ավելացումները նշված են դրական նշանով, իսկ նվազեցումները՝ փակագծերում)
A10: Բաժին | B10: Խումբ | C10: Դաս | D10: Ծրագիր | E10: Միջոցառում | G10: Տարի
A11: 08 | B11: 01 | C11: 01 | F11: ԸՆԴԱՄԵՆԸ | G11: =G13 -> -0.001
F12: այդ թվում
F13: ՀՀ ԿՐԹՈՒԹՅԱՆ, ԳԻՏՈՒԹՅԱՆ, ՄՇԱԿՈՒՅԹԻ ԵՎ ՍՊՈՐՏԻ ՆԱԽԱՐԱՐՈՒԹՅՈՒՆ | G13: =G14+G147 -> -0.001
F14: ՀԱՆԳԻՍՏ, ՄՇԱԿՈՒՅԹ ԵՎ ԿՐՈՆ | G14: =G16 -> 8103.399
F15: այդ թվում`
F16: Հանգստի և սպորտի ծառայություններ | G16: =G18 -> 8103.399
F17: այդ թվում`
F18: Հանգստի և սպորտի ծառայություններ | G18: =G22+G118 -> 8103.399
F19: այդ թվում`
F20: ՀՀ կրթության, գիտության, մշակույթի և սպորտի նախարարություն | G20: =G22+G118 -> 8103.399
F21: այդ թվում`
D22: 1041 | E22: Մեծ նվաճումների սպորտ | G22: =G24+G33+G42+G51+G60+G69+G84+G97+G109 -> 28497.599
F23: այդ թվում`
E24: 12003 | F24: Օլիմպիական խաղերում, աշխարհի և Եվրոպայի առաջնություններում բարձր արդյունքների հասած ՀՀ հավաքական թիմերի մարզիկներին և նրանց մարզիչներին անվանական թոշակի հատկացում | G24: =G26 -> 112426.1
F25: այդ թվում` ըստ կատարողների
F26: ՀՀ կրթության, գիտության, մշակույթի և սպորտի նախարարություն | G26: =G28 -> 112426.1
F27: այդ թվում՝ բյուջետային ծախսերի տնտեսագիտական դասակարգման հոդվածներ
F28: ԸՆԴԱՄԵՆԸ ԾԱԽՍԵՐ | G28: =G29 -> 112426.1
F29: ԸՆԹԱՑԻԿ ԾԱԽՍԵՐ | G29: =G30 -> 112426.1
F30: ՍՈՑԻԱԼԱԿԱՆ ՆՊԱՍՏՆԵՐ ԵՎ ԿԵՆՍԱԹՈՇԱԿՆԵՐ | G30: =G31 -> 112426.1
F31: Սոցիալական օգնության դրամական արտահայտությամբ նպաստներ (բյուջեից) | G31: =G32 -> 112426.1
F32: - Կրթական, մշակութային և սպորտային նպաստներ բյուջեից | G32: 112426.1
E33: 11003 | F33: Ադապտիվ սպորտին առնչվող ծառայություններ | G33: =G35 -> -15218.38
F34: այդ թվում` ըստ կատարողների
F35: ՀՀ կրթության, գիտության, մշակույթի և սպորտի նախարարություն | G35: =G37 -> -15218.38
F36: այդ թվում՝ բյուջետային ծախսերի տնտեսագիտական դասակարգման հոդվածներ
F37: ԸՆԴԱՄԵՆԸ ԾԱԽՍԵՐ | G37: =G38 -> -15218.38
F38: ԸՆԹԱՑԻԿ ԾԱԽՍԵՐ | G38: =G39 -> -15218.38
F39: ԴՐԱՄԱՇՆՈՐՀՆԵՐ | G39: =G40 -> -15218.38
F40: Ընթացիկ դրամաշնորհներ պետական հատվածի այլ մակարդակներին | G40: =G41 -> -15218.38
F41: - Այլ ընթացիկ դրամաշնորհներ | G41: -15218.38
E42: 11005 | F42: Աջակցություն հայկական կոխ ըմբշամարտ մարզաձևի զարգացմանը | G42: =G44 -> -3133.8
F43: այդ թվում` ըստ կատարողների
F44: ՀՀ կրթության, գիտության, մշակույթի և սպորտի նախարարություն | G44: =G46 -> -3133.8
F45: այդ թվում՝ բյուջետային ծախսերի տնտեսագիտական դասակարգման հոդվածներ
F46: ԸՆԴԱՄԵՆԸ ԾԱԽՍԵՐ | G46: =G47 -> -3133.8
F47: ԸՆԹԱՑԻԿ ԾԱԽՍԵՐ | G47: =G48 -> -3133.8
F48: ԴՐԱՄԱՇՆՈՐՀՆԵՐ | G48: =G49 -> -3133.8
F49: Ընթացիկ դրամաշնորհներ պետական հատվածի այլ մակարդակներին | G49: =G50 -> -3133.8
F50: - Այլ ընթացիկ դրամաշնորհներ | G50: -3133.8
E51: 11012 | F51: Եվրոպայի երիտասարդության օլիմպիական փառատոներին մասնակցության ապահովում | G51: =G53 -> -1961.5
F52: այդ թվում` ըստ կատարողների
F53: ՀՀ կրթության, գիտության, մշակույթի և սպորտի նախարարություն | G53: =G55 -> -1961.5
F54: այդ թվում՝ բյուջետային ծախսերի տնտեսագիտական դասակարգման հոդվածներ
F55: ԸՆԴԱՄԵՆԸ ԾԱԽՍԵՐ | G55: =G56 -> -1961.5
F56: ԸՆԹԱՑԻԿ ԾԱԽՍԵՐ | G56: =G57 -> -1961.5
F57: ԴՐԱՄԱՇՆՈՐՀՆԵՐ | G57: =G58 -> -1961.5
F58: Ընթացիկ դրամաշնորհներ պետական հատվածի այլ մակարդակներին | G58: =G59 -> -1961.5
F59: - Այլ ընթացիկ դրամաշնորհներ | G59: -1961.5
E60: 11021 | F60: ՀՀ հանրակրթական, միջին մասնագիտական և բարձրագույն ուսումնական հաստատություններին, ինչպես նաև մանկապատանեկան մարզադպրոցներին, մարզաձևերի ազգային ֆեդերացիաներին և այլ մարզական հասարակական կազմակերպություններին գույքով ապահովում | G60: =G62 -> -21671.3
F61: այդ թվում` ըստ կատարողների
F62: ՀՀ կրթության, գիտության, մշակույթի և սպորտի նախարարություն | G62: =G64 -> -21671.3
F63: այդ թվում՝ բյուջետային ծախսերի տնտեսագիտական դասակարգման հոդվածներ
F64: ԸՆԴԱՄԵՆԸ ԾԱԽՍԵՐ | G64: =G66 -> -21671.3
F65: ԸՆԹԱՑԻԿ ԾԱԽՍԵՐ | G65: =G66 -> -21671.3
F66: ԾԱՌԱՅՈՒԹՅՈՒՆՆԵՐԻ ԵՎ ԱՊՐԱՆՔՆԵՐԻ ՁԵՌՔԲԵՐՈՒՄ | G66: =G67 -> -21671.3
F67: Նյութեր (Ապրանքներ) | G67: =G68 -> -21671.3
F68: - Հատուկ նպատակային այլ նյութեր | G68: -21671.3
E69: 11022 | F69: Ֆրանկոֆոնիայի մարզամշակութային խաղերին Հայաստանի մարզական պատվիրակության մասնակցության ապահովում | G69: =G71 -> -8929.491
F70: այդ թվում` ըստ կատարողների
F71: ՀՀ կրթության, գիտության, մշակույթի և սպորտի նախարարություն | G71: =G73 -> -8929.491
F72: այդ թվում՝ բյուջետային ծախսերի տնտեսագիտական դասակարգման հոդվածներ
F73: ԸՆԴԱՄԵՆԸ ԾԱԽՍԵՐ | G73: =G74 -> -8929.491
F74: ԸՆԹԱՑԻԿ ԾԱԽՍԵՐ | G74: =G75+G81 -> -8929.491
F75: ԾԱՌԱՅՈՒԹՅՈՒՆՆԵՐԻ ԵՎ ԱՊՐԱՆՔՆԵՐԻ ՁԵՌՔԲԵՐՈՒՄ | G75: =G76+G78 -> -46.491
F76: Շարունակական ծախսեր | G76: =G77 -> -3.1
F77: - Ապահովագրական ծախսեր | G77: -3.1
F78: Նյութեր (Ապրանքներ) | G78: =G79+G80 -> -43.391
F79: - Գրասենյակային նյութեր և հագուստ | G79: -41.345
F80: - Հատուկ նպատակային այլ նյութեր | G80: -2.046
F81: ԴՐԱՄԱՇՆՈՐՀՆԵՐ | G81: =G82 -> -8883
F82: Ընթացիկ դրամաշնորհներ պետական հատվածի այլ մակարդակներին | G82: =G83 -> -8883
F83: - Այլ ընթացիկ դրամաշնորհներ | G83: -8883
E84: 11036 | F84: ԱՊՀ երկրների երկրորդ մարզական խաղերին ՀՀ մարզական պատվիրակության մասնակցության ապահովում | G84: =G86 -> -4251.13
F85: այդ թվում` ըստ կատարողների
F86: ՀՀ կրթության, գիտության, մշակույթի և սպորտի նախարարություն | G86: =G88 -> -4251.13
F87: այդ թվում՝ բյուջետային ծախսերի տնտեսագիտական դասակարգման հոդվածներ
F88: ԸՆԴԱՄԵՆԸ ԾԱԽՍԵՐ | G88: =G89 -> -4251.13
F89: ԸՆԹԱՑԻԿ ԾԱԽՍԵՐ | G89: =G90+G94 -> -4251.13
F90: ԾԱՌԱՅՈՒԹՅՈՒՆՆԵՐԻ ԵՎ ԱՊՐԱՆՔՆԵՐԻ ՁԵՌՔԲԵՐՈՒՄ | G90: =G91 -> -137.43
F91: Նյութեր (Ապրանքներ) | G91: =G92+G93 -> -137.43
F92: - Գրասենյակային նյութեր և հագուստ | G92: -131.97
F93: - Հատուկ նպատակային այլ նյութեր | G93: -5.46
F94: ԴՐԱՄԱՇՆՈՐՀՆԵՐ | G94: =G96 -> -4113.7
F95: Ընթացիկ դրամաշնորհներ պետական հատվածի այլ մակարդակներին | G95: =G96 -> -4113.7
F96: - Այլ ընթացիկ դրամաշնորհներ | G96: -4113.7
E97: 11037 | F97: Երևանում կայանալիք ծանրամարտի մեծահասկների Եվրոպայի առաջնության անցկացում | G97: =G99 -> -26982.1
F98: այդ թվում` ըստ կատարողների
F99: ՀՀ կրթության, գիտության, մշակույթի և սպորտի նախարարություն | G99: =G101 -> -26982.1
F100: այդ թվում՝ բյուջետային ծախսերի տնտեսագիտական դասակարգման հոդվածներ
F101: ԸՆԴԱՄԵՆԸ ԾԱԽՍԵՐ | G101: =G102 -> -26982.1
F102: ԸՆԹԱՑԻԿ ԾԱԽՍԵՐ | G102: =G103+G106 -> -26982.1
F103: ԾԱՌԱՅՈՒԹՅՈՒՆՆԵՐԻ ԵՎ ԱՊՐԱՆՔՆԵՐԻ ՁԵՌՔԲԵՐՈՒՄ | G103: =G104 -> -24314.9
...

Sheet Havelvac 3
F1: Հավելված 3
F2: ՀՀ կառավարության 2023 թվականի
F3: ______________ ի ___Ն որոշման
A6: ՀԱՅԱՍՏԱՆԻ ՀԱՆՐԱՊԵՏՈՒԹՅԱՆ ԿԱՌԱՎԱՐՈՒԹՅԱՆ 2022 ԹՎԱԿԱՆԻ ԴԵԿՏԵՄԲԵՐԻ 29-Ի N 2111-Ն ՈՐՈՇՄԱՆ N 5 ՀԱՎԵԼՎԱԾԻ N 7 ԱՂՅՈՒՍԱԿՈՒՄ ԿԱՏԱՐՎՈՂ ՓՈՓՈԽՈՒԹՅՈՒՆԸ
G7: հազար դրամներով
A8: Ծրագրային դասիչը | C8: Բյուջետային հատկացումների գլխավոր կարգադրիչների, ծրագրերի, միջոցառումների, ծախսային ուղղությունների անվանումները | F8: Միջոցառումները կատարող պետական մարմինների և դրամաշնորհ ստացող տնտեսվարող սուբյեկտների անվանումները | G8: Ցուցանիշների փոփոխությունը (նվազեցումները նշված են փակագծերում)
A9: Ծրագիր | B9: Միջոցառում | G9: Տարի
A10: ՀՀ կրթության, գիտության, մշակույթի և սպորտի նախարարություն | G10: =G11+G25+G30 -> -50155.18
A11: 1041 | B11: Մեծ նվաճումների սպորտ | G11: =G12+G15+G17+G19+G21+G23 -> -35977.58
B12: 11003 | C12: Ադապտիվ սպորտին առնչվող ծառայություններ | F12: ՀՀ կրթության, գիտության, մշակույթի և սպորտի նախարարություն | G12: =G13+G14 -> -15218.38
F13: «Հայաստանի ազգային պարալիմպիկ կոմիտե» ՀԿ | G13: -14743.38
F14: «Ռաֆտինգի հայակական ազգային ֆեդերացիա» ՀԿ | G14: -475
B15: 11005 | C15: Աջակցություն հայկական կոխ ըմբշամարտ մարզաձևի զարգացմանը | F15: ՀՀ կրթության, գիտության, մշակույթի և սպորտի նախարարություն | G15: =G16 -> -3133.8
F16: «Հայկական ազգային կոխի ֆեդերացիա» ՀԿ | G16: -3133.8
B17: 11012 | C17: Եվրոպայի երիտասարդության օլիմպիական փառատոներին մասնակցության ապահովում | F17: ՀՀ կրթության, գիտության, մշակույթի և սպորտի նախարարություն | G17: =G18 -> -1961.5
F18: «Հայաստանի ազգային օլիմպիական կոմիտե» ՀԿ | G18: -1961.5
B19: 11022 | C19: Ֆրանկոֆոնիայի մարզամշակութային խաղերին Հայաստանի մարզական պատվիրակության մասնակցության ապահովում | F19: ՀՀ կրթության, գիտության, մշակույթի և սպորտի նախարարություն | G19: =G20 -> -8883
F20: «Հայաստանի սեղանի թենիսի ֆեդերացիա» ՀԿ, «Հայաստանի աթլետիկայի ֆեդերացիա» ՀԿ, «Հայաստանի ձյուդոյի ֆեդերացիա» ՀԿ, «Հայաստանի հեծանվային մարզաձևի ֆեդերացիա» ՀԿ, «Հայաստանի ըմբշամարտի ֆեդերացիա» ՀԿ | G20: -8883
B21: 11036 | C21: ԱՊՀ երկրների երկրորդ մարզական խաղերին ՀՀ մարզական պատվիրակության մասնակցության ապահովում | F21: ՀՀ կրթության, գիտության, մշակույթի և սպորտի նախարարություն | G21: =G22 -> -4113.7
F22: «Հայաստանի աթլետիկայի ֆեդերացիա» ՀԿ, «Հայաստանի բասկետբոլի ֆեդերացիա» ՀԿ, «Հայաստանի Հանրապետության բռնցքամարտի ֆեդերացիա» ՀԿ, «Հայաստանի ըմբշամարտի ֆեդերացիա» ՀԿ, «Լողի հայկական դաշնություն» ՀԿ,«Հայաստանի հրաձգության ֆեդերացիա» ՀԿ, «Հայաստանի ձյուդոյի ֆեդերացիա» ՀԿ, «Հայաստանի մարմնամարզության ֆեդերացիա» ՀԿ, «Հայաստանի կարատեի ֆեդերացիա» ՀԿ, «Հայաստանի սամբոյի ֆեդերացիա» ՀԿ, «Հայաստանի վոլեյբոլի ֆեդերացիա» ՀԿ, «Խոտի հոկեյի հայկական ֆեդերացիա» ՀԿ | G22: -4113.7
B23: 11037 | C23: Երևանում կայանալիք ծանրամարտի մեծահասկների Եվրոպայի առաջնության անցկացում | F23: ՀՀ կրթության, գիտության, մշակույթի և սպորտի նախարարություն | G23: =G24 -> -2667.2
F24: «Հայաստանի ծանրամարտի ֆեդերացիա» ՀԿ | G24: -2667.2
A25: 1163 | B25: Մասսայական սպորտ | G25: =G26+G28 -> -6074.2
B26: 11018 | C26: «Հայաստանի Հանրապետության Վարչապետի գավաթ» սիրողական խճուղային հեծանվավազքի մրցաշարի անցկացում | F26: ՀՀ կրթության, գիտության, մշակույթի և սպորտի նախարարություն | G26: =+G27 -> -4040.2
F27: Մրցույթով ընտրված կազմակերպություն | G27: -4040.2
B28: 11019 | C28: «Հայաստանի Հանրապետության Վարչապետի գավաթ» սիրողական խճուղավազքի մրցաշարի անցկացում | F28: ՀՀ կրթության, գիտության, մշակույթի և սպորտի նախարարություն | G28: =G29 -> -2034
F29: Մրցույթով ընտրված կազմակերպություն | G29: -2034
A30: 1148 | B30: Արտադպրոցական դաստիարակության ծրագիր | G30: =G31 -> -8103.4
B31: 11007 | C31: Մարզիչ-մանկավարժների վերապատրաստման կազմակերպում | F31: ՀՀ կրթության, գիտության, մշակույթի և սպորտի նախարարություն | G31: =+G32 -> -8103.4
F32: «Երևանի օլիմպիական հերթափոխի պետական մարզական քոլեջ» ՊՈԱԿ | G32: -8103.4

Sheet Havelvac 4
A1: Հավելված N 4
A2: ՀՀ կառավարության 2023 թվականի
A3: ______________ ի ___Ն որոշման
B5: ՀԱՅԱՍՏԱՆԻ ՀԱՆՐԱՊԵՏՈՒԹՅԱՆ ԿԱՌԱՎԱՐՈՒԹՅԱՆ 2022 ԹՎԱԿԱՆԻ ԴԵԿՏԵՄԲԵՐԻ 29-Ի N 2111-Ն ՈՐՈՇՄԱՆ N 9 ՀԱՎԵԼՎԱԾԻ N 9.13 ԱՂՅՈՒՍԱԿՆԵՐՈՒՄ ԿԱՏԱՐՎՈՂ ՓՈՓՈԽՈՒԹՅՈՒՆՆԵՐԸ
A7: Աղյուսակ 9․13
C8: ՀՀ կրթության, գիտության, մշակույթի և սպորտի նախարարություն
B9: ՄԱՍ 2. ՊԵՏԱԿԱՆ ՄԱՐՄՆԻ ԳԾՈՎ ԱՐԴՅՈՒՆՔԱՅԻՆ (ԿԱՏԱՐՈՂԱԿԱՆ) ՑՈՒՑԱՆԻՇՆԵՐԸ
B13: Ծրագրի դասիչը | C13: Ծրագրի անվանումը
B14: 1041 | C14: Մեծ նվաճումների սպորտ
B17: Ծրագրի միջոցառումները
B18: Ծրագրի դասիչը՝ | C18: 1041 | D18: Ցուցանիշների փոփոխությունը (ավելացումները նշված են դրական նշանով)
B19: Միջոցառման դասիչը՝ | C19: 12003 | D19: Տարի
B20: Միջոցառման անվանումը՝ | C20: Օլիմպիական խաղերում, աշխարհի և Եվրոպայի առաջնություններում բարձր արդյունքների հասած ՀՀ հավաքական թիմերի մարզիկներին և նրանց մարզիչներին անվանական թոշակի հատկացում
B21: Նկարագրությունը՝ | C21: Օլիմպիական խաղերում, աշխարհի և Եվրոպայի առաջնություններում բարձր արդյունքների հասած ՀՀ հավաքական թիմերի մարզիկներին և նրանց մարզիչներին անվանական թոշակի հատկացում
B22: Միջոցառման տեսակը՝ | C22: Տրանսֆերտների տրամադրում
B23: Շահառուների ընտրության չափանիշները | C23: ՀՀ կառավարության 2020 թվականի N 1096-Ն որոշմամբ սահմանված ՀՀ հավաքական թիմերի կազմում բարձր արդյունքներ ցուցաբերած մարզիկներ և նրանց մարզիչներ
B24: Արդյունքի չափորոշիչներ
B25: Միջոցառման վրա կատարվող ծախսը (հազար դրամ) | D25: 112426.1
B29: Ծրագրի միջոցառումները
B30: Ծրագրի դասիչը՝ | C30: 1041 | D30: Ցուցանիշների փոփոխությունը (նվազեցումները նշված են փակագծերում)
B31: Միջոցառման դասիչը՝ | C31: 12002 | D31: Տարի
B32: Միջոցառման անվանումը՝ | C32: ՀՀ հավաքական թիմերի գլխավոր և ավագ մարզիչների վարձատրություն և աշխարհի չեմպիոններին, օլիմպիական խաղերի և շախմատի համաշխարհային օլիմպիադայի մրցանակակիրներին պատվովճարի հատկացում
B33: Նկարագրությունը՝ | C33: ՀՀ հավաքական թիմերի գլխավոր և ավագ մարզիչների վարձատրություն և աշխարհի չեմպիոններին, օլիմպիական խաղերի և շախմատի համաշխարհային օլիմպիադայի մրցանակակիրներին պատվովճարի հատկացում
B34: Միջոցառման տեսակը՝ | C34: Տրանսֆերտների տրամադրում
B35: Շահառուների ընտրության չափանիշները | C35: ՀՀ կառավարության 2015 թ. օգոստոսի 13-ի N925-Ն որոշմամբ սահմանված ՀՀ հավաքական թիմերի գլխավոր և ավագ մարզիչներ, օլիմպիական խաղերի ծրագրում ընդգրկված մարզաձևերի, շախմատի և սամբոյի աշխարհի առաջնություններում չեմպիոն դարձած մարզիկներ
B36: Արդյունքի չափորոշիչներ
B37: Միջոցառման վրա կատարվող ծախսը (հազար դրամ) | D37: -1780.8
B41: Ծրագրի միջոցառումները
B42: Ծրագրի դասիչը՝ | C42: 1041 | D42: Ցուցանիշների փոփոխությունը (նվազեցումները նշված են փակագծերում)
B43: Միջոցառման դասիչը՝ | C43: 11003 | D43: Տարի
B44: Միջոցառման անվանումը՝ | C44: Ադապտիվ սպորտին առնչվող ծառայություններ
B45: Նկարագրությունը՝ | C45: Հաշմանդամային մարզական ՀԿ-ի կողմից միջազգային մրցաշարերին մարզիկների նախապատրաստում և մասնակցության ապահովում և ՀՀ առաջնությունների և այլ մարզական միջոցառումների անցկացում
B46: Միջոցառման տեսակը՝ | C46: Ծառայությունների մատուցում
B47: Ծառայությունը մատուցող կազմակերպությունների անվանումը | C47: Մասնագիտացված կազմակերպություններ
B48: Արդյունքի չափորոշիչներ
B49: Միջոցառումների թիվ, հատ | D49: -2
B50: Մասնակիցների թիվ, մարդ, այդ թվում՛ | D50: =-138-50 -> -188
B51: իգական սեռի | D51: -53
B52: արական սեռի | D52: -135
B53: ՀՀ առաջնությունների քանակ, հատ | D53: -1
B54: Միջազգային միջոցառումների քանակ, հատ | D54: -4
B55: Այլ մարզական միջոցառումների քանակ, հատ | D55: -1
B56: Միջոցառման վրա կատարվող ծախսը (հազար դրամ) | D56: -15218.4
B60: Ծրագրի միջոցառումները
B61: Ծրագրի դասիչը՝ | C61: 1041 | D61: Ցուցանիշների փոփոխությունը (նվազեցումները նշված են փակագծերում)
B62: Միջոցառման դասիչը՝ | C62: 11005 | D62: Տարի
B63: Միջոցառման անվանումը՝ | C63: Աջակցություն հայկական կոխ ըմբշամարտ մարզաձևի զարգացմանը
B64: Նկարագրությունը՝ | C64: Աջակցություն հայկական կոխ ըմբշամարտ մարզաձևի զարգացմանը
B65: Միջոցառման տեսակը՝ | C65: Ծառայությունների մատուցում
B66: Ծառայությունը մատուցող կազմակերպությունների անվանումը | C66: Մասնագիտացված կազմակերպություն
B67: Արդյունքի չափորոշիչներ
B68: Միջոցառումների քանակ, հատ | D68: -3
B69: Մասնակիցների թիվ, մարդ | D69: -96
B70: Միջոցառման վրա կատարվող ծախսը (հազար դրամ) | D70: -3133.8
B73: Ծրագրի միջոցառումները
B74: Ծրագրի դասիչը՝ | C74: 1041 | D74: Ցուցանիշների փոփոխությունը (նվազեցումները նշված են փակագծերում)
B75: Միջոցառման դասիչը՝ | C75: 11012 | D75: Տարի
B76: Միջոցառման անվանումը՝ | C76: Եվրոպայի երիտասարդության օլիմպիական փառատոներին մասնակցության ապահովում
B77: Նկարագրությունը՝ | C77: Եվրոպայի երիտասարդության օլիմպիական փառատոներին մասնակցության ապահովում
B78: Միջոցառման տեսակը՝ | C78: Ծառայությունների մատուցում
B79: Ծառայությունը մատուցող կազմակերպությունների անվանումը | C79: Մասնագիտացված կազմակերպություն
B80: Արդյունքի չափորոշիչներ
B81: Միջոցառման վրա կատարվող ծախսը (հազար դրամ) | D81: -1961.5
B84: Ծրագրի միջոցառումները
B85: Ծրագրի դասիչը՝ | C85: 1041 | D85: Ցուցանիշների փոփոխությունը (նվազեցումները նշված են փակագծերում)
B86: Միջոցառման դասիչը՝ | C86: 11021 | D86: Տարի
B87: Միջոցառման անվանումը՝ | C87: ՀՀ հանրակրթական, միջին մասնագիտական և բարձրագույն ուսումնական հաստատություններին, ինչպես նաև մանկապատանեկան մարզադպրոցներին, մարզաձևերի ազգային ֆեդերացիաներին և այլ մարզական հասարակական կազմակերպություններին գույքով ապահովում
B88: Նկարագրությունը՝ | C88: Ֆիզիկական կուլտուրայի և սպորտի զարգացման նպատակով հանրակրթական, միջին մասնագիտական և բարձրագույն ուսումնական հաստատություններին, ինչպես նաև մարզական հասարակական կազմակերպություններին մարզական և այլ անհրաժեշտ գույքի տրամադրում
B89: Միջոցառման տեսակը՝ | C89: Ծառայությունների մատուցում
B90: Ծառայությունը մատուցող կազմակերպությունների անվանումը | C90: «Գնումների մասին» ՀՀ օրենքի համաձայն ընտրված կազմակերպություն
B91: Արդյունքի չափորոշիչներ
B92: Միջոցառման վրա կատարվող ծախսը (հազար դրամ) | D92: -21671.3
B95: Ծրագրի միջոցառումները
B96: Ծրագրի դասիչը՝ | C96: 1041 | D96: Ցուցանիշների փոփոխությունը (նվազեցումները նշված են փակագծերում)
B97: Միջոցառման դասիչը՝ | C97: 11022 | D97: Տարի
B98: Միջոցառման անվանումը՝ | C98: Ֆրանկոֆոնիայի մարզամշակութային խաղերին Հայաստանի մարզական պատվիրակության մասնակցության ապահովում
B99: Նկարագրությունը՝ | C99: Ֆրանկոֆոնիայի մարզամշակութային խաղերին Հայաստանի մարզական պատվիրակության մասնակցության ապահովում
B100: Միջոցառման տեսակը՝ | C100: Ծառայությունների մատուցում
B101: Ծառայությունը մատուցող կազմակերպությունների անվանումը | C101: Մասնագիտացված կազմակերպություն,«Գնումների մասին» ՀՀ օրենքի համաձայն ընտրված կազմակերպություն
B102: Արդյունքի չափորոշիչներ
B103: Միջոցառման վրա կատարվող ծախսը (հազար դրամ) | D103: -8929.5
B107: Ծրագրի միջոցառումները
B108: Ծրագրի դասիչը՝ | C108: 1041 | D108: Ցուցանիշների փոփոխությունը (նվազեցումները նշված են փակագծերում)
B109: Միջոցառման դասիչը՝ | C109: 11036 | D109: Տարի
B110: Միջոցառման անվանումը՝ | C110: ԱՊՀ երկրների երկրորդ մարզական խաղերին ՀՀ մարզական պատվիրակության մասնակցության ապահովում
B111: Նկարագրությունը՝ | C111: ԱՊՀ երկրների երկրորդ մարզական խաղերին ՀՀ մարզական պատվիրակության մասնակցության ապահովում
B112: Միջոցառման տեսակը՝ | C112: Ծառայությունների մատուցում
B113: Ծառայությունը մատուցող կազմակերպությունների անվանումը | C113: «Գնումների մասին» ՀՀ օրենքի համաձայն ընտրված կազմակերպություն, մասնագիտացված կազմակերպություններ
B114: Արդյունքի չափորոշիչներ
B115: Միջոցառման վրա կատարվող ծախսը (հազար դրամ) | D115: -4251.1
B118: Ծրագրի միջոցառումները
B119: Ծրագրի դասիչը՝ | C119: 1041 | D119: Ցուցանիշների փոփոխությունը (նվազեցումները նշված են փակագծերում)
B120: Միջոցառման դասիչը՝ | C120: 11037 | D120: Տարի
B121: Միջոցառման անվանումը՝ | C121: Երևանում կայանալիք ծանրամարտի մեծահասակների Եվրոպայի առաջնության անցկացում
B122: Նկարագրությունը՝ | C122: 2023 թվականին Երևանում կայանալիք ծանրամարտի մեծահասակների Եվրոպայի առաջնության անցկացում
B123: Միջոցառման տեսակը՝ | C123: Ծառայությունների մատուցում
B124: Ծառայությունը մատուցող կազմակերպությունների անվանումը | C124: «Գնումների մասին» ՀՀ օրենքի համաձայն ընտրված կազմակերպություն, մասնագիտացված կազմակերպություններ
B125: Արդյունքի չափորոշիչներ
B126: Մասնակիցների թիվ, մարդ | D126: -50
B127: Միջոցառման վրա կատարվող ծախսը (հազար դրամ) | D127: -26982.1
...

Sheet Havelvats 5
D1: Հավելված N 5
C2: ՀՀ կառավարության 2023 թվականի
C3: ______________ ի ___Ն որոշման
B5: ՀԱՅԱՍՏԱՆԻ ՀԱՆՐԱՊԵՏՈՒԹՅԱՆ ԿԱՌԱՎԱՐՈՒԹՅԱՆ 2022 ԹՎԱԿԱՆԻ ԴԵԿՏԵՄԲԵՐԻ 29-Ի N 2111-Ն ՈՐՈՇՄԱՆ N 9․1 ՀԱՎԵԼՎԱԾԻ N 9.1․13 ԱՂՅՈՒՍԱԿՆԵՐՈՒՄ ԿԱՏԱՐՎՈՂ ՓՈՓՈԽՈՒԹՅՈՒՆՆԵՐԸ
A7: Աղյուսակ 9․1․13
C9: ՀՀ կրթության, գիտության, մշակույթի և սպորտի նախարարություն
B10: ՄԱՍ 2. ՊԵՏԱԿԱՆ ՄԱՐՄՆԻ ԳԾՈՎ ԱՐԴՅՈՒՆՔԱՅԻՆ (ԿԱՏԱՐՈՂԱԿԱՆ) ՑՈՒՑԱՆԻՇՆԵՐԸ
B14: Ծրագրի դասիչը | C14: Ծրագրի անվանումը
B15: 1041 | C15: Մեծ նվաճումների սպորտ
B18: Ծրագրի միջոցառումները
B19: Ծրագրի դասիչը՝ | C19: 1041 | D19: Ցուցանիշների փոփոխությունը (ավելացումները նշված են դրական նշանով)
B20: Միջոցառման դասիչը՝ | C20: 12003 | D20: Տարի
B21: Միջոցառման անվանումը՝ | C21: Օլիմպիական խաղերում, աշխարհի և Եվրոպայի առաջնություններում բարձր արդյունքների հասած ՀՀ հավաքական թիմերի մարզիկներին և նրանց մարզիչներին անվանական թոշակի հատկացում
B22: Նկարագրությունը՝ | C22: Օլիմպիական խաղերում, աշխարհի և Եվրոպայի առաջնություններում բարձր արդյունքների հասած ՀՀ հավաքական թիմերի մարզիկներին և նրանց մարզիչներին անվանական թոշակի հատկացում
B23: Միջոցառման տեսակը՝ | C23: Տրանսֆերտների տրամադրում
B24: Շահառուների ընտրության չափանիշները | C24: ՀՀ կառավարության 2020 թվականի N 1096-Ն որոշմամբ սահմանված ՀՀ հավաքական թիմերի կազմում բարձր արդյունքներ ցուցաբերած մարզիկներ և նրանց մարզիչներ
B25: Արդյունքի չափորոշիչներ
B26: Միջոցառման վրա կատարվող ծախսը (հազար դրամ) | D26: 112426.1
B30: Ծրագրի միջոցառումները
B31: Ծրագրի դասիչը՝ | C31: 1041 | D31: Ցուցանիշների փոփոխությունը (նվազեցումները նշված են փակագծերում)
B32: Միջոցառման դասիչը՝ | C32: 12002 | D32: Տարի
B33: Միջոցառման անվանումը՝ | C33: ՀՀ հավաքական թիմերի գլխավոր և ավագ մարզիչների վարձատրություն և աշխարհի չեմպիոններին, օլիմպիական խաղերի և շախմատի համաշխարհային օլիմպիադայի մրցանակակիրներին պատվովճարի հատկացում
B34: Նկարագրությունը՝ | C34: ՀՀ հավաքական թիմերի գլխավոր և ավագ մարզիչների վարձատրություն և աշխարհի չեմպիոններին, օլիմպիական խաղերի և շախմատի համաշխարհային օլիմպիադայի մրցանակակիրներին պատվովճարի հատկացում
B35: Միջոցառման տեսակը՝ | C35: Տրանսֆերտների տրամադրում
B36: Շահառուների ընտրության չափանիշները | C36: ՀՀ կառավարության 2015 թ. օգոստոսի 13-ի N925-Ն որոշմամբ սահմանված ՀՀ հավաքական թիմերի գլխավոր և ավագ մարզիչներ, օլիմպիական խաղերի ծրագրում ընդգրկված մարզաձևերի, շախմատի և սամբոյի աշխարհի առաջնություններում չեմպիոն դարձած մարզիկներ
B37: Արդյունքի չափորոշիչներ
B38: Միջոցառման վրա կատարվող ծախսը (հազար դրամ) | D38: -1780.8
B42: Ծրագրի միջոցառումները
B43: Ծրագրի դասիչը՝ | C43: 1041 | D43: Ցուցանիշների փոփոխությունը (նվազեցումները նշված են փակագծերում)
B44: Միջոցառման դասիչը՝ | C44: 11003 | D44: Տարի
B45: Միջոցառման անվանումը՝ | C45: Ադապտիվ սպորտին առնչվող ծառայություններ
B46: Նկարագրությունը՝ | C46: Հաշմանդամային մարզական ՀԿ-ի կողմից միջազգային մրցաշարերին մարզիկների նախապատրաստում և մասնակցության ապահովում և ՀՀ առաջնությունների և այլ մարզական միջոցառումների անցկացում
B47: Միջոցառման տեսակը՝ | C47: Ծառայությունների մատուցում
B48: Ծառայությունը մատուցող կազմակերպությունների անվանումը | C48: Մասնագիտացված կազմակերպություններ
B49: Արդյունքի չափորոշիչներ
B50: Միջոցառումների թիվ, հատ | D50: -2
B51: Մասնակիցների թիվ, մարդ, այդ թվում՛ | D51: =-138-50 -> -188
B52: իգական սեռի | D52: -53
B53: արական սեռի | D53: -135
B54: ՀՀ առաջնությունների քանակ, հատ | D54: -1
B55: Միջազգային միջոցառումների քանակ, հատ | D55: -4
B56: Այլ մարզական միջոցառումների քանակ, հատ | D56: -1
B57: Միջոցառման վրա կատարվող ծախսը (հազար դրամ) | D57: -15218.4
B61: Ծրագրի միջոցառումները
B62: Ծրագրի դասիչը՝ | C62: 1041 | D62: Ցուցանիշների փոփոխությունը (նվազեցումները նշված են փակագծերում)
B63: Միջոցառման դասիչը՝ | C63: 11005 | D63: Տարի
B64: Միջոցառման անվանումը՝ | C64: Աջակցություն հայկական կոխ ըմբշամարտ մարզաձևի զարգացմանը
B65: Նկարագրությունը՝ | C65: Աջակցություն հայկական կոխ ըմբշամարտ մարզաձևի զարգացմանը
B66: Միջոցառման տեսակը՝ | C66: Ծառայությունների մատուցում
B67: Ծառայությունը մատուցող կազմակերպությունների անվանումը | C67: Մասնագիտացված կազմակերպություն
B68: Արդյունքի չափորոշիչներ
B69: Միջոցառումների քանակ, հատ | D69: -3
B70: Մասնակիցների թիվ, մարդ | D70: -96
B71: Միջոցառման վրա կատարվող ծախսը (հազար դրամ) | D71: -3133.8
B74: Ծրագրի միջոցառումները
B75: Ծրագրի դասիչը՝ | C75: 1041 | D75: Ցուցանիշների փոփոխությունը (նվազեցումները նշված են փակագծերում)
B76: Միջոցառման դասիչը՝ | C76: 11012 | D76: Տարի
B77: Միջոցառման անվանումը՝ | C77: Եվրոպայի երիտասարդության օլիմպիական փառատոներին մասնակցության ապահովում
B78: Նկարագրությունը՝ | C78: Եվրոպայի երիտասարդության օլիմպիական փառատոներին մասնակցության ապահովում
B79: Միջոցառման տեսակը՝ | C79: Ծառայությունների մատուցում
B80: Ծառայությունը մատուցող կազմակերպությունների անվանումը | C80: Մասնագիտացված կազմակերպություն
B81: Արդյունքի չափորոշիչներ
B82: Միջոցառման վրա կատարվող ծախսը (հազար դրամ) | D82: -1961.5
B85: Ծրագրի միջոցառումները
B86: Ծրագրի դասիչը՝ | C86: 1041 | D86: Ցուցանիշների փոփոխությունը (նվազեցումները նշված են փակագծերում)
B87: Միջոցառման դասիչը՝ | C87: 11021 | D87: Տարի
B88: Միջոցառման անվանումը՝ | C88: ՀՀ հանրակրթական, միջին մասնագիտական և բարձրագույն ուսումնական հաստատություններին, ինչպես նաև մանկապատանեկան մարզադպրոցներին, մարզաձևերի ազգային ֆեդերացիաներին և այլ մարզական հասարակական կազմակերպություններին գույքով ապահովում
B89: Նկարագրությունը՝ | C89: Ֆիզիկական կուլտուրայի և սպորտի զարգացման նպատակով հանրակրթական, միջին մասնագիտական և բարձրագույն ուսումնական հաստատություններին, ինչպես նաև մարզական հասարակական կազմակերպություններին մարզական և այլ անհրաժեշտ գույքի տրամադրում
B90: Միջոցառման տեսակը՝ | C90: Ծառայությունների մատուցում
B91: Ծառայությունը մատուցող կազմակերպությունների անվանումը | C91: «Գնումների մասին» ՀՀ օրենքի համաձայն ընտրված կազմակերպություն
B92: Արդյունքի չափորոշիչներ
B93: Միջոցառման վրա կատարվող ծախսը (հազար դրամ) | D93: -21671.3
B96: Ծրագրի միջոցառումները
B97: Ծրագրի դասիչը՝ | C97: 1041 | D97: Ցուցանիշների փոփոխությունը (նվազեցումները նշված են փակագծերում)
B98: Միջոցառման դասիչը՝ | C98: 11022 | D98: Տարի
B99: Միջոցառման անվանումը՝ | C99: Ֆրանկոֆոնիայի մարզամշակութային խաղերին Հայաստանի մարզական պատվիրակության մասնակցության ապահովում
B100: Նկարագրությունը՝ | C100: Ֆրանկոֆոնիայի մարզամշակութային խաղերին Հայաստանի մարզական պատվիրակության մասնակցության ապահովում
B101: Միջոցառման տեսակը՝ | C101: Ծառայությունների մատուցում
B102: Ծառայությունը մատուցող կազմակերպությունների անվանումը | C102: Մասնագիտացված կազմակերպություն,«Գնումների մասին» ՀՀ օրենքի համաձայն ընտրված կազմակերպություն
B103: Արդյունքի չափորոշիչներ
B104: Միջոցառման վրա կատարվող ծախսը (հազար դրամ) | D104: -8929.5
B108: Ծրագրի միջոցառումները
B109: Ծրագրի դասիչը՝ | C109: 1041 | D109: Ցուցանիշների փոփոխությունը (նվազեցումները նշված են փակագծերում)
B110: Միջոցառման դասիչը՝ | C110: 11036 | D110: Տարի
B111: Միջոցառման անվանումը՝ | C111: ԱՊՀ երկրների երկրորդ մարզական խաղերին ՀՀ մարզական պատվիրակության մասնակցության ապահովում
B112: Նկարագրությունը՝ | C112: ԱՊՀ երկրների երկրորդ մարզական խաղերին ՀՀ մարզական պատվիրակության մասնակցության ապահովում
B113: Միջոցառման տեսակը՝ | C113: Ծառայությունների մատուցում
B114: Ծառայությունը մատուցող կազմակերպությունների անվանումը | C114: «Գնումների մասին» ՀՀ օրենքի համաձայն ընտրված կազմակերպություն, մասնագիտացված կազմակերպություններ
B115: Արդյունքի չափորոշիչներ
B116: Միջոցառման վրա կատարվող ծախսը (հազար դրամ) | D116: -4251.1
B119: Ծրագրի միջոցառումները
B120: Ծրագրի դասիչը՝ | C120: 1041 | D120: Ցուցանիշների փոփոխությունը (նվազեցումները նշված են փակագծերում)
B121: Միջոցառման դասիչը՝ | C121: 11037 | D121: Տարի
B122: Միջոցառման անվանումը՝ | C122: Երևանում կայանալիք ծանրամարտի մեծահասակների Եվրոպայի առաջնության անցկացում
B123: Նկարագրությունը՝ | C123: 2023 թվականին Երևանում կայանալիք ծանրամարտի մեծահասակների Եվրոպայի առաջնության անցկացում
B124: Միջոցառման տեսակը՝ | C124: Ծառայությունների մատուցում
B125: Ծառայությունը մատուցող կազմակերպությունների անվանումը | C125: «Գնումների մասին» ՀՀ օրենքի համաձայն ընտրված կազմակերպություն, մասնագիտացված կազմակերպություններ
B126: Արդյունքի չափորոշիչներ
B127: Մասնակիցների թիվ, մարդ | D127: -50
B128: Միջոցառման վրա կատարվող ծախսը (հազար դրամ) | D128: -26982.1
...

Sheet Havelva 6
E1: Հավելված N 6
E2: ՀՀ կառավարության 2023 թվականի
E3: ———————— N -Ն որոշման
A4: ՀԱՅԱՍՏԱՆԻ ՀԱՆՐԱՊԵՏՈՒԹՅԱՆ ԿԱՌԱՎԱՐՈՒԹՅԱՆ 2022 ԹՎԱԿԱՆԻ ԴԵԿՏԵՄԲԵՐԻ 29-Ի N 2111-Ն ՈՐՈՇՄԱՆ N 10 ՀԱՎԵԼՎԱԾԻ ՑՈՒՑԱՆԻՇՆԵՐՈՒՄ ԿԱՏԱՐՎՈՂ ՓՈՓՈԽՈՒԹՅՈՒՆՆԵՐԸ
A6: Կոդը | B6: Անվանումը | C6: Գնման ձևը | D6: Չափի միավորը | E6: միավորի գինը | F6: Ցուցանիշների փոփոխությունը (նվազեցումները նշված են փակագծերում)
F7: քանակը | G7: գումարը (հազար դրամով)
A8: 1 | B8: 2 | C8: 3 | D8: 4 | E8: 5 | F8: 6 | G8: 7
A9: ՀՀ կրթության, գիտության, մշաույթի և սպորտի նախարարություն | G9: =G10 -> -60490.1
A10: Բաժին N 08 | B10: Խումբ N 01 | C10: Դաս N 01 | D10: Հանգստի և սպորտի ծառայություններ | G10: =G12+G24+G30+G34+G38 -> -60490.1
A11: 1041 11021 | B11: ՀՀ հանրակրթական, միջին մասնագիտական և բարձրագույն ուսումնական հաստատություններին, ինչպես նաև մանկապատանեկան մարզադպրոցներին, մարզաձևերի ազգային ֆեդերացիաներին և այլ մարզական հասարակական կազմակերպություններին գույքով ապահովում
B12: ՄԱՍ I. Ա Պ Ր Ա Ն Ք Ն Ե Ր | G12: =SUM(G13:G23) -> -21671.3
A13: 37451190-1 | B13: դաշտային հոկեյի գնդակներ | C13: էԱՃ | D13: հատ | G13: -130
A14: 37421260-2 | B14: սուսերի շեղբեր | C14: էԱՃ | D14: հատ | G14: -174.9
A15: 34521140-1 | B15: այլ մասնագիտացված նավակներ | C15: էԱՃ | D15: հատ | G15: -442.4
A16: 37451410-503 | B16: բասկետբոլի գնդակներ | C16: էԱՃ | D16: հատ | G16: -1106
A17: 37421100-503 | B17: մարմնամարզության գորգեր | C17: էԱՃ | D17: հատ | G17: -168.2
A18: 14781200-504 | B18: մագնեզիում | C18: ԳՀ | D18: կգ | G18: -17121
A19: 37451290-503 | B19: ֆուտբոլի գնդակներ | C19: էԱՃ | D19: հատ | G19: -772.8
A20: 37451360-503 | B20: հանդբոլի գնդակներ | C20: էԱՃ | D20: հատ | G20: -426
A21: 37421260-1 | B21: սուսերի շեղբեր | C21: էԱՃ | D21: հատ | G21: -504
A22: 37461170-503 | B22: սեղանի թենիսի գնդակներ | C22: էԱՃ | D22: հատ | G22: -250
A23: 37431282-521 | B23: ծանրաձողեր | C23: էԱՃ | D23: լրակազմ | G23: -576
A24: 1041-11022 | B24: Ֆրանկոֆոնիայի մարզամշակութային խաղերին Հայաստանի մարզական պատվիրակության մասնակցության ապահովում | G24: =G25+G28 -> -46.5
B25: ՄԱՍ I. Ա Պ Ր Ա Ն Ք Ն Ե Ր | G25: =G26+G27 -> -43.4
A26: 18411900-504 | B26: սպորտային հագուստ, կոշիկ և այլ պարագաներ | C26: էԱՃ | D26: լրակազմ | G26: -41.4
A27: 39281100-501 | B27: հուշանվերներ | C27: էԱՃ | D27: հատ | G27: -2
B28: ՄԱՍ III. ԾԱՌԱՅՈՒԹՅՈՒՆՆԵՐ | G28: =G29 -> -3.1
A29: 66511140-33 | B29: բժշկական ապահովագրության ծառայություններ | C29: ՄԱ | D29: դրամ | E29: -3100 | G29: -3.1
A30: 1041-11036 | B30: ԱՊՀ երկրների երկրորդ մարզական խաղերին ՀՀ մարզական պատվիրակության մասնակցության ապահովում | G30: =G31 -> -137.4
B31: ՄԱՍ I. Ա Պ Ր Ա Ն Ք Ն Ե Ր | G31: =G32+G33 -> -137.4
A32: 18411900-505 | B32: սպորտային հագուստ, կոշիկ և այլ պարագաներ | C32: էԱՃ | D32: լրակազմ | G32: -132
A33: 39281100-502 | B33: հուշանվերներ | C33: էԱՃ | D33: հատ | G33: -5.4
A34: 1041-11037 | B34: Երևանում կայանալիք ծանրամարտի մեծահասկների Եվրոպայի առաջնության անցկացում | G34: =G35 -> -24314.9
B35: ՄԱՍ III. ԾԱՌԱՅՈՒԹՅՈՒՆՆԵՐ | G35: =G36 -> -24314.9
A36: 92621110-1 | B36: սպորտային միջոցառումների կազմակերպման ծառայություններպարագաներ | C36: ԵՄ | D36: դրամ | G36: -24314.9
A37: 1163 11022 | B37: Մասսայական սպորտին առնչվող ծառայություններ | G37: =G38 -> -14320
B38: ՄԱՍ III. ԾԱՌԱՅՈՒԹՅՈՒՆՆԵՐ | G38: =G39+G40+G41+G42 -> -14320
A39: 92621110/507 | B39: սպորտային միջոցառումների կազմակերպման ծառայություններ | C39: էԱՃ | D39: դրամ | E39: -6897200 | F39: 1 | G39: =E39*F39/1000 -> -6897.2
A40: 92621110/508 | B40: սպորտային միջոցառումների կազմակերպման ծառայություններ | C40: էԱՃ | D40: դրամ | E40: -3895901 | F40: 1 | G40: -3895.9
A41: 92621110/509 | B41: սպորտային միջոցառումների կազմակերպման ծառայություններ | C41: էԱՃ | D41: դրամ | E41: -2374600 | F41: 1 | G41: -2374.6
A42: 92621110/510 | B42: սպորտային միջոցառումների կազմակերպման ծառայություններ | C42: էԱՃ | D42: դրամ | E42: -1152301 | F42: 1 | G42: -1152.3
