Workbook
Name AgencyCode: #REF!
Name AgencyCode: #REF!
Name AgencyCode: #REF!
Name AgencyName: #REF!
Name AgencyName: #REF!
Name AgencyName: #REF!
Name davit: #REF!
Name davit: #REF!
Name Functional1: #REF!
Name Functional1: #REF!
Name Functional1: #REF!
Name ggg: #REF!
Name ggg: #REF!
Name PANature: #REF!
Name PANature: #REF!
Name PANature: #REF!
Name PAType: #REF!
Name PAType: #REF!
Name PAType: #REF!
Name Performance2: #REF!
Name Performance2: #REF!
Name Performance2: #REF!
Name PerformanceType: #REF!
Name PerformanceType: #REF!
Name PerformanceType: #REF!
Name Հավելված: #REF!
Name Հավելված: #REF!
Name Մաս: #REF!
Name Մաս: #REF!
Name շախմատիստ: #REF!
Name շախմատիստ: #REF!

Sheet Havelvats 1
D1: Հավելված N 1
D2: ՀՀ կառավարության 2023 թվականի
D3: ______________ ի ___Ն որոշման
A5: «ՀԱՅԱUՏԱՆԻ ՀԱՆՐԱՊԵՏՈՒԹՅԱՆ 2023 ԹՎԱԿԱՆԻ ՊԵՏԱԿԱՆ ԲՅՈՒՋԵԻ ՄԱUԻՆ» ՀԱՅԱUՏԱՆԻ ՀԱՆՐԱՊԵՏՈՒԹՅԱՆ OՐԵՆՔԻ N 1 ՀԱՎԵԼՎԱԾԻ N 2 ԱՂՅՈՒՍԱԿՈՒՄ ԿԱՏԱՐՎՈՂ ՎԵՐԱԲԱՇԽՈՒՄԸ ԵՎ ՀԱՅԱՍՏԱՆԻ ՀԱՆՐԱՊԵՏՈՒԹՅԱՆ ԿԱՌԱՎԱՐՈՒԹՅԱՆ 2022 ԹՎԱԿԱՆԻ ԴԵԿՏԵՄԲԵՐԻ 29-Ի N 2111-Ն ՈՐՈՇՄԱՆ N 5 ՀԱՎԵԼՎԱԾԻ N 1 ԱՂՅՈՒՍԱԿՈՒՄ ԿԱՏԱՐՎՈՂ ՓՈՓՈԽՈՒԹՅՈՒՆՆԵՐԸ
D6: հազար դրամներով
A7: Ծրագրային դասիչը | C7: Բյուջետային հատկացումների գլխավոր կարգադրիչների, ծրագրերի և միջոցառումների անվանումները | D7: Ցուցանիշների փոփոխությունը (ավելացումները նշված են դրական նշանով, իսկ նվազեցումները՝ փակագծերում)
A8: Ծրագիր | B8: Միջոցառում | D8: Տարի
C9: ԸՆԴԱՄԵՆԸ | D9: =D11 -> -0.001
C10: այդ թվում
C11: ՀՀ ԿՐԹՈՒԹՅԱՆ, ԳԻՏՈՒԹՅԱՆ, ՄՇԱԿՈՒՅԹԻ ԵՎ ՍՊՈՐՏԻ ՆԱԽԱՐԱՐՈՒԹՅՈՒՆ | D11: =D12+D73+D85 -> -0.001
A12: 1041 | C12: Ծրագրի անվանումը` | D12: =D19+D25+D31+D37+D43+D49+D55+D61+D67 -> 28497.599
C13: Մեծ նվաճումների սպորտ
C14: Ծրագրի նպատակը`
C15: Նպաստել Հայաստանում մեծ սպորտի շարունակական զարգացմանը և միջազգային հարթակներում ՀՀ դիրքի բարելավմանը
C16: Վերջնական արդյունքի նկարագրությունը`
C17: ՀՀ առաջնությունների ընդլայնում, միջազգային սպորտային միջոցառումներին մասնակցության և նվաճումների ապահովում
C18: Ծրագրի միջոցառումներ
B19: 12003 | C19: Միջոցառման անվանումը` | D19: ='Havelvas 2'!G24 -> 112426.1
C20: Օլիմպիական խաղերում, աշխարհի և Եվրոպայի առաջնություններում բարձր արդյունքների հասած ՀՀ հավաքական թիմերի մարզիկներին և նրանց մարզիչներին անվանական թոշակի հատկացում
C21: Միջոցառման նկարագրությունը`
C22: Օլիմպիական խաղերում, աշխարհի և Եվրոպայի առաջնություններում բարձր արդյունքների հասած ՀՀ հավաքական թիմերի մարզիկներին և նրանց մարզիչներին անվանական թոշակի հատկացում
C23: Միջոցառման տեսակը
C24: Տրանսֆերտների տրամադրում
B25: 11003 | C25: Միջոցառման անվանումը` | D25: ='Havelvas 2'!G33 -> -15218.38
C26: Ադապտիվ սպորտին առնչվող ծառայություններ
C27: Միջոցառման նկարագրությունը`
C28: Հաշմանդամային մարզական ՀԿ-ի կողմից միջազգային մրցաշարերին մարզիկների նախապատրաստում և մասնակցության ապահովում և ՀՀ առաջնությունների և այլ մարզական միջոցառումների անցկացում
C29: Միջոցառման տեսակը
C30: Ծառայությունների մատուցում
B31: 11005 | C31: Միջոցառման անվանումը` | D31: ='Havelvas 2'!G42 -> -3133.8
C32: Աջակցություն հայկական կոխ ըմբշամարտ մարզաձևի զարգացմանը
C33: Միջոցառման նկարագրությունը`
C34: Աջակցություն հայկական կոխ ըմբշամարտ մարզաձևի զարգացմանը
C35: Միջոցառման տեսակը
C36: Ծառայությունների մատուցում
B37: 11012 | C37: Միջոցառման անվանումը` | D37: ='Havelvas 2'!G51 -> -1961.5
C38: Եվրոպայի երիտասարդության օլիմպիական փառատոներին մասնակցության ապահովում
C39: Միջոցառման նկարագրությունը`
C40: Եվրոպայի երիտասարդության օլիմպիական փառատոներին մասնակցության ապահովում
C41: Միջոցառման տեսակը
...

Sheet Havelvas 2
G1: Հավելված N 2
G2: ՀՀ կառավարության 2023 թվականի
G3: ______________ ի ___Ն որոշման
A5: ՀԱՅԱՍՏԱՆԻ ՀԱՆՐԱՊԵՏՈՒԹՅԱՆ ԿԱՌԱՎԱՐՈՒԹՅԱՆ 2022 ԹՎԱԿԱՆԻ ԴԵԿՏԵՄԲԵՐԻ 29-Ի N2111-Ն ՈՐՈՇՄԱՆ N 3 ԵՎ N 4 ՀԱՎԵԼՎԱԾՆԵՐՈՒՄ ԿԱՏԱՐՎՈՂ ՓՈՓՈԽՈՒԹՅՈՒՆՆԵՐԸ
G8: հազար դրամ
A9: Գործառական դասիչը | D9: Ծրագրային դասիչը | F9: Բյուջետային հատկացումների գլխավոր կարգադրիչների, ծրագրերի, միջոցառումների և միջոցառումները կատարող պետական մարմինների անվանումները | G9: Ցուցանիշների փոփոխությունը (ավելացումները նշված են դրական նշանով, իսկ նվազեցումները՝ փակագծերում)
A10: Բաժին | B10: Խումբ | C10: Դաս | D10: Ծրագիր | E10: Միջոցառում | G10: Տարի
A11: 08 | B11: 01 | C11: 01 | F11: ԸՆԴԱՄԵՆԸ | G11: =G13 -> -0.001
F12: այդ թվում
F13: ՀՀ ԿՐԹՈՒԹՅԱՆ, ԳԻՏՈՒԹՅԱՆ, ՄՇԱԿՈՒՅԹԻ ԵՎ ՍՊՈՐՏԻ ՆԱԽԱՐԱՐՈՒԹՅՈՒՆ | G13: =G14+G147 -> -0.001
F14: ՀԱՆԳԻՍՏ, ՄՇԱԿՈՒՅԹ ԵՎ ԿՐՈՆ | G14: =G16 -> 8103.399
F15: այդ թվում`
F16: Հանգստի և սպորտի ծառայություններ | G16: =G18 -> 8103.399
F17: այդ թվում`
F18: Հանգստի և սպորտի ծառայություններ | G18: =G22+G118 -> 8103.399
F19: այդ թվում`
F20: ՀՀ կրթության, գիտության, մշակույթի և սպորտի նախարարություն | G20: =G22+G118 -> 8103.399
F21: այդ թվում`
D22: 1041 | E22: Մեծ նվաճումների սպորտ | G22: =G24+G33+G42+G51+G60+G69+G84+G97+G109 -> 28497.599
F23: այդ թվում`
E24: 12003 | F24: Օլիմպիական խաղերում, աշխարհի և Եվրոպայի առաջնություններում բարձր արդյունքների հասած ՀՀ հավաքական թիմերի մարզիկներին և նրանց մարզիչներին անվանական թոշակի հատկացում | G24: =G26 -> 112426.1
F25: այդ թվում` ըստ կատարողների
F26: ՀՀ կրթության, գիտության, մշակույթի և սպորտի նախարարություն | G26: =G28 -> 112426.1
F27: այդ թվում՝ բյուջետային ծախսերի տնտեսագիտական դասակարգման հոդվածներ
F28: ԸՆԴԱՄԵՆԸ ԾԱԽՍԵՐ | G28: =G29 -> 112426.1
F29: ԸՆԹԱՑԻԿ ԾԱԽՍԵՐ | G29: =G30 -> 112426.1
F30: ՍՈՑԻԱԼԱԿԱՆ ՆՊԱՍՏՆԵՐ ԵՎ ԿԵՆՍԱԹՈՇԱԿՆԵՐ | G30: =G31 -> 112426.1
F31: Սոցիալական օգնության դրամական արտահայտությամբ նպաստներ (բյուջեից) | G31: =G32 -> 112426.1
F32: - Կրթական, մշակութային և սպորտային նպաստներ բյուջեից | G32: 112426.1
E33: 11003 | F33: Ադապտիվ սպորտին առնչվող ծառայություններ | G33: =G35 -> -15218.38
F34: այդ թվում` ըստ կատարողների
F35: ՀՀ կրթության, գիտության, մշակույթի և սպորտի նախարարություն | G35: =G37 -> -15218.38
F36: այդ թվում՝ բյուջետային ծախսերի տնտեսագիտական դասակարգման հոդվածներ
F37: ԸՆԴԱՄԵՆԸ ԾԱԽՍԵՐ | G37: =G38 -> -15218.38
F38: ԸՆԹԱՑԻԿ ԾԱԽՍԵՐ | G38: =G39 -> -15218.38
F39: ԴՐԱՄԱՇՆՈՐՀՆԵՐ | G39: =G40 -> -15218.38
F40: Ընթացիկ դրամաշնորհներ պետական հատվածի այլ մակարդակներին | G40: =G41 -> -15218.38
F41: - Այլ ընթացիկ դրամաշնորհներ | G41: -15218.38
E42: 11005 | F42: Աջակցություն հայկական կոխ ըմբշամարտ մարզաձևի զարգացմանը | G42: =G44 -> -3133.8
F43: այդ թվում` ըստ կատարողների
...

Sheet Havelvac 3
F1: Հավելված 3
F2: ՀՀ կառավարության 2023 թվականի
F3: ______________ ի ___Ն որոշման
A6: ՀԱՅԱՍՏԱՆԻ ՀԱՆՐԱՊԵՏՈՒԹՅԱՆ ԿԱՌԱՎԱՐՈՒԹՅԱՆ 2022 ԹՎԱԿԱՆԻ ԴԵԿՏԵՄԲԵՐԻ 29-Ի N 2111-Ն ՈՐՈՇՄԱՆ N 5 ՀԱՎԵԼՎԱԾԻ N 7 ԱՂՅՈՒՍԱԿՈՒՄ ԿԱՏԱՐՎՈՂ ՓՈՓՈԽՈՒԹՅՈՒՆԸ
G7: հազար դրամներով
A8: Ծրագրային դասիչը | C8: Բյուջետային հատկացումների գլխավոր կարգադրիչների, ծրագրերի, միջոցառումների, ծախսային ուղղությունների անվանումները | F8: Միջոցառումները կատարող պետական մարմինների և դրամաշնորհ ստացող տնտեսվարող սուբյեկտների անվանումները | G8: Ցուցանիշների փոփոխությունը (նվազեցումները նշված են փակագծերում)
A9: Ծրագիր | B9: Միջոցառում | G9: Տարի
A10: ՀՀ կրթության, գիտության, մշակույթի և սպորտի նախարարություն | G10: =G11+G25+G30 -> -50155.18
A11: 1041 | B11: Մեծ նվաճումների սպորտ | G11: =G12+G15+G17+G19+G21+G23 -> -35977.58
B12: 11003 | C12: Ադապտիվ սպորտին առնչվող ծառայություններ | F12: ՀՀ կրթության, գիտության, մշակույթի և սպորտի նախարարություն | G12: =G13+G14 -> -15218.38
F13: «Հայաստանի ազգային պարալիմպիկ կոմիտե» ՀԿ | G13: -14743.38
F14: «Ռաֆտինգի հայակական ազգային ֆեդերացիա» ՀԿ | G14: -475
B15: 11005 | C15: Աջակցություն հայկական կոխ ըմբշամարտ մարզաձևի զարգացմանը | F15: ՀՀ կրթության, գիտության, մշակույթի և սպորտի նախարարություն | G15: =G16 -> -3133.8
F16: «Հայկական ազգային կոխի ֆեդերացիա» ՀԿ | G16: -3133.8
B17: 11012 | C17: Եվրոպայի երիտասարդության օլիմպիական փառատոներին մասնակցության ապահովում | F17: ՀՀ կրթության, գիտության, մշակույթի և սպորտի նախարարություն | G17: =G18 -> -1961.5
F18: «Հայաստանի ազգային օլիմպիական կոմիտե» ՀԿ | G18: -1961.5
B19: 11022 | C19: Ֆրանկոֆոնիայի մարզամշակութային խաղերին Հայաստանի մարզական պատվիրակության մասնակցության ապահովում | F19: ՀՀ կրթության, գիտության, մշակույթի և սպորտի նախարարություն | G19: =G20 -> -8883
F20: «Հայաստանի սեղանի թենիսի ֆեդերացիա» ՀԿ, «Հայաստանի աթլետիկայի ֆեդերացիա» ՀԿ, «Հայաստանի ձյուդոյի ֆեդերացիա» ՀԿ, «Հայաստանի հեծանվային մարզաձևի ֆեդերացիա» ՀԿ, «Հայաստանի ըմբշամարտի ֆեդերացիա» ՀԿ | G20: -8883
B21: 11036 | C21: ԱՊՀ երկրների երկրորդ մարզական խաղերին ՀՀ մարզական պատվիրակության մասնակցության ապահովում | F21: ՀՀ կրթության, գիտության, մշակույթի և սպորտի նախարարություն | G21: =G22 -> -4113.7
F22: «Հայաստանի աթլետիկայի ֆեդերացիա» ՀԿ, «Հայաստանի բասկետբոլի ֆեդերացիա» ՀԿ, «Հայաստանի Հանրապետության բռնցքամարտի ֆեդերացիա» ՀԿ, «Հայաստանի ըմբշամարտի ֆեդերացիա» ՀԿ, «Լողի հայկական դաշնություն» ՀԿ,«Հայաստանի հրաձգության ֆեդերացիա» ՀԿ, «Հայաստանի ձյուդոյի ֆեդերացիա» ՀԿ, «Հայաստանի մարմնամարզության ֆեդերացիա» ՀԿ, «Հայաստանի կարատեի ֆեդերացիա» ՀԿ, «Հայաստանի սամբոյի ֆեդերացիա» ՀԿ, «Հայաստանի վոլեյբոլի ֆեդերացիա» ՀԿ, «Խոտի հոկեյի հայկական ֆեդերացիա» ՀԿ | G22: -4113.7
B23: 11037 | C23: Երևանում կայանալիք ծանրամարտի մեծահասկների Եվրոպայի առաջնության անցկացում | F23: ՀՀ կրթության, գիտության, մշակույթի և սպորտի նախարարություն | G23: =G24 -> -2667.2
F24: «Հայաստանի ծանրամարտի ֆեդերացիա» ՀԿ | G24: -2667.2
A25: 1163 | B25: Մասսայական սպորտ | G25: =G26+G28 -> -6074.2
B26: 11018 | C26: «Հայաստանի Հանրապետության Վարչապետի գավաթ» սիրողական խճուղային հեծանվավազքի մրցաշարի անցկացում | F26: ՀՀ կրթության, գիտության, մշակույթի և սպորտի նախարարություն | G26: =+G27 -> -4040.2
F27: Մրցույթով ընտրված կազմակերպություն | G27: -4040.2
B28: 11019 | C28: «Հայաստանի Հանրապետության Վարչապետի գավաթ» սիրողական խճուղավազքի մրցաշարի անցկացում | F28: ՀՀ կրթության, գիտության, մշակույթի և սպորտի նախարարություն | G28: =G29 -> -2034
F29: Մրցույթով ընտրված կազմակերպություն | G29: -2034
A30: 1148 | B30: Արտադպրոցական դաստիարակության ծրագիր | G30: =G31 -> -8103.4
B31: 11007 | C31: Մարզիչ-մանկավարժների վերապատրաստման կազմակերպում | F31: ՀՀ կրթության, գիտության, մշակույթի և սպորտի նախարարություն | G31: =+G32 -> -8103.4
F32: «Երևանի օլիմպիական հերթափոխի պետական մարզական քոլեջ» ՊՈԱԿ | G32: -8103.4

Sheet Havelvac 4
A1: Հավելված N 4
A2: ՀՀ կառավարության 2023 թվականի
A3: ______________ ի ___Ն որոշման
B5: ՀԱՅԱՍՏԱՆԻ ՀԱՆՐԱՊԵՏՈՒԹՅԱՆ ԿԱՌԱՎԱՐՈՒԹՅԱՆ 2022 ԹՎԱԿԱՆԻ ԴԵԿՏԵՄԲԵՐԻ 29-Ի N 2111-Ն ՈՐՈՇՄԱՆ N 9 ՀԱՎԵԼՎԱԾԻ N 9.13 ԱՂՅՈՒՍԱԿՆԵՐՈՒՄ ԿԱՏԱՐՎՈՂ ՓՈՓՈԽՈՒԹՅՈՒՆՆԵՐԸ
A7: Աղյուսակ 9․13
C8: ՀՀ կրթության, գիտության, մշակույթի և սպորտի նախարարություն
B9: ՄԱՍ 2. ՊԵՏԱԿԱՆ ՄԱՐՄՆԻ ԳԾՈՎ ԱՐԴՅՈՒՆՔԱՅԻՆ (ԿԱՏԱՐՈՂԱԿԱՆ) ՑՈՒՑԱՆԻՇՆԵՐԸ
B13: Ծրագրի դասիչը | C13: Ծրագրի անվանումը
B14: 1041 | C14: Մեծ նվաճումների սպորտ
B17: Ծրագրի միջոցառումները
B18: Ծրագրի դասիչը՝ | C18: 1041 | D18: Ցուցանիշների փոփոխությունը (ավելացումները նշված են դրական նշանով)
B19: Միջոցառման դասիչը՝ | C19: 12003 | D19: Տարի
B20: Միջոցառման անվանումը՝ | C20: Օլիմպիական խաղերում, աշխարհի և Եվրոպայի առաջնություններում բարձր արդյունքների հասած ՀՀ հավաքական թիմերի մարզիկներին և նրանց մարզիչներին անվանական թոշակի հատկացում
B21: Նկարագրությունը՝ | C21: Օլիմպիական խաղերում, աշխարհի և Եվրոպայի առաջնություններում բարձր արդյունքների հասած ՀՀ հավաքական թիմերի մարզիկներին և նրանց մարզիչներին անվանական թոշակի հատկացում
B22: Միջոցառման տեսակը՝ | C22: Տրանսֆերտների տրամադրում
B23: Շահառուների ընտրության չափանիշները | C23: ՀՀ կառավարության 2020 թվականի N 1096-Ն որոշմամբ սահմանված ՀՀ հավաքական թիմերի կազմում բարձր արդյունքներ ցուցաբերած մարզիկներ և նրանց մարզիչներ
B24: Արդյունքի չափորոշիչներ
B25: Միջոցառման վրա կատարվող ծախսը (հազար դրամ) | D25: 112426.1
B29: Ծրագրի միջոցառումները
B30: Ծրագրի դասիչը՝ | C30: 1041 | D30: Ցուցանիշների փոփոխությունը (նվազեցումները նշված են փակագծերում)
B31: Միջոցառման դասիչը՝ | C31: 12002 | D31: Տարի
B32: Միջոցառման անվանումը՝ | C32: ՀՀ հավաքական թիմերի գլխավոր և ավագ մարզիչների վարձատրություն և աշխարհի չեմպիոններին, օլիմպիական խաղերի և շախմատի համաշխարհային օլիմպիադայի մրցանակակիրներին պատվովճարի հատկացում
B33: Նկարագրությունը՝ | C33: ՀՀ հավաքական թիմերի գլխավոր և ավագ մարզիչների վարձատրություն և աշխարհի չեմպիոններին, օլիմպիական խաղերի և շախմատի համաշխարհային օլիմպիադայի մրցանակակիրներին պատվովճարի հատկացում
B34: Միջոցառման տեսակը՝ | C34: Տրանսֆերտների տրամադրում
B35: Շահառուների ընտրության չափանիշները | C35: ՀՀ կառավարության 2015 թ. օգոստոսի 13-ի N925-Ն որոշմամբ սահմանված ՀՀ հավաքական թիմերի գլխավոր և ավագ մարզիչներ, օլիմպիական խաղերի ծրագրում ընդգրկված մարզաձևերի, շախմատի և սամբոյի աշխարհի առաջնություններում չեմպիոն դարձած մարզիկներ
B36: Արդյունքի չափորոշիչներ
B37: Միջոցառման վրա կատարվող ծախսը (հազար դրամ) | D37: -1780.8
B41: Ծրագրի միջոցառումները
B42: Ծրագրի դասիչը՝ | C42: 1041 | D42: Ցուցանիշների փոփոխությունը (նվազեցումները նշված են փակագծերում)
B43: Միջոցառման դասիչը՝ | C43: 11003 | D43: Տարի
B44: Միջոցառման անվանումը՝ | C44: Ադապտիվ սպորտին առնչվող ծառայություններ
B45: Նկարագրությունը՝ | C45: Հաշմանդամային մարզական ՀԿ-ի կողմից միջազգային մրցաշարերին մարզիկների նախապատրաստում և մասնակցության ապահովում և ՀՀ առաջնությունների և այլ մարզական միջոցառումների անցկացում
B46: Միջոցառման տեսակը՝ | C46: Ծառայությունների մատուցում
B47: Ծառայությունը մատուցող կազմակերպությունների անվանումը | C47: Մասնագիտացված կազմակերպություններ
B48: Արդյունքի չափորոշիչներ
B49: Միջոցառումների թիվ, հատ | D49: -2
B50: Մասնակիցների թիվ, մարդ, այդ թվում՛ | D50: =-138-50 -> -188
B51: իգական սեռի | D51: -53
B52: արական սեռի | D52: -135
B53: ՀՀ առաջնությունների քանակ, հատ | D53: -1
...

Sheet Havelvats 5
D1: Հավելված N 5
C2: ՀՀ կառավարության 2023 թվականի
C3: ______________ ի ___Ն որոշման
B5: ՀԱՅԱՍՏԱՆԻ ՀԱՆՐԱՊԵՏՈՒԹՅԱՆ ԿԱՌԱՎԱՐՈՒԹՅԱՆ 2022 ԹՎԱԿԱՆԻ ԴԵԿՏԵՄԲԵՐԻ 29-Ի N 2111-Ն ՈՐՈՇՄԱՆ N 9․1 ՀԱՎԵԼՎԱԾԻ N 9.1․13 ԱՂՅՈՒՍԱԿՆԵՐՈՒՄ ԿԱՏԱՐՎՈՂ ՓՈՓՈԽՈՒԹՅՈՒՆՆԵՐԸ
A7: Աղյուսակ 9․1․13
C9: ՀՀ կրթության, գիտության, մշակույթի և սպորտի նախարարություն
B10: ՄԱՍ 2. ՊԵՏԱԿԱՆ ՄԱՐՄՆԻ ԳԾՈՎ ԱՐԴՅՈՒՆՔԱՅԻՆ (ԿԱՏԱՐՈՂԱԿԱՆ) ՑՈՒՑԱՆԻՇՆԵՐԸ
B14: Ծրագրի դասիչը | C14: Ծրագրի անվանումը
B15: 1041 | C15: Մեծ նվաճումների սպորտ
B18: Ծրագրի միջոցառումները
B19: Ծրագրի դասիչը՝ | C19: 1041 | D19: Ցուցանիշների փոփոխությունը (ավելացումները նշված են դրական նշանով)
B20: Միջոցառման դասիչը՝ | C20: 12003 | D20: Տարի
B21: Միջոցառման անվանումը՝ | C21: Օլիմպիական խաղերում, աշխարհի և Եվրոպայի առաջնություններում բարձր արդյունքների հասած ՀՀ հավաքական թիմերի մարզիկներին և նրանց մարզիչներին անվանական թոշակի հատկացում
B22: Նկարագրությունը՝ | C22: Օլիմպիական խաղերում, աշխարհի և Եվրոպայի առաջնություններում բարձր արդյունքների հասած ՀՀ հավաքական թիմերի մարզիկներին և նրանց մարզիչներին անվանական թոշակի հատկացում
B23: Միջոցառման տեսակը՝ | C23: Տրանսֆերտների տրամադրում
B24: Շահառուների ընտրության չափանիշները | C24: ՀՀ կառավարության 2020 թվականի N 1096-Ն որոշմամբ սահմանված ՀՀ հավաքական թիմերի կազմում բարձր արդյունքներ ցուցաբերած մարզիկներ և նրանց մարզիչներ
B25: Արդյունքի չափորոշիչներ
B26: Միջոցառման վրա կատարվող ծախսը (հազար դրամ) | D26: 112426.1
B30: Ծրագրի միջոցառումները
B31: Ծրագրի դասիչը՝ | C31: 1041 | D31: Ցուցանիշների փոփոխությունը (նվազեցումները նշված են փակագծերում)
B32: Միջոցառման դասիչը՝ | C32: 12002 | D32: Տարի
B33: Միջոցառման անվանումը՝ | C33: ՀՀ հավաքական թիմերի գլխավոր և ավագ մարզիչների վարձատրություն և աշխարհի չեմպիոններին, օլիմպիական խաղերի և շախմատի համաշխարհային օլիմպիադայի մրցանակակիրներին պատվովճարի հատկացում
B34: Նկարագրությունը՝ | C34: ՀՀ հավաքական թիմերի գլխավոր և ավագ մարզիչների վարձատրություն և աշխարհի չեմպիոններին, օլիմպիական խաղերի և շախմատի համաշխարհային օլիմպիադայի մրցանակակիրներին պատվովճարի հատկացում
B35: Միջոցառման տեսակը՝ | C35: Տրանսֆերտների տրամադրում
B36: Շահառուների ընտրության չափանիշները | C36: ՀՀ կառավարության 2015 թ. օգոստոսի 13-ի N925-Ն որոշմամբ սահմանված ՀՀ հավաքական թիմերի գլխավոր և ավագ մարզիչներ, օլիմպիական խաղերի ծրագրում ընդգրկված մարզաձևերի, շախմատի և սամբոյի աշխարհի առաջնություններում չեմպիոն դարձած մարզիկներ
B37: Արդյունքի չափորոշիչներ
B38: Միջոցառման վրա կատարվող ծախսը (հազար դրամ) | D38: -1780.8
B42: Ծրագրի միջոցառումները
B43: Ծրագրի դասիչը՝ | C43: 1041 | D43: Ցուցանիշների փոփոխությունը (նվազեցումները նշված են փակագծերում)
B44: Միջոցառման դասիչը՝ | C44: 11003 | D44: Տարի
B45: Միջոցառման անվանումը՝ | C45: Ադապտիվ սպորտին առնչվող ծառայություններ
B46: Նկարագրությունը՝ | C46: Հաշմանդամային մարզական ՀԿ-ի կողմից միջազգային մրցաշարերին մարզիկների նախապատրաստում և մասնակցության ապահովում և ՀՀ առաջնությունների և այլ մարզական միջոցառումների անցկացում
B47: Միջոցառման տեսակը՝ | C47: Ծառայությունների մատուցում
B48: Ծառայությունը մատուցող կազմակերպությունների անվանումը | C48: Մասնագիտացված կազմակերպություններ
B49: Արդյունքի չափորոշիչներ
B50: Միջոցառումների թիվ, հատ | D50: -2
B51: Մասնակիցների թիվ, մարդ, այդ թվում՛ | D51: =-138-50 -> -188
B52: իգական սեռի | D52: -53
B53: արական սեռի | D53: -135
B54: ՀՀ առաջնությունների քանակ, հատ | D54: -1
...

Sheet Havelva 6
E1: Հավելված N 6
E2: ՀՀ կառավարության 2023 թվականի
E3: ———————— N -Ն որոշման
A4: ՀԱՅԱՍՏԱՆԻ ՀԱՆՐԱՊԵՏՈՒԹՅԱՆ ԿԱՌԱՎԱՐՈՒԹՅԱՆ 2022 ԹՎԱԿԱՆԻ ԴԵԿՏԵՄԲԵՐԻ 29-Ի N 2111-Ն ՈՐՈՇՄԱՆ N 10 ՀԱՎԵԼՎԱԾԻ ՑՈՒՑԱՆԻՇՆԵՐՈՒՄ ԿԱՏԱՐՎՈՂ ՓՈՓՈԽՈՒԹՅՈՒՆՆԵՐԸ
A6: Կոդը | B6: Անվանումը | C6: Գնման ձևը | D6: Չափի միավորը | E6: միավորի գինը | F6: Ցուցանիշների փոփոխությունը (նվազեցումները նշված են փակագծերում)
F7: քանակը | G7: գումարը (հազար դրամով)
A8: 1 | B8: 2 | C8: 3 | D8: 4 | E8: 5 | F8: 6 | G8: 7
A9: ՀՀ կրթության, գիտության, մշաույթի և սպորտի նախարարություն | G9: =G10 -> -60490.1
A10: Բաժին N 08 | B10: Խումբ N 01 | C10: Դաս N 01 | D10: Հանգստի և սպորտի ծառայություններ | G10: =G12+G24+G30+G34+G38 -> -60490.1
A11: 1041 11021 | B11: ՀՀ հանրակրթական, միջին մասնագիտական և բարձրագույն ուսումնական հաստատություններին, ինչպես նաև մանկապատանեկան մարզադպրոցներին, մարզաձևերի ազգային ֆեդերացիաներին և այլ մարզական հասարակական կազմակերպություններին գույքով ապահովում
B12: ՄԱՍ I. Ա Պ Ր Ա Ն Ք Ն Ե Ր | G12: =SUM(G13:G23) -> -21671.3
A13: 37451190-1 | B13: դաշտային հոկեյի գնդակներ | C13: էԱՃ | D13: հատ | G13: -130
A14: 37421260-2 | B14: սուսերի շեղբեր | C14: էԱՃ | D14: հատ | G14: -174.9
A15: 34521140-1 | B15: այլ մասնագիտացված նավակներ | C15: էԱՃ | D15: հատ | G15: -442.4
A16: 37451410-503 | B16: բասկետբոլի գնդակներ | C16: էԱՃ | D16: հատ | G16: -1106
A17: 37421100-503 | B17: մարմնամարզության գորգեր | C17: էԱՃ | D17: հատ | G17: -168.2
A18: 14781200-504 | B18: մագնեզիում | C18: ԳՀ | D18: կգ | G18: -17121
A19: 37451290-503 | B19: ֆուտբոլի գնդակներ | C19: էԱՃ | D19: հատ | G19: -772.8
A20: 37451360-503 | B20: հանդբոլի գնդակներ | C20: էԱՃ | D20: հատ | G20: -426
A21: 37421260-1 | B21: սուսերի շեղբեր | C21: էԱՃ | D21: հատ | G21: -504
A22: 37461170-503 | B22: սեղանի թենիսի գնդակներ | C22: էԱՃ | D22: հատ | G22: -250
A23: 37431282-521 | B23: ծանրաձողեր | C23: էԱՃ | D23: լրակազմ | G23: -576
A24: 1041-11022 | B24: Ֆրանկոֆոնիայի մարզամշակութային խաղերին Հայաստանի մարզական պատվիրակության մասնակցության ապահովում | G24: =G25+G28 -> -46.5
B25: ՄԱՍ I. Ա Պ Ր Ա Ն Ք Ն Ե Ր | G25: =G26+G27 -> -43.4
A26: 18411900-504 | B26: սպորտային հագուստ, կոշիկ և այլ պարագաներ | C26: էԱՃ | D26: լրակազմ | G26: -41.4
A27: 39281100-501 | B27: հուշանվերներ | C27: էԱՃ | D27: հատ | G27: -2
B28: ՄԱՍ III. ԾԱՌԱՅՈՒԹՅՈՒՆՆԵՐ | G28: =G29 -> -3.1
A29: 66511140-33 | B29: բժշկական ապահովագրության ծառայություններ | C29: ՄԱ | D29: դրամ | E29: -3100 | G29: -3.1
A30: 1041-11036 | B30: ԱՊՀ երկրների երկրորդ մարզական խաղերին ՀՀ մարզական պատվիրակության մասնակցության ապահովում | G30: =G31 -> -137.4
B31: ՄԱՍ I. Ա Պ Ր Ա Ն Ք Ն Ե Ր | G31: =G32+G33 -> -137.4
A32: 18411900-505 | B32: սպորտային հագուստ, կոշիկ և այլ պարագաներ | C32: էԱՃ | D32: լրակազմ | G32: -132
A33: 39281100-502 | B33: հուշանվերներ | C33: էԱՃ | D33: հատ | G33: -5.4
A34: 1041-11037 | B34: Երևանում կայանալիք ծանրամարտի մեծահասկների Եվրոպայի առաջնության անցկացում | G34: =G35 -> -24314.9
B35: ՄԱՍ III. ԾԱՌԱՅՈՒԹՅՈՒՆՆԵՐ | G35: =G36 -> -24314.9
A36: 92621110-1 | B36: սպորտային միջոցառումների կազմակերպման ծառայություններպարագաներ | C36: ԵՄ | D36: դրամ | G36: -24314.9
A37: 1163 11022 | B37: Մասսայական սպորտին առնչվող ծառայություններ | G37: =G38 -> -14320
B38: ՄԱՍ III. ԾԱՌԱՅՈՒԹՅՈՒՆՆԵՐ | G38: =G39+G40+G41+G42 -> -14320
A39: 92621110/507 | B39: սպորտային միջոցառումների կազմակերպման ծառայություններ | C39: էԱՃ | D39: դրամ | E39: -6897200 | F39: 1 | G39: =E39*F39/1000 -> -6897.2
A40: 92621110/508 | B40: սպորտային միջոցառումների կազմակերպման ծառայություններ | C40: էԱՃ | D40: դրամ | E40: -3895901 | F40: 1 | G40: -3895.9
A41: 92621110/509 | B41: սպորտային միջոցառումների կազմակերպման ծառայություններ | C41: էԱՃ | D41: դրամ | E41: -2374600 | F41: 1 | G41: -2374.6
...
