Workbook
Name _tab10: #REF!
Name _tab11: #REF!
Name _tab12: #REF!
Name _tab13: #REF!
Name _tab14: #REF!
Name _tab15: #REF!
Name _tab16: #REF!
Name _tab17: #REF!
Name _tab18: #REF!
Name _tab19: #REF!
Name _tab20: #REF!
Name _tab21: #REF!
Name _tab22: #REF!
Name _tab23: #REF!
Name _tab24: #REF!
Name _tab5: #REF!
Name _tab6: #REF!
Name _tab7: #REF!
Name _tab8: #REF!
Name _tab9: #REF!
Name par_count: #REF!,#REF!,#REF!,#REF!,#REF!,#REF!,#REF!,#REF!,#REF!,#REF!,#REF!,#REF!,#REF!,#REF!,#REF!
Name par_qual: #REF!,#REF!,#REF!,#REF!,#REF!
Name par_time: #REF!,#REF!,#REF!,#REF!
Name par2.12s: #REF!
Name par2.4s: #REF!,#REF!,#REF!,#REF!,#REF!,#REF!,#REF!,#REF!,#REF!,#REF!,#REF!,#REF!,#REF!,#REF!,#REF!,#REF!
Name par2.5s: #REF!,#REF!
Name par2.6s: #REF!,#REF!,#REF!,#REF!
Name par2.7s: #REF!,#REF!
Name par2.9s: #REF!,#REF!,#REF!,#REF!,#REF!,#REF!,#REF!,#REF!,#REF!,#REF!,#REF!,#REF!,#REF!,#REF!,#REF!,#REF!
Name par4.10s: #REF!,#REF!
Name par4.11d: #REF!,#REF!,#REF!,#REF!,#REF!
Name par4.12d: #REF!
Name par4.13s: #REF!
Name par4.14: #REF!,#REF!,#REF!,#REF!,#REF!,#REF!
Name par4.15: #REF!,#REF!,#REF!
Name par4.16: #REF!,#REF!,#REF!
Name par4.17: #REF!,#REF!,#REF!,#REF!
Name par4.18d: #REF!,#REF!
Name par4.19s: #REF!
Name par4.20f: #REF!
Name par4.21f: #REF!
Name par4.22: #REF!
Name par4.4: #REF!
Name par4.5: #REF!
Name par4.6s: #REF!
Name par4.7s: #REF!
Name par4.8: #REF!,#REF!,#REF!,#REF!,#REF!
Name par4.9: #REF!,#REF!,#REF!,#REF!,#REF!,#REF!
Name par5.1: #REF!,#REF!
Name par5.3: #REF!,#REF!,#REF!,#REF!,#REF!,#REF!
Name par5.4: #REF!,#REF!,#REF!,#REF!,#REF!
Name par5.5: #REF!
Name par5.6: #REF!,#REF!
Name program: #REF!,#REF!,#REF!,#REF!,#REF!,#REF!,#REF!,#REF!,#REF!,#REF!,#REF!,#REF!,#REF!,#REF!,#REF!,#REF!,#REF!,#REF!,#REF!,#REF!

Sheet 1
B1: Հավելված № 1
B2: ՀՀ կառավարության 2023 թվականի ----------
B3: № ---------- որոշման
B4: «ՀԱՅԱՍՏԱՆԻ ՀԱՆՐԱՊԵՏՈՒԹՅԱՆ 2023 ԹՎԱԿԱՆԻ ՊԵՏԱԿԱՆ ԲՅՈՒՋԵԻ ՄԱՍԻՆ» ՀԱՅԱՍՏԱՆԻ ՀԱՆՐԱՊԵՏՈՒԹՅԱՆ ՕՐԵՆՔԻ N 1 ՀԱՎԵԼՎԱԾԻ N 1 ԱՂՅՈՒՍԱԿՈՒՄ ԿԱՏԱՐՎՈՂ ՓՈՓՈԽՈՒԹՅՈՒՆԸ ԵՎ ԼՐԱՑՈՒՄԸ
D5: հազար դրամ
B6: Ծրագրային դասիչը | C6: Ծրագրի անվանումը | D6: Ցուցանիշների փոփոխությունները (ավելացումը նշված է դրական նշանով, իսկ նվազեցումը` փակագծերում)
D7: Տարի
B8: Ընդամենը | D8: =+D9+D10+D11+D12+D13+D14+D15 -> 0
B9: 1099 | C9: Առողջության առաջնային պահպանում | D9: =+'2'!E10 -> -396000
B10: 1200 | C10: Մոր և մանկան առողջության պահպանում | D10: =+'2'!E35 -> 150000
B11: 1201 | C11: Շտապ բժշկական օգնություն | D11: =+'2'!E66 -> -20000
B12: 1202 | C12: Ոչ վարակիչ հիվանդությունների բժշկական օգնության ապահովում | D12: =+'2'!E79 -> 317000
B13: 1207 | C13: Սոցիալապես անապահով և առանձին խմբերի անձանց բժշկական օգնություն | D13: =+'2'!E110 -> -415000
B14: 1208 | C14: Վարակիչ հիվանդությունների կանխարգելման ծրագիր | D14: =+'2'!E135 -> 45000
B15: 1139 | C15: ՀՀ կառավարություն | D15: 319000

Sheet 2
B1: Հավելված № 2
B2: ՀՀ կառավարության 2023 թվականի ----------
B3: № ---------- որոշման
B4: «ՀԱՅԱՍՏԱՆԻ ՀԱՆՐԱՊԵՏՈՒԹՅԱՆ 2023 ԹՎԱԿԱՆԻ ՊԵՏԱԿԱՆ ԲՅՈՒՋԵԻ ՄԱՍԻՆ» ՀԱՅԱՍՏԱՆԻ ՀԱՆՐԱՊԵՏՈՒԹՅԱՆ ՕՐԵՆՔԻ N 1 ՀԱՎԵԼՎԱԾԻ N 2 ԱՂՅՈՒՍԱԿՈՒՄ ԿԱՏԱՐՎՈՂ ՎԵՐԱԲԱՇԽՈՒՄԸ ԵՎ ՀԱՅԱՍՏԱՆԻ ՀԱՆՐԱՊԵՏՈՒԹՅԱՆ ԿԱՌԱՎԱՐՈՒԹՅԱՆ 2022 ԹՎԱԿԱՆԻ ԴԵԿՏԵՄԲԵՐԻ 29-Ի № 2111-Ն ՈՐՈՇՄԱՆ № 5 ՀԱՎԵԼՎԱԾԻ № 1 ԱՂՅՈՒՍԱԿՈՒՄ ԿԱՏԱՐՎՈՂ ՓՈՓՈԽՈՒԹՅՈՒՆԸ ԵՎ ԼՐԱՑՈՒՄԸ
E5: հազար դրամ
B6: Ծրագրային դասիչը | D6: Բյուջետային հատկացումների գլխավոր կարգադրիչների, ծրագրերի և միջոցառումների անվանումները | E6: Ցուցանիշների փոփոխությունները (ավելացումները նշված են դրական նշանով, իսկ նվազեցումները` փակագծերում)
B7: Ծրագիր | C7: Միջոցառում | E7: Տարի
D8: ԸՆԴԱՄԵՆԸ | E8: =+E9+E148 -> 0
D9: ՀՀ առողջապահության նախարարություն | E9: =+E10+E35+E66+E79+E110+E135 -> -319000
B10: 1099 | D10: Ծրագրի անվանումը` | E10: =+E17+E23+E29 -> -396000
D11: Առողջության առաջնային պահպանում
D12: Ծրագրի նպատակը`
D13: Բնակչությանը մատչելի և որակյալ առաջնային բժշկական օգնության և սպասարկման տրամադրում, առողջության վատթարացման ռիսկի գործոնների վերհանում և դրանց հնարավոր անբարենպաստ ազդեցության կանխարգելում
D14: Վերջնական արդյունքի նկարագրությունը`
D15: Առողջության առաջնային պահպանման օղակում ցուցաբերվող բժշկական օգնության որակի, հիվանդությունների վաղ հայտնաբերման և կանխարգելման մակարդակի բարելավում, առողջապահական ծառայությունների վերաբերյալ իրազեկվածության և դրանց նկատմամբ պահանջարկի ավելացում
B16: Ծրագրի միջոցառումներ
C17: 11001 | D17: Միջոցառման անվանումը` | E17: -400000
D18: Ամբուլատոր-պոլիկլինիկական բժշկական օգնության ծառայություններ
D19: Միջոցառման նկարագրությունը`
D20: Ամբուլատոր-պոլիկլինիկական բժշկական օգնության ծառայություններ
D21: Միջոցառման տեսակը
D22: Ծառայությունների մատուցում
C23: 11004 | D23: Միջոցառման անվանումը` | E23: 10000
D24: Ախտորոշման ճշտման նպատակով լաբորատոր-գործիքային ախտորոշիչ հետազոտություններ նեղ մասնագիտացված կենտրոններում և շարունակական հսկողություն պահանջող և առանձին հիվանդությունների բուժման ծառայություններ
D25: Միջոցառման նկարագրությունը`
D26: Ախտորոշման ճշտման նպատակով հետազոտությունների, քրոնիկ հիվանդությունների շարունակական բժշկական օգնության իրականացում նեղ մասնագիտացված կենտրոններում
D27: Միջոցառման տեսակը
D28: Ծառայությունների մատուցում
C29: 11006 | D29: Միջոցառման անվանումը` | E29: -6000
D30: Կոլոռեկտալ քաղցկեղի սքրինինգ
D31: Միջոցառման նկարագրությունը`
D32: Կոլոռեկտալ քաղցկեղի ախտորոշման նպատակով հետազոտությունների իրականացում հատուկ ընտրված կենտրոններում
D33: Միջոցառման տեսակը
D34: Ծառայությունների մատուցում
B35: 1200 | D35: Ծրագրի անվանումը | E35: =+E42+E48+E54+E60 -> 150000
D36: Մոր և մանկան առողջության պահպանում
D37: Ծրագրի նպատակը
D38: Մոր և մանկան առողջության պահպանում, կանանց և երեխաներին մատուցվող բժշկական ծառայությունների մատչելիության և որակի բարելավում
D39: Վերջնական արդյունքի նկարագրությունը
D40: Մանկական և մայրական մահացության և հիվանդացության կրճատում, կանանց վերարտադրողական առողջության բարելավում
...

Sheet 3
B1: Հավելված № 3
B2: ՀՀ կառավարության 2023 թվականի -----------
B3: № ------------ -Ն որոշման
B4: ՀԱՅԱՍՏԱՆԻ ՀԱՆՐԱՊԵՏՈՒԹՅԱՆ ԿԱՌԱՎԱՐՈՒԹՅԱՆ 2022 ԹՎԱԿԱՆԻ ԴԵԿՏԵՄԲԵՐԻ 29-Ի № 2111-Ն ՈՐՈՇՄԱՆ NN 3 և 4 ՀԱՎԵԼՎԱԾՆԵՐՈՒՄ ԿԱՏԱՐՎՈՂ ՓՈՓՈԽՈՒԹՅՈՒՆՆԵՐԸ ԵՎ ԼՐԱՑՈՒՄՆԵՐԸ
B5: հազար դրամ
B6: Գործառական դասիչը | E6: Ծրագրային դասիչը | G6: Բյուջետային հատկացումների գլխավոր կարգադրիչների, ծրագրերի, միջոցառումների և միջոցառումները կատարող պետական մարմինների անվանումները | H6: Ցուցանիշների փոփոխությունները (ավելացումները նշված են դրական նշանով, իսկ նվազեցումները` փակագծերում)
B7: բաժին | C7: խումբ | D7: դաս | E7: Ծրագիր | F7: Միջոցառում | H7: Տարի
B8: ԸՆԴԱՄԵՆԸ | H8: =+H9+H209 -> 0
B9: 07 | G9: ԱՌՈՂՋԱՊԱՀՈՒԹՅՈՒՆ | H9: =+H11+H115 -> -319000
G10: այդ թվում՝
C11: 02 | G11: Արտահիվանդանոցային ծառայություններ | H11: =+H13+H28+H85+H100 -> -331000
G12: այդ թվում՝
D13: 01 | G13: Ընդհանուր բնույթի բժշկական ծառայություններ | H13: =+H15 -> -400000
G14: այդ թվում`
G15: ՀՀ առողջապահության նախարարություն | H15: =+H17 -> -400000
G16: այդ թվում՝
E17: 1099 | G17: Առողջության առաջնային պահպանում | H17: =+H19 -> -400000
G18: այդ թվում`
F19: 11001 | G19: Ամբուլատոր-պոլիկլինիկական բժշկական օգնության ծառայություններ | H19: =+H21 -> -400000
G20: այդ թվում` ըստ կատարողների
G21: ՀՀ առողջապահության նախարարություն | H21: =+H23 -> -400000
G22: այդ թվում` բյուջետային ծախսերի տնտեսագիտական դասակարգման հոդվածներ
G23: ԸՆԴԱՄԵՆԸ ԾԱԽՍԵՐ | H23: =+H24 -> -400000
G24: ԸՆԹԱՑԻԿ ԾԱԽՍԵՐ | H24: =+H25 -> -400000
G25: ԾԱՌԱՅՈՒԹՅՈՒՆՆԵՐԻ ԵՎ ԱՊՐԱՆՔՆԵՐԻ ՁԵՌՔԲԵՐՈՒՄ | H25: =+H27 -> -400000
G26: Պայմանագրային այլ ծառայությունների ձեռքբերում
G27: - Ընդհանուր բնույթի այլ ծառայություններ | H27: =+'2'!E17 -> -400000
D28: 02 | G28: Մասնագիտացված բժշկական ծառայություններ | H28: =+H30 -> 104000
G29: այդ թվում՝
G30: ՀՀ առողջապահության նախարարություն | H30: =+H32+H52+H63+H74 -> 104000
G31: այդ թվում՝
E32: 1099 | G32: Առողջության առաջնային պահպանում | H32: =+H34+H43 -> 4000
G33: այդ թվում`
F34: 11004 | G34: Ախտորոշման ճշտման նպատակով լաբորատոր-գործիքային ախտորոշիչ հետազոտություններ նեղ մասնագիտացված կենտրոններում և շարունակական հսկողություն պահանջող և առանձին հիվանդությունների բուժման ծառայություններ | H34: =+H36 -> 10000
G35: այդ թվում` ըստ կատարողների
G36: ՀՀ առողջապահության նախարարություն | H36: =+H38 -> 10000
G37: այդ թվում` բյուջետային ծախսերի տնտեսագիտական դասակարգման հոդվածներ
G38: ԸՆԴԱՄԵՆԸ ԾԱԽՍԵՐ | H38: =+H39 -> 10000
G39: ԸՆԹԱՑԻԿ ԾԱԽՍԵՐ | H39: =+H40 -> 10000
G40: ԾԱՌԱՅՈՒԹՅՈՒՆՆԵՐԻ ԵՎ ԱՊՐԱՆՔՆԵՐԻ ՁԵՌՔԲԵՐՈՒՄ | H40: =+H42 -> 10000
...

Sheet 4
B1: Հավելված № 4
B2: ՀՀ կառավարության 2023 թվականի -----------
B3: № ------------ -Ն որոշման
B4: ՀԱՅԱՍՏԱՆԻ ՀԱՆՐԱՊԵՏՈՒԹՅԱՆ ԿԱՌԱՎԱՐՈՒԹՅԱՆ 2022 ԹՎԱԿԱՆԻ ԴԵԿՏԵՄԲԵՐԻ 29-Ի N 2111-Ն ՈՐՈՇՄԱՆ N 9 ՀԱՎԵԼՎԱԾԻ 9.8 ԱՂՅՈՒՍԱԿՈՒՄ ԿԱՏԱՐՎՈՂ ՓՈՓՈԽՈՒԹՅՈՒՆՆԵՐԸ
B5: ՄԱՍ 2. ՊԵՏԱԿԱՆ ՄԱՐՄՆԻ ԳԾՈՎ ԱՐԴՅՈՒՆՔԱՅԻՆ (ԿԱՏԱՐՈՂԱԿԱՆ) ՑՈՒՑԱՆԻՇՆԵՐԸ
B7: Ծրագրի դասիչը | C7: Ծրագրի անվանումը
B8: Ծրագրի դասիչը` | C8: 1099 | D8: Ցուցանիշների փոփոխությունը (նվազեցումը նշված է փակագծերում)
B9: Միջոցառման դասիչը` | C9: 11001 | D9: Տարի
B10: Միջոցառման անվանումը` | C10: Ամբուլատոր-պոլիկլինիկական բժշկական օգնության ծառայություններ
B11: Նկարագրությունը` | C11: Ամբուլատոր-պոլիկլինիկական բժշկական օգնության ծառայություններ
B12: Միջոցառման տեսակը` | C12: Ծառայությունների մատուցում
B13: Ծառայությունը մատուցող կազմակերպության(ների) անվանում(ներ)ը | C13: ՀՀ գնումների մասին օրենսդրությանը համապատասխան ընտրված կազմակերպություններ
B14: Միջոցառման վրա կատարվող ծախսը (հազար դրամ) | D14: =+'2'!E17 -> -400000
B16: Ծրագրի դասիչը` | C16: 1099 | D16: Ցուցանիշների փոփոխությունները (ավելացումները նշված են դրական նշանով, իսկ նվազեցումները` փակագծերում)
B17: Միջոցառման դասիչը` | C17: 11004 | D17: Տարի
B18: Միջոցառման անվանումը` | C18: Ախտորոշման ճշտման նպատակով լաբորատոր-գործիքային ախտորոշիչ հետազոտություններ նեղ մասնագիտացված կենտրոններում և շարունակական հսկողություն պահանջող և առանձին հիվանդությունների բուժման ծառայություններ
B19: Նկարագրությունը` | C19: Ախտորոշման ճշտման նպատակով հետազոտությունների, քրոնիկ հիվանդությունների շարունակական բժշկական օգնության իրականացում նեղ մասնագիտացված կենտրոններում
B20: Միջոցառման տեսակը` | C20: Ծառայությունների մատուցում
B21: Ծառայությունը մատուցող կազմակերպության(ների) անվանում(ներ)ը | C21: ՀՀ գնումների մասին օրենսդրությանը համապատասխան ընտրված կազմակերպություններ
B22: Արդյունքի չափորոշիչներ
B23: Հետազոտությունների քանակ, հատ | D23: -10000
B24: Միջոցառման վրա կատարվող ծախսը (հազար դրամ) | D24: =+'2'!E23 -> 10000
B26: Ծրագրի դասիչը` | C26: 1099 | D26: Ցուցանիշների փոփոխությունները (ավելացումները նշված են դրական նշանով, իսկ նվազեցումները` փակագծերում)
B27: Միջոցառման դասիչը` | C27: 11006 | D27: Տարի
B28: Միջոցառման անվանումը` | C28: Կոլոռեկտալ քաղցկեղի սքրինինգ
B29: Նկարագրությունը` | C29: Կոլոռեկտալ քաղցկեղի ախտորոշման նպատակով հետազոտությունների իրականացում հատուկ ընտրված կենտրոններում
B30: Միջոցառման տեսակը` | C30: Ծառայությունների մատուցում
B31: Ծառայությունը մատուցող կազմակերպության(ների) անվանում(ներ)ը | C31: ՀՀ գնումների մասին օրենսդրությանը համապատասխան ընտրված կազմակերպություններ
B32: Արդյունքի չափորոշիչներ
B33: Կոլոռեկտալ քաղցկեղի սկրինինգի հետազոտությունների թիվ | D33: 1000
B34: Միջոցառման վրա կատարվող ծախսը (հազար դրամ) | D34: =+'2'!E29 -> -6000
B36: Ծրագրի դասիչը | C36: Ծրագրի անվանումը
B37: 1200 | C37: =+'1'!C10 -> Մոր և մանկան առողջության պահպանում
B38: Ծրագրի միջոցառումները
B39: Ծրագրի դասիչը` | C39: 1200 | D39: Ցուցանիշների փոփոխությունները (ավելացումները նշված են դրական նշանով, իսկ նվազեցումները` փակագծերում)
B40: Միջոցառման դասիչը` | C40: 11001 | D40: Տարի
B41: Միջոցառման անվանումը` | C41: Մանկաբարձական բժշկական օգնության ծառայություններ
B42: Նկարագրությունը` | C42: Մանկաբարձական բժշկական օգնության համալիր միջոցառումների իրականացում, հղիության ախտաբանական ընթացքի բժշկական օգնություն և ծննդօգնություն
B43: Միջոցառման տեսակը` | C43: Ծառայությունների մատուցում
B44: Ծառայությունը մատուցող կազմակերպության(ների) անվանում(ներ)ը | C44: ՀՀ գնումների մասին օրենսդրությանը համապատասխան ընտրված կազմակերպություններ
...

Sheet 5
B1: Հավելված № 5
B2: ՀՀ կառավարության 2023 թվականի -----------
B3: № ------------ -Ն որոշման
B4: ՀԱՅԱՍՏԱՆԻ ՀԱՆՐԱՊԵՏՈՒԹՅԱՆ ԿԱՌԱՎԱՐՈՒԹՅԱՆ 2022 ԹՎԱԿԱՆԻ ԴԵԿՏԵՄԲԵՐԻ 29-Ի N 2111-Ն ՈՐՈՇՄԱՆ N 9.1 ՀԱՎԵԼՎԱԾԻ 9.1.8 ԱՂՅՈՒՍԱԿՈՒՄ ԿԱՏԱՐՎՈՂ ՓՈՓՈԽՈՒԹՅՈՒՆՆԵՐԸ
B5: ՄԱՍ 1. ՊԵՏԱԿԱՆ ՄԱՐՄՆԻ ԳԾՈՎ ԱՐԴՅՈՒՆՔԱՅԻՆ (ԿԱՏԱՐՈՂԱԿԱՆ) ՑՈՒՑԱՆԻՇՆԵՐԸ
B7: Ծրագրի դասիչը | C7: Ծրագրի անվանումը
B8: Ծրագրի դասիչը` | C8: 1099 | D8: Ցուցանիշների փոփոխությունը (նվազեցումը նշված է փակագծերում)
B9: Միջոցառման դասիչը` | C9: 11001 | D9: Տարի
B10: Միջոցառման անվանումը` | C10: Ամբուլատոր-պոլիկլինիկական բժշկական օգնության ծառայություններ
B11: Նկարագրությունը` | C11: Ամբուլատոր-պոլիկլինիկական բժշկական օգնության ծառայություններ
B12: Միջոցառման տեսակը` | C12: Ծառայությունների մատուցում
B13: Ծառայությունը մատուցող կազմակերպության(ների) անվանում(ներ)ը | C13: ՀՀ գնումների մասին օրենսդրությանը համապատասխան ընտրված կազմակերպություններ
B14: Արդյունքի չափորոշիչներ
B16: Միջոցառման վրա կատարվող ծախսը (հազար դրամ) | D16: =+'2'!E17 -> -400000
B18: Ծրագրի դասիչը` | C18: 1099 | D18: Ցուցանիշների փոփոխությունները (ավելացումները նշված են դրական նշանով, իսկ նվազեցումները` փակագծերում)
B19: Միջոցառման դասիչը` | C19: 11004 | D19: Տարի
B20: Միջոցառման անվանումը` | C20: Ախտորոշման ճշտման նպատակով լաբորատոր-գործիքային ախտորոշիչ հետազոտություններ նեղ մասնագիտացված կենտրոններում և շարունակական հսկողություն պահանջող և առանձին հիվանդությունների բուժման ծառայություններ
B21: Նկարագրությունը` | C21: Ախտորոշման ճշտման նպատակով հետազոտությունների, քրոնիկ հիվանդությունների շարունակական բժշկական օգնության իրականացում նեղ մասնագիտացված կենտրոններում
B22: Միջոցառման տեսակը` | C22: Ծառայությունների մատուցում
B23: Ծառայությունը մատուցող կազմակերպության(ների) անվանում(ներ)ը | C23: ՀՀ գնումների մասին օրենսդրությանը համապատասխան ընտրված կազմակերպություններ
B24: Արդյունքի չափորոշիչներ
B25: Հետազոտությունների քանակ, հատ | D25: -10000
B26: Միջոցառման վրա կատարվող ծախսը (հազար դրամ) | D26: =+'2'!E23 -> 10000
B28: Ծրագրի դասիչը` | C28: 1099 | D28: Ցուցանիշների փոփոխությունները (ավելացումները նշված են դրական նշանով, իսկ նվազեցումները` փակագծերում)
B29: Միջոցառման դասիչը` | C29: 11006
B30: Միջոցառման անվանումը` | C30: Կոլոռեկտալ քաղցկեղի սքրինինգ
B31: Նկարագրությունը` | C31: Կոլոռեկտալ քաղցկեղի ախտորոշման նպատակով հետազոտությունների իրականացում հատուկ ընտրված կենտրոններում
B32: Միջոցառման տեսակը` | C32: Ծառայությունների մատուցում
B33: Ծառայությունը մատուցող կազմակերպության(ների) անվանում(ներ)ը | C33: ՀՀ գնումների մասին օրենսդրությանը համապատասխան ընտրված կազմակերպություններ
B34: Արդյունքի չափորոշիչներ
B35: Կոլոռեկտալ քաղցկեղի սկրինինգի հետազոտությունների թիվ | D35: 1000
B36: Միջոցառման վրա կատարվող ծախսը (հազար դրամ) | D36: =+'2'!E29 -> -6000
B38: Ծրագրի դասիչը | C38: Ծրագրի անվանումը
B39: 1200 | C39: =+'1'!C10 -> Մոր և մանկան առողջության պահպանում
B40: Ծրագրի միջոցառումները
B41: Ծրագրի դասիչը` | C41: 1200 | D41: Ցուցանիշների փոփոխությունները (ավելացումները նշված են դրական նշանով, իսկ նվազեցումները` փակագծերում)
B42: Միջոցառման դասիչը` | C42: 11001 | D42: Տարի
B43: Միջոցառման անվանումը` | C43: Մանկաբարձական բժշկական օգնության ծառայություններ
B44: Նկարագրությունը` | C44: Մանկաբարձական բժշկական օգնության համալիր միջոցառումների իրականացում, հղիության ախտաբանական ընթացքի բժշկական օգնություն և ծննդօգնություն
B45: Միջոցառման տեսակը` | C45: Ծառայությունների մատուցում
...

Sheet 6
A1: Հավելված № 6
A2: ՀՀ կառավարության 2023 թվականի -----------
A3: № ------------ -Ն որոշման
A4: ՀԱՅԱՍՏԱՆԻ ՀԱՆՐԱՊԵՏՈՒԹՅԱՆ ԿԱՌԱՎԱՐՈՒԹՅԱՆ 2022 ԹՎԱԿԱՆԻ ԴԵԿՏԵՄԲԵՐԻ 29-Ի N 2111-Ն ՈՐՈՇՄԱՆ N 10 ՀԱՎԵԼՎԱԾՈՒՄ ԿԱՏԱՐՎՈՂ ՓՈՓՈԽՈՒԹՅՈՒՆՆԵՐԸ
A6: Կոդը | B6: Անվանումը | E6: Գնման ձևը | F6: Չափման միավորը | G6: Միավորի գինը | H6: Քանակը | I6: Գումարը (հազար դրամով)
A7: 1 | B7: 2 | C7: 3 | D7: 4 | E7: 5 | F7: 6 | G7: 7 | H7: 8 | I7: 9
A8: ՀՀ առողջապահության նախարարություն
A9: Բաժին N 07 | B9: Խումբ N 02 | C9: Դաս N 01 | D9: Ընդհանուր բնույթի բժշկական ծառայություններ | I9: =I10 -> -400000
A10: 1099 11001 | B10: Ամբուլատոր-պոլիկլինիկական բժշկական օգնության ծառայություններ | I10: =I11 -> -400000
B11: ՄԱՍ III. ԾԱՌԱՅՈՒԹՅՈՒՆՆԵՐ | I11: =I12 -> -400000
A12: 85121120-1 | B12: ամբուլատոր-բժշկական ծառայություններ | E12: ՄԱ | F12: դրամ | I12: -400000
A13: Բաժին N 07 | B13: Խումբ N 02 | C13: Դաս N 02 | D13: Մասնագիտացված բժշկական ծառայություններ | I13: =I14+I17+I20+I23 -> 59000
A14: 1200 11004 | B14: Մտավոր, հոգեկան (վարքագծային), լսողական, ֆիզիկական (շարժողական) և զարգացման այլ խանգարումներով երեխաների գնահատման և վերականգնողական բուժման ծառայություններ | I14: =I15 -> 10000
B15: ՄԱՍ III. ԾԱՌԱՅՈՒԹՅՈՒՆՆԵՐ | I15: =I16 -> 10000
A16: 85121100-1 | B16: բժշկական ծառայություններ | E16: ՄԱ | F16: դրամ | I16: 10000
A17: 1208 11001 | B17: ՄԻԱՎ/ՁԻԱՀ-ի կանխարգելման և բուժօգնության ծառայություններ | I17: =I18 -> 45000
B18: ՄԱՍ III. ԾԱՌԱՅՈՒԹՅՈՒՆՆԵՐ | I18: =I19 -> 45000
A19: 85121120-1 | B19: ամբուլատոր-բժշկական ծառայություններ | E19: ՄԱ | F19: դրամ | I19: 45000
A20: 1099 11004 | B20: Ախտորոշման ճշտման նպատակով լաբորատոր-գործիքային ախտորոշիչ հետազոտություններ նեղ մասնագիտացված կենտրոններում և շարունակական հսկողություն պահանջող և առանձին հիվանդությունների բուժման ծառայություններ | I20: =I21 -> 10000
B21: ՄԱՍ III. ԾԱՌԱՅՈՒԹՅՈՒՆՆԵՐ | I21: =I22 -> 10000
A22: 85121120-1 | B22: ամբուլատոր-բժշկական ծառայություններ | E22: ՄԱ | F22: դրամ | I22: 10000
A23: 1099 11006 | B23: Կոլոռեկտալ քաղցկեղի սքրինինգ | I23: =I24 -> -6000
B24: ՄԱՍ III. ԾԱՌԱՅՈՒԹՅՈՒՆՆԵՐ | I24: =I25 -> -6000
A25: 85121100-1 | B25: բժշկական ծառայություններ | E25: ՄԱ | F25: դրամ | I25: -6000
A26: Բաժին N 07 | B26: Խումբ N 02 | C26: Դաս N 03 | D26: Ստոմատոլոգիական ծառայություններ | I26: =I29 -> -15000
A27: 1207 11002 | B27: Ստոմատոլոգիական բժշկական օգնության ծառայություններ | I27: =I28 -> -15000
B28: ՄԱՍ III. ԾԱՌԱՅՈՒԹՅՈՒՆՆԵՐ | I28: =I29 -> -15000
A29: 85131100-1 | B29: ատամնաբուժական ծառայություններ | E29: ՄԱ | F29: դրամ | I29: -15000
A30: Բաժին N 07 | B30: Խումբ N 02 | C30: Դաս N 04 | D30: Պարաբժշկական ծառայություններ | I30: =I33 -> -20000
A31: 1201 11001 | B31: Շտապ բժշկական օգնության ծառայություններ | I31: =I32 -> -20000
B32: ՄԱՍ III. ԾԱՌԱՅՈՒԹՅՈՒՆՆԵՐ | I32: =I33 -> -20000
A33: 85141210-1 | B33: շտապ օգնության ծառայություններ | E33: ՄԱ | F33: դրամ | I33: -20000
A34: Բաժին N 07 | B34: Խումբ N 03 | C34: Դաս N 01 | D34: Ընդհանուր բնույթի հիվանդանոցային ծառայություններ | I34: =I35+I38 -> 40000
A35: 1202 11002 | B35: Անհետաձգելի բժշկական օգնության ծառայություններ | I35: =I36 -> 120000
B36: ՄԱՍ III. ԾԱՌԱՅՈՒԹՅՈՒՆՆԵՐ | I36: 120000
A37: 85111100-1 | B37: հիվանդանոցային ծառայություններ | E37: ՄԱ | F37: դրամ | I37: 120000
A38: 1207 11004 | B38: Պետական հիմնարկների և կազմակերպությունների աշխատողների բժշկական օգնության և սպասարկման ծառայություններ | I38: -80000
B39: ՄԱՍ III. ԾԱՌԱՅՈՒԹՅՈՒՆՆԵՐ | I39: -80000
A40: 85111100-1 | B40: հիվանդանոցային ծառայություններ | E40: ՄԱ | F40: դրամ | I40: -80000
A41: Բաժին N 07 | B41: Խումբ N 03 | C41: Դաս N 02 | D41: Մասնագիտացված հիվանդանոցային ծառայություններ | I41: =I42 -> 115000
...
