Workbook
Name a: #REF!
Name a: #REF!
Name a: #REF!
Name a: #REF!
Name a: #REF!
Name a: #REF!
Name a: #REF!
Name AgencyCode: #REF!
Name AgencyCode: #REF!
Name AgencyCode: #REF!
Name AgencyCode: #REF!
Name AgencyCode: #REF!
Name AgencyCode: #REF!
Name AgencyCode: #REF!
Name AgencyCode: #REF!
Name AgencyName: #REF!
Name AgencyName: #REF!
Name AgencyName: #REF!
Name AgencyName: #REF!
Name AgencyName: #REF!
Name AgencyName: #REF!
Name AgencyName: #REF!
Name AgencyName: #REF!
Name davit: #REF!
Name davit: #REF!
Name davit: #REF!
Name davit: #REF!
Name davit: #REF!
Name davit: #REF!
Name davit: #REF!
Name Functional1: #REF!
Name Functional1: #REF!
Name Functional1: #REF!
Name Functional1: #REF!
Name Functional1: #REF!
Name Functional1: #REF!
Name Functional1: #REF!
Name Functional1: #REF!
Name ggg: #REF!
Name ggg: #REF!
Name ggg: #REF!
Name ggg: #REF!
Name ggg: #REF!
Name ggg: #REF!
Name ggg: #REF!
Name PANature: #REF!
Name PANature: #REF!
Name PANature: #REF!
Name PANature: #REF!
Name PANature: #REF!
Name PANature: #REF!
Name PANature: #REF!
Name PANature: #REF!
Name PAType: #REF!
Name PAType: #REF!
Name PAType: #REF!
Name PAType: #REF!
Name PAType: #REF!
Name PAType: #REF!
Name PAType: #REF!

Sheet Հավելված N 1
C1: Հավելված N 1
C2: ՀՀ կառավարության 2023 թվականի
C3: ______________ ի ___Ն որոշման
A5: «ՀԱՅԱՍՏԱՆԻ ՀԱՆՐԱՊԵՏՈՒԹՅԱՆ 2023 ԹՎԱԿԱՆԻ ՊԵՏԱԿԱՆ ԲՅՈՒՋԵԻ ՄԱՍԻՆ» ՀԱՅԱՍՏԱՆԻ ՀԱՆՐԱՊԵՏՈՒԹՅԱՆ ՕՐԵՆՔԻ 2-ՐԴ ՀՈԴՎԱԾԻ ԱՂՅՈՒՍԱԿԻ ՑՈՒՑԱՆԻՇՆԵՐՈՒՄ ԿԱՏԱՐՎՈՂ ՓՈՓՈԽՈՒԹՅՈՒՆՆԵՐԸ
D6: հազ. դրամներով
D7: Ցուցանիշների փոփոխությունը (ավելացումները նշված են դրական նշանով)
A8: Եկամուտների գծով | D8: =+'Հավելված N 2 '!D11 -> 7503.5
A9: Ծախսերի գծով | D9: =+'Հավելված N 3'!D12 -> 7503.5
A10: Դեֆիցիտը (պակասուրդը) | D10: =+D9-D8 -> 0

Sheet Հավելված N 2 
C1: Հավելված N 2
C2: ՀՀ կառավարության 2023 թվականի
C3: ______________ ի ___Ն որոշման
A6: «ՀԱՅԱՍՏԱՆԻ ՀԱՆՐԱՊԵՏՈՒԹՅԱՆ 2023 ԹՎԱԿԱՆԻ ՊԵՏԱԿԱՆ ԲՅՈՒՋԵԻ ՄԱՍԻՆ» ՀԱՅԱՍՏԱՆԻ ՀԱՆՐԱՊԵՏՈՒԹՅԱՆ ՕՐԵՆՔԻ 6-ՐԴ ՀՈԴՎԱԾԻ ԱՂՅՈՒՍԱԿՈՒՄ ԵՎ ՀԱՅԱՍՏԱՆԻ ՀԱՆՐԱՊԵՏՈՒԹՅԱՆ ԿԱՌԱՎԱՐՈՒԹՅԱՆ 2022 ԹՎԱԿԱՆԻ ԴԵԿՏԵՄԲԵՐԻ 29-Ի N 2111-Ն ՈՐՈՇՄԱՆ N 2 ՀԱՎԵԼՎԱԾԻ ԱՂՅՈՒՍԱԿՈՒՄ ԿԱՏԱՐՎՈՂ ՓՈՓՈԽՈՒԹՅՈՒՆՆԵՐԸ
A9: Պետական բյուջեի դեֆիցիտի ֆինանսավորման աղբյուրներն ու դրանց տարրերի անվանումները | D9: Ցուցանիշների փոփոխությունը (ավելացումները նշված են դրական նշանով)
D10: Տարի
A11: ՊԵՏԱԿԱՆ ԲՅՈՒՋԵԻ ԵԿԱՄՈՒՏՆԵՐ | D11: =+D12 -> 7503.5
A12: Ընդամենը | D12: =+D14 -> 7503.5
A13: այդ թվում՝
A14: Այլ եկամուտներ | D14: =+'Հավելված N 8'!E11 -> 7503.5

Sheet Հավելված N 3
C1: Հավելված N 3
C2: ՀՀ կառավարության 2023 թվականի
C3: ______________ ի ___Ն որոշման
A6: «ՀԱՅԱUՏԱՆԻ ՀԱՆՐԱՊԵՏՈՒԹՅԱՆ 2023 ԹՎԱԿԱՆԻ ՊԵՏԱԿԱՆ ԲՅՈՒՋԵԻ ՄԱUԻՆ» ՀԱՅԱUՏԱՆԻ ՀԱՆՐԱՊԵՏՈՒԹՅԱՆ OՐԵՆՔԻ N 1 ՀԱՎԵԼՎԱԾԻ N 2 ԱՂՅՈՒՍԱԿՈՒՄ ԿԱՏԱՐՎՈՂ ՎԵՐԱԲԱՇԽՈՒՄԸ ԵՎ ՀԱՅԱՍՏԱՆԻ ՀԱՆՐԱՊԵՏՈՒԹՅԱՆ ԿԱՌԱՎԱՐՈՒԹՅԱՆ 2022 ԹՎԱԿԱՆԻ ԴԵԿՏԵՄԲԵՐԻ 29-Ի N 2111-Ն ՈՐՈՇՄԱՆ N 5 ՀԱՎԵԼՎԱԾԻ N 1 ԱՂՅՈՒՍԱԿՈՒՄ ԿԱՏԱՐՎՈՂ ՓՈՓՈԽՈՒԹՅՈՒՆՆԵՐԸ ԵՎ ԼՐԱՑՈՒՄՆԵՐԸ
D9: հազ. դրամներով
A10: Ծրագրային դասիչը | C10: Բյուջետային հատկացումների գլխավոր կարգադրիչների, ծրագրերի և միջոցառումների անվանումները | D10: Ցուցանիշների փոփոխությունը (ավելացումները նշված են դրական նշանով, իսկ նվազեցումները՝ փակագծերում)
A11: Ծրագիր | B11: Միջոցառում | D11: Տարի
A12: 1192 | C12: ԸՆԴԱՄԵՆԸ | D12: =+ROUND((D14+D211),1) -> 7503.5
C13: այդ թվում
C14: ՀՀ ԿՐԹՈՒԹՅԱՆ, ԳԻՏՈՒԹՅԱՆ, ՄՇԱԿՈՒՅԹԻ ԵՎ ՍՊՈՐՏԻ ՆԱԽԱՐԱՐՈՒԹՅՈՒՆ | D14: =+ROUND((D16+D35+D60+D79+D92+D105+D118+D137+D156),1) -> -14473715
A15: 1045 | C15: Ծրագրի անվանումը`
C16: Նախնական (արհեստագործական) և միջին մասնագիտական կրթություն | D16: =+D23+D29 -> -1662413.3
C17: Ծրագրի նպատակը`
C18: Աշխատաշուկայի արդի պահանջներին համապատասխան նախնական մասնագիտական (արհեստագործական) և միջին մասնագիտական կրթության որակավորում ունեցող մասնագետների պատրաստում, կրթության մատչելիության ապահովում:
C19: Վերջնական արդյունքի նկարագրությունը`
C20: Նախնական (արհեստագործական) և միջին մասնագիտական կրթության գրավչության բարձրացում, մատչելի և մրցունակ նախնական (արհեստագործական) և միջին մասնագիտական կրթության ապահովում
C21: Ծրագրի միջոցառումներ
B22: 32001 | C22: Միջոցառման անվանումը`
C23: Նախնական մասնագիտական (արհեստագործական) և միջին մասնագիտական ուսումնական հաստատությունների շենքային պայմանների բարելավում | D23: =+'Հավելված N 4'!G114 -> -706947.6
C24: Միջոցառման նկարագրությունը`
C25: ՆՄՄԿՈՒ հաստատությունների շենքերի հիմնանորոգման և նախագծման (շինարարական աշխատանքներ, ջեռուցման համակարգի ստեղծում, ներքին հարդարում, տարածքի բարեկարգում) աշխատանքների իրականացում
C26: Միջոցառման տեսակը
C27: Այլ պետական կազմակերպությունների կողմից օգտագործվող ոչ ֆինանսական ակտիվների հետ գործառնություններ
B28: 32005 | C28: Միջոցառման անվանումը`
C29: Նախնական մասնագիտական (արհեստագործական) և միջին մասնագիտական ուսումնական հաստատությունների շենքերի կառուցում | D29: =+'Հավելված N 4'!G138 -> -955465.7
C30: Միջոցառման նկարագրությունը`
C31: ՆՄՄԿՈՒ հաստատությունների շենքերի (մասնաշենքերի) կառուցման և նախագծման աշխատանքների իրականացում
C32: Միջոցառման տեսակը
C33: Այլ պետական կազմակերպությունների կողմից օգտագործվող ոչ ֆինանսական ակտիվների հետ գործառնություններ
A34: 1075 | C34: Ծրագրի անվանումը`
C35: Մշակութային ժառանգության ծրագիր | D35: =+D42+D48+D54 -> -407946.4
C36: Ծրագրի նպատակը`
C37: Մշակութային ժառանգության պահպանում, օգտագործում, համալրում և հանրահռչակում
C38: Վերջնական արդյունքի նկարագրությունը`
C39: Մշակութային ժառանգության շարունակական պահպանում, մշակութային զբոսաշրջության զարգացում և խթանում
C40: Ծրագրի միջոցառումներ
B41: 21001 | C41: Միջոցառման անվանումը`
C42: Հուշարձանների ամրակայում, նորոգում և վերականգնում | D42: =+'Հավելված N 4'!G95 -> -280378
C43: Միջոցառման նկարագրությունը`
C44: Հուշարձանների գիտանախագծային փաստաթղթերի կազմում, հրատապ ուսումնասիրում, վավերագրման և ուսումնասիրման աշխատանքներ, հետախուզում և հնագիտական պեղում, ամրակայում, նորոգում և վերականգնում
...

Sheet Հավելված N 4
F1: Հավելված N 4
F2: ՀՀ կառավարության 2023 թվականի
F3: ______________ ի ___Ն որոշման
A5: ՀԱՅԱՍՏԱՆԻ ՀԱՆՐԱՊԵՏՈՒԹՅԱՆ ԿԱՌԱՎԱՐՈՒԹՅԱՆ 2022 ԹՎԱԿԱՆԻ ԴԵԿՏԵՄԲԵՐԻ 29-Ի N2111-Ն ՈՐՈՇՄԱՆ N 3 ԵՎ N 4 ՀԱՎԵԼՎԱԾՆԵՐՈՒՄ ԿԱՏԱՐՎՈՂ ՓՈՓՈԽՈՒԹՅՈՒՆՆԵՐԸ ԵՎ ԼՐԱՑՈՒՄՆԵՐԸ
G8: հազ. դրամներով
A9: Գործառական դասիչը | D9: Ծրագրային դասիչը | F9: Բյուջետային հատկացումների գլխավոր կարգադրիչների, ծրագրերի, միջոցառումների և միջոցառումները կատարող պետական մարմինների անվանումները | G9: Ցուցանիշների փոփոխությունը (ավելացումները նշված են դրական նշանով, իսկ նվազեցումները՝ փակագծերում)
A10: Բաժին | B10: Խումբ | C10: Դաս | D10: Ծրագիր | E10: Միջոցառում | G10: Տարի
F11: ԸՆԴԱՄԵՆԸ | G11: =+G13+G344 -> 7503.53
F12: այդ թվում՝
F13: ՀՀ ԿՐԹՈՒԹՅԱՆ, ԳԻՏՈՒԹՅԱՆ, ՄՇԱԿՈՒՅԹԻ ԵՎ ՍՊՈՐՏԻ ՆԱԽԱՐԱՐՈՒԹՅՈՒՆ | G13: =+G14+G33+G104 -> -14473715
A14: 01 | F14: ԸՆԴՀԱՆՈՒՐ ԲՆՈՒՅԹԻ ՀԱՆՐԱՅԻՆ ԾԱՌԱՅՈՒԹՅՈՒՆՆԵՐ | G14: =+G16 -> -3200000
F15: այդ թվում`
B16: 04 | F16: Ընդհանուր բնույթի հետազոտական աշխատանք | G16: =+G18 -> -3200000
F17: այդ թվում`
C18: 01 | F18: Ընդհանուր բնույթի հետազոտական աշխատանք | G18: =+G20 -> -3200000
F19: այդ թվում`
F20: ՀՀ կրթության, գիտության, մշակույթի և սպորտի նախարարություն | G20: =+G22 -> -3200000
F21: այդ թվում`
D22: 1162 | E22: Գիտական և գիտատեխնիկական հետազոտությունների ծրագիր | G22: =+G24 -> -3200000
F23: այդ թվում`
E24: 32004 | F24: Գիտական կենտրոնները ժամանակակից սարքավորումներով վերազինում ու համատեղ օգտագործման գիտական սարքավորումների կենտրոնների ստեղծում | G24: =+G26 -> -3200000
F25: այդ թվում` ըստ կատարողների
F26: ՀՀ կրթության, գիտության, մշակույթի և սպորտի նախարարության բարձրագույն կրթության և գիտության կոմիտե | G26: =+G28 -> -3200000
F27: այդ թվում` բյուջետային ծախսերի տնտեսագիտական դասակարգման հոդվածներ
F28: ԸՆԴԱՄԵՆԸ ԾԱԽՍԵՐ | G28: =+G29 -> -3200000
F29: ՈՉ ՖԻՆԱՆՍԱԿԱՆ ԱԿՏԻՎՆԵՐԻ ԳԾՈՎ ԾԱԽՍԵՐ | G29: =G30 -> -3200000
F30: ՀԻՄՆԱԿԱՆ ՄԻՋՈՑՆԵՐ | G30: =G31 -> -3200000
F31: ՄԵՔԵՆԱՆԵՐ ԵՎ ՍԱՐՔԱՎՈՐՈՒՄՆԵՐ | G31: =+G32 -> -3200000
F32: - Վարչական սարքավորումներ | G32: =+'Հավելված N 6'!E109 -> -3200000
A33: 08 | F33: ՀԱՆԳԻՍՏ, ՄՇԱԿՈՒՅԹ ԵՎ ԿՐՈՆ | G33: =+G35 -> -467972.7
F34: այդ թվում`
B35: 02 | F35: Մշակութային ծառայություններ | G35: =+G37+G65+G89 -> -467972.7
F36: այդ թվում`
C37: 02 | F37: Թանգարաններ և ցուցասրահներ | G37: =+G39 -> -127568.4
F38: այդ թվում`
F39: ՀՀ կրթության, գիտության, մշակույթի և սպորտի նախարարություն | G39: =+G41 -> -127568.4
F40: այդ թվում`
D41: 1075 | E41: Մշակութային ժառանգության ծրագիր | G41: =+G43+G56 -> -127568.4
F42: այդ թվում`
E43: 32001 | F43: Ներդրումներ թանգարանների և պատկերասրահների հիմնանորոգման համար | G43: =+G45 -> -130536.4
...

Sheet Հավելված N 5
F1: Հավելված N 5
F2: ՀՀ կառավարության 2023 թվականի
F3: ______________ ի ___Ն որոշման
A6: «ՀԱՅԱUՏԱՆԻ ՀԱՆՐԱՊԵՏՈՒԹՅԱՆ 2023 ԹՎԱԿԱՆԻ ՊԵՏԱԿԱՆ ԲՅՈՒՋԵԻ ՄԱUԻՆ» ՀԱՅԱUՏԱՆԻ ՀԱՆՐԱՊԵՏՈՒԹՅԱՆ OՐԵՆՔԻ N 1 ՀԱՎԵԼՎԱԾԻ N 3 ԱՂՅՈՒՍԱԿՈՒՄ ԿԱՏԱՐՎՈՂ ՓՈՓՈԽՈՒԹՅՈՒՆՆԵՐԸ ԵՎ ԼՐԱՑՈՒՄՆԵՐԸ
H9: հազ. դրամներով
A10: Ծրագրային դասիչ | C10: Բյուջետային գլխավոր կարգադրիչների, ծրագրերի, միջոցառումների և ուղղությունների անվանումները | D10: Ընդամենը | E10: Ցուցանիշների փոփոխությունը (ավելացումները նշված են դրական նշանով, իսկ նվազեցումները՝ փակագծերում)
A11: Ծրագիր | B11: Միջոցառում | E11: Կառուցման աշխատանքներ | F11: Վերակառուցման, վերանորոգման և վերականգնման աշխատանքներ | G11: Նախագծահե- տազոտական, գեոդեզիա- քարտեզագրա- կան աշխա- տանքներ | H11: Ոչ ֆինանսական այլ ակտիվների ձեռքբերում
C12: ԸՆԴԱՄԵՆԸ | D12: =SUM(E12:H12) -> -14769224 | E12: =+E14 -> -7608566.5 | F12: =+F14 -> -2131255.9 | G12: =+G14 -> -1231280.9 | H12: =+H14 -> -3798120.7
C13: այդ թվում՝
C14: ՀՀ ԿՐԹՈՒԹՅԱՆ, ԳԻՏՈՒԹՅԱՆ, ՄՇԱԿՈՒՅԹԻ ԵՎ ՍՊՈՐՏԻ ՆԱԽԱՐԱՐՈՒԹՅՈՒՆ | D14: =SUM(E14:H14) -> -14769224 | E14: =+E16+E32+E42+E53+E57+E61+E88+E92+E93+E98+E106+E110+E189+E212+E220+E229+E236+E268 -> -7608566.5 | F14: =+F16+F32+F42+F53+F57+F61+F88+F92+F93+F98+F106+F110+F189+F212+F220+F229+F236+F268 -> -2131255.9 | G14: =+G16+G32+G42+G53+G57+G61+G88+G92+G93+G98+G106+G110+G189+G212+G220+G229+G236+G268 -> -1231280.9 | H14: =+H16+H32+H42+H53+H57+H61+H88+H92+H93+H98+H106+H110+H189+H212+H220+H229+H236+H268 -> -3798120.7
C15: այդ թվում`
A16: 1045 | B16: 32001 | C16: Նախնական մասնագիտական (արհեստագործական) և միջին մասնագիտական ուսումնական հաստատությունների շենքային պայմանների բարելավում | D16: =+E16+F16+G16+H16 -> -710539.1 | E16: =+E18+E22+E24+E26+E28+E30 -> 0 | F16: =+F18+F22+F24+F26+F28+F30 -> -685080.9 | G16: =+G18+G22+G24+G26+G28+G30 -> -25458.2 | H16: =+H18+H22+H24+H26+H28+H30 -> 0
C17: այդ թվում`
C18: Երևան քաղաք | D18: =SUM(E18:H18) -> -320682.9 | E18: =+E19+E20+E21 -> 0 | F18: =+F19+F20+F21 -> -310318.9 | G18: =+G19+G20+G21 -> -10364 | H18: =+H19+H20+H21 -> 0
C19: «Երևանի թեթև արդյունաբերության պետական քոլեջ» ՊՈԱԿ | D19: =+E19+F19+G19+H19 -> -10364 | G19: =+'Հավելված N 11'!I258+'Հավելված N 11'!I259 -> -10364
C20: «Երևանի հ․8 արհեստագործական պետական ուսումնարան» ՊՈԱԿ | D20: =+E20+F20+G20+H20 -> -292850.7 | F20: =+'Հավելված N 11'!I38+'Հավելված N 11'!I47+'Հավելված N 11'!I49 -> -292850.7
C21: «Երևանի հ․9 արհեստագործական պետական ուսումնարան» ՊՈԱԿ | D21: =+E21+F21+G21+H21 -> -17468.2 | F21: =+'Հավելված N 11'!I39+'Հավելված N 11'!I48 -> -17468.2
C22: ՀՀ Արարատի մարզ | D22: =SUM(E22:H22) -> -155400 | E22: =+E23 -> 0 | F22: =+F23 -> -155400 | G22: =+G23 -> 0 | H22: =+H23 -> 0
C23: «Մասիսի պետական գյուղատնտեսական քոլեջ» ՊՈԱԿ | D23: =+E23+F23+G23+H23 -> -155400 | F23: =+'Հավելված N 11'!I255+'Հավելված N 11'!I260+'Հավելված N 11'!I262 -> -155400
C24: ՀՀ Գեղարքունիքի մարզ | D24: =SUM(E24:H24) -> -6636.5 | E24: =+E25 -> 0 | F24: =+F25 -> 0 | G24: =+G25 -> -6636.5 | H24: =+H25 -> 0
C25: «Գավառի պետական բժշկական քոլեջ» ՊՈԱԿ | D25: =+E25+F25+G25+H25 -> -6636.5 | G25: =+'Հավելված N 11'!I41+'Հավելված N 11'!I44 -> -6636.5
C26: ՀՀ Լոռու մարզ | D26: =SUM(E26:H26) -> -7083.3 | E26: =+E27 -> 0 | F26: =+F27 -> 0 | G26: =+G27 -> -7083.3 | H26: =+H27 -> 0
C27: «Վանաձորի Կ. Ղարաքեշիշյանի անվան N 1 արհեստագործական պետական ուսումնարան» ՊՈԱԿ | D27: =+E27+F27+G27+H27 -> -7083.3 | G27: =+'Հավելված N 11'!I42+'Հավելված N 11'!I45 -> -7083.3
C28: ՀՀ Կոտայքի մարզ | D28: =SUM(E28:H28) -> -219362 | E28: =+E29 -> 0 | F28: =+F29 -> -219362 | G28: =+G29 -> 0 | H28: =+H29 -> 0
C29: «Նոր Գեղիի ակադեմիկոս Գ. Աղաջանյանի անվան պետական գյուղատնտեսական քոլեջ» ՊՈԱԿ | D29: =+E29+F29+G29+H29 -> -219362 | F29: =+'Հավելված N 11'!I256+'Հավելված N 11'!I261+'Հավելված N 11'!I263 -> -219362
C30: ՀՀ Շիրակի մարզ | D30: =SUM(E30:H30) -> -1374.4 | E30: =+E31 -> 0 | F30: =+F31 -> 0 | G30: =+G31 -> -1374.4 | H30: =+H31 -> 0
C31: «Արթիկի պետական քոլեջ» ՊՈԱԿ | D31: =+E31+F31+G31+H31 -> -1374.4 | G31: =+'Հավելված N 11'!I43+'Հավելված N 11'!I46 -> -1374.4
A32: 1045 | B32: 32005 | C32: Նախնական մասնագիտական (արհեստագործական) և միջին մասնագիտական ուսումնական հաստատությունների շենքերի կառուցում | D32: =+E32+F32+G32+H32 -> -955465.7 | E32: =+E34+E36+E38+E40 -> -955465.7 | F32: =+F34+F36+F38+F40 -> 0 | G32: =+G34+G36+G38+G40 -> 0 | H32: =+H34+H36+H38+H40 -> 0
C33: այդ թվում`
C34: ՀՀ Արագածոտնի մարզ | D34: =SUM(E34:H34) -> -453627.9 | E34: =+E35 -> -453627.9 | F34: =+F35 -> 0 | G34: =+G35 -> 0 | H34: =+H35 -> 0
C35: Հայաստանի ազգային ագրարային համալսարան հիմնադրամի Ապարանի մասնաճյուղ | D35: =+E35+F35+G35+H35 -> -453627.9 | E35: =+'Հավելված N 11'!I266+'Հավելված N 11'!I271+'Հավելված N 11'!I275 -> -453627.9
C36: ՀՀ Գեղարքունիքի մարզ | D36: =SUM(E36:H36) -> -155280 | E36: =+E37 -> -155280 | F36: =+F37 -> 0 | G36: =+G37 -> 0 | H36: =+H37 -> 0
C37: «Գավառի ակադեմիկոս Ա. Թամամշևի անվան պետական գյուղատնտեսական քոլեջ» ՊՈԱԿ | D37: =+E37+F37+G37+H37 -> -155280 | E37: =+'Հավելված N 11'!I267+'Հավելված N 11'!I272+'Հավելված N 11'!I276 -> -155280
C38: ՀՀ Լոռու մարզ | D38: =SUM(E38:H38) -> -103600 | E38: =+E39 -> -103600 | F38: =+F39 -> 0 | G38: =+G39 -> 0 | H38: =+H39 -> 0
C39: «Ստեփանավանի պրոֆ. Քալանթարի անվան պետական գյուղատնտեսական քոլեջ» ՊՈԱԿ | D39: =+E39+F39+G39+H39 -> -103600 | E39: =+'Հավելված N 11'!I268+'Հավելված N 11'!I273+'Հավելված N 11'!I277 -> -103600
C40: ՀՀ Սյունիքի մարզ | D40: =SUM(E40:H40) -> -242957.8 | E40: =+E41 -> -242957.8 | F40: =+F41 -> 0 | G40: =+G41 -> 0 | H40: =+H41 -> 0
C41: «Գորիսի պրոֆեսոր Խ. Երիցյանի անվան պետական գյուղատնտեսական քոլեջ» ՊՈԱԿ | D41: =+E41+F41+G41+H41 -> -242957.8 | E41: =+'Հավելված N 11'!I269+'Հավելված N 11'!I274+'Հավելված N 11'!I278 -> -242957.8
A42: 1075 | B42: 21001 | C42: Հուշարձանների ամրակայում, նորոգում և վերականգնում | D42: =SUM(E42:H42) -> -280378 | E42: =+E44 -> 0 | F42: =+F44 -> -280378 | G42: =+G44 -> 0 | H42: =+H44 -> 0
C43: այդ թվում`
C44: 1. Վերականգնողական աշխատանքներ | D44: =SUM(E44:H44) -> -280378 | E44: =+E46+E48+E50 -> 0 | F44: =+F46+F48+F50 -> -280378 | G44: =+G46+G48+G50 -> 0 | H44: =+H46+H48+H50 -> 0
...

Sheet Հավելված N 6
D1: Հավելված N 6
D2: ՀՀ կառավարության 2023 թվականի
D3: ______________ ի ___Ն որոշման
B5: ՀԱՅԱՍՏԱՆԻ ՀԱՆՐԱՊԵՏՈՒԹՅԱՆ ԿԱՌԱՎԱՐՈՒԹՅԱՆ 2022 ԹՎԱԿԱՆԻ ԴԵԿՏԵՄԲԵՐԻ 29-Ի N 2111-Ն ՈՐՈՇՄԱՆ N 5 ՀԱՎԵԼՎԱԾԻ N 2 ԱՂՅՈՒՍԱԿՈՒՄ ԿԱՏԱՐՎՈՂ ՓՈՓՈԽՈՒԹՅՈՒՆՆԵՐԸ ԵՎ ԼՐԱՑՈՒՄՆԵՐԸ
E8: հազ. դրամներով
B9: Ծրագրային դասիչ | D9: Բյուջետային գլխավոր կարգադրիչների, ծրագրերի, միջոցառումների, միջոցառումները կատարող պետական մարմինների և ուղղությունների անվանումները | E9: Ցուցանիշների փոփոխությունը (ավելացումները նշված են դրական նշանով, իսկ նվազեցումները՝ փակագծերում)
B10: Ծրագիր | C10: Միջոցառում | E10: Տարի
D12: ՀՀ ԿՐԹՈՒԹՅԱՆ, ԳԻՏՈՒԹՅԱՆ, ՄՇԱԿՈՒՅԹԻ ԵՎ ՍՊՈՐՏԻ ՆԱԽԱՐԱՐՈՒԹՅՈՒՆ | E12: =+E14+E35+E47+E60+E66+E72+E101+E107+E110+E117+E130+E136+E221+E246+E256+E267+E276+E310 -> -14769224
D13: այդ թվում՝
B14: 1045 | C14: 32001 | D14: Նախնական մասնագիտական (արհեստագործական) և միջին մասնագիտական ուսումնական հաստատությունների շենքային պայմանների բարելավում | E14: =+E16+E24 -> -710539.1
D15: այդ թվում` ըստ կատարողների
D16: ՀՀ քաղաքաշինության կոմիտե | E16: =+E18+E20+E22 -> -385126
D17: այդ թվում՝ ըստ ուղղությունների
D18: Երևան քաղաք | E18: =+E19 -> -10364
D19: =+'Հավելված N 5'!C19 -> «Երևանի թեթև արդյունաբերության պետական քոլեջ» ՊՈԱԿ | E19: =+'Հավելված N 5'!D19 -> -10364
D20: ՀՀ Արարատի մարզ | E20: =+E21 -> -155400
D21: =+'Հավելված N 5'!C23 -> «Մասիսի պետական գյուղատնտեսական քոլեջ» ՊՈԱԿ | E21: =+'Հավելված N 5'!D23 -> -155400
D22: ՀՀ Կոտայքի մարզ | E22: =+E23 -> -219362
D23: =+'Հավելված N 5'!C29 -> «Նոր Գեղիի ակադեմիկոս Գ. Աղաջանյանի անվան պետական գյուղատնտեսական քոլեջ» ՊՈԱԿ | E23: =+'Հավելված N 5'!D29 -> -219362
D24: ՀՀ կրթության, գիտության, մշակույթի և սպորտի նախարարություն | E24: =+E26+E29+E31+E33 -> -325413.1
D25: այդ թվում՝ ըստ ուղղությունների
D26: Երևան քաղաք | E26: =+E27+E28 -> -310318.9
D27: =+'Հավելված N 5'!C20 -> «Երևանի հ․8 արհեստագործական պետական ուսումնարան» ՊՈԱԿ | E27: =+'Հավելված N 5'!D20 -> -292850.7
D28: =+'Հավելված N 5'!C21 -> «Երևանի հ․9 արհեստագործական պետական ուսումնարան» ՊՈԱԿ | E28: =+'Հավելված N 5'!D21 -> -17468.2
D29: ՀՀ Գեղարքունիքի մարզ | E29: =+E30 -> -6636.5
D30: =+'Հավելված N 5'!C25 -> «Գավառի պետական բժշկական քոլեջ» ՊՈԱԿ | E30: =+'Հավելված N 5'!D25 -> -6636.5
D31: ՀՀ Լոռու մարզ | E31: =+E32 -> -7083.3
D32: =+'Հավելված N 5'!C27 -> «Վանաձորի Կ. Ղարաքեշիշյանի անվան N 1 արհեստագործական պետական ուսումնարան» ՊՈԱԿ | E32: =+'Հավելված N 5'!D27 -> -7083.3
D33: ՀՀ Շիրակի մարզ | E33: =+E34 -> -1374.4
D34: =+'Հավելված N 5'!C31 -> «Արթիկի պետական քոլեջ» ՊՈԱԿ | E34: =+'Հավելված N 5'!D31 -> -1374.4
B35: 1045 | C35: 32005 | D35: Նախնական մասնագիտական (արհեստագործական) և միջին մասնագիտական ուսումնական հաստատությունների շենքերի կառուցում | E35: =+E37 -> -955465.7
D36: այդ թվում` ըստ կատարողների
D37: ՀՀ քաղաքաշինության կոմիտե | E37: =+E39+E41+E43+E45 -> -955465.7
D38: այդ թվում՝ ըստ ուղղությունների
D39: ՀՀ Արագածոտնի մարզ | E39: =+E40 -> -453627.9
D40: =+'Հավելված N 5'!C35 -> Հայաստանի ազգային ագրարային համալսարան հիմնադրամի Ապարանի մասնաճյուղ | E40: =+'Հավելված N 5'!D35 -> -453627.9
D41: ՀՀ Գեղարքունիքի մարզ | E41: =+E42 -> -155280
D42: =+'Հավելված N 5'!C37 -> «Գավառի ակադեմիկոս Ա. Թամամշևի անվան պետական գյուղատնտեսական քոլեջ» ՊՈԱԿ | E42: =+'Հավելված N 5'!D37 -> -155280
D43: ՀՀ Լոռու մարզ | E43: =+E44 -> -103600
D44: =+'Հավելված N 5'!C39 -> «Ստեփանավանի պրոֆ. Քալանթարի անվան պետական գյուղատնտեսական քոլեջ» ՊՈԱԿ | E44: =+'Հավելված N 5'!D39 -> -103600
...

Sheet Հավելված N 7
F1: Հավելված N 7
F2: ՀՀ կառավարության 2023 թվականի
F3: ______________ ի ___Ն որոշման
A6: ՀԱՅԱՍՏԱՆԻ ՀԱՆՐԱՊԵՏՈՒԹՅԱՆ ԿԱՌԱՎԱՐՈՒԹՅԱՆ 2022 ԹՎԱԿԱՆԻ ԴԵԿՏԵՄԲԵՐԻ 29-Ի N 2111-Ն ՈՐՈՇՄԱՆ N 5 ՀԱՎԵԼՎԱԾԻ N 7 ԱՂՅՈՒՍԱԿՈՒՄ ԿԱՏԱՐՎՈՂ ԼՐԱՑՈՒՄՆԵՐԸ
A7: հազ. դրամներով
A8: Ծրագրային դասիչը | D8: Բյուջետային հատկացումների գլխավոր կարգադրիչների, ծրագրերի, միջոցառումների և միջոցառումները կատարող պետական մարմինների անվանումները | F8: Միջոցառումները կատարող պետական մարմինների և դրամաշնորհ ստացող տնտեսվարող սուբյեկտների անվանումները | G8: Ցուցանիշների փոփոխությունը (ավելացումները նշված են դրական նշանով)
A9: Ծրագիր | B9: Միջոցառում | G9: Տարի
A10: ՀՀ կրթության, գիտության, մշակույթի և սպորտի նախարարություն | G10: =+G11+G14+G20+G23+G27+G31 -> 295509.3
A11: 1045 | B11: Նախնական (արհեստագործական) և միջին մասնագիտական կրթություն | G11: =+G12 -> 3591.5
B12: 32001 | C12: Նախնական մասնագիտական (արհեստագործական) և միջին մասնագիտական ուսումնական հաստատությունների շենքային պայմանների բարելավում | F12: ՀՀ կրթության, գիտության, մշակույթի և սպորտի նախարարություն | G12: =+G13 -> 3591.5
F13: «Ալավերդու պետական քոլեջ» ՊՈԱԿ | G13: 3591.5
A14: 1075 | B14: Մշակութային ժառանգության ծրագիր | G14: =+G15+G17 -> 52968
B15: 32001 | C15: Ներդրումներ թանգարանների և պատկերասրահների հիմնանորոգման համար | F15: ՀՀ կրթության, գիտության, մշակույթի և սպորտի նախարարություն | G15: =+G16 -> 50000
F16: «Մատենադարան» Մեսրոպ Մաշտոցի անվան հին ձեռագրերի գիտահետազոտական ինստիտուտ» հիմնադրամ | G16: 50000
B17: 32008 | C17: Թանգարանների և պատկերասրահների գույքային և տեխնիկական հագեցվածության բարելավում | F17: ՀՀ կրթության, գիտության, մշակույթի և սպորտի նախարարություն | G17: =+G18+G19 -> 2968
F18: «Երվանդ Քոչարի թանգարան» ՊՈԱԿ | G18: 963
F19: «Ալեքսանդր Սպենդիարյանի տուն-թանգարան» ՊՈԱԿ | G19: 2005
A20: 1111 | B20: Բարձրագույն և հետբուհական մասնագիտական կրթության ծրագիր | G20: =+G21 -> 49983.7
B21: 32003 | C21: Բարձրագույն ուսումնական հաստատությունների և ««Զեյթուն» ուսանողկան ավան» հիմնադրամի նյութատեխնիկական բազայի համալրում և գույքով ապահովում | F21: ՀՀ կրթության, գիտության, մշակույթի և սպորտի նախարարություն | G21: =+G22 -> 49983.7
F22: «Երևանի թատրոնի և կինոյի պետական ինստիտուտ» ՊՈԱԿ | G22: 49983.7
A23: 1163 | B23: Մասսայական սպորտ | G23: =+G24 -> 33296
B24: 32002 | C24: Մարզական օբյեկտների հիմնանորոգում | G24: =+G25 -> 33296
F25: ՀՀ Շիրակի մարզպետի աշխատակազմ | G25: =+G26 -> 33296
F26: «Գյումրու մարզական բարձրագույն վարպետության դպրոց» ՊՈԱԿ | G26: 33296
A27: 1168 | B27: Արվեստների ծրագիր | G27: =+G28 -> 19805
B28: 32007 | C28: Թատերահամերգային կազմակերպությունների նյութատեխնիկական բազայի համալրում | F28: ՀՀ կրթության, գիտության, մշակույթի և սպորտի նախարարություն | G28: =+G29+G30 -> 19805
F29: «Երևանի կամերային պետական թատրոն» ՊՈԱԿ | G29: 13950
F30: «Հայաստանի պետական ազգային ակադեմիական երգչախումբ» ՊՈԱԿ | G30: 5855
A31: 1183 | B31: Ապահով դպրոց | G31: =+G32+G42 -> 135865.1
B32: 32001 | C32: Կրթական օբյեկտների շենքային պայմանների բարելավում | G32: =+G33+G36+G38 -> 132471.1
F33: ՀՀ Արմավիրի մարզպետի աշխատակազմ | G33: =+G34+G35 -> 42336.9
F34: «Ծիածանի միջնակարգ դպրոց» ՊՈԱԿ | G34: =18000+350+141.2 -> 18491.2
F35: «Նորակերտի միջնակարգ դպրոց» ՊՈԱԿ | G35: 23845.7
F36: ՀՀ Գեղարքունիքի մարզպետի աշխատակազմ | G36: =+G37 -> 7503.5
F37: «Գեղհովիտ գյուղի Ալ. Մյասնիկյանի անվան թիվ 1 միջնակարգ դպրոց» | G37: =7200+233.5+70 -> 7503.5
F38: ՀՀ Շիրակի մարզպետի աշխատակազմ | G38: =+G39+G40+G41 -> 82630.7
F39: «Գյումրու թիվ 9 հիմնական դպրոց» ՊՈԱԿ | G39: 24929
F40: «Գյումրու թիվ 18 միջնակարգ դպրոց» ՊՈԱԿ | G40: 36846.6
F41: «Լանջիկի միջնակարգ դպրոց» ՊՈԱԿ | G41: 20855.1
B42: 32012 | C42: Հանրակրթական դպրոցների գույքով և տեխնիկայով ապահովում | G42: =+G43+G45 -> 3394
...

Sheet Հավելված N 8
C1: Հավելված N 8
C2: ՀՀ կառավարության 2023 թվականի
C3: ______________ ի ___Ն որոշման
A6: ՀԱՅԱՍՏԱՆԻ ՀԱՆՐԱՊԵՏՈՒԹՅԱՆ ԿԱՌԱՎԱՐՈՒԹՅԱՆ 2022 ԹՎԱԿԱՆԻ ԴԵԿՏԵՄԲԵՐԻ 29-Ի N 2111-Ն ՈՐՈՇՄԱՆ N 6 ՀԱՎԵԼՎԱԾՈՒՄ ԿԱՏԱՐՎՈՂ ԼՐԱՑՈՒՄԸ
A9: NN ը/կ | B9: Եկամտատեսակը | D9: Գանձման համար պատասխանատու պետական կառավարման մարմինը (մարմինները) | E9: Ցուցանիշների փոփոխությունը (ավելացումները նշված են դրական նշանով)
E10: Տարի
A11: Այլ եկամուտներ, ընդամենը՝ | E11: =+E13 -> 7503.5
B12: այդ թվում՝
A13: 6 | B13: Օրենքով և այլ իրավական ակտերով սահմանված պետական բյուջե մուտքագրվող այլ եկամուտներ | E13: =+E14 -> 7503.5
A14: 6.8 | B14: Նախորդ տարիների՝ ՀՀ պետական բյուջեից ծախսերի ֆինանսավորման նպատակով հատկացված գումարների (բացառությամբ փոխառու միջոցների) վերադարձից մուտքեր | D14: ՀՀ պետական կառավարման մարմիններ | E14: =+'Հավելված N 7'!G37 -> 7503.5

Sheet Հավելված N 9
C1: Հավելված N 9
C2: ՀՀ կառավարության 2023 թվականի
C3: ______________ ի ___Ն որոշման
B6: ՀԱՅԱՍՏԱՆԻ ՀԱՆՐԱՊԵՏՈՒԹՅԱՆ ԿԱՌԱՎԱՐՈՒԹՅԱՆ 2022 ԹՎԱԿԱՆԻ ԴԵԿՏԵՄԲԵՐԻ 29-Ի N 2111-Ն ՈՐՈՇՄԱՆ N 9 ՀԱՎԵԼՎԱԾԻ NN 9.13 ԵՎ 9.47 ԱՂՅՈՒՍԱԿՆԵՐՈՒՄ ԿԱՏԱՐՎՈՂ ՓՈՓՈԽՈՒԹՅՈՒՆՆԵՐԸ ԵՎ ԼՐԱՑՈՒՄՆԵՐԸ
A8: Աղյուսակ 9․13
C9: ՀՀ կրթության, գիտության, մշակույթի և սպորտի նախարարություն
B10: ՄԱՍ 2. ՊԵՏԱԿԱՆ ՄԱՐՄՆԻ ԳԾՈՎ ԱՐԴՅՈՒՆՔԱՅԻՆ (ԿԱՏԱՐՈՂԱԿԱՆ) ՑՈՒՑԱՆԻՇՆԵՐԸ
B13: Ծրագրի դասիչը | C13: Ծրագրի անվանումը
B14: 1045 | C14: Նախնական (արհեստագործական) և միջին մասնագիտական կրթություն
B16: Ծրագրի միջոցառումները | D16: Ցուցանիշների փոփոխությունը (նվազեցումները նշված են փակագծերում)
B17: Ծրագրի դասիչը՝ | C17: 1045
B18: Միջոցառման դասիչը՝ | C18: 32001 | D18: Տարի
B19: Միջոցառման անվանումը՝ | C19: Նախնական մասնագիտական (արհեստագործական) և միջին մասնագիտական ուսումնական հաստատությունների շենքային պայմանների բարելավում
B20: Նկարագրությունը՝ | C20: ՆՄՄԿՈՒ հաստատությունների շենքերի հիմնանորոգման և նախագծման (շինարարական աշխատանքներ, ջեռուցման համակարգի ստեղծում, ներքին հարդարում, տարածքի բարեկարգում) աշխատանքների իրականացում
B21: Միջոցառման տեսակը՝ | C21: Այլ պետական կազմակերպությունների կողմից օգտագործվող ոչ ֆինանսական ակտիվների հետ գործառնություններ
B22: Ակտիվն օգտագործող կազմակերպությունների անվանումները | C22: Նախնական մասնագիտական (արհեստագործական) և միջին մասնագիտական ուսումնական հաստատություններ
B23: Արդյունքի չափորոշիչներ
B24: Նախագծանախահաշվային փաստաթղթերի քանակ, հատ | D24: -1
B25: Միջոցառման վրա կատարվող ծախսը (հազար դրամ) | D25: =+'Հավելված N 3'!D23 -> -706947.6
B27: Ծրագրի միջոցառումները | D27: Ցուցանիշների փոփոխությունը (նվազեցումները նշված են փակագծերում)
B28: Ծրագրի դասիչը՝ | C28: 1045
B29: Միջոցառման դասիչը՝ | C29: 32005 | D29: Տարի
B30: Միջոցառման անվանումը` | C30: Նախնական մասնագիտական (արհեստագործական) և միջին մասնագիտական ուսումնական հաստատությունների շենքերի կառուցում
B31: Նկարագրությունը` | C31: ՆՄՄԿՈՒ հաստատությունների շենքերի (մասնաշենքերի) կառուցման և նախագծման աշխատանքների իրականացում
B32: Միջոցառման տեսակը` | C32: Այլ պետական կազմակերպությունների կողմից օգտագործվող ոչ ֆինանսական ակտիվների հետ գործառնություններ
B33: Ակտիվն օգտագործող կազմակերպությունների անվանումները | C33: Նախնական մասնագիտական (արհեստագործական) և միջին մասնագիտական ուսումնական հաստատություններ
B34: Արդյունքի չափորոշիչներ
B35: Կառուցվող միջին մասնագիտական ուսումնական հաստատությունների քանակ, հատ | D35: -2
B36: Միջոցառման վրա կատարվող ծախսը (հազար դրամ) | D36: =+'Հավելված N 3'!D29 -> -955465.7
B38: Ծրագրի դասիչը | C38: Ծրագրի անվանումը
B39: 1075 | C39: Մշակութային ժառանգության ծրագիր
B41: Ծրագրի միջոցառումները | D41: Ցուցանիշների փոփոխությունը (նվազեցումները նշված են փակագծերում)
B42: Ծրագրի դասիչը՝ | C42: 1075
B43: Միջոցառման դասիչը` | C43: 21001 | D43: Տարի
B44: Միջոցառման անվանումը` | C44: Հուշարձանների ամրակայում, նորոգում և վերականգնում
B45: Նկարագրությունը` | C45: Հուշարձանների գիտանախագծային փաստաթղթերի կազմում, հրատապ ուսումնասիրում, վավերագրման և ուսումնասիրման աշխատանքներ, հետախուզում և հնագիտական պեղում, ամրակայում, նորոգում և վերականգնում
B46: Միջոցառման տեսակը` | C46: Հանրության կողմից անմիջականորեն օգտագործվող ակտիվների հետ կապված միջոցառումներ
B47: Միջոցառումն իրականացնողիանվանումը | C47: Մասնագիտացված կազմակերպություն
B48: Արդյունքի չափորոշիչներ
B49: Հուշարձանների ամրակայման, նորոգման և վերականգնման աշխատանքներ, քանակ | D49: -1
...

Sheet Հավելված N 10
C1: Հավելված N 10
C2: ՀՀ կառավարության 2023 թվականի
C3: ______________ ի ___Ն որոշման
B6: ՀԱՅԱՍՏԱՆԻ ՀԱՆՐԱՊԵՏՈՒԹՅԱՆ ԿԱՌԱՎԱՐՈՒԹՅԱՆ 2022 ԹՎԱԿԱՆԻ ԴԵԿՏԵՄԲԵՐԻ 29-Ի N 2111-Ն ՈՐՈՇՄԱՆ N 9.1 ՀԱՎԵԼՎԱԾԻ NN 9.1.13, 9.1.28, 9.1.42, 9.1.48, 9.1.50, 9.1.51, 9.1.54 ԵՎ 9.1.58 ԱՂՅՈՒՍԱԿՆԵՐՈՒՄ ԿԱՏԱՐՎՈՂ ՓՈՓՈԽՈՒԹՅՈՒՆՆԵՐԸ ԵՎ ԼՐԱՑՈՒՄՆԵՐԸ
A8: Աղյուսակ 9․1․13
C9: ՀՀ կրթության, գիտության, մշակույթի և սպորտի նախարարություն
B10: ՄԱՍ 1. ՊԵՏԱԿԱՆ ՄԱՐՄՆԻ ԳԾՈՎ ԱՐԴՅՈՒՆՔԱՅԻՆ (ԿԱՏԱՐՈՂԱԿԱՆ) ՑՈՒՑԱՆԻՇՆԵՐԸ
B13: Ծրագրի դասիչը | C13: Ծրագրի անվանումը
B14: 1045 | C14: Նախնական (արհեստագործական) և միջին մասնագիտական կրթություն
B16: Ծրագրի միջոցառումները | D16: Ցուցանիշների փոփոխությունը (ավելացումները նշված են դրական նշանով, իսկ նվազեցումները փակագծերում)
B17: Ծրագրի դասիչը՝ | C17: 1045
B18: Միջոցառման դասիչը՝ | C18: 32001 | D18: Տարի
B19: Միջոցառման անվանումը՝ | C19: Նախնական մասնագիտական (արհեստագործական) և միջին մասնագիտական ուսումնական հաստատությունների շենքային պայմանների բարելավում
B20: Նկարագրությունը՝ | C20: ՆՄՄԿՈՒ հաստատությունների շենքերի հիմնանորոգման և նախագծման (շինարարական աշխատանքներ, ջեռուցման համակարգի ստեղծում, ներքին հարդարում, տարածքի բարեկարգում) աշխատանքների իրականացում
B21: Միջոցառման տեսակը՝ | C21: Այլ պետական կազմակերպությունների կողմից օգտագործվող ոչ ֆինանսական ակտիվների հետ գործառնություններ
B22: Ակտիվն օգտագործող կազմակերպությունների անվանումները | C22: Նախնական մասնագիտական (արհեստագործական) և միջին մասնագիտական ուսումնական հաստատություններ
B23: Արդյունքի չափորոշիչներ
B24: Հիմնանորոգվող միջին մասնագիտական ուսումնական հաստատությունների քանակ, հատ | D24: 1
B25: Միջոցառման վրա կատարվող ծախսը (հազար դրամ) | D25: =+'Հավելված N 4'!G116 -> -321821.6
B27: Ծրագրի դասիչը | C27: Ծրագրի անվանումը
B28: 1075 | C28: Մշակութային ժառանգության ծրագիր
B30: Ծրագրի միջոցառումները | D30: Ցուցանիշների փոփոխությունը (նվազեցումները նշված են փակագծերում)
B31: Ծրագրի դասիչը՝ | C31: 1075
B32: Միջոցառման դասիչը` | C32: 21001 | D32: Տարի
B33: Միջոցառման անվանումը` | C33: Հուշարձանների ամրակայում, նորոգում և վերականգնում
B34: Նկարագրությունը` | C34: Հուշարձանների գիտանախագծային փաստաթղթերի կազմում, հրատապ ուսումնասիրում, վավերագրման և ուսումնասիրման աշխատանքներ, հետախուզում և հնագիտական պեղում, ամրակայում, նորոգում և վերականգնում
B35: Միջոցառման տեսակը` | C35: Հանրության կողմից անմիջականորեն օգտագործվող ակտիվների հետ կապված միջոցառումներ
B36: Միջոցառումն իրականացնողիանվանումը | C36: Մասնագիտացված կազմակերպություն
B37: Արդյունքի չափորոշիչներ
B38: Հուշարձանների ամրակայման, նորոգման և վերականգնման աշխատանքներ, քանակ | D38: -1
B39: Միջոցառման վրա կատարվող ծախսը (հազար դրամ) | D39: =+'Հավելված N 4'!G97 -> -280378
B41: Ծրագրի միջոցառումները | D41: Ցուցանիշների փոփոխությունը (ավելացումները նշված են դրական նշանով, իսկ նվազեցումները փակագծերում)
B42: Ծրագրի դասիչը՝ | C42: 1075
B43: Միջոցառման դասիչը՝ | C43: 32001 | D43: Տարի
B44: Միջոցառման անվանումը` | C44: Ներդրումներ թանգարանների և պատկերասրահների հիմնանորոգման համար
B45: Նկարագրությունը` | C45: Թանգարանների և պատկերասրահների շենքերի, մասնաշենքերի հիմնանորոգում, համաշինարարական աշխատանքներ, ջեռուցման համակարգի իրականացում, ներքին հարդարում, տարածքի բարեկարգում և նախագծում
B46: Միջոցառման տեսակը` | C46: Այլ պետական կազմակերպությունների կողմից օգտագործվող ոչ ֆինանսական ակտիվների հետ գործառնություններ
B47: Ակտիվն օգտագործող կազմակերպությունների անվանումները | C47: Թանգարաններ և պատկերասրահներ
B48: Արդյունքի չափորոշիչներ
B49: Հիմնանորոգվող թանգարաններ և պատկերասրահներ քանակ, հատ | D49: 1
...

Sheet Հավելված N 11
H1: Հավելված N 11
H2: ՀՀ կառավարության 2023 թվականի
H3: ______________ ի ___Ն որոշման
A5: ՀԱՅԱՍՏԱՆԻ ՀԱՆՐԱՊԵՏՈՒԹՅԱՆ ԿԱՌԱՎԱՐՈՒԹՅԱՆ 2022 ԹՎԱԿԱՆԻ ԴԵԿՏԵՄԲԵՐԻ 29-Ի N 2111-Ն ՈՐՈՇՄԱՆ N 10 ՀԱՎԵԼՎԱԾՈՒՄ ԿԱՏԱՐՎՈՂ ՓՈՓՈԽՈՒԹՅՈՒՆՆԵՐԸ ԵՎ ԼՐԱՑՈՒՄՆԵՐԸ
A7: Կոդը | B7: Անվանումը | E7: Գնման ձևը | F7: Չափման միավորը | G7: Միավորի գինը | H7: Ցուցանիշների փոփոխությունը (ավելացումները նշված են դրական նշանով, իսկ նվազեցումները՝ փակագծերում)
H8: Քանակը | I8: Գումարը (հազար դրամ)
A9: 1 | B9: 2 | E9: 3 | F9: 4 | G9: 5 | H9: 6 | I9: 7
A10: ՀՀ կրթության, գիտության, մշակույթի և սպորտի նախարարություն | I10: =+I11+I18+I35 -> -1535064.4
A11: Բաժին N 08 | B11: Խումբ N 02 | C11: Դաս N 02 | D11: Թանգարաններ և ցուցասրահներ | I11: =+I12 -> -180536.4
A12: 1075-32001 | B12: Ներդրումներ թանգարանների և պատկերասրահների հիմնանորոգման համար | I12: =+I13+I15 -> -180536.4
B13: ՄԱՍ II. ԱՇԽԱՏԱՆՔՆԵՐ | I13: =+I14 -> -173715.2
A14: 45611200-1 | B14: մշակութային օբյեկտների հիմնանորոգում | E14: ԲՄ | F14: դրամ | I14: -173715.2
B15: ՄԱՍ III. ԾԱՌԱՅՈՒԹՅՈՒՆՆԵՐ | I15: =SUM(I16:I17) -> -6821.2
A16: 71351540-555 | B16: տեխնիկական հսկողության ծառայություններ | E16: ԳՀ | F16: դրամ | I16: -5780.2
A17: 98111140-1 | B17: հեղինակային հսկողության ծառայություններ | E17: ՄԱ | F17: դրամ | I17: -1041
A18: Բաժին N 08 | B18: Խումբ N 02 | C18: Դաս N 07 | D18: Հուշարձանների և մշակութային արժեքների վերականգնում և պահպանում | I18: =+I19 -> -280378
A19: 1075-21001 | B19: Հուշարձանների ամրակայում, նորոգում և վերականգնում | I19: =+I20+I26 -> -280378
B20: ՄԱՍ II. ԱՇԽԱՏԱՆՔՆԵՐ | I20: =SUM(I21:I25) -> -272807.8
A21: 45451600-1 | B21: վերականգնողական աշխատանքներ | E21: ԲՄ | F21: դրամ | G21: 192025300 | H21: -1 | I21: =+ROUND(H21*G21/1000,1) -> -192025.3
A22: 45451600-4 | B22: վերականգնողական աշխատանքներ | E22: ԲՄ | F22: դրամ | G22: 7784512 | H22: -1 | I22: =+ROUND(H22*G22/1000,1) -> -7784.5
A23: 45451600-5 | B23: վերականգնողական աշխատանքներ | E23: ԲՄ | F23: դրամ | G23: 4921140 | H23: -1 | I23: =+ROUND(H23*G23/1000,1) -> -4921.1
A24: 45451600-13 | B24: վերականգնողական աշխատանքներ | E24: ՀԲՄ | F24: դրամ | I24: -13.1
A25: 45451600-14 | B25: վերականգնողական աշխատանքներ | E25: ԳՀ | F25: դրամ | G25: 68063825 | H25: -1 | I25: =+ROUND(H25*G25/1000,1) -> -68063.8
B26: ՄԱՍ III. ԾԱՌԱՅՈՒԹՅՈՒՆՆԵՐ | I26: =SUM(I27:I34) -> -7570.2
A27: 71351540-3 | B27: տեխնիկական հսկողության ծառայություններ | E27: ԳՀ | F27: դրամ | G27: 74800 | H27: -1 | I27: =+ROUND(H27*G27/1000,1) -> -74.8
A28: 71351540-4 | B28: տեխնիկական հսկողության ծառայություններ | E28: ԳՀ | F28: դրամ | G28: 60000 | H28: -1 | I28: =+ROUND(H28*G28/1000,1) -> -60
A29: 71351540-7 | B29: տեխնիկական հսկողության ծառայություններ | E29: ԳՀ | F29: դրամ | G29: 5123600 | H29: -1 | I29: =+ROUND(H29*G29/1000,1) -> -5123.6
A30: 71351540-548 | B30: տեխնիկական հսկողության ծառայություններ | E30: ԳՀ | F30: դրամ | I30: -398.8
A31: 98111140-1 | B31: հեղինակային հսկողության ծառայություններ | E31: ՄԱ | F31: դրամ | G31: 1537100 | H31: -1 | I31: =+ROUND(H31*G31/1000,1) -> -1537.1
A32: 98111140-3 | B32: հեղինակային հսկողության ծառայություններ | E32: ՄԱ | F32: դրամ | I32: -255.8
A33: 98111140-4 | B33: հեղինակային հսկողության ծառայություններ | E33: ՄԱ | F33: դրամ | I33: -82.2
A34: 98111140-5 | B34: հեղինակային հսկողության ծառայություններ | E34: ՄԱ | F34: դրամ | I34: -37.9
A35: Բաժին N 09 | B35: Խումբ N 06 | C35: Դաս N 01 | D35: Կրթությանը տրամադրվող օժանդակ ծառայություններ | I35: =+I36+I50+I62+I73 -> -1074150
A36: 1045-32001 | B36: Նախնական մասնագիտական (արհեստագործական) և միջին մասնագիտական ուսումնական հաստատությունների շենքային պայմանների բարելավում | I36: =+I37+I40 -> -308677.6
B37: ՄԱՍ II. ԱՇԽԱՏԱՆՔՆԵՐ | I37: =+I38 -> -278584.8
A38: 45611100-537 | B38: կրթական օբյեկտների հիմնանորոգում | E38: ԲՄ | F38: դրամ | I38: -278584.8
A39: 45611100-2 | B39: կրթական օբյեկտների հիմնանորոգում | E39: ԲՄ | F39: դրամ | I39: =-1389.81-15345.69 -> -16735.5
B40: ՄԱՍ III. ԾԱՌԱՅՈՒԹՅՈՒՆՆԵՐ | I40: =SUM(I41:I49) -> -30092.8
A41: 71241200-509 | B41: նախագծերի պատրաստում, ծախսերի գնահատում | E41: ԳՀ | F41: դրամ | I41: -6219.3
A42: 71241200-510 | B42: նախագծերի պատրաստում, ծախսերի գնահատում | E42: ԳՀ | F42: դրամ | I42: -6744.5
...

Sheet Հավելված N 12
F1: Հավելված N 12
G2: ՀՀ կառավարության 2023 թվականի
G3: ______________ ի ___Ն որոշման
A6: ՀԱՅԱՍՏԱՆԻ ՀԱՆՐԱՊԵՏՈՒԹՅԱՆ 2023 ԹՎԱԿԱՆԻ ՊԵՏԱԿԱՆ ԲՅՈՒՋԵՈՎ ՆԱԽԱՏԵՍՎԱԾ՝ ՀԱՅԱՍՏԱՆԻ ՀԱՆՐԱՊԵՏՈՒԹՅԱՆ ԿԱՌԱՎԱՐՈՒԹՅԱՆ ՊԱՀՈՒՍՏԱՅԻՆ ՖՈՆԴԻՑ ՀԱՏԿԱՑՈՒՄՆԵՐ ԿԱՏԱՐԵԼՈՒ ՎԵՐԱԲԵՐՅԱԼ
A9: Գործառական դասիչը | D9: Ծրագրային դասիչը | F9: Բյուջետային հատկացումների գլխավոր կարգադրիչների, ծրագրերի, միջոցառումների և միջոցառումները կատարող պետական մարմինների անվանումները | G9: Ցուցանիշների փոփոխությունը (ավելացումները նշված են դրական նշանով, իսկ նվազեցումները` փակագծերում)
A10: Բաժին | B10: Խումբ | C10: Դաս | D10: Ծրագիր | E10: Միջոցառում | G10: Տարի
F11: ԸՆԴԱՄԵՆԸ | G11: =+G13+G34 -> 0
F12: այդ թվում
F13: ՀՀ ԿԱՌԱՎԱՐՈՒԹՅՈՒՆ | G13: =+G14 -> -49983.7
A14: 11 | F14: ՀԻՄՆԱԿԱՆ ԲԱԺԻՆՆԵՐԻՆ ՉԴԱՍՎՈՂ ՊԱՀՈՒՍՏԱՅԻՆ ՖՈՆԴԵՐ | G14: =+G16 -> -49983.7
F15: այդ թվում`
B16: 01 | F16: ՀՀ կառավարության և համայնքների պահուստային ֆոնդ | G16: =+G18 -> -49983.7
F17: այդ թվում`
C18: 01 | F18: ՀՀ կառավարության պահուստային ֆոնդ | G18: =+G20 -> -49983.7
F19: այդ թվում`
F20: ՀՀ կառավարություն | G20: =+G22 -> -49983.7
F21: այդ թվում`
D22: 1139 | E22: ՀՀ կառավարության պահուստային ֆոնդ | F22: ՀՀ կառավարության պահուստային ֆոնդ | G22: =+G24 -> -49983.7
F23: այդ թվում`
E24: 11001 | F24: ՀՀ կառավարության պահուստային ֆոնդ | G24: =+G26 -> -49983.7
F25: այդ թվում` ըստ կատարողների
F26: ՀՀ կառավարություն | G26: =+G28 -> -49983.7
F27: այդ թվում՝ բյուջետային ծախսերի տնտեսագիտական դասակարգման հոդվածներ
F28: ԸՆԴԱՄԵՆԸ ԾԱԽՍԵՐ | G28: =+G29 -> -49983.7
F29: ՈՉ ՖԻՆԱՆՍԱԿԱՆ ԱԿՏԻՎՆԵՐԻ ԳԾՈՎ ԾԱԽՍԵՐ | G29: =+G30 -> -49983.7
F30: ՀԻՄՆԱԿԱՆ ՄԻՋՈՑՆԵՐ | G30: =+G31 -> -49983.7
F31: ՇԵՆՔԵՐ ԵՎ ՇԻՆՈՒԹՅՈՒՆՆԵՐ | G31: =+G32 -> -49983.7
F32: - Շենքերի և շինությունների շինարարություն | G32: =+'Հավելված N 4'!G370 -> -49983.7
F34: ՀՀ ԿՐԹՈՒԹՅԱՆ, ԳԻՏՈՒԹՅԱՆ, ՄՇԱԿՈՒՅԹԻ ԵՎ ՍՊՈՐՏԻ ՆԱԽԱՐԱՐՈՒԹՅՈՒՆ | G34: =+G35 -> 49983.7
A35: 09 | F35: ԿՐԹՈՒԹՅՈՒՆ | G35: =+G37 -> 49983.7
F36: այդ թվում`
B37: 06 | F37: Կրթությանը տրամադրվող օժանդակ ծառայություններ | G37: =+G39 -> 49983.7
F38: այդ թվում`
C39: 01 | F39: Կրթությանը տրամադրվող օժանդակ ծառայություններ | G39: =+G41 -> 49983.7
F40: այդ թվում`
F41: ՀՀ կրթության, գիտության, մշակույթի և սպորտի նախարարություն | G41: =+G43 -> 49983.7
F42: այդ թվում`
D43: 1111 | E43: Բարձրագույն և հետբուհական մասնագիտական կրթության ծրագիր | G43: =+G45 -> 49983.7
F44: այդ թվում`
E45: 32003 | F45: Բարձրագույն ուսումնական հաստատությունների և ««Զեյթուն» ուսանողկան ավան» հիմնադրամի նյութատեխնիկական բազայի համալրում և գույքով ապահովում | G45: =+G47 -> 49983.7
...
