Workbook
Name a: #REF!
Name a: #REF!
Name a: #REF!
Name a: #REF!
Name a: #REF!
Name a: #REF!
Name a: #REF!
Name AgencyCode: #REF!
Name AgencyCode: #REF!
Name AgencyCode: #REF!
Name AgencyCode: #REF!
Name AgencyCode: #REF!
Name AgencyCode: #REF!
Name AgencyCode: #REF!
Name AgencyCode: #REF!
Name AgencyName: #REF!
Name AgencyName: #REF!
Name AgencyName: #REF!
Name AgencyName: #REF!
Name AgencyName: #REF!
Name AgencyName: #REF!
Name AgencyName: #REF!
Name AgencyName: #REF!
Name davit: #REF!
Name davit: #REF!
Name davit: #REF!
Name davit: #REF!
Name davit: #REF!
Name davit: #REF!
Name davit: #REF!
Name Functional1: #REF!
Name Functional1: #REF!
Name Functional1: #REF!
Name Functional1: #REF!
Name Functional1: #REF!
Name Functional1: #REF!
Name Functional1: #REF!
Name Functional1: #REF!
Name ggg: #REF!
Name ggg: #REF!
Name ggg: #REF!
Name ggg: #REF!
Name ggg: #REF!
Name ggg: #REF!
Name ggg: #REF!
Name PANature: #REF!
Name PANature: #REF!
Name PANature: #REF!
Name PANature: #REF!
Name PANature: #REF!
Name PANature: #REF!
Name PANature: #REF!
Name PANature: #REF!
Name PAType: #REF!
Name PAType: #REF!
Name PAType: #REF!
Name PAType: #REF!
Name PAType: #REF!
Name PAType: #REF!
Name PAType: #REF!

Sheet Հավելված N 1
C1: Հավելված N 1
C2: ՀՀ կառավարության 2023 թվականի
C3: ______________ ի ___Ն որոշման
A5: «ՀԱՅԱՍՏԱՆԻ ՀԱՆՐԱՊԵՏՈՒԹՅԱՆ 2023 ԹՎԱԿԱՆԻ ՊԵՏԱԿԱՆ ԲՅՈՒՋԵԻ ՄԱՍԻՆ» ՀԱՅԱՍՏԱՆԻ ՀԱՆՐԱՊԵՏՈՒԹՅԱՆ ՕՐԵՆՔԻ 2-ՐԴ ՀՈԴՎԱԾԻ ԱՂՅՈՒՍԱԿԻ ՑՈՒՑԱՆԻՇՆԵՐՈՒՄ ԿԱՏԱՐՎՈՂ ՓՈՓՈԽՈՒԹՅՈՒՆՆԵՐԸ
D6: հազ. դրամներով
D7: Ցուցանիշների փոփոխությունը (ավելացումները նշված են դրական նշանով)
A8: Եկամուտների գծով | D8: =+'Հավելված N 2 '!D11 -> 7503.5
A9: Ծախսերի գծով | D9: =+'Հավելված N 3'!D12 -> 7503.5
A10: Դեֆիցիտը (պակասուրդը) | D10: =+D9-D8 -> 0

Sheet Հավելված N 2 
C1: Հավելված N 2
C2: ՀՀ կառավարության 2023 թվականի
C3: ______________ ի ___Ն որոշման
A6: «ՀԱՅԱՍՏԱՆԻ ՀԱՆՐԱՊԵՏՈՒԹՅԱՆ 2023 ԹՎԱԿԱՆԻ ՊԵՏԱԿԱՆ ԲՅՈՒՋԵԻ ՄԱՍԻՆ» ՀԱՅԱՍՏԱՆԻ ՀԱՆՐԱՊԵՏՈՒԹՅԱՆ ՕՐԵՆՔԻ 6-ՐԴ ՀՈԴՎԱԾԻ ԱՂՅՈՒՍԱԿՈՒՄ ԵՎ ՀԱՅԱՍՏԱՆԻ ՀԱՆՐԱՊԵՏՈՒԹՅԱՆ ԿԱՌԱՎԱՐՈՒԹՅԱՆ 2022 ԹՎԱԿԱՆԻ ԴԵԿՏԵՄԲԵՐԻ 29-Ի N 2111-Ն ՈՐՈՇՄԱՆ N 2 ՀԱՎԵԼՎԱԾԻ ԱՂՅՈՒՍԱԿՈՒՄ ԿԱՏԱՐՎՈՂ ՓՈՓՈԽՈՒԹՅՈՒՆՆԵՐԸ
A9: Պետական բյուջեի դեֆիցիտի ֆինանսավորման աղբյուրներն ու դրանց տարրերի անվանումները | D9: Ցուցանիշների փոփոխությունը (ավելացումները նշված են դրական նշանով)
D10: Տարի
A11: ՊԵՏԱԿԱՆ ԲՅՈՒՋԵԻ ԵԿԱՄՈՒՏՆԵՐ | D11: =+D12 -> 7503.5
A12: Ընդամենը | D12: =+D14 -> 7503.5
A13: այդ թվում՝
A14: Այլ եկամուտներ | D14: =+'Հավելված N 8'!E11 -> 7503.5

Sheet Հավելված N 3
C1: Հավելված N 3
C2: ՀՀ կառավարության 2023 թվականի
C3: ______________ ի ___Ն որոշման
A6: «ՀԱՅԱUՏԱՆԻ ՀԱՆՐԱՊԵՏՈՒԹՅԱՆ 2023 ԹՎԱԿԱՆԻ ՊԵՏԱԿԱՆ ԲՅՈՒՋԵԻ ՄԱUԻՆ» ՀԱՅԱUՏԱՆԻ ՀԱՆՐԱՊԵՏՈՒԹՅԱՆ OՐԵՆՔԻ N 1 ՀԱՎԵԼՎԱԾԻ N 2 ԱՂՅՈՒՍԱԿՈՒՄ ԿԱՏԱՐՎՈՂ ՎԵՐԱԲԱՇԽՈՒՄԸ ԵՎ ՀԱՅԱՍՏԱՆԻ ՀԱՆՐԱՊԵՏՈՒԹՅԱՆ ԿԱՌԱՎԱՐՈՒԹՅԱՆ 2022 ԹՎԱԿԱՆԻ ԴԵԿՏԵՄԲԵՐԻ 29-Ի N 2111-Ն ՈՐՈՇՄԱՆ N 5 ՀԱՎԵԼՎԱԾԻ N 1 ԱՂՅՈՒՍԱԿՈՒՄ ԿԱՏԱՐՎՈՂ ՓՈՓՈԽՈՒԹՅՈՒՆՆԵՐԸ ԵՎ ԼՐԱՑՈՒՄՆԵՐԸ
D9: հազ. դրամներով
A10: Ծրագրային դասիչը | C10: Բյուջետային հատկացումների գլխավոր կարգադրիչների, ծրագրերի և միջոցառումների անվանումները | D10: Ցուցանիշների փոփոխությունը (ավելացումները նշված են դրական նշանով, իսկ նվազեցումները՝ փակագծերում)
A11: Ծրագիր | B11: Միջոցառում | D11: Տարի
A12: 1192 | C12: ԸՆԴԱՄԵՆԸ | D12: =+ROUND((D14+D211),1) -> 7503.5
C13: այդ թվում
C14: ՀՀ ԿՐԹՈՒԹՅԱՆ, ԳԻՏՈՒԹՅԱՆ, ՄՇԱԿՈՒՅԹԻ ԵՎ ՍՊՈՐՏԻ ՆԱԽԱՐԱՐՈՒԹՅՈՒՆ | D14: =+ROUND((D16+D35+D60+D79+D92+D105+D118+D137+D156),1) -> -14473715
A15: 1045 | C15: Ծրագրի անվանումը`
C16: Նախնական (արհեստագործական) և միջին մասնագիտական կրթություն | D16: =+D23+D29 -> -1662413.3
C17: Ծրագրի նպատակը`
C18: Աշխատաշուկայի արդի պահանջներին համապատասխան նախնական մասնագիտական (արհեստագործական) և միջին մասնագիտական կրթության որակավորում ունեցող մասնագետների պատրաստում, կրթության մատչելիության ապահովում:
C19: Վերջնական արդյունքի նկարագրությունը`
C20: Նախնական (արհեստագործական) և միջին մասնագիտական կրթության գրավչության բարձրացում, մատչելի և մրցունակ նախնական (արհեստագործական) և միջին մասնագիտական կրթության ապահովում
C21: Ծրագրի միջոցառումներ
B22: 32001 | C22: Միջոցառման անվանումը`
C23: Նախնական մասնագիտական (արհեստագործական) և միջին մասնագիտական ուսումնական հաստատությունների շենքային պայմանների բարելավում | D23: =+'Հավելված N 4'!G114 -> -706947.6
C24: Միջոցառման նկարագրությունը`
C25: ՆՄՄԿՈՒ հաստատությունների շենքերի հիմնանորոգման և նախագծման (շինարարական աշխատանքներ, ջեռուցման համակարգի ստեղծում, ներքին հարդարում, տարածքի բարեկարգում) աշխատանքների իրականացում
C26: Միջոցառման տեսակը
C27: Այլ պետական կազմակերպությունների կողմից օգտագործվող ոչ ֆինանսական ակտիվների հետ գործառնություններ
B28: 32005 | C28: Միջոցառման անվանումը`
C29: Նախնական մասնագիտական (արհեստագործական) և միջին մասնագիտական ուսումնական հաստատությունների շենքերի կառուցում | D29: =+'Հավելված N 4'!G138 -> -955465.7
C30: Միջոցառման նկարագրությունը`
C31: ՆՄՄԿՈՒ հաստատությունների շենքերի (մասնաշենքերի) կառուցման և նախագծման աշխատանքների իրականացում
C32: Միջոցառման տեսակը
C33: Այլ պետական կազմակերպությունների կողմից օգտագործվող ոչ ֆինանսական ակտիվների հետ գործառնություններ
A34: 1075 | C34: Ծրագրի անվանումը`
C35: Մշակութային ժառանգության ծրագիր | D35: =+D42+D48+D54 -> -407946.4
C36: Ծրագրի նպատակը`
C37: Մշակութային ժառանգության պահպանում, օգտագործում, համալրում և հանրահռչակում
C38: Վերջնական արդյունքի նկարագրությունը`
C39: Մշակութային ժառանգության շարունակական պահպանում, մշակութային զբոսաշրջության զարգացում և խթանում
C40: Ծրագրի միջոցառումներ
B41: 21001 | C41: Միջոցառման անվանումը`
C42: Հուշարձանների ամրակայում, նորոգում և վերականգնում | D42: =+'Հավելված N 4'!G95 -> -280378
C43: Միջոցառման նկարագրությունը`
C44: Հուշարձանների գիտանախագծային փաստաթղթերի կազմում, հրատապ ուսումնասիրում, վավերագրման և ուսումնասիրման աշխատանքներ, հետախուզում և հնագիտական պեղում, ամրակայում, նորոգում և վերականգնում
C45: Միջոցառման տեսակը
C46: Հանրության կողմից անմիջականորեն օգտագործվող ակտիվների հետ կապված միջոցառումներ
B47: 32001 | C47: Միջոցառման անվանումը`
C48: Ներդրումներ թանգարանների և պատկերասրահների հիմնանորոգման համար | D48: =+'Հավելված N 4'!G43 -> -130536.4
C49: Միջոցառման նկարագրությունը`
C50: Թանգարանների և պատկերասրահների շենքերի, մասնաշենքերի հիմնանորոգում, համաշինարարական աշխատանքներ, ջեռուցման համակարգի իրականացում, ներքին հարդարում, տարածքի բարեկարգում և նախագծում
C51: Միջոցառման տեսակը
C52: Այլ պետական կազմակերպությունների կողմից օգտագործվող ոչ ֆինանսական ակտիվների հետ գործառնություններ
B53: 32008 | C53: Միջոցառման անվանումը`
C54: Թանգարանների և պատկերասրահների գույքային և տեխնիկական հագեցվածության բարելավում | D54: =+'Հավելված N 4'!G56 -> 2968
C55: Միջոցառման նկարագրությունը`
C56: Թանգարանների և պատկերասրահների համար անհրաժեշտ գույքի, տեխնիկայի և սարքավորումների ձեռքբերում
C57: Միջոցառման տեսակը
C58: Այլ պետական կազմակերպությունների կողմից օգտագործվող ոչ ֆինանսական ակտիվների հետ գործառնություններ
A59: 1111 | C59: Ծրագրի անվանումը`
C60: Բարձրագույն և հետբուհական մասնագիտական կրթության ծրագիր | D60: =+D67+D73 -> -324838.17
C61: Ծրագրի նպատակը`
C62: Ապահովել մատչելի, որակյալ և մրցունակ բարձրագույն և հետբուհական մասնագիտական կրթություն:
C63: Վերջնական արդյունքի նկարագրությունը`
C64: Գիտելիքների տնտեսության և գիտության զարգացման արդի պահանջներին համապատասխան բարձրագույն և հետբուհական մասնագիտական որակավորում ունեցող մասնագետների պատրաստում
C65: Ծրագրի միջոցառումներ
B66: 32001 | C66: Միջոցառման անվանումը`
C67: Բարձրագույն ուսումնական հաստատությունների և «Զեյթուն» ուսանողական ավան» հիմնադրամի շենքային պայմանների բարելավում | D67: =+'Հավելված N 4'!G149 -> -374821.87
C68: Միջոցառման նկարագրությունը`
C69: Բարձրագույն ուսումնական հաստատությունների և «Զեյթուն» ուսանողական ավան» հիմնադրամի շենքային պայմանների բարելավում
C70: Միջոցառման տեսակը
C71: Այլ պետական կազմակերպությունների կողմից օգտագործվող ոչ ֆինանսական ակտիվների հետ գործառնություններ
B72: 32003 | C72: Միջոցառման անվանումը`
C73: Բարձրագույն ուսումնական հաստատությունների և «Զեյթուն» ուսանողական ավան» հիմնադրամի նյութատեխնիկական բազայի համալրում և գույքով ապահովում | D73: =+'Հավելված N 4'!G158 -> 49983.7
C74: Միջոցառման նկարագրությունը`
C75: Բարձրագույն ուսումնական հաստատությունների և «Զեյթուն» ուսանողական ավան» հիմնադրամի համար անհրաժեշտ լաբորատոր և այլ սարքավորումների, տեխնիկայի, կահույքի ձեռքբերում
C76: Միջոցառման տեսակը
C77: Այլ պետական կազմակերպությունների կողմից օգտագործվող ոչ ֆինանսական ակտիվների հետ գործառնություններ
A78: 1146 | C78: Ծրագրի անվանումը`
C79: Հանրակրթության ծրագիր | D79: =+D86 -> -2928071.6
C80: Ծրագրի նպատակը`
C81: Ապահովել անվճար և որակյալ հանրակրթություն
C82: Վերջնական արդյունքի նկարագրությունը`
C83: Մտավոր, հոգևոր, ֆիզիկական և սոցիալական ունակությունների համակողմանի ու ներդաշնակ զարգացմամբ, հայրենասիրության, պետականության և մարդասիրության ոգով դաստիրակված, պատշաճ վարքով և վարվելակերպով անձի ձևավորում
C84: Ծրագրի միջոցառումներ
B85: 12010 | C85: Միջոցառման անվանումը`
C86: «Մոդուլային» տիպի մանկապարտեզների շենքային ապահովում | D86: =+'Հավելված N 4'!G169 -> -2928071.6
C87: Միջոցառման նկարագրությունը`
C88: Համայնքներում «Մոդուլային» տիպի մանկապարտեզների կառուցում և նախագծում
C89: Միջոցառման տեսակը
C90: Տրանսֆերտների տրամադրում
A91: 1148 | C91: Ծրագրի անվանումը`
C92: Արտադպրոցական դաստիարակության ծրագիր | D92: =+D99 -> -113596.4
C93: Ծրագրի նպատակը`
C94: Նպաստել հանրակրթական ուսուցման համակարգում ընդգրկված երեխաների ֆիզիկական, հոգևոր և գեղագիտական զարգացմանը, բնապահպանական և կիրառական գիտելիքների ձեռքբերմանը
C95: Վերջնական արդյունքի նկարագրությունը`
C96: Ստեղծել պայմաններ սովորողների ազատ ժամանացի կազմակերպան միջոցով նրանց հետաքրքրությունների բացահայտման, ձևավորման և զարգացման համար
C97: Ծրագրի միջոցառումներ
B98: 32003 | C98: Միջոցառման անվանումը`
C99: «Արամ Մանուկյանի անվան մարզառազմական մասնագիտացված դպրոց» պետական ոչ առևտրային կազմակերպության համար մարզադահլիճի կառուցում | D99: =+'Հավելված N 4'!G182 -> -113596.4
C100: Միջոցառման նկարագրությունը`
C101: Արամ Մանուկյանի անվան մարզառազմական մասնագիտացված դպրոցի մարզադահլիճի կառուցմամբ դպրոցականների շրջանում <<ֆիզիկական կուլտուրա>> առարկայի պետական չափորոշիչների ապահովում
C102: Միջոցառման տեսակը
C103: Այլ պետական կազմակերպությունների կողմից օգտագործվող ոչ ֆինանսական ակտիվների հետ գործառնություններ
A104: 1162 | C104: Ծրագրի անվանումը`
...

Sheet Հավելված N 4
F1: Հավելված N 4
F2: ՀՀ կառավարության 2023 թվականի
F3: ______________ ի ___Ն որոշման
A5: ՀԱՅԱՍՏԱՆԻ ՀԱՆՐԱՊԵՏՈՒԹՅԱՆ ԿԱՌԱՎԱՐՈՒԹՅԱՆ 2022 ԹՎԱԿԱՆԻ ԴԵԿՏԵՄԲԵՐԻ 29-Ի N2111-Ն ՈՐՈՇՄԱՆ N 3 ԵՎ N 4 ՀԱՎԵԼՎԱԾՆԵՐՈՒՄ ԿԱՏԱՐՎՈՂ ՓՈՓՈԽՈՒԹՅՈՒՆՆԵՐԸ ԵՎ ԼՐԱՑՈՒՄՆԵՐԸ
G8: հազ. դրամներով
A9: Գործառական դասիչը | D9: Ծրագրային դասիչը | F9: Բյուջետային հատկացումների գլխավոր կարգադրիչների, ծրագրերի, միջոցառումների և միջոցառումները կատարող պետական մարմինների անվանումները | G9: Ցուցանիշների փոփոխությունը (ավելացումները նշված են դրական նշանով, իսկ նվազեցումները՝ փակագծերում)
A10: Բաժին | B10: Խումբ | C10: Դաս | D10: Ծրագիր | E10: Միջոցառում | G10: Տարի
F11: ԸՆԴԱՄԵՆԸ | G11: =+G13+G344 -> 7503.53
F12: այդ թվում՝
F13: ՀՀ ԿՐԹՈՒԹՅԱՆ, ԳԻՏՈՒԹՅԱՆ, ՄՇԱԿՈՒՅԹԻ ԵՎ ՍՊՈՐՏԻ ՆԱԽԱՐԱՐՈՒԹՅՈՒՆ | G13: =+G14+G33+G104 -> -14473715
A14: 01 | F14: ԸՆԴՀԱՆՈՒՐ ԲՆՈՒՅԹԻ ՀԱՆՐԱՅԻՆ ԾԱՌԱՅՈՒԹՅՈՒՆՆԵՐ | G14: =+G16 -> -3200000
F15: այդ թվում`
B16: 04 | F16: Ընդհանուր բնույթի հետազոտական աշխատանք | G16: =+G18 -> -3200000
F17: այդ թվում`
C18: 01 | F18: Ընդհանուր բնույթի հետազոտական աշխատանք | G18: =+G20 -> -3200000
F19: այդ թվում`
F20: ՀՀ կրթության, գիտության, մշակույթի և սպորտի նախարարություն | G20: =+G22 -> -3200000
F21: այդ թվում`
D22: 1162 | E22: Գիտական և գիտատեխնիկական հետազոտությունների ծրագիր | G22: =+G24 -> -3200000
F23: այդ թվում`
E24: 32004 | F24: Գիտական կենտրոնները ժամանակակից սարքավորումներով վերազինում ու համատեղ օգտագործման գիտական սարքավորումների կենտրոնների ստեղծում | G24: =+G26 -> -3200000
F25: այդ թվում` ըստ կատարողների
F26: ՀՀ կրթության, գիտության, մշակույթի և սպորտի նախարարության բարձրագույն կրթության և գիտության կոմիտե | G26: =+G28 -> -3200000
F27: այդ թվում` բյուջետային ծախսերի տնտեսագիտական դասակարգման հոդվածներ
F28: ԸՆԴԱՄԵՆԸ ԾԱԽՍԵՐ | G28: =+G29 -> -3200000
F29: ՈՉ ՖԻՆԱՆՍԱԿԱՆ ԱԿՏԻՎՆԵՐԻ ԳԾՈՎ ԾԱԽՍԵՐ | G29: =G30 -> -3200000
F30: ՀԻՄՆԱԿԱՆ ՄԻՋՈՑՆԵՐ | G30: =G31 -> -3200000
F31: ՄԵՔԵՆԱՆԵՐ ԵՎ ՍԱՐՔԱՎՈՐՈՒՄՆԵՐ | G31: =+G32 -> -3200000
F32: - Վարչական սարքավորումներ | G32: =+'Հավելված N 6'!E109 -> -3200000
A33: 08 | F33: ՀԱՆԳԻՍՏ, ՄՇԱԿՈՒՅԹ ԵՎ ԿՐՈՆ | G33: =+G35 -> -467972.7
F34: այդ թվում`
B35: 02 | F35: Մշակութային ծառայություններ | G35: =+G37+G65+G89 -> -467972.7
F36: այդ թվում`
C37: 02 | F37: Թանգարաններ և ցուցասրահներ | G37: =+G39 -> -127568.4
F38: այդ թվում`
F39: ՀՀ կրթության, գիտության, մշակույթի և սպորտի նախարարություն | G39: =+G41 -> -127568.4
F40: այդ թվում`
D41: 1075 | E41: Մշակութային ժառանգության ծրագիր | G41: =+G43+G56 -> -127568.4
F42: այդ թվում`
E43: 32001 | F43: Ներդրումներ թանգարանների և պատկերասրահների հիմնանորոգման համար | G43: =+G45 -> -130536.4
F44: այդ թվում` ըստ կատարողների
F45: ՀՀ կրթության, գիտության, մշակույթի և սպորտի նախարարություն | G45: =+G47 -> -130536.4
F46: այդ թվում՝ բյուջետային ծախսերի տնտեսագիտական դասակարգման հոդվածներ
F47: ԸՆԴԱՄԵՆԸ ԾԱԽՍԵՐ | G47: =+G48+G52 -> -130536.4
F48: ԸՆԹԱՑԻԿ ԾԱԽՍԵՐ | G48: =G49 -> 50000
F49: ԴՐԱՄԱՇՆՈՐՀՆԵՐ | G49: =G50 -> 50000
F50: Կապիտալ դրամաշնորհներ պետական հատվածի այլ մակարդակներին | G50: =+G51 -> 50000
F51: - Այլ կապիտալ դրամաշնորհներ | G51: =+'Հավելված N 7'!G16 -> 50000
F52: ՈՉ ՖԻՆԱՆՍԱԿԱՆ ԱԿՏԻՎՆԵՐԻ ԳԾՈՎ ԾԱԽՍԵՐ | G52: =+G53 -> -180536.4
F53: ՀԻՄՆԱԿԱՆ ՄԻՋՈՑՆԵՐ | G53: =+G54 -> -180536.4
F54: ՇԵՆՔԵՐ ԵՎ ՇԻՆՈՒԹՅՈՒՆՆԵՐ | G54: =+G55 -> -180536.4
F55: - Շենքերի և շինությունների կապիտալ վերանորոգում | G55: =+'Հավելված N 6'!E62 -> -180536.4
E56: 32008 | F56: Թանգարանների և պատկերասրահների գույքային և տեխնիկական հագեցվածության բարելավում | G56: =+G58 -> 2968
F57: այդ թվում` ըստ կատարողների
F58: ՀՀ կրթության, գիտության, մշակույթի և սպորտի նախարարություն | G58: =+G60 -> 2968
F59: այդ թվում՝ բյուջետային ծախսերի տնտեսագիտական դասակարգման հոդվածներ
F60: ԸՆԴԱՄԵՆԸ ԾԱԽՍԵՐ | G60: =+G61 -> 2968
F61: ԸՆԹԱՑԻԿ ԾԱԽՍԵՐ | G61: =G62 -> 2968
F62: ԴՐԱՄԱՇՆՈՐՀՆԵՐ | G62: =G63 -> 2968
F63: Կապիտալ դրամաշնորհներ պետական հատվածի այլ մակարդակներին | G63: =+G64 -> 2968
F64: - Կապիտալ դրամաշնորհներ պետական և համայնքային ոչ առևտրային կազմակերպություններին | G64: =+'Հավելված N 7'!G17 -> 2968
C65: 05 | F65: Արվեստ | G65: =+G67 -> -60026.3
F66: այդ թվում`
F67: ՀՀ կրթության, գիտության, մշակույթի և սպորտի նախարարություն | G67: =+G69 -> -60026.3
F68: այդ թվում`
D69: 1168 | E69: Արվեստների ծրագիր | G69: =+G71+G80 -> -60026.3
F70: այդ թվում`
E71: 32001 | F71: Ներդրումներ թատրոնների և համերգային կազմակերպությունների շենքերի կապիտալ վերանորոգման համար | G71: =G73 -> -79831.3
F72: այդ թվում` ըստ կատարողների
F73: ՀՀ քաղաքաշինության կոմիտե | G73: =+G75 -> -79831.3
F74: այդ թվում՝ բյուջետային ծախսերի տնտեսագիտական դասակարգման հոդվածներ
F75: ԸՆԴԱՄԵՆԸ ԾԱԽՍԵՐ | G75: =+G76 -> -79831.3
F76: ՈՉ ՖԻՆԱՆՍԱԿԱՆ ԱԿՏԻՎՆԵՐԻ ԳԾՈՎ ԾԱԽՍԵՐ | G76: =+G77 -> -79831.3
F77: ՀԻՄՆԱԿԱՆ ՄԻՋՈՑՆԵՐ | G77: =+G78 -> -79831.3
F78: ՇԵՆՔԵՐ ԵՎ ՇԻՆՈՒԹՅՈՒՆՆԵՐ | G78: =+G79 -> -79831.3
F79: - Շենքերի և շինությունների կապիտալ վերանորոգում | G79: =+'Հավելված N 6'!E132 -> -79831.3
E80: 32007 | F80: Թատերահամերգային կազմակերպությունների նյութատեխնիկական բազայի համալրում | G80: =+G82 -> 19805
F81: այդ թվում` ըստ կատարողների
F82: ՀՀ կրթության, գիտության, մշակույթի և սպորտի նախարարություն | G82: =+G84 -> 19805
F83: այդ թվում՝ բյուջետային ծախսերի տնտեսագիտական դասակարգման հոդվածներ
F84: ԸՆԴԱՄԵՆԸ ԾԱԽՍԵՐ | G84: =+G85 -> 19805
F85: ԸՆԹԱՑԻԿ ԾԱԽՍԵՐ | G85: =G86 -> 19805
F86: ԴՐԱՄԱՇՆՈՐՀՆԵՐ | G86: =G87 -> 19805
F87: Կապիտալ դրամաշնորհներ պետական հատվածի այլ մակարդակներին | G87: =+G88 -> 19805
F88: - Կապիտալ դրամաշնորհներ պետական և համայնքային ոչ առևտրային կազմակերպություններին | G88: =+'Հավելված N 7'!G28 -> 19805
C89: 07 | F89: Հուշարձանների և մշակութային արժեքների վերականգնում և պահպանում | G89: =+G91 -> -280378
F90: այդ թվում`
F91: ՀՀ կրթության, գիտության, մշակույթի և սպորտի նախարարություն | G91: =+G93 -> -280378
F92: այդ թվում`
D93: 1075 | E93: Մշակութային ժառանգության ծրագիր | G93: =+G95 -> -280378
F94: այդ թվում`
E95: 21001 | F95: Հուշարձանների ամրակայում, նորոգում և վերականգնում | G95: =+G97 -> -280378
F96: այդ թվում` ըստ կատարողների
F97: ՀՀ կրթության, գիտության, մշակույթի և սպորտի նախարարություն | G97: =+G99 -> -280378
F98: այդ թվում՝ բյուջետային ծախսերի տնտեսագիտական դասակարգման հոդվածներ
F99: ԸՆԴԱՄԵՆԸ ԾԱԽՍԵՐ | G99: =+G100 -> -280378
F100: ՈՉ ՖԻՆԱՆՍԱԿԱՆ ԱԿՏԻՎՆԵՐԻ ԳԾՈՎ ԾԱԽՍԵՐ | G100: =+G101 -> -280378
F101: ՀԻՄՆԱԿԱՆ ՄԻՋՈՑՆԵՐ | G101: =+G102 -> -280378
F102: ՇԵՆՔԵՐ ԵՎ ՇԻՆՈՒԹՅՈՒՆՆԵՐ | G102: =+G103 -> -280378
F103: - Շենքերի և շինությունների կապիտալ վերանորոգում | G103: =+'Հավելված N 6'!E51 -> -280378
...

Sheet Հավելված N 5
F1: Հավելված N 5
F2: ՀՀ կառավարության 2023 թվականի
F3: ______________ ի ___Ն որոշման
A6: «ՀԱՅԱUՏԱՆԻ ՀԱՆՐԱՊԵՏՈՒԹՅԱՆ 2023 ԹՎԱԿԱՆԻ ՊԵՏԱԿԱՆ ԲՅՈՒՋԵԻ ՄԱUԻՆ» ՀԱՅԱUՏԱՆԻ ՀԱՆՐԱՊԵՏՈՒԹՅԱՆ OՐԵՆՔԻ N 1 ՀԱՎԵԼՎԱԾԻ N 3 ԱՂՅՈՒՍԱԿՈՒՄ ԿԱՏԱՐՎՈՂ ՓՈՓՈԽՈՒԹՅՈՒՆՆԵՐԸ ԵՎ ԼՐԱՑՈՒՄՆԵՐԸ
H9: հազ. դրամներով
A10: Ծրագրային դասիչ | C10: Բյուջետային գլխավոր կարգադրիչների, ծրագրերի, միջոցառումների և ուղղությունների անվանումները | D10: Ընդամենը | E10: Ցուցանիշների փոփոխությունը (ավելացումները նշված են դրական նշանով, իսկ նվազեցումները՝ փակագծերում)
A11: Ծրագիր | B11: Միջոցառում | E11: Կառուցման աշխատանքներ | F11: Վերակառուցման, վերանորոգման և վերականգնման աշխատանքներ | G11: Նախագծահե- տազոտական, գեոդեզիա- քարտեզագրա- կան աշխա- տանքներ | H11: Ոչ ֆինանսական այլ ակտիվների ձեռքբերում
C12: ԸՆԴԱՄԵՆԸ | D12: =SUM(E12:H12) -> -14769224 | E12: =+E14 -> -7608566.5 | F12: =+F14 -> -2131255.9 | G12: =+G14 -> -1231280.9 | H12: =+H14 -> -3798120.7
C13: այդ թվում՝
C14: ՀՀ ԿՐԹՈՒԹՅԱՆ, ԳԻՏՈՒԹՅԱՆ, ՄՇԱԿՈՒՅԹԻ ԵՎ ՍՊՈՐՏԻ ՆԱԽԱՐԱՐՈՒԹՅՈՒՆ | D14: =SUM(E14:H14) -> -14769224 | E14: =+E16+E32+E42+E53+E57+E61+E88+E92+E93+E98+E106+E110+E189+E212+E220+E229+E236+E268 -> -7608566.5 | F14: =+F16+F32+F42+F53+F57+F61+F88+F92+F93+F98+F106+F110+F189+F212+F220+F229+F236+F268 -> -2131255.9 | G14: =+G16+G32+G42+G53+G57+G61+G88+G92+G93+G98+G106+G110+G189+G212+G220+G229+G236+G268 -> -1231280.9 | H14: =+H16+H32+H42+H53+H57+H61+H88+H92+H93+H98+H106+H110+H189+H212+H220+H229+H236+H268 -> -3798120.7
C15: այդ թվում`
A16: 1045 | B16: 32001 | C16: Նախնական մասնագիտական (արհեստագործական) և միջին մասնագիտական ուսումնական հաստատությունների շենքային պայմանների բարելավում | D16: =+E16+F16+G16+H16 -> -710539.1 | E16: =+E18+E22+E24+E26+E28+E30 -> 0 | F16: =+F18+F22+F24+F26+F28+F30 -> -685080.9 | G16: =+G18+G22+G24+G26+G28+G30 -> -25458.2 | H16: =+H18+H22+H24+H26+H28+H30 -> 0
C17: այդ թվում`
C18: Երևան քաղաք | D18: =SUM(E18:H18) -> -320682.9 | E18: =+E19+E20+E21 -> 0 | F18: =+F19+F20+F21 -> -310318.9 | G18: =+G19+G20+G21 -> -10364 | H18: =+H19+H20+H21 -> 0
C19: «Երևանի թեթև արդյունաբերության պետական քոլեջ» ՊՈԱԿ | D19: =+E19+F19+G19+H19 -> -10364 | G19: =+'Հավելված N 11'!I258+'Հավելված N 11'!I259 -> -10364
C20: «Երևանի հ․8 արհեստագործական պետական ուսումնարան» ՊՈԱԿ | D20: =+E20+F20+G20+H20 -> -292850.7 | F20: =+'Հավելված N 11'!I38+'Հավելված N 11'!I47+'Հավելված N 11'!I49 -> -292850.7
C21: «Երևանի հ․9 արհեստագործական պետական ուսումնարան» ՊՈԱԿ | D21: =+E21+F21+G21+H21 -> -17468.2 | F21: =+'Հավելված N 11'!I39+'Հավելված N 11'!I48 -> -17468.2
C22: ՀՀ Արարատի մարզ | D22: =SUM(E22:H22) -> -155400 | E22: =+E23 -> 0 | F22: =+F23 -> -155400 | G22: =+G23 -> 0 | H22: =+H23 -> 0
C23: «Մասիսի պետական գյուղատնտեսական քոլեջ» ՊՈԱԿ | D23: =+E23+F23+G23+H23 -> -155400 | F23: =+'Հավելված N 11'!I255+'Հավելված N 11'!I260+'Հավելված N 11'!I262 -> -155400
C24: ՀՀ Գեղարքունիքի մարզ | D24: =SUM(E24:H24) -> -6636.5 | E24: =+E25 -> 0 | F24: =+F25 -> 0 | G24: =+G25 -> -6636.5 | H24: =+H25 -> 0
C25: «Գավառի պետական բժշկական քոլեջ» ՊՈԱԿ | D25: =+E25+F25+G25+H25 -> -6636.5 | G25: =+'Հավելված N 11'!I41+'Հավելված N 11'!I44 -> -6636.5
C26: ՀՀ Լոռու մարզ | D26: =SUM(E26:H26) -> -7083.3 | E26: =+E27 -> 0 | F26: =+F27 -> 0 | G26: =+G27 -> -7083.3 | H26: =+H27 -> 0
C27: «Վանաձորի Կ. Ղարաքեշիշյանի անվան N 1 արհեստագործական պետական ուսումնարան» ՊՈԱԿ | D27: =+E27+F27+G27+H27 -> -7083.3 | G27: =+'Հավելված N 11'!I42+'Հավելված N 11'!I45 -> -7083.3
C28: ՀՀ Կոտայքի մարզ | D28: =SUM(E28:H28) -> -219362 | E28: =+E29 -> 0 | F28: =+F29 -> -219362 | G28: =+G29 -> 0 | H28: =+H29 -> 0
C29: «Նոր Գեղիի ակադեմիկոս Գ. Աղաջանյանի անվան պետական գյուղատնտեսական քոլեջ» ՊՈԱԿ | D29: =+E29+F29+G29+H29 -> -219362 | F29: =+'Հավելված N 11'!I256+'Հավելված N 11'!I261+'Հավելված N 11'!I263 -> -219362
C30: ՀՀ Շիրակի մարզ | D30: =SUM(E30:H30) -> -1374.4 | E30: =+E31 -> 0 | F30: =+F31 -> 0 | G30: =+G31 -> -1374.4 | H30: =+H31 -> 0
C31: «Արթիկի պետական քոլեջ» ՊՈԱԿ | D31: =+E31+F31+G31+H31 -> -1374.4 | G31: =+'Հավելված N 11'!I43+'Հավելված N 11'!I46 -> -1374.4
A32: 1045 | B32: 32005 | C32: Նախնական մասնագիտական (արհեստագործական) և միջին մասնագիտական ուսումնական հաստատությունների շենքերի կառուցում | D32: =+E32+F32+G32+H32 -> -955465.7 | E32: =+E34+E36+E38+E40 -> -955465.7 | F32: =+F34+F36+F38+F40 -> 0 | G32: =+G34+G36+G38+G40 -> 0 | H32: =+H34+H36+H38+H40 -> 0
C33: այդ թվում`
C34: ՀՀ Արագածոտնի մարզ | D34: =SUM(E34:H34) -> -453627.9 | E34: =+E35 -> -453627.9 | F34: =+F35 -> 0 | G34: =+G35 -> 0 | H34: =+H35 -> 0
C35: Հայաստանի ազգային ագրարային համալսարան հիմնադրամի Ապարանի մասնաճյուղ | D35: =+E35+F35+G35+H35 -> -453627.9 | E35: =+'Հավելված N 11'!I266+'Հավելված N 11'!I271+'Հավելված N 11'!I275 -> -453627.9
C36: ՀՀ Գեղարքունիքի մարզ | D36: =SUM(E36:H36) -> -155280 | E36: =+E37 -> -155280 | F36: =+F37 -> 0 | G36: =+G37 -> 0 | H36: =+H37 -> 0
C37: «Գավառի ակադեմիկոս Ա. Թամամշևի անվան պետական գյուղատնտեսական քոլեջ» ՊՈԱԿ | D37: =+E37+F37+G37+H37 -> -155280 | E37: =+'Հավելված N 11'!I267+'Հավելված N 11'!I272+'Հավելված N 11'!I276 -> -155280
C38: ՀՀ Լոռու մարզ | D38: =SUM(E38:H38) -> -103600 | E38: =+E39 -> -103600 | F38: =+F39 -> 0 | G38: =+G39 -> 0 | H38: =+H39 -> 0
C39: «Ստեփանավանի պրոֆ. Քալանթարի անվան պետական գյուղատնտեսական քոլեջ» ՊՈԱԿ | D39: =+E39+F39+G39+H39 -> -103600 | E39: =+'Հավելված N 11'!I268+'Հավելված N 11'!I273+'Հավելված N 11'!I277 -> -103600
C40: ՀՀ Սյունիքի մարզ | D40: =SUM(E40:H40) -> -242957.8 | E40: =+E41 -> -242957.8 | F40: =+F41 -> 0 | G40: =+G41 -> 0 | H40: =+H41 -> 0
C41: «Գորիսի պրոֆեսոր Խ. Երիցյանի անվան պետական գյուղատնտեսական քոլեջ» ՊՈԱԿ | D41: =+E41+F41+G41+H41 -> -242957.8 | E41: =+'Հավելված N 11'!I269+'Հավելված N 11'!I274+'Հավելված N 11'!I278 -> -242957.8
A42: 1075 | B42: 21001 | C42: Հուշարձանների ամրակայում, նորոգում և վերականգնում | D42: =SUM(E42:H42) -> -280378 | E42: =+E44 -> 0 | F42: =+F44 -> -280378 | G42: =+G44 -> 0 | H42: =+H44 -> 0
C43: այդ թվում`
C44: 1. Վերականգնողական աշխատանքներ | D44: =SUM(E44:H44) -> -280378 | E44: =+E46+E48+E50 -> 0 | F44: =+F46+F48+F50 -> -280378 | G44: =+G46+G48+G50 -> 0 | H44: =+H46+H48+H50 -> 0
C45: որից`
C46: Երևան քաղաք | D46: =SUM(E46:H46) -> -198686 | E46: =+E47 -> 0 | F46: =+F47 -> -198686 | G46: =+G47 -> 0 | H46: =+H47 -> 0
C47: Հայոց ցեղասպանության հուշահամալիրի և թանգարանի հիմնանորոգում և բարեկարգում | D47: =SUM(E47:H47) -> -198686 | F47: =+'Հավելված N 11'!I21+'Հավելված N 11'!I29+'Հավելված N 11'!I31 -> -198686
C48: ՀՀ Արմավիրի մարզ | D48: =SUM(E48:H48) -> -68731.5 | E48: =+E49 -> 0 | F48: =+F49 -> -68731.5 | G48: =+G49 -> 0 | H48: =+H49 -> 0
C49: Այգեշատ համայնքի Թարգմանչաց եկեղեցու վերականգնում | D49: =SUM(E49:H49) -> -68731.5 | F49: =+'Հավելված N 11'!I24+'Հավելված N 11'!I25+'Հավելված N 11'!I30+'Հավելված N 11'!I32 -> -68731.5
C50: ՀՀ Լոռու մարզ | D50: =SUM(E50:H50) -> -12960.5 | E50: =+E51+E52 -> 0 | F50: =+F51+F52 -> -12960.5 | G50: =+G51+G52 -> 0 | H50: =+H51+H52 -> 0
C51: Ալավերդի համայնքի Սանահինի վանական համալիրի Սբ Ամենափրկիչ եկեղեցու տանիքների նորոգում | D51: =SUM(E51:H51) -> -5019 | F51: =+'Հավելված N 11'!I23+'Հավելված N 11'!I28+'Հավելված N 11'!I34 -> -5019
C52: Քոբայր ե/գ կայարանի Քոբայրավանքի սեղանատան վերականգնում | D52: =SUM(E52:H52) -> -7941.5 | F52: =+'Հավելված N 11'!I22+'Հավելված N 11'!I27+'Հավելված N 11'!I33 -> -7941.5
A53: 1075 | B53: 32001 | C53: Ներդրումներ թանգարանների և պատկերասրահների հիմնանորոգման համար | D53: =+E53+F53+G53+H53 -> -180536.4 | E53: =+E55 -> 0 | F53: =+F55 -> -180536.4 | G53: =+G55 -> 0 | H53: =+H55 -> 0
C54: այդ թվում`
C55: Երևան քաղաք | D55: =SUM(E55:H55) -> -180536.4 | E55: =+E56 -> 0 | F55: =+F56 -> -180536.4 | G55: =+G56 -> 0 | H55: =+H56 -> 0
C56: «Հ. Թումանյանի թանգարան» ՊՈԱԿ | D56: =+E56+F56+G56+H56 -> -180536.4 | F56: =+'Հավելված N 11'!I14+'Հավելված N 11'!I16+'Հավելված N 11'!I17 -> -180536.4
A57: 1111 | B57: 32001 | C57: Բարձրագույն ուսումնական հաստատությունների և ««Զեյթուն» ուսանողական ավան» հիմնադրամի շենքային պայմանների բարելավում | D57: =+E57+F57+G57+H57 -> -374821.87 | E57: =+E59 -> 0 | F57: =+F59 -> -374821.87 | G57: =+G59 -> 0 | H57: =+H59 -> 0
C58: այդ թվում`
C59: Երևան քաղաք | D59: =SUM(E59:H59) -> -374821.87 | E59: =+E60 -> 0 | F59: =+F60 -> -374821.87 | G59: =+G60 -> 0 | H59: =+H60 -> 0
C60: «Երևանի Կոմիտասի անվան պետական կոնսերվատորիա» ՊՈԱԿ | D60: =+E60+F60+G60+H60 -> -374821.87 | F60: =+'Հավելված N 11'!I281+'Հավելված N 11'!I283+'Հավելված N 11'!I284 -> -374821.87
A61: 1146 | B61: 12010 | C61: «Մոդուլային» տիպի մանկապարտեզների շենքային ապահովում | D61: =+E61+F61+G61+H61 -> -2928071.6 | E61: =+E63+E64+E65+E66+E68+E74+E76+E81+E84+E86 -> -2926011.6 | F61: =+F63+F64+F65+F66+F68+F74+F76+F81+F84+F86 -> 0 | G61: =+G63+G64+G65+G66+G68+G74+G76+G81+G84+G86 -> -2060 | H61: =+H63+H64+H65+H66+H68+H74+H76+H81+H84+H86 -> 0
C62: այդ թվում`
C63: «Մոդուլային» տիպի 50 տեղ հզորությամբ մսուր-մանկապարտեզի բազմակի օգտագործման օրինակելի նախագծանախահաշվային փաստաթղթեր | D63: =SUM(E63:H63) -> -460 | G63: =+'Հավելված N 11'!I333 -> -460
C64: «Մոդուլային» տիպի 100 տեղ հզորությամբ մսուր-մանկապարտեզի բազմակի օգտագործման օրինակելի նախագծանախահաշվային փաստաթղթեր | D64: =SUM(E64:H64) -> -900 | G64: =+'Հավելված N 11'!I334 -> -900
C65: «Մոդուլային» տիպի 200 տեղ հզորությամբ մսուր-մանկապարտեզի բազմակի օգտագործման օրինակելի նախագծանախահաշվային փաստաթղթեր | D65: =SUM(E65:H65) -> -700 | G65: =+'Հավելված N 11'!I335 -> -700
C66: ՀՀ Արարատի մարզ | D66: =SUM(E66:H66) -> -103948.3 | E66: =+E67 -> -103948.3 | F66: =+F67 -> 0 | G66: =+G67 -> 0 | H66: =+H67 -> 0
C67: ՀՀ Արարատի մարզի Արալեզ համայնքում «Մոդուլային» տիպի 144 տեղ հզորությամբ մսուր-մանկապարտեզ | D67: =+E67+F67+G67+H67 -> -103948.3 | E67: =+'Հավելված N 11'!I301+'Հավելված N 11'!I303+'Հավելված N 11'!I318 -> -103948.3
C68: ՀՀ Արմավիրի մարզ | D68: =SUM(E68:H68) -> -1308357.4 | E68: =+E69+E70+E71+E72+E73 -> -1308357.4 | F68: =+F69+F70+F71+F72+F73 -> 0 | G68: =+G69+G70+G71+G72+G73 -> 0 | H68: =+H69+H70+H71+H72+H73 -> 0
C69: ՀՀ Արմավիրի մարզի Այգևան համայնքում «Մոդուլային» տիպի 144 տեղ հզորությամբ մսուր-մանկապարտեզ | D69: =+E69+F69+G69+H69 -> -258691.6 | E69: =+'Հավելված N 11'!I287+'Հավելված N 11'!I304+'Հավելված N 11'!I319 -> -258691.6
C70: ՀՀ Արմավիրի մարզի Գետաշեն համայնքում «Մոդուլային» տիպի 144 տեղ հզորությամբ մսուր-մանկապարտեզ | D70: =+E70+F70+G70+H70 -> -490149.3 | E70: =+'Հավելված N 11'!I300+'Հավելված N 11'!I305+'Հավելված N 11'!I320 -> -490149.3
C71: ՀՀ Արմավիրի մարզի Նորավան համայնքում «Մոդուլային» տիպի 144 տեղ հզորությամբ մսուր-մանկապարտեզ | D71: =+E71+F71+G71+H71 -> -119779.5 | E71: =+'Հավելված N 11'!I288+'Հավելված N 11'!I306+'Հավելված N 11'!I321 -> -119779.5
C72: ՀՀ Արմավիրի մարզի Փշատավան համայնքում «Մոդուլային» տիպի 144 տեղ հզորությամբ մսուր-մանկապարտեզ | D72: =+E72+F72+G72+H72 -> -283328.6 | E72: =+'Հավելված N 11'!I289+'Հավելված N 11'!I307+'Հավելված N 11'!I322 -> -283328.6
C73: ՀՀ Արմավիրի մարզի Լենուղի համայնքում «Մոդուլային» տիպի 144 տեղ հզորությամբ մսուր-մանկապարտեզ | D73: =+E73+F73+G73+H73 -> -156408.4 | E73: =+'Հավելված N 11'!I298+'Հավելված N 11'!I317+'Հավելված N 11'!I323 -> -156408.4
C74: ՀՀ Գեղարքունիքի մարզ | D74: =SUM(E74:H74) -> -153332.5 | E74: =+E75 -> -153332.5 | F74: =+F75 -> 0 | G74: =+G75 -> 0 | H74: =+H75 -> 0
C75: ՀՀ Գեղարքունիքի մարզի Աստղաձոր համայնքում «Մոդուլային» տիպի 144 տեղ հզորությամբ մսուր-մանկապարտեզ | D75: =+E75+F75+G75+H75 -> -153332.5 | E75: =+'Հավելված N 11'!I290+'Հավելված N 11'!I308+'Հավելված N 11'!I324 -> -153332.5
C76: ՀՀ Լոռու մարզ | D76: =SUM(E76:H76) -> -558327.1 | E76: =+E77+E78+E79+E80 -> -558327.1 | F76: =+F77 -> 0 | G76: =+G77 -> 0 | H76: =+H77 -> 0
C77: ՀՀ Լոռու մարզի Սպիտակ համայնքում «Մոդուլային» տիպի 144 տեղ հզորությամբ մսուր-մանկապարտեզ | D77: =+E77+F77+G77+H77 -> -106198.9 | E77: =+'Հավելված N 11'!I291+'Հավելված N 11'!I309+'Հավելված N 11'!I325 -> -106198.9
C78: ՀՀ Լոռու մարզի Գոգարան համայնքում «Մոդուլային» տիպի 144 տեղ հզորությամբ մսուր-մանկապարտեզ | D78: =+E78+F78+G78+H78 -> -241592.4 | E78: =+'Հավելված N 11'!I292+'Հավելված N 11'!I310+'Հավելված N 11'!I326 -> -241592.4
C79: ՀՀ Լոռու մարզի Լեռնավան համայնքում «Մոդուլային» տիպի 144 տեղ հզորությամբ մսուր-մանկապարտեզ | D79: =+E79+F79+G79+H79 -> -121303.4 | E79: =+'Հավելված N 11'!I293+'Հավելված N 11'!I311+'Հավելված N 11'!I327 -> -121303.4
C80: ՀՀ Լոռու մարզի Լուսաղբյուր համայնքում «Մոդուլային» տիպի 144 տեղ հզորությամբ մսուր-մանկապարտեզ | D80: =+E80+F80+G80+H80 -> -89232.4 | E80: =+'Հավելված N 11'!I294+'Հավելված N 11'!I312+'Հավելված N 11'!I328 -> -89232.4
C81: ՀՀ Շիրակի մարզ | D81: =SUM(E81:H81) -> -575753 | E81: =+E82+E83 -> -575753 | F81: =+F82+F83 -> 0 | G81: =+G82+G83 -> 0 | H81: =+H82+H83 -> 0
C82: ՀՀ Շիրակի մարզի Արթիկ համայնքում «Մոդուլային» տիպի 144 տեղ հզորությամբ մսուր-մանկապարտեզ | D82: =+E82+F82+G82+H82 -> -292319.9 | E82: =+'Հավելված N 11'!I295+'Հավելված N 11'!I313+'Հավելված N 11'!I329 -> -292319.9
C83: ՀՀ Շիրակի մարզի Արևշատ համայնքում «Մոդուլային» տիպի 144 տեղ հզորությամբ մսուր-մանկապարտեզ | D83: =+E83+F83+G83+H83 -> -283433.1 | E83: =+'Հավելված N 11'!I296+'Հավելված N 11'!I314+'Հավելված N 11'!I330 -> -283433.1
C84: ՀՀ Վայոց Ձոր | D84: =SUM(E84:H84) -> -51800 | E84: =SUM(E85:E85) -> -51800 | F84: =SUM(F85:F85) -> 0 | G84: =SUM(G85:G85) -> 0 | H84: =SUM(H85:H85) -> 0
C85: ՀՀ Վայոց ձորի մարզի Եղեգիս համայնքի Շատին բնակավայրում «Մոդուլային» տիպի 250 տեղ հզորությամբ մսուր-մանկապարտեզ | D85: =+E85+F85+G85+H85 -> -51800 | E85: =+'Հավելված N 11'!I297+'Հավելված N 11'!I315+'Հավելված N 11'!I331 -> -51800
C86: ՀՀ Տավուշի մարզ | D86: =SUM(E86:H86) -> -174493.3 | E86: =SUM(E87:E87) -> -174493.3 | F86: =SUM(F87:F87) -> 0 | G86: =SUM(G87:G87) -> 0 | H86: =SUM(H87:H87) -> 0
C87: ՀՀ Տավուշի մարզի Այրում համայնքի Բագրատաշեն բնակավայրում «Մոդուլային» տիպի 144 տեղ հզորությամբ մսուր-մանկապարտեզ | D87: =+E87+F87+G87+H87 -> -174493.3 | E87: =+'Հավելված N 11'!I299+'Հավելված N 11'!I316+'Հավելված N 11'!I332 -> -174493.3
A88: 1148 | B88: 32003 | C88: «Արամ Մանուկյանի անվան մարզառազմական մասնագիտացված դպրոց» ՊՈԱԿ-ի մարզադահլիճի կառուցում | D88: =SUM(E88:H88) -> -113596.4 | E88: =+E90 -> -113596.4 | F88: =+F90 -> 0 | G88: =+G90 -> 0 | H88: =+H90 -> 0
C89: այդ թվում`
C90: ՀՀ Կոտայքի մարզ | D90: =SUM(E90:H90) -> -113596.4 | E90: =+E91 -> -113596.4 | F90: =+F91 -> 0 | G90: =+G91 -> 0 | H90: =+H91 -> 0
C91: «Արամ Մանուկյանի անվան մարզառազմական մասնագիտացված դպրոց» ՊՈԱԿ | D91: =+E91+F91+G91+H91 -> -113596.4 | E91: =+'Հավելված N 11'!I52+'Հավելված N 11'!I54+'Հավելված N 11'!I55 -> -113596.4
A92: 1162 | B92: 32004 | C92: Գիտական կենտրոնները ժամանակակից սարքավորումներով վերազինում ու համատեղ օգտագործման գիտական սարքավորումների կենտրոնների ստեղծում | D92: =SUM(E92:H92) -> -3200000 | E92: 0 | F92: 0 | G92: 0 | H92: -3200000
A93: 1163 | B93: 32001 | C93: Մարզական օբյեկտների շինարարություն | D93: =+E93+F93+G93+H93 -> -160815.1 | E93: =+E95 -> -126795.1 | F93: =+F95 -> 0 | G93: =+G95 -> -34020 | H93: =+H95 -> 0
C94: այդ թվում`
C95: Երևան քաղաք | D95: =SUM(E95:H95) -> -160815.1 | E95: =+E96+E97 -> -126795.1 | F95: =+F96+F97 -> 0 | G95: =+G96+G97 -> -34020 | H95: =+H96+H97 -> 0
C96: «Հեծանվային սպորտի օլիմպիական մանկապատանեկան մարզադպրոց» ՊՈԱԿ | D96: =SUM(E96:H96) -> -126795.1 | E96: =+'Հավելված N 11'!I338+'Հավելված N 11'!I340+'Հավելված N 11'!I341 -> -126795.1
C97: Արթուր Աբրահամի անվան մարզահամալիր | D97: =SUM(E97:H97) -> -34020 | G97: =+'Հավելված N 11'!I342+'Հավելված N 11'!I343 -> -34020
A98: 1163 | B98: 32002 | C98: Մարզական օբյեկտների հիմնանորոգում | D98: =+E98+F98+G98+H98 -> -277975 | E98: =+E100+E104 -> 0 | F98: =+F100+F104 -> -213180.1 | G98: =+G100+G104 -> -64794.9 | H98: =+H100+H104 -> 0
C99: այդ թվում`
C100: Երևան քաղաք | D100: =SUM(E100:H100) -> -254089.5 | E100: =E101+E102+E103 -> 0 | F100: =F101+F102+F103 -> -213180.1 | G100: =G101+G102+G103 -> -40909.4 | H100: =H101+H102+H103 -> 0
C101: «Երևանի օլիմպիական հերթափոխի պետական մարզական քոլեջ» ՊՈԱԿ | D101: =SUM(E101:H101) -> -93311 | F101: =+'Հավելված N 11'!I346+'Հավելված N 11'!I348+'Հավելված N 11'!I349 -> -93311
C102: «Խաղային մարզաձևերի օլիմպիական մանկապատանեկան մարզադպրոց» ՊՈԱԿ | D102: =SUM(E102:H102) -> -40909.4 | G102: =+'Հավելված N 11'!I350+'Հավելված N 11'!I352 -> -40909.4
C103: «Թիավարության մարզաձևերի օլիմպիական մանկապատանեական մարզադպրոց» ՊՈԱԿ | D103: =SUM(E103:H103) -> -119869.1 | F103: =+'Հավելված N 11'!I58+'Հավելված N 11'!I60+'Հավելված N 11'!I61 -> -119869.1
C104: ՀՀ Շիրակի մարզ | D104: =SUM(E104:H104) -> -23885.5 | E104: =+E105 -> 0 | F104: =+F105 -> 0 | G104: =+G105 -> -23885.5 | H104: =+H105 -> 0
...

Sheet Հավելված N 6
D1: Հավելված N 6
D2: ՀՀ կառավարության 2023 թվականի
D3: ______________ ի ___Ն որոշման
B5: ՀԱՅԱՍՏԱՆԻ ՀԱՆՐԱՊԵՏՈՒԹՅԱՆ ԿԱՌԱՎԱՐՈՒԹՅԱՆ 2022 ԹՎԱԿԱՆԻ ԴԵԿՏԵՄԲԵՐԻ 29-Ի N 2111-Ն ՈՐՈՇՄԱՆ N 5 ՀԱՎԵԼՎԱԾԻ N 2 ԱՂՅՈՒՍԱԿՈՒՄ ԿԱՏԱՐՎՈՂ ՓՈՓՈԽՈՒԹՅՈՒՆՆԵՐԸ ԵՎ ԼՐԱՑՈՒՄՆԵՐԸ
E8: հազ. դրամներով
B9: Ծրագրային դասիչ | D9: Բյուջետային գլխավոր կարգադրիչների, ծրագրերի, միջոցառումների, միջոցառումները կատարող պետական մարմինների և ուղղությունների անվանումները | E9: Ցուցանիշների փոփոխությունը (ավելացումները նշված են դրական նշանով, իսկ նվազեցումները՝ փակագծերում)
B10: Ծրագիր | C10: Միջոցառում | E10: Տարի
D12: ՀՀ ԿՐԹՈՒԹՅԱՆ, ԳԻՏՈՒԹՅԱՆ, ՄՇԱԿՈՒՅԹԻ ԵՎ ՍՊՈՐՏԻ ՆԱԽԱՐԱՐՈՒԹՅՈՒՆ | E12: =+E14+E35+E47+E60+E66+E72+E101+E107+E110+E117+E130+E136+E221+E246+E256+E267+E276+E310 -> -14769224
D13: այդ թվում՝
B14: 1045 | C14: 32001 | D14: Նախնական մասնագիտական (արհեստագործական) և միջին մասնագիտական ուսումնական հաստատությունների շենքային պայմանների բարելավում | E14: =+E16+E24 -> -710539.1
D15: այդ թվում` ըստ կատարողների
D16: ՀՀ քաղաքաշինության կոմիտե | E16: =+E18+E20+E22 -> -385126
D17: այդ թվում՝ ըստ ուղղությունների
D18: Երևան քաղաք | E18: =+E19 -> -10364
D19: =+'Հավելված N 5'!C19 -> «Երևանի թեթև արդյունաբերության պետական քոլեջ» ՊՈԱԿ | E19: =+'Հավելված N 5'!D19 -> -10364
D20: ՀՀ Արարատի մարզ | E20: =+E21 -> -155400
D21: =+'Հավելված N 5'!C23 -> «Մասիսի պետական գյուղատնտեսական քոլեջ» ՊՈԱԿ | E21: =+'Հավելված N 5'!D23 -> -155400
D22: ՀՀ Կոտայքի մարզ | E22: =+E23 -> -219362
D23: =+'Հավելված N 5'!C29 -> «Նոր Գեղիի ակադեմիկոս Գ. Աղաջանյանի անվան պետական գյուղատնտեսական քոլեջ» ՊՈԱԿ | E23: =+'Հավելված N 5'!D29 -> -219362
D24: ՀՀ կրթության, գիտության, մշակույթի և սպորտի նախարարություն | E24: =+E26+E29+E31+E33 -> -325413.1
D25: այդ թվում՝ ըստ ուղղությունների
D26: Երևան քաղաք | E26: =+E27+E28 -> -310318.9
D27: =+'Հավելված N 5'!C20 -> «Երևանի հ․8 արհեստագործական պետական ուսումնարան» ՊՈԱԿ | E27: =+'Հավելված N 5'!D20 -> -292850.7
D28: =+'Հավելված N 5'!C21 -> «Երևանի հ․9 արհեստագործական պետական ուսումնարան» ՊՈԱԿ | E28: =+'Հավելված N 5'!D21 -> -17468.2
D29: ՀՀ Գեղարքունիքի մարզ | E29: =+E30 -> -6636.5
D30: =+'Հավելված N 5'!C25 -> «Գավառի պետական բժշկական քոլեջ» ՊՈԱԿ | E30: =+'Հավելված N 5'!D25 -> -6636.5
D31: ՀՀ Լոռու մարզ | E31: =+E32 -> -7083.3
D32: =+'Հավելված N 5'!C27 -> «Վանաձորի Կ. Ղարաքեշիշյանի անվան N 1 արհեստագործական պետական ուսումնարան» ՊՈԱԿ | E32: =+'Հավելված N 5'!D27 -> -7083.3
D33: ՀՀ Շիրակի մարզ | E33: =+E34 -> -1374.4
D34: =+'Հավելված N 5'!C31 -> «Արթիկի պետական քոլեջ» ՊՈԱԿ | E34: =+'Հավելված N 5'!D31 -> -1374.4
B35: 1045 | C35: 32005 | D35: Նախնական մասնագիտական (արհեստագործական) և միջին մասնագիտական ուսումնական հաստատությունների շենքերի կառուցում | E35: =+E37 -> -955465.7
D36: այդ թվում` ըստ կատարողների
D37: ՀՀ քաղաքաշինության կոմիտե | E37: =+E39+E41+E43+E45 -> -955465.7
D38: այդ թվում՝ ըստ ուղղությունների
D39: ՀՀ Արագածոտնի մարզ | E39: =+E40 -> -453627.9
D40: =+'Հավելված N 5'!C35 -> Հայաստանի ազգային ագրարային համալսարան հիմնադրամի Ապարանի մասնաճյուղ | E40: =+'Հավելված N 5'!D35 -> -453627.9
D41: ՀՀ Գեղարքունիքի մարզ | E41: =+E42 -> -155280
D42: =+'Հավելված N 5'!C37 -> «Գավառի ակադեմիկոս Ա. Թամամշևի անվան պետական գյուղատնտեսական քոլեջ» ՊՈԱԿ | E42: =+'Հավելված N 5'!D37 -> -155280
D43: ՀՀ Լոռու մարզ | E43: =+E44 -> -103600
D44: =+'Հավելված N 5'!C39 -> «Ստեփանավանի պրոֆ. Քալանթարի անվան պետական գյուղատնտեսական քոլեջ» ՊՈԱԿ | E44: =+'Հավելված N 5'!D39 -> -103600
D45: ՀՀ Սյունիքի մարզ | E45: =+E46 -> -242957.8
D46: =+'Հավելված N 5'!C41 -> «Գորիսի պրոֆեսոր Խ. Երիցյանի անվան պետական գյուղատնտեսական քոլեջ» ՊՈԱԿ | E46: =+'Հավելված N 5'!D41 -> -242957.8
B47: 1075 | C47: 21001 | D47: Հուշարձանների ամրակայում, նորոգում և վերականգնում | E47: =+E49 -> -280378
D48: այդ թվում` ըստ կատարողների
D49: ՀՀ կրթության, գիտության, մշակույթի և սպորտի նախարարություն | E49: =+E51 -> -280378
D50: այդ թվում՝ ըստ ուղղությունների
D51: 1. Վերականգնողական աշխատանքներ | E51: =+E53+E55+E57 -> -280378
D52: որից`
D53: Երևան քաղաք | E53: =+E54 -> -198686
D54: =+'Հավելված N 5'!C47 -> Հայոց ցեղասպանության հուշահամալիրի և թանգարանի հիմնանորոգում և բարեկարգում | E54: =+'Հավելված N 5'!D47 -> -198686
D55: ՀՀ Արմավիրի մարզ | E55: =+E56 -> -68731.5
D56: =+'Հավելված N 5'!C49 -> Այգեշատ համայնքի Թարգմանչաց եկեղեցու վերականգնում | E56: =+'Հավելված N 5'!D49 -> -68731.5
D57: ՀՀ Լոռու մարզ | E57: =++E58+E59 -> -12960.5
D58: =+'Հավելված N 5'!C51 -> Ալավերդի համայնքի Սանահինի վանական համալիրի Սբ Ամենափրկիչ եկեղեցու տանիքների նորոգում | E58: =+'Հավելված N 5'!D51 -> -5019
D59: =+'Հավելված N 5'!C52 -> Քոբայր ե/գ կայարանի Քոբայրավանքի սեղանատան վերականգնում | E59: =+'Հավելված N 5'!D52 -> -7941.5
B60: 1075 | C60: 32001 | D60: Ներդրումներ թանգարանների և պատկերասրահների հիմնանորոգման համար | E60: =+E62 -> -180536.4
D61: այդ թվում` ըստ կատարողների
D62: ՀՀ կրթության, գիտության, մշակույթի և սպորտի նախարարություն | E62: =+E64 -> -180536.4
D63: այդ թվում՝ ըստ ուղղությունների
D64: Երևան քաղաք | E64: =+E65 -> -180536.4
D65: =+'Հավելված N 5'!C56 -> «Հ. Թումանյանի թանգարան» ՊՈԱԿ | E65: =+'Հավելված N 5'!D56 -> -180536.4
B66: 1111 | C66: 32001 | D66: Բարձրագույն ուսումնական հաստատությունների և ««Զեյթուն» ուսանողական ավան» հիմնադրամի շենքային պայմանների բարելավում | E66: =+E68 -> -374821.87
D67: այդ թվում` ըստ կատարողների
D68: ՀՀ քաղաքաշինության կոմիտե | E68: =+E70 -> -374821.87
D69: այդ թվում՝ ըստ ուղղությունների
D70: Երևան քաղաք | E70: =+E71 -> -374821.87
D71: =+'Հավելված N 5'!C60 -> «Երևանի Կոմիտասի անվան պետական կոնսերվատորիա» ՊՈԱԿ | E71: =+'Հավելված N 5'!D60 -> -374821.87
B72: 1146 | C72: 12010 | D72: «Մոդուլային» տիպի մանկապարտեզների շենքային ապահովում | E72: =+E74 -> -2928071.6
D73: այդ թվում` ըստ կատարողների
D74: ՀՀ քաղաքաշինության կոմիտե | E74: =+E76+E77+E78+E79+E81+E87+E89+E94+E97+E99 -> -2928071.6
D75: այդ թվում` ըստ ուղղությունների
D76: «Մոդուլային» տիպի 50 տեղ հզորությամբ մսուր-մանկապարտեզի բազմակի օգտագործման օրինակելի նախագծանախահաշվային փաստաթղթեր | E76: =+'Հավելված N 5'!D63 -> -460
D77: «Մոդուլային» տիպի 100 տեղ հզորությամբ մսուր-մանկապարտեզի բազմակի օգտագործման օրինակելի նախագծանախահաշվային փաստաթղթեր | E77: =+'Հավելված N 5'!D64 -> -900
D78: «Մոդուլային» տիպի 200 տեղ հզորությամբ մսուր-մանկապարտեզի բազմակի օգտագործման օրինակելի նախագծանախահաշվային փաստաթղթեր | E78: =+'Հավելված N 5'!D65 -> -700
D79: ՀՀ Արարատի մարզ | E79: =+E80 -> -103948.3
D80: =+'Հավելված N 5'!C67 -> ՀՀ Արարատի մարզի Արալեզ համայնքում «Մոդուլային» տիպի 144 տեղ հզորությամբ մսուր-մանկապարտեզ | E80: =+'Հավելված N 5'!D67 -> -103948.3
D81: ՀՀ Արմավիրի մարզ | E81: =+E82+E83+E84+E85+E86 -> -1308357.4
D82: =+'Հավելված N 5'!C69 -> ՀՀ Արմավիրի մարզի Այգևան համայնքում «Մոդուլային» տիպի 144 տեղ հզորությամբ մսուր-մանկապարտեզ | E82: =+'Հավելված N 5'!D69 -> -258691.6
D83: =+'Հավելված N 5'!C70 -> ՀՀ Արմավիրի մարզի Գետաշեն համայնքում «Մոդուլային» տիպի 144 տեղ հզորությամբ մսուր-մանկապարտեզ | E83: =+'Հավելված N 5'!D70 -> -490149.3
D84: =+'Հավելված N 5'!C71 -> ՀՀ Արմավիրի մարզի Նորավան համայնքում «Մոդուլային» տիպի 144 տեղ հզորությամբ մսուր-մանկապարտեզ | E84: =+'Հավելված N 5'!D71 -> -119779.5
D85: =+'Հավելված N 5'!C72 -> ՀՀ Արմավիրի մարզի Փշատավան համայնքում «Մոդուլային» տիպի 144 տեղ հզորությամբ մսուր-մանկապարտեզ | E85: =+'Հավելված N 5'!D72 -> -283328.6
D86: =+'Հավելված N 5'!C73 -> ՀՀ Արմավիրի մարզի Լենուղի համայնքում «Մոդուլային» տիպի 144 տեղ հզորությամբ մսուր-մանկապարտեզ | E86: =+'Հավելված N 5'!D73 -> -156408.4
D87: ՀՀ Գեղարքունիքի մարզ | E87: =+E88 -> -153332.5
D88: =+'Հավելված N 5'!C75 -> ՀՀ Գեղարքունիքի մարզի Աստղաձոր համայնքում «Մոդուլային» տիպի 144 տեղ հզորությամբ մսուր-մանկապարտեզ | E88: =+'Հավելված N 5'!D75 -> -153332.5
D89: ՀՀ Լոռու մարզ | E89: =+E90+E91+E92+E93 -> -558327.1
D90: =+'Հավելված N 5'!C77 -> ՀՀ Լոռու մարզի Սպիտակ համայնքում «Մոդուլային» տիպի 144 տեղ հզորությամբ մսուր-մանկապարտեզ | E90: =+'Հավելված N 5'!D77 -> -106198.9
D91: =+'Հավելված N 5'!C78 -> ՀՀ Լոռու մարզի Գոգարան համայնքում «Մոդուլային» տիպի 144 տեղ հզորությամբ մսուր-մանկապարտեզ | E91: =+'Հավելված N 5'!D78 -> -241592.4
D92: =+'Հավելված N 5'!C79 -> ՀՀ Լոռու մարզի Լեռնավան համայնքում «Մոդուլային» տիպի 144 տեղ հզորությամբ մսուր-մանկապարտեզ | E92: =+'Հավելված N 5'!D79 -> -121303.4
D93: =+'Հավելված N 5'!C80 -> ՀՀ Լոռու մարզի Լուսաղբյուր համայնքում «Մոդուլային» տիպի 144 տեղ հզորությամբ մսուր-մանկապարտեզ | E93: =+'Հավելված N 5'!D80 -> -89232.4
D94: ՀՀ Շիրակի մարզ | E94: =SUM(E95:E96) -> -575753
D95: =+'Հավելված N 5'!C82 -> ՀՀ Շիրակի մարզի Արթիկ համայնքում «Մոդուլային» տիպի 144 տեղ հզորությամբ մսուր-մանկապարտեզ | E95: =+'Հավելված N 5'!D82 -> -292319.9
D96: =+'Հավելված N 5'!C83 -> ՀՀ Շիրակի մարզի Արևշատ համայնքում «Մոդուլային» տիպի 144 տեղ հզորությամբ մսուր-մանկապարտեզ | E96: =+'Հավելված N 5'!D83 -> -283433.1
D97: ՀՀ Վայոց Ձորի մարզ | E97: =+E98 -> -51800
D98: =+'Հավելված N 5'!C85 -> ՀՀ Վայոց ձորի մարզի Եղեգիս համայնքի Շատին բնակավայրում «Մոդուլային» տիպի 250 տեղ հզորությամբ մսուր-մանկապարտեզ | E98: =+'Հավելված N 5'!D85 -> -51800
D99: ՀՀ Տավուշի մարզ | E99: =+E100 -> -174493.3
D100: =+'Հավելված N 5'!C87 -> ՀՀ Տավուշի մարզի Այրում համայնքի Բագրատաշեն բնակավայրում «Մոդուլային» տիպի 144 տեղ հզորությամբ մսուր-մանկապարտեզ | E100: =+'Հավելված N 5'!D87 -> -174493.3
B101: 1148 | C101: 32003 | D101: «Արամ Մանուկյանի անվան մարզառազմական մասնագիտացված դպրոց» ՊՈԱԿ-ի մարզադահլիճի կառուցում | E101: =+E103 -> -113596.4
D102: այդ թվում` ըստ կատարողների
D103: ՀՀ կրթության, գիտության, մշակույթի և սպորտի նախարարություն | E103: =+E105 -> -113596.4
D104: այդ թվում` ըստ ուղղությունների
...

Sheet Հավելված N 7
F1: Հավելված N 7
F2: ՀՀ կառավարության 2023 թվականի
F3: ______________ ի ___Ն որոշման
A6: ՀԱՅԱՍՏԱՆԻ ՀԱՆՐԱՊԵՏՈՒԹՅԱՆ ԿԱՌԱՎԱՐՈՒԹՅԱՆ 2022 ԹՎԱԿԱՆԻ ԴԵԿՏԵՄԲԵՐԻ 29-Ի N 2111-Ն ՈՐՈՇՄԱՆ N 5 ՀԱՎԵԼՎԱԾԻ N 7 ԱՂՅՈՒՍԱԿՈՒՄ ԿԱՏԱՐՎՈՂ ԼՐԱՑՈՒՄՆԵՐԸ
A7: հազ. դրամներով
A8: Ծրագրային դասիչը | D8: Բյուջետային հատկացումների գլխավոր կարգադրիչների, ծրագրերի, միջոցառումների և միջոցառումները կատարող պետական մարմինների անվանումները | F8: Միջոցառումները կատարող պետական մարմինների և դրամաշնորհ ստացող տնտեսվարող սուբյեկտների անվանումները | G8: Ցուցանիշների փոփոխությունը (ավելացումները նշված են դրական նշանով)
A9: Ծրագիր | B9: Միջոցառում | G9: Տարի
A10: ՀՀ կրթության, գիտության, մշակույթի և սպորտի նախարարություն | G10: =+G11+G14+G20+G23+G27+G31 -> 295509.3
A11: 1045 | B11: Նախնական (արհեստագործական) և միջին մասնագիտական կրթություն | G11: =+G12 -> 3591.5
B12: 32001 | C12: Նախնական մասնագիտական (արհեստագործական) և միջին մասնագիտական ուսումնական հաստատությունների շենքային պայմանների բարելավում | F12: ՀՀ կրթության, գիտության, մշակույթի և սպորտի նախարարություն | G12: =+G13 -> 3591.5
F13: «Ալավերդու պետական քոլեջ» ՊՈԱԿ | G13: 3591.5
A14: 1075 | B14: Մշակութային ժառանգության ծրագիր | G14: =+G15+G17 -> 52968
B15: 32001 | C15: Ներդրումներ թանգարանների և պատկերասրահների հիմնանորոգման համար | F15: ՀՀ կրթության, գիտության, մշակույթի և սպորտի նախարարություն | G15: =+G16 -> 50000
F16: «Մատենադարան» Մեսրոպ Մաշտոցի անվան հին ձեռագրերի գիտահետազոտական ինստիտուտ» հիմնադրամ | G16: 50000
B17: 32008 | C17: Թանգարանների և պատկերասրահների գույքային և տեխնիկական հագեցվածության բարելավում | F17: ՀՀ կրթության, գիտության, մշակույթի և սպորտի նախարարություն | G17: =+G18+G19 -> 2968
F18: «Երվանդ Քոչարի թանգարան» ՊՈԱԿ | G18: 963
F19: «Ալեքսանդր Սպենդիարյանի տուն-թանգարան» ՊՈԱԿ | G19: 2005
A20: 1111 | B20: Բարձրագույն և հետբուհական մասնագիտական կրթության ծրագիր | G20: =+G21 -> 49983.7
B21: 32003 | C21: Բարձրագույն ուսումնական հաստատությունների և ««Զեյթուն» ուսանողկան ավան» հիմնադրամի նյութատեխնիկական բազայի համալրում և գույքով ապահովում | F21: ՀՀ կրթության, գիտության, մշակույթի և սպորտի նախարարություն | G21: =+G22 -> 49983.7
F22: «Երևանի թատրոնի և կինոյի պետական ինստիտուտ» ՊՈԱԿ | G22: 49983.7
A23: 1163 | B23: Մասսայական սպորտ | G23: =+G24 -> 33296
B24: 32002 | C24: Մարզական օբյեկտների հիմնանորոգում | G24: =+G25 -> 33296
F25: ՀՀ Շիրակի մարզպետի աշխատակազմ | G25: =+G26 -> 33296
F26: «Գյումրու մարզական բարձրագույն վարպետության դպրոց» ՊՈԱԿ | G26: 33296
A27: 1168 | B27: Արվեստների ծրագիր | G27: =+G28 -> 19805
B28: 32007 | C28: Թատերահամերգային կազմակերպությունների նյութատեխնիկական բազայի համալրում | F28: ՀՀ կրթության, գիտության, մշակույթի և սպորտի նախարարություն | G28: =+G29+G30 -> 19805
F29: «Երևանի կամերային պետական թատրոն» ՊՈԱԿ | G29: 13950
F30: «Հայաստանի պետական ազգային ակադեմիական երգչախումբ» ՊՈԱԿ | G30: 5855
A31: 1183 | B31: Ապահով դպրոց | G31: =+G32+G42 -> 135865.1
B32: 32001 | C32: Կրթական օբյեկտների շենքային պայմանների բարելավում | G32: =+G33+G36+G38 -> 132471.1
F33: ՀՀ Արմավիրի մարզպետի աշխատակազմ | G33: =+G34+G35 -> 42336.9
F34: «Ծիածանի միջնակարգ դպրոց» ՊՈԱԿ | G34: =18000+350+141.2 -> 18491.2
F35: «Նորակերտի միջնակարգ դպրոց» ՊՈԱԿ | G35: 23845.7
F36: ՀՀ Գեղարքունիքի մարզպետի աշխատակազմ | G36: =+G37 -> 7503.5
F37: «Գեղհովիտ գյուղի Ալ. Մյասնիկյանի անվան թիվ 1 միջնակարգ դպրոց» | G37: =7200+233.5+70 -> 7503.5
F38: ՀՀ Շիրակի մարզպետի աշխատակազմ | G38: =+G39+G40+G41 -> 82630.7
F39: «Գյումրու թիվ 9 հիմնական դպրոց» ՊՈԱԿ | G39: 24929
F40: «Գյումրու թիվ 18 միջնակարգ դպրոց» ՊՈԱԿ | G40: 36846.6
F41: «Լանջիկի միջնակարգ դպրոց» ՊՈԱԿ | G41: 20855.1
B42: 32012 | C42: Հանրակրթական դպրոցների գույքով և տեխնիկայով ապահովում | G42: =+G43+G45 -> 3394
F43: ՀՀ կրթության, գիտության, մշակույթի և սպորտի նախարարություն | G43: =+G44 -> 848
F44: «Երևանի Գ.Էմինի անվ. 182 ավագ դպրոց» հիմնադրամ | G44: 848
F45: ՀՀ Արագածոտնի մարզպետի աշխատակազմ | G45: =+G46 -> 2546
F46: «Ներքին Բազմաբերդի Ե. Ասատրյանի անվան միջնակարգ դպրոց» ՊՈԱԿ | G46: 2546

Sheet Հավելված N 8
C1: Հավելված N 8
C2: ՀՀ կառավարության 2023 թվականի
C3: ______________ ի ___Ն որոշման
A6: ՀԱՅԱՍՏԱՆԻ ՀԱՆՐԱՊԵՏՈՒԹՅԱՆ ԿԱՌԱՎԱՐՈՒԹՅԱՆ 2022 ԹՎԱԿԱՆԻ ԴԵԿՏԵՄԲԵՐԻ 29-Ի N 2111-Ն ՈՐՈՇՄԱՆ N 6 ՀԱՎԵԼՎԱԾՈՒՄ ԿԱՏԱՐՎՈՂ ԼՐԱՑՈՒՄԸ
A9: NN ը/կ | B9: Եկամտատեսակը | D9: Գանձման համար պատասխանատու պետական կառավարման մարմինը (մարմինները) | E9: Ցուցանիշների փոփոխությունը (ավելացումները նշված են դրական նշանով)
E10: Տարի
A11: Այլ եկամուտներ, ընդամենը՝ | E11: =+E13 -> 7503.5
B12: այդ թվում՝
A13: 6 | B13: Օրենքով և այլ իրավական ակտերով սահմանված պետական բյուջե մուտքագրվող այլ եկամուտներ | E13: =+E14 -> 7503.5
A14: 6.8 | B14: Նախորդ տարիների՝ ՀՀ պետական բյուջեից ծախսերի ֆինանսավորման նպատակով հատկացված գումարների (բացառությամբ փոխառու միջոցների) վերադարձից մուտքեր | D14: ՀՀ պետական կառավարման մարմիններ | E14: =+'Հավելված N 7'!G37 -> 7503.5

Sheet Հավելված N 9
C1: Հավելված N 9
C2: ՀՀ կառավարության 2023 թվականի
C3: ______________ ի ___Ն որոշման
B6: ՀԱՅԱՍՏԱՆԻ ՀԱՆՐԱՊԵՏՈՒԹՅԱՆ ԿԱՌԱՎԱՐՈՒԹՅԱՆ 2022 ԹՎԱԿԱՆԻ ԴԵԿՏԵՄԲԵՐԻ 29-Ի N 2111-Ն ՈՐՈՇՄԱՆ N 9 ՀԱՎԵԼՎԱԾԻ NN 9.13 ԵՎ 9.47 ԱՂՅՈՒՍԱԿՆԵՐՈՒՄ ԿԱՏԱՐՎՈՂ ՓՈՓՈԽՈՒԹՅՈՒՆՆԵՐԸ ԵՎ ԼՐԱՑՈՒՄՆԵՐԸ
A8: Աղյուսակ 9․13
C9: ՀՀ կրթության, գիտության, մշակույթի և սպորտի նախարարություն
B10: ՄԱՍ 2. ՊԵՏԱԿԱՆ ՄԱՐՄՆԻ ԳԾՈՎ ԱՐԴՅՈՒՆՔԱՅԻՆ (ԿԱՏԱՐՈՂԱԿԱՆ) ՑՈՒՑԱՆԻՇՆԵՐԸ
B13: Ծրագրի դասիչը | C13: Ծրագրի անվանումը
B14: 1045 | C14: Նախնական (արհեստագործական) և միջին մասնագիտական կրթություն
B16: Ծրագրի միջոցառումները | D16: Ցուցանիշների փոփոխությունը (նվազեցումները նշված են փակագծերում)
B17: Ծրագրի դասիչը՝ | C17: 1045
B18: Միջոցառման դասիչը՝ | C18: 32001 | D18: Տարի
B19: Միջոցառման անվանումը՝ | C19: Նախնական մասնագիտական (արհեստագործական) և միջին մասնագիտական ուսումնական հաստատությունների շենքային պայմանների բարելավում
B20: Նկարագրությունը՝ | C20: ՆՄՄԿՈՒ հաստատությունների շենքերի հիմնանորոգման և նախագծման (շինարարական աշխատանքներ, ջեռուցման համակարգի ստեղծում, ներքին հարդարում, տարածքի բարեկարգում) աշխատանքների իրականացում
B21: Միջոցառման տեսակը՝ | C21: Այլ պետական կազմակերպությունների կողմից օգտագործվող ոչ ֆինանսական ակտիվների հետ գործառնություններ
B22: Ակտիվն օգտագործող կազմակերպությունների անվանումները | C22: Նախնական մասնագիտական (արհեստագործական) և միջին մասնագիտական ուսումնական հաստատություններ
B23: Արդյունքի չափորոշիչներ
B24: Նախագծանախահաշվային փաստաթղթերի քանակ, հատ | D24: -1
B25: Միջոցառման վրա կատարվող ծախսը (հազար դրամ) | D25: =+'Հավելված N 3'!D23 -> -706947.6
B27: Ծրագրի միջոցառումները | D27: Ցուցանիշների փոփոխությունը (նվազեցումները նշված են փակագծերում)
B28: Ծրագրի դասիչը՝ | C28: 1045
B29: Միջոցառման դասիչը՝ | C29: 32005 | D29: Տարի
B30: Միջոցառման անվանումը` | C30: Նախնական մասնագիտական (արհեստագործական) և միջին մասնագիտական ուսումնական հաստատությունների շենքերի կառուցում
B31: Նկարագրությունը` | C31: ՆՄՄԿՈՒ հաստատությունների շենքերի (մասնաշենքերի) կառուցման և նախագծման աշխատանքների իրականացում
B32: Միջոցառման տեսակը` | C32: Այլ պետական կազմակերպությունների կողմից օգտագործվող ոչ ֆինանսական ակտիվների հետ գործառնություններ
B33: Ակտիվն օգտագործող կազմակերպությունների անվանումները | C33: Նախնական մասնագիտական (արհեստագործական) և միջին մասնագիտական ուսումնական հաստատություններ
B34: Արդյունքի չափորոշիչներ
B35: Կառուցվող միջին մասնագիտական ուսումնական հաստատությունների քանակ, հատ | D35: -2
B36: Միջոցառման վրա կատարվող ծախսը (հազար դրամ) | D36: =+'Հավելված N 3'!D29 -> -955465.7
B38: Ծրագրի դասիչը | C38: Ծրագրի անվանումը
B39: 1075 | C39: Մշակութային ժառանգության ծրագիր
B41: Ծրագրի միջոցառումները | D41: Ցուցանիշների փոփոխությունը (նվազեցումները նշված են փակագծերում)
B42: Ծրագրի դասիչը՝ | C42: 1075
B43: Միջոցառման դասիչը` | C43: 21001 | D43: Տարի
B44: Միջոցառման անվանումը` | C44: Հուշարձանների ամրակայում, նորոգում և վերականգնում
B45: Նկարագրությունը` | C45: Հուշարձանների գիտանախագծային փաստաթղթերի կազմում, հրատապ ուսումնասիրում, վավերագրման և ուսումնասիրման աշխատանքներ, հետախուզում և հնագիտական պեղում, ամրակայում, նորոգում և վերականգնում
B46: Միջոցառման տեսակը` | C46: Հանրության կողմից անմիջականորեն օգտագործվող ակտիվների հետ կապված միջոցառումներ
B47: Միջոցառումն իրականացնողիանվանումը | C47: Մասնագիտացված կազմակերպություն
B48: Արդյունքի չափորոշիչներ
B49: Հուշարձանների ամրակայման, նորոգման և վերականգնման աշխատանքներ, քանակ | D49: -1
B50: Միջոցառման վրա կատարվող ծախսը (հազար դրամ) | D50: =+'Հավելված N 3'!D42 -> -280378
B52: Ծրագրի միջոցառումները | D52: Ցուցանիշների փոփոխությունը (ավելացումները նշված են դրական նշանով, իսկ նվազեցումները փակագծերում)
B53: Ծրագրի դասիչը՝ | C53: 1075
B54: Միջոցառման դասիչը՝ | C54: 32001 | D54: Տարի
B55: Միջոցառման անվանումը` | C55: Ներդրումներ թանգարանների և պատկերասրահների հիմնանորոգման համար
B56: Նկարագրությունը` | C56: Թանգարանների և պատկերասրահների շենքերի, մասնաշենքերի հիմնանորոգում, համաշինարարական աշխատանքներ, ջեռուցման համակարգի իրականացում, ներքին հարդարում, տարածքի բարեկարգում և նախագծում
B57: Միջոցառման տեսակը` | C57: Այլ պետական կազմակերպությունների կողմից օգտագործվող ոչ ֆինանսական ակտիվների հետ գործառնություններ
B58: Ակտիվն օգտագործող կազմակերպությունների անվանումները | C58: Թանգարաններ և պատկերասրահներ
B59: Արդյունքի չափորոշիչներ
B60: Հիմնանորոգվող թանգարաններ և պատկերասրահներ քանակ, հատ | D60: 1
B61: Միջոցառման վրա կատարվող ծախսը (հազար դրամ) | D61: =+'Հավելված N 3'!D48 -> -130536.4
B63: Ծրագրի միջոցառումները | D63: Ցուցանիշների փոփոխությունը (ավելացումները նշված են դրական նշանով)
B64: Ծրագրի դասիչը՝ | C64: 1075
B65: Միջոցառման դասիչը՝ | C65: 32008 | D65: Տարի
B66: Միջոցառման անվանումը՝ | C66: Թանգարանների և պատկերասրահների գույքային և տեխնիկական հագեցվածության բարելավում
B67: Նկարագրությունը՝ | C67: Թանգարանների և պատկերասրահների համար անհրաժեշտ գույքի, տեխնիկայի և սարքավորումների ձեռքբերում
B68: Միջոցառման տեսակը՝ | C68: Այլ պետական կազմակերպությունների կողմից օգտագործվող ոչ ֆինանսական ակտիվների հետ գործառնություններ
B69: Ակտիվն օգտագործող կազմակերպությունների անվանումները | C69: Թանգարաններ և պատկերասրահներ
B70: Արդյունքի չափորոշիչներ
B71: Թանգարանների թիվը, որտեղ կատարվում են ներդրումները, հատ | D71: 2
B72: Միջոցառման վրա կատարվող ծախսը (հազար դրամ) | D72: =+'Հավելված N 3'!D54 -> 2968
B74: Ծրագրի դասիչը | C74: Ծրագրի անվանումը
B75: 1111 | C75: Բարձրագույն և հետբուհական մասնագիտական կրթության ծրագիր
B77: Ծրագրի միջոցառումները | D77: Ցուցանիշների փոփոխությունը (նվազեցումները նշված են փակագծերում)
B78: Ծրագրի դասիչը՝ | C78: 1111
B79: Միջոցառման դասիչը՝ | C79: 32001 | D79: Տարի
B80: Միջոցառման անվանումը` | C80: Բարձրագույն ուսումնական հաստատությունների և «Զեյթուն» ուսանողական ավան» հիմնադրամի շենքային պայմանների բարելավում
B81: Նկարագրությունը` | C81: Բարձրագույն ուսումնական հաստատությունների և «Զեյթուն» ուսանողական ավան» հիմնադրամի շենքային պայմանների բարելավում
B82: Միջոցառման տեսակը` | C82: Այլ պետական կազմակերպությունների կողմից օգտագործվող ոչ ֆինանսական ակտիվների հետ գործառնություններ
B83: Ակտիվն օգտագործող կազմակերպությունների անվանումները | C83: Բարձրագույն ուսումնական հաստատություններ
B84: Արդյունքի չափորոշիչներ
B85: Միջոցառման վրա կատարվող ծախսը (հազար դրամ) | D85: =+'Հավելված N 3'!D67 -> -374821.87
B87: Ծրագրի միջոցառումները | D87: Ցուցանիշների փոփոխությունը (ավելացումները նշված են դրական նշանով)
B88: Ծրագրի դասիչը՝ | C88: 1111
B89: Միջոցառման դասիչը՝ | C89: 32003 | D89: Տարի
B90: Միջոցառման անվանումը` | C90: Բարձրագույն ուսումնական հաստատությունների և «Զեյթուն» ուսանողական ավան» հիմնադրամի նյութատեխնիկական բազայի համալրում և գույքով ապահովում
B91: Նկարագրությունը` | C91: Բարձրագույն ուսումնական հաստատությունների և «Զեյթուն» ուսանողական ավան» հիմնադրամի համար անհրաժեշտ լաբորատոր և այլ սարքավորումների, տեխնիկայի, կահույքի ձեռքբերում
B92: Միջոցառման տեսակը` | C92: Այլ պետական կազմակերպությունների կողմից օգտագործվող ոչ ֆինանսական ակտիվների հետ գործառնություններ
B93: Ակտիվն օգտագործող կազմակերպությունների անվանումները | C93: Բարձրագույն ուսումնական հաստատություններ և «Զեյթուն» ուսանողական ավան» հիմնադրամ
B94: Արդյունքի չափորոշիչներ
B95: Կազմակերպությունների թիվը, որտեղ կատարվում են ներդրումները, հատ | D95: 1
B96: Միջոցառման վրա կատարվող ծախսը (հազար դրամ) | D96: =+'Հավելված N 3'!D73 -> 49983.7
B98: Ծրագրի դասիչը | C98: Ծրագրի անվանումը
B99: 1146 | C99: Հանրակրթության ծրագիր
B101: Ծրագրի միջոցառումները | D101: Ցուցանիշների փոփոխությունը (նվազեցումները նշված են փակագծերում)
B102: Ծրագրի դասիչը՝ | C102: 1146
B103: Միջոցառման դասիչը՝ | C103: 12010 | D103: Տարի
B104: Միջոցառման անվանումը` | C104: «Մոդուլային» տիպի մանկապարտեզների շենքային ապահովում
B105: Նկարագրությունը` | C105: Համայնքներում «Մոդուլային» տիպի մանկապարտեզների կառուցում և նախագծում
B106: Միջոցառման տեսակը` | C106: Տրանսֆերտների տրամադրում
B107: Շահառուների ընտրության չափանիշները | C107: Նախադպրոցական կրթությույն իրականացնող ուսումնական հաստատություններ
B108: Արդյունքի չափորոշիչներ
B109: Միջոցառման վրա կատարվող ծախսը (հազար դրամ) | D109: =+'Հավելված N 3'!D86 -> -2928071.6
B111: Ծրագրի դասիչը | C111: Ծրագրի անվանումը
B112: 1148 | C112: Արտադպրոցական դաստիարակության ծրագիր
B114: Ծրագրի միջոցառումները | D114: Ցուցանիշների փոփոխությունը (նվազեցումները նշված են փակագծերում)
B115: Ծրագրի դասիչը՝ | C115: 1148
B116: Միջոցառման դասիչը՝ | C116: 32003 | D116: Տարի
B117: Միջոցառման անվանումը` | C117: «Արամ Մանուկյանի անվան մարզառազմական մասնագիտացված դպրոց» պետական ոչ առևտրային կազմակերպության համար մարզադահլիճի կառուցում
B118: Նկարագրությունը` | C118: Արամ Մանուկյանի անվան մարզառազմական մասնագիտացված դպրոցի մարզադահլիճի կառուցմամբ դպրոցականների շրջանում <<ֆիզիկական կուլտուրա>> առարկայի պետական չափորոշիչների ապահովում
...

Sheet Հավելված N 10
C1: Հավելված N 10
C2: ՀՀ կառավարության 2023 թվականի
C3: ______________ ի ___Ն որոշման
B6: ՀԱՅԱՍՏԱՆԻ ՀԱՆՐԱՊԵՏՈՒԹՅԱՆ ԿԱՌԱՎԱՐՈՒԹՅԱՆ 2022 ԹՎԱԿԱՆԻ ԴԵԿՏԵՄԲԵՐԻ 29-Ի N 2111-Ն ՈՐՈՇՄԱՆ N 9.1 ՀԱՎԵԼՎԱԾԻ NN 9.1.13, 9.1.28, 9.1.42, 9.1.48, 9.1.50, 9.1.51, 9.1.54 ԵՎ 9.1.58 ԱՂՅՈՒՍԱԿՆԵՐՈՒՄ ԿԱՏԱՐՎՈՂ ՓՈՓՈԽՈՒԹՅՈՒՆՆԵՐԸ ԵՎ ԼՐԱՑՈՒՄՆԵՐԸ
A8: Աղյուսակ 9․1․13
C9: ՀՀ կրթության, գիտության, մշակույթի և սպորտի նախարարություն
B10: ՄԱՍ 1. ՊԵՏԱԿԱՆ ՄԱՐՄՆԻ ԳԾՈՎ ԱՐԴՅՈՒՆՔԱՅԻՆ (ԿԱՏԱՐՈՂԱԿԱՆ) ՑՈՒՑԱՆԻՇՆԵՐԸ
B13: Ծրագրի դասիչը | C13: Ծրագրի անվանումը
B14: 1045 | C14: Նախնական (արհեստագործական) և միջին մասնագիտական կրթություն
B16: Ծրագրի միջոցառումները | D16: Ցուցանիշների փոփոխությունը (ավելացումները նշված են դրական նշանով, իսկ նվազեցումները փակագծերում)
B17: Ծրագրի դասիչը՝ | C17: 1045
B18: Միջոցառման դասիչը՝ | C18: 32001 | D18: Տարի
B19: Միջոցառման անվանումը՝ | C19: Նախնական մասնագիտական (արհեստագործական) և միջին մասնագիտական ուսումնական հաստատությունների շենքային պայմանների բարելավում
B20: Նկարագրությունը՝ | C20: ՆՄՄԿՈՒ հաստատությունների շենքերի հիմնանորոգման և նախագծման (շինարարական աշխատանքներ, ջեռուցման համակարգի ստեղծում, ներքին հարդարում, տարածքի բարեկարգում) աշխատանքների իրականացում
B21: Միջոցառման տեսակը՝ | C21: Այլ պետական կազմակերպությունների կողմից օգտագործվող ոչ ֆինանսական ակտիվների հետ գործառնություններ
B22: Ակտիվն օգտագործող կազմակերպությունների անվանումները | C22: Նախնական մասնագիտական (արհեստագործական) և միջին մասնագիտական ուսումնական հաստատություններ
B23: Արդյունքի չափորոշիչներ
B24: Հիմնանորոգվող միջին մասնագիտական ուսումնական հաստատությունների քանակ, հատ | D24: 1
B25: Միջոցառման վրա կատարվող ծախսը (հազար դրամ) | D25: =+'Հավելված N 4'!G116 -> -321821.6
B27: Ծրագրի դասիչը | C27: Ծրագրի անվանումը
B28: 1075 | C28: Մշակութային ժառանգության ծրագիր
B30: Ծրագրի միջոցառումները | D30: Ցուցանիշների փոփոխությունը (նվազեցումները նշված են փակագծերում)
B31: Ծրագրի դասիչը՝ | C31: 1075
B32: Միջոցառման դասիչը` | C32: 21001 | D32: Տարի
B33: Միջոցառման անվանումը` | C33: Հուշարձանների ամրակայում, նորոգում և վերականգնում
B34: Նկարագրությունը` | C34: Հուշարձանների գիտանախագծային փաստաթղթերի կազմում, հրատապ ուսումնասիրում, վավերագրման և ուսումնասիրման աշխատանքներ, հետախուզում և հնագիտական պեղում, ամրակայում, նորոգում և վերականգնում
B35: Միջոցառման տեսակը` | C35: Հանրության կողմից անմիջականորեն օգտագործվող ակտիվների հետ կապված միջոցառումներ
B36: Միջոցառումն իրականացնողիանվանումը | C36: Մասնագիտացված կազմակերպություն
B37: Արդյունքի չափորոշիչներ
B38: Հուշարձանների ամրակայման, նորոգման և վերականգնման աշխատանքներ, քանակ | D38: -1
B39: Միջոցառման վրա կատարվող ծախսը (հազար դրամ) | D39: =+'Հավելված N 4'!G97 -> -280378
B41: Ծրագրի միջոցառումները | D41: Ցուցանիշների փոփոխությունը (ավելացումները նշված են դրական նշանով, իսկ նվազեցումները փակագծերում)
B42: Ծրագրի դասիչը՝ | C42: 1075
B43: Միջոցառման դասիչը՝ | C43: 32001 | D43: Տարի
B44: Միջոցառման անվանումը` | C44: Ներդրումներ թանգարանների և պատկերասրահների հիմնանորոգման համար
B45: Նկարագրությունը` | C45: Թանգարանների և պատկերասրահների շենքերի, մասնաշենքերի հիմնանորոգում, համաշինարարական աշխատանքներ, ջեռուցման համակարգի իրականացում, ներքին հարդարում, տարածքի բարեկարգում և նախագծում
B46: Միջոցառման տեսակը` | C46: Այլ պետական կազմակերպությունների կողմից օգտագործվող ոչ ֆինանսական ակտիվների հետ գործառնություններ
B47: Ակտիվն օգտագործող կազմակերպությունների անվանումները | C47: Թանգարաններ և պատկերասրահներ
B48: Արդյունքի չափորոշիչներ
B49: Հիմնանորոգվող թանգարաններ և պատկերասրահներ քանակ, հատ | D49: 1
B50: Միջոցառման վրա կատարվող ծախսը (հազար դրամ) | D50: =+'Հավելված N 4'!G45 -> -130536.4
B52: Ծրագրի միջոցառումները | D52: Ցուցանիշների փոփոխությունը (ավելացումները նշված են դրական նշանով)
B53: Ծրագրի դասիչը՝ | C53: 1075
B54: Միջոցառման դասիչը՝ | C54: 32008 | D54: Տարի
B55: Միջոցառման անվանումը՝ | C55: Թանգարանների և պատկերասրահների գույքային և տեխնիկական հագեցվածության բարելավում
B56: Նկարագրությունը՝ | C56: Թանգարանների և պատկերասրահների համար անհրաժեշտ գույքի, տեխնիկայի և սարքավորումների ձեռքբերում
B57: Միջոցառման տեսակը՝ | C57: Այլ պետական կազմակերպությունների կողմից օգտագործվող ոչ ֆինանսական ակտիվների հետ գործառնություններ
B58: Ակտիվն օգտագործող կազմակերպությունների անվանումները | C58: Թանգարաններ և պատկերասրահներ
B59: Արդյունքի չափորոշիչներ
B60: Թանգարանների թիվը, որտեղ կատարվում են ներդրումները, հատ | D60: 2
B61: Միջոցառման վրա կատարվող ծախսը (հազար դրամ) | D61: =+'Հավելված N 4'!G58 -> 2968
B63: Ծրագրի դասիչը | C63: Ծրագրի անվանումը
B64: 1111 | C64: Բարձրագույն և հետբուհական մասնագիտական կրթության ծրագիր
B66: Ծրագրի միջոցառումները | D66: Ցուցանիշների փոփոխությունը (ավելացումները նշված են դրական նշանով)
B67: Ծրագրի դասիչը՝ | C67: 1111
B68: Միջոցառման դասիչը՝ | C68: 32003 | D68: Տարի
B69: Միջոցառման անվանումը` | C69: Բարձրագույն ուսումնական հաստատությունների և «Զեյթուն» ուսանողական ավան» հիմնադրամի նյութատեխնիկական բազայի համալրում և գույքով ապահովում
B70: Նկարագրությունը` | C70: Բարձրագույն ուսումնական հաստատությունների և «Զեյթուն» ուսանողական ավան» հիմնադրամի համար անհրաժեշտ լաբորատոր և այլ սարքավորումների, տեխնիկայի, կահույքի ձեռքբերում
B71: Միջոցառման տեսակը` | C71: Այլ պետական կազմակերպությունների կողմից օգտագործվող ոչ ֆինանսական ակտիվների հետ գործառնություններ
B72: Ակտիվն օգտագործող կազմակերպությունների անվանումները | C72: Բարձրագույն ուսումնական հաստատություններ և «Զեյթուն» ուսանողական ավան» հիմնադրամ
B73: Արդյունքի չափորոշիչներ
B74: Կազմակերպությունների թիվը, որտեղ կատարվում են ներդրումները, հատ | D74: 1
B75: Միջոցառման վրա կատարվող ծախսը (հազար դրամ) | D75: =+'Հավելված N 4'!G160 -> 49983.7
B77: Ծրագրի դասիչը | C77: Ծրագրի անվանումը
B78: 1148 | C78: Արտադպրոցական դաստիարակության ծրագիր
B80: Ծրագրի միջոցառումները | D80: Ցուցանիշների փոփոխությունը (նվազեցումները նշված են փակագծերում)
B81: Ծրագրի դասիչը՝ | C81: 1148
B82: Միջոցառման դասիչը՝ | C82: 32003 | D82: Տարի
B83: Միջոցառման անվանումը` | C83: «Արամ Մանուկյանի անվան մարզառազմական մասնագիտացված դպրոց» պետական ոչ առևտրային կազմակերպության համար մարզադահլիճի կառուցում
B84: Նկարագրությունը` | C84: Արամ Մանուկյանի անվան մարզառազմական մասնագիտացված դպրոցի մարզադահլիճի կառուցմամբ դպրոցականների շրջանում <<ֆիզիկական կուլտուրա>> առարկայի պետական չափորոշիչների ապահովում
B85: Միջոցառման տեսակը` | C85: Այլ պետական կազմակերպությունների կողմից օգտագործվող ոչ ֆինանսական ակտիվների հետ գործառնություններ
B86: Ակտիվն օգտագործող կազմակերպությունների անվանումները | C86: «Արամ Մանուկյանի անվան մարզառազմական մասնագիտացված դպրոց» պետական ոչ առևտրային կազմակերպություն
B87: Արդյունքի չափորոշիչներ
B88: Կազմակերպությունների թիվը, որտեղ կատարվում են ներդրումները, հատ | D88: -1
B89: Հաստատությունների քանակ, որոնց շինարարական աշխատանքների ավարտվածության աստիճանը 100% է, հատ | D89: -1
B90: Միջոցառման վրա կատարվող ծախսը (հազար դրամ) | D90: =+'Հավելված N 4'!G184 -> -113596.4
B92: Ծրագրի դասիչը | C92: Ծրագրի անվանումը
B93: 1163 | C93: Մասսայական սպորտ
B95: Ծրագրի միջոցառումները | D95: Ցուցանիշների փոփոխությունը (նվազեցումները նշված են փակագծերում)
B96: Ծրագրի դասիչը՝ | C96: 1163
B97: Միջոցառման դասիչը՝ | C97: 32002 | D97: Տարի
B98: Միջոցառման անվանումը` | C98: Մարզական օբյեկտների հիմնանորոգում
B99: Նկարագրությունը` | C99: Մարզական օբյեկտների շենքերի (մասնաշենքերի) հիմնանորոգում (համաշինարարական աշխատանքներ, ջեռուցման համակարգի իրականացում, ներքին հարդարում, տարածքի բարեկարգում) և նախագծում
B100: Միջոցառման տեսակը` | C100: Այլ պետական կազմակերպությունների կողմից օգտագործվող ոչ ֆինանսական ակտիվների հետ գործառնություններ
B101: Ակտիվն օգտագործող կազմակերպությունների անվանումները | C101: Մարզական հաստատություններ
B102: Արդյունքի չափորոշիչներ
B103: Հիմնանորոգման ենթակա օբյյեկտների թիվ, հատ | D103: -1
B104: Հաստատությունների քանակ, որոնց շինարարական աշխատանքների ավարտվածության աստիճանը 100% է, հատ | D104: -1
B105: Միջոցառման վրա կատարվող ծախսը (հազար դրամ) | D105: =+'Հավելված N 4'!G206 -> -119869.1
B107: Ծրագրի դասիչը | C107: Ծրագրի անվանումը
B108: 1168 | C108: Արվեստների ծրագիր
B110: Ծրագրի միջոցառումները | D110: Ցուցանիշների փոփոխությունը (ավելացումները նշված են դրական նշանով)
B111: Ծրագրի դասիչը՝ | C111: 1168
B112: Միջոցառման դասիչը՝ | C112: 32007 | D112: Տարի
B113: Միջոցառման անվանումը՝ | C113: Թատերահամերգային կազմակերպությունների նյութատեխնիկական բազայի համալրում
B114: Նկարագրությունը՝ | C114: Թատերահամերգային կազմակերպությունների համար անհրաժեշտ տեխնիկայի և սարքավորումենրի ձեռքբերում
B115: Միջոցառման տեսակը՝ | C115: Այլ պետական կազմակերպությունների կողմից օգտագործվող ոչ ֆինանսական ակտիվների հետ գործառնություններ
B116: Ակտիվն օգտագործող կազմակերպությունների անվանումները | C116: Թատերահամերգային կազմակերպություններ
B117: Արդյունքի չափորոշիչներ
B118: Համերգային կազմակերպությունների թիվը, որտեղ կատարվում են ներդրումները, հատ | D118: 2
...

Sheet Հավելված N 11
H1: Հավելված N 11
H2: ՀՀ կառավարության 2023 թվականի
H3: ______________ ի ___Ն որոշման
A5: ՀԱՅԱՍՏԱՆԻ ՀԱՆՐԱՊԵՏՈՒԹՅԱՆ ԿԱՌԱՎԱՐՈՒԹՅԱՆ 2022 ԹՎԱԿԱՆԻ ԴԵԿՏԵՄԲԵՐԻ 29-Ի N 2111-Ն ՈՐՈՇՄԱՆ N 10 ՀԱՎԵԼՎԱԾՈՒՄ ԿԱՏԱՐՎՈՂ ՓՈՓՈԽՈՒԹՅՈՒՆՆԵՐԸ ԵՎ ԼՐԱՑՈՒՄՆԵՐԸ
A7: Կոդը | B7: Անվանումը | E7: Գնման ձևը | F7: Չափման միավորը | G7: Միավորի գինը | H7: Ցուցանիշների փոփոխությունը (ավելացումները նշված են դրական նշանով, իսկ նվազեցումները՝ փակագծերում)
H8: Քանակը | I8: Գումարը (հազար դրամ)
A9: 1 | B9: 2 | E9: 3 | F9: 4 | G9: 5 | H9: 6 | I9: 7
A10: ՀՀ կրթության, գիտության, մշակույթի և սպորտի նախարարություն | I10: =+I11+I18+I35 -> -1535064.4
A11: Բաժին N 08 | B11: Խումբ N 02 | C11: Դաս N 02 | D11: Թանգարաններ և ցուցասրահներ | I11: =+I12 -> -180536.4
A12: 1075-32001 | B12: Ներդրումներ թանգարանների և պատկերասրահների հիմնանորոգման համար | I12: =+I13+I15 -> -180536.4
B13: ՄԱՍ II. ԱՇԽԱՏԱՆՔՆԵՐ | I13: =+I14 -> -173715.2
A14: 45611200-1 | B14: մշակութային օբյեկտների հիմնանորոգում | E14: ԲՄ | F14: դրամ | I14: -173715.2
B15: ՄԱՍ III. ԾԱՌԱՅՈՒԹՅՈՒՆՆԵՐ | I15: =SUM(I16:I17) -> -6821.2
A16: 71351540-555 | B16: տեխնիկական հսկողության ծառայություններ | E16: ԳՀ | F16: դրամ | I16: -5780.2
A17: 98111140-1 | B17: հեղինակային հսկողության ծառայություններ | E17: ՄԱ | F17: դրամ | I17: -1041
A18: Բաժին N 08 | B18: Խումբ N 02 | C18: Դաս N 07 | D18: Հուշարձանների և մշակութային արժեքների վերականգնում և պահպանում | I18: =+I19 -> -280378
A19: 1075-21001 | B19: Հուշարձանների ամրակայում, նորոգում և վերականգնում | I19: =+I20+I26 -> -280378
B20: ՄԱՍ II. ԱՇԽԱՏԱՆՔՆԵՐ | I20: =SUM(I21:I25) -> -272807.8
A21: 45451600-1 | B21: վերականգնողական աշխատանքներ | E21: ԲՄ | F21: դրամ | G21: 192025300 | H21: -1 | I21: =+ROUND(H21*G21/1000,1) -> -192025.3
A22: 45451600-4 | B22: վերականգնողական աշխատանքներ | E22: ԲՄ | F22: դրամ | G22: 7784512 | H22: -1 | I22: =+ROUND(H22*G22/1000,1) -> -7784.5
A23: 45451600-5 | B23: վերականգնողական աշխատանքներ | E23: ԲՄ | F23: դրամ | G23: 4921140 | H23: -1 | I23: =+ROUND(H23*G23/1000,1) -> -4921.1
A24: 45451600-13 | B24: վերականգնողական աշխատանքներ | E24: ՀԲՄ | F24: դրամ | I24: -13.1
A25: 45451600-14 | B25: վերականգնողական աշխատանքներ | E25: ԳՀ | F25: դրամ | G25: 68063825 | H25: -1 | I25: =+ROUND(H25*G25/1000,1) -> -68063.8
B26: ՄԱՍ III. ԾԱՌԱՅՈՒԹՅՈՒՆՆԵՐ | I26: =SUM(I27:I34) -> -7570.2
A27: 71351540-3 | B27: տեխնիկական հսկողության ծառայություններ | E27: ԳՀ | F27: դրամ | G27: 74800 | H27: -1 | I27: =+ROUND(H27*G27/1000,1) -> -74.8
A28: 71351540-4 | B28: տեխնիկական հսկողության ծառայություններ | E28: ԳՀ | F28: դրամ | G28: 60000 | H28: -1 | I28: =+ROUND(H28*G28/1000,1) -> -60
A29: 71351540-7 | B29: տեխնիկական հսկողության ծառայություններ | E29: ԳՀ | F29: դրամ | G29: 5123600 | H29: -1 | I29: =+ROUND(H29*G29/1000,1) -> -5123.6
A30: 71351540-548 | B30: տեխնիկական հսկողության ծառայություններ | E30: ԳՀ | F30: դրամ | I30: -398.8
A31: 98111140-1 | B31: հեղինակային հսկողության ծառայություններ | E31: ՄԱ | F31: դրամ | G31: 1537100 | H31: -1 | I31: =+ROUND(H31*G31/1000,1) -> -1537.1
A32: 98111140-3 | B32: հեղինակային հսկողության ծառայություններ | E32: ՄԱ | F32: դրամ | I32: -255.8
A33: 98111140-4 | B33: հեղինակային հսկողության ծառայություններ | E33: ՄԱ | F33: դրամ | I33: -82.2
A34: 98111140-5 | B34: հեղինակային հսկողության ծառայություններ | E34: ՄԱ | F34: դրամ | I34: -37.9
A35: Բաժին N 09 | B35: Խումբ N 06 | C35: Դաս N 01 | D35: Կրթությանը տրամադրվող օժանդակ ծառայություններ | I35: =+I36+I50+I62+I73 -> -1074150
A36: 1045-32001 | B36: Նախնական մասնագիտական (արհեստագործական) և միջին մասնագիտական ուսումնական հաստատությունների շենքային պայմանների բարելավում | I36: =+I37+I40 -> -308677.6
B37: ՄԱՍ II. ԱՇԽԱՏԱՆՔՆԵՐ | I37: =+I38 -> -278584.8
A38: 45611100-537 | B38: կրթական օբյեկտների հիմնանորոգում | E38: ԲՄ | F38: դրամ | I38: -278584.8
A39: 45611100-2 | B39: կրթական օբյեկտների հիմնանորոգում | E39: ԲՄ | F39: դրամ | I39: =-1389.81-15345.69 -> -16735.5
B40: ՄԱՍ III. ԾԱՌԱՅՈՒԹՅՈՒՆՆԵՐ | I40: =SUM(I41:I49) -> -30092.8
A41: 71241200-509 | B41: նախագծերի պատրաստում, ծախսերի գնահատում | E41: ԳՀ | F41: դրամ | I41: -6219.3
A42: 71241200-510 | B42: նախագծերի պատրաստում, ծախսերի գնահատում | E42: ԳՀ | F42: դրամ | I42: -6744.5
A43: 71241200-511 | B43: նախագծերի պատրաստում, ծախսերի գնահատում | E43: ԳՀ | F43: դրամ | I43: -1307.6
A44: 50531140-522 | B44: փորձաքննության ծառայություններ | E44: ԳՀ | F44: դրամ | I44: -417.2
A45: 50531140-523 | B45: փորձաքննության ծառայություններ | E45: ԳՀ | F45: դրամ | I45: -338.8
A46: 50531140-524 | B46: փորձաքննության ծառայություններ | E46: ԳՀ | F46: դրամ | I46: -66.8
A47: 71351540-553 | B47: տեխնիկական հսկողության ծառայություններ | E47: ԳՀ | F47: դրամ | I47: -12080
A48: 71351540-554 | B48: տեխնիկական հսկողության ծառայություններ | E48: ԳՀ | F48: դրամ | I48: -732.7
A49: 98111140-1 | B49: հեղինակային հսկողության ծառայություններ | E49: ՄԱ | F49: դրամ | I49: -2185.9
A50: 1148-32003 | B50: «Արամ Մանուկյանի անվան մարզառազմական մասնագիտացված դպրոց» ՊՈԱԿ-ի մարզադահլիճի կառուցում | I50: =+I51+I53 -> -113596.4
B51: ՄԱՍ II. ԱՇԽԱՏԱՆՔՆԵՐ | I51: =+I52 -> -111587.9
A52: 45211138-1 | B52: մարզական դահլիճների կառուցման աշխատանքներ | E52: ԲՄ | F52: դրամ | G52: 111587900 | H52: -1 | I52: =+ROUND(H52*G52/1000,1) -> -111587.9
B53: ՄԱՍ III. ԾԱՌԱՅՈՒԹՅՈՒՆՆԵՐ | I53: =SUM(I54:I55) -> -2008.5
A54: 71351540-1 | B54: տեխնիկական հսկողության ծառայություններ | E54: ԳՀ | F54: դրամ | G54: 1339000 | H54: -1 | I54: =+ROUND(H54*G54/1000,1) -> -1339
A55: 98111140-1 | B55: հեղինակային հսկողության ծառայություններ | E55: ՄԱ | F55: դրամ | G55: 669500 | H55: -1 | I55: =+ROUND(H55*G55/1000,1) -> -669.5
A56: 1163-32002 | B56: Մարզական օբյեկտների հիմնանորոգում | I56: =+I57+I59 -> -119869.1
B57: ՄԱՍ II. ԱՇԽԱՏԱՆՔՆԵՐ | I57: =+I58 -> -116831.5
A58: 45211131-1 | B58: մարզական օբյեկտների շինարարական աշխատանքներ | E58: ԲՄ | F58: դրամ | G58: 116831500 | H58: -1 | I58: =+ROUND(H58*G58/1000,1) -> -116831.5
B59: ՄԱՍ III. ԾԱՌԱՅՈՒԹՅՈՒՆՆԵՐ | I59: =SUM(I60:I61) -> -3037.6
A60: 71351540-1 | B60: տեխնիկական հսկողության ծառայություններ | E60: ԳՀ | F60: դրամ | G60: 2336600 | H60: -1 | I60: =+ROUND(H60*G60/1000,1) -> -2336.6
A61: 98111140-1 | B61: հեղինակային հսկողության ծառայություններ | E61: ՄԱ | F61: դրամ | G61: 701000 | H61: -1 | I61: =+ROUND(H61*G61/1000,1) -> -701
A62: 1183-32004 | B62: Ավագ մակարդակի կրթություն իրականացնող ուսումնական հաստատությունների շենքային պայմանների բարելավում | I62: =+I63+I66 -> -94431.5
B63: ՄԱՍ II. ԱՇԽԱՏԱՆՔՆԵՐ | I63: =SUM(I64:I65) -> -90824.4
A64: 45611100-1 | B64: կրթական օբյեկտների հիմնանորոգում | E64: ԳՀ | F64: դրամ | G64: 42619100 | H64: -1 | I64: =+ROUND(H64*G64/1000,1) -> -42619.1
A65: 45231129-3 | B65: ջեռուցման հետ կապված աշխատանքներ | E65: ԳՀ | F65: դրամ | G65: 48205350 | H65: -1 | I65: -48205.3
B66: ՄԱՍ III. ԾԱՌԱՅՈՒԹՅՈՒՆՆԵՐ | I66: =SUM(I67:I72) -> -3607.1
A67: 71351540-1 | B67: տեխնիկական հսկողության ծառայություններ | E67: ԳՀ | F67: դրամ | G67: 852400 | H67: -1 | I67: =+ROUND(H67*G67/1000,1) -> -852.4
A68: 71351540-523 | B68: տեխնիկական հսկողության ծառայություններ | E68: ԳՀ | F68: դրամ | I68: -617.1
A69: 98111140-1 | B69: հեղինակային հսկողության ծառայություններ | E69: ՄԱ | F69: դրամ | G69: 255600 | H69: -1 | I69: =+ROUND(H69*G69/1000,1) -> -255.6
A70: 98111140-16 | B70: հեղինակային հսկողության ծառայություններ | E70: ՄԱ | F70: դրամ | G70: 289200 | H70: -1 | I70: =+ROUND(H70*G70/1000,1) -> -289.2
A71: 71241200-514 | B71: նախագծերի պատրաստում, ծախսերի գնահատում | E71: ԳՀ | F71: դրամ | I71: -1473
A72: 50531140-527 | B72: փորձաքննության ծառայություններ | E72: ԳՀ | F72: դրամ | I72: -119.8
A73: 1183-32012 | B73: Հանրակրթական դպրոցների գույքով և տեխնիկայով ապահովում | I73: =+I74 -> -557444.5
B74: ՄԱՍ I. ԱՊՐԱՆՔՆԵՐ | I74: =SUM(I75:I242) -> -557444.5
A75: 39121100-4 | B75: գրասեղաններ | E75: ԷԱՃ | F75: հատ | I75: -6307
A76: 30239170-1 | B76: բազմաֆունկցիոնալ սարք` լազերային | E76: ԷԱՃ | F76: հատ | I76: -2035.2
A77: 33191180-501 | B77: բժշկական թախտեր | E77: ԷԱՃ | F77: հատ | I77: -6
A78: 33141211-2 | B78: բժշկական այլ գործիքներ ― պարագաներ | E78: ԷԱՃ | F78: հատ | I78: -9
A79: 33191180-2 | B79: բժշկական թախտեր | E79: ԷԱՃ | F79: հատ | I79: -368.1
A80: 39713432-502 | B80: փոշեկուլ | E80: ԷԱՃ | F80: հատ | I80: -130
A81: 37311100-508 | B81: դաշնամուրներ | E81: ԳՀ | F81: հատ | I81: -40
A82: 37311100-6 | B82: դաշնամուրներ | E82: ԳՀ | F82: հատ | I82: -50
A83: 37421141-1 | B83: պտտաձող | E83: ԷԱՃ | F83: հատ | I83: -4160
A84: 37421170-2 | B84: մարմնամարզական օղակներ | E84: ԷԱՃ | F84: հատ | I84: -731
A85: 33141211-501 | B85: բժշկական այլ գործիքներ ― պարագաներ | E85: ԷԱՃ | F85: հատ | I85: -3
A86: 37421181-503 | B86: մարմնամարզական պարան` մագլցման համար | E86: ԷԱՃ | F86: հատ | I86: -416
... A175: 39515410-3 | B175: ներքին շերտավարագույրներ | E175: ԷԱՃ | F175: քմ | I175: -5768.2
A176: 30211280-9 | B176: համակարգիչ ամբողջը մեկում | E176: ԷԱՃ | F176: հատ | G176: 396000 | H176: -153 | I176: =+ROUND(H176*G176/1000,1) -> -60588
A177: 31151120-8 | B177: անխափան սնուցման աղբյուրներ | E177: ԷԱՃ | F177: հատ | G177: 35000 | H177: -26 | I177: =+ROUND(H177*G177/1000,1) -> -910
A178: 30239170-6 | B178: բազմաֆունկցիոնալ սարք` լազերային | E178: ԷԱՃ | F178: հատ | G178: 320000 | H178: -5 | I178: =+ROUND(H178*G178/1000,1) -> -1600
A179: 32421300-6 | B179: ցանցային բաժանարար | E179: ԷԱՃ | F179: հատ | G179: 30000 | H179: -32 | I179: =+ROUND(H179*G179/1000,1) -> -960
A180: 30211200-6 | B180: դյուրակիր համակարգիչներ | E180: ԷԱՃ | F180: հատ | G180: 440000 | H180: -17 | I180: =+ROUND(H180*G180/1000,1) -> -7480
A181: 38651200-6 | B181: պրոյեկտորներ | E181: ԷԱՃ | F181: հատ | G181: 380000 | H181: -24 | I181: =+ROUND(H181*G181/1000,1) -> -9120
A182: 35121240-6 | B182: ժամանակաչափման համակարգ | E182: ԷԱՃ | F182: հատ | G182: 15000 | H182: -79 | I182: =+ROUND(H182*G182/1000,1) -> -1185
A183: 39713432-6 | B183: փոշեկուլ | E183: ԷԱՃ | F183: հատ | G183: 100000 | H183: -2 | I183: =+ROUND(H183*G183/1000,1) -> -200
A184: 39121470-12 | B184: սեղան` աշակերտական միաձույլ կարկասով | E184: ԷԱՃ | F184: հատ | G184: 25000 | H184: -45 | I184: =+ROUND(H184*G184/1000,1) -> -1125
A185: 39121470-13 | B185: սեղան` աշակերտական միաձույլ կարկասով | E185: ԷԱՃ | F185: հատ | G185: 35000 | H185: -76 | I185: =+ROUND(H185*G185/1000,1) -> -2660
A186: 39121470-14 | B186: սեղան` աշակերտական միաձույլ կարկասով | E186: ԷԱՃ | F186: հատ | G186: 30000 | H186: -72 | I186: =+ROUND(H186*G186/1000,1) -> -2160
A187: 39121470-15 | B187: սեղան` աշակերտական միաձույլ կարկասով | E187: ԷԱՃ | F187: հատ | G187: 40000 | H187: -260 | I187: =+ROUND(H187*G187/1000,1) -> -10400
... A242: 39515410-7 | B242: ներքին շերտավարգույրներ | E242: ԷԱՃ | F242: մ2 | G242: 10250 | H242: -980 | I242: =+ROUND(H242*G242/1000,1) -> -10045
A244: ՀՀ քաղաքաշինության կոմիտե | I244: =+I245+I252 -> -9324900.2
A245: Բաժին N 08 | B245: Խումբ N 02 | C245: Դաս N 05 | D245: Արվեստ | I245: =+I246 -> -79831.3
...

Sheet Հավելված N 12
F1: Հավելված N 12
G2: ՀՀ կառավարության 2023 թվականի
G3: ______________ ի ___Ն որոշման
A6: ՀԱՅԱՍՏԱՆԻ ՀԱՆՐԱՊԵՏՈՒԹՅԱՆ 2023 ԹՎԱԿԱՆԻ ՊԵՏԱԿԱՆ ԲՅՈՒՋԵՈՎ ՆԱԽԱՏԵՍՎԱԾ՝ ՀԱՅԱՍՏԱՆԻ ՀԱՆՐԱՊԵՏՈՒԹՅԱՆ ԿԱՌԱՎԱՐՈՒԹՅԱՆ ՊԱՀՈՒՍՏԱՅԻՆ ՖՈՆԴԻՑ ՀԱՏԿԱՑՈՒՄՆԵՐ ԿԱՏԱՐԵԼՈՒ ՎԵՐԱԲԵՐՅԱԼ
A9: Գործառական դասիչը | D9: Ծրագրային դասիչը | F9: Բյուջետային հատկացումների գլխավոր կարգադրիչների, ծրագրերի, միջոցառումների և միջոցառումները կատարող պետական մարմինների անվանումները | G9: Ցուցանիշների փոփոխությունը (ավելացումները նշված են դրական նշանով, իսկ նվազեցումները` փակագծերում)
A10: Բաժին | B10: Խումբ | C10: Դաս | D10: Ծրագիր | E10: Միջոցառում | G10: Տարի
F11: ԸՆԴԱՄԵՆԸ | G11: =+G13+G34 -> 0
F12: այդ թվում
F13: ՀՀ ԿԱՌԱՎԱՐՈՒԹՅՈՒՆ | G13: =+G14 -> -49983.7
A14: 11 | F14: ՀԻՄՆԱԿԱՆ ԲԱԺԻՆՆԵՐԻՆ ՉԴԱՍՎՈՂ ՊԱՀՈՒՍՏԱՅԻՆ ՖՈՆԴԵՐ | G14: =+G16 -> -49983.7
F15: այդ թվում`
B16: 01 | F16: ՀՀ կառավարության և համայնքների պահուստային ֆոնդ | G16: =+G18 -> -49983.7
F17: այդ թվում`
C18: 01 | F18: ՀՀ կառավարության պահուստային ֆոնդ | G18: =+G20 -> -49983.7
F19: այդ թվում`
F20: ՀՀ կառավարություն | G20: =+G22 -> -49983.7
F21: այդ թվում`
D22: 1139 | E22: ՀՀ կառավարության պահուստային ֆոնդ | F22: ՀՀ կառավարության պահուստային ֆոնդ | G22: =+G24 -> -49983.7
F23: այդ թվում`
E24: 11001 | F24: ՀՀ կառավարության պահուստային ֆոնդ | G24: =+G26 -> -49983.7
F25: այդ թվում` ըստ կատարողների
F26: ՀՀ կառավարություն | G26: =+G28 -> -49983.7
F27: այդ թվում՝ բյուջետային ծախսերի տնտեսագիտական դասակարգման հոդվածներ
F28: ԸՆԴԱՄԵՆԸ ԾԱԽՍԵՐ | G28: =+G29 -> -49983.7
F29: ՈՉ ՖԻՆԱՆՍԱԿԱՆ ԱԿՏԻՎՆԵՐԻ ԳԾՈՎ ԾԱԽՍԵՐ | G29: =+G30 -> -49983.7
F30: ՀԻՄՆԱԿԱՆ ՄԻՋՈՑՆԵՐ | G30: =+G31 -> -49983.7
F31: ՇԵՆՔԵՐ ԵՎ ՇԻՆՈՒԹՅՈՒՆՆԵՐ | G31: =+G32 -> -49983.7
F32: - Շենքերի և շինությունների շինարարություն | G32: =+'Հավելված N 4'!G370 -> -49983.7
F34: ՀՀ ԿՐԹՈՒԹՅԱՆ, ԳԻՏՈՒԹՅԱՆ, ՄՇԱԿՈՒՅԹԻ ԵՎ ՍՊՈՐՏԻ ՆԱԽԱՐԱՐՈՒԹՅՈՒՆ | G34: =+G35 -> 49983.7
A35: 09 | F35: ԿՐԹՈՒԹՅՈՒՆ | G35: =+G37 -> 49983.7
F36: այդ թվում`
B37: 06 | F37: Կրթությանը տրամադրվող օժանդակ ծառայություններ | G37: =+G39 -> 49983.7
F38: այդ թվում`
C39: 01 | F39: Կրթությանը տրամադրվող օժանդակ ծառայություններ | G39: =+G41 -> 49983.7
F40: այդ թվում`
F41: ՀՀ կրթության, գիտության, մշակույթի և սպորտի նախարարություն | G41: =+G43 -> 49983.7
F42: այդ թվում`
D43: 1111 | E43: Բարձրագույն և հետբուհական մասնագիտական կրթության ծրագիր | G43: =+G45 -> 49983.7
F44: այդ թվում`
E45: 32003 | F45: Բարձրագույն ուսումնական հաստատությունների և ««Զեյթուն» ուսանողկան ավան» հիմնադրամի նյութատեխնիկական բազայի համալրում և գույքով ապահովում | G45: =+G47 -> 49983.7
F46: այդ թվում` ըստ կատարողների
F47: ՀՀ կրթության, գիտության, մշակույթի և սպորտի նախարարություն | G47: =+G49 -> 49983.7
F48: այդ թվում՝ բյուջետային ծախսերի տնտեսագիտական դասակարգման հոդվածներ
F49: ԸՆԴԱՄԵՆԸ ԾԱԽՍԵՐ | G49: =+G50 -> 49983.7
F50: ԸՆԹԱՑԻԿ ԾԱԽՍԵՐ | G50: =+G51 -> 49983.7
F51: ԴՐԱՄԱՇՆՈՐՀՆԵՐ | G51: =+G52 -> 49983.7
F52: Կապիտալ դրամաշնորհներ պետական հատվածի այլ մակարդակներին | G52: =+G53 -> 49983.7
F53: - Կապիտալ դրամաշնորհներ պետական և համայնքային ոչ առևտրային կազմակերպություններին | G53: =+'Հավելված N 4'!G166 -> 49983.7
