Workbook
Name _tab10: #REF!
Name _tab10: #REF!
Name _tab11: #REF!
Name _tab11: #REF!
Name _tab12: #REF!
Name _tab12: #REF!
Name _tab13: #REF!
Name _tab13: #REF!
Name _tab14: #REF!
Name _tab14: #REF!
Name _tab15: #REF!
Name _tab15: #REF!
Name _tab16: #REF!
Name _tab16: #REF!
Name _tab17: #REF!
Name _tab17: #REF!
Name _tab18: #REF!
Name _tab18: #REF!
Name _tab19: #REF!
Name _tab19: #REF!
Name _tab20: #REF!
Name _tab20: #REF!
Name _tab21: #REF!
Name _tab21: #REF!
Name _tab22: #REF!
Name _tab22: #REF!
Name _tab23: #REF!
Name _tab23: #REF!
Name _tab24: #REF!
Name _tab24: #REF!
Name _tab5: #REF!
Name _tab5: #REF!
Name _tab6: #REF!
Name _tab6: #REF!
Name _tab7: #REF!
Name _tab7: #REF!
Name _tab8: #REF!
Name _tab8: #REF!
Name _tab9: #REF!
Name _tab9: #REF!
Name par_count: #REF!,#REF!,#REF!,#REF!,#REF!,#REF!,#REF!,#REF!,#REF!,#REF!,#REF!,#REF!,#REF!,#REF!,#REF!
Name par_count: #REF!,#REF!,#REF!,#REF!,#REF!,#REF!,#REF!,#REF!,#REF!,#REF!,#REF!,#REF!,#REF!,#REF!,#REF!
Name par_qual: #REF!,#REF!,#REF!,#REF!,#REF!
Name par_qual: #REF!,#REF!,#REF!,#REF!,#REF!
Name par_time: #REF!,#REF!,#REF!,#REF!
Name par_time: #REF!,#REF!,#REF!,#REF!
Name par2.12s: #REF!
Name par2.12s: #REF!
Name par2.4s: #REF!,#REF!,#REF!,#REF!,#REF!,#REF!,#REF!,#REF!,#REF!,#REF!,#REF!,#REF!,#REF!,#REF!,#REF!,#REF!
Name par2.4s: #REF!,#REF!,#REF!,#REF!,#REF!,#REF!,#REF!,#REF!,#REF!,#REF!,#REF!,#REF!,#REF!,#REF!,#REF!,#REF!
Name par2.5s: #REF!,#REF!
Name par2.5s: #REF!,#REF!
Name par2.6s: #REF!,#REF!,#REF!,#REF!
Name par2.6s: #REF!,#REF!,#REF!,#REF!
Name par2.7s: #REF!,#REF!
Name par2.7s: #REF!,#REF!
Name par2.9s: #REF!,#REF!,#REF!,#REF!,#REF!,#REF!,#REF!,#REF!,#REF!,#REF!,#REF!,#REF!,#REF!,#REF!,#REF!,#REF!
Name par2.9s: #REF!,#REF!,#REF!,#REF!,#REF!,#REF!,#REF!,#REF!,#REF!,#REF!,#REF!,#REF!,#REF!,#REF!,#REF!,#REF!
Name par4.10s: #REF!,#REF!
Name par4.10s: #REF!,#REF!

Sheet 1
D1: Հավելված N 1
D2: ՀՀ կառավարության 2023 թվականի
C3: -----------------ի N -----------Ն որոշման
A5: ՀԱՅԱՍՏԱՆԻ ՀԱՆՐԱՊԵՏՈՒԹՅԱՆ 2023 ԹՎԱԿԱՆԻ ՊԵՏԱԿԱՆ ԲՅՈՒՋԵԻ ՄԱՍԻՆ» ՕՐԵՆՔԻ N 1 ՀԱՎԵԼՎԱԾԻ N 2 ԱՂՅՈՒՍԱԿՈՒՄ ԿԱՏԱՐՎՈՂ ՎԵՐԱԲԱՇԽՈՒՄԸ ԵՎ ՀԱՅԱՍՏԱՆԻ ՀԱՆՐԱՊԵՏՈՒԹՅԱՆ ԿԱՌԱՎԱՐՈՒԹՅԱՆ 2022 ԹՎԱԿԱՆԻ ԴԵԿՏԵՄԲԵՐԻ 29-Ի N 2111-Ն ՈՐՈՇՄԱՆ N 5 ՀԱՎԵԼՎԱԾԻ N 1 ԱՂՅՈՒՍԱԿՈՒՄ ԿԱՏԱՐՎՈՂ ՓՈՓՈԽՈՒԹՅՈՒՆՆԵՐԸ
D6: (հազար դրամ)
A7: Ծրագրային դասիչը | C7: Բյուջետային հատկացումների գլխավոր կարգադրիչների, ծրագրերի և միջոցառումների անվանումները | D7: Ցուցանիշների փոփոխությունները ավելացումները նշված են դրական նշանով, իսկ նվազեցումը՝ փակագծերում
A8: Ծրագիր | B8: Միջոցառում | D8: Տարի
C9: ԸՆԴԱՄԵՆԸ | D9: =D10 -> 0
C10: ՀՀ աշխատանքի և սոցիալական հարցերի նախարարություն | D10: =D11+D30+D43+D62+D93 -> 0
A11: 1005 | C11: Ծրագրի անվանումը` | D11: =D18+D24 -> -1048961
C12: Պարգևավճարներ և պատվովճարներ
C13: Ծրագրի նպատակը`
C14: Պետական հոգածության դրսևորում, առանձին կատեգորիայի քաղաքացիներին և նրանց ընտանիքներին սոցիալական երաշխիքների տրամադրում
C15: Վերջնական արդյունքի նկարագրությունը`
C16: Առանձին կատեգորիայի քաղաքացիներին և նրանց ընտանիքի անդամների սոցիալական պաշտպանվածության մակարդակի բարձրացում
A17: Ծրագրի միջոցառումներ
B18: 12001 | C18: Միջոցառման անվանումը` | D18: =24273-1073834 -> -1049561 | E18: -1073834
C19: Զինծառայողներին, ՀՄՊ մասնակիցներին, այլ պետություններում մարտական գործողությունների մասնակիցներին, զոհված (մահացած) զինծառայողի ընտանիքի անդամներին, ընտանիքներին տրվող պարգևավճարներ
C20: Միջոցառման նկարագրությունը`
C21: Զինծառայողներին, ՀՄՊ մասնակիցներին, այլ պետություններում մարտական գործողությունների մասնակիցներին, զոհված (մահացած) զինծառայողի ընտանիքի անդամներին, ընտանիքներին, պարգևավճարների տրամադրում
C22: Միջոցառման տեսակը
C23: Տրանսֆերտների տրամադրում
B24: 12002 | C24: Միջոցառման անվանումը` | D24: 600
C25: Վետերանների պատվովճարներ
C26: Միջոցառման նկարագրությունը`
C27: ՀՄՊ վետերաններին պատվովճարի տրամադրում
C28: Միջոցառման տեսակը
C29: Տրանսֆերտների տրամադրում
A30: 1068 | C30: Ծրագրի անվանումը` | D30: =D37 -> 89100
C31: Ժողովրդագրական վիճակի բարելավում
C32: Ծրագրի նպատակը`
C33: Խթանել ժողովրդագրական վիճակի բարելավումը
C34: Վերջնական արդյունքի նկարագրությունը`
C35: Ժողովրդագրական վիճակի բարելավում և բազմազավակության աճ
A36: Ծրագրի միջոցառումներ
B37: 12002 | C37: Միջոցառման անվանումը` | D37: 89100
C38: Երեխայի ծննդյան միանվագ նպաստ
C39: Միջոցառման նկարագրությունը`
C40: Երեխայի ծննդյան կապակցությամբ միանվագ նպաստի տրամադրում
C41: Միջոցառման տեսակը
C42: Տրանսֆերտների տրամադրում
A43: 1082 | C43: Ծրագրի անվանումը` | D43: =D50+D56 -> -209
C44: Սոցիալական աջակցություն անաշխատունակության դեպքում
C45: Ծրագրի նպատակը`
C46: Կորցրած եկամուտների մասնակի փոխհատուցում
C47: Վերջնական արդյունքի նկարագրությունը`
C48: Անաշխատունակության հետևանքով եկամտի կորստի մասնակի փոխհատուցման ապահովում
A49: Ծրագրի միջոցառումներ
B50: 12001 | C50: Միջոցառման անվանումը` | D50: =-40796+11919 -> -28877
C51: Ժամանակավոր անաշխատունակության դեպքում նպաստ
C52: Միջոցառման նկարագրությունը`
C53: Ժամանակավոր անաշխատունակության դեպքում (հիվանդության, ընտանիքի հիվանդ անդամի խնամքի և օրենքով սահմանված այլ պատճ. առաջացած) վարձու աշխատողներին, նոտարներին և անհատ ձեռնարկատերերին ժամանակավոր անաշխատունակության նպաստի վճարում
C54: Միջոցառման տեսակը
C55: Տրանսֆերտների տրամադրում
B56: 12002 | C56: Միջոցառման անվանումը` | D56: 28668
C57: Մայրության նպաստ
C58: Միջոցառման նկարագրությունը`
C59: Մայրության նպաստի տրամադրում աշխատող և չաշխատող անձանց
C60: Միջոցառման տեսակը
C61: Տրանսֆերտների տրամադրում
A62: 1102 | C62: Ծրագրի անվանումը` | D62: =D69+D75+D81+D87 -> 858604
C63: Կենսաթոշակային ապահովություն
C64: Ծրագրի նպատակը`
C65: Կենսաթոշակի իրավունքի իրացում
C66: Վերջնական արդյունքի նկարագրությունը`
C67: Կենսաթոշակների նշանակման և վճարման գործընթացի ապահովում
A68: Ծրագրի միջոցառումներ
B69: 12001 | C69: Միջացառման անվանումը` | D69: 107627
C70: Սպայական անձնակազմի և նրանց ընտանիքների անդամների կենսաթոշակներ
C71: Միջոցառման նկարագրությունը`
C72: Սպայական անձնակազմի զինծառայողներին երկարամյա ծառայության, հաշմանդամության և զինծառայողի մահվան դեպքում նրա ընտանիքի անդամներին կերակրողին կորցնելու դեպքում զինվորական կենսաթոշակների տրամադրում
C73: Միջոցառման տեսակը
C74: Տրանսֆերտների տրամադրում
B75: 12002 | C75: Միջոցառման անվանումը` | D75: 1911
C76: Շարքային զինծառայողների և նրանց ընտանիքների անդամների զինվորական կենսաթոշակներ
C77: Միջոցառման նկարագրությունը`
C78: ԽՍՀՄ զինված ուժերի շարքային կազմի զինծառայողներին հաշմանդամության, նրանց մահվան դեպքում ընտանիքների անդամներին կերակրողին կորցնելու դեպքում զինվորական կենսաթոշակների տրամադրում
C79: Միջոցառման տեսակը
C80: Տրանսֆերտների տրամադրում
B81: 12003 | C81: Միջոցառման անվանումը` | D81: 980925
C82: Աշխատանքային կենսաթոշակներ
C83: Միջոցառման նկարագրությունը`
C84: Աշխատանքային կենսաթոշակների (տարիքային, հաշմանդամության, արտոնյալ պայմաններով, երկարամյա ծառայության, մասնակի, կերակրողին կորցնելու դեպքում կենսաթոշակների) տրամադրում
C85: Միջոցառման տեսակը
C86: Տրանսֆերտների տրամադրում
B87: 12004 | C87: Միջոցառման անվանումը` | D87: -231859
C88: ՀՀ օրենքով նշանակված կենսաթոշակներ
C89: Միջոցառման նկարագրությունը`
C90: «Պաշտոնատար անձանց գործունեության ապահովման, սպասարկման և սոցիալական երաշխիքների մասին» ՀՀ օրենքով սահմանված պաշտոններում պաշտոնավարած անձանց կենսաթոշակի տրամադրում
C91: Միջոցառման տեսակը
C92: Տրանսֆերտների տրամադրում
A93: 1205 | C93: Ծրագրի անվանումը` | D93: =D100 -> 101466
C94: Սոցիալական ապահովություն
C95: Ծրագրի նպատակը`
C96: Սոցիալական ապահովության իրավունքի իրականացման ապահովում
C97: Վերջնական արդյունքի նկարագրությունը`
C98: Սոցիալական ապահովության իրավունքի իրականացում
A99: Ծրագրի միջոցառումներ
B100: 12001 | C100: Միջոցառման անվանումը` | D100: 101466
C101: Ծերության, հաշմանդամության, կերակրողին կորցնելու դեպքում նպաստներ
...

Sheet 2
G1: Հավելված N 2
G2: ՀՀ կառավարության 2023 թվականի
F3: -----------------ի N -----------Ն որոշման
A5: ՀԱՅԱՍՏԱՆԻ ՀԱՆՐԱՊԵՏՈՒԹՅԱՆ ԿԱՌԱՎԱՐՈՒԹՅԱՆ 2022 ԹՎԱԿԱՆԻ ԴԵԿՏԵՄԲԵՐԻ 29-Ի N 2111-Ն ՈՐՈՇՄԱՆ N 3 ԵՎ N 4 ՀԱՎԵԼՎԱԾՆԵՐՈՒՄ ԿԱՏԱՐՎՈՂ ՓՈՓՈԽՈՒԹՅՈՒՆՆԵՐԸ
G6: (հազար դրամ)
A7: Գործառական դասիչը | D7: Ծրագրային դասիչը | F7: Բյուջետային ծախսերի գործառական դասակարգման բաժինների, խմբերի և դասերի, բյուջետային ծրագրերի միջոցառումների, բյուջետային հատկացումների գլխավոր կարգադրիչների անվանումները | G7: Ցուցանիշների փոփոխությունները ավելացումները նշված են դրական նշանով, իսկ նվազեցումը՝ փակագծերում
A8: Բաժինը | B8: Խումբը | C8: Դասը | D8: Ծրագիր | E8: Միջոցառում | G8: Տարի
F9: ԸՆԴԱՄԵՆԸ ԾԱԽՍԵՐ | G9: =G11 -> 0
F10: այդ թվում`
A11: 10 | F11: ՍՈՑԻԱԼԱԿԱՆ ՊԱՇՏՊԱՆՈՒԹՅՈՒՆ | G11: =G13+G68+G96+G122 -> 0
F12: այդ թվում`
B13: 02 | F13: Ծերություն | G13: =G15 -> 960070
F14: այդ թվում`
C15: 01 | F15: Ծերություն | G15: =G17 -> 960070
F16: այդ թվում`
F17: ՀՀ աշխատանքի և սոցիալական հարցերի նախարարություն | G17: =G19+G57 -> 960070
F18: այդ թվում`
D19: 1102 | F19: Կենսաթոշակային ապահովություն | G19: =G21+G30+G39+G48 -> 858604
F20: այդ թվում`
E21: 12001 | F21: Սպայական անձնակազմի և նրանց ընտանիքների անդամների կենսաթոշակներ | G21: =+G23 -> 107627
F22: այդ թվում` ըստ կատարողների
F23: ՀՀ աշխատանքի և սոցիալական հարցերի նախարարության միասնական սոցիալական ծառայություն | G23: =+G25 -> 107627
F24: այդ թվում` բյուջետային ծախսերի տնտեսագիտական դասակարգման հոդվածներ
F25: ԸՆԴԱՄԵՆԸ ԾԱԽՍԵՐ | G25: =+G26 -> 107627
F26: ԸՆԹԱՑԻԿ ԾԱԽՍԵՐ | G26: =+G27 -> 107627
F27: ՍՈՑԻԱԼԱԿԱՆ ՆՊԱՍՏՆԵՐ ԵՎ ԿԵՆՍԱԹՈՇԱԿՆԵՐ | G27: =+G28 -> 107627
F28: Կենսաթոշակներ | G28: =+G29 -> 107627
F29: - Կենսաթոշակներ | G29: ='1'!D69 -> 107627
E30: 12002 | F30: Շարքային զինծառայողների և նրանց ընտանիքների անդամների զինվորական կենսաթոշակներ | G30: =G32 -> 1911
F31: այդ թվում` ըստ կատարողների
F32: ՀՀ աշխատանքի և սոցիալական հարցերի նախարարության միասնական սոցիալական ծառայություն | G32: =G34 -> 1911
F33: այդ թվում` բյուջետային ծախսերի տնտեսագիտական դասակարգման հոդվածներ
F34: ԸՆԴԱՄԵՆԸ ԾԱԽՍԵՐ | G34: =G35 -> 1911
F35: ԸՆԹԱՑԻԿ ԾԱԽՍԵՐ | G35: =G36 -> 1911
F36: ՍՈՑԻԱԼԱԿԱՆ ՆՊԱՍՏՆԵՐ ԵՎ ԿԵՆՍԱԹՈՇԱԿՆԵՐ | G36: =G37 -> 1911
F37: Կենսաթոշակներ | G37: =G38 -> 1911
F38: - Կենսաթոշակներ | G38: ='1'!D75 -> 1911
E39: 12003 | F39: ='1'!C82 -> Աշխատանքային կենսաթոշակներ | G39: =G41 -> 980925
F40: այդ թվում` ըստ կատարողների
F41: ՀՀ աշխատանքի և սոցիալական հարցերի նախարարության միասնական սոցիալական ծառայություն | G41: =G43 -> 980925
F42: այդ թվում` բյուջետային ծախսերի տնտեսագիտական դասակարգման հոդվածներ
F43: ԸՆԴԱՄԵՆԸ ԾԱԽՍԵՐ | G43: =G44 -> 980925
F44: ԸՆԹԱՑԻԿ ԾԱԽՍԵՐ | G44: =G45 -> 980925
F45: ՍՈՑԻԱԼԱԿԱՆ ՆՊԱՍՏՆԵՐ ԵՎ ԿԵՆՍԱԹՈՇԱԿՆԵՐ | G45: =G46 -> 980925
F46: Կենսաթոշակներ | G46: =G47 -> 980925
F47: - Կենսաթոշակներ | G47: =SUM('1'!D81) -> 980925
E48: 12004 | F48: ՀՀ օրենքով նշանակված կենսաթոշակներ | G48: =G50 -> -231859
F49: այդ թվում` ըստ կատարողների
F50: ՀՀ աշխատանքի և սոցիալական հարցերի նախարարության միասնական սոցիալական ծառայություն | G50: =G52 -> -231859
F51: այդ թվում` բյուջետային ծախսերի տնտեսագիտական դասակարգման հոդվածներ
F52: ԸՆԴԱՄԵՆԸ ԾԱԽՍԵՐ | G52: =G53 -> -231859
F53: ԸՆԹԱՑԻԿ ԾԱԽՍԵՐ | G53: =G54 -> -231859
F54: ՍՈՑԻԱԼԱԿԱՆ ՆՊԱՍՏՆԵՐ ԵՎ ԿԵՆՍԱԹՈՇԱԿՆԵՐ | G54: =G55 -> -231859
F55: Կենսաթոշակներ | G55: =G56 -> -231859
F56: - Կենսաթոշակներ | G56: ='1'!D87 -> -231859
D57: 1205 | F57: Սոցիալական ապահովություն | G57: =+G67 -> 101466
F58: այդ թվում`
E59: 12001 | F59: Ծերության, հաշմանդամության, կերակրողին կորցնելու դեպքում նպաստներ | G59: =+G61 -> 101466
F60: այդ թվում` ըստ կատարողների
F61: ՀՀ աշխատանքի և սոցիալական հարցերի նախարարության միասնական սոցիալական ծառայություն | G61: =+G63 -> 101466
F62: այդ թվում` բյուջետային ծախսերի տնտեսագիտական դասակարգման հոդվածներ | G62: =+G64 -> 101466
F63: ԸՆԴԱՄԵՆԸ ԾԱԽՍԵՐ | G63: =+G64 -> 101466
F64: ԸՆԹԱՑԻԿ ԾԱԽՍԵՐ | G64: =+G65 -> 101466
F65: ՍՈՑԻԱԼԱԿԱՆ ՆՊԱՍՏՆԵՐ ԵՎ ԿԵՆՍԱԹՈՇԱԿՆԵՐ | G65: =+G66 -> 101466
F66: Սոցիալական օգնության դրամական արտահայտությամբ նպաստներ (բյուջեից) | G66: =+G67 -> 101466
F67: - Այլ նպաստներ բյուջեից | G67: =SUM('1'!D100) -> 101466
B68: 04 | F68: Ընտանիքի անդամներ և զավակներ | G68: =+G70 -> 117768
F69: այդ թվում`
C70: 01 | F70: Ընտանիքի անդամներ և զավակներ | G70: =G72 -> 117768
F71: այդ թվում`
F72: ՀՀ աշխատանքի և սոցիալական հարցերի նախարարություն | G72: =G74+G85 -> 117768
F73: այդ թվում`
D74: 1068 | F74: Ժողովրդագրական վիճակի բարելավում | G74: =G76 -> 89100
F75: այդ թվում`
E76: 12002 | F76: Երեխայի ծննդյան միանվագ նպաստ | G76: =+G77 -> 89100
F77: այդ թվում` ըստ կատարողների | G77: =+G78 -> 89100
F78: ՀՀ աշխատանքի և սոցիալական հարցերի նախարարության միասնական սոցիալական ծառայություն | G78: =+G80 -> 89100
F79: այդ թվում` բյուջետային ծախսերի տնտեսագիտական դասակարգման հոդվածներ
F80: ԸՆԴԱՄԵՆԸ ԾԱԽՍԵՐ | G80: =+G81 -> 89100
F81: ԸՆԹԱՑԻԿ ԾԱԽՍԵՐ | G81: =+G82 -> 89100
F82: ՍՈՑԻԱԼԱԿԱՆ ՆՊԱՍՏՆԵՐ ԵՎ ԿԵՆՍԱԹՈՇԱԿՆԵՐ | G82: =+G83 -> 89100
F83: Սոցիալական օգնության դրամական արտահայտությամբ նպաստներ (բյուջեից) | G83: =+G84 -> 89100
F84: - Երեխաների կամ ընտանեկան նպաստներ բյուջեից | G84: ='1'!D37 -> 89100
D85: 1082 | F85: Սոցիալական աջակցություն անաշխատունակության դեպքում | G85: =G87 -> 28668
F86: այդ թվում`
E87: 12002 | F87: Մայրության նպաստ | G87: =G89 -> 28668
F88: այդ թվում` ըստ կատարողների
F89: ՀՀ աշխատանքի և սոցիալական հարցերի նախարարության միասնական սոցիալական ծառայություն | G89: =G91 -> 28668
F90: այդ թվում` բյուջետային ծախսերի տնտեսագիտական դասակարգման հոդվածներ
F91: ԸՆԴԱՄԵՆԸ ԾԱԽՍԵՐ | G91: =G92 -> 28668
F92: ԸՆԹԱՑԻԿ ԾԱԽՍԵՐ | G92: =G93 -> 28668
F93: ՍՈՑԻԱԼԱԿԱՆ ՆՊԱՍՏՆԵՐ ԵՎ ԿԵՆՍԱԹՈՇԱԿՆԵՐ | G93: =G94 -> 28668
F94: Սոցիալական օգնության դրամական արտահայտությամբ նպաստներ (բյուջեից) | G94: =G95 -> 28668
F95: - Մայրության նպաստներ բյուջեից | G95: ='1'!D56 -> 28668
B96: 07 | F96: Սոցիալական հատուկ արտոնություններ (այլ դասերին չպատկանող) | G96: =+G98 -> -1048961
F97: այդ թվում`
C98: 01 | F98: Սոցիալական հատուկ արտոնություններ (այլ դասերին չպատկանող) | G98: =G100 -> -1048961
F99: այդ թվում`
F100: ՀՀ աշխատանքի և սոցիալական հարցերի նախարարություն | G100: =G102 -> -1048961
F101: այդ թվում`
...

Sheet 3
C1: Հավելված N 3
C2: ՀՀ կառավարության 2023 թվականի
C3: -----------------ի N -----------Ն որոշման
A4: ՀԱՅԱՍՏԱՆԻ ՀԱՆՐԱՊԵՏՈՒԹՅԱՆ ԿԱՌԱՎԱՐՈՒԹՅԱՆ 2020 ԹՎԱԿԱՆԻ ԴԵԿՏԵՄԲԵՐԻ 30-Ի N 2215-Ն ՈՐՈՇՄԱՆ N 9 ՀԱՎԵԼՎԱԾԻ N 9.1.20 ԱՂՅՈՒՍԱԿՈՒՄ ԿԱՏԱՐՎՈՂ ՓՈՓՈԽՈՒԹՅՈՒՆՆԵՐԸ
A5: ՀԱՅԱՍՏԱՆԻ ՀԱՆՐԱՊԵՏՈՒԹՅԱՆ ԿԱՌԱՎԱՐՈՒԹՅԱՆ 2022 ԹՎԱԿԱՆԻ ԴԵԿՏԵՄԲԵՐԻ 29-Ի N 2111-Ն ՈՐՈՇՄԱՆ N 9 ՀԱՎԵԼՎԱԾԻ N 9.15 ԱՂՅՈՒՍԱԿՈՒՄ ԿԱՏԱՐՎՈՂ ՓՈՓՈԽՈՒԹՅՈՒՆՆԵՐԸ
A6: Հայաստանի Հանրապետության աշխատանքի և սոցիալական հարցերի նախարարություն
A8: ՄԱՍ 2. ՊԵՏԱԿԱՆ ՄԱՐՄՆԻ ԳԾՈՎ ԱՐԴՅՈՒՆՔԱՅԻՆ (ԿԱՏԱՐՈՂԱԿԱՆ) ՑՈՒՑԱՆԻՇՆԵՐԸ
A9: Ծրագրի դասիչը | B9: Ծրագրի անվանումը
A10: 1005 | B10: Պարգևավճարներ և պատվովճարներ
A11: Ծրագրի միջոցառումները
A13: Ծրագրի դասիչը` | B13: 1005 | C13: Ցուցանիշների փոփոխությունները (նվազեցումները նշված են փակագծերում)
A14: Միջոցառման դասիչը` | B14: 12001 | C14: Տարի
A15: Միջոցառման անվանումը` | B15: Զինծառայողներին, ՀՄՊ մասնակիցներին, այլ պետություններում մարտական գործողությունների մասնակիցներին, զոհված (մահացած) զինծառայողի ընտանիքի անդամներին, ընտանիքներին տրվող պարգևավճարներ
A16: Նկարագրությունը` | B16: Զինծառայողներին, ՀՄՊ մասնակիցներին, այլ պետություններում մարտական գործողությունների մասնակիցներին, զոհված (մահացած) զինծառայողի ընտանիքի անդամներին, ընտանիքներին, պարգևավճարների տրամադրում
A17: Միջոցառման տեսակը` | B17: Տրանսֆերտների տրամադրում
A18: Շահառուների ընտրության չափանիշները | B18: ՀՄՊ մասնակիցներ, ՀՄՊ և այլ պետություններում մարտական գործողությունների ընթացքում զոհված զինծառայողների ընտանիքներ
A19: Արդյունքի չափորոշիչներ
A20: Պարգևավճարներ ստացողների թիվ, ընտանիք | C20: -720
A21: Միջոցառման վրա կատարվող ծախսը (հազար դրամ) | C21: ='1'!D18 -> -1049561
A23: Ծրագրի դասիչը` | B23: 1005 | C23: Ցուցանիշների փոփոխությունները (ավելացումները նշված են դրական նշանով)
A24: Միջոցառման դասիչը` | B24: 12002 | C24: Տարի
A25: Միջոցառման անվանումը` | B25: Վետերանների պատվովճարներ
A26: Նկարագրությունը` | B26: ՀՄՊ վետերաններին պատվովճարի տրամադրում
A27: Միջոցառման տեսակը` | B27: Տրանսֆերտների տրամադրում
A28: Շահառուների ընտրության չափանիշները | B28: ՀՄ պատերազմի վետերաններին պատվովճարների տրամադրում 02.12.1998թ. ՀՕ-267-Ն օրենքի 4-րդ հոդվածով
A29: Արդյունքի չափորոշիչներ
A30: Պատվովճար ստացող վետերանների թիվ,մարդ | C30: 2
A31: Միջոցառման վրա կատարվող ծախսը (հազար դրամ) | C31: ='1'!D24 -> 600
A34: Ծրագրի դասիչը | B34: Ծրագրի անվանումը
A35: 1068 | B35: Ժողովրդագրական վիճակի բարելավում
A36: Ծրագրի միջոցառումները
A37: Ծրագրի դասիչը` | B37: 1068 | C37: Ցուցանիշների փոփոխությունները (ավելացումները նշված են դրական նշանով)
A38: Միջոցառման դասիչը` | B38: 12002 | C38: Տարի
A39: Միջոցառման անվանումը` | B39: Երեխայի ծննդյան միանվագ նպաստ
A40: Նկարագրությունը` | B40: Երեխայի ծննդյան կապակցությամբ միանվագ նպաստի տրամադրում
A41: Միջոցառման տեսակը` | B41: Տրանսֆերտների տրամադրում
A42: Շահառուների ընտրության չափանիշները | B42: ՀՀ-ում հաշվառված նոր ծնված երեխայի ծնող (օրինական ներկայացուցիչ)
A43: Արդյունքի չափորոշիչներ
A44: շահառու նորածինների թիվ, ադ թվում | C44: =C45+C46+C47 -> 166
A45: ընտանիքում առաջին և երկրորդ երեխաների թիվ | C45: 112
A46: ընտանիքում երրորդ և չորրորդ երեխաների թիվ | C46: 51
A47: ընտանիքում հինգ և հաջորդ երեխաների թիվ | C47: 3
A48: Միջոցառման վրա կատարվող ծախսը (հազար դրամ) | C48: ='1'!D37 -> 89100
A50: Ծրագրի դասիչը` | B50: Միջոցառման անվանումը`
A51: 1082 | B51: Սոցիալական աջակցություն անաշխատունակության դեպքում
A52: Ծրագրի միջոցառումները
A53: Ծրագրի դասիչը` | B53: 1082 | C53: Ցուցանիշների փոփոխությունները (նվազեցումները նշված են փակագծերում)
A54: Միջոցառման դասիչը` | B54: 12001 | C54: Տարի
A55: Միջոցառման անվանումը` | B55: Ժամանակավոր անաշխատունակության դեպքում նպաստ
A56: Նկարագրությունը` | B56: ժամանակավոր անաշխատունակության դեպքում (հիվանդության, ընտանիքի հիվանդ անդամի խնամքի և օրենքով սահմանված այլ պատճ. առաջացած) վարձու աշխատողներին, նոտարներին և անհատ ձեռնարկատերերին ժամանակավոր անաշխատունակության նպաստի վճարում
A57: Միջոցառման տեսակը` | B57: Տրանսֆերտների տրամադրում
A58: Շահառուների ընտրության չափանիշները | B58: Օրենքով սահմանված կարգով ու չափով եկամտային հարկ (շահութահարկ) վճարած վարձու աշխատողներ, նոտարներ և անհատ ձեռնարկատերեր
A59: Արդյունքի չափորոշիչներ
A60: Միջոցառման վրա կատարվող ծախսը (հազար դրամ) | C60: ='1'!D50 -> -28877
A62: Ծրագրի դասիչը` | B62: 1082 | C62: Ցուցանիշների փոփոխությունները (ավելացումները նշված են դրական նշանով)
A63: Միջոցառման դասիչը` | B63: 12002 | C63: Տարի
A64: Միջոցառման անվանումը` | B64: Մայրության նպաստ
A65: Նկարագրությունը` | B65: Մայրության նպաստի տրամադրում աշխատող և չաշխատող անձանց
A66: Միջոցառման տեսակը` | B66: Տրանսֆերտների տրամադրում
A67: Շահառուների ընտրության չափանիշները | B67: Հղիության և ծննդաբերության արձակուրդի իրավունք ունեցող անձինք անկախ աշխատանքային կարգավիճակից
A68: Արդյունքի չափորոշիչներ
A69: Հղիության և ծննդաբերության արձակուրդի օրերի թիվ, օր | C69: 23240
A70: Մայրության նպաստ ստացող չաշխատող անձանց թիվ, մարդ | C70: 166
A71: Միջոցառման վրա կատարվող ծախսը (հազար դրամ) | C71: ='1'!D56 -> 28668
A75: Ծրագրի դասիչը | B75: Ծրագրի անվանումը
A76: 1102 | B76: Կենսաթոշակային ապահովություն
A77: Ծրագրի միջոցառումները
A80: Ծրագրի դասիչը` | B80: 1102 | C80: Ցուցանիշների փոփոխությունները (ավելացումները նշված են դրական նշանով)
A81: Միջոցառման դասիչը` | B81: 12001 | C81: Տարի
A82: Միջոցառման անվանումը` | B82: Սպայական անձնակազմի և նրանց ընտանիքների անդամների կենսաթոշակներ
A83: Նկարագրությունը` | B83: Սպայական անձնակազմի զինծառայողներին երկարամյա ծառայության, հաշմանդամության և զինծառայողի մահվան դեպքում նրա ընտանիքի անդամներին կերակրողին կորցնելու դեպքում զինվորական կենսաթոշակների տրամադրում
A84: Միջոցառման տեսակը` | B84: Տրանսֆերտների տրամադրում
A85: Շահառուների ընտրության չափանիշները | B85: Սպայական անձնակազմին և նրանց ընտանիքների անդամներին երկարամյա ծառայության, հաշմանդամության և կերակրողին կորցնելու դեպքում կենսաթոշակների տրամադրում 22.12.2010թ.ՀՕ-243-Ն օրենքի 18-րդ, 20-րդ, 22-րդ հոդվածներով
A86: Արդյունքի չափորոշիչներ
A87: Կենսաթոշակառուների թիվ, մարդ | C87: 310
A88: Միջոցառման վրա կատարվող ծախսը (հազար դրամ) | C88: ='1'!D69 -> 107627
A90: Ծրագրի դասիչը` | B90: 1102 | C90: Ցուցանիշների փոփոխությունները (ավելացումները նշված են դրական նշանով)
A91: Միջոցառման դասիչը` | B91: 12002 | C91: Տարի
A92: Միջոցառման անվանումը` | B92: Շարքային զինծառայողների և նրանց ընտանիքների անդամների զինվորական կենսաթոշակներ
A93: Նկարագրությունը` | B93: ԽՍՀՄ զինված ուժերի շարքային կազմի զինծառայողներին հաշմանդամության, նրանց մահվան դեպքում ընտանիքների անդամներին կերակրողին կորցնելու դեպքում զինվորական կենսաթոշակների տրամադրում
A94: Միջոցառման տեսակը` | B94: Տրանսֆերտների տրամադրում
A95: Շահառուների ընտրության չափանիշները | B95: 22.12.2010թ. ՀՕ-243-Ն օրենքով սահմանված կարգով հաշմանդամ ճանաչված շարքային զինծառայողներ, ծառայության ընթացքում զոհված (մահացած) շարքային զինծառայողների ընտանիքների անդամներ
A96: Արդյունքի չափորոշիչներ
A97: Կենսաթոշակառուների թիվ, մարդ | C97: 15
A98: Միջոցառման վրա կատարվող ծախսը (հազար դրամ) | C98: ='1'!D75 -> 1911
A100: Ծրագրի դասիչը` | B100: 1102 | C100: Ցուցանիշների փոփոխությունները (ավելացումները նշված են դրական նշանով)
A101: Միջոցառման դասիչը` | B101: 12003 | C101: Տարի
A102: Միջոցառման անվանումը` | B102: Աշխատանքային կենսաթոշակներ
A103: Նկարագրությունը` | B103: Աշխատանքային կենսաթոշակների (տարիքային, հաշմանդամության, արտոնյալ պայմաններով, երկարամյա ծառայության, մասնակի, կերակրողին կորցնելու դեպքում կենսաթոշակների) տրամադրում
A104: Միջոցառման տեսակը` | B104: Տրանսֆերտների տրամադրում
A105: Շահառուների ընտրության չափանիշները | B105: Տարիքային աշխատանքային` առնվազն 10 տարվա աշխատանքային ստաժ, հաշմանդամության աշխատանքային` ըստ սանդղակի աշխատանքային ստաժ, արտոնյալ, մասնակի երկարամյա ծառայության` պահանջվող մասնագիտությամբ աշխատանքային ստաժ
A106: Արդյունքի չափորոշիչներ
A107: Կենսաթոշակառուների թիվ, մարդ | C107: 5945
A108: Միջոցառման վրա կատարվող ծախսը (հազար դրամ) | C108: ='1'!D81 -> 980925
A110: Ծրագրի դասիչը` | B110: 1102 | C110: Ցուցանիշների փոփոխությունները (նվազեցումները նշված են փակագծերում)
A111: Միջոցառման դասիչը` | B111: 12004 | C111: Տարի
A112: Միջոցառման անվանումը` | B112: ՀՀ օրենքով նշանակված կենսաթոշակներ
A113: Նկարագրությունը` | B113: «Պաշտոնատար անձանց գործունեության ապահովման, սպասարկման և սոցիալական երաշխիքների մասին» ՀՀ օրենքով սահմանված պաշտոններում պաշտոնավարած անձանց կենսաթոշակի տրամադրում
A114: Միջոցառման տեսակը` | B114: Տրանսֆերտների տրամադրում
A115: Շահառուների ընտրության չափանիշները | B115: ՀՀ օրենքներով պետական պաշտոն զբաղեցրած անձանց կենսաթոշակային իրավունքի իրացում`համապատասխան պաշտոններում աշխատանքային ստաժի առկայություն և կենսաթոշակի իրավունք տրվող տարիք
...

Sheet 4
C1: Հավելված N 4
C2: ՀՀ կառավարության 2023 թվականի
C3: -----------------ի N -----------Ն որոշման
A4: ՀԱՅԱՍՏԱՆԻ ՀԱՆՐԱՊԵՏՈՒԹՅԱՆ ԿԱՌԱՎԱՐՈՒԹՅԱՆ 2020 ԹՎԱԿԱՆԻ ԴԵԿՏԵՄԲԵՐԻ 30-Ի N 2215-Ն ՈՐՈՇՄԱՆ N 9 ՀԱՎԵԼՎԱԾԻ N 9.1.20 ԱՂՅՈՒՍԱԿՈՒՄ ԿԱՏԱՐՎՈՂ ՓՈՓՈԽՈՒԹՅՈՒՆՆԵՐԸ
A5: ՀԱՅԱՍՏԱՆԻ ՀԱՆՐԱՊԵՏՈՒԹՅԱՆ ԿԱՌԱՎԱՐՈՒԹՅԱՆ 2022 ԹՎԱԿԱՆԻ ԴԵԿՏԵՄԲԵՐԻ 29-Ի N 2111-Ն N 9.1 ՀԱՎԵԼՎԱԾԻ N 9.1.19 ԱՂՅՈՒՍԱԿՈՒՄ ԿԱՏԱՐՎՈՂ ՓՈՓՈԽՈՒԹՅՈՒՆՆԵՐԸ
A6: ՄԱՍ 1. ՊԵՏԱԿԱՆ ՄԱՐՄՆԻ ԳԾՈՎ ԱՐԴՅՈՒՆՔԱՅԻՆ (ԿԱՏԱՐՈՂԱԿԱՆ) ՑՈՒՑԱՆԻՇՆԵՐԸ
A7: ՀՀ աշխատանքի և սոցիալական հարցերի նախարարության միասնական սոցիալական ծառայություն
A9: Ծրագրի դասիչը | B9: Ծրագրի անվանումը
A10: 1005 | B10: Պարգևավճարներ և պատվովճարներ
A11: Ծրագրի միջոցառումները
A13: Ծրագրի դասիչը` | B13: 1005 | C13: Ցուցանիշների փոփոխությունները (նվազեցումները նշված են փակագծերում)
A14: Միջոցառման դասիչը` | B14: 12001 | C14: Տարի
A15: Միջոցառման անվանումը` | B15: Զինծառայողներին, ՀՄՊ մասնակիցներին, այլ պետություններում մարտական գործողությունների մասնակիցներին, զոհված (մահացած) զինծառայողի ընտանիքի անդամներին, ընտանիքներին տրվող պարգևավճարներ
A16: Նկարագրությունը` | B16: Զինծառայողներին, ՀՄՊ մասնակիցներին, այլ պետություններում մարտական գործողությունների մասնակիցներին, զոհված (մահացած) զինծառայողի ընտանիքի անդամներին, ընտանիքներին, պարգևավճարների տրամադրում
A17: Միջոցառման տեսակը` | B17: Տրանսֆերտների տրամադրում
A18: Շահառուների ընտրության չափանիշները | B18: ՀՄՊ մասնակիցներ, ՀՄՊ և այլ պետություններում մարտական գործողությունների ընթացքում զոհված զինծառայողների ընտանիքներ
A19: Արդյունքի չափորոշիչներ
A20: Պարգևավճարներ ստացողների թիվ, ընտանիք | C20: ='3'!C20 -> -720
A21: Միջոցառման վրա կատարվող ծախսը (հազար դրամ) | C21: ='3'!C21 -> -1049561
A23: Ծրագրի դասիչը` | B23: 1005 | C23: Ցուցանիշների փոփոխությունները (ավելացումները նշված են դրական նշանով)
A24: Միջոցառման դասիչը` | B24: 12002 | C24: Տարի
A25: Միջոցառման անվանումը` | B25: Վետերանների պատվովճարներ
A26: Նկարագրությունը` | B26: ՀՄՊ վետերաններին պատվովճարի տրամադրում
A27: Միջոցառման տեսակը` | B27: Տրանսֆերտների տրամադրում
A28: Շահառուների ընտրության չափանիշները | B28: ՀՄ պատերազմի վետերաններին պատվովճարների տրամադրում 02.12.1998թ. ՀՕ-267-Ն օրենքի 4-րդ հոդվածով
A29: Արդյունքի չափորոշիչներ
A30: Պատվովճար ստացող վետերանների թիվ,մարդ | C30: ='3'!C30 -> 2
A31: Միջոցառման վրա կատարվող ծախսը (հազար դրամ) | C31: ='3'!C31 -> 600
A34: Ծրագրի դասիչը | B34: Ծրագրի անվանումը
A35: 1068 | B35: Ժողովրդագրական վիճակի բարելավում
A36: Ծրագրի միջոցառումները
A37: Ծրագրի դասիչը` | B37: 1068 | C37: Ցուցանիշների փոփոխությունները (ավելացումները նշված են դրական նշանով)
A38: Միջոցառման դասիչը` | B38: 12002 | C38: Տարի
A39: Միջոցառման անվանումը` | B39: Երեխայի ծննդյան միանվագ նպաստ
A40: Նկարագրությունը` | B40: Երեխայի ծննդյան կապակցությամբ միանվագ նպաստի տրամադրում
A41: Միջոցառման տեսակը` | B41: Տրանսֆերտների տրամադրում
A42: Շահառուների ընտրության չափանիշները | B42: ՀՀ-ում հաշվառված նոր ծնված երեխայի ծնող (օրինական ներկայացուցիչ)
A43: Արդյունքի չափորոշիչներ
A44: շահառու նորածինների թիվ, ադ թվում | C44: ='3'!C44 -> 166
A45: ընտանիքում առաջին և երկրորդ երեխաների թիվ | C45: ='3'!C45 -> 112
A46: ընտանիքում երրորդ և չորրորդ երեխաների թիվ | C46: ='3'!C46 -> 51
A47: ընտանիքում հինգ և հաջորդ երեխաների թիվ | C47: ='3'!C47 -> 3
A48: Միջոցառման վրա կատարվող ծախսը (հազար դրամ) | C48: ='3'!C48 -> 89100
A50: Ծրագրի դասիչը` | B50: Միջոցառման անվանումը`
A51: 1082 | B51: Սոցիալական աջակցություն անաշխատունակության դեպքում
A52: Ծրագրի միջոցառումները
A53: Ծրագրի դասիչը` | B53: 1082 | C53: Ցուցանիշների փոփոխությունները (նվազեցումները նշված են փակագծերում)
A54: Միջոցառման դասիչը` | B54: 12001 | C54: Տարի
A55: Միջոցառման անվանումը` | B55: Ժամանակավոր անաշխատունակության դեպքում նպաստ
A56: Նկարագրությունը` | B56: ժամանակավոր անաշխատունակության դեպքում (հիվանդության, ընտանիքի հիվանդ անդամի խնամքի և օրենքով սահմանված այլ պատճ. առաջացած) վարձու աշխատողներին, նոտարներին և անհատ ձեռնարկատերերին ժամանակավոր անաշխատունակության նպաստի վճարում
A57: Միջոցառման տեսակը` | B57: Տրանսֆերտների տրամադրում
A58: Շահառուների ընտրության չափանիշները | B58: Օրենքով սահմանված կարգով ու չափով եկամտային հարկ (շահութահարկ) վճարած վարձու աշխատողներ, նոտարներ և անհատ ձեռնարկատերեր
A59: Արդյունքի չափորոշիչներ
A60: Միջոցառման վրա կատարվող ծախսը (հազար դրամ) | C60: ='3'!C60 -> -28877
A62: Ծրագրի դասիչը` | B62: 1082 | C62: Ցուցանիշների փոփոխությունները (ավելացումները նշված են դրական նշանով)
A63: Միջոցառման դասիչը` | B63: 12002 | C63: Տարի
A64: Միջոցառման անվանումը` | B64: Մայրության նպաստ
A65: Նկարագրությունը` | B65: Մայրության նպաստի տրամադրում աշխատող և չաշխատող անձանց
A66: Միջոցառման տեսակը` | B66: Տրանսֆերտների տրամադրում
A67: Շահառուների ընտրության չափանիշները | B67: Հղիության և ծննդաբերության արձակուրդի իրավունք ունեցող անձինք անկախ աշխատանքային կարգավիճակից
A68: Արդյունքի չափորոշիչներ
A69: Հղիության և ծննդաբերության արձակուրդի օրերի թիվ, օր | C69: 23240
A70: Մայրության նպաստ ստացող չաշխատող անձանց թիվ, մարդ | C70: 166
A71: Միջոցառման վրա կատարվող ծախսը (հազար դրամ) | C71: ='3'!C71 -> 28668
A75: Ծրագրի դասիչը | B75: Ծրագրի անվանումը
A76: 1102 | B76: Կենսաթոշակային ապահովություն
A77: Ծրագրի միջոցառումները
A80: Ծրագրի դասիչը` | B80: 1102 | C80: Ցուցանիշների փոփոխությունները (ավելացումները նշված են դրական նշանով)
A81: Միջոցառման դասիչը` | B81: 12001 | C81: Տարի
A82: Միջոցառման անվանումը` | B82: Սպայական անձնակազմի և նրանց ընտանիքների անդամների կենսաթոշակներ
A83: Նկարագրությունը` | B83: Սպայական անձնակազմի զինծառայողներին երկարամյա ծառայության, հաշմանդամության և զինծառայողի մահվան դեպքում նրա ընտանիքի անդամներին կերակրողին կորցնելու դեպքում զինվորական կենսաթոշակների տրամադրում
A84: Միջոցառման տեսակը` | B84: Տրանսֆերտների տրամադրում
A85: Շահառուների ընտրության չափանիշները | B85: Սպայական անձնակազմին և նրանց ընտանիքների անդամներին երկարամյա ծառայության, հաշմանդամության և կերակրողին կորցնելու դեպքում կենսաթոշակների տրամադրում 22.12.2010թ.ՀՕ-243-Ն օրենքի 18-րդ, 20-րդ, 22-րդ հոդվածներով
A86: Արդյունքի չափորոշիչներ
A87: Կենսաթոշակառուների թիվ, մարդ | C87: ='3'!C87 -> 310
A88: Միջոցառման վրա կատարվող ծախսը (հազար դրամ) | C88: ='3'!C88 -> 107627
A90: Ծրագրի դասիչը` | B90: 1102 | C90: Ցուցանիշների փոփոխությունները (ավելացումները նշված են դրական նշանով)
A91: Միջոցառման դասիչը` | B91: 12002 | C91: Տարի
A92: Միջոցառման անվանումը` | B92: Շարքային զինծառայողների և նրանց ընտանիքների անդամների զինվորական կենսաթոշակներ
A93: Նկարագրությունը` | B93: ԽՍՀՄ զինված ուժերի շարքային կազմի զինծառայողներին հաշմանդամության, նրանց մահվան դեպքում ընտանիքների անդամներին կերակրողին կորցնելու դեպքում զինվորական կենսաթոշակների տրամադրում
A94: Միջոցառման տեսակը` | B94: Տրանսֆերտների տրամադրում
A95: Շահառուների ընտրության չափանիշները | B95: 22.12.2010թ. ՀՕ-243-Ն օրենքով սահմանված կարգով հաշմանդամ ճանաչված շարքային զինծառայողներ, ծառայության ընթացքում զոհված (մահացած) շարքային զինծառայողների ընտանիքների անդամներ
A96: Արդյունքի չափորոշիչներ
A97: Կենսաթոշակառուների թիվ, մարդ | C97: ='3'!C97 -> 15
A98: Միջոցառման վրա կատարվող ծախսը (հազար դրամ) | C98: ='3'!C98 -> 1911
A100: Ծրագրի դասիչը` | B100: 1102 | C100: Ցուցանիշների փոփոխությունները (ավելացումները նշված են դրական նշանով)
A101: Միջոցառման դասիչը` | B101: 12003 | C101: Տարի
A102: Միջոցառման անվանումը` | B102: Աշխատանքային կենսաթոշակներ
A103: Նկարագրությունը` | B103: Աշխատանքային կենսաթոշակների (տարիքային, հաշմանդամության, արտոնյալ պայմաններով, երկարամյա ծառայության, մասնակի, կերակրողին կորցնելու դեպքում կենսաթոշակների) տրամադրում
A104: Միջոցառման տեսակը` | B104: Տրանսֆերտների տրամադրում
A105: Շահառուների ընտրության չափանիշները | B105: Տարիքային աշխատանքային` առնվազն 10 տարվա աշխատանքային ստաժ, հաշմանդամության աշխատանքային` ըստ սանդղակի աշխատանքային ստաժ, արտոնյալ, մասնակի երկարամյա ծառայության` պահանջվող մասնագիտությամբ աշխատանքային ստաժ
A106: Արդյունքի չափորոշիչներ
A107: Կենսաթոշակառուների թիվ, մարդ | C107: ='3'!C107 -> 5945
A108: Միջոցառման վրա կատարվող ծախսը (հազար դրամ) | C108: ='3'!C108 -> 980925
A110: Ծրագրի դասիչը` | B110: 1102 | C110: Ցուցանիշների փոփոխությունները (նվազեցումները նշված են փակագծերում)
A111: Միջոցառման դասիչը` | B111: 12004 | C111: Տարի
A112: Միջոցառման անվանումը` | B112: ՀՀ օրենքով նշանակված կենսաթոշակներ
A113: Նկարագրությունը` | B113: «Պաշտոնատար անձանց գործունեության ապահովման, սպասարկման և սոցիալական երաշխիքների մասին» ՀՀ օրենքով սահմանված պաշտոններում պաշտոնավարած անձանց կենսաթոշակի տրամադրում
A114: Միջոցառման տեսակը` | B114: Տրանսֆերտների տրամադրում
A115: Շահառուների ընտրության չափանիշները | B115: ՀՀ օրենքներով պետական պաշտոն զբաղեցրած անձանց կենսաթոշակային իրավունքի իրացում`համապատասխան պաշտոններում աշխատանքային ստաժի առկայություն և կենսաթոշակի իրավունք տրվող տարիք
...
