Workbook
Name AgencyCode: #REF!
Name AgencyCode: #REF!
Name AgencyCode: #REF!
Name AgencyCode: #REF!
Name AgencyCode: #REF!
Name AgencyCode: #REF!
Name AgencyCode: #REF!
Name AgencyCode: #REF!
Name AgencyName: #REF!
Name AgencyName: #REF!
Name AgencyName: #REF!
Name AgencyName: #REF!
Name AgencyName: #REF!
Name åû: #REF!
Name åû: #REF!
Name åû: #REF!
Name davit: #REF!
Name davit: #REF!
Name davit: #REF!
Name Functional1: #REF!
Name Functional1: #REF!
Name Functional1: #REF!
Name Functional1: #REF!
Name Functional1: #REF!
Name ggg: #REF!
Name ggg: #REF!
Name ggg: #REF!
Name mas: #REF!
Name mas: #REF!
Name mas: #REF!
Name mass: #REF!
Name mass: #REF!
Name mass: #REF!
Name PANature: #REF!
Name PANature: #REF!
Name PANature: #REF!
Name PANature: #REF!
Name PANature: #REF!
Name PAType: #REF!
Name PAType: #REF!
Name PAType: #REF!
Name PAType: #REF!
Name PAType: #REF!
Name Performance2: #REF!
Name Performance2: #REF!
Name Performance2: #REF!
Name Performance2: #REF!
Name Performance2: #REF!
Name PerformanceType: #REF!
Name PerformanceType: #REF!
Name PerformanceType: #REF!
Name PerformanceType: #REF!
Name PerformanceType: #REF!
Name x: #REF!
Name x: #REF!
Name x: #REF!
Name x: #REF!
Name Հավելված: #REF!
Name Հավելված: #REF!
Name Հավելված: #REF!

Sheet h1
F1: Հավելված N1
F2: ՀՀ կառավարության 2023 թվականի
F3: ______________ ի ___Ն որոշման
C5: «ՀԱՅԱUՏԱՆԻ ՀԱՆՐԱՊԵՏՈՒԹՅԱՆ 2023 ԹՎԱԿԱՆԻ ՊԵՏԱԿԱՆ ԲՅՈՒՋԵԻ ՄԱUԻՆ» OՐԵՆՔԻ N 1 ՀԱՎԵԼՎԱԾԻ N 2 ԱՂՅՈՒՍԱԿՈՒՄ ԿԱՏԱՐՎՈՂ ՎԵՐԱԲԱՇԽՈՒՄԸ ԵՎ ՀԱՅԱՍՏԱՆԻ ՀԱՆՐԱՊԵՏՈՒԹՅԱՆ ԿԱՌԱՎԱՐՈՒԹՅԱՆ 2022 ԹՎԱԿԱՆԻ ԴԵԿՏԵՄԲԵՐԻ 29-Ի N 2111-Ն ՈՐՈՇՄԱՆ N 5 ՀԱՎԵԼՎԱԾԻ N 1 ԱՂՅՈՒՍԱԿՈՒՄ ԿԱՏԱՐՎՈՂ ՓՈՓՈԽՈՒԹՅՈՒՆՆԵՐԸ ԵՎ ԼՐԱՑՈՒՄՆԵՐԸ
F6: հազ. դրամ
C7: Ծրագրային դասիչը | E7: Բյուջետային հատկացումների գլխավոր կարգադրիչների, ծրագրերի և միջոցառումների անվանումները | F7: Ցուցանիշների փոփոխությունը (ավելացումները նշված են դրական նշանով, իսկ նվազեցումները` փակագծերում)
C8: Ծրագիր | D8: Միջոցառում | F8: Տարի
C9: 1192 | E9: ԸՆԴԱՄԵՆԸ | F9: =F11+F263+F277 -> 0
E10: այդ թվում
E11: ՀՀ տարածքային կառավարման և ենթակառուցվածքների նախարարություն | F11: =F12+F37+F110+F183+F208+F244+F196 -> -454118.1
C12: 1004 | E12: Ծրագրի անվանումը` | F12: =F19+F25+F31 -> -176500
E13: Ոռոգման համակարգի առողջացում
E14: Ծրագրի նպատակը`
E15: Ոռոգման ծառայությունների հասանելիության և մատչելիության ապահովում
E16: Վերջնական արդյունքի նկարագրությունը`
E17: Ոռոգման ջրի մատակարարման արդյունավետության և հասանելիության բարելավում, կորուստների կրճատում
E18: Ծրագրի միջոցառումներ
D19: 11010 | E19: Միջոցառման անվանումը` | F19: =h4v!E19 -> -13500
E20: Գերմանիայի զարգացման վարկերի բանկի աջակցությամբ իրականացվող Ախուրյան գետի ջրային ռեսուրսների ինտեգրացված կառավարում փուլ 1 ծրագրով Ջրաձոր գյուղի վերաբնակեցման գործողությունների խորհրդատվություն և կառավարում
E21: Միջոցառման նկարագրությունը`
E22: Գերմանիայի զարգացման վարկերի բանկի աջակցությամբ իրականացվող Ախուրյան գետի ջրային ռեսուրսների ինտեգրացված կառավարում փուլ 1 ծրագրով Ջրաձոր գյուղի վերաբնակեցման գործողությունների համակարգում և ղեկավարում
E23: Միջոցառման տեսակը
E24: Ծառայությունների մատուցում
D25: 31001 | E25: Միջոցառման անվանումը` | F25: =h4v!E28 -> -139000
E26: Ֆրանսիայի Հանրապետության կառավարության աջակցությամբ իրականացվող Վեդու ջրամբարի և ոռոգման համակարգի կառուցում
E27: Միջոցառման նկարագրությունը`
E28: Ֆրանսիայի Հանրապետության կառավարության աջակցությամբ իրականացվող Վեդու ջրամբարի և ոռոգման համակարգի կառուցման ծրագիր
E29: Միջոցառման տեսակը
E30: Պետական մարմինների կողմից օգտագործվող ոչ ֆինանսական ակտիվների հետ գործառնություններ
D31: 31005 | E31: Միջոցառման անվանումը` | F31: =h4v!E37 -> -24000
E32: Եվրասիական զարգացման բանկի աջակցությամբ իրականացվող ոռոգման համակարգերի զարգացման ծրագրի շրջանակներում ջրային տնտեսության ենթակառուցվածքների հիմնանորոգում
E33: Միջոցառման նկարագրությունը`
E34: Եվրասիական զարգացման բանկի աջակցությամբ իրականացվող ոռոգման համակարգերի զարգացման ծրագիր
E35: Միջոցառման տեսակը
E36: Պետական մարմինների կողմից օգտագործվող ոչ ֆինանսական ակտիվների հետ գործառնություններ
C37: 1049 | E37: Ծրագրի անվանումը` | F37: =F44+F50+F56+F62+F68+F74+F80+F86+F92+F98+F104 -> -1681408.7
E38: Ճանապարհային ցանցի բարելավում
E39: Ծրագրի նպատակը`
E40: Ճանապարհային ցանցի բարելավում և անվտանգ երթևեկության ապահովում
E41: Վերջնական արդյունքի նկարագրությունը՝
...

Sheet 3-1
B1: Հավելված N3
B2: ՀՀ կառավարության 2022 թվականի
B3: ______________ ի ___Ն որոշման
B5: ՀԱՅԱՍՏԱՆԻ ՀԱՆՐԱՊԵՏՈՒԹՅԱՆ ԿԱՌԱՎԱՐՈՒԹՅԱՆ 2021 ԹՎԱԿԱՆԻ ԴԵԿՏԵՄԲԵՐԻ 23-Ի N 2121-Ն ՈՐՈՇՄԱՆ N 3 ԵՎ N 4 ՀԱՎԵԼՎԱԾՆԵՐՈՒՄ ԿԱՏԱՐՎՈՂ ՓՈՓՈԽՈՒԹՅՈՒՆՆԵՐԸ ԵՎ ԼՐԱՑՈՒՄՆԵՐԸ
H7: հազ. դրամ
B8: Գործառական դասիչը | E8: Ծրագրային դասիչը | G8: Բյուջետային ծախսերի գործառական դասակարգման բաժինների, խմբերի և դասերի, բյուջետային հատկացումների գլխավոր կարգադրիչների, ծրագրերի, միջոցառումների և միջոցառումները կատարող պետական մարմինների անվանումները | H8: Ցուցանիշների փոփոխությունը (ավելացումները նշված են դրական նշանով, իսկ նվազեցումները` փակագծերում)
B9: Բաժին | C9: Խումբ | D9: Դաս | E9: Ծրագիր | F9: Միջոցառում | H9: Ինն ամիս | I9: Տարի
G10: ԸՆԴԱՄԵՆԸ ԾԱԽՍԵՐ | H10: =+H12+H13 -> 14976.427 | I10: =+I12+I13 -> -363431.87
G11: այդ թվում`
B12: 04 | C12: 03 | D12: 05 | E12: 1167 | F12: 11006 | G12: Գերմանիայի զարգացման վարկերի բանկի (KFW)) աջակցությամբ իրականացվող «Կովկասյան էլեկտրահաղորդման ցանց I» Հայաստան-Վրաստան հաղորդիչ գիծ/ենթակայանների դրամաշնորհային ծրագիր | H12: 14976.427 | I12: -25089.77
B13: 04 | C13: 03 | D13: 05 | E13: 1167 | F13: 32006 | G13: Գերմանիայի զարգացման վարկերի բանկի (KFW) աջակցությամբ իրականացվող Կովկասյան էլեկտրահաղորդման ցանց I Հայաստան-Վրաստան հաղորդիչ գիծ/ենթակայանների դրամաշնորհային ծրագրի շրջանակներում իրականացվող ներդրումներ | H13: 0 | I13: -338342.1

Sheet h2
B1: Հավելված N 2
B2: ՀՀ կառավարության 2023 թվականի
B3: ______________ ի ___Ն որոշման
B5: ՀԱՅԱՍՏԱՆԻ ՀԱՆՐԱՊԵՏՈՒԹՅԱՆ ԿԱՌԱՎԱՐՈՒԹՅԱՆ 2022 ԹՎԱԿԱՆԻ ԴԵԿՏԵՄԲԵՐԻ 29-Ի N 2111-Ն ՈՐՈՇՄԱՆ N 3 ԵՎ N 4 ՀԱՎԵԼՎԱԾՆԵՐՈՒՄ ԿԱՏԱՐՎՈՂ ՓՈՓՈԽՈՒԹՅՈՒՆՆԵՐԸ ԵՎ ԼՐԱՑՈՒՄՆԵՐԸ
B8: Գործառական դասիչը | E8: Ծրագրային դասիչը | G8: Բյուջետային ծախսերի գործառական դասակարգման բաժինների, խմբերի և դասերի, բյուջետային հատկացումների գլխավոր կարգադրիչների, ծրագրերի, միջոցառումների և միջոցառումները կատարող պետական մարմինների անվանումները | H8: Ցուցանիշների փոփոխությունը (ավելացումները նշված են դրական նշանով, իսկ նվազեցումները` փակագծերում)
B9: Բաժին | C9: Խումբ | D9: Դաս | E9: Ծրագիր | F9: Միջոցառում | H9: Տարի
G10: ԸՆԴԱՄԵՆԸ ԾԱԽՍԵՐ | H10: =H12+H592+H610 -> 0
G11: այդ թվում`
G12: ՀՀ ՏԱՐԱԾՔԱՅԻՆ ԿԱՌԱՎԱՐՄԱՆ ԵՎ ԵՆԹԱԿԱՌՈՒՑՎԱԾՔՆԵՐԻ ՆԱԽԱՐԱՐՈՒԹՅՈՒՆ | H12: =H14+H240+H505+H524+H543 -> -454118.1
G13: այդ թվում`
B14: 01 | G14: ԸՆԴՀԱՆՈՒՐ ԲՆՈՒՅԹԻ ՀԱՆՐԱՅԻՆ ԾԱՌԱՅՈՒԹՅՈՒՆՆԵՐ | H14: =H16 -> 3881695.9
G15: այդ թվում՝
C16: 08 | G16: Կառավարության տարբեր մակարդակների միջև իրականացվող ընդհանուր բնույթի տրանսֆերտներ | H16: =H18 -> 3881695.9
G17: այդ թվում՝
D18: 01 | G18: Կառավարության տարբեր մակարդակների միջև իրականացվող ընդհանուր բնույթի տրանսֆերտներ | H18: =H22 -> 3881695.9
G19: այդ թվում՝
G20: ՀՀ տարածքային կառավարման և ենթակառուցվածքների նախարարություն | H20: =H22 -> 3881695.9
G21: այդ թվում՝
E22: 1212 | G22: Տարածքային զարգացում | H22: =H24+H103+H135+H144+H231 -> 3881695.9
G23: այդ թվում`
F24: 12007 | G24: ՀՀ մարզերին սուբվենցիաների տրամադրում՛ ենթակառուցվածքների զարգացման նպատակով_x000D_ | H24: =H33+H40+H47+H54+H61+H68+H75+H82+H89+H96+H26 -> 3277023.9
G25: այդ թվում` ըստ կատարողների
G26: ՀՀ կառավարություն | H26: =H28 -> -1742.7
G27: այդ թվում` բյուջետային ծախսերի տնտեսագիտական դասակարգման հոդվածներ
G28: ԸՆԴԱՄԵՆԸ ԾԱԽՍԵՐ | H28: =H29 -> -1742.7
G29: ԸՆԹԱՑԻԿ ԾԱԽՍԵՐ | H29: =H30 -> -1742.7
G30: ԴՐԱՄԱՇՆՈՐՀՆԵՐ | H30: =H31 -> -1742.7
G31: Կապիտալ դրամաշնորհներ պետական հատվածի այլ մակարդակներին | H31: =H32 -> -1742.7
G32: - Կապիտալ սուբվենցիաներ համայնքներին | H32: =հ7.!E16 -> -1742.7
G33: ՀՀ Արագածոտնի մարզպետի աշխատակազմ | H33: =H34 -> 390394.9
G34: այդ թվում` բյուջետային ծախսերի տնտեսագիտական դասակարգման հոդվածներ | H34: =H35 -> 390394.9
G35: ԸՆԴԱՄԵՆԸ ԾԱԽՍԵՐ | H35: =H36 -> 390394.9
G36: ԸՆԹԱՑԻԿ ԾԱԽՍԵՐ | H36: =H37 -> 390394.9
G37: ԴՐԱՄԱՇՆՈՐՀՆԵՐ | H37: =H38 -> 390394.9
G38: Կապիտալ դրամաշնորհներ պետական հատվածի այլ մակարդակներին | H38: =H39 -> 390394.9
G39: - Կապիտալ սուբվենցիաներ համայնքներին | H39: =հ7.!E17 -> 390394.9
G40: ՀՀ Արարատի մարզպետի աշխատակազմ | H40: =H42 -> 433631.5
G41: այդ թվում` բյուջետային ծախսերի տնտեսագիտական դասակարգման հոդվածներ
G42: ԸՆԴԱՄԵՆԸ ԾԱԽՍԵՐ | H42: =H43 -> 433631.5
G43: ԸՆԹԱՑԻԿ ԾԱԽՍԵՐ | H43: =H44 -> 433631.5
...

Sheet h3
A1: Հավելված N 3
A2: ՀՀ կառավարության 2023 թվականի
A3: -ի N -Ն որոշման
A5: «ՀԱՅԱՍՏԱՆԻ ՀԱՆՐԱՊԵՏՈՒԹՅԱՆ 2023 ԹՎԱԿԱՆԻ ՊԵՏԱԿԱՆ ԲՅՈՒՋԵԻ ՄԱՍԻՆ» ՀԱՅԱՍՏԱՆԻ ՀԱՆՐԱՊԵՏՈՒԹՅԱՆ ՕՐԵՆՔԻ N 1 ՀԱՎԵԼՎԱԾԻ N 3 ԱՂՅՈՒՍԱԿՈՒՄ ԿԱՏԱՐՎՈՂ ՓՈՓՈԽՈՒԹՅՈՒՆՆԵՐԸ
G6: (հազ. դրամ)
A7: Ծրագրային դասիչ | C7: Բյուջետային գլխավոր կարգադրիչների, ծրագրերի, միջոցառումների և ուղղությունների անվանումները | D7: Ցուցանիշների փոփոխությունը (ավելացումները նշված են դրական նշանով, իսկ նվազեցումները` փակագծերում)
D8: Ընդամենը | E8: այդ թվում՝
A9: Ծրագիր | B9: Միջոցառում | E9: Կառուցման աշխատանքներ | F9: Վերակառուցման, վերանորոգման և վերականգնման աշխատանքներ | G9: Նախագծահե- տազոտական, գեոդեզիա- քարտեզագրա- կան աշխա- տանքներ | H9: Ոչ ֆինանսական այլ ակտիվների ձեռքբերում
C10: ԸՆԴԱՄԵՆԸ | D10: =SUM(E10:H10) -> -4183959.3 | E10: =E12 -> -50469.9 | F10: =F12 -> -2760757 | G10: =G12 -> -770762.1 | H10: =H12 -> -601970.3
C11: այդ թվում՝
C12: ՀՀ ՏԱՐԱԾՔԱՅԻՆ ԿԱՌԱՎԱՐՄԱՆ ԵՎ ԵՆԹԱԿԱՌՈՒՑՎԱԾՔՆԵՐԻ ՆԱԽԱՐԱՐՈՒԹՅՈՒՆ | D12: =E12+F12+G12+H12 -> -4183959.3 | E12: =E43+E44+E46 -> -50469.9 | F12: =F14+F36+F41+F44+F47+F48 -> -2760757 | G12: =G14+G42 -> -770762.1 | H12: =H45+H49 -> -601970.3
C13: այդ թվում`
A14: 1049 | B14: 21001 | C14: Պետական նշանակության ավտոճանապարհների հիմնանորոգում | D14: =F14+G14 -> -2047058.7 | F14: =F16+F24+F31 -> -2046296.6 | G14: =G16 -> -762.1
C15: այդ թվում`
B16: 1 | C16: Միջպետական նշանակության ավտոճանապարհներ, այդ թվում | D16: =F16+G16 -> -408809.6 | F16: =SUM(F17:F23) -> -408047.5 | G16: =G17 -> -762.1
C17: /Մ-2/-Տաթև-Աղվանի-/Մ-2/(Սյունիք) միջպետական նշանակության ավտոճանապարհի կմ0+000-կմ19+500 հատվածի հիմնանորոգում | D17: =G17 -> -762.1 | G17: -762.1
C18: Մ-2, Երևան-Երասխ-Գորիս-Մեղրի-Իրանի սահման միջպետական նշանակության ավտոճանապարհի կմ297+800-կմ311+250 հատվածի հիմնանորոգման աշխատանքների (1-ին տեղամաս՝ կմ297+800-կմ301+820 հատված) | D18: =F18 -> -77199.9 | F18: -77199.9
C19: Մ-3, Թուրքիայի սահման-Մարգարա-Վանաձոր-Տաշիր-Վրաստանի սահման միջպետական նշանակության ավտոճանապարհի կմ2+000 - կմ10+500 հատվածի հիմնանորոգում | D19: =F19 -> -3841.2 | F19: -3841.2
C20: Մ-3, Թուրքիայի սահման-Մարգարա-Վանաձոր-Տաշիր-Վրաստանի սահման միջպետական նշանակության ավտոճանապարհի կմ39+500-կմ45+300 հատվածի հիմնանորոգում | D20: =F20 -> -6488.9 | F20: -6488.9
C21: Մ-3, Թուրքիայի սահման-Մարգարա-Վանաձոր-Տաշիր-Վրաստանի սահման միջպետական նշանակության ավտոճանապարհի կմ97+020-կմ104+700 հատվածի հիմնանորոգում | D21: =F21 -> -19545.2 | F21: -19545.2
C22: Մ-6, Վանաձոր – Ալավերդի – Վրաստանի սահման միջպետական նշանակության ավտոճանապարհի ՊԿ384+50 - ՊԿ481+40 /ՊԿ467+50 – ՊԿ473+61/ տեղամասի (Օձունի խաչմերուկի /Մ6 և Հ35/ ավտոճանապարհների փոխհատում) վերականգնում և բարելավում | D22: =F22 -> -286539.9 | F22: -286539.9
C23: Մ-10, Սևան-Մարտունի-Գետափ միջպետական նշանակության ավտոճանապարհի կմ1+000-կմ17+000 հատվածի հիմնանորոգում (բացառությամբ կմ2+800-կմ5+300, կմ5+750-կմ5+886 և կմ6+850-կմ7+034 հատվածների) | D23: =F23 -> -14432.4 | F23: -14432.4
B24: 2 | C24: Հանրապետական նշանակության ավտոճանապարհներ, այդ թվում | D24: =F24 -> -753114.5 | E24: =E25+E26+E27+E30 -> 0 | F24: =SUM(F25:F30) -> -753114.5 | G24: =G25+G26+G29+G30 -> 0 | H24: =H25+H26+H27+H29+H30 -> 0
C25: Հ-1, Վ. Պտղնու տրանսպորտային հանգույց - Ջրաբեր-Հրազդան -Հրազդանի քրեակատարողական հիմնարկ հանրապետական նշանակության ավտոճանապարհի կմ33+500 - կմ37+700 հատվածի հիմնանորոգում | D25: =F25 -> -642578.2 | E25: 0 | F25: -642578.2 | G25: 0 | H25: 0
C26: Հ-2, /Հ-1/ Աբովյան- Արզնի-/Հ-6/ (Նոր Գեղի) հանրապետական նշանակության ավտոճանապարհի կմ0+000-կմ1+400 հատվածի հիմնանորոգում | D26: =F26 -> -3588.9 | E26: 0 | F26: -3588.9 | G26: 0 | H26: 0
C27: Հ-5, /Հ-6/-Նոր Գեղի-Արգել-Արզական-Հրազդան հանրապետական նշանակության ավտոճանապարհի կմ0+000 - կմ10+000 հատվածի հիմնանորոգում | D27: =F27 -> -86584.1 | E27: 0 | F27: -86584.1 | G27: 0 | H27: 0
C28: Հ-4, Երևան - Եղվարդ - Արագյուղ - Հարթավան - /Մ-3/ հանրապետական նշանակության ավտոճանապարհի կմ0+000-կմ15+600 հատվածի հիմնանորոգում | D28: =F28 -> -2073 | F28: -2073
C29: Հ-39, /Մ-10/ - Գավառ - /Մ-10/ հանրապետական նշանակության ավտոճանապարհի կմ4+300-կմ7+700 հատվածի հիմնանորոգում | D29: =F29 -> -7069.7 | E29: 0 | F29: -7069.7 | G29: 0 | H29: 0
C30: Հ-64, Բերդ - Արծվաբերդ - Չինարի հանրապետական նշանակության ավտոճանապարհի 18-րդ կիլոմետրում փլուզված հողային պաստառի վերականգնում | D30: =F30 -> -11220.6 | E30: 0 | F30: -11220.6 | G30: 0 | H30: 0
B31: 3 | C31: Մարզային նշանակության ավտոճանապարհներ, այդ թվում | D31: =F31 -> -885134.6 | F31: =SUM(F32:F35) -> -885134.6
C32: Տ-1-50, /Մ-3/ - Լեռնապար ավտոճանապարհի կմ0+000 - կմ3+800 հատվածի հիմնանորոգում | D32: =F32 -> -408 | E32: 0 | F32: -408 | G32: 0 | H32: 0
C33: Տ-8-52 տեղական նշանակության ավտոճանապարհի կմ 8+100-կմ 10+400 (Տ-8-48-ի հետ հատման կետ) և Տ-8-48 տեղական նշանակության ավտոճանապարհի կմ 5+600- կմ 11+200 (Տ-8-49-ի հետ հատման կետ) հատվածների անցանելիության ապահովում և ոլորանների պարամետրերի բարելավում | D33: =F33 -> -50061.6 | E33: 0 | F33: -50061.6 | G33: 0 | H33: 0
C34: Վանաձոր քաղաքային համայնքի Խորենացի փողոցի (երկու երթևեկելի գոիտիներ /0.4կմ+0.4կմ/) հիմնանորոգում | D34: =F34 -> -9838.6 | F34: -9838.6
C35: Որոտան-Խոտ ավտոճանապարհի վերակառուցում | D35: =F35 -> -824826.4 | F35: -824826.4
A36: 1049 | B36: 21002 | C36: Տրանսպորտային օբյեկտների հիմնանորոգում, այդ թվում | D36: =F36 -> -34480 | E36: =E37+E39+E40 -> 0 | F36: =SUM(F37:F40) -> -34480 | G36: 0 | H36: 0
C37: Մ-4, Երևան - Սևան - Իջևան - Ադրբեջանի սահման կմ104+300 հատվածում գտնվող կամուրջի վերանորոգում | D37: =F37 -> -999.1 | E37: 0 | F37: -999.1 | G37: 0 | H37: 0
C38: Մ-10, Սևան-Մարտունի-Գետափ Կմ 123+500 (Գետափ բնակավայրի դպրոցի մոտ) վերգետնյա հետիոտնային անցման կառուցում | D38: =F38 -> -1087.3 | F38: -1087.3
C39: Տ-2-13, Արգավանդ – Հայանիստ – Հովտաշատ - Արմավիրի մարզի սահման մարզային նշանակության ավտոճանապարհի կմ4+000 կամրջի հիմնանորոգում | D39: =F39 -> -27.7 | E39: 0 | F39: -27.7 | G39: 0 | H39: 0
C40: Մ-3, Թուրքիայի սահման-Մարգարա-Վանաձոր-Տաշիր-Վրաստանի սահման միջպետական նշանակության ավտոճանապարհի կմ11+400 հատվածում գտնվող կամրջի հիմնանորոգում | D40: =F40 -> -32365.9 | E40: 0 | F40: -32365.9 | G40: 0 | H40: 0
A41: 1049 | B41: 21020 | C41: Միջպետական և հանրապետական նշանակության ավտոճանապարհների միջին նորոգում | D41: =F41 -> -171483.2 | E41: 0 | F41: -171483.2 | G41: 0 | H41: 0
...

Sheet h4v
G1: Հավելված N4
G2: ՀՀ կառավարության 2023 թվականի
G3: ______________ ի ___Ն որոշման
B5: «ՀԱՅԱUՏԱՆԻ ՀԱՆՐԱՊԵՏՈՒԹՅԱՆ 2023 ԹՎԱԿԱՆԻ ՊԵՏԱԿԱՆ ԲՅՈՒՋԵԻ ՄԱUԻՆ» OՐԵՆՔԻ N 1 ՀԱՎԵԼՎԱԾԻ N 4 ԱՂՅՈՒՍԱԿՈՒՄ ԵՎ ՀԱՅԱՍՏԱՆԻ ՀԱՆՐԱՊԵՏՈՒԹՅԱՆ ԿԱՌԱՎԱՐՈՒԹՅԱՆ 2022 ԹՎԱԿԱՆԻ ԴԵԿՏԵՄԲԵՐԻ 29-Ի N 2111-Ն ՈՐՈՇՄԱՆ N 5 ՀԱՎԵԼՎԱԾԻ N 3 ԱՂՅՈՒՍԱԿՈՒՄ ԿԱՏԱՐՎՈՂ ՓՈՓՈԽՈՒԹՅՈՒՆՆԵՐԸ ԵՎ ԼՐԱՑՈՒՄՆԵՐԸ
G6: հազ. դրամ
B7: Ծրագրային դասիչը | D7: Բյուջետային գլխավոր կարգադրիչների, ծրագրերի և միջոցառումների անվանումները | E7: Ցուցանիշների փոփոխությունը (ավելացումները նշված են դրական նշանով, իսկ նվազեցումները` փակագծերում)
E8: Տարի
E9: Ընդամենը | F9: այդ թվում`
B10: Ծրագիր | C10: Միջոցառում | F10: Վարկային միջոցներ | G10: Համաֆինան սավորում
D11: ԸՆԴԱՄԵՆԸ_x000D_ | E11: =E13+E14 -> -411865.8 | F11: =F13+F14 -> 0 | G11: =G13+G14 -> -411865.8
D12: այդ թվում`
D13: ԸՆԹԱՑԻԿ ԾԱԽՍԵՐ | E13: =E24+E53+E115+E123 -> -701965.8 | F13: =F24+F53+F115+F123 -> -115000 | G13: =G24+G53+G115+G123 -> -586965.8
D14: - ՈՉ ՖԻՆԱՆՍԱԿԱՆ ԱԿՏԻՎՆԵՐԻ ԳԾՈՎ ԾԱԽՍԵՐ | E14: =E42+E33+E62+E73+E84+E93+E104+E132+E143+E156 -> 290100 | F14: =F42+F33+F62+F73+F84+F93+F104+F132+F143+F156 -> 115000 | G14: =G42+G33+G62+G73+G84+G93+G104+G132+G143+G156 -> 175100
D15: ՀՀ ՏԱՐԱԾՔԱՅԻՆ ԿԱՌԱՎԱՐՄԱՆ ԵՎ ԵՆԹԱԿԱՌՈՒՑՎԱԾՔՆԵՐԻ ՆԱԽԱՐԱՐՈՒԹՅՈՒՆ_x000D_ | E15: =E17+E46+E108+E136 -> 103134.2 | F15: =F17+F46+F108+F136 -> 515000 | G15: =G17+G46+G108+G136 -> -411865.8
D16: այդ թվում`
B17: 1004 | D17: Ոռոգման համակարգի առողջացում | E17: =E19+E28+E37 -> -176500 | F17: =F19+F28+F37 -> -125000 | G17: =G19+G28+G37 -> -51500
D18: այդ թվում`
C19: 11010 | D19: Գերմանիայի զարգացման վարկերի բանկի աջակցությամբ իրականացվող Ախուրյան գետի ջրային ռեսուրսների ինտեգրացված կառավարում փուլ 1 ծրագրով Ջրաձոր գյուղի վերաբնակեցման գործողությունների խորհրդատվություն և կառավարում | E19: =F19+G19 -> -13500 | F19: =F21 -> 0 | G19: =G21 -> -13500
D20: այդ թվում` ըստ կատարողների
D21: ՀՀ տարածքային կառավարման և ենթակառուցվածքների նախարարության ջրային կոմիտե | E21: =F21+G21 -> -13500 | F21: =F23 -> 0 | G21: =G27 -> -13500
D22: այդ թվում` բյուջետային ծախսերի տնտեսագիտական դասակարգման հոդվածներ
D23: ԸՆԴԱՄԵՆԸ ԾԱԽՍԵՐ | E23: =F23+G23 -> -13500 | F23: =F27 -> 0 | G23: =G27 -> -13500
D24: ԸՆԹԱՑԻԿ ԾԱԽՍԵՐ | E24: =F24+G24 -> -13500 | F24: =F27 -> 0 | G24: =G27 -> -13500
D25: ԴՐԱՄԱՇՆՈՐՀՆԵՐ | E25: =F25+G25 -> -13500 | F25: =F27 -> 0 | G25: =G27 -> -13500
D26: Ընթացիկ դրամաշնորհներ պետական հատվածի այլ մակարդակներին | E26: =F26+G26 -> -13500 | F26: =F27 -> 0 | G26: =G27 -> -13500
D27: -Այլ ընթացիկ դրամաշնորհներ | E27: =F27+G27 -> -13500 | F27: 0 | G27: -13500
C28: 31001 | D28: Ֆրանսիայի Հանրապետության կառավարության աջակցությամբ իրականացվող Վեդու ջրամբարի և ոռոգման համակարգի կառուցում | E28: =F28+G28 -> -139000 | F28: =F30 -> -95000 | G28: =G30 -> -44000
D29: այդ թվում` ըստ կատարողների
D30: ՀՀ տարածքային կառավարման և ենթակառուցվածքների նախարարության ջրային կոմիտե | E30: =F30+G30 -> -139000 | F30: =F32 -> -95000 | G30: =G32 -> -44000
D31: այդ թվում` բյուջետային ծախսերի տնտեսագիտական դասակարգման հոդվածներ
D32: ԸՆԴԱՄԵՆԸ ԾԱԽՍԵՐ | E32: =F32+G32 -> -139000 | F32: =F33 -> -95000 | G32: =G33 -> -44000
D33: ՈՉ ՖԻՆԱՆՍԱԿԱՆ ԱԿՏԻՎՆԵՐԻ ԳԾՈՎ ԾԱԽՍԵՐ | E33: =F33+G33 -> -139000 | F33: =F34 -> -95000 | G33: =G34 -> -44000
D34: ՀԻՄՆԱԿԱՆ ՄԻՋՈՑՆԵՐ | E34: =F34+G34 -> -139000 | F34: =F35 -> -95000 | G34: =G35 -> -44000
D35: ՇԵՆՔԵՐ ԵՎ ՇԻՆՈՒԹՅՈՒՆՆԵՐ | E35: =F35+G35 -> -139000 | F35: =F36 -> -95000 | G35: =G36 -> -44000
D36: - Շենքերի և շինությունների շինարարություն | E36: =F36+G36 -> -139000 | F36: -95000 | G36: -44000
C37: 31005 | D37: Եվրասիական զարգացման բանկի աջակցությամբ իրականացվող ոռոգման համակարգերի զարգացման ծրագրի շրջանակներում ջրային տնտեսության ենթակառուցվածքների հիմնանորոգում | E37: =F37+G37 -> -24000 | F37: =F43 -> -30000 | G37: =G45 -> 6000
D38: այդ թվում` ըստ կատարողների
D39: ՀՀ տարածքային կառավարման և ենթակառուցվածքների նախարարության ջրային կոմիտե | E39: =F39+G39 -> -24000 | F39: =F43 -> -30000 | G39: =G44 -> 6000
D40: այդ թվում` բյուջետային ծախսերի տնտեսագիտական դասակարգման հոդվածներ | E40: =F40+G40 -> -24000 | F40: -30000 | G40: =G45 -> 6000
D41: ԸՆԴԱՄԵՆԸ ԾԱԽՍԵՐ | E41: =F41+G41 -> -24000 | F41: =F45 -> -30000 | G41: =G45 -> 6000
...

Sheet h5d
J1: Հավելված N5
J2: ՀՀ կառավարության 2023 թվականի
J3: ______________ ի ___Ն որոշման
B5: «ՀԱՅԱUՏԱՆԻ ՀԱՆՐԱՊԵՏՈՒԹՅԱՆ 2023 ԹՎԱԿԱՆԻ ՊԵՏԱԿԱՆ ԲՅՈՒՋԵԻ ՄԱUԻՆ» OՐԵՆՔԻ N 1 ՀԱՎԵԼՎԱԾԻ N 5 ԱՂՅՈՒՍԱԿՈՒՄ ԵՎ ՀԱՅԱՍՏԱՆԻ ՀԱՆՐԱՊԵՏՈՒԹՅԱՆ ԿԱՌԱՎԱՐՈՒԹՅԱՆ 2022 ԹՎԱԿԱՆԻ ԴԵԿՏԵՄԲԵՐԻ 29-Ի N 2111-Ն ՈՐՈՇՄԱՆ N 5 ՀԱՎԵԼՎԱԾԻ N 4 ԱՂՅՈՒՍԱԿՈՒՄ ԿԱՏԱՐՎՈՂ ՓՈՓՈԽՈՒԹՅՈՒՆՆԵՐԸ ԵՎ ԼՐԱՑՈՒՄՆԵՐԸ
J6: հազ. դրամ
B7: Ծրագրային դասիչը | D7: Բյուջետային գլխավոր կարգադրիչների, ծրագրերի և միջոցառումների անվանումները | E7: Ցուցանիշների փոփոխությունը (ավելացումները նշված են դրական նշանով, իսկ նվազեցումները` փակագծերում)
E8: Ինն ամիս | H8: Տարի
E9: Ընդամենը | F9: այդ թվում` | H9: Ընդամենը | I9: այդ թվում`
B10: Ծրագիր | C10: Միջոցառում | F10: Դրամաշնորհային միջոցներ | G10: Համաֆինան սավորում | I10: Դրամաշնորհային միջոցներ | J10: Համաֆինան սավորում
D11: ԸՆԴԱՄԵՆԸ | E11: =+F11+G11 -> #REF! | F11: =F13+F14 -> #REF! | G11: =G13+G14 -> #REF! | H11: =+I11+J11 -> -19188.9 | I11: =I13+I14 -> -4.7293724e-11 | J11: =J13+J14 -> -19188.9
D12: այդ թվում` | E12: =+F12+G12 -> 0
D13: ԸՆԹԱՑԻԿ ԾԱԽՍԵՐ | E13: =+F13+G13 -> #REF! | F13: =+#REF!+#REF!+#REF!+#REF!+#REF!+#REF!+#REF!+#REF!+#REF! -> #REF! | G13: =+#REF!+#REF!+#REF!+#REF!+#REF!+#REF!+#REF!+#REF!+#REF! -> #REF! | H13: =H43 -> -14522.1 | I13: =I43 -> -12513.2 | J13: =J43 -> -2008.9
D14: ՈՉ ՖԻՆԱՆՍԱԿԱՆ ԱԿՏԻՎՆԵՐԻ ԳԾՈՎ ԾԱԽՍԵՐ | E14: =+F14+G14 -> #REF! | F14: =+#REF!+#REF!+#REF!+#REF!+#REF!+#REF!+#REF!+#REF!+#REF!+#REF!+#REF!+#REF! -> #REF! | G14: =+#REF!+#REF!+#REF!+#REF!+#REF!+#REF!+#REF!+#REF!+#REF!+#REF!+#REF!+#REF! -> #REF! | H14: =H23+H32+H54 -> -4666.8 | I14: =I23+I32+I54 -> 12513.2 | J14: =J23+J32+J54 -> -17180
D15: ՀՀ ՏԱՐԱԾՔԱՅԻՆ ԿԱՌԱՎԱՐՄԱՆ ԵՎ ԵՆԹԱԿԱՌՈՒՑՎԱԾՔՆԵՐԻ ՆԱԽԱՐԱՐՈՒԹՅՈՒՆ | E15: =+F15+G15 -> #REF! | F15: =+#REF!+#REF!+#REF!+#REF!+#REF!+#REF! -> #REF! | G15: =+#REF!+#REF!+#REF!+#REF!+#REF!+#REF! -> #REF! | H15: =H16+H36 -> -19188.9 | I15: =I16+I36 -> 0 | J15: =J16+J36 -> -19188.9
B16: 1049 | D16: Ճանապարհային ցանցի բարելավում | H16: =H18+H27 -> 323513.2 | I16: =I18+I27 -> 323513.2 | J16: =J18+J27 -> 0
D17: այդ թվում`
C18: 21007 | D18: Եվրոպական ներդրումային բանկի աջակցությամբ իրականացվող Հյուսիս-հարավ միջանցքի զարգացման դրամաշնորհային ծրագիր, Տրանշ 3 | H18: =I18+J18 -> -283000 | I18: =I20 -> -283000 | J18: =J20 -> 0
D19: այդ թվում` ըստ կատարողների
D20: ՀՀ տարածքային կառավարման և ենթակառուցվածքների նախարարություն | H20: =I20+J20 -> -283000 | I20: =I22 -> -283000 | J20: =J22 -> 0
D21: այդ թվում` բյուջետային ծախսերի տնտեսագիտական դասակարգման հոդվածներ
D22: ԸՆԴԱՄԵՆԸ ԾԱԽՍԵՐ | H22: =I22+J22 -> -283000 | I22: =I23 -> -283000 | J22: =J23 -> 0
D23: ՈՉ ՖԻՆԱՆՍԱԿԱՆ ԱԿՏԻՎՆԵՐԻ ԳԾՈՎ ԾԱԽՍԵՐ | H23: =I23+J23 -> -283000 | I23: =I24 -> -283000 | J23: =J24 -> 0
D24: ՀԻՄՆԱԿԱՆ ՄԻՋՈՑՆԵՐ | H24: =I24+J24 -> -283000 | I24: =I25 -> -283000 | J24: =J25 -> 0
D25: ՇԵՆՔԵՐ ԵՎ ՇԻՆՈՒԹՅՈՒՆՆԵՐ | H25: =I25+J25 -> -283000 | I25: =I26 -> -283000 | J25: =J26 -> 0
D26: - Շենքերի և շինությունների շինարարություն | H26: =I26+J26 -> -283000 | I26: -283000 | J26: 0
C27: 21014 | D27: Եվրոպական ներդրումային բանկի աջակցությամբ իրականացվող Մ6 Վանաձոր-Ալավերդի-Վրաստանի սահման միջպետական նշանակության ճանապարհի անվտանգության բարելավման դրամաշնորհային ծրագիր | H27: =H29 -> 606513.2 | I27: =I29 -> 606513.2 | J27: =J29 -> 0
D28: այդ թվում` ըստ կատարողների
D29: ՀՀ տարածքային կառավարման և ենթակառուցվածքների նախարարություն | H29: =H31 -> 606513.2 | I29: =I31 -> 606513.2 | J29: =J31 -> 0
D30: այդ թվում` բյուջետային ծախսերի տնտեսագիտական դասակարգման հոդվածներ
D31: ԸՆԴԱՄԵՆԸ ԾԱԽՍԵՐ | H31: =I31+J31 -> 606513.2 | I31: =I32 -> 606513.2 | J31: =J32 -> 0
D32: ՈՉ ՖԻՆԱՆՍԱԿԱՆ ԱԿՏԻՎՆԵՐԻ ԳԾՈՎ ԾԱԽՍԵՐ | H32: =I32+J32 -> 606513.2 | I32: =I33 -> 606513.2 | J32: =J33 -> 0
D33: ՀԻՄՆԱԿԱՆ ՄԻՋՈՑՆԵՐ | H33: =I33+J33 -> 606513.2 | I33: =I34 -> 606513.2 | J33: =J34 -> 0
D34: ՇԵՆՔԵՐ ԵՎ ՇԻՆՈՒԹՅՈՒՆՆԵՐ | H34: =I34+J34 -> 606513.2 | I34: =I35 -> 606513.2 | J34: =J35 -> 0
D35: - Շենքերի և շինությունների շինարարություն | H35: =I35+J35 -> 606513.2 | I35: =-I36-I26 -> 606513.2 | J35: 0
B36: 1232 | D36: Էներգաարդյունավետության ծրագիր | H36: =H38+H49 -> -342702.1 | I36: =I38+I49 -> -323513.2 | J36: =J38+J49 -> -19188.9
D37: այդ թվում`
C38: 11001 | D38: Եվրասիական զարգացման բանկի աջակցությամբ իրականացվող հանրային շենքերում էներգախնայողության բարելավման և կանաչ էներգիայի զարգացմանը նպաստող դրամաշնորհային ծրագրի կառավարում | H38: =H40 -> -14522.1 | I38: =I40 -> -12513.2 | J38: =J40 -> -2008.9
D39: այդ թվում` ըստ կատարողների
D40: ՀՀ տարածքային կառավարման և ենթակառուցվածքների նախարարություն | H40: =H42 -> -14522.1 | I40: =I42 -> -12513.2 | J40: =J42 -> -2008.9
D41: այդ թվում` բյուջետային ծախսերի տնտեսագիտական դասակարգման հոդվածներ
...

Sheet h6
D1: Հավելված N6
D2: ՀՀ կառավարության 2023 թվականի
D3: ______________ ի ___Ն որոշման
A5: ՀԱՅԱUՏԱՆԻ ՀԱՆՐԱՊԵՏՈՒԹՅԱՆ ԿԱՌԱՎԱՐՈՒԹՅԱՆ 2022 ԹՎԱԿԱՆԻ ԴԵԿՏԵՄԲԵՐԻ 29-Ի N 2111-Ն ՈՐՈՇՄԱՆ N 5 ՀԱՎԵԼՎԱԾԻ N 2 ԱՂՅՈՒՍԱԿՈՒՄ ԿԱՏԱՐՎՈՂ ՓՈՓՈԽՈՒԹՅՈՒՆՆԵՐԸ ԵՎ ԼՐԱՑՈՒՄԸ
D6: հազար դրամներով
A7: Ծրագրային դասիչը | C7: Բյուջետային գլխավոր կարգադրիչների, ծրագրերի, միջոցառումների և ուղղությունների անվանումները | D7: Ցուցանիշների փոփոխությունը (ավելացումները նշված են դրական նշանով, իսկ նվազեցումները` փակագծերում)
A8: Ծրագիր | B8: Միջոց_x000D_առում | D8: Տարի
C9: ԸՆԴԱՄԵՆԸ | D9: =D11 -> -4183959.3
C10: այդ թվում`
C11: ՀՀ տարածքային կառավարման և ենթակառուցվածքների նախարարություն | D11: =D13+D37+D45+D48+D51+D54+D57+D60+D69+D63+D66 -> -4183959.3
C12: այդ թվում՝
A13: 1049 | B13: 21001 | C13: Պետական նշանակության ավտոճանապարհների հիմնանորոգում | D13: =D15 -> -2047058.7
C14: այդ թվում` ըստ կատարողների
C15: ՀՀ տարածքային կառավարման և ենթակառուցվածքների նախարարություն | D15: =D17+D25+D32 -> -2047058.7
C16: այդ թվում՝ ըստ ուղղությունների
B17: 1 | C17: Միջպետական նշանակության ավտոճանապարհներ, այդ թվում | D17: =SUM(D18:D24) -> -408809.6
C18: ='h3'!C17 -> /Մ-2/-Տաթև-Աղվանի-/Մ-2/(Սյունիք) միջպետական նշանակության ավտոճանապարհի կմ0+000-կմ19+500 հատվածի հիմնանորոգում | D18: ='h3'!D17 -> -762.1
C19: ='h3'!C18 -> Մ-2, Երևան-Երասխ-Գորիս-Մեղրի-Իրանի սահման միջպետական նշանակության ավտոճանապարհի կմ297+800-կմ311+250 հատվածի հիմնանորոգման աշխատանքների (1-ին տեղամաս՝ կմ297+800-կմ301+820 հատված) | D19: ='h3'!D18 -> -77199.9
C20: ='h3'!C19 -> Մ-3, Թուրքիայի սահման-Մարգարա-Վանաձոր-Տաշիր-Վրաստանի սահման միջպետական նշանակության ավտոճանապարհի կմ2+000 - կմ10+500 հատվածի հիմնանորոգում | D20: ='h3'!D19 -> -3841.2
C21: ='h3'!C20 -> Մ-3, Թուրքիայի սահման-Մարգարա-Վանաձոր-Տաշիր-Վրաստանի սահման միջպետական նշանակության ավտոճանապարհի կմ39+500-կմ45+300 հատվածի հիմնանորոգում | D21: ='h3'!D20 -> -6488.9
C22: ='h3'!C21 -> Մ-3, Թուրքիայի սահման-Մարգարա-Վանաձոր-Տաշիր-Վրաստանի սահման միջպետական նշանակության ավտոճանապարհի կմ97+020-կմ104+700 հատվածի հիմնանորոգում | D22: ='h3'!D21 -> -19545.2
C23: ='h3'!C22 -> Մ-6, Վանաձոր – Ալավերդի – Վրաստանի սահման միջպետական նշանակության ավտոճանապարհի ՊԿ384+50 - ՊԿ481+40 /ՊԿ467+50 – ՊԿ473+61/ տեղամասի (Օձունի խաչմերուկի /Մ6 և Հ35/ ավտոճանապարհների փոխհատում) վերականգնում և բարելավում | D23: ='h3'!D22 -> -286539.9
C24: ='h3'!C23 -> Մ-10, Սևան-Մարտունի-Գետափ միջպետական նշանակության ավտոճանապարհի կմ1+000-կմ17+000 հատվածի հիմնանորոգում (բացառությամբ կմ2+800-կմ5+300, կմ5+750-կմ5+886 և կմ6+850-կմ7+034 հատվածների) | D24: ='h3'!D23 -> -14432.4
B25: 2 | C25: Հանրապետական նշանակության ավտոճանապարհներ, այդ թվում | D25: =SUM(D26:D31) -> -753114.5
C26: ='h3'!C25 -> Հ-1, Վ. Պտղնու տրանսպորտային հանգույց - Ջրաբեր-Հրազդան -Հրազդանի քրեակատարողական հիմնարկ հանրապետական նշանակության ավտոճանապարհի կմ33+500 - կմ37+700 հատվածի հիմնանորոգում | D26: ='h3'!D25 -> -642578.2
C27: ='h3'!C26 -> Հ-2, /Հ-1/ Աբովյան- Արզնի-/Հ-6/ (Նոր Գեղի) հանրապետական նշանակության ավտոճանապարհի կմ0+000-կմ1+400 հատվածի հիմնանորոգում | D27: ='h3'!D26 -> -3588.9
C28: ='h3'!C27 -> Հ-5, /Հ-6/-Նոր Գեղի-Արգել-Արզական-Հրազդան հանրապետական նշանակության ավտոճանապարհի կմ0+000 - կմ10+000 հատվածի հիմնանորոգում | D28: ='h3'!D27 -> -86584.1
C29: ='h3'!C28 -> Հ-4, Երևան - Եղվարդ - Արագյուղ - Հարթավան - /Մ-3/ հանրապետական նշանակության ավտոճանապարհի կմ0+000-կմ15+600 հատվածի հիմնանորոգում | D29: ='h3'!D28 -> -2073
C30: ='h3'!C29 -> Հ-39, /Մ-10/ - Գավառ - /Մ-10/ հանրապետական նշանակության ավտոճանապարհի կմ4+300-կմ7+700 հատվածի հիմնանորոգում | D30: ='h3'!D29 -> -7069.7
C31: ='h3'!C30 -> Հ-64, Բերդ - Արծվաբերդ - Չինարի հանրապետական նշանակության ավտոճանապարհի 18-րդ կիլոմետրում փլուզված հողային պաստառի վերականգնում | D31: ='h3'!D30 -> -11220.6
B32: 3 | C32: Մարզային նշանակության ավտոճանապարհներ, այդ թվում | D32: =SUM(D33:D36) -> -885134.6
C33: ='h3'!C32 -> Տ-1-50, /Մ-3/ - Լեռնապար ավտոճանապարհի կմ0+000 - կմ3+800 հատվածի հիմնանորոգում | D33: ='h3'!D32 -> -408
C34: ='h3'!C33 -> Տ-8-52 տեղական նշանակության ավտոճանապարհի կմ 8+100-կմ 10+400 (Տ-8-48-ի հետ հատման կետ) և Տ-8-48 տեղական նշանակության ավտոճանապարհի կմ 5+600- կմ 11+200 (Տ-8-49-ի հետ հատման կետ) հատվածների անցանելիության ապահովում և ոլորանների պարամետրերի բարելավում | D34: ='h3'!D33 -> -50061.6
C35: ='h3'!C34 -> Վանաձոր քաղաքային համայնքի Խորենացի փողոցի (երկու երթևեկելի գոիտիներ /0.4կմ+0.4կմ/) հիմնանորոգում | D35: ='h3'!D34 -> -9838.6
C36: ='h3'!C35 -> Որոտան-Խոտ ավտոճանապարհի վերակառուցում | D36: ='h3'!D35 -> -824826.4
A37: 1049 | B37: 21002 | C37: Տրանսպորտային օբյեկտների հիմնանորոգում, այդ թվում | D37: =D39 -> -34480
C38: այդ թվում` ըստ կատարողների
C39: ՀՀ տարածքային կառավարման և ենթակառուցվածքների նախարարություն | D39: =SUM(D40:D44) -> -34480
C40: այդ թվում՝ ըստ ուղղությունների
C41: ='h3'!C37 -> Մ-4, Երևան - Սևան - Իջևան - Ադրբեջանի սահման կմ104+300 հատվածում գտնվող կամուրջի վերանորոգում | D41: ='h3'!D37 -> -999.1
...

Sheet հ7.
E1: Հավելված № 7
E2: ՀՀ կառավարության 2023 թվականի
E3: -------------- ի № ---- -Ն որոշման
B5: «ՀԱՅԱՍՏԱՆԻ ՀԱՆՐԱՊԵՏՈՒԹՅԱՆ 2023 ԹՎԱԿԱՆԻ ՊԵՏԱԿԱՆ ԲՅՈՒՋԵԻ ՄԱՍԻՆ» ՕՐԵՆՔԻ N 1 ՀԱՎԵԼՎԱԾԻ N 7 ԱՂՅՈՒՍԱԿՈՒՄ ԵՎ ՀԱՅԱՍՏԱՆԻ ՀԱՆՐԱՊԵՏՈՒԹՅԱՆ ԿԱՌԱՎԱՐՈՒԹՅԱՆ 2022 ԹՎԱԿԱՆԻ ԴԵԿՏԵՄԲԵՐԻ 29-Ի N 2111-Ն ՈՐՈՇՄԱՆ N 5 ՀԱՎԵԼՎԱԾԻ N 6 ԱՂՅՈՒՍԱԿՈՒՄ ԿԱՏԱՐՎՈՂ ՓՈՓՈԽՈՒԹՅՈՒՆՆԵՐԸ ԵՎ ԼՐԱՑՈՒՄՆԵՐԸ
E6: հազար դրամ
B7: Ծրագրային դասիչը | D7: Բյուջետային հատկացումների գլխավոր կարգադրիչների, ծրագրերի, միջոցառումների և միջոցառումները կատարող պետական մարմինների անվանումները | E7: Ցուցանիշների փոփոխությունը (ավելացումները նշված են դրական նշանով, իսկ նվազեցումները` փակագծերում)
B8: Ծրագիր | C8: Միջոցառում | E8: Տարի
D9: ԸՆԴԱՄԵՆԸ | E9: =E10 -> 3276832.1
D10: ՀՀ տարածքային կառավարման և ենթակառուցվածքների նախարարություն | E10: =+E12 -> 3276832.1
D11: այդ թվում`
B12: 1212 | D12: Տարածքային զարգացում | E12: =+E14+E126+E135 -> 3276832.1
D13: այդ թվում`
C14: 12007 | D14: ՀՀ մարզերին սուբվենցիաների տրամադրում՝ ենթակառուցվածքների զարգացման նպատակով | E14: =E17+E23+E33+E43+E69+E79+E91+E103+E115+E112+E16 -> 3277023.9
D15: այդ թվում` ըստ կատարողների
D16: ՀՀ Կառավարություն | E16: -1742.7
D17: ՀՀ Արագածոտնի մարզպետի աշխատակազմ | E17: =SUM(E19:E22) -> 390394.9
D18: այդ թվում` ըստ ուղղությունների
D19: Ապարան համայնքի Արագած և Շենավան բնակավայրերում նոր մանկապարտեզի կառուցում /Շենավան/ | E19: 197919.8
D20: Թալին համայնքի Եղնիկ, Կաքավաձոր, Ն․ Բազմաբերդ բն․ փողոցների նորոգում՝ սալարկմամբ | E20: 73152.3
D21: Աշտարակ համայնքի Աշտարակ և Բազմաղբյուր բն․ մարզադաշտերի հիմնանորոգում և տարածքների բարեկարգում | E21: 93561.6
D22: Մեծաձոր համայնքի Մեծաձոր և Օթևան բն․ ներհամայնքային փողոցների նորոգում սալարկմամբ | E22: 25761.2
D23: ՀՀ Արարատի մարզպետի աշխատակազմ | E23: =SUM(E25:E32) -> 433631.5
D24: այդ թվում` ըստ ուղղությունների
D25: Մասիս համայնքում բնակավայրերի գազաֆիկացում․ Այնթապ, Նոր Կյուրին, Մարմարաշեն, Ջրահովիտ, Սիփանիկ, Սիս, Հովտաշատ, Ռանչպար, Նորամարգ, Այնթապ, Արբաթ, Դաշտավան, Դարակերտ, Նորաբաց, Սայաթ - Նովա /Նորամարգ բնակավայր/ | E25: 79410.7
D26: Արտաշատ համայնքի Այգեպատ, Դիտակ, Դվին, Մրգանուշ, Մրգավետ, Նորաշեն, Քաղցրաշեն և Մխչյան բնակավայրերի ոռոգման համակարգի կառուցում /նորոգում/Մխչյան խորքային հոր,Մրգավետ/ | E26: 55728
D27: Արարատ համայնքի Արարատ քաղաքի ՈԿՖ բանավանի մանկապարտեզի, Արարատ բնակավայրի մշակույթի տան և մանկապարտեզի, Պարույր Սևակ բնակավայրի մանկապարտեզի և Զանգակատուն բնակավայրի մանկապարտեզի տանիքներում ֆոտովոլտային կայանների տեղադրում | E27: 45730.3
D28: Վեդի համայնքի Տափերական, Գինեվետ և Վանաշեն բնակավայրերի փողոցներում կոյուղագծի ցանցի կառուցում | E28: 97048.7
D29: Այնթապ համայնքի փողոցների հիմնանորոգման և հարթեցման աշխատանքներ 4կմ | E29: 9175.8
D30: Վեդի քաղաքային համայնքի Արարատյան 36, 38, 40, 42, Գայի 5, 7, 9, և Կասյան 26/14, 26/15 ԲԲՇ-ների բակերի ասֆալտապատում և բարեկարգում | E30: 24205.5
D31: Վեդի համայնքի Այգավան, Վանաշեն, Սիսավան, Գոռավան, Շաղափ և Գինեվետ բնակավայրերի խմելու ջրագծի կառուցում | E31: 172528.5
D32: Արարատ համայնքի Սուրենավան, Արմաշ, Երասխ և Ավշար բնակավայրերի գազաֆիկացում /Սուրենավան /1-ին փուլ/ և Ավշար/1-ին փուլ// | E32: -50196
D33: ՀՀ Արմավիրի մարզպետի աշխատակազմ | E33: =SUM(E35:E42) -> 83135.7
D34: այդ թվում` ըստ ուղղությունների
D35: Վաղարշապատ համայնքի Էջմիածին բնակավայրի թիվ 14 «Ձնծաղիկ» մանկապարտեզի հիմնանորոգում և Ոսկեհատ բնակավայրի մանկապարտեզի վերանորոգում/Էջմիածին բնակավայրի թիվ 14 «Ձնծաղիկ» մանկապարտեզի հիմնանորոգում/ | E35: 64235.2
D36: Արաքս համայնքի Գայ բնակավայրի ջրահեռացման համակարգի մի մասի և ջրամատակարարման ցանցի, Ջրառատ բնակավայրի ջրամատակարարման ցանցի կառուցում /Ջրառատ բնակավայրի ջրամատակարարման ցանցի կառուցում/ | E36: 550
D37: Արաքս համայնքի Առատաշեն գյուղի մանկապարտեզի երկհարկանի մասնաշենքի կապիտալ վերանորոգում, Խորոնք գյուղի մանկապարտեզի շենքի կապիտալ վերանորոգում, Ջրառատ բնակավայրի մանկապարտեզի շենքի կապիտալ վերանորոգում, ջեռուցման համակարգի կառուցում, Մեծամոր գյուղի Խ.Աբովյան փող. 1/2 հասցեում մանկապարտեզի շենքի հիմնանորոգման /վերանորոգման/ աշխատանքներ, Գայ բնակավայրի մանկապարտեզի շենքի կառուցում/Գայ բնակավայրի մանկապարտեզի շենքի կառուցում/ | E37: 1124
D38: Փարաքար համայնքի Փարաքար, Թաիրով, Մերձավան, Մուսալեռ, Նորակերտ, Այգեկ և Պտղունք բնակավայրերի մանկապարտեզների հիմնանորոգում և բակային տարածքների բարեկարգում, Արևաշատ բնակավայրում մանկապարտեզի կոյուղու հորի կառուցում և տարածքի բարեկարգում /Արևաշատ բնակավայրում մանկապարտեզի կոյուղու հորի կառուցում և տարածքի բարեկարգում/ | E38: 24513.8
D39: Դալարիկ համայնքի հանդիսությունների սրահի հիմնանորոգում | E39: 2478.3
D40: Արմավիր համայնքի Արմավիր քաղաքի թիվ 2 մանկապարտեզ ՀՈԱԿ-ի հիմնանորոգում, թիվ 3 և թիվ 7 մանկապարտեզ ՀՈԱԿ-ների ջեռուցման համակարգերի կառուցում, գազիֆիկացում, հին դռների և պատուհանների նորով փոխարինում, Արաքս գյուղի մանկապարտեզի շենքի հիմնանորոգում, Մյասնիկյան գյուղի մանկապարտեզ ՀՈԱԿ-ի ջեռուցման համակարգի կառուցում և սանհանգույցի վերանորոգում, Լուկաշին գյուղի մանկապարտեզ ՀՈԱԿ-ի ջեռուցման համակարգի կառուցում, Սարդարապատ գյուղի մանկապարտեզ ՀՈԱԿ-ի հիմնանորոգում, գազիֆիկացում և ջեռուցման համակարգի կառուցում (Սարդարապատ գյուղի մանկապարտեզ ՀՈԱԿ-ի հիմնանորոգում, գազիֆիկացում և ջեռուցման համակարգ) | E40: -493.7
D41: Խոյ համայնքի խորքային հորերի հիմնանորոգում (Արագած N-1, N-2, Արշալույս N-1, N-2, N-3, N-4, N-5, N-6, N-7, N-8, Գեղակերտ N-1, Հայթաղ N-1, N-2, N-3, Մրգաստան N-1, Ծաղկունք N-1, N-2, Ծաղկալանջ N-2, Ծիածան N-1) և Ծիածան բնակավայրի ներտնտեսային ոռոգման ջրագծերի կառուցում /Արշալույս N-1, N-3, Հայթաղ N-1/ | E41: -8618.9
...

Sheet հ8.
G1: Հավելված N8
G2: ՀՀ կառավարության 2023 թվականի
G3: ______________ ի ___Ն որոշման
A6: ՀԱՅԱՍՏԱՆԻ ՀԱՆՐԱՊԵՏՈՒԹՅԱՆ ԿԱՌԱՎԱՐՈՒԹՅԱՆ 2022 ԹՎԱԿԱՆԻ ԴԵԿՏԵՄԲԵՐԻ 29-Ի N 2111-Ն ՈՐՈՇՄԱՆ N 5 ՀԱՎԵԼՎԱԾԻ N 7 ԱՂՅՈՒՍԱԿՈՒՄ ԿԱՏԱՐՎՈՂ ԼՐԱՑՈՒՄՆԵՐԸ
G9: հազար դրամով
A10: Ծրագրային դասիչ | C10: Բյուջետային հատկացումների գլխավոր կարգադրիչների, ծրագրերի, միջոցառումների, ծախսային ուղղությունների անվանումները | F10: Միջոցառումները կատարող պետական մարմինների և դրամաշնորհ ստացող տնտեսվարող սուբյեկտների անվանումները | G10: Ցուցանիշների փոփոխությունը (ավելացումները նշված են դրական նշանով)
A11: Ծրագիր | B11: Միջոցառում | G11: Տարի
A12: 1 | B12: 2 | C12: 3 | F12: 4 | G12: 8
A13: ՀՀ տարածքային կառավարման և ենթակառուցվածքների նախարարություն | G13: =G14 -> 38424.8
A14: 1212 | B14: Տարածքային զարգացում | G14: =G15 -> 38424.8
B15: 12025 | C15: Մարզերում առաջնահերթ լուծում պահանջող հիմնախնդիրների լուծում | F15: ՀՀ Գեղարքունիքի մարզպետի աշխատակազմ | G15: =G16+G17 -> 38424.8
F16: «Վարդենիսի բժշկական կենտրոն» ՓԲԸ | G16: 10587.5
F17: «Ռ. Պետրոսյանի անվան միջնակարգ դպրոց»ՊՈԱԿ | G17: 27837.3
F20: ՀԱՅԱՍՏԱՆԻ ՀԱՆՐԱՊԵՏՈՒԹՅԱՆ
F21: ՎԱՐՉԱՊԵՏԻ ԱՇԽԱՏԱԿԱԶՄԻ
F22: ՂԵԿԱՎԱՐ ՝ | G22: Ա. ՀԱՐՈՒԹՅՈՒՆՅԱՆ

Sheet հ9
C1: Հավելված N 9
C2: ՀՀ կառավարության 2023 թվականի
C3: ______________ ի ___Ն որոշման
A5: ՀԱՅԱՍՏԱՆԻ ՀԱՆՐԱՊԵՏՈՒԹՅԱՆ ԿԱՌԱՎԱՐՈՒԹՅԱՆ 2022 ԹՎԱԿԱՆԻ ԴԵԿՏԵՄԲԵՐԻ 29-Ի N 2111-Ն ՈՐՈՇՄԱՆ N 8 ՀԱՎԵԼՎԱԾՆԵՐՈՒՄ ԿԱՏԱՐՎՈՂ ՓՈՓՈԽՈՒԹՅՈՒՆՆԵՐԸ
A6: Գործառական դասիչը | D6: Ծրագրային դասիչը | F6: Բյուջետային հատակացումների գլխավոր կարգադրիչներ, ծրագրերի, միջոցառումների և միջոցառումներն իրականացնող պետական մարմինների անվանումները | G6: Գումարը (հազար դրամ)
A7: Բաժին | B7: Խումբ | C7: Դաս | D7: Ծրագիր | E7: ='h2'!F9 -> Միջոցառում
F8: ԸՆԴԱՄԵՆԸ ԾԱԽՍԵՐ | G8: =G9+G34 -> -2240203.2
A9: 04 | F9: ՏՆՏԵՍԱԿԱՆ ՀԱՐԱԲԵՐՈՒԹՅՈՒՆՆԵՐ | G9: =G10+G19+G39+G44 -> -2195231.3 | H9: =H10 -> #REF!
B10: 03 | F10: Վառելիք և էներգետիկա | G10: =G11+G16 -> -202378 | H10: =H11 -> #REF!
C11: 02 | F11: Նավթամթերք և բնական գազ | G11: =G12 -> -2378 | H11: =#REF! -> #REF!
D12: 1157 | F12: Քաղաքային զարգացում | G12: =+G13 -> -2378 | H12: =+H13 -> #REF!
E13: 21031 | F13: Նոր Խարբերդ թաղամասում գազատարի կառուցման աշխատանքներ | G13: ='h2'!H309 -> -2378 | H13: =+#REF! -> #REF!
F14: ՏՆՏԵՍԱԿԱՆ ՀԱՐԱԲԵՐՈՒԹՅՈՒՆՆԵՐ | G14: =G19 -> -1730953.7 | H14: =H19 -> #REF!
F15: այդ թվում`
C16: 05 | F16: Էլեկտրաէներգիա | G16: =G17 -> -200000
D17: 1157 | F17: Քաղաքային զարգացում | G17: =G18 -> -200000
E18: 12006 | F18: Եվրոպական ներդրումային բանկի աջակցությամբ իրականացվող Երևանի էներգաարդյունավետության ծրագրին պետական աջակցություն | G18: ='h2'!H321 -> -200000
B19: 05 | F19: Տրանսպորտ | G19: =G24+G30 -> -1730953.7 | H19: =#REF! -> #REF!
F20: ՏՆՏԵՍԱԿԱՆ ՀԱՐԱԲԵՐՈՒԹՅՈՒՆՆԵՐ | G20: =G22 -> -1397770.3 | H20: =H22 -> #REF!
F21: այդ թվում`
F22: Տրանսպորտ | G22: =G30 -> -1397770.3 | H22: =H30 -> #REF!
F23: այդ թվում`
C24: 01 | F24: Ճանապարհային տրանսպորտ | G24: =G25 -> -333183.4
D25: 1157 | F25: Քաղաքային զարգացում | G25: =G26+G27+G28+G29 -> -333183.4
E26: 12012 | F26: Ասիական զարգացման բանկի աջակցությամբ իրականացվող քաղաքային ենթակառուցվածքների և քաղաքի կայուն զարգացման ներդրումային ծրագրի համակարգում և կառավարում | G26: ='h1'!F123 -> -94465.8
E27: 12013 | F27: Ասիական զարգացման բանկի աջակցությամբ իրականացվող քաղաքային ենթակառուցվածքների և քաղաքի կայուն զարգացման ներդրումային երկրորդ ծրագրի համակարգում և կառավարում | G27: ='h1'!F129 -> -35000
E28: 12021 | F28: Ասիական զարգացման բանկի աջակցությամբ իրականացվող քաղաքային ենթակառուցվածքների և քաղաքի կայուն զարգացման ներդրումային երկրորդ ծրագրի շրջանակներում ճանապարհային շինարարություն | G28: ='h1'!F135 -> 46000
E29: 21032 | F29: Երևան քաղաքում ճանապարհների կառուցման և միջին նորոգման աշխատանքներ | G29: ='h1'!F154 -> -249717.6
C30: 05 | F30: Խողովակաշարային և այլ տրանսպորտ | G30: =G31 -> -1397770.3 | H30: =#REF! -> #REF!
D31: 1157 | F31: Քաղաքային զարգացում | G31: =G32+G33 -> -1397770.3 | H31: =+H33 -> #REF!
E32: 21002 | F32: Երևանի մետրոպոլիտենի ենթակառուցվածքների կառուցում | G32: ='h2'!H487 -> -770000
E33: 21033 | F33: Երևան քաղաքի բազմաբնակարան շենքերի վերելակների արդիականացում | G33: ='h2'!H496 -> -627770.3 | H33: =+#REF! -> #REF!
A34: 06 | F34: ԲՆԱԿԱՐԱՆԱՅԻՆ ՇԻՆԱՐԱՐՈՒԹՅՈՒՆ ԵՎ ԿՈՄՈՒՆԱԼ ԾԱՌԱՅՈՒԹՅՈՒՆՆԵՐ | G34: =G35 -> -44971.9 | H34: =H35 -> #REF!
B35: 03 | F35: Ջրամատակարարում | G35: =G36 -> -44971.9 | H35: =H36 -> #REF!
C36: 01 | F36: Ջրամատակարարում | G36: =G37 -> -44971.9 | H36: =#REF! -> #REF!
D37: 1157 | F37: Քաղաքային զարգացում | G37: =+G38 -> -44971.9 | H37: =+H38 -> #REF!
E38: 21034 | F38: Երևան քաղաքի կոյուղատար համակարգի արդիականացման և ընդլայնման աշխատանքներ | G38: ='h2'!H515 -> -44971.9 | H38: =+#REF! -> #REF!
A39: 08 | F39: ՀԱՆԳԻՍՏ, ՄՇԱԿՈՒՅԹ ԵՎ ԿՐՈՆ | G39: =G40 -> -155751
B40: 01 | F40: Հանգստի և սպորտի ծառայություններ | G40: =G41 -> -155751
C41: 01 | F41: Հանգստի և սպորտի ծառայություններ | G41: =G42 -> -155751
...

Sheet Հ10
A2: ՀՀ կառավարության 2023 թվականի
A3: ______________ ի ___Ն որոշման
A5: ՀԱՅԱՍՏԱՆԻ ՀԱՆՐԱՊԵՏՈՒԹՅԱՆ ԿԱՌԱՎԱՐՈՒԹՅԱՆ 2022 ԹՎԱԿԱՆԻ ԴԵԿՏԵՄԲԵՐԻ 29-Ի N 2111-Ն ՈՐՈՇՄԱՆ N 9 ՀԱՎԵԼՎԱԾԻ N 9.7 ԵՎ N 9.10, 9.47 ԱՂՅՈՒՍԱԿՆԵՐՈՒՄ ԿԱՏԱՐՎՈՂ ՓՈՓՈԽՈՒԹՅՈՒՆՆԵՐԸ ԵՎ ԼՐԱՑՈՒՄՆԵՐԸ
A7: ՀՀ ՏԱՐԱԾՔԱՅԻՆ ԿԱՌԱՎԱՐՄԱՆ ԵՎ ԵՆԹԱԿԱՌՈՒՑՎԱԾՔՆԵՐԻ ՆԱԽԱՐԱՐՈՒԹՅՈՒՆ
A8: ՄԱՍ 2. ՊԵՏԱԿԱՆ ՄԱՐՄՆԻ ԳԾՈՎ ԱՐԴՅՈՒՆՔԱՅԻՆ (ԿԱՏԱՐՈՂԱԿԱՆ) ՑՈՒՑԱՆԻՇՆԵՐԸ
A10: Ծրագրի դասիչը | B10: Ծրագրի անվանումը
A11: 1004 | B11: =+'[1]4'!D16 -> Ոռոգման համակարգի առողջացում
A13: Ծրագրի միջոցառումները
A15: Ծրագրի դասիչը` | B15: 1004 | C15: Ցուցանիշների փոփոխությունը (նվազեցումները նշված են փակագծերում)
A16: Միջոցառման դասիչը` | B16: 11010 | C16: Տարի
A17: Միջոցառման անվանումը` | B17: Գերմանիայի զարգացման վարկերի բանկի աջակցությամբ իրականացվող Ախուրյան գետի ջրային ռեսուրսների ինտեգրացված կառավարում փուլ 1 ծրագրով Ջրաձոր գյուղի վերաբնակեցման գործողությունների խորհրդատվություն և կառավարում
A18: Նկարագրությունը` | B18: Գերմանիայի զարգացման վարկերի բանկի աջակցությամբ իրականացվող Ախուրյան գետի ջրային ռեսուրսների ինտեգրացված կառավարում փուլ 1 ծրագրով Ջրաձոր գյուղի վերաբնակեցման գործողությունների համակարգում և ղեկավարում
A19: Միջոցառման տեսակը` | B19: Ծառայությունների մատուցում
A20: Միջոցառումն իրականացնողի անվանումը? | B20: Մասնագիտացված միավոր
A21: Արդյունքի չափորոշիչներ
A22: Միջոցառման վրա կատարվող ծախսը (հազար դրամ) | C22: =h4v!E19 -> -13500
A25: Ծրագրի դասիչը` | B25: 1004 | C25: Ցուցանիշների փոփոխությունը (նվազեցումները նշված են փակագծերում)
A26: Միջոցառման դասիչը` | B26: 31001 | C26: Տարի
A27: Միջոցառման անվանումը` | B27: Ֆրանսիայի Հանրապետության կառավարության աջակցությամբ իրականացվող Վեդու ջրամբարի կառուցում
A28: Նկարագրությունը` | B28: Ֆրանսիայի Հանրապետության կառավարության աջակցությամբ իրականացվող Վեդու ջրամբարի կառուցման ծրագիր
A29: Միջոցառման տեսակը` | B29: Պետական մարմինների կողմից օգտագործվող ոչ ֆինանսական ակտիվների հետ գործառնություններ
A30: Ակտիվն օգտագործող կազմակերպության(ների) անվանում(ները)՛ | B30: Մասնագիտացված միավոր
A31: Արդյունքի չափորոշիչներ
A32: Միջոցառման վրա կատարվող ծախսը (հազար դրամ) | C32: =h4v!E28 -> -139000
A34: Ծրագրի դասիչը` | B34: 1004 | C34: Ցուցանիշների փոփոխությունը (նվազեցումները նշված են փակագծերում)
A35: Միջոցառման դասիչը` | B35: 31005 | C35: Տարի
A36: Միջոցառման անվանումը` | B36: Եվրասիական զարգացման բանկի աջակցությամբ իրականացվող ոռոգման համակարգերի զարգացման ծրագրի շրջանակներում ջրային տնտեսության ենթակառուցվածքների հիմնանորոգում
A37: Նկարագրությունը` | B37: Եվրասիական զարգացման բանկի աջակցությամբ իրականացվող ոռոգման համակարգերի զարգացման ծրագիր
A38: Միջոցառման տեսակը` | B38: Պետական մարմինների կողմից օգտագործվող ոչ ֆինանսական ակտիվների հետ գործառնություններ
A39: Ակտիվն օգտագործող կազմակերպության(ների) անվանում(ները)՛ | B39: Մասնագիտացված միավոր
A40: Արդյունքի չափորոշիչներ
A41: Միջոցառման վրա կատարվող ծախսը (հազար դրամ) | C41: ='h1'!F31 -> -24000
A43: Ծրագրի դասիչը | B43: Ծրագրի անվանումը
A44: 1049 | B44: Ճանապարհային ցանցի բարելավում
A46: Ծրագրի միջոցառումները
A48: Ծրագրի դասիչը` | B48: 1049 | C48: Ցուցանիշների փոփոխությունը (նվազեցումները նշված են փակագծերում)
A49: Միջոցառման դասիչը` | B49: 11012 | C49: Տարի
A50: Միջոցառման անվանումը` | B50: Եվրասիական զարգացման բանկի աջակցությամբ իրականացվող Հյուսիս-հարավ միջանցքի զարգացման ծրագրի համակարգում և կառավարում
A51: Նկարագրությունը` | B51: Խորհրդատվական ծառայություններ և պահպանման ծախսեր
A52: Միջոցառման տեսակը` | B52: Ծառայությունների մատուցում
...

Sheet Հ11
D1: Հավելված N 11
A2: ՀՀ կառավարության 2023թվականի
A3: ______________ ի ___Ն որոշման
A5: ՀԱՅԱՍՏԱՆԻ ՀԱՆՐԱՊԵՏՈՒԹՅԱՆ ԿԱՌԱՎԱՐՈՒԹՅԱՆ 2022 ԹՎԱԿԱՆԻ ԴԵԿՏԵՄԲԵՐԻ 21-Ի N 2111-Ն ՈՐՈՇՄԱՆ N 9.1 ՀԱՎԵԼՎԱԾԻ NN 9.1.7, 9.1.10,9.1.25, 9.1.29, 9.1.48, 9.1.49, 9.1.50, 9.1.51, 9.1.52, 9.1.53, 9.1.54, 9.1.55, 9.1.56 , 9.1.57 ԵՎ 9.1.58 ԱՂՅՈՒՍԱԿՆԵՐՈՒՄ ԿԱՏԱՐՎՈՂ ՓՈՓՈԽՈՒԹՅՈՒՆՆԵՐԸ ԵՎ ԼՐԱՑՈՒՄՆԵՐԸ
D6: Աղյուսակ 9.1.7
A7: ՀՀ ՏԱՐԱԾՔԱՅԻՆ ԿԱՌԱՎԱՐՄԱՆ ԵՎ ԵՆԹԱԿԱՌՈՒՑՎԱԾՔՆԵՐԻ ՆԱԽԱՐԱՐՈՒԹՅՈՒՆ
A8: ՄԱՍ 1. ՊԵՏԱԿԱՆ ՄԱՐՄՆԻ ԳԾՈՎ ԱՐԴՅՈՒՆՔԱՅԻՆ (ԿԱՏԱՐՈՂԱԿԱՆ) ՑՈՒՑԱՆԻՇՆԵՐԸ
A10: Ծրագրի դասիչը | B10: Ծրագրի անվանումը
A11: 1049 | B11: Ճանապարհային ցանցի բարելավում
A15: Ծրագրի դասիչը` | B15: 1049 | C15: Ցուցանիշների փոփոխությունը (նվազեցումները նշված են փակագծերում)
A16: Միջոցառման դասիչը` | B16: 11012 | C16: Տարի
A17: Միջոցառման անվանումը` | B17: Եվրասիական զարգացման բանկի աջակցությամբ իրականացվող Հյուսիս-հարավ միջանցքի զարգացման ծրագրի համակարգում և կառավարում
A18: Նկարագրությունը` | B18: Խորհրդատվական ծառայություններ և պահպանման ծախսեր
A19: Միջոցառման տեսակը` | B19: Ծառայությունների մատուցում
A20: Միջոցառումն իրականացնողի անվանումը՛ | B20: Մասնագիտացված միավոր
A21: Արդյունքի չափորոշիչներ
A22: Հողերի օտարում, շահառուների քանակ | C22: -52
A23: Միջոցառման վրա կատարվող ծախսը (հազար դրամ) | C23: =h4v!E48 -> -559000
A26: Ծրագրի դասիչը` | B26: 1049 | C26: Ցուցանիշների փոփոխությունը (ավելացումները նշված են դրական նշանով, իսկ նվազեցումները` փակագծերում)
A27: Միջոցառման դասիչը` | B27: 21001 | C27: Տարի
A28: Միջոցառման անվանումը` | B28: Պետական նշանակության ավտոճանապարհների հիմնանորոգում
A29: Նկարագրությունը` | B29: Միջպետական, հանրապետական և մարզային նշանակության ավտոճոնապարհների քայքայված ծածկի վերանորոգում, մաշված ծածկի փոխարինում
A30: Միջոցառման տեսակը` | B30: Հանրության կողմից անմիջականորեն օգտագործվող ակտիվների հետ կապված միջոցառումներ
A31: Միջոցառումն իրականացնողի անվանումը | B31: Մասնագիտացված միավոր
A32: Արդյունքի չափորոշիչներ
A33: Հանրապետական նշանակության ավտոճանապարհներ | C33: -2.5
A34: =Հ10!A67:B67 -> Մարզային նշանակության ավտոճանապարհներ | C34: -1
A35: Միջոցառման վրա կատարվող ծախսը (հազար դրամ) | C35: =Հ10!C68 -> -2047058.7
A37: Ծրագրի դասիչը` | B37: 1049 | C37: Ցուցանիշների փոփոխությունը (նվազեցումները նշված են փակագծերում)
A38: Միջոցառման դասիչը` | B38: 21002 | C38: Տարի
A39: Միջոցառման անվանումը` | B39: Տրանսպորտային օբյեկտների հիմնանորոգում
A40: Նկարագրությունը` | B40: Ավտոմոբիլային ճանապարհների վրա գտնվող կամուրջների հիմնանորոգում
A41: Միջոցառման տեսակը` | B41: Հանրության կողմից անմիջականորեն օգտագործվող ակտիվների հետ կապված միջոցառումներ
A42: Միջոցառումն իրականացնողի անվանումը | B42: Մասնագիտացված միավոր
A43: Արդյունքի չափորոշիչներ
A44: Միջոցառման վրա կատարվող ծախսը (հազար դրամ) | C44: ='h3'!D36 -> -34480
A47: Ծրագրի դասիչը` | B47: 1049 | C47: Ցուցանիշների փոփոխությունը (ավելացումները նշված են դրական նշանով, իսկ նվազեցումները` փակագծերում)
A48: Միջոցառման դասիչը` | B48: 21004 | C48: Տարի
A49: Միջոցառման անվանումը` | B49: Ասիական զարգացման բանկի աջակցությամբ իրականացվող Մ6 Վանաձոր-Ալավերդի-Վրաստանի սահման միջպետական նշանակության ճանապարհի ծրագրի կառուցում և հիմնանորոգում
A50: Նկարագրությունը` | B50: Ճանապարհաշինական աշխատանքներ
...

Sheet Հ12
H1: Հավելված N 12
H2: ՀՀ կառավարության 2023 թվականի
H3: ______________ ի ___Ն որոշման
B5: ՀԱՅԱՍՏԱՆԻ ՀԱՆՐԱՊԵՏՈՒԹՅԱՆ ԿԱՌԱՎԱՐՈՒԹՅԱՆ 2022 ԹՎԱԿԱՆԻ ԴԵԿՏԵՄԲԵՐԻ 29-Ի N 2111-Ն ՈՐՈՇՄԱՆ N 10 ՀԱՎԵԼՎԱԾՈՒՄ ԿԱՏԱՐՎՈՂ ՓՈՓՈԽՈՒԹՅՈՒՆՆԵՐԸ ԵՎ ԼՐԱՑՈՒՄԸ
B7: Կոդը | C7: Անվանումը | D7: Գնման ձևը | E7: Չափման միավորը | F7: Միավորի գինը | G7: Ցուցանիշների փոփոխությունը (ավելացումները նշված են դրական նշանով, իսկ նվազեցումները` փակագծերում)
G8: Քանակը | H8: Գումարը (հազար դրամով)
B9: 1 | C9: 2 | D9: 3 | E9: 4 | F9: 5 | G9: 6 | H9: 7
C10: Ընդամենը | H10: =H11+H17+H53 -> -2031258.7
B11: ՀՀ Սյունիքի մարզպետի աշխատակազմ | H11: =H13 -> 25800
B12: Բաժին N 01 | C12: խումբ N 08, դաս N 01 | D12: Կառավարության տարբեր մակարդակների միջեւ իրականացվող ընդհանուր բնույթի տրանսֆերտներ | H12: =H13 -> 25800
B13: 1212 Տարածքային զարգացում | H13: =H14 -> 25800
B14: 32001 ՀՀ մարզերում առաջնահերթ լուծում պահանջող անհետաձգելի ծրագրերի իրականացում | H14: =H15 -> 25800
B15: ՄԱՍ I. Ա Պ Ր Ա Ն Ք Ն Ե Ր | H15: =SUM(H16:H16) -> 25800
B16: 39717200/1 | C16: օդորակման սարքավորումներ | D16: ՀՄԱ | E16: դրամ | F16: 12900000 | G16: 2 | H16: =F16*2/1000 -> 25800
B17: ՀՀ տարածքային կառավարման և ենթակառուցվածքների նախարարություն | H17: =H18 -> -2047058.7
B18: Բաժին N 04 | C18: Խումբ N 05 | D18: Դաս N 01 | E18: Ճանապարհային տրանսպորտ | H18: =H19 -> -2047058.7
B19: 1049 21001 | C19: ='[2]Հ3 '!F41 -> Պետական նշանակության ավտոճանապարհների հիմնանորոգում | H19: =H20+H36 -> -2047058.7
B20: ՄԱՍ II. ԱՇԽԱՏԱՆՔՆԵՐ | H20: =SUM(H21:H35) -> -2021195.7
B21: 45231177/515 | C21: ճանապարհների վերանորոգման աշխատանքներ | D21: ՀԲՄ | E21: դրամ | G21: 0 | H21: -76379.3
B22: 45231177/17 | C22: ճանապարհների վերանորոգման աշխատանքներ | D22: ԲՄ | E22: դրամ | G22: 0 | H22: -3841.2
B23: 45231177/558 | C23: ճանապարհների վերանորոգման աշխատանքներ | D23: ՀԲՄ | E23: դրամ | G23: 0 | H23: -6488.9
B24: 45231177/104 | C24: ճանապարհների վերանորոգման աշխատանքներ | D24: ՀԲՄ | E24: դրամ | G24: 0 | H24: -19545.2
B25: 45231177/511 | C25: ճանապարհների վերանորոգման աշխատանքներ | D25: ՀԲՄ | E25: դրամ | G25: 0 | H25: -283472.7
B26: 45231177/563 | C26: ճանապարհների վերանորոգման աշխատանքներ | D26: ՀԲՄ | E26: դրամ | G26: 0 | H26: -14432.4
B27: 45231177/504 | C27: ճանապարհների վերանորոգման աշխատանքներ | D27: ՀԲՄ | E27: դրամ | G27: 0 | H27: -635465.5
B28: 45231177/57 | C28: ճանապարհների վերանորոգման աշխատանքներ | D28: ԲՄ | E28: դրամ | G28: 0 | H28: -90173
B29: 45231177/633 | C29: ճանապարհների վերանորոգման աշխատանքներ | D29: ԲՄ | E29: դրամ | G29: 0 | H29: -2073
B30: 45231177/126 | C30: ճանապարհների վերանորոգման աշխատանքներ | D30: ՀԲՄ | E30: դրամ | G30: 0 | H30: -6389.7
B31: 45231177/506 | C31: ճանապարհների վերանորոգման աշխատանքներ | D31: ՀԲՄ | E31: դրամ | G31: 0 | H31: -11220.6
B32: 45231177/555 | C32: ճանապարհների վերանորոգման աշխատանքներ | D32: ՀԲՄ | E32: դրամ | G32: 0 | H32: -408
... B35: 45231177/144 | C35: ճանապարհների վերանորոգման աշխատանքներ | D35: ՄԱ | E35: դրամ | G35: 0 | H35: -811406
B36: ՄԱՍ III. ԾԱՌԱՅՈՒԹՅՈՒՆՆԵՐ | H36: =SUM(H37:H46) -> -25863.04
B37: 71351540/518 | C37: տեխնիկական հսկողության ծառայություններ | D37: ՀԲՄ | E37: դրամ | G37: - | H37: -375.2
B38: 71351540/515 | C38: տեխնիկական հսկողության ծառայություններ | D38: ՀԲՄ | E38: դրամ | G38: - | H38: -1128.4
B39: 71351540/512 | C39: տեխնիկական հսկողության ծառայություններ | D39: ԲՄ | E39: դրամ | G39: - | H39: -2496.2
B40: 71351540/77 | C40: տեխնիկական հսկողության ծառայություններ | D40: ԳՀ | E40: դրամ | G40: - | H40: -680
B41: 71351540/86 | C41: տեխնիկական հսկողության ծառայություններ | D41: ՀՄԱ | E41: դրամ | G41: - | H41: -7951.1
B42: 98111140/114 | C42: հեղինակային հսկողության ծառայություններ | D42: ՄԱ | E42: դրամ | G42: 0 | H42: -445.4
B43: 98111140/50 | C43: հեղինակային հսկողության ծառայություններ | D43: ՄԱ | E43: դրամ | G43: 0 | H43: -1938.84
B44: 98111140/116 | C44: հեղինակային հսկողության ծառայություններ | D44: ՄԱ | E44: դրամ | G44: 0 | H44: -4616.5
...
