Workbook
Name AgencyCode: #REF!
Name AgencyCode: #REF!
Name AgencyCode: #REF!
Name AgencyCode: #REF!
Name AgencyCode: #REF!
Name AgencyCode: #REF!
Name AgencyCode: #REF!
Name AgencyCode: #REF!
Name AgencyName: #REF!
Name AgencyName: #REF!
Name AgencyName: #REF!
Name AgencyName: #REF!
Name AgencyName: #REF!
Name åû: #REF!
Name åû: #REF!
Name åû: #REF!
Name davit: #REF!
Name davit: #REF!
Name davit: #REF!
Name Functional1: #REF!
Name Functional1: #REF!
Name Functional1: #REF!
Name Functional1: #REF!
Name Functional1: #REF!
Name ggg: #REF!
Name ggg: #REF!
Name ggg: #REF!
Name mas: #REF!
Name mas: #REF!
Name mas: #REF!
Name mass: #REF!
Name mass: #REF!
Name mass: #REF!
Name PANature: #REF!
Name PANature: #REF!
Name PANature: #REF!
Name PANature: #REF!
Name PANature: #REF!
Name PAType: #REF!
Name PAType: #REF!
Name PAType: #REF!
Name PAType: #REF!
Name PAType: #REF!
Name Performance2: #REF!
Name Performance2: #REF!
Name Performance2: #REF!
Name Performance2: #REF!
Name Performance2: #REF!
Name PerformanceType: #REF!
Name PerformanceType: #REF!
Name PerformanceType: #REF!
Name PerformanceType: #REF!
Name PerformanceType: #REF!
Name x: #REF!
Name x: #REF!
Name x: #REF!
Name x: #REF!
Name Հավելված: #REF!
Name Հավելված: #REF!
Name Հավելված: #REF!

Sheet h1
F1: Հավելված N1
F2: ՀՀ կառավարության 2023 թվականի
F3: ______________ ի ___Ն որոշման
C5: «ՀԱՅԱUՏԱՆԻ ՀԱՆՐԱՊԵՏՈՒԹՅԱՆ 2023 ԹՎԱԿԱՆԻ ՊԵՏԱԿԱՆ ԲՅՈՒՋԵԻ ՄԱUԻՆ» OՐԵՆՔԻ N 1 ՀԱՎԵԼՎԱԾԻ N 2 ԱՂՅՈՒՍԱԿՈՒՄ ԿԱՏԱՐՎՈՂ ՎԵՐԱԲԱՇԽՈՒՄԸ ԵՎ ՀԱՅԱՍՏԱՆԻ ՀԱՆՐԱՊԵՏՈՒԹՅԱՆ ԿԱՌԱՎԱՐՈՒԹՅԱՆ 2022 ԹՎԱԿԱՆԻ ԴԵԿՏԵՄԲԵՐԻ 29-Ի N 2111-Ն ՈՐՈՇՄԱՆ N 5 ՀԱՎԵԼՎԱԾԻ N 1 ԱՂՅՈՒՍԱԿՈՒՄ ԿԱՏԱՐՎՈՂ ՓՈՓՈԽՈՒԹՅՈՒՆՆԵՐԸ ԵՎ ԼՐԱՑՈՒՄՆԵՐԸ
F6: հազ. դրամ
C7: Ծրագրային դասիչը | E7: Բյուջետային հատկացումների գլխավոր կարգադրիչների, ծրագրերի և միջոցառումների անվանումները | F7: Ցուցանիշների փոփոխությունը (ավելացումները նշված են դրական նշանով, իսկ նվազեցումները` փակագծերում)
C8: Ծրագիր | D8: Միջոցառում | F8: Տարի
C9: 1192 | E9: ԸՆԴԱՄԵՆԸ | F9: =F11+F263+F277 -> 0
E10: այդ թվում
E11: ՀՀ տարածքային կառավարման և ենթակառուցվածքների նախարարություն | F11: =F12+F37+F110+F183+F208+F244+F196 -> -454118.1
C12: 1004 | E12: Ծրագրի անվանումը` | F12: =F19+F25+F31 -> -176500
E13: Ոռոգման համակարգի առողջացում
E14: Ծրագրի նպատակը`
E15: Ոռոգման ծառայությունների հասանելիության և մատչելիության ապահովում
E16: Վերջնական արդյունքի նկարագրությունը`
E17: Ոռոգման ջրի մատակարարման արդյունավետության և հասանելիության բարելավում, կորուստների կրճատում
E18: Ծրագրի միջոցառումներ
D19: 11010 | E19: Միջոցառման անվանումը` | F19: =h4v!E19 -> -13500
E20: Գերմանիայի զարգացման վարկերի բանկի աջակցությամբ իրականացվող Ախուրյան գետի ջրային ռեսուրսների ինտեգրացված կառավարում փուլ 1 ծրագրով Ջրաձոր գյուղի վերաբնակեցման գործողությունների խորհրդատվություն և կառավարում
E21: Միջոցառման նկարագրությունը`
E22: Գերմանիայի զարգացման վարկերի բանկի աջակցությամբ իրականացվող Ախուրյան գետի ջրային ռեսուրսների ինտեգրացված կառավարում փուլ 1 ծրագրով Ջրաձոր գյուղի վերաբնակեցման գործողությունների համակարգում և ղեկավարում
E23: Միջոցառման տեսակը
E24: Ծառայությունների մատուցում
D25: 31001 | E25: Միջոցառման անվանումը` | F25: =h4v!E28 -> -139000
E26: Ֆրանսիայի Հանրապետության կառավարության աջակցությամբ իրականացվող Վեդու ջրամբարի և ոռոգման համակարգի կառուցում
E27: Միջոցառման նկարագրությունը`
E28: Ֆրանսիայի Հանրապետության կառավարության աջակցությամբ իրականացվող Վեդու ջրամբարի և ոռոգման համակարգի կառուցման ծրագիր
E29: Միջոցառման տեսակը
E30: Պետական մարմինների կողմից օգտագործվող ոչ ֆինանսական ակտիվների հետ գործառնություններ
D31: 31005 | E31: Միջոցառման անվանումը` | F31: =h4v!E37 -> -24000
E32: Եվրասիական զարգացման բանկի աջակցությամբ իրականացվող ոռոգման համակարգերի զարգացման ծրագրի շրջանակներում ջրային տնտեսության ենթակառուցվածքների հիմնանորոգում
E33: Միջոցառման նկարագրությունը`
E34: Եվրասիական զարգացման բանկի աջակցությամբ իրականացվող ոռոգման համակարգերի զարգացման ծրագիր
E35: Միջոցառման տեսակը
E36: Պետական մարմինների կողմից օգտագործվող ոչ ֆինանսական ակտիվների հետ գործառնություններ
C37: 1049 | E37: Ծրագրի անվանումը` | F37: =F44+F50+F56+F62+F68+F74+F80+F86+F92+F98+F104 -> -1681408.7
E38: Ճանապարհային ցանցի բարելավում
E39: Ծրագրի նպատակը`
E40: Ճանապարհային ցանցի բարելավում և անվտանգ երթևեկության ապահովում
E41: Վերջնական արդյունքի նկարագրությունը՝
E42: Ճանապարհների ծածկի որակի և փոխադրումների արդյունավետության բարելավում, ճանապարհների վիճակով պայմանավորված պատահարների նվազում
E43: Ծրագրի միջոցառումներ
D44: 11012 | E44: Միջոցառման անվանումը` | F44: =h4v!E48 -> -559000
E45: Եվրասիական զարգացման բանկի աջակցությամբ իրականացվող Հյուսիս-հարավ միջանցքի զարգացման ծրագրի համակարգում և կառավարում
E46: Միջոցառման նկարագրությունը`
E47: Խորհրդատվական ծառայություններ և պահպանման ծախսեր
E48: Միջոցառման տեսակը
E49: Ծառայությունների մատուցում
D50: 21001 | E50: Միջոցառման անվանումը` | F50: ='h3'!D14 -> -2047058.7
E51: Պետական նշանակության ավտոճանապարհների հիմնանորոգում
E52: Միջոցառման նկարագրությունը`
E53: Միջպետական, հանրապետական և մարզային նշանակության ավտոճոնապարհների քայքայված ծածկի վերանորոգում, մաշված ծածկի փոխարինում
E54: Միջոցառման տեսակը
E55: Հանրության կողմից անմիջականորեն օգտագործվող ակտիվների հետ կապված միջոցառումներ
D56: 21002 | E56: Միջոցառման անվանումը` | F56: ='h3'!D36 -> -34480
E57: Տրանսպորտային օբյեկտների հիմնանորոգում
E58: Միջոցառման նկարագրությունը`
E59: Ավտոմոբիլային ճանապարհների վրա գտնվող կամուրջների հիմնանորոգում
E60: Միջոցառման տեսակը
E61: Հանրության կողմից անմիջականորեն օգտագործվող ակտիվների հետ կապված միջոցառումներ
D62: 21004 | E62: Միջոցառման անվանումը` | F62: =h4v!E57 -> -8000
E63: Ասիական զարգացման բանկի աջակցությամբ իրականացվող Մ6 Վանաձոր-Ալավերդի-Վրաստանի սահման միջպետական նշանակության ճանապարհի ծրագրի կառուցում և հիմնանորոգում
E64: Միջոցառման նկարագրությունը`
E65: Ճանապարհաշինական աշխատանքներ
E66: Միջոցառման տեսակը
E67: Հանրության կողմից անմիջականորեն օգտագործվող ակտիվների հետ կապված միջոցառումներ
D68: 21006 | E68: Միջոցառման անվանումը` | F68: =h4v!E68 -> 1258000
E69: Ասիական զարգացման բանկի աջակցությամբ իրականացվող Հյուսիս-հարավ միջանցքի զարգացման վարկային ծրագիր, Տրանշ 2
E70: Միջոցառման նկարագրությունը`
E71: Աշտարակ-Թալին 29+600կմ-71+500կմ հատվածի կառուցում
E72: Միջոցառման տեսակը
E73: Հանրության կողմից անմիջականորեն օգտագործվող ակտիվների հետ կապված միջոցառումներ
D74: 21007 | E74: Միջոցառման անվանումը` | F74: =h5d!H18 -> -283000
E75: Եվրոպական ներդրումային բանկի աջակցությամբ իրականացվող Հյուսիս-հարավ միջանցքի զարգացման դրամաշնորհային ծրագիր, Տրանշ 3
E76: Միջոցառման նկարագրությունը`
E77: Լանջիկ-Գյումրի 2.75 կմ երկարությամբ ճանապարհային հատվածի կառուցում
E78: Միջոցառման տեսակը
E79: Հանրության կողմից անմիջականորեն օգտագործվող ակտիվների հետ կապված միջոցառումներ
D80: 21009 | E80: Միջոցառման անվանումը` | F80: =h4v!E79 -> -30000
E81: Եվրոպական ներդրումային բանկի աջակցությամբ իրականացվող Հյուսիս-հարավ միջանցքի զարգացման վարկային ծրագիր, Տրանշ 3
E82: Միջոցառման նկարագրությունը`
E83: Լանջիկ-Գյումրի 27.47 կմ երկարությամբ ճանապարհային հատվածի կառուցում
E84: Միջոցառման տեսակը
E85: Հանրության կողմից անմիջականորեն օգտագործվող ակտիվների հետ կապված միջոցառումներ
D86: 21011 | E86: Միջոցառման անվանումը` | F86: =h4v!E88 -> -263000
E87: Ասիական զարգացման բանկի աջակցությամբ իրականացվող Հյուսիս-հարավ միջանցքի զարգացման վարկային ծրագիր, Տրանշ 3
E88: Միջոցառման նկարագրությունը`
E89: Հատված Թալին-Լանջիկ 71+500 կմ-90+200 կմ կառուցման շինարարական աշխատանքներ
E90: Միջոցառման տեսակը
E91: Հանրության կողմից անմիջականորեն օգտագործվող ակտիվների հետ կապված միջոցառումներ
D92: 21012 | E92: Միջոցառման անվանումը` | F92: =h4v!E99 -> -149900
E93: Եվրասիական զարգացման բանկի աջակցությամբ իրականացվող Հյուսիս-հարավ միջանցքի զարգացման ծրագիր
E94: Միջոցառման նկարագրությունը`
E95: Ճանապարհաշինական աշխատանքներ
E96: Միջոցառման տեսակը
E97: Հանրության կողմից անմիջականորեն օգտագործվող ակտիվների հետ կապված միջոցառումներ
D98: 21014 | E98: Միջոցառման անվանումը` | F98: =h5d!H27 -> 606513.2
E99: Եվրոպական ներդրումային բանկի աջակցությամբ իրականացվող Մ6 Վանաձոր-Ալավերդի-Վրաստանի սահման միջպետական նշանակության ճանապարհի անվտանգության բարելավման դրամաշնորհային ծրագիր
E100: Միջոցառման նկարագրությունը`
E101: Ճանապարհաշինական աշխատանքներ
...

Sheet 3-1
B1: Հավելված N3
B2: ՀՀ կառավարության 2022 թվականի
B3: ______________ ի ___Ն որոշման
B5: ՀԱՅԱՍՏԱՆԻ ՀԱՆՐԱՊԵՏՈՒԹՅԱՆ ԿԱՌԱՎԱՐՈՒԹՅԱՆ 2021 ԹՎԱԿԱՆԻ ԴԵԿՏԵՄԲԵՐԻ 23-Ի N 2121-Ն ՈՐՈՇՄԱՆ N 3 ԵՎ N 4 ՀԱՎԵԼՎԱԾՆԵՐՈՒՄ ԿԱՏԱՐՎՈՂ ՓՈՓՈԽՈՒԹՅՈՒՆՆԵՐԸ ԵՎ ԼՐԱՑՈՒՄՆԵՐԸ
H7: հազ. դրամ
B8: Գործառական դասիչը | E8: Ծրագրային դասիչը | G8: Բյուջետային ծախսերի գործառական դասակարգման բաժինների, խմբերի և դասերի, բյուջետային հատկացումների գլխավոր կարգադրիչների, ծրագրերի, միջոցառումների և միջոցառումները կատարող պետական մարմինների անվանումները | H8: Ցուցանիշների փոփոխությունը (ավելացումները նշված են դրական նշանով, իսկ նվազեցումները` փակագծերում)
B9: Բաժին | C9: Խումբ | D9: Դաս | E9: Ծրագիր | F9: Միջոցառում | H9: Ինն ամիս | I9: Տարի
G10: ԸՆԴԱՄԵՆԸ ԾԱԽՍԵՐ | H10: =+H12+H13 -> 14976.427 | I10: =+I12+I13 -> -363431.87
G11: այդ թվում`
B12: 04 | C12: 03 | D12: 05 | E12: 1167 | F12: 11006 | G12: Գերմանիայի զարգացման վարկերի բանկի (KFW)) աջակցությամբ իրականացվող «Կովկասյան էլեկտրահաղորդման ցանց I» Հայաստան-Վրաստան հաղորդիչ գիծ/ենթակայանների դրամաշնորհային ծրագիր | H12: 14976.427 | I12: -25089.77
B13: 04 | C13: 03 | D13: 05 | E13: 1167 | F13: 32006 | G13: Գերմանիայի զարգացման վարկերի բանկի (KFW) աջակցությամբ իրականացվող Կովկասյան էլեկտրահաղորդման ցանց I Հայաստան-Վրաստան հաղորդիչ գիծ/ենթակայանների դրամաշնորհային ծրագրի շրջանակներում իրականացվող ներդրումներ | H13: 0 | I13: -338342.1

Sheet h2
B1: Հավելված N 2
B2: ՀՀ կառավարության 2023 թվականի
B3: ______________ ի ___Ն որոշման
B5: ՀԱՅԱՍՏԱՆԻ ՀԱՆՐԱՊԵՏՈՒԹՅԱՆ ԿԱՌԱՎԱՐՈՒԹՅԱՆ 2022 ԹՎԱԿԱՆԻ ԴԵԿՏԵՄԲԵՐԻ 29-Ի N 2111-Ն ՈՐՈՇՄԱՆ N 3 ԵՎ N 4 ՀԱՎԵԼՎԱԾՆԵՐՈՒՄ ԿԱՏԱՐՎՈՂ ՓՈՓՈԽՈՒԹՅՈՒՆՆԵՐԸ ԵՎ ԼՐԱՑՈՒՄՆԵՐԸ
B8: Գործառական դասիչը | E8: Ծրագրային դասիչը | G8: Բյուջետային ծախսերի գործառական դասակարգման բաժինների, խմբերի և դասերի, բյուջետային հատկացումների գլխավոր կարգադրիչների, ծրագրերի, միջոցառումների և միջոցառումները կատարող պետական մարմինների անվանումները | H8: Ցուցանիշների փոփոխությունը (ավելացումները նշված են դրական նշանով, իսկ նվազեցումները` փակագծերում)
B9: Բաժին | C9: Խումբ | D9: Դաս | E9: Ծրագիր | F9: Միջոցառում | H9: Տարի
G10: ԸՆԴԱՄԵՆԸ ԾԱԽՍԵՐ | H10: =H12+H592+H610 -> 0
G11: այդ թվում`
G12: ՀՀ ՏԱՐԱԾՔԱՅԻՆ ԿԱՌԱՎԱՐՄԱՆ ԵՎ ԵՆԹԱԿԱՌՈՒՑՎԱԾՔՆԵՐԻ ՆԱԽԱՐԱՐՈՒԹՅՈՒՆ | H12: =H14+H240+H505+H524+H543 -> -454118.1
G13: այդ թվում`
B14: 01 | G14: ԸՆԴՀԱՆՈՒՐ ԲՆՈՒՅԹԻ ՀԱՆՐԱՅԻՆ ԾԱՌԱՅՈՒԹՅՈՒՆՆԵՐ | H14: =H16 -> 3881695.9
G15: այդ թվում՝
C16: 08 | G16: Կառավարության տարբեր մակարդակների միջև իրականացվող ընդհանուր բնույթի տրանսֆերտներ | H16: =H18 -> 3881695.9
G17: այդ թվում՝
D18: 01 | G18: Կառավարության տարբեր մակարդակների միջև իրականացվող ընդհանուր բնույթի տրանսֆերտներ | H18: =H22 -> 3881695.9
G19: այդ թվում՝
G20: ՀՀ տարածքային կառավարման և ենթակառուցվածքների նախարարություն | H20: =H22 -> 3881695.9
G21: այդ թվում՝
E22: 1212 | G22: Տարածքային զարգացում | H22: =H24+H103+H135+H144+H231 -> 3881695.9
G23: այդ թվում`
F24: 12007 | G24: ՀՀ մարզերին սուբվենցիաների տրամադրում՛ ենթակառուցվածքների զարգացման նպատակով_x000D_ | H24: =H33+H40+H47+H54+H61+H68+H75+H82+H89+H96+H26 -> 3277023.9
G25: այդ թվում` ըստ կատարողների
G26: ՀՀ կառավարություն | H26: =H28 -> -1742.7
G27: այդ թվում` բյուջետային ծախսերի տնտեսագիտական դասակարգման հոդվածներ
G28: ԸՆԴԱՄԵՆԸ ԾԱԽՍԵՐ | H28: =H29 -> -1742.7
G29: ԸՆԹԱՑԻԿ ԾԱԽՍԵՐ | H29: =H30 -> -1742.7
G30: ԴՐԱՄԱՇՆՈՐՀՆԵՐ | H30: =H31 -> -1742.7
G31: Կապիտալ դրամաշնորհներ պետական հատվածի այլ մակարդակներին | H31: =H32 -> -1742.7
G32: - Կապիտալ սուբվենցիաներ համայնքներին | H32: =հ7.!E16 -> -1742.7
G33: ՀՀ Արագածոտնի մարզպետի աշխատակազմ | H33: =H34 -> 390394.9
G34: այդ թվում` բյուջետային ծախսերի տնտեսագիտական դասակարգման հոդվածներ | H34: =H35 -> 390394.9
G35: ԸՆԴԱՄԵՆԸ ԾԱԽՍԵՐ | H35: =H36 -> 390394.9
G36: ԸՆԹԱՑԻԿ ԾԱԽՍԵՐ | H36: =H37 -> 390394.9
G37: ԴՐԱՄԱՇՆՈՐՀՆԵՐ | H37: =H38 -> 390394.9
G38: Կապիտալ դրամաշնորհներ պետական հատվածի այլ մակարդակներին | H38: =H39 -> 390394.9
G39: - Կապիտալ սուբվենցիաներ համայնքներին | H39: =հ7.!E17 -> 390394.9
G40: ՀՀ Արարատի մարզպետի աշխատակազմ | H40: =H42 -> 433631.5
G41: այդ թվում` բյուջետային ծախսերի տնտեսագիտական դասակարգման հոդվածներ
G42: ԸՆԴԱՄԵՆԸ ԾԱԽՍԵՐ | H42: =H43 -> 433631.5
G43: ԸՆԹԱՑԻԿ ԾԱԽՍԵՐ | H43: =H44 -> 433631.5
G44: ԴՐԱՄԱՇՆՈՐՀՆԵՐ | H44: =H45 -> 433631.5
G45: Կապիտալ դրամաշնորհներ պետական հատվածի այլ մակարդակներին | H45: =H46 -> 433631.5
G46: - Կապիտալ սուբվենցիաներ համայնքներին | H46: =հ7.!E23 -> 433631.5
G47: ՀՀ Արմավիրի մարզպետի աշխատակազմ | H47: =H49 -> 83135.7
G48: այդ թվում` բյուջետային ծախսերի տնտեսագիտական դասակարգման հոդվածներ
G49: ԸՆԴԱՄԵՆԸ ԾԱԽՍԵՐ | H49: =H50 -> 83135.7
G50: ԸՆԹԱՑԻԿ ԾԱԽՍԵՐ | H50: =H51 -> 83135.7
G51: ԴՐԱՄԱՇՆՈՐՀՆԵՐ | H51: =H52 -> 83135.7
G52: Կապիտալ դրամաշնորհներ պետական հատվածի այլ մակարդակներին | H52: =H53 -> 83135.7
G53: - Կապիտալ սուբվենցիաներ համայնքներին | H53: =հ7.!E33 -> 83135.7
G54: ՀՀ Գեղարքունիքի մարզպետի աշխատակազմ | H54: =H56 -> 57502.9
G55: այդ թվում` բյուջետային ծախսերի տնտեսագիտական դասակարգման հոդվածներ
G56: ԸՆԴԱՄԵՆԸ ԾԱԽՍԵՐ | H56: =H57 -> 57502.9
G57: ԸՆԹԱՑԻԿ ԾԱԽՍԵՐ | H57: =H58 -> 57502.9
G58: ԴՐԱՄԱՇՆՈՐՀՆԵՐ | H58: =H59 -> 57502.9
G59: Կապիտալ դրամաշնորհներ պետական հատվածի այլ մակարդակներին | H59: =H60 -> 57502.9
G60: - Կապիտալ սուբվենցիաներ համայնքներին | H60: =հ7.!E43 -> 57502.9
G61: ՀՀ Լոռու մարզպետի աշխատակազմ | H61: =H63 -> 295292.2
G62: այդ թվում` բյուջետային ծախսերի տնտեսագիտական դասակարգման հոդվածներ
G63: ԸՆԴԱՄԵՆԸ ԾԱԽՍԵՐ | H63: =H64 -> 295292.2
G64: ԸՆԹԱՑԻԿ ԾԱԽՍԵՐ | H64: =H65 -> 295292.2
G65: ԴՐԱՄԱՇՆՈՐՀՆԵՐ | H65: =H66 -> 295292.2
G66: Կապիտալ դրամաշնորհներ պետական հատվածի այլ մակարդակներին | H66: =H67 -> 295292.2
G67: - Կապիտալ սուբվենցիաներ համայնքներին | H67: =հ7.!E69 -> 295292.2
G68: ՀՀ Կոտայքի մարզպետի աշխատակազմ | H68: =H70 -> 647115.8
G69: այդ թվում` բյուջետային ծախսերի տնտեսագիտական դասակարգման հոդվածներ
G70: ԸՆԴԱՄԵՆԸ ԾԱԽՍԵՐ | H70: =H71 -> 647115.8
G71: ԸՆԹԱՑԻԿ ԾԱԽՍԵՐ | H71: =H72 -> 647115.8
G72: ԴՐԱՄԱՇՆՈՐՀՆԵՐ | H72: =H73 -> 647115.8
G73: Կապիտալ դրամաշնորհներ պետական հատվածի այլ մակարդակներին | H73: =H74 -> 647115.8
G74: - Կապիտալ սուբվենցիաներ համայնքներին | H74: =հ7.!E79 -> 647115.8
G75: ՀՀ Շիրակի մարզպետի աշխատակազմ | H75: =H76 -> 375478
G76: այդ թվում` բյուջետային ծախսերի տնտեսագիտական դասակարգման հոդվածներ | H76: =H77 -> 375478
G77: ԸՆԴԱՄԵՆԸ ԾԱԽՍԵՐ | H77: =H78 -> 375478
G78: ԸՆԹԱՑԻԿ ԾԱԽՍԵՐ | H78: =H79 -> 375478
G79: ԴՐԱՄԱՇՆՈՐՀՆԵՐ | H79: =H80 -> 375478
G80: Կապիտալ դրամաշնորհներ պետական հատվածի այլ մակարդակներին | H80: =H81 -> 375478
G81: - Կապիտալ սուբվենցիաներ համայնքներին | H81: =հ7.!E91 -> 375478
G82: ՀՀ Սյունիքի մարզպետի աշխատակազմ | H82: =H84 -> 159605.6
G83: այդ թվում` բյուջետային ծախսերի տնտեսագիտական դասակարգման հոդվածներ
G84: ԸՆԴԱՄԵՆԸ ԾԱԽՍԵՐ | H84: =H85 -> 159605.6
G85: ԸՆԹԱՑԻԿ ԾԱԽՍԵՐ | H85: =H86 -> 159605.6
G86: ԴՐԱՄԱՇՆՈՐՀՆԵՐ | H86: =H87 -> 159605.6
G87: Կապիտալ դրամաշնորհներ պետական հատվածի այլ մակարդակներին | H87: =H88 -> 159605.6
G88: - Կապիտալ սուբվենցիաներ համայնքներին | H88: =հ7.!E103 -> 159605.6
G89: ՀՀ Վայոց ձորի մարզպետի աշխատակազմ | H89: =H91 -> 16487.8
G90: այդ թվում` բյուջետային ծախսերի տնտեսագիտական դասակարգման հոդվածներ
G91: ԸՆԴԱՄԵՆԸ ԾԱԽՍԵՐ | H91: =H92 -> 16487.8
G92: ԸՆԹԱՑԻԿ ԾԱԽՍԵՐ | H92: =H93 -> 16487.8
G93: ԴՐԱՄԱՇՆՈՐՀՆԵՐ | H93: =H94 -> 16487.8
G94: Կապիտալ դրամաշնորհներ պետական հատվածի այլ մակարդակներին | H94: =H95 -> 16487.8
G95: - Կապիտալ սուբվենցիաներ համայնքներին | H95: =հ7.!E112 -> 16487.8
G96: ՀՀ Տավուշի մարզպետի աշխատակազմ | H96: =H98 -> 820122.2
G97: այդ թվում` բյուջետային ծախսերի տնտեսագիտական դասակարգման հոդվածներ
G98: ԸՆԴԱՄԵՆԸ ԾԱԽՍԵՐ | H98: =H99 -> 820122.2
G99: ԸՆԹԱՑԻԿ ԾԱԽՍԵՐ | H99: =H100 -> 820122.2
G100: ԴՐԱՄԱՇՆՈՐՀՆԵՐ | H100: =H101 -> 820122.2
G101: Կապիտալ դրամաշնորհներ պետական հատվածի այլ մակարդակներին | H101: =H102 -> 820122.2
G102: - Կապիտալ սուբվենցիաներ համայնքներին | H102: =հ7.!E115 -> 820122.2
F103: 12025 | G103: Մարզերում առաջնահերթ լուծում պահանջող հիմնախնդիրների լուծում | H103: =H105+H112+H121+H128 -> 44352
...

Sheet h3
A1: Հավելված N 3
A2: ՀՀ կառավարության 2023 թվականի
A3: -ի N -Ն որոշման
A5: «ՀԱՅԱՍՏԱՆԻ ՀԱՆՐԱՊԵՏՈՒԹՅԱՆ 2023 ԹՎԱԿԱՆԻ ՊԵՏԱԿԱՆ ԲՅՈՒՋԵԻ ՄԱՍԻՆ» ՀԱՅԱՍՏԱՆԻ ՀԱՆՐԱՊԵՏՈՒԹՅԱՆ ՕՐԵՆՔԻ N 1 ՀԱՎԵԼՎԱԾԻ N 3 ԱՂՅՈՒՍԱԿՈՒՄ ԿԱՏԱՐՎՈՂ ՓՈՓՈԽՈՒԹՅՈՒՆՆԵՐԸ
G6: (հազ. դրամ)
A7: Ծրագրային դասիչ | C7: Բյուջետային գլխավոր կարգադրիչների, ծրագրերի, միջոցառումների և ուղղությունների անվանումները | D7: Ցուցանիշների փոփոխությունը (ավելացումները նշված են դրական նշանով, իսկ նվազեցումները` փակագծերում)
D8: Ընդամենը | E8: այդ թվում՝
A9: Ծրագիր | B9: Միջոցառում | E9: Կառուցման աշխատանքներ | F9: Վերակառուցման, վերանորոգման և վերականգնման աշխատանքներ | G9: Նախագծահե- տազոտական, գեոդեզիա- քարտեզագրա- կան աշխա- տանքներ | H9: Ոչ ֆինանսական այլ ակտիվների ձեռքբերում
C10: ԸՆԴԱՄԵՆԸ | D10: =SUM(E10:H10) -> -4183959.3 | E10: =E12 -> -50469.9 | F10: =F12 -> -2760757 | G10: =G12 -> -770762.1 | H10: =H12 -> -601970.3
C11: այդ թվում՝
C12: ՀՀ ՏԱՐԱԾՔԱՅԻՆ ԿԱՌԱՎԱՐՄԱՆ ԵՎ ԵՆԹԱԿԱՌՈՒՑՎԱԾՔՆԵՐԻ ՆԱԽԱՐԱՐՈՒԹՅՈՒՆ | D12: =E12+F12+G12+H12 -> -4183959.3 | E12: =E43+E44+E46 -> -50469.9 | F12: =F14+F36+F41+F44+F47+F48 -> -2760757 | G12: =G14+G42 -> -770762.1 | H12: =H45+H49 -> -601970.3
C13: այդ թվում`
A14: 1049 | B14: 21001 | C14: Պետական նշանակության ավտոճանապարհների հիմնանորոգում | D14: =F14+G14 -> -2047058.7 | F14: =F16+F24+F31 -> -2046296.6 | G14: =G16 -> -762.1
C15: այդ թվում`
B16: 1 | C16: Միջպետական նշանակության ավտոճանապարհներ, այդ թվում | D16: =F16+G16 -> -408809.6 | F16: =SUM(F17:F23) -> -408047.5 | G16: =G17 -> -762.1
C17: /Մ-2/-Տաթև-Աղվանի-/Մ-2/(Սյունիք) միջպետական նշանակության ավտոճանապարհի կմ0+000-կմ19+500 հատվածի հիմնանորոգում | D17: =G17 -> -762.1 | G17: -762.1
C18: Մ-2, Երևան-Երասխ-Գորիս-Մեղրի-Իրանի սահման միջպետական նշանակության ավտոճանապարհի կմ297+800-կմ311+250 հատվածի հիմնանորոգման աշխատանքների (1-ին տեղամաս՝ կմ297+800-կմ301+820 հատված) | D18: =F18 -> -77199.9 | F18: -77199.9
C19: Մ-3, Թուրքիայի սահման-Մարգարա-Վանաձոր-Տաշիր-Վրաստանի սահման միջպետական նշանակության ավտոճանապարհի կմ2+000 - կմ10+500 հատվածի հիմնանորոգում | D19: =F19 -> -3841.2 | F19: -3841.2
C20: Մ-3, Թուրքիայի սահման-Մարգարա-Վանաձոր-Տաշիր-Վրաստանի սահման միջպետական նշանակության ավտոճանապարհի կմ39+500-կմ45+300 հատվածի հիմնանորոգում | D20: =F20 -> -6488.9 | F20: -6488.9
C21: Մ-3, Թուրքիայի սահման-Մարգարա-Վանաձոր-Տաշիր-Վրաստանի սահման միջպետական նշանակության ավտոճանապարհի կմ97+020-կմ104+700 հատվածի հիմնանորոգում | D21: =F21 -> -19545.2 | F21: -19545.2
C22: Մ-6, Վանաձոր – Ալավերդի – Վրաստանի սահման միջպետական նշանակության ավտոճանապարհի ՊԿ384+50 - ՊԿ481+40 /ՊԿ467+50 – ՊԿ473+61/ տեղամասի (Օձունի խաչմերուկի /Մ6 և Հ35/ ավտոճանապարհների փոխհատում) վերականգնում և բարելավում | D22: =F22 -> -286539.9 | F22: -286539.9
C23: Մ-10, Սևան-Մարտունի-Գետափ միջպետական նշանակության ավտոճանապարհի կմ1+000-կմ17+000 հատվածի հիմնանորոգում (բացառությամբ կմ2+800-կմ5+300, կմ5+750-կմ5+886 և կմ6+850-կմ7+034 հատվածների) | D23: =F23 -> -14432.4 | F23: -14432.4
B24: 2 | C24: Հանրապետական նշանակության ավտոճանապարհներ, այդ թվում | D24: =F24 -> -753114.5 | E24: =E25+E26+E27+E30 -> 0 | F24: =SUM(F25:F30) -> -753114.5 | G24: =G25+G26+G29+G30 -> 0 | H24: =H25+H26+H27+H29+H30 -> 0
C25: Հ-1, Վ. Պտղնու տրանսպորտային հանգույց - Ջրաբեր-Հրազդան -Հրազդանի քրեակատարողական հիմնարկ հանրապետական նշանակության ավտոճանապարհի կմ33+500 - կմ37+700 հատվածի հիմնանորոգում | D25: =F25 -> -642578.2 | E25: 0 | F25: -642578.2 | G25: 0 | H25: 0
C26: Հ-2, /Հ-1/ Աբովյան- Արզնի-/Հ-6/ (Նոր Գեղի) հանրապետական նշանակության ավտոճանապարհի կմ0+000-կմ1+400 հատվածի հիմնանորոգում | D26: =F26 -> -3588.9 | E26: 0 | F26: -3588.9 | G26: 0 | H26: 0
C27: Հ-5, /Հ-6/-Նոր Գեղի-Արգել-Արզական-Հրազդան հանրապետական նշանակության ավտոճանապարհի կմ0+000 - կմ10+000 հատվածի հիմնանորոգում | D27: =F27 -> -86584.1 | E27: 0 | F27: -86584.1 | G27: 0 | H27: 0
C28: Հ-4, Երևան - Եղվարդ - Արագյուղ - Հարթավան - /Մ-3/ հանրապետական նշանակության ավտոճանապարհի կմ0+000-կմ15+600 հատվածի հիմնանորոգում | D28: =F28 -> -2073 | F28: -2073
C29: Հ-39, /Մ-10/ - Գավառ - /Մ-10/ հանրապետական նշանակության ավտոճանապարհի կմ4+300-կմ7+700 հատվածի հիմնանորոգում | D29: =F29 -> -7069.7 | E29: 0 | F29: -7069.7 | G29: 0 | H29: 0
C30: Հ-64, Բերդ - Արծվաբերդ - Չինարի հանրապետական նշանակության ավտոճանապարհի 18-րդ կիլոմետրում փլուզված հողային պաստառի վերականգնում | D30: =F30 -> -11220.6 | E30: 0 | F30: -11220.6 | G30: 0 | H30: 0
B31: 3 | C31: Մարզային նշանակության ավտոճանապարհներ, այդ թվում | D31: =F31 -> -885134.6 | F31: =SUM(F32:F35) -> -885134.6
C32: Տ-1-50, /Մ-3/ - Լեռնապար ավտոճանապարհի կմ0+000 - կմ3+800 հատվածի հիմնանորոգում | D32: =F32 -> -408 | E32: 0 | F32: -408 | G32: 0 | H32: 0
C33: Տ-8-52 տեղական նշանակության ավտոճանապարհի կմ 8+100-կմ 10+400 (Տ-8-48-ի հետ հատման կետ) և Տ-8-48 տեղական նշանակության ավտոճանապարհի կմ 5+600- կմ 11+200 (Տ-8-49-ի հետ հատման կետ) հատվածների անցանելիության ապահովում և ոլորանների պարամետրերի բարելավում | D33: =F33 -> -50061.6 | E33: 0 | F33: -50061.6 | G33: 0 | H33: 0
C34: Վանաձոր քաղաքային համայնքի Խորենացի փողոցի (երկու երթևեկելի գոիտիներ /0.4կմ+0.4կմ/) հիմնանորոգում | D34: =F34 -> -9838.6 | F34: -9838.6
C35: Որոտան-Խոտ ավտոճանապարհի վերակառուցում | D35: =F35 -> -824826.4 | F35: -824826.4
A36: 1049 | B36: 21002 | C36: Տրանսպորտային օբյեկտների հիմնանորոգում, այդ թվում | D36: =F36 -> -34480 | E36: =E37+E39+E40 -> 0 | F36: =SUM(F37:F40) -> -34480 | G36: 0 | H36: 0
C37: Մ-4, Երևան - Սևան - Իջևան - Ադրբեջանի սահման կմ104+300 հատվածում գտնվող կամուրջի վերանորոգում | D37: =F37 -> -999.1 | E37: 0 | F37: -999.1 | G37: 0 | H37: 0
C38: Մ-10, Սևան-Մարտունի-Գետափ Կմ 123+500 (Գետափ բնակավայրի դպրոցի մոտ) վերգետնյա հետիոտնային անցման կառուցում | D38: =F38 -> -1087.3 | F38: -1087.3
C39: Տ-2-13, Արգավանդ – Հայանիստ – Հովտաշատ - Արմավիրի մարզի սահման մարզային նշանակության ավտոճանապարհի կմ4+000 կամրջի հիմնանորոգում | D39: =F39 -> -27.7 | E39: 0 | F39: -27.7 | G39: 0 | H39: 0
C40: Մ-3, Թուրքիայի սահման-Մարգարա-Վանաձոր-Տաշիր-Վրաստանի սահման միջպետական նշանակության ավտոճանապարհի կմ11+400 հատվածում գտնվող կամրջի հիմնանորոգում | D40: =F40 -> -32365.9 | E40: 0 | F40: -32365.9 | G40: 0 | H40: 0
A41: 1049 | B41: 21020 | C41: Միջպետական և հանրապետական նշանակության ավտոճանապարհների միջին նորոգում | D41: =F41 -> -171483.2 | E41: 0 | F41: -171483.2 | G41: 0 | H41: 0
A42: 1157 | B42: 21002 | C42: Երևանի մետրոպոլիտենի ենթակառուցվածքների կառուցում | D42: =E42+F42+G42+H42 -> -770000 | G42: ='h2'!H487 -> -770000
A43: 1157 | B43: 21031 | C43: Նոր Խարբերդ թաղամասում գազատարի կառուցման աշխատանքներ | D43: =E43 -> -2378 | E43: ='h1'!F147 -> -2378 | F43: 0 | G43: 0 | H43: 0
A44: 1157 | B44: 21032 | C44: Երևան քաղաքում ճանապարհների կառուցման և միջին նորոգման աշխատանքներ | D44: =E44+F44+G44+H44 -> -249717.6 | E44: ='h2'!H482 -> -3120 | F44: ='h2'!H481 -> -246597.6 | G44: 0 | H44: ='h1'!F159 -> 0
A45: 1157 | B45: 21033 | C45: Երևան քաղաքի բազմաբնակարան շենքերի վերելակների արդիականացում | D45: =E45+F45+G45+H45 -> -627770.3 | E45: 0 | F45: 0 | G45: 0 | H45: ='h1'!F160 -> -627770.3
A46: 1157 | B46: 21034 | C46: Երևան քաղաքի կոյուղատար համակարգի արդիականացման և ընդլայնման աշխատանքներ | D46: =E46 -> -44971.9 | E46: ='h1'!F165 -> -44971.9 | F46: 0 | G46: 0 | H46: 0
A47: 1157 | B47: 21036 | C47: Երևան քաղաքում հանգստի գոտիների և այգիների կառուցման և հիմնանորոգման աշխատանքներ | D47: =E47+F47+G47+H47 -> -155751 | E47: 0 | F47: ='h1'!F171 -> -155751 | G47: 0 | H47: 0
A48: 1157 | B48: 21037 | C48: Երևան քաղաքի նախադպրոցական ուսումնական հաստատությունների կառուցման և հիմնանորոգման աշխատանքներ | D48: =E48+F48+G48+H48 -> -106148.6 | E48: 0 | F48: ='h1'!F177 -> -106148.6 | G48: 0 | H48: 0
A49: 1212 | B49: 32001 | C49: ՀՀ մարզերում առաջնահերթ լուծում պահանջող անհետաձգելի ծրագրերի իրականացում | D49: =SUM(E49:H49) -> 25800 | E49: 0 | F49: 0 | G49: 0 | H49: ='h2'!H231 -> 25800

Sheet h4v
G1: Հավելված N4
G2: ՀՀ կառավարության 2023 թվականի
G3: ______________ ի ___Ն որոշման
B5: «ՀԱՅԱUՏԱՆԻ ՀԱՆՐԱՊԵՏՈՒԹՅԱՆ 2023 ԹՎԱԿԱՆԻ ՊԵՏԱԿԱՆ ԲՅՈՒՋԵԻ ՄԱUԻՆ» OՐԵՆՔԻ N 1 ՀԱՎԵԼՎԱԾԻ N 4 ԱՂՅՈՒՍԱԿՈՒՄ ԵՎ ՀԱՅԱՍՏԱՆԻ ՀԱՆՐԱՊԵՏՈՒԹՅԱՆ ԿԱՌԱՎԱՐՈՒԹՅԱՆ 2022 ԹՎԱԿԱՆԻ ԴԵԿՏԵՄԲԵՐԻ 29-Ի N 2111-Ն ՈՐՈՇՄԱՆ N 5 ՀԱՎԵԼՎԱԾԻ N 3 ԱՂՅՈՒՍԱԿՈՒՄ ԿԱՏԱՐՎՈՂ ՓՈՓՈԽՈՒԹՅՈՒՆՆԵՐԸ ԵՎ ԼՐԱՑՈՒՄՆԵՐԸ
G6: հազ. դրամ
B7: Ծրագրային դասիչը | D7: Բյուջետային գլխավոր կարգադրիչների, ծրագրերի և միջոցառումների անվանումները | E7: Ցուցանիշների փոփոխությունը (ավելացումները նշված են դրական նշանով, իսկ նվազեցումները` փակագծերում)
E8: Տարի
E9: Ընդամենը | F9: այդ թվում`
B10: Ծրագիր | C10: Միջոցառում | F10: Վարկային միջոցներ | G10: Համաֆինան սավորում
D11: ԸՆԴԱՄԵՆԸ_x000D_ | E11: =E13+E14 -> -411865.8 | F11: =F13+F14 -> 0 | G11: =G13+G14 -> -411865.8
D12: այդ թվում`
D13: ԸՆԹԱՑԻԿ ԾԱԽՍԵՐ | E13: =E24+E53+E115+E123 -> -701965.8 | F13: =F24+F53+F115+F123 -> -115000 | G13: =G24+G53+G115+G123 -> -586965.8
D14: - ՈՉ ՖԻՆԱՆՍԱԿԱՆ ԱԿՏԻՎՆԵՐԻ ԳԾՈՎ ԾԱԽՍԵՐ | E14: =E42+E33+E62+E73+E84+E93+E104+E132+E143+E156 -> 290100 | F14: =F42+F33+F62+F73+F84+F93+F104+F132+F143+F156 -> 115000 | G14: =G42+G33+G62+G73+G84+G93+G104+G132+G143+G156 -> 175100
D15: ՀՀ ՏԱՐԱԾՔԱՅԻՆ ԿԱՌԱՎԱՐՄԱՆ ԵՎ ԵՆԹԱԿԱՌՈՒՑՎԱԾՔՆԵՐԻ ՆԱԽԱՐԱՐՈՒԹՅՈՒՆ_x000D_ | E15: =E17+E46+E108+E136 -> 103134.2 | F15: =F17+F46+F108+F136 -> 515000 | G15: =G17+G46+G108+G136 -> -411865.8
D16: այդ թվում`
B17: 1004 | D17: Ոռոգման համակարգի առողջացում | E17: =E19+E28+E37 -> -176500 | F17: =F19+F28+F37 -> -125000 | G17: =G19+G28+G37 -> -51500
D18: այդ թվում`
C19: 11010 | D19: Գերմանիայի զարգացման վարկերի բանկի աջակցությամբ իրականացվող Ախուրյան գետի ջրային ռեսուրսների ինտեգրացված կառավարում փուլ 1 ծրագրով Ջրաձոր գյուղի վերաբնակեցման գործողությունների խորհրդատվություն և կառավարում | E19: =F19+G19 -> -13500 | F19: =F21 -> 0 | G19: =G21 -> -13500
D20: այդ թվում` ըստ կատարողների
D21: ՀՀ տարածքային կառավարման և ենթակառուցվածքների նախարարության ջրային կոմիտե | E21: =F21+G21 -> -13500 | F21: =F23 -> 0 | G21: =G27 -> -13500
D22: այդ թվում` բյուջետային ծախսերի տնտեսագիտական դասակարգման հոդվածներ
D23: ԸՆԴԱՄԵՆԸ ԾԱԽՍԵՐ | E23: =F23+G23 -> -13500 | F23: =F27 -> 0 | G23: =G27 -> -13500
D24: ԸՆԹԱՑԻԿ ԾԱԽՍԵՐ | E24: =F24+G24 -> -13500 | F24: =F27 -> 0 | G24: =G27 -> -13500
D25: ԴՐԱՄԱՇՆՈՐՀՆԵՐ | E25: =F25+G25 -> -13500 | F25: =F27 -> 0 | G25: =G27 -> -13500
D26: Ընթացիկ դրամաշնորհներ պետական հատվածի այլ մակարդակներին | E26: =F26+G26 -> -13500 | F26: =F27 -> 0 | G26: =G27 -> -13500
D27: -Այլ ընթացիկ դրամաշնորհներ | E27: =F27+G27 -> -13500 | F27: 0 | G27: -13500
C28: 31001 | D28: Ֆրանսիայի Հանրապետության կառավարության աջակցությամբ իրականացվող Վեդու ջրամբարի և ոռոգման համակարգի կառուցում | E28: =F28+G28 -> -139000 | F28: =F30 -> -95000 | G28: =G30 -> -44000
D29: այդ թվում` ըստ կատարողների
D30: ՀՀ տարածքային կառավարման և ենթակառուցվածքների նախարարության ջրային կոմիտե | E30: =F30+G30 -> -139000 | F30: =F32 -> -95000 | G30: =G32 -> -44000
D31: այդ թվում` բյուջետային ծախսերի տնտեսագիտական դասակարգման հոդվածներ
D32: ԸՆԴԱՄԵՆԸ ԾԱԽՍԵՐ | E32: =F32+G32 -> -139000 | F32: =F33 -> -95000 | G32: =G33 -> -44000
D33: ՈՉ ՖԻՆԱՆՍԱԿԱՆ ԱԿՏԻՎՆԵՐԻ ԳԾՈՎ ԾԱԽՍԵՐ | E33: =F33+G33 -> -139000 | F33: =F34 -> -95000 | G33: =G34 -> -44000
D34: ՀԻՄՆԱԿԱՆ ՄԻՋՈՑՆԵՐ | E34: =F34+G34 -> -139000 | F34: =F35 -> -95000 | G34: =G35 -> -44000
D35: ՇԵՆՔԵՐ ԵՎ ՇԻՆՈՒԹՅՈՒՆՆԵՐ | E35: =F35+G35 -> -139000 | F35: =F36 -> -95000 | G35: =G36 -> -44000
D36: - Շենքերի և շինությունների շինարարություն | E36: =F36+G36 -> -139000 | F36: -95000 | G36: -44000
C37: 31005 | D37: Եվրասիական զարգացման բանկի աջակցությամբ իրականացվող ոռոգման համակարգերի զարգացման ծրագրի շրջանակներում ջրային տնտեսության ենթակառուցվածքների հիմնանորոգում | E37: =F37+G37 -> -24000 | F37: =F43 -> -30000 | G37: =G45 -> 6000
D38: այդ թվում` ըստ կատարողների
D39: ՀՀ տարածքային կառավարման և ենթակառուցվածքների նախարարության ջրային կոմիտե | E39: =F39+G39 -> -24000 | F39: =F43 -> -30000 | G39: =G44 -> 6000
D40: այդ թվում` բյուջետային ծախսերի տնտեսագիտական դասակարգման հոդվածներ | E40: =F40+G40 -> -24000 | F40: -30000 | G40: =G45 -> 6000
D41: ԸՆԴԱՄԵՆԸ ԾԱԽՍԵՐ | E41: =F41+G41 -> -24000 | F41: =F45 -> -30000 | G41: =G45 -> 6000
D42: ՈՉ ՖԻՆԱՆՍԱԿԱՆ ԱԿՏԻՎՆԵՐԻ ԳԾՈՎ ԾԱԽՍԵՐ | E42: =F42+G42 -> -24000 | F42: -30000 | G42: =G45 -> 6000
D43: ՀԻՄՆԱԿԱՆ ՄԻՋՈՑՆԵՐ | E43: =F43+G43 -> -24000 | F43: =F45 -> -30000 | G43: =G45 -> 6000
D44: ՇԵՆՔԵՐ ԵՎ ՇԻՆՈՒԹՅՈՒՆՆԵՐ | E44: =F44+G44 -> -24000 | F44: =F45 -> -30000 | G44: =G45 -> 6000
D45: - Շենքերի և շինությունների շինարարություն | E45: =F45+G45 -> -24000 | F45: -30000 | G45: 6000
B46: 1049 | D46: Ճանապարհային ցանցի բարելավում | E46: =E57+E68+E79+E88+E99+E48 -> 248100 | F46: =F57+F68+F79+F88+F99+F48 -> 660000 | G46: =G57+G68+G79+G88+G99+G48 -> -411900
D47: այդ թվում՝
C48: 11012 | D48: Եվրասիական զարգացման բանկի աջակցությամբ իրականացվող Հյուսիս-հարավ միջանցքի զարգացման ծրագրի համակարգում և կառավարում | E48: =F48+G48 -> -559000 | F48: =F50 -> 0 | G48: =G50 -> -559000
D49: այդ թվում` ըստ կատարողների | E49: =F49+G49 -> 0
D50: ՀՀ տարածքային կառավարման և ենթակառուցվածքների նախարարություն | E50: =F50+G50 -> -559000 | F50: =F52 -> 0 | G50: =G52 -> -559000
D51: այդ թվում` բյուջետային ծախսերի տնտեսագիտական դասակարգման հոդվածներ | E51: =F51+G51 -> 0
D52: ԸՆԴԱՄԵՆԸ ԾԱԽՍԵՐ | E52: =F52+G52 -> -559000 | F52: =F53 -> 0 | G52: =G53 -> -559000
D53: ԸՆԹԱՑԻԿ ԾԱԽՍԵՐ | E53: =F53+G53 -> -559000 | F53: =F54 -> 0 | G53: =G54 -> -559000
D54: ԴՐԱՄԱՇՆՈՐՀՆԵՐ | E54: =F54+G54 -> -559000 | F54: =F55 -> 0 | G54: =G55 -> -559000
D55: Կապիտալ դրամաշնորհներ պետական հատվածի այլ մակարդակներին | E55: =F55+G55 -> -559000 | F55: =F56 -> 0 | G55: =G56 -> -559000
D56: - Այլ կապիտալ դրամաշնորհներ | E56: =F56+G56 -> -559000 | F56: 0 | G56: -559000
C57: 21004 | D57: Ասիական զարգացման բանկի աջակցությամբ իրականացվող Մ6 Վանաձոր-Ալավերդի-Վրաստանի սահման միջպետական նշանակության ճանապարհի ծրագրի կառուցում և հիմնանորոգում | E57: =+F57+G57 -> -8000 | F57: =+F59 -> -40000 | G57: =+G59 -> 32000
D58: այդ թվում` ըստ կատարողների
D59: ՀՀ տարածքային կառավարման և ենթակառուցվածքների նախարարություն | E59: =E61 -> -8000 | F59: =F61 -> -40000 | G59: =G61 -> 32000
D60: այդ թվում` բյուջետային ծախսերի տնտեսագիտական դասակարգման հոդվածներ
D61: ԸՆԴԱՄԵՆԸ ԾԱԽՍԵՐ | E61: =+F61+G61 -> -8000 | F61: =+F62 -> -40000 | G61: =+G62 -> 32000
D62: ՈՉ ՖԻՆԱՆՍԱԿԱՆ ԱԿՏԻՎՆԵՐԻ ԳԾՈՎ ԾԱԽՍԵՐ | E62: =F62+G62 -> -8000 | F62: =+F63 -> -40000 | G62: =+G63 -> 32000
D63: ՀԻՄՆԱԿԱՆ ՄԻՋՈՑՆԵՐ | E63: =+F63+G63 -> -8000 | F63: =F64+F66 -> -40000 | G63: =G64+G66 -> 32000
D64: ՇԵՆՔԵՐ ԵՎ ՇԻՆՈՒԹՅՈՒՆՆԵՐ | E64: =F64+G64 -> 145200 | F64: =+F65 -> 114000 | G64: =+G65 -> 31200
D65: - Շենքերի և շինությունների կապիտալ վերանորոգում | E65: =F65+G65 -> 145200 | F65: 114000 | G65: 31200
D66: ԱՅԼ ՀԻՄՆԱԿԱՆ ՄԻՋՈՑՆԵՐ | E66: =F66+G66 -> -153200 | F66: =F67 -> -154000 | G66: =G67 -> 800
D67: - Նախագծահետազոտական ծախսեր | E67: =F67+G67 -> -153200 | F67: -154000 | G67: 800
C68: 21006 | D68: Ասիական զարգացման բանկի աջակցությամբ իրականացվող Հյուսիս-հարավ միջանցքի զարգացման վարկային ծրագիր, Տրանշ 2 | E68: =+F68+G68 -> 1258000 | F68: =+F70 -> 1030000 | G68: =+G70 -> 228000
D69: այդ թվում` ըստ կատարողների
D70: ՀՀ տարածքային կառավարման և ենթակառուցվածքների նախարարություն | E70: =E72 -> 1258000 | F70: =F72 -> 1030000 | G70: =G72 -> 228000
D71: այդ թվում` բյուջետային ծախսերի տնտեսագիտական դասակարգման հոդվածներ
D72: ԸՆԴԱՄԵՆԸ ԾԱԽՍԵՐ | E72: =+F72+G72 -> 1258000 | F72: =+F73 -> 1030000 | G72: =+G73 -> 228000
D73: ՈՉ ՖԻՆԱՆՍԱԿԱՆ ԱԿՏԻՎՆԵՐԻ ԳԾՈՎ ԾԱԽՍԵՐ | E73: =F73+G73 -> 1258000 | F73: =+F74 -> 1030000 | G73: =+G74 -> 228000
D74: ՀԻՄՆԱԿԱՆ ՄԻՋՈՑՆԵՐ | E74: =+F74+G74 -> 1258000 | F74: =F77+F75 -> 1030000 | G74: =G75+G77 -> 228000
D75: ՇԵՆՔԵՐ ԵՎ ՇԻՆՈՒԹՅՈՒՆՆԵՐ | E75: =F75+G75 -> 1253000 | F75: =+F76 -> 1030000 | G75: =+G76 -> 223000
D76: - Շենքերի և շինությունների շինարարություն | E76: =F76+G76 -> 1253000 | F76: 1030000 | G76: 223000
D77: ԱՅԼ ՀԻՄՆԱԿԱՆ ՄԻՋՈՑՆԵՐ | E77: =F77+G77 -> 5000 | F77: =+F78 -> 0 | G77: =+G78 -> 5000
D78: - Նախագծահետազոտական ծախսեր | E78: =F78+G78 -> 5000 | F78: 0 | G78: 5000
C79: 21009 | D79: Եվրոպական ներդրումային բանկի աջակցությամբ իրականացվող Հյուսիս-հարավ միջանցքի զարգացման վարկային ծրագիր, Տրանշ 3 | E79: =+F79+G79 -> -30000 | F79: =+F81 -> -130000 | G79: =+G81 -> 100000
D80: այդ թվում` ըստ կատարողների
D81: ՀՀ տարածքային կառավարման և ենթակառուցվածքների նախարարություն | E81: =E83 -> -30000 | F81: =F83 -> -130000 | G81: =G83 -> 100000
D82: այդ թվում` բյուջետային ծախսերի տնտեսագիտական դասակարգման հոդվածներ
D83: ԸՆԴԱՄԵՆԸ ԾԱԽՍԵՐ | E83: =+F83+G83 -> -30000 | F83: =+F84 -> -130000 | G83: =+G84 -> 100000
D84: ՈՉ ՖԻՆԱՆՍԱԿԱՆ ԱԿՏԻՎՆԵՐԻ ԳԾՈՎ ԾԱԽՍԵՐ | E84: =F84+G84 -> -30000 | F84: =+F85 -> -130000 | G84: =+G85 -> 100000
D85: ՀԻՄՆԱԿԱՆ ՄԻՋՈՑՆԵՐ | E85: =+F85+G85 -> -30000 | F85: =F86 -> -130000 | G85: =G86 -> 100000
D86: ՇԵՆՔԵՐ ԵՎ ՇԻՆՈՒԹՅՈՒՆՆԵՐ | E86: =F86+G86 -> -30000 | F86: =+F87 -> -130000 | G86: =+G87 -> 100000
D87: - Շենքերի և շինությունների շինարարություն | E87: =F87+G87 -> -30000 | F87: -130000 | G87: 100000
C88: 21011 | D88: Ասիական զարգացման բանկի աջակցությամբ իրականացվող Հյուսիս-հարավ միջանցքի զարգացման վարկային ծրագիր, Տրանշ 3 | E88: =+F88+G88 -> -263000 | F88: =+F90 -> -200000 | G88: =+G90 -> -63000
D89: այդ թվում` ըստ կատարողների
D90: ՀՀ տարածքային կառավարման և ենթակառուցվածքների նախարարություն | E90: =E92 -> -263000 | F90: =F92 -> -200000 | G90: =G92 -> -63000
D91: այդ թվում` բյուջետային ծախսերի տնտեսագիտական դասակարգման հոդվածներ
D92: ԸՆԴԱՄԵՆԸ ԾԱԽՍԵՐ | E92: =+F92+G92 -> -263000 | F92: =+F93 -> -200000 | G92: =+G93 -> -63000
D93: ՈՉ ՖԻՆԱՆՍԱԿԱՆ ԱԿՏԻՎՆԵՐԻ ԳԾՈՎ ԾԱԽՍԵՐ | E93: =F93+G93 -> -263000 | F93: =+F94 -> -200000 | G93: =+G94 -> -63000
D94: ՀԻՄՆԱԿԱՆ ՄԻՋՈՑՆԵՐ | E94: =F94+G94 -> -263000 | F94: =F95+F97 -> -200000 | G94: =G95+G97 -> -63000
D95: ՇԵՆՔԵՐ ԵՎ ՇԻՆՈՒԹՅՈՒՆՆԵՐ | E95: =F95+G95 -> -242000 | F95: =+F96 -> -200000 | G95: =+G96 -> -42000
D96: - Շենքերի և շինությունների շինարարություն | E96: =F96+G96 -> -242000 | F96: -200000 | G96: -42000
D97: ԱՅԼ ՀԻՄՆԱԿԱՆ ՄԻՋՈՑՆԵՐ | E97: =F97+G97 -> -21000 | F97: =F98 -> 0 | G97: =G98 -> -21000
D98: - Նախագծահետազոտական ծախսեր | E98: =F98+G98 -> -21000 | F98: 0 | G98: -21000
C99: 21012 | D99: Եվրասիական զարգացման բանկի աջակցությամբ իրականացվող Հյուսիս-հարավ միջանցքի զարգացման ծրագիր | E99: =+F99+G99 -> -149900 | F99: =+F101 -> 0 | G99: =+G101 -> -149900
D100: այդ թվում` ըստ կատարողների
D101: ՀՀ տարածքային կառավարման և ենթակառուցվածքների նախարարություն | E101: =E103 -> -149900 | F101: =F103 -> 0 | G101: =G103 -> -149900
...

Sheet h5d
J1: Հավելված N5
J2: ՀՀ կառավարության 2023 թվականի
J3: ______________ ի ___Ն որոշման
B5: «ՀԱՅԱUՏԱՆԻ ՀԱՆՐԱՊԵՏՈՒԹՅԱՆ 2023 ԹՎԱԿԱՆԻ ՊԵՏԱԿԱՆ ԲՅՈՒՋԵԻ ՄԱUԻՆ» OՐԵՆՔԻ N 1 ՀԱՎԵԼՎԱԾԻ N 5 ԱՂՅՈՒՍԱԿՈՒՄ ԵՎ ՀԱՅԱՍՏԱՆԻ ՀԱՆՐԱՊԵՏՈՒԹՅԱՆ ԿԱՌԱՎԱՐՈՒԹՅԱՆ 2022 ԹՎԱԿԱՆԻ ԴԵԿՏԵՄԲԵՐԻ 29-Ի N 2111-Ն ՈՐՈՇՄԱՆ N 5 ՀԱՎԵԼՎԱԾԻ N 4 ԱՂՅՈՒՍԱԿՈՒՄ ԿԱՏԱՐՎՈՂ ՓՈՓՈԽՈՒԹՅՈՒՆՆԵՐԸ ԵՎ ԼՐԱՑՈՒՄՆԵՐԸ
J6: հազ. դրամ
B7: Ծրագրային դասիչը | D7: Բյուջետային գլխավոր կարգադրիչների, ծրագրերի և միջոցառումների անվանումները | E7: Ցուցանիշների փոփոխությունը (ավելացումները նշված են դրական նշանով, իսկ նվազեցումները` փակագծերում)
E8: Ինն ամիս | H8: Տարի
E9: Ընդամենը | F9: այդ թվում` | H9: Ընդամենը | I9: այդ թվում`
B10: Ծրագիր | C10: Միջոցառում | F10: Դրամաշնորհային միջոցներ | G10: Համաֆինան սավորում | I10: Դրամաշնորհային միջոցներ | J10: Համաֆինան սավորում
D11: ԸՆԴԱՄԵՆԸ | E11: =+F11+G11 -> #REF! | F11: =F13+F14 -> #REF! | G11: =G13+G14 -> #REF! | H11: =+I11+J11 -> -19188.9 | I11: =I13+I14 -> -4.7293724e-11 | J11: =J13+J14 -> -19188.9
D12: այդ թվում` | E12: =+F12+G12 -> 0
D13: ԸՆԹԱՑԻԿ ԾԱԽՍԵՐ | E13: =+F13+G13 -> #REF! | F13: =+#REF!+#REF!+#REF!+#REF!+#REF!+#REF!+#REF!+#REF!+#REF! -> #REF! | G13: =+#REF!+#REF!+#REF!+#REF!+#REF!+#REF!+#REF!+#REF!+#REF! -> #REF! | H13: =H43 -> -14522.1 | I13: =I43 -> -12513.2 | J13: =J43 -> -2008.9
D14: ՈՉ ՖԻՆԱՆՍԱԿԱՆ ԱԿՏԻՎՆԵՐԻ ԳԾՈՎ ԾԱԽՍԵՐ | E14: =+F14+G14 -> #REF! | F14: =+#REF!+#REF!+#REF!+#REF!+#REF!+#REF!+#REF!+#REF!+#REF!+#REF!+#REF!+#REF! -> #REF! | G14: =+#REF!+#REF!+#REF!+#REF!+#REF!+#REF!+#REF!+#REF!+#REF!+#REF!+#REF!+#REF! -> #REF! | H14: =H23+H32+H54 -> -4666.8 | I14: =I23+I32+I54 -> 12513.2 | J14: =J23+J32+J54 -> -17180
D15: ՀՀ ՏԱՐԱԾՔԱՅԻՆ ԿԱՌԱՎԱՐՄԱՆ ԵՎ ԵՆԹԱԿԱՌՈՒՑՎԱԾՔՆԵՐԻ ՆԱԽԱՐԱՐՈՒԹՅՈՒՆ | E15: =+F15+G15 -> #REF! | F15: =+#REF!+#REF!+#REF!+#REF!+#REF!+#REF! -> #REF! | G15: =+#REF!+#REF!+#REF!+#REF!+#REF!+#REF! -> #REF! | H15: =H16+H36 -> -19188.9 | I15: =I16+I36 -> 0 | J15: =J16+J36 -> -19188.9
B16: 1049 | D16: Ճանապարհային ցանցի բարելավում | H16: =H18+H27 -> 323513.2 | I16: =I18+I27 -> 323513.2 | J16: =J18+J27 -> 0
D17: այդ թվում`
C18: 21007 | D18: Եվրոպական ներդրումային բանկի աջակցությամբ իրականացվող Հյուսիս-հարավ միջանցքի զարգացման դրամաշնորհային ծրագիր, Տրանշ 3 | H18: =I18+J18 -> -283000 | I18: =I20 -> -283000 | J18: =J20 -> 0
D19: այդ թվում` ըստ կատարողների
D20: ՀՀ տարածքային կառավարման և ենթակառուցվածքների նախարարություն | H20: =I20+J20 -> -283000 | I20: =I22 -> -283000 | J20: =J22 -> 0
D21: այդ թվում` բյուջետային ծախսերի տնտեսագիտական դասակարգման հոդվածներ
D22: ԸՆԴԱՄԵՆԸ ԾԱԽՍԵՐ | H22: =I22+J22 -> -283000 | I22: =I23 -> -283000 | J22: =J23 -> 0
D23: ՈՉ ՖԻՆԱՆՍԱԿԱՆ ԱԿՏԻՎՆԵՐԻ ԳԾՈՎ ԾԱԽՍԵՐ | H23: =I23+J23 -> -283000 | I23: =I24 -> -283000 | J23: =J24 -> 0
D24: ՀԻՄՆԱԿԱՆ ՄԻՋՈՑՆԵՐ | H24: =I24+J24 -> -283000 | I24: =I25 -> -283000 | J24: =J25 -> 0
D25: ՇԵՆՔԵՐ ԵՎ ՇԻՆՈՒԹՅՈՒՆՆԵՐ | H25: =I25+J25 -> -283000 | I25: =I26 -> -283000 | J25: =J26 -> 0
D26: - Շենքերի և շինությունների շինարարություն | H26: =I26+J26 -> -283000 | I26: -283000 | J26: 0
C27: 21014 | D27: Եվրոպական ներդրումային բանկի աջակցությամբ իրականացվող Մ6 Վանաձոր-Ալավերդի-Վրաստանի սահման միջպետական նշանակության ճանապարհի անվտանգության բարելավման դրամաշնորհային ծրագիր | H27: =H29 -> 606513.2 | I27: =I29 -> 606513.2 | J27: =J29 -> 0
D28: այդ թվում` ըստ կատարողների
D29: ՀՀ տարածքային կառավարման և ենթակառուցվածքների նախարարություն | H29: =H31 -> 606513.2 | I29: =I31 -> 606513.2 | J29: =J31 -> 0
D30: այդ թվում` բյուջետային ծախսերի տնտեսագիտական դասակարգման հոդվածներ
D31: ԸՆԴԱՄԵՆԸ ԾԱԽՍԵՐ | H31: =I31+J31 -> 606513.2 | I31: =I32 -> 606513.2 | J31: =J32 -> 0
D32: ՈՉ ՖԻՆԱՆՍԱԿԱՆ ԱԿՏԻՎՆԵՐԻ ԳԾՈՎ ԾԱԽՍԵՐ | H32: =I32+J32 -> 606513.2 | I32: =I33 -> 606513.2 | J32: =J33 -> 0
D33: ՀԻՄՆԱԿԱՆ ՄԻՋՈՑՆԵՐ | H33: =I33+J33 -> 606513.2 | I33: =I34 -> 606513.2 | J33: =J34 -> 0
D34: ՇԵՆՔԵՐ ԵՎ ՇԻՆՈՒԹՅՈՒՆՆԵՐ | H34: =I34+J34 -> 606513.2 | I34: =I35 -> 606513.2 | J34: =J35 -> 0
D35: - Շենքերի և շինությունների շինարարություն | H35: =I35+J35 -> 606513.2 | I35: =-I36-I26 -> 606513.2 | J35: 0
B36: 1232 | D36: Էներգաարդյունավետության ծրագիր | H36: =H38+H49 -> -342702.1 | I36: =I38+I49 -> -323513.2 | J36: =J38+J49 -> -19188.9
D37: այդ թվում`
C38: 11001 | D38: Եվրասիական զարգացման բանկի աջակցությամբ իրականացվող հանրային շենքերում էներգախնայողության բարելավման և կանաչ էներգիայի զարգացմանը նպաստող դրամաշնորհային ծրագրի կառավարում | H38: =H40 -> -14522.1 | I38: =I40 -> -12513.2 | J38: =J40 -> -2008.9
D39: այդ թվում` ըստ կատարողների
D40: ՀՀ տարածքային կառավարման և ենթակառուցվածքների նախարարություն | H40: =H42 -> -14522.1 | I40: =I42 -> -12513.2 | J40: =J42 -> -2008.9
D41: այդ թվում` բյուջետային ծախսերի տնտեսագիտական դասակարգման հոդվածներ
D42: ԸՆԴԱՄԵՆԸ ԾԱԽՍԵՐ | H42: =H43 -> -14522.1 | I42: =I43 -> -12513.2 | J42: =J43 -> -2008.9
D43: ԸՆԹԱՑԻԿ ԾԱԽՍԵՐ | H43: =I43+J43 -> -14522.1 | I43: =I44+I47 -> -12513.2 | J43: =J44+J47 -> -2008.9
D44: Պայմանագրային այլ ծառայությունների ձեռքբերում | H44: =I44+J44 -> -3047.9 | I44: =I45+I46 -> -2643.2 | J44: =J45+J46 -> -404.7
D45: - Վարչական ծառայություններ | H45: =I45+J45 -> -619.6 | I45: -619.6 | J45: 0
D46: - Կառավարչական ծառայություններ | H46: =I46+J46 -> -2428.3 | I46: -2023.6 | J46: -404.7
D47: ԱՅԼ ԾԱԽՍԵՐ | H47: =I47+J47 -> -11474.2 | I47: =I48 -> -9870 | J47: =J48 -> -1604.2
D48: Այլ ծախսեր | H48: =I48+J48 -> -11474.2 | I48: -9870 | J48: -1604.2
C49: 32001 | D49: Եվրասիական զարգացման բանկի աջակցությամբ իրականացվողհանրային շենքերում էներգախնայողության բարեավման և կանաչ էներգիայի զարգացմանը նպաստող դրամաշնորհային ծրագրի շրջանակներում հիմնանորոգման աշխատանքներ | H49: =I49+J49 -> -328180 | I49: =I51 -> -311000 | J49: =J51 -> -17180
D50: այդ թվում` ըստ կատարողների
D51: ՀՀ տարածքային կառավարման և ենթակառուցվածքների նախարարություն | H51: =I51+J51 -> -328180 | I51: =I53 -> -311000 | J51: =J53 -> -17180
D52: այդ թվում` բյուջետային ծախսերի տնտեսագիտական դասակարգման հոդվածներ
D53: ԸՆԴԱՄԵՆԸ ԾԱԽՍԵՐ | H53: =I53+J53 -> -328180 | I53: =I54 -> -311000 | J53: =J54 -> -17180
D54: ՈՉ ՖԻՆԱՆՍԱԿԱՆ ԱԿՏԻՎՆԵՐԻ ԳԾՈՎ ԾԱԽՍԵՐ | H54: =I54+J54 -> -328180 | I54: =I55 -> -311000 | J54: =J55 -> -17180
D55: ՀԻՄՆԱԿԱՆ ՄԻՋՈՑՆԵՐ | H55: =I55+J55 -> -328180 | I55: =I56 -> -311000 | J55: =J56 -> -17180
D56: ՇԵՆՔԵՐ ԵՎ ՇԻՆՈՒԹՅՈՒՆՆԵՐ | H56: =I56+J56 -> -328180 | I56: =I57 -> -311000 | J56: =J57 -> -17180
D57: - Շենքերի և շինությունների կապիտալ վերանորոգում | H57: =I57+J57 -> -328180 | I57: -311000 | J57: -17180

Sheet h6
D1: Հավելված N6
D2: ՀՀ կառավարության 2023 թվականի
D3: ______________ ի ___Ն որոշման
A5: ՀԱՅԱUՏԱՆԻ ՀԱՆՐԱՊԵՏՈՒԹՅԱՆ ԿԱՌԱՎԱՐՈՒԹՅԱՆ 2022 ԹՎԱԿԱՆԻ ԴԵԿՏԵՄԲԵՐԻ 29-Ի N 2111-Ն ՈՐՈՇՄԱՆ N 5 ՀԱՎԵԼՎԱԾԻ N 2 ԱՂՅՈՒՍԱԿՈՒՄ ԿԱՏԱՐՎՈՂ ՓՈՓՈԽՈՒԹՅՈՒՆՆԵՐԸ ԵՎ ԼՐԱՑՈՒՄԸ
D6: հազար դրամներով
A7: Ծրագրային դասիչը | C7: Բյուջետային գլխավոր կարգադրիչների, ծրագրերի, միջոցառումների և ուղղությունների անվանումները | D7: Ցուցանիշների փոփոխությունը (ավելացումները նշված են դրական նշանով, իսկ նվազեցումները` փակագծերում)
A8: Ծրագիր | B8: Միջոց_x000D_առում | D8: Տարի
C9: ԸՆԴԱՄԵՆԸ | D9: =D11 -> -4183959.3
C10: այդ թվում`
C11: ՀՀ տարածքային կառավարման և ենթակառուցվածքների նախարարություն | D11: =D13+D37+D45+D48+D51+D54+D57+D60+D69+D63+D66 -> -4183959.3
C12: այդ թվում՝
A13: 1049 | B13: 21001 | C13: Պետական նշանակության ավտոճանապարհների հիմնանորոգում | D13: =D15 -> -2047058.7
C14: այդ թվում` ըստ կատարողների
C15: ՀՀ տարածքային կառավարման և ենթակառուցվածքների նախարարություն | D15: =D17+D25+D32 -> -2047058.7
C16: այդ թվում՝ ըստ ուղղությունների
B17: 1 | C17: Միջպետական նշանակության ավտոճանապարհներ, այդ թվում | D17: =SUM(D18:D24) -> -408809.6
C18: ='h3'!C17 -> /Մ-2/-Տաթև-Աղվանի-/Մ-2/(Սյունիք) միջպետական նշանակության ավտոճանապարհի կմ0+000-կմ19+500 հատվածի հիմնանորոգում | D18: ='h3'!D17 -> -762.1
C19: ='h3'!C18 -> Մ-2, Երևան-Երասխ-Գորիս-Մեղրի-Իրանի սահման միջպետական նշանակության ավտոճանապարհի կմ297+800-կմ311+250 հատվածի հիմնանորոգման աշխատանքների (1-ին տեղամաս՝ կմ297+800-կմ301+820 հատված) | D19: ='h3'!D18 -> -77199.9
C20: ='h3'!C19 -> Մ-3, Թուրքիայի սահման-Մարգարա-Վանաձոր-Տաշիր-Վրաստանի սահման միջպետական նշանակության ավտոճանապարհի կմ2+000 - կմ10+500 հատվածի հիմնանորոգում | D20: ='h3'!D19 -> -3841.2
C21: ='h3'!C20 -> Մ-3, Թուրքիայի սահման-Մարգարա-Վանաձոր-Տաշիր-Վրաստանի սահման միջպետական նշանակության ավտոճանապարհի կմ39+500-կմ45+300 հատվածի հիմնանորոգում | D21: ='h3'!D20 -> -6488.9
C22: ='h3'!C21 -> Մ-3, Թուրքիայի սահման-Մարգարա-Վանաձոր-Տաշիր-Վրաստանի սահման միջպետական նշանակության ավտոճանապարհի կմ97+020-կմ104+700 հատվածի հիմնանորոգում | D22: ='h3'!D21 -> -19545.2
C23: ='h3'!C22 -> Մ-6, Վանաձոր – Ալավերդի – Վրաստանի սահման միջպետական նշանակության ավտոճանապարհի ՊԿ384+50 - ՊԿ481+40 /ՊԿ467+50 – ՊԿ473+61/ տեղամասի (Օձունի խաչմերուկի /Մ6 և Հ35/ ավտոճանապարհների փոխհատում) վերականգնում և բարելավում | D23: ='h3'!D22 -> -286539.9
C24: ='h3'!C23 -> Մ-10, Սևան-Մարտունի-Գետափ միջպետական նշանակության ավտոճանապարհի կմ1+000-կմ17+000 հատվածի հիմնանորոգում (բացառությամբ կմ2+800-կմ5+300, կմ5+750-կմ5+886 և կմ6+850-կմ7+034 հատվածների) | D24: ='h3'!D23 -> -14432.4
B25: 2 | C25: Հանրապետական նշանակության ավտոճանապարհներ, այդ թվում | D25: =SUM(D26:D31) -> -753114.5
C26: ='h3'!C25 -> Հ-1, Վ. Պտղնու տրանսպորտային հանգույց - Ջրաբեր-Հրազդան -Հրազդանի քրեակատարողական հիմնարկ հանրապետական նշանակության ավտոճանապարհի կմ33+500 - կմ37+700 հատվածի հիմնանորոգում | D26: ='h3'!D25 -> -642578.2
C27: ='h3'!C26 -> Հ-2, /Հ-1/ Աբովյան- Արզնի-/Հ-6/ (Նոր Գեղի) հանրապետական նշանակության ավտոճանապարհի կմ0+000-կմ1+400 հատվածի հիմնանորոգում | D27: ='h3'!D26 -> -3588.9
C28: ='h3'!C27 -> Հ-5, /Հ-6/-Նոր Գեղի-Արգել-Արզական-Հրազդան հանրապետական նշանակության ավտոճանապարհի կմ0+000 - կմ10+000 հատվածի հիմնանորոգում | D28: ='h3'!D27 -> -86584.1
C29: ='h3'!C28 -> Հ-4, Երևան - Եղվարդ - Արագյուղ - Հարթավան - /Մ-3/ հանրապետական նշանակության ավտոճանապարհի կմ0+000-կմ15+600 հատվածի հիմնանորոգում | D29: ='h3'!D28 -> -2073
C30: ='h3'!C29 -> Հ-39, /Մ-10/ - Գավառ - /Մ-10/ հանրապետական նշանակության ավտոճանապարհի կմ4+300-կմ7+700 հատվածի հիմնանորոգում | D30: ='h3'!D29 -> -7069.7
C31: ='h3'!C30 -> Հ-64, Բերդ - Արծվաբերդ - Չինարի հանրապետական նշանակության ավտոճանապարհի 18-րդ կիլոմետրում փլուզված հողային պաստառի վերականգնում | D31: ='h3'!D30 -> -11220.6
B32: 3 | C32: Մարզային նշանակության ավտոճանապարհներ, այդ թվում | D32: =SUM(D33:D36) -> -885134.6
C33: ='h3'!C32 -> Տ-1-50, /Մ-3/ - Լեռնապար ավտոճանապարհի կմ0+000 - կմ3+800 հատվածի հիմնանորոգում | D33: ='h3'!D32 -> -408
C34: ='h3'!C33 -> Տ-8-52 տեղական նշանակության ավտոճանապարհի կմ 8+100-կմ 10+400 (Տ-8-48-ի հետ հատման կետ) և Տ-8-48 տեղական նշանակության ավտոճանապարհի կմ 5+600- կմ 11+200 (Տ-8-49-ի հետ հատման կետ) հատվածների անցանելիության ապահովում և ոլորանների պարամետրերի բարելավում | D34: ='h3'!D33 -> -50061.6
C35: ='h3'!C34 -> Վանաձոր քաղաքային համայնքի Խորենացի փողոցի (երկու երթևեկելի գոիտիներ /0.4կմ+0.4կմ/) հիմնանորոգում | D35: ='h3'!D34 -> -9838.6
C36: ='h3'!C35 -> Որոտան-Խոտ ավտոճանապարհի վերակառուցում | D36: ='h3'!D35 -> -824826.4
A37: 1049 | B37: 21002 | C37: Տրանսպորտային օբյեկտների հիմնանորոգում, այդ թվում | D37: =D39 -> -34480
C38: այդ թվում` ըստ կատարողների
C39: ՀՀ տարածքային կառավարման և ենթակառուցվածքների նախարարություն | D39: =SUM(D40:D44) -> -34480
C40: այդ թվում՝ ըստ ուղղությունների
C41: ='h3'!C37 -> Մ-4, Երևան - Սևան - Իջևան - Ադրբեջանի սահման կմ104+300 հատվածում գտնվող կամուրջի վերանորոգում | D41: ='h3'!D37 -> -999.1
C42: ='h3'!C38 -> Մ-10, Սևան-Մարտունի-Գետափ Կմ 123+500 (Գետափ բնակավայրի դպրոցի մոտ) վերգետնյա հետիոտնային անցման կառուցում | D42: ='h3'!D38 -> -1087.3
C43: ='h3'!C39 -> Տ-2-13, Արգավանդ – Հայանիստ – Հովտաշատ - Արմավիրի մարզի սահման մարզային նշանակության ավտոճանապարհի կմ4+000 կամրջի հիմնանորոգում | D43: ='h3'!D39 -> -27.7
C44: ='h3'!C40 -> Մ-3, Թուրքիայի սահման-Մարգարա-Վանաձոր-Տաշիր-Վրաստանի սահման միջպետական նշանակության ավտոճանապարհի կմ11+400 հատվածում գտնվող կամրջի հիմնանորոգում | D44: ='h3'!D40 -> -32365.9
A45: 1049 | B45: 21020 | C45: Միջպետական և հանրապետական նշանակության ավտոճանապարհների միջին նորոգում | D45: =D47 -> -171483.2
C46: այդ թվում` ըստ կատարողների
C47: ՀՀ կառավարություն | D47: ='h3'!D41 -> -171483.2
A48: 1157 | B48: 21002 | C48: Երևանի մետրոպոլիտենի ենթակառուցվածքների կառուցում | D48: =D50 -> -770000
C49: այդ թվում` ըստ կատարողների
C50: ՀՀ տարածքային կառավարման և ենթակառուցվածքների նախարարություն | D50: ='h2'!H487 -> -770000
A51: 1157 | B51: 21031 | C51: Նոր Խարբերդ թաղամասում գազատարի կառուցման աշխատանքներ | D51: =D53 -> -2378
C52: այդ թվում` ըստ կատարողների
C53: ՀՀ տարածքային կառավարման և ենթակառուցվածքների նախարարություն | D53: ='h3'!D43 -> -2378
A54: 1157 | B54: 21032 | C54: Երևան քաղաքում ճանապարհների կառուցման և միջին նորոգման աշխատանքներ | D54: =D56 -> -249717.6
C55: այդ թվում` ըստ կատարողների
C56: ՀՀ տարածքային կառավարման և ենթակառուցվածքների նախարարություն | D56: ='h1'!F154 -> -249717.6
A57: 1157 | B57: 21033 | C57: Երևան քաղաքի բազմաբնակարան շենքերի վերելակների արդիականացում | D57: =D59 -> -627770.3
C58: այդ թվում` ըստ կատարողների
C59: ՀՀ տարածքային կառավարման և ենթակառուցվածքների նախարարություն | D59: ='h3'!D45 -> -627770.3
A60: 1157 | B60: 21034 | C60: Երևան քաղաքի կոյուղատար համակարգի արդիականացման և ընդլայնման աշխատանքներ | D60: =D62 -> -44971.9
C61: այդ թվում` ըստ կատարողների
C62: ՀՀ տարածքային կառավարման և ենթակառուցվածքների նախարարություն | D62: ='h3'!E46 -> -44971.9
A63: 1157 | B63: 21036 | C63: Երևան քաղաքում հանգստի գոտիների և այգիների կառուցման և հիմնանորոգման աշխատանքներ | D63: =D65 -> -155751
C64: այդ թվում` ըստ կատարողների
C65: ՀՀ տարածքային կառավարման և ենթակառուցվածքների նախարարություն | D65: ='h1'!F171 -> -155751
A66: 1157 | B66: 21037 | C66: Երևան քաղաքի նախադպրոցական ուսումնական հաստատությունների կառուցման և հիմնանորոգման աշխատանքներ | D66: =D68 -> -106148.6
C67: այդ թվում` ըստ կատարողների
C68: ՀՀ տարածքային կառավարման և ենթակառուցվածքների նախարարություն | D68: ='h1'!F177 -> -106148.6
A69: 1212 | B69: 32001 | C69: ՀՀ մարզերում առաջնահերթ լուծում պահանջող անհետաձգելի ծրագրերի իրականացում | D69: =D71 -> 25800
C70: Այդ թվում՝ ըստ կատարողների
C71: ՀՀ Սյունիքի մարզպետի աշխատակազմ | D71: =D73 -> 25800
C72: այդ թվում՝ ըստ ուղղությունների
C73: Մեղրի համայնքի մանկապարտեզի օդորակաման սարքավորումների ձեռքբերում | D73: ='h2'!H231 -> 25800
C76: ՀԱՅԱՍՏԱՆԻ ՀԱՆՐԱՊԵՏՈՒԹՅԱՆ
C77: ՎԱՐՉԱՊԵՏԻ ԱՇԽԱՏԱԿԱԶՄԻ
C78: ՂԵԿԱՎԱՐ ՝

Sheet հ7.
E1: Հավելված № 7
E2: ՀՀ կառավարության 2023 թվականի
E3: -------------- ի № ---- -Ն որոշման
B5: «ՀԱՅԱՍՏԱՆԻ ՀԱՆՐԱՊԵՏՈՒԹՅԱՆ 2023 ԹՎԱԿԱՆԻ ՊԵՏԱԿԱՆ ԲՅՈՒՋԵԻ ՄԱՍԻՆ» ՕՐԵՆՔԻ N 1 ՀԱՎԵԼՎԱԾԻ N 7 ԱՂՅՈՒՍԱԿՈՒՄ ԵՎ ՀԱՅԱՍՏԱՆԻ ՀԱՆՐԱՊԵՏՈՒԹՅԱՆ ԿԱՌԱՎԱՐՈՒԹՅԱՆ 2022 ԹՎԱԿԱՆԻ ԴԵԿՏԵՄԲԵՐԻ 29-Ի N 2111-Ն ՈՐՈՇՄԱՆ N 5 ՀԱՎԵԼՎԱԾԻ N 6 ԱՂՅՈՒՍԱԿՈՒՄ ԿԱՏԱՐՎՈՂ ՓՈՓՈԽՈՒԹՅՈՒՆՆԵՐԸ ԵՎ ԼՐԱՑՈՒՄՆԵՐԸ
E6: հազար դրամ
B7: Ծրագրային դասիչը | D7: Բյուջետային հատկացումների գլխավոր կարգադրիչների, ծրագրերի, միջոցառումների և միջոցառումները կատարող պետական մարմինների անվանումները | E7: Ցուցանիշների փոփոխությունը (ավելացումները նշված են դրական նշանով, իսկ նվազեցումները` փակագծերում)
B8: Ծրագիր | C8: Միջոցառում | E8: Տարի
D9: ԸՆԴԱՄԵՆԸ | E9: =E10 -> 3276832.1
D10: ՀՀ տարածքային կառավարման և ենթակառուցվածքների նախարարություն | E10: =+E12 -> 3276832.1
D11: այդ թվում`
B12: 1212 | D12: Տարածքային զարգացում | E12: =+E14+E126+E135 -> 3276832.1
D13: այդ թվում`
C14: 12007 | D14: ՀՀ մարզերին սուբվենցիաների տրամադրում՝ ենթակառուցվածքների զարգացման նպատակով | E14: =E17+E23+E33+E43+E69+E79+E91+E103+E115+E112+E16 -> 3277023.9
D15: այդ թվում` ըստ կատարողների
D16: ՀՀ Կառավարություն | E16: -1742.7
D17: ՀՀ Արագածոտնի մարզպետի աշխատակազմ | E17: =SUM(E19:E22) -> 390394.9
D18: այդ թվում` ըստ ուղղությունների
D19: Ապարան համայնքի Արագած և Շենավան բնակավայրերում նոր մանկապարտեզի կառուցում /Շենավան/ | E19: 197919.8
D20: Թալին համայնքի Եղնիկ, Կաքավաձոր, Ն․ Բազմաբերդ բն․ փողոցների նորոգում՝ սալարկմամբ | E20: 73152.3
D21: Աշտարակ համայնքի Աշտարակ և Բազմաղբյուր բն․ մարզադաշտերի հիմնանորոգում և տարածքների բարեկարգում | E21: 93561.6
D22: Մեծաձոր համայնքի Մեծաձոր և Օթևան բն․ ներհամայնքային փողոցների նորոգում սալարկմամբ | E22: 25761.2
D23: ՀՀ Արարատի մարզպետի աշխատակազմ | E23: =SUM(E25:E32) -> 433631.5
D24: այդ թվում` ըստ ուղղությունների
D25: Մասիս համայնքում բնակավայրերի գազաֆիկացում․ Այնթապ, Նոր Կյուրին, Մարմարաշեն, Ջրահովիտ, Սիփանիկ, Սիս, Հովտաշատ, Ռանչպար, Նորամարգ, Այնթապ, Արբաթ, Դաշտավան, Դարակերտ, Նորաբաց, Սայաթ - Նովա /Նորամարգ բնակավայր/ | E25: 79410.7
D26: Արտաշատ համայնքի Այգեպատ, Դիտակ, Դվին, Մրգանուշ, Մրգավետ, Նորաշեն, Քաղցրաշեն և Մխչյան բնակավայրերի ոռոգման համակարգի կառուցում /նորոգում/Մխչյան խորքային հոր,Մրգավետ/ | E26: 55728
D27: Արարատ համայնքի Արարատ քաղաքի ՈԿՖ բանավանի մանկապարտեզի, Արարատ բնակավայրի մշակույթի տան և մանկապարտեզի, Պարույր Սևակ բնակավայրի մանկապարտեզի և Զանգակատուն բնակավայրի մանկապարտեզի տանիքներում ֆոտովոլտային կայանների տեղադրում | E27: 45730.3
D28: Վեդի համայնքի Տափերական, Գինեվետ և Վանաշեն բնակավայրերի փողոցներում կոյուղագծի ցանցի կառուցում | E28: 97048.7
D29: Այնթապ համայնքի փողոցների հիմնանորոգման և հարթեցման աշխատանքներ 4կմ | E29: 9175.8
D30: Վեդի քաղաքային համայնքի Արարատյան 36, 38, 40, 42, Գայի 5, 7, 9, և Կասյան 26/14, 26/15 ԲԲՇ-ների բակերի ասֆալտապատում և բարեկարգում | E30: 24205.5
D31: Վեդի համայնքի Այգավան, Վանաշեն, Սիսավան, Գոռավան, Շաղափ և Գինեվետ բնակավայրերի խմելու ջրագծի կառուցում | E31: 172528.5
D32: Արարատ համայնքի Սուրենավան, Արմաշ, Երասխ և Ավշար բնակավայրերի գազաֆիկացում /Սուրենավան /1-ին փուլ/ և Ավշար/1-ին փուլ// | E32: -50196
D33: ՀՀ Արմավիրի մարզպետի աշխատակազմ | E33: =SUM(E35:E42) -> 83135.7
D34: այդ թվում` ըստ ուղղությունների
D35: Վաղարշապատ համայնքի Էջմիածին բնակավայրի թիվ 14 «Ձնծաղիկ» մանկապարտեզի հիմնանորոգում և Ոսկեհատ բնակավայրի մանկապարտեզի վերանորոգում/Էջմիածին բնակավայրի թիվ 14 «Ձնծաղիկ» մանկապարտեզի հիմնանորոգում/ | E35: 64235.2
D36: Արաքս համայնքի Գայ բնակավայրի ջրահեռացման համակարգի մի մասի և ջրամատակարարման ցանցի, Ջրառատ բնակավայրի ջրամատակարարման ցանցի կառուցում /Ջրառատ բնակավայրի ջրամատակարարման ցանցի կառուցում/ | E36: 550
D37: Արաքս համայնքի Առատաշեն գյուղի մանկապարտեզի երկհարկանի մասնաշենքի կապիտալ վերանորոգում, Խորոնք գյուղի մանկապարտեզի շենքի կապիտալ վերանորոգում, Ջրառատ բնակավայրի մանկապարտեզի շենքի կապիտալ վերանորոգում, ջեռուցման համակարգի կառուցում, Մեծամոր գյուղի Խ.Աբովյան փող. 1/2 հասցեում մանկապարտեզի շենքի հիմնանորոգման /վերանորոգման/ աշխատանքներ, Գայ բնակավայրի մանկապարտեզի շենքի կառուցում/Գայ բնակավայրի մանկապարտեզի շենքի կառուցում/ | E37: 1124
D38: Փարաքար համայնքի Փարաքար, Թաիրով, Մերձավան, Մուսալեռ, Նորակերտ, Այգեկ և Պտղունք բնակավայրերի մանկապարտեզների հիմնանորոգում և բակային տարածքների բարեկարգում, Արևաշատ բնակավայրում մանկապարտեզի կոյուղու հորի կառուցում և տարածքի բարեկարգում /Արևաշատ բնակավայրում մանկապարտեզի կոյուղու հորի կառուցում և տարածքի բարեկարգում/ | E38: 24513.8
D39: Դալարիկ համայնքի հանդիսությունների սրահի հիմնանորոգում | E39: 2478.3
D40: Արմավիր համայնքի Արմավիր քաղաքի թիվ 2 մանկապարտեզ ՀՈԱԿ-ի հիմնանորոգում, թիվ 3 և թիվ 7 մանկապարտեզ ՀՈԱԿ-ների ջեռուցման համակարգերի կառուցում, գազիֆիկացում, հին դռների և պատուհանների նորով փոխարինում, Արաքս գյուղի մանկապարտեզի շենքի հիմնանորոգում, Մյասնիկյան գյուղի մանկապարտեզ ՀՈԱԿ-ի ջեռուցման համակարգի կառուցում և սանհանգույցի վերանորոգում, Լուկաշին գյուղի մանկապարտեզ ՀՈԱԿ-ի ջեռուցման համակարգի կառուցում, Սարդարապատ գյուղի մանկապարտեզ ՀՈԱԿ-ի հիմնանորոգում, գազիֆիկացում և ջեռուցման համակարգի կառուցում (Սարդարապատ գյուղի մանկապարտեզ ՀՈԱԿ-ի հիմնանորոգում, գազիֆիկացում և ջեռուցման համակարգ) | E40: -493.7
D41: Խոյ համայնքի խորքային հորերի հիմնանորոգում (Արագած N-1, N-2, Արշալույս N-1, N-2, N-3, N-4, N-5, N-6, N-7, N-8, Գեղակերտ N-1, Հայթաղ N-1, N-2, N-3, Մրգաստան N-1, Ծաղկունք N-1, N-2, Ծաղկալանջ N-2, Ծիածան N-1) և Ծիածան բնակավայրի ներտնտեսային ոռոգման ջրագծերի կառուցում /Արշալույս N-1, N-3, Հայթաղ N-1/ | E41: -8618.9
D42: Փարաքար համայնքի Փարաքար բնակավայրի Է. Թևոսյան և Րաֆֆու փողոցների կոյուղագծի կառուցում | E42: -653
D43: ՀՀ Գեղարքունիքի մարզպետի աշխատակազմ | E43: =SUM(E45:E68) -> 57502.9
D44: այդ թվում` ըստ ուղղությունների
D45: Մարտունի համայնքի «Մարտունի համայնքի Արծվանիստ, Ծովինար, Զոլաքար, Աստղաձոր, Լիճք, Ծակքար, Ձորագյուղ, Վարդաձոր, Վարդենիկ և Երանոս բնակավայրերում խմելու նոր ջրագծերի կառուցում և Վարդաձոր, Վարդենիկ և Ծովինար բնակավայրերում խմելու ջրի կապտաժիների կառուցում» /Աստղաձոր, Արծվանիստ/ | E45: 30170.4
D46: Մարտունի համայնքի Մարտունի քաղաքի, Վարդենիկ, Վաղաշեն, Գեղհովիտ և Լիճք բնակավայրերի տարբեր փողոցներում նոր լուսավորության համակարգերի կառուցում /Վաղաշեն/ | E46: 9332.9
D47: Մարտունի համայնքի Մարտունի քաղաքի Պռոշյան 2, Երևանյան 36, 42, 43 և 51 բազմաբնակարան բնակելի շենքերի տանիքների վերանորոգում /Երևանյան 43, 51, Պռոշյան 2/ | E47: 20480.4
D48: Մարտունի համայնքի Մարտունի քաղաքի, Վարդենիկ, Վաղաշեն, Գեղհովիտ և Լիճք բնակավայրերի տարբեր փողոցներում նոր լուսավորության համակարգերի կառուցում | E48: 15585.1
D49: Մարտունի համայնքի «Մարտունի քաղաքում և համայնքի Արծվանիստ, Ծովինար, Վարդենիկ, Զոլաքար, Աստղաձոր, Վաղաշեն, Գեղհովիտ, Լեռնակերտ, Մադինա, Վ Գետաշեն և Ձորագյուղ բնակավայրերում ոռոգման ջրատարների կառուցում և վերանորոգում» | E49: 107877.2
D50: Մարտունի համայնքի Ծովինար, Զոլաքար, Վաղաշեն, Գեղհովիտ, Ն. Գետաշեն, Ծակքար և Ձորագյուղ բնակավայրերի փողոցներում լուսավորության համակարգերի կառուցում | E50: 16282.7
D51: Մարտունի համայնքի «Մարտունի համայնքի Արծվանիստ, Ծովինար, Զոլաքար, Աստղաձոր, Լիճք, Ծակքար, Ձորագյուղ, Վարդաձոր, Վարդենիկ և Երանոս բնակավայրերում խմելու նոր ջրագծերի կառուցում և Վարդաձոր, Վարդենիկ և Ծովինար բնակավայրերում խմելու ջրի կապտաժիների կառուցում» /Ծակքար/ | E51: 3527.6
D52: Մարտունի համայնքի Ծովինար, Զոլաքար, Վաղաշեն, Գեղհովիտ, Ն. Գետաշեն, Ծակքար և Ձորագյուղ բնակավայրերի փողոցներում լուսավորության համակարգերի կառուցում | E52: 15453.5
D53: Գանձակ համայնքի խորքային հորի հորատում | E53: -2527.8
D54: Գավառ քաղաքի մշակույթի տան և գեղարվեստի դպրոցի շենքերի հիմնանորոգում /Գեղարվեստի դպրոցի շենքի հիմնանորոգում/ | E54: -2139.7
D55: Մարտունի համայնքի կենտրոնի Վարդենիկ, Զոլաքար, Աստղաձոր, Գեղհովիտ, Ն. Գետաշեն և Ձորագյուղ բնակավայրեր գազիֆիկացում /Վարդենիկ/ | E55: -232.8
D56: Մարտունի համայնքի Արծվանիստ, Ծովինար, Վարդենիկ, Աստղաձոր, Վաղաշեն, Ն.Գետաշեն Մադինա, Ծակքար, Ձորագյուղ, Վարդաձոր, Երանոս բնակավայրերում ոռոգման համակարգերի կառուցում և նորոգում /Արծվանիստ, Վարդաձոր, Ներքին Գետաշեն, Վերին Գետաշեն, Երանոս, Ձորագյուղ/ | E56: -1039.4
... D68: Գավառ քաղաքում և Նորատուս գյուղում ասֆատապատման աշխատանքների իրականացում | E68: -25000
D69: ՀՀ Լոռու մարզպետի աշխատակազմ | E69: =SUM(E71:E78) -> 295292.2
D70: այդ թվում` ըստ ուղղությունների
D71: Ստեփանավան համայնքի Ստեփանավան բն․ Ռումինական թաղամասի թիվ 10, 18, 19 ԲԲՇ-ների էներգաարդյունավետ արդիականացում, ռիսկերի նվազեցում /10 և 19 ԲԲՇ-ներ/ | E71: 73749.5
D72: Օձուն համայնքի բնակավայրերում լուսավորության համակարգերի կառուցում | E72: 14986.4
D73: Գյուլագարակ համայնքի Գյուլագարակ բն․ արվեստի դպրոցի համայնքային շենքի կառուցում | E73: 33772.5
D74: Շնող համայնքի փողոցների արտաքին լուսավորության անցկացում՝ արևային լուսատուներով | E74: 17564.4
D75: Լոռի Բերդ համայնքի Բովաձոր բնակավայրի ներհամայնքային ճանապարհների կանոնավոր տուֆ քարով սալարկում | E75: 13283.8
D76: Վանաձոր համայնքի Գուգարք բն․ Էներգետիկների 5-րդ փողոցի և Կոտեջային 1,2,3,4,9-րդ փողոցների հիմնանորոգում, 14-րդ փողոցում սելավատարի կառուցում | E76: 36810.9
D77: Լոռի Բերդ համայնքի Լոռի Բերդ, Բովաձոր, Հովնանաձոր և Սվերդլով բնակավայրերի ջրամատակարարման համակարգի ներքին և արտաքին ցանցի մասնակի նորոգում և հաշվիչների տեղադրում | E77: 12946.3
D78: Սպիտակ համայնքի Սպիտակ, Նոր Խաչակապ, Ջրաշեն, Ծաղկաբեր, Սարալանջ, Խնկոյան բն․ փողոցների տուֆով սալարկում | E78: 92178.4
D79: ՀՀ Կոտայքի մարզպետի աշխատակազմ | E79: =SUM(E81:E90) -> 647115.8
D80: այդ թվում` ըստ ուղղությունների
D81: Աբովյան համայնքի Աբովյան բնակավայրի թվով 292 Վերելակների արդիականացում | E81: 33782.4
D82: Նաիրի համայնքի Եղվարդի Զորավար Անդրանիկի 1-ից 8-րդ նրբանցքների,Աբովյան, Ավտոկայան,Զաքարյան,Կնունյանց,Հովհաննիսյան,Շահումյան,Շիրակի,Աայաթ Նովայի,Սաֆարյան, Արա Գեղեցիկի և Չարենցի փողոցների, Պռոշյան բնակավայրի Մայիսյան 4-րդ նրբանցքի, Գևորգ Չաուշի 4-րդ, 5-րդ, 6-րս, 7-րդ նրբանցքների, ,Զորավան բնակավայրի 1-ին փողոցի, 2-րդ փակուղու և 10-րդ նրբանցքի Զովունի բնակավայրի 39-րդ, 38-րդ և 7-րդ փողոցների ասֆալտապատման աշխատանքներ/ Զովունի բնակավայրի 39-րդ, 38-րդ և 7-րդ փողոցների ասֆալտապատման աշխատանքներ/ | E82: 89969.9
D83: Արզնի համայնքի մարզադաշտի օժանդակ կառույցների և ինժեներական կոմունիկացիաների կառուցում | E83: 11778.4
D84: Աբովյան համայնքի Աբովյան քաղաքի Նաիրյան փողոցի Ս․ Մնացականյան փողոցի, 2-րդ միկրոշրջանի 7-րդ դպրոց տանող ճանապարհների, Առինջ գյուղի Ստեփան Առինջեցու փողոցի 1-ին փակուղու, Պ Դուրյան թաղամասի 4-րդ և 7-րդ փողոցները կապող հատվածի , Պ Սևակի 3-րդ փողոցի, Ա թաղամասի 2-րդ և 3-րդ փողոցների,Դ Խաչատրյան փողոցի 2-րդ նրբանցքի, Ձագավանքի փողոցի՝ Արամուս գյուղի կենտրոնական փողոցի , Ջրմուղ փողոցից մինչև գյուղի վերջ, 3-րդ փողոցի, 1-ին փողոցի, 2-րդ փողոցի, Մայակովսկի գյուղի 12-րդ փողոցի 1-ին փակուղու,13-րդ փողոցի , 2-րդ փողոցի 1-ին և 2-րդ փակուղիների, 1-ին փողոցի 1-ին փակուղու,Կաթնաղբյուր գյուղի 5-րդ փողոցի , Գետարգել գյուղի Վերդյան փողոցի ասֆալտապատման և եզրաքարերի փոխարինման, Վերին Պտղնի Նորավան թաղամասի 2-րդ փողոցի , Բալահովիտ գյուղի Ծաղկունք թաղամասի 3-րդ փողոցի 2-րդ և 3-րդ նրբանցքների, Պտղնի գյուղի 1-ին փողոցի 1-ին նրբանցքի, 4-րդ փողոցի , Գեղաշեն գյուղի 3-րդ թաղամասի 3-րդ և 4-րդ փողոցների և դրանց միացումների, 1-ին փողոցի 5-րդ փակուղու, 6-րդ փողոց 2-րդ փակուղու,, Կամարիս գյուղի 2-րդ փողոցի, 3-րդ փողոցի 1-ին նրբանցքի, 1-ին փողոցի 1- ին նրբանցքի ասֆալտապատմանն աշխատանքներ / Արամուս/ | E84: 52314.6
D85: Աբովյան համայնքի Աբովյան քաղաքի Հատիս փողոցի 1-ին և 2-րդ թաղամասերի, Առինջ բնակավայրի Զագավանքի փողոցի,Արամուս բնակավայրի Տիգրանաձոր խճուղու, Ջերմատան փողոցի և Երիտասարդական թաղամասի 2-րդ փողոցի,Պտղնի բնակավայրի 10-րդ և 12-րդ փողոցների, Մայակովսկի բնակավայրի 15-րդ փողոցի լուսավորության համակարգի կառուցում | E85: 13206.5
D86: Գառնի համայնքի Գառնի բնակավայրի խմելու ջրի խողովակների անցկացում | E86: 31601.4
D87: Ծաղկաձոր համայնքի Արտավազ և Փյունիկ բնակավայրերի խմելու ջրի ջրամատակարարման համակարգի կառուցում | E87: 185434.1
D88: Ծաղկաձոր համայնքի Աղավնաձոր գյուղի խմելու ջրի խողովակների նորացում և ջրավազանի կառուցում | E88: 14203.4
D89: Ծաղկաձոր համայնքի Ծաղկաջոր բնակավայրի Վ Հարությունյան փողոցի հենապատի կառուցման աշխատանքներ | E89: 26234.1
D90: Նաիրի համայնքի Արագյուղ, Բուժական, Սարալանջ, Զորավան, Զովունի, Քասախ, Պռոշյան և Եղվարդ բնակավայրերի ճանապարհների ասֆալտապատման աշխատանքներ/ Արագյուղ, Բուժական, Սարալանջ, Զորավան և Եղվարդ/ | E90: 188591
D91: ՀՀ Շիրակի մարզպետի աշխատակազմ | E91: =SUM(E93:E102) -> 375478
D92: այդ թվում` ըստ ուղղությունների
D93: Անի համայնքի Լանջիկ բն․ խմելու ջրի ջրամատակարարման ներքին ցանցի կառուցում | E93: 100237
D94: Արթիկ համայնքի Արթիկ բն․ Տուֆագործների և Թամանյան փողոցների ասֆալտապատում և Շիրակացի փողոցի մայթի կառուցում /լրացուցիչ աշխատանքների համաձայնագիր/ | E94: 2751
D95: Աշոցք համայնքի Թավշուտ բնակավայրում ոռոգման համակարգի կառուցում | E95: 50226.4
D96: Գյումրի համայնքի ՀՈԱԿ-ների և բակերի կարիքների համար անհրաժեշտ գույքի ձեռքբերում /նստարաններ, աղբամաններ/ | E96: 4579.1
D97: Գյումրի համայնքի կարիքների համար բազմաֆունկցիոնալ տեխնիկաների և սարքավորումների ձեռքբերում /2 խոտհնձիչ, 1 հողը փխրեցնող սարք, 1 աղբատար և 1 բեռնատար մեքենաներ/ | E97: 58561.6
D98: Ախուրյան համայնքի Բենիամին բնակավայրի ոռոգման ցանցի հիմնանորոգում | E98: 62623.3
D99: Գյումրի համյայնքի սոցիալական բնակարանների և մշակութային կենտրոնների վերանորոգում /սոց․ բնակարանների վերանորոգում, Ասլամազյան թանգարանի պատշգամբի նորոգում/ | E99: 12497.5
D100: Աշոցք համայնքի Աշոցք բնակավայրում պուրակի կառուցման աշխատանքներ | E100: 35451
D101: Աշոցք համայնքի Արփենի, Կաքավասար, Բավրա և Սարագյուղ բնակավայրերի խմելու ջրագծերի վերանորոգման և վերակառուցման աշխատանքներ | E101: 21040.5
D102: Աշոցք համայնքի Սարագյուղ, Բավրա, Զույգաղբյուր բնակավայրերում բնական գազի ներքին ցանցի կառուցում | E102: 27510.6
D103: ՀՀ Սյունիքի մարզպետի աշխատակազմ | E103: =SUM(E105:E111) -> 159605.6
D104: այդ թվում` ըստ ուղղությունների
D105: Քաջարան համայնքի «Բազմաբնակարան շենքերի էներգաարդյունավետության բարելավում» | E105: 577142
D106: Կապան համայնքի «Հասարակական շենքերի նորոգում և կառուցում՝ Եղվարդ բնակավայրի կենցաղի տան վերանորոգում, Ծավ բնակավայրի կենցաղի տան վերանորոգում, Ըրկենանց բնակավայրում վարչական շենքԻ կառուցում և տարածքի բարեկարգում, Վանեք բնակավայրում վարչական շենքի կառուցում և տարածքի բարեկարգում, Եղեգ բնակավայրում վարչական շենքի կառուցում և տարածքի բարեկարգում, Ներքին Խոտանան բնակավայրում վարչական շենքի կառուցում և տարածքի բարեկարգում, Դավիթ Համբարձումյանի անվան մանկապատանեկան մարզադպրոց ՀՈԱԿ-ի շենքի մասնակի վերանորոգում և ջեռուցման համակարգի վերականգնում, Կապան քաղաքի Վաչագան թաղամասի հանդիսությունների սրահի մասնակի վերանորոգում և Օխտար բնակավայրի ակումբի շենքի հիմնանորոգում» /Ներքին Խոտանան/ | E106: 20074.5
D107: Շինուհայր, Տաթև, Խոտ, Հալիձոր բնակավայրերի նախադպրոցական ուսումնական հաստատությունների, Շինուհայր բնակավայրի երաժշտական դպրոցի շենքերի տանիքներին և Հ 46 հանրապետական ու միջհամայնքային նշանակության ավտոճանապարհի գիշերային լուսավորության ցանցի էներգիայի սնուցման նպատակով արևային ֆոտովոլտային կայանների տեղադրում | E107: 45335.4
D108: Նախակրթարանի կառուցում մանկապարտեզի Ալվանք բնակավայրում և նոր մակապարտեզի հիմնում Մեղրի համայնքի Նռնաձոր բնակավայրում /Ալվանք/ | E108: 17837.5
D109: Կապան քաղաքի բազմաբնակարան բնակելի շենքերի հարթ և լանջավոր տանիքների նորոգում /Հալիձոր 13, Դավիթ Բեկ 10, Ձորք թաղամաս 8, Մ. Ստեփանյան 18, Ռ. Մինասյան 12, Հալիձոր 15, Հալիձոր 17 Բաղաբերդ թաղամաս 2, Բաղաբերդ թաղամաս 2Ա Գ, Բաղաբերդ թաղամաս 2Ա Դ, Երկաթուղայիններ 7, Ա. Մանուկյան 1-ին նրբ. շենք 4, բլոկ Գ, Երկաթուղայիններ 15, Հալիձոր 19, Շահումյան 38, Թումանյան 9, Մ. Պապյան 5/ | E109: -30283.8
D110: Քաջարան համայնքի բնակավայրերի փողոցների և ներհամայնքային ճանապարհների հիմնանորոգում/բարեկարգում | E110: -100000
D111: Այլ ենթակառուցվածքների կառուցում | E111: -370500
D112: ՀՀ Վայոց ձորի մարզպետի աշխատակազմ | E112: =SUM(E114:E114) -> 16487.8
...

Sheet հ8.
G1: Հավելված N8
G2: ՀՀ կառավարության 2023 թվականի
G3: ______________ ի ___Ն որոշման
A6: ՀԱՅԱՍՏԱՆԻ ՀԱՆՐԱՊԵՏՈՒԹՅԱՆ ԿԱՌԱՎԱՐՈՒԹՅԱՆ 2022 ԹՎԱԿԱՆԻ ԴԵԿՏԵՄԲԵՐԻ 29-Ի N 2111-Ն ՈՐՈՇՄԱՆ N 5 ՀԱՎԵԼՎԱԾԻ N 7 ԱՂՅՈՒՍԱԿՈՒՄ ԿԱՏԱՐՎՈՂ ԼՐԱՑՈՒՄՆԵՐԸ
G9: հազար դրամով
A10: Ծրագրային դասիչ | C10: Բյուջետային հատկացումների գլխավոր կարգադրիչների, ծրագրերի, միջոցառումների, ծախսային ուղղությունների անվանումները | F10: Միջոցառումները կատարող պետական մարմինների և դրամաշնորհ ստացող տնտեսվարող սուբյեկտների անվանումները | G10: Ցուցանիշների փոփոխությունը (ավելացումները նշված են դրական նշանով)
A11: Ծրագիր | B11: Միջոցառում | G11: Տարի
A12: 1 | B12: 2 | C12: 3 | F12: 4 | G12: 8
A13: ՀՀ տարածքային կառավարման և ենթակառուցվածքների նախարարություն | G13: =G14 -> 38424.8
A14: 1212 | B14: Տարածքային զարգացում | G14: =G15 -> 38424.8
B15: 12025 | C15: Մարզերում առաջնահերթ լուծում պահանջող հիմնախնդիրների լուծում | F15: ՀՀ Գեղարքունիքի մարզպետի աշխատակազմ | G15: =G16+G17 -> 38424.8
F16: «Վարդենիսի բժշկական կենտրոն» ՓԲԸ | G16: 10587.5
F17: «Ռ. Պետրոսյանի անվան միջնակարգ դպրոց»ՊՈԱԿ | G17: 27837.3
F20: ՀԱՅԱՍՏԱՆԻ ՀԱՆՐԱՊԵՏՈՒԹՅԱՆ
F21: ՎԱՐՉԱՊԵՏԻ ԱՇԽԱՏԱԿԱԶՄԻ
F22: ՂԵԿԱՎԱՐ ՝ | G22: Ա. ՀԱՐՈՒԹՅՈՒՆՅԱՆ

Sheet հ9
C1: Հավելված N 9
C2: ՀՀ կառավարության 2023 թվականի
C3: ______________ ի ___Ն որոշման
A5: ՀԱՅԱՍՏԱՆԻ ՀԱՆՐԱՊԵՏՈՒԹՅԱՆ ԿԱՌԱՎԱՐՈՒԹՅԱՆ 2022 ԹՎԱԿԱՆԻ ԴԵԿՏԵՄԲԵՐԻ 29-Ի N 2111-Ն ՈՐՈՇՄԱՆ N 8 ՀԱՎԵԼՎԱԾՆԵՐՈՒՄ ԿԱՏԱՐՎՈՂ ՓՈՓՈԽՈՒԹՅՈՒՆՆԵՐԸ
A6: Գործառական դասիչը | D6: Ծրագրային դասիչը | F6: Բյուջետային հատակացումների գլխավոր կարգադրիչներ, ծրագրերի, միջոցառումների և միջոցառումներն իրականացնող պետական մարմինների անվանումները | G6: Գումարը (հազար դրամ)
A7: Բաժին | B7: Խումբ | C7: Դաս | D7: Ծրագիր | E7: ='h2'!F9 -> Միջոցառում
F8: ԸՆԴԱՄԵՆԸ ԾԱԽՍԵՐ | G8: =G9+G34 -> -2240203.2
A9: 04 | F9: ՏՆՏԵՍԱԿԱՆ ՀԱՐԱԲԵՐՈՒԹՅՈՒՆՆԵՐ | G9: =G10+G19+G39+G44 -> -2195231.3 | H9: =H10 -> #REF!
B10: 03 | F10: Վառելիք և էներգետիկա | G10: =G11+G16 -> -202378 | H10: =H11 -> #REF!
C11: 02 | F11: Նավթամթերք և բնական գազ | G11: =G12 -> -2378 | H11: =#REF! -> #REF!
D12: 1157 | F12: Քաղաքային զարգացում | G12: =+G13 -> -2378 | H12: =+H13 -> #REF!
E13: 21031 | F13: Նոր Խարբերդ թաղամասում գազատարի կառուցման աշխատանքներ | G13: ='h2'!H309 -> -2378 | H13: =+#REF! -> #REF!
F14: ՏՆՏԵՍԱԿԱՆ ՀԱՐԱԲԵՐՈՒԹՅՈՒՆՆԵՐ | G14: =G19 -> -1730953.7 | H14: =H19 -> #REF!
F15: այդ թվում`
C16: 05 | F16: Էլեկտրաէներգիա | G16: =G17 -> -200000
D17: 1157 | F17: Քաղաքային զարգացում | G17: =G18 -> -200000
E18: 12006 | F18: Եվրոպական ներդրումային բանկի աջակցությամբ իրականացվող Երևանի էներգաարդյունավետության ծրագրին պետական աջակցություն | G18: ='h2'!H321 -> -200000
B19: 05 | F19: Տրանսպորտ | G19: =G24+G30 -> -1730953.7 | H19: =#REF! -> #REF!
F20: ՏՆՏԵՍԱԿԱՆ ՀԱՐԱԲԵՐՈՒԹՅՈՒՆՆԵՐ | G20: =G22 -> -1397770.3 | H20: =H22 -> #REF!
F21: այդ թվում`
F22: Տրանսպորտ | G22: =G30 -> -1397770.3 | H22: =H30 -> #REF!
F23: այդ թվում`
C24: 01 | F24: Ճանապարհային տրանսպորտ | G24: =G25 -> -333183.4
D25: 1157 | F25: Քաղաքային զարգացում | G25: =G26+G27+G28+G29 -> -333183.4
E26: 12012 | F26: Ասիական զարգացման բանկի աջակցությամբ իրականացվող քաղաքային ենթակառուցվածքների և քաղաքի կայուն զարգացման ներդրումային ծրագրի համակարգում և կառավարում | G26: ='h1'!F123 -> -94465.8
E27: 12013 | F27: Ասիական զարգացման բանկի աջակցությամբ իրականացվող քաղաքային ենթակառուցվածքների և քաղաքի կայուն զարգացման ներդրումային երկրորդ ծրագրի համակարգում և կառավարում | G27: ='h1'!F129 -> -35000
E28: 12021 | F28: Ասիական զարգացման բանկի աջակցությամբ իրականացվող քաղաքային ենթակառուցվածքների և քաղաքի կայուն զարգացման ներդրումային երկրորդ ծրագրի շրջանակներում ճանապարհային շինարարություն | G28: ='h1'!F135 -> 46000
E29: 21032 | F29: Երևան քաղաքում ճանապարհների կառուցման և միջին նորոգման աշխատանքներ | G29: ='h1'!F154 -> -249717.6
C30: 05 | F30: Խողովակաշարային և այլ տրանսպորտ | G30: =G31 -> -1397770.3 | H30: =#REF! -> #REF!
D31: 1157 | F31: Քաղաքային զարգացում | G31: =G32+G33 -> -1397770.3 | H31: =+H33 -> #REF!
E32: 21002 | F32: Երևանի մետրոպոլիտենի ենթակառուցվածքների կառուցում | G32: ='h2'!H487 -> -770000
E33: 21033 | F33: Երևան քաղաքի բազմաբնակարան շենքերի վերելակների արդիականացում | G33: ='h2'!H496 -> -627770.3 | H33: =+#REF! -> #REF!
A34: 06 | F34: ԲՆԱԿԱՐԱՆԱՅԻՆ ՇԻՆԱՐԱՐՈՒԹՅՈՒՆ ԵՎ ԿՈՄՈՒՆԱԼ ԾԱՌԱՅՈՒԹՅՈՒՆՆԵՐ | G34: =G35 -> -44971.9 | H34: =H35 -> #REF!
B35: 03 | F35: Ջրամատակարարում | G35: =G36 -> -44971.9 | H35: =H36 -> #REF!
C36: 01 | F36: Ջրամատակարարում | G36: =G37 -> -44971.9 | H36: =#REF! -> #REF!
D37: 1157 | F37: Քաղաքային զարգացում | G37: =+G38 -> -44971.9 | H37: =+H38 -> #REF!
E38: 21034 | F38: Երևան քաղաքի կոյուղատար համակարգի արդիականացման և ընդլայնման աշխատանքներ | G38: ='h2'!H515 -> -44971.9 | H38: =+#REF! -> #REF!
A39: 08 | F39: ՀԱՆԳԻՍՏ, ՄՇԱԿՈՒՅԹ ԵՎ ԿՐՈՆ | G39: =G40 -> -155751
B40: 01 | F40: Հանգստի և սպորտի ծառայություններ | G40: =G41 -> -155751
C41: 01 | F41: Հանգստի և սպորտի ծառայություններ | G41: =G42 -> -155751
D42: 1157 | F42: Քաղաքային զարգացում | G42: =G43 -> -155751
E43: 21036 | F43: Երևան քաղաքում հանգստի գոտիների և այգիների կառուցման և հիմնանորոգման աշխատանքներ | G43: ='h1'!F171 -> -155751
A44: 09 | F44: ԿՐԹՈՒԹՅՈՒՆ | G44: =G45 -> -106148.6
B45: 01 | F45: Նախադպրոցական և տարրական ընդհանուր կրթություն | G45: =G48 -> -106148.6
C46: 01 | F46: Նախադպրոցական կրթություն | G46: =G48 -> -106148.6
D47: 1157 | F47: Հանրակրթության ծրագիր | G47: =G48 -> -106148.6
E48: 21037 | F48: Երևան քաղաքի նախադպրոցական ուսումնական հաստատությունների կառուցման և հիմնանորոգման աշխատանքներ | G48: ='h1'!F177 -> -106148.6

Sheet Հ10
A2: ՀՀ կառավարության 2023 թվականի
A3: ______________ ի ___Ն որոշման
A5: ՀԱՅԱՍՏԱՆԻ ՀԱՆՐԱՊԵՏՈՒԹՅԱՆ ԿԱՌԱՎԱՐՈՒԹՅԱՆ 2022 ԹՎԱԿԱՆԻ ԴԵԿՏԵՄԲԵՐԻ 29-Ի N 2111-Ն ՈՐՈՇՄԱՆ N 9 ՀԱՎԵԼՎԱԾԻ N 9.7 ԵՎ N 9.10, 9.47 ԱՂՅՈՒՍԱԿՆԵՐՈՒՄ ԿԱՏԱՐՎՈՂ ՓՈՓՈԽՈՒԹՅՈՒՆՆԵՐԸ ԵՎ ԼՐԱՑՈՒՄՆԵՐԸ
A7: ՀՀ ՏԱՐԱԾՔԱՅԻՆ ԿԱՌԱՎԱՐՄԱՆ ԵՎ ԵՆԹԱԿԱՌՈՒՑՎԱԾՔՆԵՐԻ ՆԱԽԱՐԱՐՈՒԹՅՈՒՆ
A8: ՄԱՍ 2. ՊԵՏԱԿԱՆ ՄԱՐՄՆԻ ԳԾՈՎ ԱՐԴՅՈՒՆՔԱՅԻՆ (ԿԱՏԱՐՈՂԱԿԱՆ) ՑՈՒՑԱՆԻՇՆԵՐԸ
A10: Ծրագրի դասիչը | B10: Ծրագրի անվանումը
A11: 1004 | B11: =+'[1]4'!D16 -> Ոռոգման համակարգի առողջացում
A13: Ծրագրի միջոցառումները
A15: Ծրագրի դասիչը` | B15: 1004 | C15: Ցուցանիշների փոփոխությունը (նվազեցումները նշված են փակագծերում)
A16: Միջոցառման դասիչը` | B16: 11010 | C16: Տարի
A17: Միջոցառման անվանումը` | B17: Գերմանիայի զարգացման վարկերի բանկի աջակցությամբ իրականացվող Ախուրյան գետի ջրային ռեսուրսների ինտեգրացված կառավարում փուլ 1 ծրագրով Ջրաձոր գյուղի վերաբնակեցման գործողությունների խորհրդատվություն և կառավարում
A18: Նկարագրությունը` | B18: Գերմանիայի զարգացման վարկերի բանկի աջակցությամբ իրականացվող Ախուրյան գետի ջրային ռեսուրսների ինտեգրացված կառավարում փուլ 1 ծրագրով Ջրաձոր գյուղի վերաբնակեցման գործողությունների համակարգում և ղեկավարում
A19: Միջոցառման տեսակը` | B19: Ծառայությունների մատուցում
A20: Միջոցառումն իրականացնողի անվանումը? | B20: Մասնագիտացված միավոր
A21: Արդյունքի չափորոշիչներ
A22: Միջոցառման վրա կատարվող ծախսը (հազար դրամ) | C22: =h4v!E19 -> -13500
A25: Ծրագրի դասիչը` | B25: 1004 | C25: Ցուցանիշների փոփոխությունը (նվազեցումները նշված են փակագծերում)
A26: Միջոցառման դասիչը` | B26: 31001 | C26: Տարի
A27: Միջոցառման անվանումը` | B27: Ֆրանսիայի Հանրապետության կառավարության աջակցությամբ իրականացվող Վեդու ջրամբարի կառուցում
A28: Նկարագրությունը` | B28: Ֆրանսիայի Հանրապետության կառավարության աջակցությամբ իրականացվող Վեդու ջրամբարի կառուցման ծրագիր
A29: Միջոցառման տեսակը` | B29: Պետական մարմինների կողմից օգտագործվող ոչ ֆինանսական ակտիվների հետ գործառնություններ
A30: Ակտիվն օգտագործող կազմակերպության(ների) անվանում(ները)՛ | B30: Մասնագիտացված միավոր
A31: Արդյունքի չափորոշիչներ
A32: Միջոցառման վրա կատարվող ծախսը (հազար դրամ) | C32: =h4v!E28 -> -139000
A34: Ծրագրի դասիչը` | B34: 1004 | C34: Ցուցանիշների փոփոխությունը (նվազեցումները նշված են փակագծերում)
A35: Միջոցառման դասիչը` | B35: 31005 | C35: Տարի
A36: Միջոցառման անվանումը` | B36: Եվրասիական զարգացման բանկի աջակցությամբ իրականացվող ոռոգման համակարգերի զարգացման ծրագրի շրջանակներում ջրային տնտեսության ենթակառուցվածքների հիմնանորոգում
A37: Նկարագրությունը` | B37: Եվրասիական զարգացման բանկի աջակցությամբ իրականացվող ոռոգման համակարգերի զարգացման ծրագիր
A38: Միջոցառման տեսակը` | B38: Պետական մարմինների կողմից օգտագործվող ոչ ֆինանսական ակտիվների հետ գործառնություններ
A39: Ակտիվն օգտագործող կազմակերպության(ների) անվանում(ները)՛ | B39: Մասնագիտացված միավոր
A40: Արդյունքի չափորոշիչներ
A41: Միջոցառման վրա կատարվող ծախսը (հազար դրամ) | C41: ='h1'!F31 -> -24000
A43: Ծրագրի դասիչը | B43: Ծրագրի անվանումը
A44: 1049 | B44: Ճանապարհային ցանցի բարելավում
A46: Ծրագրի միջոցառումները
A48: Ծրագրի դասիչը` | B48: 1049 | C48: Ցուցանիշների փոփոխությունը (նվազեցումները նշված են փակագծերում)
A49: Միջոցառման դասիչը` | B49: 11012 | C49: Տարի
A50: Միջոցառման անվանումը` | B50: Եվրասիական զարգացման բանկի աջակցությամբ իրականացվող Հյուսիս-հարավ միջանցքի զարգացման ծրագրի համակարգում և կառավարում
A51: Նկարագրությունը` | B51: Խորհրդատվական ծառայություններ և պահպանման ծախսեր
A52: Միջոցառման տեսակը` | B52: Ծառայությունների մատուցում
A53: Միջոցառումն իրականացնողի անվանումը՛ | B53: Մասնագիտացված միավոր
A54: Արդյունքի չափորոշիչներ
A55: Հողերի օտարում, շահառուների քանակ | C55: -52
A56: Միջոցառման վրա կատարվող ծախսը (հազար դրամ) | C56: =h4v!E48 -> -559000
A59: Ծրագրի դասիչը` | B59: 1049 | C59: Ցուցանիշների փոփոխությունը (ավելացումները նշված են դրական նշանով, իսկ նվազեցումները` փակագծերում)
A60: Միջոցառման դասիչը` | B60: 21001
A61: Միջոցառման անվանումը` | B61: Պետական նշանակության ավտոճանապարհների հիմնանորոգում
A62: Նկարագրությունը` | B62: Միջպետական, հանրապետական և մարզային նշանակության ավտոճոնապարհների քայքայված ծածկի վերանորոգում, մաշված ծածկի փոխարինում
A63: Միջոցառման տեսակը` | B63: Հանրության կողմից անմիջականորեն օգտագործվող ակտիվների հետ կապված միջոցառումներ
A64: Միջոցառումն իրականացնողի անվանումը | B64: Մասնագիտացված միավոր
A65: Արդյունքի չափորոշիչներ
A66: Հանրապետական նշանակության ավտոճանապարհներ | C66: -2.5
A67: Մարզային նշանակության ավտոճանապարհներ | C67: -1
A68: Միջոցառման վրա կատարվող ծախսը (հազար դրամ) | C68: ='h3'!D14 -> -2047058.7
A70: Ծրագրի դասիչը` | B70: 1049 | C70: Ցուցանիշների փոփոխությունը (նվազեցումները նշված են փակագծերում)
A71: Միջոցառման դասիչը` | B71: 21002 | C71: Տարի
A72: Միջոցառման անվանումը` | B72: Տրանսպորտային օբյեկտների հիմնանորոգում
A73: Նկարագրությունը` | B73: Ավտոմոբիլային ճանապարհների վրա գտնվող կամուրջների հիմնանորոգում
A74: Միջոցառման տեսակը` | B74: Հանրության կողմից անմիջականորեն օգտագործվող ակտիվների հետ կապված միջոցառումներ
A75: Միջոցառումն իրականացնողի անվանումը | B75: Մասնագիտացված միավոր
A76: Արդյունքի չափորոշիչներ
A77: Միջոցառման վրա կատարվող ծախսը (հազար դրամ) | C77: ='h1'!F56 -> -34480
A79: Ծրագրի դասիչը` | B79: 1049 | C79: Ցուցանիշների փոփոխությունը (ավելացումները նշված են դրական նշանով, իսկ նվազեցումները` փակագծերում)
A80: Միջոցառման դասիչը` | B80: 21004 | C80: Տարի
A81: Միջոցառման անվանումը` | B81: Ասիական զարգացման բանկի աջակցությամբ իրականացվող Մ6 Վանաձոր-Ալավերդի-Վրաստանի սահման միջպետական նշանակության ճանապարհի ծրագրի կառուցում և հիմնանորոգում
A82: Նկարագրությունը` | B82: Ճանապարհաշինական աշխատանքներ
A83: Միջոցառման տեսակը` | B83: Հանրության կողմից անմիջականորեն օգտագործվող ակտիվների հետ կապված միջոցառումներ
A84: Միջոցառումն իրականացնողի անվանումը՛ | B84: Մասնագիտացված միավոր
A85: Արդյունքի չափորոշիչներ
A86: Միջոցառման վրա կատարվող ծախսը (հազար դրամ) | C86: =h4v!E57 -> -8000
A88: Ծրագրի դասիչը` | B88: 1049 | C88: Ցուցանիշների փոփոխությունը (ավելացումները նշված են դրական նշանով, իսկ նվազեցումները` փակագծերում)
A89: Միջոցառման դասիչը` | B89: 21006 | C89: Տարի
A90: Միջոցառման անվանումը` | B90: Ասիական զարգացման բանկի աջակցությամբ իրականացվող Հյուսիս-հարավ միջանցքի զարգացման վարկային ծրագիր, Տրանշ 2
A91: Նկարագրությունը` | B91: Աշտարակ-Թալին 29+600կմ-71+500կմ հատվածի կառուցում
A92: Միջոցառման տեսակը` | B92: Հանրության կողմից անմիջականորեն օգտագործվող ակտիվների հետ կապված միջոցառումներ
A93: Միջոցառումն իրականացնողի անվանումը՛ | B93: Մասնագիտացված միավոր
A94: Արդյունքի չափորոշիչներ
A95: Միջոցառման վրա կատարվող ծախսը (հազար դրամ) | C95: =h4v!E68 -> 1258000
A97: Ծրագրի միջոցառումները
A98: Ծրագրի դասիչը` | B98: 1049 | C98: =C88 -> Ցուցանիշների փոփոխությունը (ավելացումները նշված են դրական նշանով, իսկ նվազեցումները` փակագծերում)
A99: Միջոցառման դասիչը` | B99: 21007 | C99: =C89 -> Տարի
A100: Միջոցառման անվանումը` | B100: Եվրոպական ներդրումային բանկի աջակցությամբ իրականացվող Հյուսիս-հարավ միջանցքի զարգացման դրամաշնորհային ծրագիր, Տրանշ 3
A101: Նկարագրությունը` | B101: Լանջիկ-Գյումրի 2.75 կմ երկարությամբ ճանապարհային հատվածի կառուցում
A102: Միջոցառման տեսակը` | B102: Հանրության կողմից անմիջականորեն օգտագործվող ակտիվների հետ կապված միջոցառումներ
A103: Միջոցառումն իրականացնողի անվանումը՛ | B103: Մասնագիտացված միավոր
A104: Արդյունքի չափորոշիչներ
A105: Միջոցառման վրա կատարվող ծախսը (հազար դրամ) | C105: =Հ11!C73 -> -283000
A107: Ծրագրի դասիչը` | B107: 1049 | C107: Ցուցանիշների փոփոխությունը ( նվազեցումները նշված են փակագծերում)
A108: Միջոցառման դասիչը` | B108: 21009 | C108: Տարի
A109: Միջոցառման անվանումը` | B109: Եվրոպական ներդրումային բանկի աջակցությամբ իրականացվող Հյուսիս-հարավ միջանցքի զարգացման վարկային ծրագիր, Տրանշ 3
A110: Նկարագրությունը` | B110: Լանջիկ-Գյումրի 27.47 կմ երկարությամբ ճանապարհային հատվածի կառուցում
A111: Միջոցառման տեսակը` | B111: Հանրության կողմից անմիջականորեն օգտագործվող ակտիվների հետ կապված միջոցառումներ
A112: Միջոցառումն իրականացնողի անվանումը՛ | B112: Մասնագիտացված միավոր
A113: Արդյունքի չափորոշիչներ
A114: Միջոցառման վրա կատարվող ծախսը (հազար դրամ) | C114: =h4v!E79 -> -30000
A116: Ծրագրի դասիչը` | B116: 1049 | C116: Ցուցանիշների փոփոխությունը (ավելացումները նշված են դրական նշանով, իսկ նվազեցումները` փակագծերում)
A117: Միջոցառման դասիչը` | B117: 21011 | C117: Տարի
A118: Միջոցառման անվանումը` | B118: Ասիական զարգացման բանկի աջակցությամբ իրականացվող Հյուսիս-հարավ միջանցքի զարգացման վարկային ծրագիր, Տրանշ 3
A119: Նկարագրությունը` | B119: Հատված Թալին-Լանջիկ 71+500 կմ-90+200 կմ կառուցման շինարարական աշխատանքներ
A120: Միջոցառման տեսակը` | B120: Հանրության կողմից անմիջականորեն օգտագործվող ակտիվների հետ կապված միջոցառումներ
...

Sheet Հ11
D1: Հավելված N 11
A2: ՀՀ կառավարության 2023թվականի
A3: ______________ ի ___Ն որոշման
A5: ՀԱՅԱՍՏԱՆԻ ՀԱՆՐԱՊԵՏՈՒԹՅԱՆ ԿԱՌԱՎԱՐՈՒԹՅԱՆ 2022 ԹՎԱԿԱՆԻ ԴԵԿՏԵՄԲԵՐԻ 21-Ի N 2111-Ն ՈՐՈՇՄԱՆ N 9.1 ՀԱՎԵԼՎԱԾԻ NN 9.1.7, 9.1.10,9.1.25, 9.1.29, 9.1.48, 9.1.49, 9.1.50, 9.1.51, 9.1.52, 9.1.53, 9.1.54, 9.1.55, 9.1.56 , 9.1.57 ԵՎ 9.1.58 ԱՂՅՈՒՍԱԿՆԵՐՈՒՄ ԿԱՏԱՐՎՈՂ ՓՈՓՈԽՈՒԹՅՈՒՆՆԵՐԸ ԵՎ ԼՐԱՑՈՒՄՆԵՐԸ
D6: Աղյուսակ 9.1.7
A7: ՀՀ ՏԱՐԱԾՔԱՅԻՆ ԿԱՌԱՎԱՐՄԱՆ ԵՎ ԵՆԹԱԿԱՌՈՒՑՎԱԾՔՆԵՐԻ ՆԱԽԱՐԱՐՈՒԹՅՈՒՆ
A8: ՄԱՍ 1. ՊԵՏԱԿԱՆ ՄԱՐՄՆԻ ԳԾՈՎ ԱՐԴՅՈՒՆՔԱՅԻՆ (ԿԱՏԱՐՈՂԱԿԱՆ) ՑՈՒՑԱՆԻՇՆԵՐԸ
A10: Ծրագրի դասիչը | B10: Ծրագրի անվանումը
A11: 1049 | B11: Ճանապարհային ցանցի բարելավում
A15: Ծրագրի դասիչը` | B15: 1049 | C15: Ցուցանիշների փոփոխությունը (նվազեցումները նշված են փակագծերում)
A16: Միջոցառման դասիչը` | B16: 11012 | C16: Տարի
A17: Միջոցառման անվանումը` | B17: Եվրասիական զարգացման բանկի աջակցությամբ իրականացվող Հյուսիս-հարավ միջանցքի զարգացման ծրագրի համակարգում և կառավարում
A18: Նկարագրությունը` | B18: Խորհրդատվական ծառայություններ և պահպանման ծախսեր
A19: Միջոցառման տեսակը` | B19: Ծառայությունների մատուցում
A20: Միջոցառումն իրականացնողի անվանումը՛ | B20: Մասնագիտացված միավոր
A21: Արդյունքի չափորոշիչներ
A22: Հողերի օտարում, շահառուների քանակ | C22: -52
A23: Միջոցառման վրա կատարվող ծախսը (հազար դրամ) | C23: =h4v!E48 -> -559000
A26: Ծրագրի դասիչը` | B26: 1049 | C26: Ցուցանիշների փոփոխությունը (ավելացումները նշված են դրական նշանով, իսկ նվազեցումները` փակագծերում)
A27: Միջոցառման դասիչը` | B27: 21001 | C27: Տարի
A28: Միջոցառման անվանումը` | B28: Պետական նշանակության ավտոճանապարհների հիմնանորոգում
A29: Նկարագրությունը` | B29: Միջպետական, հանրապետական և մարզային նշանակության ավտոճոնապարհների քայքայված ծածկի վերանորոգում, մաշված ծածկի փոխարինում
A30: Միջոցառման տեսակը` | B30: Հանրության կողմից անմիջականորեն օգտագործվող ակտիվների հետ կապված միջոցառումներ
A31: Միջոցառումն իրականացնողի անվանումը | B31: Մասնագիտացված միավոր
A32: Արդյունքի չափորոշիչներ
A33: Հանրապետական նշանակության ավտոճանապարհներ | C33: -2.5
A34: =Հ10!A67:B67 -> Մարզային նշանակության ավտոճանապարհներ | C34: -1
A35: Միջոցառման վրա կատարվող ծախսը (հազար դրամ) | C35: =Հ10!C68 -> -2047058.7
A37: Ծրագրի դասիչը` | B37: 1049 | C37: Ցուցանիշների փոփոխությունը (նվազեցումները նշված են փակագծերում)
A38: Միջոցառման դասիչը` | B38: 21002 | C38: Տարի
A39: Միջոցառման անվանումը` | B39: Տրանսպորտային օբյեկտների հիմնանորոգում
A40: Նկարագրությունը` | B40: Ավտոմոբիլային ճանապարհների վրա գտնվող կամուրջների հիմնանորոգում
A41: Միջոցառման տեսակը` | B41: Հանրության կողմից անմիջականորեն օգտագործվող ակտիվների հետ կապված միջոցառումներ
A42: Միջոցառումն իրականացնողի անվանումը | B42: Մասնագիտացված միավոր
A43: Արդյունքի չափորոշիչներ
A44: Միջոցառման վրա կատարվող ծախսը (հազար դրամ) | C44: ='h3'!D36 -> -34480
A47: Ծրագրի դասիչը` | B47: 1049 | C47: Ցուցանիշների փոփոխությունը (ավելացումները նշված են դրական նշանով, իսկ նվազեցումները` փակագծերում)
A48: Միջոցառման դասիչը` | B48: 21004 | C48: Տարի
A49: Միջոցառման անվանումը` | B49: Ասիական զարգացման բանկի աջակցությամբ իրականացվող Մ6 Վանաձոր-Ալավերդի-Վրաստանի սահման միջպետական նշանակության ճանապարհի ծրագրի կառուցում և հիմնանորոգում
A50: Նկարագրությունը` | B50: Ճանապարհաշինական աշխատանքներ
A51: Միջոցառման տեսակը` | B51: Հանրության կողմից անմիջականորեն օգտագործվող ակտիվների հետ կապված միջոցառումներ
A52: Միջոցառումն իրականացնողի անվանումը՛ | B52: Մասնագիտացված միավոր
A53: Արդյունքի չափորոշիչներ
A54: Միջոցառման վրա կատարվող ծախսը (հազար դրամ) | C54: =h4v!E57 -> -8000
A56: Ծրագրի դասիչը` | B56: 1049 | C56: Ցուցանիշների փոփոխությունը (ավելացումները նշված են դրական նշանով, իսկ նվազեցումները` փակագծերում)
A57: Միջոցառման դասիչը` | B57: 21006 | C57: Տարի
A58: Միջոցառման անվանումը` | B58: Ասիական զարգացման բանկի աջակցությամբ իրականացվող Հյուսիս-հարավ միջանցքի զարգացման վարկային ծրագիր, Տրանշ 2
A59: Նկարագրությունը` | B59: Աշտարակ-Թալին 29+600կմ-71+500կմ հատվածի կառուցում
A60: Միջոցառման տեսակը` | B60: Հանրության կողմից անմիջականորեն օգտագործվող ակտիվների հետ կապված միջոցառումներ
A61: Միջոցառումն իրականացնողի անվանումը՛ | B61: Մասնագիտացված միավոր
A62: Արդյունքի չափորոշիչներ
A63: Միջոցառման վրա կատարվող ծախսը (հազար դրամ) | C63: =h4v!E68 -> 1258000
A65: Ծրագրի միջոցառումները
A66: Ծրագրի դասիչը` | B66: 1049 | C66: =C15 -> Ցուցանիշների փոփոխությունը (նվազեցումները նշված են փակագծերում)
A67: Միջոցառման դասիչը` | B67: 21007 | C67: =C16 -> Տարի
A68: Միջոցառման անվանումը` | B68: Եվրոպական ներդրումային բանկի աջակցությամբ իրականացվող Հյուսիս-հարավ միջանցքի զարգացման դրամաշնորհային ծրագիր, Տրանշ 3
A69: Նկարագրությունը` | B69: Լանջիկ-Գյումրի 2.75 կմ երկարությամբ ճանապարհային հատվածի կառուցում
A70: Միջոցառման տեսակը` | B70: Հանրության կողմից անմիջականորեն օգտագործվող ակտիվների հետ կապված միջոցառումներ
A71: Միջոցառումն իրականացնողի անվանումը՛ | B71: Մասնագիտացված միավոր
A72: Արդյունքի չափորոշիչներ
A73: Միջոցառման վրա կատարվող ծախսը (հազար դրամ) | C73: =h5d!H18 -> -283000
A75: Ծրագրի դասիչը` | B75: 1049 | C75: Ցուցանիշների փոփոխությունը (ավելացումները նշված են դրական նշանով, իսկ նվազեցումները` փակագծերում)
A76: Միջոցառման դասիչը` | B76: 21009 | C76: Տարի
A77: Միջոցառման անվանումը` | B77: Եվրոպական ներդրումային բանկի աջակցությամբ իրականացվող Հյուսիս-հարավ միջանցքի զարգացման վարկային ծրագիր, Տրանշ 3
A78: Նկարագրությունը` | B78: Լանջիկ-Գյումրի 27.47 կմ երկարությամբ ճանապարհային հատվածի կառուցում
A79: Միջոցառման տեսակը` | B79: Հանրության կողմից անմիջականորեն օգտագործվող ակտիվների հետ կապված միջոցառումներ
A80: Միջոցառումն իրականացնողի անվանումը՛ | B80: Մասնագիտացված միավոր
A81: Արդյունքի չափորոշիչներ
A82: Միջոցառման վրա կատարվող ծախսը (հազար դրամ) | C82: =h4v!E79 -> -30000
A84: Ծրագրի դասիչը` | B84: 1049 | C84: Ցուցանիշների փոփոխությունը (ավելացումները նշված են դրական նշանով, իսկ նվազեցումները` փակագծերում)
A85: Միջոցառման դասիչը` | B85: 21011 | C85: Տարի
A86: Միջոցառման անվանումը` | B86: Ասիական զարգացման բանկի աջակցությամբ իրականացվող Հյուսիս-հարավ միջանցքի զարգացման վարկային ծրագիր, Տրանշ 3
A87: Նկարագրությունը` | B87: Հատված Թալին-Լանջիկ 71+500 կմ-90+200 կմ կառուցման շինարարական աշխատանքներ
A88: Միջոցառման տեսակը` | B88: Հանրության կողմից անմիջականորեն օգտագործվող ակտիվների հետ կապված միջոցառումներ
A89: Միջոցառումն իրականացնողի անվանումը՛ | B89: Մասնագիտացված միավոր
A90: Արդյունքի չափորոշիչներ
A91: Միջոցառման վրա կատարվող ծախսը (հազար դրամ) | C91: =h4v!E88 -> -263000
A93: Ծրագրի դասիչը` | B93: 1049 | C93: Ցուցանիշների փոփոխությունը (նվազեցումները նշված են փակագծերում)
A94: Միջոցառման դասիչը` | B94: 21012 | C94: Տարի
A95: Միջոցառման անվանումը` | B95: Եվրասիական զարգացման բանկի աջակցությամբ իրականացվող Հյուսիս-հարավ միջանցքի զարգացման ծրագիր
A96: Նկարագրությունը` | B96: Ճանապարհաշինական աշխատանքներ
A97: Միջոցառման տեսակը` | B97: Հանրության կողմից անմիջականորեն օգտագործվող ակտիվների հետ կապված միջոցառումներ
A98: Միջոցառումն իրականացնողի անվանումը՛ | B98: Մասնագիտացված միավոր
A99: Արդյունքի չափորոշիչներ
A100: Միջոցառման վրա կատարվող ծախսը (հազար դրամ) | C100: =h4v!E99 -> -149900
A102: Ծրագրի դասիչը` | B102: 1049 | C102: Ցուցանիշների փոփոխությունը (ավելացումները նշված են դրական նշանով)
A103: Միջոցառման դասիչը` | B103: 21014 | C103: Տարի
A104: Միջոցառման անվանումը` | B104: Եվրոպական ներդրումային բանկի աջակցությամբ իրականացվող Մ6 Վանաձոր-Ալավերդի-Վրաստանի սահման միջպետական նշանակության ճանապարհի անվտանգության բարելավման դրամաշնորհային ծրագիր
A105: Նկարագրությունը` | B105: Ճանապարհաշինական աշխատանքներ
A106: Միջոցառման տեսակը` | B106: Հանրության կողմից անմիջականորեն օգտագործվող ակտիվների հետ կապված միջոցառումներ
A107: Միջոցառումն իրականացնողի անվանումը՛ | B107: Մասնագիտացված միավոր
A108: Արդյունքի չափորոշիչներ
A109: Միջոցառման վրա կատարվող ծախսը (հազար դրամ) | C109: =h5d!H27 -> 606513.2
A113: Ծրագրի դասիչը | B113: Ծրագրի անվանումը
A114: 1157 | B114: Քաղաքային զարգացում
A116: Ծրագրի միջոցառումները
A117: Ծրագրի դասիչը` | B117: 1157 | C117: Ցուցանիշների փոփոխությունը (նվազեցումները նշված են փակագծերում)
A118: Միջոցառման դասիչը` | B118: 12006 | C118: Տարի
A119: Միջոցառման անվանումը` | B119: Եվրոպական ներդրումային բանկի աջակցությամբ իրականացվող Երևանի էներգաարդյունավետության ծրագրին պետական աջակցություն
A120: Նկարագրությունը` | B120: Ծրագրի շրջանակներում հանրային շենքերում իրականացվող էներգաարդյունավետության և էներգախնայողության աշխատանքներ
...

Sheet Հ12
H1: Հավելված N 12
H2: ՀՀ կառավարության 2023 թվականի
H3: ______________ ի ___Ն որոշման
B5: ՀԱՅԱՍՏԱՆԻ ՀԱՆՐԱՊԵՏՈՒԹՅԱՆ ԿԱՌԱՎԱՐՈՒԹՅԱՆ 2022 ԹՎԱԿԱՆԻ ԴԵԿՏԵՄԲԵՐԻ 29-Ի N 2111-Ն ՈՐՈՇՄԱՆ N 10 ՀԱՎԵԼՎԱԾՈՒՄ ԿԱՏԱՐՎՈՂ ՓՈՓՈԽՈՒԹՅՈՒՆՆԵՐԸ ԵՎ ԼՐԱՑՈՒՄԸ
B7: Կոդը | C7: Անվանումը | D7: Գնման ձևը | E7: Չափման միավորը | F7: Միավորի գինը | G7: Ցուցանիշների փոփոխությունը (ավելացումները նշված են դրական նշանով, իսկ նվազեցումները` փակագծերում)
G8: Քանակը | H8: Գումարը (հազար դրամով)
B9: 1 | C9: 2 | D9: 3 | E9: 4 | F9: 5 | G9: 6 | H9: 7
C10: Ընդամենը | H10: =H11+H17+H53 -> -2031258.7
B11: ՀՀ Սյունիքի մարզպետի աշխատակազմ | H11: =H13 -> 25800
B12: Բաժին N 01 | C12: խումբ N 08, դաս N 01 | D12: Կառավարության տարբեր մակարդակների միջեւ իրականացվող ընդհանուր բնույթի տրանսֆերտներ | H12: =H13 -> 25800
B13: 1212 Տարածքային զարգացում | H13: =H14 -> 25800
B14: 32001 ՀՀ մարզերում առաջնահերթ լուծում պահանջող անհետաձգելի ծրագրերի իրականացում | H14: =H15 -> 25800
B15: ՄԱՍ I. Ա Պ Ր Ա Ն Ք Ն Ե Ր | H15: =SUM(H16:H16) -> 25800
B16: 39717200/1 | C16: օդորակման սարքավորումներ | D16: ՀՄԱ | E16: դրամ | F16: 12900000 | G16: 2 | H16: =F16*2/1000 -> 25800
B17: ՀՀ տարածքային կառավարման և ենթակառուցվածքների նախարարություն | H17: =H18 -> -2047058.7
B18: Բաժին N 04 | C18: Խումբ N 05 | D18: Դաս N 01 | E18: Ճանապարհային տրանսպորտ | H18: =H19 -> -2047058.7
B19: 1049 21001 | C19: ='[2]Հ3 '!F41 -> Պետական նշանակության ավտոճանապարհների հիմնանորոգում | H19: =H20+H36 -> -2047058.7
B20: ՄԱՍ II. ԱՇԽԱՏԱՆՔՆԵՐ | H20: =SUM(H21:H35) -> -2021195.7
B21: 45231177/515 | C21: ճանապարհների վերանորոգման աշխատանքներ | D21: ՀԲՄ | E21: դրամ | G21: 0 | H21: -76379.3
B22: 45231177/17 | C22: ճանապարհների վերանորոգման աշխատանքներ | D22: ԲՄ | E22: դրամ | G22: 0 | H22: -3841.2
B23: 45231177/558 | C23: ճանապարհների վերանորոգման աշխատանքներ | D23: ՀԲՄ | E23: դրամ | G23: 0 | H23: -6488.9
B24: 45231177/104 | C24: ճանապարհների վերանորոգման աշխատանքներ | D24: ՀԲՄ | E24: դրամ | G24: 0 | H24: -19545.2
B25: 45231177/511 | C25: ճանապարհների վերանորոգման աշխատանքներ | D25: ՀԲՄ | E25: դրամ | G25: 0 | H25: -283472.7
B26: 45231177/563 | C26: ճանապարհների վերանորոգման աշխատանքներ | D26: ՀԲՄ | E26: դրամ | G26: 0 | H26: -14432.4
B27: 45231177/504 | C27: ճանապարհների վերանորոգման աշխատանքներ | D27: ՀԲՄ | E27: դրամ | G27: 0 | H27: -635465.5
B28: 45231177/57 | C28: ճանապարհների վերանորոգման աշխատանքներ | D28: ԲՄ | E28: դրամ | G28: 0 | H28: -90173
B29: 45231177/633 | C29: ճանապարհների վերանորոգման աշխատանքներ | D29: ԲՄ | E29: դրամ | G29: 0 | H29: -2073
B30: 45231177/126 | C30: ճանապարհների վերանորոգման աշխատանքներ | D30: ՀԲՄ | E30: դրամ | G30: 0 | H30: -6389.7
B31: 45231177/506 | C31: ճանապարհների վերանորոգման աշխատանքներ | D31: ՀԲՄ | E31: դրամ | G31: 0 | H31: -11220.6
B32: 45231177/555 | C32: ճանապարհների վերանորոգման աշխատանքներ | D32: ՀԲՄ | E32: դրամ | G32: 0 | H32: -408
... B35: 45231177/144 | C35: ճանապարհների վերանորոգման աշխատանքներ | D35: ՄԱ | E35: դրամ | G35: 0 | H35: -811406
B36: ՄԱՍ III. ԾԱՌԱՅՈՒԹՅՈՒՆՆԵՐ | H36: =SUM(H37:H46) -> -25863.04
B37: 71351540/518 | C37: տեխնիկական հսկողության ծառայություններ | D37: ՀԲՄ | E37: դրամ | G37: - | H37: -375.2
B38: 71351540/515 | C38: տեխնիկական հսկողության ծառայություններ | D38: ՀԲՄ | E38: դրամ | G38: - | H38: -1128.4
B39: 71351540/512 | C39: տեխնիկական հսկողության ծառայություններ | D39: ԲՄ | E39: դրամ | G39: - | H39: -2496.2
B40: 71351540/77 | C40: տեխնիկական հսկողության ծառայություններ | D40: ԳՀ | E40: դրամ | G40: - | H40: -680
B41: 71351540/86 | C41: տեխնիկական հսկողության ծառայություններ | D41: ՀՄԱ | E41: դրամ | G41: - | H41: -7951.1
B42: 98111140/114 | C42: հեղինակային հսկողության ծառայություններ | D42: ՄԱ | E42: դրամ | G42: 0 | H42: -445.4
B43: 98111140/50 | C43: հեղինակային հսկողության ծառայություններ | D43: ՄԱ | E43: դրամ | G43: 0 | H43: -1938.84
B44: 98111140/116 | C44: հեղինակային հսկողության ծառայություններ | D44: ՄԱ | E44: դրամ | G44: 0 | H44: -4616.5
B45: 98111140/103 | C45: հեղինակային հսկողության ծառայություններ | D45: ՄԱ | E45: դրամ | G45: 0 | H45: -5469.3
B46: 71241200/18 | C46: նախագծերի պատրաստում, ծախսերի գնահատում | D46: ԳՀ | E46: դրամ | G46: 0 | H46: -762.1
B47: 1049 21002 | C47: Տրանսպորտային օբյեկտների հիմնանորոգում | H47: =H48 -> -34480
B48: ՄԱՍ II. ԱՇԽԱՏԱՆՔՆԵՐ | H48: =SUM(H49:H52) -> -34480
B49: 45221117/505 | C49: ճանապարհների վերանորոգման աշխատանքներ | D49: ՀԲՄ | E49: դրամ | G49: 0 | H49: -999.1
B50: 45221117/521 | C50: ճանապարհների վերանորոգման աշխատանքներ | D50: ԳՀ | E50: դրամ | G50: 0 | H50: -1087.3
B51: 45221117/4 | C51: ճանապարհների վերանորոգման աշխատանքներ | D51: ԳՀ | E51: դրամ | G51: 0 | H51: -27.7
B52: 45231177/503 | C52: ճանապարհների վերանորոգման աշխատանքներ | D52: ՀԲՄ | E52: դրամ | G52: 0 | H52: -32365.9
B53: ՀՀ տարածքային կառավարման և ենթակառուցվածքների նախարարության քաղաքացիական ավիացիայի կոմիտե | H53: =H54 -> -10000
B54: Բաժին N 04 | C54: Խումբ N 05 | D54: Դաս N 04 | E54: Օդային տրանսպորտ | H54: =H55 -> -10000
B55: 1176 11002 | C55: Աշխատակազմի մասնագիտական կարողությունների զարգացում | H55: =H56 -> -10000
B56: 79631200/1 | C56: աշխատակիցների վերապատրաստման ծառայություններ | D56: ՄԱ | E56: դրամ | H56: -10000
