Workbook
Name _tab10: #REF!
Name _tab11: #REF!
Name _tab12: #REF!
Name _tab13: #REF!
Name _tab14: #REF!
Name _tab15: #REF!
Name _tab16: #REF!
Name _tab17: #REF!
Name _tab18: #REF!
Name _tab19: #REF!
Name _tab20: #REF!
Name _tab21: #REF!
Name _tab22: #REF!
Name _tab23: #REF!
Name _tab24: #REF!
Name _tab5: #REF!
Name _tab6: #REF!
Name _tab7: #REF!
Name _tab8: #REF!
Name _tab9: #REF!
Name AgencyCode: #REF!
Name AgencyName: #REF!
Name åû: #REF!
Name davit: #REF!
Name Functional1: #REF!
Name ggg: #REF!
Name mas: #REF!
Name mass: #REF!
Name PANature: #REF!
Name par_count: #REF!,#REF!,#REF!,#REF!,#REF!,#REF!,#REF!,#REF!,#REF!,#REF!,#REF!,#REF!,#REF!,#REF!,#REF!
Name par_qual: #REF!,#REF!,#REF!,#REF!,#REF!
Name par_time: #REF!,#REF!,#REF!,#REF!
Name par2.12s: #REF!
Name par2.4s: #REF!,#REF!,#REF!,#REF!,#REF!,#REF!,#REF!,#REF!,#REF!,#REF!,#REF!,#REF!,#REF!,#REF!,#REF!,#REF!
Name par2.5s: #REF!,#REF!
Name par2.6s: #REF!,#REF!,#REF!,#REF!
Name par2.7s: #REF!,#REF!
Name par2.9s: #REF!,#REF!,#REF!,#REF!,#REF!,#REF!,#REF!,#REF!,#REF!,#REF!,#REF!,#REF!,#REF!,#REF!,#REF!,#REF!
Name par4.10s: #REF!,#REF!
Name par4.11d: #REF!,#REF!,#REF!,#REF!,#REF!
Name par4.12d: #REF!
Name par4.13s: #REF!
Name par4.14: #REF!,#REF!,#REF!,#REF!,#REF!,#REF!
Name par4.15: #REF!,#REF!,#REF!
Name par4.16: #REF!,#REF!,#REF!
Name par4.17: #REF!,#REF!,#REF!,#REF!
Name par4.18d: #REF!,#REF!
Name par4.19s: #REF!
Name par4.20f: #REF!
Name par4.21f: #REF!
Name par4.22: #REF!
Name par4.4: #REF!
Name par4.5: #REF!
Name par4.6s: #REF!
Name par4.7s: #REF!
Name par4.8: #REF!,#REF!,#REF!,#REF!,#REF!
Name par4.9: #REF!,#REF!,#REF!,#REF!,#REF!,#REF!
Name par5.1: #REF!,#REF!
Name par5.3: #REF!,#REF!,#REF!,#REF!,#REF!,#REF!
Name par5.4: #REF!,#REF!,#REF!,#REF!,#REF!

Sheet 1
A1: Հավելված N 1 ՀՀ կառավարության 2023 թվականի հունիսի -ի N -Ն որոշման
A3: «ՀԱՅԱՍՏԱՆԻ ՀԱՆՐԱՊԵՏՈՒԹՅԱՆ 2023 ԹՎԱԿԱՆԻ ՊԵՏԱԿԱՆ ԲՅՈՒՋԵԻ ՄԱՍԻՆ» ՀԱՅԱՍՏԱՆԻ ՀԱՆՐԱՊԵՏՈՒԹՅԱՆ ՕՐԵՆՔԻ N 1 ՀԱՎԵԼՎԱԾԻ N 2 ԱՂՅՈՒՍԱԿՈՒՄ ԿԱՏԱՐՎՈՂ ՎԵՐԱԲԱՇԽՈՒՄԸ ԵՎ ՀԱՅԱՍՏԱՆԻ ՀԱՆՐԱՊԵՏՈՒԹՅԱՆ ԿԱՌԱՎԱՐՈՒԹՅԱՆ 2022 ԹՎԱԿԱՆԻ ԴԵԿՏԵՄԲԵՐԻ 29-Ի N 2111-Ն ՈՐՈՇՄԱՆ N 5 ՀԱՎԵԼՎԱԾԻ N 1 ԱՂՅՈՒՍԱԿՈՒՄ ԿԱՏԱՐՎՈՂ ՓՈՓՈԽՈՒԹՅՈՒՆՆԵՐԸ
D4: հազար դրամներով
A5: Ծրագրային դասիչը | C5: Բյուջետային գլխավոր կարգադրիչների, ծրագրերի և միջոցառումների անվանումները | D5: Ցուցանիշների փոփոխությունը (ավելացումները նշված են դրական նշանով, իսկ նվազեցումները՝ փակագծերում)
A6: Ծրագիր | B6: Միջոցառում | D6: Տարի
C7: ԸՆԴԱՄԵՆԸ ԾԱԽՍԵՐ | D7: =+D8 -> 0
C8: ՀՀ էկոնոմիկայի նախարարություն | D8: =+D9+D46+D65+D84+D103 -> 0
A9: 1022 | C9: Ծրագրի անվանումը` | D9: =+D16+D22+D34+D40+D28 -> -294585
C10: Գյուղատնտեսության խթանման ծրագիր
C11: Ծրագրի նպատակը`
C12: Գյուղատնտեսական մթերքի և դրանց վերամշակումից ստացվող սննդամթերքի ծավալների ավելացում
C13: Վերջնական արդյունքի նկարագրությունը`
C14: Գյուղատնտեսական մթերքների ծավալների ավելացում: Օգտագործվող վարելահողերի ավելացում: Պտուղբանջարեղենի և խաղողի վերամշակումից ստացված արտադրանքի ծավալների աճ
A15: Ծրագրի միջոցառումներ
B16: 11004 | C16: Միջոցառման անվանումը` | D16: -335000
C17: Հողային բարեփոխումների փորձնական ծրագրին աջակցություն
C18: Միջոցառման նկարագրությունը`
C19: Գյուղատնտեսական նշանակության հողերի ադյունավետ օգտագործման, հողերի բանկավորման, կոնսոլիդացիայի և վարձակալության խթանման միջոցառումներ
C20: Միջոցառման տեսակը
C21: Ծառայությունների մատուցում
B22: 12004 | C22: Միջոցառման անվանումը` | D22: 320495
C23: Գյուղատնտեսական հումքի մթերումների (գնումների) նպատակով տրամադրվող վարկերի տոկոսադրույքների սուբսիդավորում
C24: Միջոցառման նկարագրությունը`
C25: Պտուղբանջարեղենի, խաղողի, կաթի, շինշիլայի և գյուղատնտեսական կենդանիների մթերումների (գնումների) կազմակերպման նպատակով ընկերություններին մատչելի պայմաններով վարկերի տրամադրում
C26: Միջոցառման տեսակը
C27: Տրանսֆերտների տրամադրում
B28: 12011 | C28: Միջոցառման անվանումը` | D28: -41400
C29: Հայաստանի Հանրապետությունում գյուղատնտեսական նշանակության հողերի միավորմանը (կոնսոլիդացիային) աջակցություն
C30: Միջոցառման նկարագրությունը`
C31: Գյուղատնտեսական նշանակության հողերի առանձին գույքային միավորների ձեռքբերման և դրանց սահմանների միավորման միջոցով առնվազն 30 հա հանրագումարային մակերեսով հողամասերի վրա իրականացված համալիր միջոցառումների համար փաստացի կատարված ծախսերի մասնակի փոխհատուցում
C32: Միջոցառման տեսակը
C33: Տրանսֆերտների տրամադրում
B34: 12012 | C34: Միջոցառման անվանումը` | D34: 351320
C35: Կոնյակի սպիրտի իրացման (արտահանման) աջակցության ծրագիր
C36: Միջոցառման նկարագրությունը`
C37: Կոնյակի սպիրտ իրացնող (հարյուր հազար լիտրից ավելի) տնտեսավարող սուբյեկտներին վճարված լրացուցիչ պետական տուրքի չափով օժանդակության տրամադրում
C38: Միջոցառման տեսակը
C39: Տրանսֆերտների տրամադրում
B40: 32001 | C40: Միջոցառման անվանումը` | D40: -590000
C41: Հողային բարեփոխումների փորձնական ծրագիր
C42: Միջոցառման նկարագրությունը`
C43: Գյուղատնտեսական նշնակության հողերի ձեռքբերում, օտարում, վարձակալություն, միջնորդությունների իրականացում, փոխանակում
C44: Միջոցառման տեսակը
C45: Այլ պետական կազմակերպությունների կողմից օգտագործվող ոչ ֆինանսական ակտիվների հետ գործառնություններ
A46: 1059 | C46: Ծրագրի անվանումը` | D46: =+D59+D53 -> 10606.3
C47: Բուսաբուծության խթանում և բույսերի պաշտպանություն
C48: Ծրագրի նպատակը`
C49: Հողագործությունից ստացվող արդյունքի բարելավում
C50: Վերջնական արդյունքի նկարագրությունը`
C51: Մշակաբույսերի միջին բերքատվության բարձրացում:ՀՀ գյուղատնտեսական նշանակության ողջ հողատարածքի համար կազմված ագրոքիմիական քարտեզներով ապահովվածություն: Հացահատիկի և հատիկաընդեղենի արտադրության ծավալների ավելացում:
C52: Ծրագրի միջոցառումներ
B53: 11009 | C53: Միջոցառման անվանումը` | D53: 308.9
C54: Հայաստանի Հանրապետությունում աշնանացան ցորենի ցանքատարածությունների մոնիթորինգի իրականացմանն աջակցություն
C55: Միջոցառման նկարագրությունը`
C56: Համայնքների կողմից աշնանացան ցորենի ցանքատարածությունների մոնիթորինգի իրականացում, արդյունքների ամփոփում և համապատասխան տեղեկատվության ներկայացում
C57: Միջոցառման տեսակը
C58: Ծառայությունների մատուցում
B59: 12002 | C59: Միջոցառման անվանումը` | D59: 10297.4
C60: Հայաստանի Հանրապետությունում աշնանացան ցորենի արտադրության խթանման նպատակով փոխհատուցման տրամադրում
C61: Միջոցառման նկարագրությունը`
C62: Աշնանացան ցորենի ցանքատարածությունների ընդլայնմանը և ցորենի համախառն բերքի ծավալների ավելացմանը նպաստելու նպատակով կատարված մշակության ծախսերի մասնակի փոխհատուցում
C63: Միջոցառման տեսակը
C64: Տրանսֆերտների տրամադրում
A65: 1104 | C65: Ծրագրի անվանումը` | D65: =+D78+D72 -> -550000
C66: Գիտելիքահենք, նորարարական տնտեսությանը և փոքր ու միջին ձեռնարկատիրությանը աջակցություն
C67: Ծրագրի նպատակը`
C68: Արտադրողականության բարձրացման նպատակով տնտեսության թվայնացման, նորարարական էլեկտրոնային կառավարման համակարգերի ներդրման, գիտելիքահենք գործարարությանը և փոքր ու միջին ձեռնարկատիրությանը աջակցություն
C69: Վերջնական արդյունքի նկարագրությունը`
C70: Արտադրողականության աճ, նորարարական և թվայնացված տնտեսություն, ՓՄՁ սուբյեկտների թվաքանակի ավելացու
C71: Ծրագրի միջոցառումներ
B72: 11002 | C72: Միջոցառման անվանումը` | D72: -300000
C73: Բարձր որակավորում ունեցող մասնագետների ներգրավման նպատակով տնտեսավարողներին աջակցություն
C74: Միջոցառման նկարագրությունը`
C75: Հայաստանի Հանրապետության տարածքում գործող ընկերությունների արտադրողականության բարձրացման նպատակով բարձր որոկովորում ունեցող մասնագետների ներգրավմանը աջակցություն
C76: Միջոցառման տեսակը
C77: Ծառայությունների մատուցում
B78: 12001 | C78: Միջոցառման անվանումը` | D78: -250000
C79: Տնտեսության արդիականացման միջոցառմանը պետական աջակցություն
C80: Միջոցառման նկարագրությունը`
C81: Արտադրական հնարավորությունների արդիականացման և նոր տեխնոլոգիաների ներմուծման խթանման նպատակով մատչելի պայմաններով վարկերի տրամադրում
C82: Միջոցառման տեսակը
C83: Տրանսֆերտների տրամադրում
A84: 1116 | C84: Ծրագրի անվանումը` | D84: =+D91+D97 -> -106000.8
C85: Անասնաբուժական ծառայություններ
C86: Ծրագրի նպատակը`
C87: Անասնահամաճարակային կայուն ֆոնի ապահովում
C88: Վերջնական արդյունքի նկարագրությունը`
C89: Գյուղատնտեսական կենդանիների վարակամերժության ապահովում
C90: Ծրագրի միջոցառումներ
B91: 11001 | C91: Միջոցառման անվանումը` | D91: -34000.8
C92: Գյուղատնտեսական կենդանիների պատվաստում
C93: Միջոցառման նկարագրությունը`
C94: Անասնաբուժական ծառայության հակահամաճարակային միջոցառումների, կենդանիների հիվանդությունների կանխարգելման աշխատանքների կազմակերպում և համակարգում, անհրաժեշտ նյութերի ձեռքբերում:
C95: Միջոցառման տեսակը
C96: Ծառայությունների մատուցում
B97: 11005 | C97: Միջոցառման անվանումը` | D97: -72000
C98: Հայաստանի Հանրապետությունում խոշոր եղջերավոր կենդանիների համարակալում և հաշվառում
C99: Միջոցառման նկարագրությունը`
C100: Հայաստանի Հանրապետությունում խոշոր եղջերավոր կենդանիների համարակալման և հաշվառման միջոցառումների իրականացում
C101: Միջոցառման տեսակը
...

Sheet 2
A1: Հավելված N 2 ՀՀ կառավարության 2023 թվականի հունիսի -ի N -Ն որոշման
A3: ՀԱՅԱՍՏԱՆԻ ՀԱՆՐԱՊԵՏՈՒԹՅԱՆ ԿԱՌԱՎԱՐՈՒԹՅԱՆ 2022 ԹՎԱԿԱՆԻ ԴԵԿՏԵՄԲԵՐԻ 29-Ի N 2111-Ն ՈՐՈՇՄԱՆ N 3 ԵՎ 4 ՀԱՎԵԼՎԱԾՆԵՐՈՒՄ ԿԱՏԱՐՎՈՂ ՓՈՓՈԽՈՒԹՅՈՒՆՆԵՐԸ
G4: հազար դրամներով
A5: Գործառական դասիչը | D5: Ծրագրային դասիչը | F5: Բյուջետային ծախսերի գործառական դասակարգման բաժինների, խմբերի և դասերի, բյուջետային ծրագրերի միջոցառումների, բյուջետային հատկացումների գլխավոր կարգադրիչների անվանումները | G5: Ցուցանիշների փոփոխությունը (ավելացումները նշված են դրական նշանով, իսկ նվազեցումները՝ փակագծերում)
A6: Բաժին | B6: Խումբ | C6: Դաս | D6: Ծրագիր | E6: Միջոցառում | G6: Տարի
F7: ԸՆԴԱՄԵՆԸ ԾԱԽՍԵՐ | G7: =+G8 -> 0
F8: ՀՀ էկոնոմիկայի նախարարություն | G8: =+G10 -> 0
F9: այդ թվում`
A10: 04 | F10: ՏՆՏԵՍԱԿԱՆ ՀԱՐԱԲԵՐՈՒԹՅՈՒՆՆԵՐ | G10: =+G12+G38 -> 0
F11: այդ թվում`
B12: 01 | F12: Ընդհանուր բնույթի տնտեսական, առևտրային և աշխատանքի գծով հարաբերություններ | G12: =+G14 -> -550000
F13: այդ թվում`
C14: 01 | F14: Ընդհանուր բնույթի տնտեսական և առևտրային հարաբերություններ | G14: =G16 -> -550000
F15: այդ թվում`
F16: ՀՀ էկոնոմիկայի նախարարություն | G16: =+G18+G94+G74 -> -550000
F17: այդ թվում`
D18: 1104 | F18: Գիտելիքահենք, նորարարական տնտեսությանը և փոքր ու միջին ձեռնարկատիրությանը աջակցություն | G18: =+G20+G29 -> -550000
F19: այդ թվում`
E20: 11002 | F20: Բարձր որակավորում ունեցող մասնագետների ներգրավման նպատակով տնտեսավարողներին աջակցություն | G20: =+G22 -> -300000
F21: այդ թվում` ըստ կատարողների
F22: ՀՀ էկոնոմիկայի նախարարություն | G22: =+G24 -> -300000
F23: այդ թվում` բյուջետային ծախսերի տնտեսագիտական դասակարգման հոդվածներ
F24: ԸՆԴԱՄԵՆԸ ԾԱԽՍԵՐ | G24: =+G28 -> -300000
F25: ԸՆԹԱՑԻԿ ԾԱԽՍԵՐ | G25: =+G26 -> -300000
F26: ԴՐԱՄԱՇՆՈՐՀՆԵՐ | G26: =+G27 -> -300000
F27: Ընթացիկ դրամաշնորհներ պետական հատվածի այլ մակարդակներին | G27: =+G28 -> -300000
F28: - Ընթացիկ դրամաշնորհներ պետական և համայնքների ոչ առևտրային կազմակերպություններին | G28: -300000
E29: 12001 | F29: Տնտեսության արդիականացման միջոցառմանը պետական աջակցություն | G29: =+G31 -> -250000
F30: այդ թվում` ըստ կատարողների
F31: ՀՀ էկոնոմիկայի նախարարություն | G31: =+G33 -> -250000
F32: այդ թվում` բյուջետային ծախսերի տնտեսագիտական դասակարգման հոդվածներ
F33: ԸՆԴԱՄԵՆԸ ԾԱԽՍԵՐ | G33: =+G37 -> -250000
F34: ԸՆԹԱՑԻԿ ԾԱԽՍԵՐ | G34: =+G35 -> -250000
F35: ՍՈՒԲՍԻԴԻԱՆԵՐ | G35: =+G36 -> -250000
F36: Սուբսիդիաներ ոչ պետական կազմակերպություններին | G36: =+G37 -> -250000
F37: - Սուբսիդիաներ ոչ պետական ֆինանսական կազմակերպություններին | G37: -250000
B38: 02 | F38: Գյուղատնտեսություն, անտառային տնտեսություն, ձկնորսություն և որսորդություն | G38: =+G40 -> 550000
F39: այդ թվում`
C40: 01 | F40: Գյուղատնտեսություն | G40: =+G42 -> 550000
F41: այդ թվում`
F42: ՀՀ էկոնոմիկայի նախարարություն | G42: =+G44+G91+G131+G111 -> 550000
F43: այդ թվում`
D44: 1022 | F44: Գյուղատնտեսության խթանման ծրագիր | G44: =+G46+G55+G73+G82+G64 -> -294585
F45: այդ թվում`
E46: 11004 | F46: Հողային բարեփոխումների փորձնական ծրագրին աջակցություն | G46: =+G48 -> -335000
F47: այդ թվում` ըստ կատարողների
F48: ՀՀ էկոնոմիկայի նախարարություն | G48: =+G50 -> -335000
F49: այդ թվում` բյուջետային ծախսերի տնտեսագիտական դասակարգման հոդվածներ
F50: ԸՆԴԱՄԵՆԸ ԾԱԽՍԵՐ | G50: =+G51 -> -335000
F51: ԸՆԹԱՑԻԿ ԾԱԽՍԵՐ | G51: =+G52 -> -335000
F52: ԴՐԱՄԱՇՆՈՐՀՆԵՐ | G52: =+G53 -> -335000
F53: Ընթացիկ դրամաշնորհներ պետական հատվածի այլ մակարդակներին | G53: =+G54 -> -335000
F54: - Ընթացիկ դրամաշնորհներ պետական և համայնքների ոչ առևտրային կազմակերպություններին | G54: =+[1]հավելված1!D17 -> -335000
E55: 12004 | F55: Գյուղատնտեսական հումքի մթերումների (գնումների) նպատակով տրամադրվող վարկերի տոկոսադրույքների սուբսիդավորում | G55: =+G57 -> 320495
F56: այդ թվում` ըստ կատարողների
F57: ՀՀ էկոնոմիկայի նախարարություն | G57: =+G59 -> 320495
F58: այդ թվում` բյուջետային ծախսերի տնտեսագիտական դասակարգման հոդվածներ
F59: ԸՆԴԱՄԵՆԸ ԾԱԽՍԵՐ | G59: =+G60 -> 320495
F60: ԸՆԹԱՑԻԿ ԾԱԽՍԵՐ | G60: =+G61 -> 320495
F61: ՍՈՒԲՍԻԴԻԱՆԵՐ | G61: =+G62 -> 320495
F62: Սուբսիդիաներ ոչ պետական կազմակերպություններին | G62: =+G63 -> 320495
F63: - Սուբսիդիաներ ոչ պետական ֆինանսական կազմակերպություններին | G63: =+'1'!D22 -> 320495
E64: 12011 | F64: Հայաստանի Հանրապետությունում գյուղատնտեսական նշանակության հողերի միավորմանը (կոնսոլիդացիային) աջակցություն | G64: =+G66 -> -41400
F65: այդ թվում` ըստ կատարողների
F66: ՀՀ էկոնոմիկայի նախարարություն | G66: =+G68 -> -41400
F67: այդ թվում` բյուջետային ծախսերի տնտեսագիտական դասակարգման հոդվածներ
F68: ԸՆԴԱՄԵՆԸ ԾԱԽՍԵՐ | G68: =+G69 -> -41400
F69: ԸՆԹԱՑԻԿ ԾԱԽՍԵՐ | G69: =+G70 -> -41400
F70: ԴՐԱՄԱՇՆՈՐՀՆԵՐ | G70: =+G71 -> -41400
F71: Ընթացիկ դրամաշնորհներ պետական հատվածի այլ մակարդակներին | G71: =+G72 -> -41400
F72: - Այլ ընթացիկ դրամաշնորհներ | G72: =+'1'!D28 -> -41400
E73: 12012 | F73: Կոնյակի սպիրտի իրացման (արտահանման) աջակցության ծրագիր | G73: =+G75 -> 351320
F74: այդ թվում` ըստ կատարողների
F75: ՀՀ էկոնոմիկայի նախարարություն | G75: =+G77 -> 351320
F76: այդ թվում` բյուջետային ծախսերի տնտեսագիտական դասակարգման հոդվածներ
F77: ԸՆԴԱՄԵՆԸ ԾԱԽՍԵՐ | G77: =+G78 -> 351320
F78: ԸՆԹԱՑԻԿ ԾԱԽՍԵՐ | G78: =+G79 -> 351320
F79: ԴՐԱՄԱՇՆՈՐՀՆԵՐ | G79: =+G80 -> 351320
F80: Ընթացիկ դրամաշնորհներ պետական հատվածի այլ մակարդակներին | G80: =+G81 -> 351320
F81: - Այլ ընթացիկ դրամաշնորհներ | G81: =+'1'!D34 -> 351320
E82: 32001 | F82: Հողային բարեփոխումների փորձնական ծրագիր | G82: =+G84 -> -590000
F83: այդ թվում` ըստ կատարողների
F84: ՀՀ էկոնոմիկայի նախարարություն | G84: =+G86 -> -590000
F85: այդ թվում` բյուջետային ծախսերի տնտեսագիտական դասակարգման հոդվածներ
F86: ԸՆԴԱՄԵՆԸ ԾԱԽՍԵՐ | G86: =+G87 -> -590000
F87: ԸՆԹԱՑԻԿ ԾԱԽՍԵՐ | G87: =+G88 -> -590000
F88: ԴՐԱՄԱՇՆՈՐՀՆԵՐ | G88: =+G89 -> -590000
F89: Կապիտալ դրամաշնորհներ պետական հատվածի այլ մակարդակներին | G89: =+G90 -> -590000
F90: - Կապիտալ դրամաշնորհներ պետական և համայնքային ոչ առևտրային կազմակերպություններին | G90: -590000
D91: 1059 | F91: Բուսաբուծության խթանում և բույսերի պաշտպանություն | G91: =+G93+G102 -> 10606.3
F92: այդ թվում`
E93: 12002 | F93: Հայաստանի Հանրապետությունում աշնանացան ցորենի արտադրության խթանման նպատակով փոխհատուցման տրամադրում | G93: =+G95 -> 10297.4
F94: այդ թվում` ըստ կատարողների
F95: ՀՀ էկոնոմիկայի նախարարություն | G95: =+G97 -> 10297.4
F96: այդ թվում` բյուջետային ծախսերի տնտեսագիտական դասակարգման հոդվածներ
F97: ԸՆԴԱՄԵՆԸ ԾԱԽՍԵՐ | G97: =+G98 -> 10297.4
F98: ԸՆԹԱՑԻԿ ԾԱԽՍԵՐ | G98: =+G99 -> 10297.4
F99: ՍՈՑԻԱԼԱԿԱՆ ՆՊԱՍՏՆԵՐ ԵՎ ԿԵՆՍԱԹՈՇԱԿՆԵՐ | G99: =+G100 -> 10297.4
F100: Սոցիալական օգնության դրամական արտահայտությամբ նպաստներ (բյուջեից) | G100: =+G101 -> 10297.4
F101: - Այլ նպաստներ բյուջեից | G101: =+'1'!D59 -> 10297.4
...

Sheet 3
G1: Հավելված № 3
F2: ՀՀ կառավարության 2023 թվականի
G3: № ------------ -Ն որոշման
B5: ՀԱՅԱՍՏԱՆԻ ՀԱՆՐԱՊԵՏՈՒԹՅԱՆ ԿԱՌԱՎԱՐՈՒԹՅԱՆ 2022 ԹՎԱԿԱՆԻ ԴԵԿՏԵՄԲԵՐԻ 29-Ի N 2111-Ն ՈՐՈՇՄԱՆ N 5 ՀԱՎԵԼՎԱԾԻ 7 ԱՂՅՈՒՍԱԿՈՒՄ ԿԱՏԱՐՎՈՂ ՓՈՓՈԽՈՒԹՅՈՒՆԸ
H6: հազար դրամներով
B7: Ծրագրային դասիչ | D7: Բյուջետային հատկացումների գլխավոր կարգադրիչների, ծրագրերի, միջոցառումների, ծախսային ուղղությունների անվանումները | G7: Միջոցառումները կատարող պետական մարմինների և դրամաշնորհ ստացող տնտեսվարող սուբյեկտների անվանումները | H7: Տարի
B8: Ծրագիր | C8: Միջոցառում | H8: Ցուցանիշների փոփոխությունը (ավելացումները նշված են դրական նշանով, իսկ նվազեցումները՝ փակագծերում)
B9: 1 | C9: 2 | D9: 3 | G9: 4 | H9: 5
B10: ԸՆԴԱՄԵՆԸ | H10: =+H11 -> -527186.9
B11: ՀՀ էկոնոմիկայի նախարարություն | H11: =+H12+H21+H27+H24+H32 -> -527186.9
B12: 1022 | C12: Գյուղատնտեսության խթանման ծրագիր | H12: =+H13+H15+H19+H17 -> -615080
C13: 11004 | D13: Հողային բարեփոխումների փորձնական ծրագրին աջակցություն | E13: Հողային բարեփոխումների փորձնական ծրագրին աջակցություն | F13: Հողային բարեփոխումների փորձնական ծրագրին աջակցություն | G13: ՀՀ էկոնոմիկայի նախարարություն | H13: =+H14 -> -335000
G14: «Գյուղատնտեսական ծառայությունների կենտրոն» ՊՈԱԿ | H14: =+'1'!D16 -> -335000
C15: 12011 | D15: Հայաստանի Հանրապետությունում գյուղատնտեսական նշանակության հողերի միավորմանը (կոնսոլիդացիային) աջակցություն | E15: Հայաստանի Հանրապետությունում գյուղատնտեսական նշանակության հողերի միավորմանը (կոնսոլիդացիային) աջակցություն | F15: Հայաստանի Հանրապետությունում գյուղատնտեսական նշանակության հողերի միավորմանը (կոնսոլիդացիային) աջակցություն | G15: ՀՀ էկոնոմիկայի նախարարություն | H15: =H16 -> -41400
G16: ՀՀ կառավարության կողմից հաստատված համապատասխան ծրագրի չափանիշները բավարարող շահառուներ | H16: =+'1'!D28 -> -41400
C17: 12012 | D17: Կոնյակի սպիրտի իրացման (արտահանման) աջակցության ծրագիր | G17: ՀՀ էկոնոմիկայի նախարարություն | H17: =+H18 -> 351320
G18: ՀՀ կառավարության կողմից հաստատված համապատասխան ծրագրի չափանիշները բավարարող շահառուներ | H18: =+'2'!G81 -> 351320
C19: 32001 | D19: Հողային բարեփոխումների փորձնական ծրագիր | E19: Հողային բարեփոխումների փորձնական ծրագիր | F19: Հողային բարեփոխումների փորձնական ծրագիր | G19: ՀՀ էկոնոմիկայի նախարարություն | H19: =+H20 -> -590000
G20: «Գյուղատնտեսական ծառայությունների կենտրոն» ՊՈԱԿ | H20: =+'1'!D40 -> -590000
B21: 1059 | C21: Բուսաբուծության խթանում և բույսերի պաշտպանություն | H21: =+H22 -> 308.9
C22: 11009 | D22: Հայաստանի Հանրապետությունում աշնանացան ցորենի ցանքատարածությունների մոնիթորինգի իրականացմանն աջակցություն | E22: Հայաստանի Հանրապետությունում աշնանացան ցորենի ցանքատարածությունների մոնիթորինգի իրականացմանն աջակցություն | F22: Հայաստանի Հանրապետությունում աշնանացան ցորենի ցանքատարածությունների մոնիթորինգի իրականացմանն աջակցություն | G22: ՀՀ էկոնոմիկայի նախարարություն | H22: =+H23 -> 308.9
G23: ՀՀ կառավարության կողմից հաստատված համապատասխան ծրագրի չափանիշները բավարարող համայնքներ | H23: =+'1'!D53 -> 308.9
B24: 1104 | C24: Գիտելիքահենք, նորարարական տնտեսությանը և փոքր ու միջին ձեռնարկատիրությանը աջակցություն | H24: =+H25 -> -300000
C25: 11002 | D25: Բարձր որակավորում ունեցող մասնագետների ներգրավման նպատակով տնտեսավարողներին աջակցություն | G25: ՀՀ էկոնոմիկայի նախարարություն | H25: =+H26 -> -300000
G26: «Նորամուծության և ձեռներեցության ազգային կենտրոն» ՊՈԱԿ | H26: ='1'!D72 -> -300000
B27: 1116 | C27: Անասնաբուժական ծառայություններ | H27: =SUM(H28,H30) -> -106000.8
C28: 11001 | D28: Գյուղատնտեսական կենդանիների պատվաստում | G28: ՀՀ էկոնոմիկայի նախարարություն | H28: =H29 -> -34000.8
G29: «Գյուղատնտեսական ծառայությունների կենտրոն» ՊՈԱԿ | H29: =+'1'!D91 -> -34000.8
C30: 11005 | D30: Հայաստանի Հանրապետությունում խոշոր եղջերավոր կենդանիների համարակալում և հաշվառում | G30: ՀՀ էկոնոմիկայի նախարարություն | H30: =H31 -> -72000
G31: «Գյուղատնտեսական ծառայությունների կենտրոն» ՊՈԱԿ | H31: =+'1'!D97 -> -72000
B32: 1187 | C32: Գյուղատնտեսության արդիականացման ծրագիր | H32: =H33+H35 -> 493585
C33: 12009 | D33: Հայաստանի Հանրապետությունում խաղողի, ժամանակակից տեխնոլոգիաներով մշակվող ինտենսիվ պտղատու այգիների և հատապտղանոցների հիմնման համար պետական աջակցության | G33: ՀՀ էկոնոմիկայի նախարարություն | H33: =+H34 -> -30000
G34: ՀՀ կառավարության կողմից հաստատված համապատասխան ծրագրի չափանիշները բավարարող շահառուներ | H34: =+'2'!G168 -> -30000
C35: 12015 | D35: Հայաստանի Հանրապետությունում ինտենսիվ այգեգործության զարգացման նպատակով ծախսերի փոխհատուցում | G35: ՀՀ էկոնոմիկայի նախարարություն | H35: =+H36 -> 523585
G36: ՀՀ կառավարության կողմից հաստատված համապատասխան ծրագրի չափանիշները բավարարող շահառուներ | H36: =+'1'!D140 -> 523585

Sheet 4
A1: Հավելված N 4 ՀՀ կառավարության 2023 թվականի հունիսի -ի N -Ն որոշման
A3: ՀԱՅԱՍՏԱՆԻ ՀԱՆՐԱՊԵՏՈՒԹՅԱՆ ԿԱՌԱՎԱՐՈՒԹՅԱՆ 2022 ԹՎԱԿԱՆԻ ԴԵԿՏԵՄԲԵՐԻ 29-Ի N 2111-Ն ՈՐՈՇՄԱՆ N 9 ՀԱՎԵԼՎԱԾԻ N 9.10 ԱՂՅՈՒՍԱԿՈՒՄ ԵՎ N 9.1 ՀԱՎԵԼՎԱԾԻ N 9.1.10 ԱՂՅՈՒՍԱԿՈՒՄ ԿԱՏԱՐՎՈՂ ՓՈՓՈԽՈՒԹՅՈՒՆՆԵՐԸ
A4: ՀՀ էկոնոմիկայի նախարարություն
A5: ՄԱՍ 2. ՊԵՏԱԿԱՆ ՄԱՐՄՆԻ ԳԾՈՎ ԱՐԴՅՈՒՆՔԱՅԻՆ (ԿԱՏԱՐՈՂԱԿԱՆ) ՑՈՒՑԱՆԻՇՆԵՐԸ
A7: Ծրագրի դասիչը | B7: Ծրագրի անվանումը
A8: 1022 | B8: Գյուղատնտեսության խթանման ծրագիր
A10: Ծրագրի դասիչը` | B10: 1022 | C10: Ցուցանիշների փոփոխությունը (նվազեցումները նշված են փակագծերում)
A11: Միջոցառման դասիչը` | B11: 11004 | C11: Տարի
A12: Միջոցառման անվանումը` | B12: Հողային բարեփոխումների փորձնական ծրագրին աջակցություն
A13: Նկարագրությունը` | B13: Գյուղատնտեսական նշանակության հողերի ադյունավետ օգտագործման, հողերի բանկավորման, կոնսոլիդացիայի և վարձակալության խթանման միջոցառումներ
A14: Միջոցառման տեսակը` | B14: Ծառայությունների մատուցում
A15: Շահառուների ընտրության չափանիշները | B15: Մասնագիտացված կազմակերպություններ
A16: Արդյունքի չափորոշիչներ
A17: Բարելավված հողեր, չօգտագործվող գյուղատնտեսական նշանակության հողերի շրջանառության մեջ ներառում, հա | C17: -59
A18: Միջոցառման վրա կատարվող ծախսը (հազար դրամ) | C18: =+'1'!D16 -> -335000
A20: Ծրագրի դասիչը` | B20: 1022 | C20: Ցուցանիշների փոփոխությունը (ավելացումները նշված են դրական նշանով)
A21: Միջոցառման դասիչը` | B21: 12004 | C21: Տարի
A22: Միջոցառման անվանումը` | B22: Գյուղատնտեսական հումքի մթերումների (գնումների) նպատակով տրամադրվող վարկերի տոկոսադրույքների սուբսիդավորում
A23: Նկարագրությունը` | B23: Պտուղբանջարեղենի, խաղողի, կաթի, շինշիլայի և գյուղատնտեսական կենդանիների մթերումների (գնումների) կազմակերպման նպատակով ընկերություններին մատչելի պայմաններով վարկերի տրամադրում
A24: Միջոցառման տեսակը` | B24: Տրանսֆերտների տրամադրում
A25: Շահառուների ընտրության չափանիշները | B25: ՀՀ ընկերություններ՛ ընտրված համաձայն՛ ՀՀ կառավարության 28.02.2019թ. թիվ 201-Լ որոշմամբ հաստատված ծրագրի և ֆինանսական կառույցների կողմից հաստատված համապատասխան չափանիշների
A26: Արդյունքի չափորոշիչներ
A27: Սուբսիդավորվող տնտեսավարող սուբյեկտներ, վարկառու | C27: 21
A28: Միջոցառման վրա կատարվող ծախսը (հազար դրամ) | C28: =+'1'!D22 -> 320495
A30: Ծրագրի դասիչը` | B30: 1022 | C30: Ցուցանիշների փոփոխությունը (նվազեցումները նշված են փակագծերում)
A31: Միջոցառման դասիչը` | B31: 12011 | C31: Տարի
A32: Միջոցառման անվանումը` | B32: Հայաստանի Հանրապետությունում գյուղատնտեսական նշանակության հողերի միավորմանը (կոնսոլիդացիային) աջակցություն
A33: Նկարագրությունը` | B33: Գյուղատնտեսական նշանակության հողերի առանձին գույքային միավորների ձեռքբերման և դրանց սահմանների միավորման միջոցով առնվազն 30 հա հանրագումարային մակերեսով հողամասերի վրա իրականացված համալիր միջոցառումների համար փաստացի կատարված ծախսերի մասնակի փոխհատուցում
A34: Միջոցառման տեսակը` | B34: Տրանսֆերտների տրամադրում
A35: Շահառուների ընտրության չափանիշները | B35: ՀՀ տնտեսավարողներ՛ ՀՀ կառավարության 04.08.2022թ. թիվ1220-Լ որոշմամբ հաստատված ծրագրի չափանիշներին համապատասխան
A36: Արդյունքի չափորոշիչներ
A37: Ծրագրի շրջանակներում միավորված և շրջանառության մեջ ներառված գյուղատնտեսական նշանակության հողեր, հեկտար | C37: -30
A38: Միջոցառման վրա կատարվող ծախսը (հազար դրամ) | C38: =+'1'!D28 -> -41400
A41: Ծրագրի դասիչը` | B41: 1022 | C41: Ցուցանիշների փոփոխությունը (ավելացումները նշված են դրական նշանով)
A42: Միջոցառման դասիչը` | B42: 12012 | C42: Տարի
A43: Միջոցառման անվանումը` | B43: Կոնյակի սպիրտի իրացման (արտահանման) աջակցության ծրագիր
A44: Նկարագրությունը` | B44: Կոնյակի սպիրտ իրացնող (հարյուր հազար լիտրից ավելի) տնտեսավարող սուբյեկտներին վճարված լրացուցիչ պետական տուրքի չափով օժանդակության տրամադրում
A45: Միջոցառման տեսակը` | B45: Տրանսֆերտների տրամադրում
A46: Շահառուների ընտրության չափանիշները | B46: ՀՀ կառավարության 2020 թվականի օգոստոսի 13-ի թիվ 1355-Լ որոշմանը համապատասխանող տնտեսավարողներ
A47: Արդյունքի չափորոշիչներ
A48: Աջակցություն ստացող տնտեսավարողներ | C48: 3
A49: Միջոցառման վրա կատարվող ծախսը (հազար դրամ) | C49: =+'1'!D34 -> 351320
A51: Ծրագրի դասիչը` | B51: 1022 | C51: Ցուցանիշների փոփոխությունը (նվազեցումները նշված են փակագծերում)
A52: Միջոցառման դասիչը` | B52: 32001 | C52: Տարի
A53: Միջոցառման անվանումը` | B53: Հողային բարեփոխումների փորձնական ծրագիր
A54: Նկարագրությունը` | B54: Գյուղատնտեսական նշնակության հողերի ձեռքբերում, օտարում, վարձակալություն, միջնորդությունների իրականացում, փոխանակում
A55: Միջոցառման տեսակը` | B55: Այլ պետական կազմակերպությունների կողմից օգտագործվող ոչ ֆինանսական ակտիվների հետ գործառնություններ
A56: Շահառուների ընտրության չափանիշները | B56: Մասնագիտացված կազմակերպություններ
A57: Արդյունքի չափորոշիչներ
A58: Ծրագրի շրջանակներում ձեռքբերված և շրջանառության մեջ ներառված գյուղատնտեսական նշանակության հողեր, հեկտար | C58: -118
A59: Միջոցառման վրա կատարվող ծախսը (հազար դրամ) | C59: =+'1'!D40 -> -590000
A61: Ծրագրի դասիչը | B61: Ծրագրի անվանումը
A62: 1059 | B62: Բուսաբուծության խթանում և բույսերի պաշտպանություն
A64: Ծրագրի միջոցառումները
A67: Ծրագրի դասիչը` | B67: 1059 | C67: Ցուցանիշների փոփոխությունը (ավելացումները նշված են դրական նշանով, իսկ նվազեցումները` փակագծերում)
A68: Միջոցառման դասիչը` | B68: 12002 | C68: Տարի
A69: Միջոցառման անվանումը` | B69: Հայաստանի Հանրապետությունում աշնանացան ցորենի արտադրության խթանման նպատակով փոխհատուցման տրամադրում
A70: Նկարագրությունը` | B70: Աշնանացան ցորենի ցանքատարածությունների ընդլայնմանը և ցորենի համախառն բերքի ծավալների ավելացմանը նպաստելու նպատակով կատարված մշակության ծախսերի մասնակի փոխհատուցում
A71: Միջոցառման տեսակը` | B71: Տրանսֆերտների տրամադրում
A72: Շահառուների ընտրության չափանիշները | B72: ՀՀ գյուղատնտեսական տնտեսավարողներ` ընտրված համաձայն ՀՀ կառավարության 11.08.2022թ. թիվ 1313-Լ որոշմամբ հաստատված ծրագրի չափանիշներ
A73: Արդյունքի չափորոշիչներ
A74: Ծրագրի շրջանակներում աշնանացան ցորենի հավաստագրված սերմով ապահովված ցանքատարածություններ, հա | C74: 92.3
A75: Ծրագրի շրջանակներում աշնանացան ցորենի չհավաստագրված սերմով ապահովված ցանքատարածություններ, հա | C75: -11.2
A76: Միջոցառման վրա կատարվող ծախսը (հազար դրամ) | C76: =+'1'!D59 -> 10297.4
A79: Ծրագրի դասիչը` | B79: 1059 | C79: Ցուցանիշների փոփոխությունը (ավելացումները նշված են դրական նշանով)
A80: Միջոցառման դասիչը` | B80: 11009 | C80: Տարի
A81: Միջոցառման անվանումը` | B81: Հայաստանի Հանրապետությունում աշնանացան ցորենի ցանքատարածությունների մոնիթորինգի իրականացմանն աջակցություն
A82: Նկարագրությունը` | B82: Համայնքների կողմից աշնանացան ցորենի ցանքատարածությունների մոնիթորինգի իրականացում, արդյունքների ամփոփում և համապատասխան տեղեկատվության ներկայացում
A83: Միջոցառման տեսակը` | B83: Ծառայությունների մատուցում
A84: Միջոցառումն իրականացնողի անվանումը՛ | B84: ՀՀ համայնքներ՛ ընտրված համաձայն ՀՀ կառավարության 11.08.2022թ. թիվ 1313-Լ որոշմամբ հաստատված ծրագրի չափանիշների
A85: Արդյունքի չափորոշիչներ
A86: Մոնիթորինգի ենթարկված ցանքատարածություններ, հա | C86: 81.1
A87: Միջոցառման վրա կատարվող ծախսը (հազար դրամ) | C87: =+'1'!D53 -> 308.9
A89: Ծրագրի դասիչը | B89: Ծրագրի անվանումը
A90: 1104 | B90: Գիտելիքահենք, նորարարական տնտեսությանը և փոքր ու միջին ձեռնարկատիրությանը աջակցություն
A92: Ծրագրի միջոցառումները
A95: Ծրագրի դասիչը` | B95: 1104 | C95: Ցուցանիշների փոփոխությունը (նվազեցումները նշված են փակագծերում)
A96: Միջոցառման դասիչը` | B96: 11002 | C96: Տարի
A97: Միջոցառման անվանումը` | B97: Բարձր որակավորում ունեցող մասնագետների ներգրավման նպատակով տնտեսավարողներին աջակցություն
A98: Նկարագրությունը` | B98: Հայաստանի Հանրապետության տարածքում գործող ընկերությունների արտադրողականության բարձրացման նպատակով բարձր որոկովորում ունեցող մասնագետների ներգրավմանը աջակցություն
A99: Միջոցառման տեսակը` | B99: Ծառայությունների մատուցում
A100: Միջոցառումն իրականացնողի անվանումը | B100: Մասնագիտացված կազմակերպություն
A101: Արդյունքի չափորոշիչներ
A102: Միջոցառման վրա կատարվող ծախսը (հազար դրամ) | C102: =+'1'!D72 -> -300000
A105: Ծրագրի դասիչը` | B105: 1104 | C105: Ցուցանիշների փոփոխությունը (նվազեցումները նշված են փակագծերում)
A106: Միջոցառման դասիչը` | B106: 12001 | C106: Տարի
A107: Միջոցառման անվանումը` | B107: Տնտեսության արդիականացման միջոցառմանը պետական աջակցություն
A108: Նկարագրությունը` | B108: Արտադրական հնարավորությունների արդիականացման և նոր տեխնոլոգիաների ներմուծման խթանման նպատակով մատչելի պայմաններով վարկերի տրամադրում
A109: Միջոցառման տեսակը` | B109: Տրանսֆերտների տրամադրում
A110: Շահառուների ընտրության չափանիշները | B110: ՀՀ կառավարության 26.03.2020թ. N 355-Լ որոշման պահանջներին համապատասխանող սուբյեկտներ
A111: Արդյունքի չափորոշիչներ
A112: Միջոցառման վրա կատարվող ծախսը (հազար դրամ) | C112: =+'1'!D78 -> -250000
A114: Ծրագրի դասիչը | B114: Ծրագրի անվանումը
A115: 1116 | B115: Անասնաբուժական ծառայություններ
A117: Ծրագրի միջոցառումները
A120: Ծրագրի դասիչը` | B120: 1116 | C120: Ցուցանիշների փոփոխությունը (նվազեցումները նշված են փակագծերում)
A121: Միջոցառման դասիչը` | B121: 11001 | C121: Տարի
A122: Միջոցառման անվանումը` | B122: Գյուղատնտեսական կենդանիների պատվաստում
A123: Նկարագրությունը` | B123: Անասնաբուժական ծառայության հակահամաճարակային միջոցառումների, կենդանիների հիվանդությունների կանխարգելման աշխատանքների կազմակերպում և համակարգում, անհրաժեշտ նյութերի ձեռքբերում:
A124: Միջոցառման տեսակը` | B124: Ծառայությունների մատուցում
...
