Workbook
Name _tab10: #REF!
Name _tab11: #REF!
Name _tab12: #REF!
Name _tab13: #REF!
Name _tab14: #REF!
Name _tab15: #REF!
Name _tab16: #REF!
Name _tab17: #REF!
Name _tab18: #REF!
Name _tab19: #REF!
Name _tab20: #REF!
Name _tab21: #REF!
Name _tab22: #REF!
Name _tab23: #REF!
Name _tab24: #REF!
Name _tab5: #REF!
Name _tab6: #REF!
Name _tab7: #REF!
Name _tab8: #REF!
Name _tab9: #REF!
Name AgencyCode: #REF!
Name AgencyName: #REF!
Name åû: #REF!
Name davit: #REF!
Name Functional1: #REF!
Name ggg: #REF!
Name mas: #REF!
Name mass: #REF!
Name PANature: #REF!
Name par_count: #REF!,#REF!,#REF!,#REF!,#REF!,#REF!,#REF!,#REF!,#REF!,#REF!,#REF!,#REF!,#REF!,#REF!,#REF!
Name par_qual: #REF!,#REF!,#REF!,#REF!,#REF!
Name par_time: #REF!,#REF!,#REF!,#REF!
Name par2.12s: #REF!
Name par2.4s: #REF!,#REF!,#REF!,#REF!,#REF!,#REF!,#REF!,#REF!,#REF!,#REF!,#REF!,#REF!,#REF!,#REF!,#REF!,#REF!
Name par2.5s: #REF!,#REF!
Name par2.6s: #REF!,#REF!,#REF!,#REF!
Name par2.7s: #REF!,#REF!
Name par2.9s: #REF!,#REF!,#REF!,#REF!,#REF!,#REF!,#REF!,#REF!,#REF!,#REF!,#REF!,#REF!,#REF!,#REF!,#REF!,#REF!
Name par4.10s: #REF!,#REF!
Name par4.11d: #REF!,#REF!,#REF!,#REF!,#REF!
Name par4.12d: #REF!
Name par4.13s: #REF!
Name par4.14: #REF!,#REF!,#REF!,#REF!,#REF!,#REF!
Name par4.15: #REF!,#REF!,#REF!
Name par4.16: #REF!,#REF!,#REF!
Name par4.17: #REF!,#REF!,#REF!,#REF!
Name par4.18d: #REF!,#REF!
Name par4.19s: #REF!
Name par4.20f: #REF!
Name par4.21f: #REF!
Name par4.22: #REF!
Name par4.4: #REF!
Name par4.5: #REF!
Name par4.6s: #REF!
Name par4.7s: #REF!
Name par4.8: #REF!,#REF!,#REF!,#REF!,#REF!
Name par4.9: #REF!,#REF!,#REF!,#REF!,#REF!,#REF!
Name par5.1: #REF!,#REF!
Name par5.3: #REF!,#REF!,#REF!,#REF!,#REF!,#REF!
Name par5.4: #REF!,#REF!,#REF!,#REF!,#REF!

Sheet 1
A1: Հավելված N 1 ՀՀ կառավարության 2023 թվականի հունիսի -ի N -Ն որոշման
A3: «ՀԱՅԱՍՏԱՆԻ ՀԱՆՐԱՊԵՏՈՒԹՅԱՆ 2023 ԹՎԱԿԱՆԻ ՊԵՏԱԿԱՆ ԲՅՈՒՋԵԻ ՄԱՍԻՆ» ՀԱՅԱՍՏԱՆԻ ՀԱՆՐԱՊԵՏՈՒԹՅԱՆ ՕՐԵՆՔԻ N 1 ՀԱՎԵԼՎԱԾԻ N 2 ԱՂՅՈՒՍԱԿՈՒՄ ԿԱՏԱՐՎՈՂ ՎԵՐԱԲԱՇԽՈՒՄԸ ԵՎ ՀԱՅԱՍՏԱՆԻ ՀԱՆՐԱՊԵՏՈՒԹՅԱՆ ԿԱՌԱՎԱՐՈՒԹՅԱՆ 2022 ԹՎԱԿԱՆԻ ԴԵԿՏԵՄԲԵՐԻ 29-Ի N 2111-Ն ՈՐՈՇՄԱՆ N 5 ՀԱՎԵԼՎԱԾԻ N 1 ԱՂՅՈՒՍԱԿՈՒՄ ԿԱՏԱՐՎՈՂ ՓՈՓՈԽՈՒԹՅՈՒՆՆԵՐԸ
D4: հազար դրամներով
A5: Ծրագրային դասիչը | C5: Բյուջետային գլխավոր կարգադրիչների, ծրագրերի և միջոցառումների անվանումները | D5: Ցուցանիշների փոփոխությունը (ավելացումները նշված են դրական նշանով, իսկ նվազեցումները՝ փակագծերում)
A6: Ծրագիր | B6: Միջոցառում | D6: Տարի
C7: ԸՆԴԱՄԵՆԸ ԾԱԽՍԵՐ | D7: =+D8 -> 0
C8: ՀՀ էկոնոմիկայի նախարարություն | D8: =+D9+D46+D65+D84+D103 -> 0
A9: 1022 | C9: Ծրագրի անվանումը` | D9: =+D16+D22+D34+D40+D28 -> -294585
C10: Գյուղատնտեսության խթանման ծրագիր
C11: Ծրագրի նպատակը`
C12: Գյուղատնտեսական մթերքի և դրանց վերամշակումից ստացվող սննդամթերքի ծավալների ավելացում
C13: Վերջնական արդյունքի նկարագրությունը`
C14: Գյուղատնտեսական մթերքների ծավալների ավելացում: Օգտագործվող վարելահողերի ավելացում: Պտուղբանջարեղենի և խաղողի վերամշակումից ստացված արտադրանքի ծավալների աճ
A15: Ծրագրի միջոցառումներ
B16: 11004 | C16: Միջոցառման անվանումը` | D16: -335000
C17: Հողային բարեփոխումների փորձնական ծրագրին աջակցություն
C18: Միջոցառման նկարագրությունը`
C19: Գյուղատնտեսական նշանակության հողերի ադյունավետ օգտագործման, հողերի բանկավորման, կոնսոլիդացիայի և վարձակալության խթանման միջոցառումներ
C20: Միջոցառման տեսակը
C21: Ծառայությունների մատուցում
B22: 12004 | C22: Միջոցառման անվանումը` | D22: 320495
C23: Գյուղատնտեսական հումքի մթերումների (գնումների) նպատակով տրամադրվող վարկերի տոկոսադրույքների սուբսիդավորում
C24: Միջոցառման նկարագրությունը`
C25: Պտուղբանջարեղենի, խաղողի, կաթի, շինշիլայի և գյուղատնտեսական կենդանիների մթերումների (գնումների) կազմակերպման նպատակով ընկերություններին մատչելի պայմաններով վարկերի տրամադրում
C26: Միջոցառման տեսակը
C27: Տրանսֆերտների տրամադրում
B28: 12011 | C28: Միջոցառման անվանումը` | D28: -41400
C29: Հայաստանի Հանրապետությունում գյուղատնտեսական նշանակության հողերի միավորմանը (կոնսոլիդացիային) աջակցություն
C30: Միջոցառման նկարագրությունը`
C31: Գյուղատնտեսական նշանակության հողերի առանձին գույքային միավորների ձեռքբերման և դրանց սահմանների միավորման միջոցով առնվազն 30 հա հանրագումարային մակերեսով հողամասերի վրա իրականացված համալիր միջոցառումների համար փաստացի կատարված ծախսերի մասնակի փոխհատուցում
C32: Միջոցառման տեսակը
C33: Տրանսֆերտների տրամադրում
B34: 12012 | C34: Միջոցառման անվանումը` | D34: 351320
C35: Կոնյակի սպիրտի իրացման (արտահանման) աջակցության ծրագիր
C36: Միջոցառման նկարագրությունը`
C37: Կոնյակի սպիրտ իրացնող (հարյուր հազար լիտրից ավելի) տնտեսավարող սուբյեկտներին վճարված լրացուցիչ պետական տուրքի չափով օժանդակության տրամադրում
C38: Միջոցառման տեսակը
C39: Տրանսֆերտների տրամադրում
B40: 32001 | C40: Միջոցառման անվանումը` | D40: -590000
C41: Հողային բարեփոխումների փորձնական ծրագիր
...

Sheet 2
A1: Հավելված N 2 ՀՀ կառավարության 2023 թվականի հունիսի -ի N -Ն որոշման
A3: ՀԱՅԱՍՏԱՆԻ ՀԱՆՐԱՊԵՏՈՒԹՅԱՆ ԿԱՌԱՎԱՐՈՒԹՅԱՆ 2022 ԹՎԱԿԱՆԻ ԴԵԿՏԵՄԲԵՐԻ 29-Ի N 2111-Ն ՈՐՈՇՄԱՆ N 3 ԵՎ 4 ՀԱՎԵԼՎԱԾՆԵՐՈՒՄ ԿԱՏԱՐՎՈՂ ՓՈՓՈԽՈՒԹՅՈՒՆՆԵՐԸ
G4: հազար դրամներով
A5: Գործառական դասիչը | D5: Ծրագրային դասիչը | F5: Բյուջետային ծախսերի գործառական դասակարգման բաժինների, խմբերի և դասերի, բյուջետային ծրագրերի միջոցառումների, բյուջետային հատկացումների գլխավոր կարգադրիչների անվանումները | G5: Ցուցանիշների փոփոխությունը (ավելացումները նշված են դրական նշանով, իսկ նվազեցումները՝ փակագծերում)
A6: Բաժին | B6: Խումբ | C6: Դաս | D6: Ծրագիր | E6: Միջոցառում | G6: Տարի
F7: ԸՆԴԱՄԵՆԸ ԾԱԽՍԵՐ | G7: =+G8 -> 0
F8: ՀՀ էկոնոմիկայի նախարարություն | G8: =+G10 -> 0
F9: այդ թվում`
A10: 04 | F10: ՏՆՏԵՍԱԿԱՆ ՀԱՐԱԲԵՐՈՒԹՅՈՒՆՆԵՐ | G10: =+G12+G38 -> 0
F11: այդ թվում`
B12: 01 | F12: Ընդհանուր բնույթի տնտեսական, առևտրային և աշխատանքի գծով հարաբերություններ | G12: =+G14 -> -550000
F13: այդ թվում`
C14: 01 | F14: Ընդհանուր բնույթի տնտեսական և առևտրային հարաբերություններ | G14: =G16 -> -550000
F15: այդ թվում`
F16: ՀՀ էկոնոմիկայի նախարարություն | G16: =+G18+G94+G74 -> -550000
F17: այդ թվում`
D18: 1104 | F18: Գիտելիքահենք, նորարարական տնտեսությանը և փոքր ու միջին ձեռնարկատիրությանը աջակցություն | G18: =+G20+G29 -> -550000
F19: այդ թվում`
E20: 11002 | F20: Բարձր որակավորում ունեցող մասնագետների ներգրավման նպատակով տնտեսավարողներին աջակցություն | G20: =+G22 -> -300000
F21: այդ թվում` ըստ կատարողների
F22: ՀՀ էկոնոմիկայի նախարարություն | G22: =+G24 -> -300000
F23: այդ թվում` բյուջետային ծախսերի տնտեսագիտական դասակարգման հոդվածներ
F24: ԸՆԴԱՄԵՆԸ ԾԱԽՍԵՐ | G24: =+G28 -> -300000
F25: ԸՆԹԱՑԻԿ ԾԱԽՍԵՐ | G25: =+G26 -> -300000
F26: ԴՐԱՄԱՇՆՈՐՀՆԵՐ | G26: =+G27 -> -300000
F27: Ընթացիկ դրամաշնորհներ պետական հատվածի այլ մակարդակներին | G27: =+G28 -> -300000
F28: - Ընթացիկ դրամաշնորհներ պետական և համայնքների ոչ առևտրային կազմակերպություններին | G28: -300000
E29: 12001 | F29: Տնտեսության արդիականացման միջոցառմանը պետական աջակցություն | G29: =+G31 -> -250000
F30: այդ թվում` ըստ կատարողների
F31: ՀՀ էկոնոմիկայի նախարարություն | G31: =+G33 -> -250000
F32: այդ թվում` բյուջետային ծախսերի տնտեսագիտական դասակարգման հոդվածներ
F33: ԸՆԴԱՄԵՆԸ ԾԱԽՍԵՐ | G33: =+G37 -> -250000
F34: ԸՆԹԱՑԻԿ ԾԱԽՍԵՐ | G34: =+G35 -> -250000
F35: ՍՈՒԲՍԻԴԻԱՆԵՐ | G35: =+G36 -> -250000
F36: Սուբսիդիաներ ոչ պետական կազմակերպություններին | G36: =+G37 -> -250000
F37: - Սուբսիդիաներ ոչ պետական ֆինանսական կազմակերպություններին | G37: -250000
B38: 02 | F38: Գյուղատնտեսություն, անտառային տնտեսություն, ձկնորսություն և որսորդություն | G38: =+G40 -> 550000
F39: այդ թվում`
C40: 01 | F40: Գյուղատնտեսություն | G40: =+G42 -> 550000
F41: այդ թվում`
...

Sheet 3
G1: Հավելված № 3
F2: ՀՀ կառավարության 2023 թվականի
G3: № ------------ -Ն որոշման
B5: ՀԱՅԱՍՏԱՆԻ ՀԱՆՐԱՊԵՏՈՒԹՅԱՆ ԿԱՌԱՎԱՐՈՒԹՅԱՆ 2022 ԹՎԱԿԱՆԻ ԴԵԿՏԵՄԲԵՐԻ 29-Ի N 2111-Ն ՈՐՈՇՄԱՆ N 5 ՀԱՎԵԼՎԱԾԻ 7 ԱՂՅՈՒՍԱԿՈՒՄ ԿԱՏԱՐՎՈՂ ՓՈՓՈԽՈՒԹՅՈՒՆԸ
H6: հազար դրամներով
B7: Ծրագրային դասիչ | D7: Բյուջետային հատկացումների գլխավոր կարգադրիչների, ծրագրերի, միջոցառումների, ծախսային ուղղությունների անվանումները | G7: Միջոցառումները կատարող պետական մարմինների և դրամաշնորհ ստացող տնտեսվարող սուբյեկտների անվանումները | H7: Տարի
B8: Ծրագիր | C8: Միջոցառում | H8: Ցուցանիշների փոփոխությունը (ավելացումները նշված են դրական նշանով, իսկ նվազեցումները՝ փակագծերում)
B9: 1 | C9: 2 | D9: 3 | G9: 4 | H9: 5
B10: ԸՆԴԱՄԵՆԸ | H10: =+H11 -> -527186.9
B11: ՀՀ էկոնոմիկայի նախարարություն | H11: =+H12+H21+H27+H24+H32 -> -527186.9
B12: 1022 | C12: Գյուղատնտեսության խթանման ծրագիր | H12: =+H13+H15+H19+H17 -> -615080
C13: 11004 | D13: Հողային բարեփոխումների փորձնական ծրագրին աջակցություն | E13: Հողային բարեփոխումների փորձնական ծրագրին աջակցություն | F13: Հողային բարեփոխումների փորձնական ծրագրին աջակցություն | G13: ՀՀ էկոնոմիկայի նախարարություն | H13: =+H14 -> -335000
G14: «Գյուղատնտեսական ծառայությունների կենտրոն» ՊՈԱԿ | H14: =+'1'!D16 -> -335000
C15: 12011 | D15: Հայաստանի Հանրապետությունում գյուղատնտեսական նշանակության հողերի միավորմանը (կոնսոլիդացիային) աջակցություն | E15: Հայաստանի Հանրապետությունում գյուղատնտեսական նշանակության հողերի միավորմանը (կոնսոլիդացիային) աջակցություն | F15: Հայաստանի Հանրապետությունում գյուղատնտեսական նշանակության հողերի միավորմանը (կոնսոլիդացիային) աջակցություն | G15: ՀՀ էկոնոմիկայի նախարարություն | H15: =H16 -> -41400
G16: ՀՀ կառավարության կողմից հաստատված համապատասխան ծրագրի չափանիշները բավարարող շահառուներ | H16: =+'1'!D28 -> -41400
C17: 12012 | D17: Կոնյակի սպիրտի իրացման (արտահանման) աջակցության ծրագիր | G17: ՀՀ էկոնոմիկայի նախարարություն | H17: =+H18 -> 351320
G18: ՀՀ կառավարության կողմից հաստատված համապատասխան ծրագրի չափանիշները բավարարող շահառուներ | H18: =+'2'!G81 -> 351320
C19: 32001 | D19: Հողային բարեփոխումների փորձնական ծրագիր | E19: Հողային բարեփոխումների փորձնական ծրագիր | F19: Հողային բարեփոխումների փորձնական ծրագիր | G19: ՀՀ էկոնոմիկայի նախարարություն | H19: =+H20 -> -590000
G20: «Գյուղատնտեսական ծառայությունների կենտրոն» ՊՈԱԿ | H20: =+'1'!D40 -> -590000
B21: 1059 | C21: Բուսաբուծության խթանում և բույսերի պաշտպանություն | H21: =+H22 -> 308.9
C22: 11009 | D22: Հայաստանի Հանրապետությունում աշնանացան ցորենի ցանքատարածությունների մոնիթորինգի իրականացմանն աջակցություն | E22: Հայաստանի Հանրապետությունում աշնանացան ցորենի ցանքատարածությունների մոնիթորինգի իրականացմանն աջակցություն | F22: Հայաստանի Հանրապետությունում աշնանացան ցորենի ցանքատարածությունների մոնիթորինգի իրականացմանն աջակցություն | G22: ՀՀ էկոնոմիկայի նախարարություն | H22: =+H23 -> 308.9
G23: ՀՀ կառավարության կողմից հաստատված համապատասխան ծրագրի չափանիշները բավարարող համայնքներ | H23: =+'1'!D53 -> 308.9
B24: 1104 | C24: Գիտելիքահենք, նորարարական տնտեսությանը և փոքր ու միջին ձեռնարկատիրությանը աջակցություն | H24: =+H25 -> -300000
C25: 11002 | D25: Բարձր որակավորում ունեցող մասնագետների ներգրավման նպատակով տնտեսավարողներին աջակցություն | G25: ՀՀ էկոնոմիկայի նախարարություն | H25: =+H26 -> -300000
G26: «Նորամուծության և ձեռներեցության ազգային կենտրոն» ՊՈԱԿ | H26: ='1'!D72 -> -300000
B27: 1116 | C27: Անասնաբուժական ծառայություններ | H27: =SUM(H28,H30) -> -106000.8
C28: 11001 | D28: Գյուղատնտեսական կենդանիների պատվաստում | G28: ՀՀ էկոնոմիկայի նախարարություն | H28: =H29 -> -34000.8
G29: «Գյուղատնտեսական ծառայությունների կենտրոն» ՊՈԱԿ | H29: =+'1'!D91 -> -34000.8
C30: 11005 | D30: Հայաստանի Հանրապետությունում խոշոր եղջերավոր կենդանիների համարակալում և հաշվառում | G30: ՀՀ էկոնոմիկայի նախարարություն | H30: =H31 -> -72000
G31: «Գյուղատնտեսական ծառայությունների կենտրոն» ՊՈԱԿ | H31: =+'1'!D97 -> -72000
B32: 1187 | C32: Գյուղատնտեսության արդիականացման ծրագիր | H32: =H33+H35 -> 493585
C33: 12009 | D33: Հայաստանի Հանրապետությունում խաղողի, ժամանակակից տեխնոլոգիաներով մշակվող ինտենսիվ պտղատու այգիների և հատապտղանոցների հիմնման համար պետական աջակցության | G33: ՀՀ էկոնոմիկայի նախարարություն | H33: =+H34 -> -30000
G34: ՀՀ կառավարության կողմից հաստատված համապատասխան ծրագրի չափանիշները բավարարող շահառուներ | H34: =+'2'!G168 -> -30000
C35: 12015 | D35: Հայաստանի Հանրապետությունում ինտենսիվ այգեգործության զարգացման նպատակով ծախսերի փոխհատուցում | G35: ՀՀ էկոնոմիկայի նախարարություն | H35: =+H36 -> 523585
G36: ՀՀ կառավարության կողմից հաստատված համապատասխան ծրագրի չափանիշները բավարարող շահառուներ | H36: =+'1'!D140 -> 523585

Sheet 4
A1: Հավելված N 4 ՀՀ կառավարության 2023 թվականի հունիսի -ի N -Ն որոշման
A3: ՀԱՅԱՍՏԱՆԻ ՀԱՆՐԱՊԵՏՈՒԹՅԱՆ ԿԱՌԱՎԱՐՈՒԹՅԱՆ 2022 ԹՎԱԿԱՆԻ ԴԵԿՏԵՄԲԵՐԻ 29-Ի N 2111-Ն ՈՐՈՇՄԱՆ N 9 ՀԱՎԵԼՎԱԾԻ N 9.10 ԱՂՅՈՒՍԱԿՈՒՄ ԵՎ N 9.1 ՀԱՎԵԼՎԱԾԻ N 9.1.10 ԱՂՅՈՒՍԱԿՈՒՄ ԿԱՏԱՐՎՈՂ ՓՈՓՈԽՈՒԹՅՈՒՆՆԵՐԸ
A4: ՀՀ էկոնոմիկայի նախարարություն
A5: ՄԱՍ 2. ՊԵՏԱԿԱՆ ՄԱՐՄՆԻ ԳԾՈՎ ԱՐԴՅՈՒՆՔԱՅԻՆ (ԿԱՏԱՐՈՂԱԿԱՆ) ՑՈՒՑԱՆԻՇՆԵՐԸ
A7: Ծրագրի դասիչը | B7: Ծրագրի անվանումը
A8: 1022 | B8: Գյուղատնտեսության խթանման ծրագիր
A10: Ծրագրի դասիչը` | B10: 1022 | C10: Ցուցանիշների փոփոխությունը (նվազեցումները նշված են փակագծերում)
A11: Միջոցառման դասիչը` | B11: 11004 | C11: Տարի
A12: Միջոցառման անվանումը` | B12: Հողային բարեփոխումների փորձնական ծրագրին աջակցություն
A13: Նկարագրությունը` | B13: Գյուղատնտեսական նշանակության հողերի ադյունավետ օգտագործման, հողերի բանկավորման, կոնսոլիդացիայի և վարձակալության խթանման միջոցառումներ
A14: Միջոցառման տեսակը` | B14: Ծառայությունների մատուցում
A15: Շահառուների ընտրության չափանիշները | B15: Մասնագիտացված կազմակերպություններ
A16: Արդյունքի չափորոշիչներ
A17: Բարելավված հողեր, չօգտագործվող գյուղատնտեսական նշանակության հողերի շրջանառության մեջ ներառում, հա | C17: -59
A18: Միջոցառման վրա կատարվող ծախսը (հազար դրամ) | C18: =+'1'!D16 -> -335000
A20: Ծրագրի դասիչը` | B20: 1022 | C20: Ցուցանիշների փոփոխությունը (ավելացումները նշված են դրական նշանով)
A21: Միջոցառման դասիչը` | B21: 12004 | C21: Տարի
A22: Միջոցառման անվանումը` | B22: Գյուղատնտեսական հումքի մթերումների (գնումների) նպատակով տրամադրվող վարկերի տոկոսադրույքների սուբսիդավորում
A23: Նկարագրությունը` | B23: Պտուղբանջարեղենի, խաղողի, կաթի, շինշիլայի և գյուղատնտեսական կենդանիների մթերումների (գնումների) կազմակերպման նպատակով ընկերություններին մատչելի պայմաններով վարկերի տրամադրում
A24: Միջոցառման տեսակը` | B24: Տրանսֆերտների տրամադրում
A25: Շահառուների ընտրության չափանիշները | B25: ՀՀ ընկերություններ՛ ընտրված համաձայն՛ ՀՀ կառավարության 28.02.2019թ. թիվ 201-Լ որոշմամբ հաստատված ծրագրի և ֆինանսական կառույցների կողմից հաստատված համապատասխան չափանիշների
A26: Արդյունքի չափորոշիչներ
A27: Սուբսիդավորվող տնտեսավարող սուբյեկտներ, վարկառու | C27: 21
A28: Միջոցառման վրա կատարվող ծախսը (հազար դրամ) | C28: =+'1'!D22 -> 320495
A30: Ծրագրի դասիչը` | B30: 1022 | C30: Ցուցանիշների փոփոխությունը (նվազեցումները նշված են փակագծերում)
A31: Միջոցառման դասիչը` | B31: 12011 | C31: Տարի
A32: Միջոցառման անվանումը` | B32: Հայաստանի Հանրապետությունում գյուղատնտեսական նշանակության հողերի միավորմանը (կոնսոլիդացիային) աջակցություն
A33: Նկարագրությունը` | B33: Գյուղատնտեսական նշանակության հողերի առանձին գույքային միավորների ձեռքբերման և դրանց սահմանների միավորման միջոցով առնվազն 30 հա հանրագումարային մակերեսով հողամասերի վրա իրականացված համալիր միջոցառումների համար փաստացի կատարված ծախսերի մասնակի փոխհատուցում
A34: Միջոցառման տեսակը` | B34: Տրանսֆերտների տրամադրում
A35: Շահառուների ընտրության չափանիշները | B35: ՀՀ տնտեսավարողներ՛ ՀՀ կառավարության 04.08.2022թ. թիվ1220-Լ որոշմամբ հաստատված ծրագրի չափանիշներին համապատասխան
A36: Արդյունքի չափորոշիչներ
A37: Ծրագրի շրջանակներում միավորված և շրջանառության մեջ ներառված գյուղատնտեսական նշանակության հողեր, հեկտար | C37: -30
A38: Միջոցառման վրա կատարվող ծախսը (հազար դրամ) | C38: =+'1'!D28 -> -41400
A41: Ծրագրի դասիչը` | B41: 1022 | C41: Ցուցանիշների փոփոխությունը (ավելացումները նշված են դրական նշանով)
A42: Միջոցառման դասիչը` | B42: 12012 | C42: Տարի
A43: Միջոցառման անվանումը` | B43: Կոնյակի սպիրտի իրացման (արտահանման) աջակցության ծրագիր
A44: Նկարագրությունը` | B44: Կոնյակի սպիրտ իրացնող (հարյուր հազար լիտրից ավելի) տնտեսավարող սուբյեկտներին վճարված լրացուցիչ պետական տուրքի չափով օժանդակության տրամադրում
A45: Միջոցառման տեսակը` | B45: Տրանսֆերտների տրամադրում
A46: Շահառուների ընտրության չափանիշները | B46: ՀՀ կառավարության 2020 թվականի օգոստոսի 13-ի թիվ 1355-Լ որոշմանը համապատասխանող տնտեսավարողներ
A47: Արդյունքի չափորոշիչներ
...
