Workbook
Name AgencyCode: #REF!
Name AgencyCode: #REF!
Name AgencyName: #REF!
Name AgencyName: #REF!
Name davit: #REF!
Name davit: #REF!
Name Functional1: #REF!
Name Functional1: #REF!
Name ggg: #REF!
Name ggg: #REF!
Name PANature: #REF!
Name PANature: #REF!
Name PAType: #REF!
Name PAType: #REF!
Name Performance2: #REF!
Name Performance2: #REF!
Name PerformanceType: #REF!
Name PerformanceType: #REF!
Name Հավելված: #REF!
Name Հավելված: #REF!
Name Մաս: #REF!
Name Մաս: #REF!
Name շախմատիստ: #REF!
Name շախմատիստ: #REF!

Sheet h1
E1: Հավելված N 1
E2: ՀՀ կառավարության 2023 թվականի
E3: ______________ ի ___Ն որոշման
B5: «ՀԱՅԱՍՏԱՆԻ ՀԱՆՐԱՊԵՏՈՒԹՅԱՆ 2023 ԹՎԱԿԱՆԻ ՊԵՏԱԿԱՆ ԲՅՈՒՋԵԻ ՄԱՍԻՆ» ՕՐԵՆՔԻ N 1 ՀԱՎԵԼՎԱԾԻ N 2 ԱՂՅՈՒՍԱԿՈՒՄ ՎԵՐԱԲԱՇԽՈՒՄ ԵՎ ՀԱՅԱՍՏԱՆԻ ՀԱՆՐԱՊԵՏՈՒԹՅԱՆ ԿԱՌԱՎԱՐՈՒԹՅԱՆ 2022 ԹՎԱԿԱՆԻ ԴԵԿՏԵՄԲԵՐԻ 29-Ի N 2111-Ն ՈՐՈՇՄԱՆ N 5 ՀԱՎԵԼՎԱԾԻ N 1 ԱՂՅՈՒՍԱԿՈՒՄ ԿԱՏԱՐՎՈՂ ՓՈՓՈԽՈՒԹՅՈՒՆՆԵՐԸ ԵՎ ԼՐԱՑՈՒՄՆԵՐԸ
B8: Ծրագրային դասիչը | D8: Բյուջետային հատկացումների գլխավոր կարգադրիչների, ծրագրերի և միջոցառումների անվանումները | E8: Ցուցանիշների փոփոխությունը (ավելացումները նշված են դրական նշանով, իսկ նվազեցումները` փակագծերում)
B9: Ծրագիր | C9: Միջոցառում | E9: Տարի
D10: ԸՆԴԱՄԵՆԸ | E10: =E11+E24+E44 -> 0
D11: ՀՀ Արմավիրի մարզպետի աշխատակազմ | E11: =E12 -> -3666
B12: 1010 | D12: Ծրագրի անվանումը` | E12: =E18 -> -3666
D13: ՀՀ Արմավիրի մարզում տարածքային պետական կառավարում
D14: Ծրագրի նպատակը`
D15: ՀՀ Արմավիրի մարզում պետական քաղաքականության իրականացման ապահովում
D16: Վերջնական արդյունքի նկարագրությունը`
D17: ՀՀ Արմավիրի մարզում իրականացվող պետական ծրագրերի արդյունավետության և հասցեականության բարելավում, հետադարձ կապի ապահովում
C18: 11001 | D18: Միջոցառման անվանումը` | E18: -3666
D19: ՀՀ Արմավիրի մարզպետարանի կողմից տարածքային պետական կառավարման ապահովում
D20: Միջոցառման նկարագրությունը`
D21: Մարզպետարանի ենթակայության հիմնարկների կառավարում, կրթության, ճանապարհաշինության, քաղաքաշինության և այլ ոլորտներում հասարակական պատվերի տեղաբաշխում, տնտեսության և սոցիալական տարբեր ոլորտներում մարզային միջոցառումների համակարգում
D22: Միջոցառման տեսակը
D23: Ծառայությունների մատուցում
D24: ՀՀ տարածքային կառավարման և ենթակառուցվածքների նախարարություն | E24: =E25 -> 3666
B25: 1049 | D25: Ծրագրի անվանումը` | E25: =E32+E38 -> 3666
D26: Ճանապարհային ցանցի բարելավում
D27: Ծրագրի նպատակը`
D28: Ճանապարհային ցանցի բարելավում և անվտանգ երթևեկության ապահովում
D29: Վերջնական արդյունքի նկարագրությունը`
D30: Ճանապարհների ծածկի որակի և փոխադրումների արդյունավետության բարելավում, ճանապարհների վիճակով պայմանավորված պատահարների նվազում
D31: Ծրագրի միջոցառումներ
C32: 21001 | D32: Միջոցառման անվանումը` | E32: =-E38-E18 -> 4616
D33: Պետական նշանակության ավտոճանապարհների հիմնանորոգում
D34: Միջոցառման նկարագրությունը`
D35: Միջպետական, հանրապետական և մարզային նշանակության ավտոճոնապարհների քայքայված ծածկի վերանորոգում, մաշված ծածկի փոխարինում
D36: Միջոցառման տեսակը
D37: Հանրության կողմից անմիջականորեն օգտագործվող ակտիվների հետ կապված միջոցառումներ
C38: 21019 | D38: Միջոցառման անվանումը` | E38: ='h7'!G13 -> -950
D39: Վթարային իրավիճակներում արտակարգ օպերատիվ ծառայությունների կանչի ավտոմատացված համակարգերի ներդրում
D40: Միջոցառման նկարագրությունը`
D41: Վթարների դեպքում տրանսպորտային միջոցի վայրի տեղորոշում, արտակարգ օպերատիվ կանչի կենտրոնի ստեղծում, զանգերի ֆիլտրում և ուղղորդում, օպերատիվ ծառայությունների արագ արձագանքում
D42: Միջոցառման տեսակը
D43: Հանրության կողմից անմիջականորեն օգտագործվող ակտիվների հետ կապված միջոցառումներ
...

Sheet h2.
F1: Հավելված 2
F2: ՀՀ կառավարության 2023 թվականի
F3: ______________ ի ___Ն որոշման
A5: ՀԱՅԱՍՏԱՆԻ ՀԱՆՐԱՊԵՏՈՒԹՅԱՆ ԿԱՌԱՎԱՐՈՒԹՅԱՆ 2022 ԹՎԱԿԱՆԻ ԴԵԿՏԵՄԲԵՐԻ 29-Ի N 2111-Ն ՈՐՈՇՄԱՆ NN 3 ԵՎ 4 ՀԱՎԵԼՎԱԾՆԵՐՈՒՄ ԿԱՏԱՐՎՈՂ ՓՈՓՈԽՈՒԹՅՈՒՆՆԵՐԸ ԵՎ ԼՐԱՑՈՒՄՆԵՐԸ
A8: Գործառական դասիչը | D8: Ծրագրային դասիչը | F8: Բյուջետային ծախսերի գործառական դասակարգման բաժինների, խմբերի և դասերի, բյուջետային ծրագրերի, միջոցառումների բյուջետային հատկացումնեյի գլխավոր կարկադրիչների անվանումները | G8: Ցուցանիշների փոփոխությունը (ավելացումները նշված են դրական նշանով, իսկ նվազեցումները` փակագծերում)
A9: Բաժին | B9: Խումբ | C9: Դաս | D9: Ծրագիր | E9: Միջոցառում | G9: Տարի
F10: ԸՆԴԱՄԵՆԸ՝ ԾԱԽՍԵՐ | G10: =G12+G32+G66 -> 0
F11: այդ թվում`
F12: ՀՀ ԱՐՄԱՎԻՐԻ ՄԱՐԶՊԵՏԻ ԱՇԽԱՏԱԿԱԶՄ | G12: =G13 -> -3666
A13: 01 | F13: ԸՆԴՀԱՆՈՒՐ ԲՆՈՒՅԹԻ ՀԱՆՐԱՅԻՆ ԾԱՌԱՅՈՒԹՅՈՒՆՆԵՐ | G13: =G15 -> -3666
F14: այդ թվում`
B15: 01 | F15: Օրենսդիր և գործադիր մարմիններ, պետական կառավարում, ֆինանսական և հարկաբյուջետային հարաբերություններ, արտաքին հարաբերություններ | G15: =G17 -> -3666
F16: այդ թվում`
C17: 01 | F17: Օրենսդիր և գործադիր մարմիններ, պետական կառավարում | G17: =G19 -> -3666
F18: այդ թվում`
F19: ՀՀ ԱՐՄԱՎԻՐԻ ՄԱՐԶՊԵՏԻ ԱՇԽԱՏԱԿԱԶՄ | G19: =G21 -> -3666
F20: այդ թվում`
D21: 1010 | F21: ՀՀ Արմավիրի մարզում տարածքային պետական կառավարում | G21: =G23 -> -3666
F22: այդ թվում`
E23: 11001 | F23: ՀՀ Արմավիրի մարզպետարանի կողմից տարածքային պետական կառավարման ապահովում | G23: =G25 -> -3666
F24: այդ թվում` ըստ կատարողների
F25: ՀՀ Արմավիրի մարզպետի աշխատակազմ | G25: =G27 -> -3666
F26: այդ թվում` բյուջետային ծախսերի տնտեսագիտական դասակարգման հոդվածներ
F27: ԸՆԴԱՄԵՆԸ՝ ԾԱԽՍԵՐ | G27: =G28 -> -3666
F28: ԸՆԹԱՑԻԿ ԾԱԽՍԵՐ | G28: -3666
F29: ԾԱՌԱՅՈՒԹՅՈՒՆՆԵՐԻ ԵՎ ԱՊՐԱՆՔՆԵՐԻ ՁԵՌՔԲԵՐՈՒՄ | G29: =G30 -> -3666
F30: Պայմանագրային այլ ծառայությունների ձեռքբերում | G30: =G31 -> -3666
F31: - Կառավարչական ծառայություններ | G31: -3666
F32: ՀՀ տարածքային կառավարման և ենթակառուցվածքների նախարարություն | G32: =G33 -> 3666
A33: 04 | F33: ՏՆՏԵՍԱԿԱՆ ՀԱՐԱԲԵՐՈՒԹՅՈՒՆՆԵՐ | G33: =G35 -> 3666
F34: այդ թվում`
B35: 05 | F35: Տրանսպորտ | G35: =G37 -> 3666
F36: այդ թվում`
C37: 01 | F37: Ճանապարհային տրանսպորտ | G37: =G39 -> 3666
F38: այդ թվում`
D39: 1049 | F39: Ճանապարհային ցանցի բարելավում | G39: =G41+G57 -> 3666
F40: այդ թվում`
E41: 21001 | F41: ='h1'!D33 -> Պետական նշանակության ավտոճանապարհների հիմնանորոգում | G41: =G43+G50 -> 4616
F42: այդ թվում`ըստ կատարողների
F43: ՀՀ Արմավիրի մարզպետի աշխատակազմ | G43: =G45 -> 3666
...

Sheet h3
A1: Հավելված N3
A2: ՀՀ կառավարության 2023 թվականի
A3: ______________ ի ___Ն որոշման
A5: «ՀԱՅԱՍՏԱՆԻ ՀԱՆՐԱՊԵՏՈՒԹՅԱՆ 2023 ԹՎԱԿԱՆԻ ՊԵՏԱԿԱՆ ԲՅՈՒՋԵԻ ՄԱՍԻՆ» ՀԱՅԱՍՏԱՆԻ ՀԱՆՐԱՊԵՏՈՒԹՅԱՆ ՕՐԵՆՔԻ N 1 ՀԱՎԵԼՎԱԾԻ N 3 ԱՂՅՈՒՍԱԿՈՒՄ ԿԱՏԱՐՎՈՂ ՓՈՓՈԽՈՒԹՅՈՒՆԸ ԵՎ ԼՐԱՑՈՒՄԸ
G6: հազար դրամներով
A7: Ծրագրային դասիչ | C7: Բյուջետային գլխավոր կարգադրիչների, ծրագրերի, միջոցառումների և ուղղությունների անվանումները | D7: Ցուցանիշների փոփոխությունը (ավելացումները նշված են դրական նշանով, իսկ նվազեցումները` փակագծերում)
D8: Ընդամենը, | E8: այդ թվում՝
A9: Ծրագիր | B9: Միջոցառում | E9: Կառուցման աշխատանքներ | F9: Վերակառուցման, վերանորոգման և վերականգնման աշխատանքներ | G9: Նախագծահե- տազոտական, գեոդեզիա- քարտեզագրա- կան աշխա- տանքներ | H9: Ոչ ֆինանսական այլ ակտիվների ձեռքբերում
C10: ԸՆԴԱՄԵՆԸ | D10: =D12 -> 3666 | F10: 0 | G10: =G12 -> 4616 | H10: =H27 -> -950
C11: այդ թվում՝
C12: ՀՀ տարածքային կառավարման և ենթակառուցվածքների նախարարություն | D12: =D17+D25 -> 3666 | G12: =G17 -> 4616 | H12: =H27 -> -950
C13: այդ թվում`
A14: 1049 | B14: 11002 | C14: Մարզային նշանակության ավտոճանապարհների պահպանման և անվտանգ երթևեկության ծառայություններ | D14: =+E14+F14+G14+H14 -> 0 | E14: =+E16 -> 0 | F14: 0 | G14: =+G16 -> 0 | H14: =+H16 -> 0
C15: այդ թվում` | F15: 0
C16: Մարզային նշանակության ավտոճանապարհների պահպանման և անվտանգ երթևեկության ծառայություններ | D16: =SUM(E16:H16) -> 0 | E16: 0 | F16: 0 | G16: 0 | H16: 0
A17: 1049 | B17: 21001 | C17: Պետական նշանակության ավտոճանապարհների հիմնանորոգ | D17: =G17 -> 4616 | E17: =+E19 -> 0 | F17: 0 | G17: =G20+G23 -> 4616 | H17: =+H19 -> 0
C18: այդ թվում` ըստ կատարողների | F18: 0
C19: Տրանսպորտային օբյեկտների հիմնանորոգում, այդ թվում | D19: =+E19+F19+G19+H19 -> 3666 | E19: =+E21 -> 0 | F19: 0 | G19: =+G21 -> 3666 | H19: =+H21 -> 0
C20: ՀՀ Արմավիրի մարզպետի աշխատակազմ | D20: =+E20+F20+G20+H20 -> 3666 | F20: 0 | G20: =G21 -> 3666
C21: Տ-3-45, /Տ-3-34/ (Ֆերիկ) ընդհանուր օգտագործման մարզային (տեղական) նշանակության ավտոմոբիլային ճանապարհի ասֆալտբետոնե ծածկի և մայթերի հիմնանորոգման աշխատանքներ | D21: =G21 -> 3666 | E21: 0 | F21: 0 | G21: 3666 | H21: 0
C22: այդ թվում` ըստ կատարողների
C23: ՀՀ Արագածոտնի մարզպետի աշխատակազմ | D23: =G23 -> 950 | G23: =-'h1'!E38 -> 950
C24: ՀՀ Արագածոտնի մարզի Մեծաձոր համայնքի Օթևան բնկավայրի միջհամայնքային ճանպարհի հիմնանորոգման աշխատանքներ | D24: =G24 -> 950 | G24: =-H25 -> 950
A25: 1049 | B25: 21019 | C25: Վթարային իրավիճակներում արտակարգ օպերատիվ ծառայությունների կանչի ավտոմատացված համակարգերի ներդրում | D25: =H25 -> -950 | H25: ='h7'!G13 -> -950
C26: այդ թվում` ըստ կատարողների
C27: ՀՀ տարածքային կառավարման և ենթակառուցվածքների նախարարություն | D27: =H27 -> -950 | H27: =H25 -> -950

Sheet h4
A1: Հավելված N4
A2: ՀՀ կառավարության 2023 թվականի
A3: ______________ ի ___Ն որոշման
A5: ՀԱՅԱՍՏԱՆԻ ՀԱՆՐԱՊԵՏՈՒԹՅԱՆ ԿԱՌԱՎԱՐՈՒԹՅԱՆ 2022 ԹՎԱԿԱՆԻ ԴԵԿՏԵՄԲԵՐԻ 29-Ի N 2111-Ն ՈՐՈՇՄԱՆ N 5 ՀԱՎԵԼՎԱԾԻ N 2 ԱՂՅՈՒՍԱԿՈՒՄ ԿԱՏԱՐՎՈՂ ՓՈՓՈԽՈՒԹՅՈՒՆԸ ԵՎ ԼՐԱՑՈՒՄԸ
A7: Ծրագրային դասիչ | C7: Բյուջետային գլխավոր կարգադրիչների, ծրագրերի, միջոցառումների և ուղղությունների անվանումները | D7: Ցուցանիշների փոփոխությունը (ավելացումները նշված են դրական նշանով, իսկ նվազեցումները` փակագծերում)
A8: Ծրագիր | B8: Միջոցառում | D8: Տարի
C9: ԸՆԴԱՄԵՆԸ | D9: =D11 -> 3666
C10: այդ թվում՝
C11: ՀՀ տարածքային կառավարման և ենթակառուցվածքների նախարարություն | D11: =D15+D24 -> 3666
C12: այդ թվում`
C14: Մարզային նշանակության ավտոճանապարհների պահպանման և անվտանգ երթևեկության ծառայություններ | D14: =+D17 -> 3666
A15: 1049 | B15: 21001 | C15: =h2.!F41 -> Պետական նշանակության ավտոճանապարհների հիմնանորոգում | D15: =D17+D21 -> 4616
C16: այդ թվում` ըստ կատարողների
C17: ՀՀ Արմավիրի մարզպետի աշխատակազմ | D17: =D20 -> 3666
C18: այդ թվում`
C19: Տրանսպորտային օբյեկտների հիմնանորոգում, այդ թվում | D19: =+D20 -> 3666
C20: Տ-3-45, /Տ-3-34/ (Ֆերիկ) ընդհանուր օգտագործման մարզային (տեղական) նշանակության ավտոմոբիլային ճանապարհի ասֆալտբետոնե ծածկի և մայթերի հիմնանորոգման աշխատանքներ | D20: ='h3'!D21 -> 3666
C21: ՀՀ Արագածոտնի մարզպետի աշխատակազմ | D21: =D23 -> 950
C22: այդ թվում`
C23: ՀՀ Արագածոտնի մարզի Մեծաձոր համայնքի Օթևան բնկավայրի միջհամայնքային ճանպարհի հիմնանորոգման աշխատանքներ | D23: ='h3'!D24 -> 950
A24: 1049 | B24: 21019 | C24: Վթարային իրավիճակներում արտակարգ օպերատիվ ծառայությունների կանչի ավտոմատացված համակարգերի ներդրում | D24: =D26 -> -950
C25: այդ թվում` ըստ կատարողների
C26: ՀՀ տարածքային կառավարման և ենթակառուցվածքների նախարարություն | D26: ='h7'!G13 -> -950

Sheet h5
F1: Հավելված N 5
F2: ՀՀ կառավարության 2023 թվականի
F3: ______________ ի ___Ն որոշման
B5: ՀԱՅԱՍՏԱՆԻ ՀԱՆՐԱՊԵՏՈՒԹՅԱՆ ԿԱՌԱՎԱՐՈՒԹՅԱՆ 2022 ԹՎԱԿԱՆԻ ԴԵԿՏԵՄԲԵՐԻ 29-Ի N 2111-Ն ՈՐՈՇՄԱՆ N 9 ՀԱՎԵԼՎԱԾԻ NN 9.7, 9.39 ԵՎ 9.47 ԱՂՅՈՒՍԱԿՆԵՐՈՒՄ ԿԱՏԱՐՎՈՂ ՓՈՓՈԽՈՒԹՅՈՒՆՆԵՐԸ ԵՎ ԼՐԱՑՈՒՄՆԵՐԸ
E7: Աղյուսակ 9.7
B8: ՀՀ տարածքային կառավարման և ենթակառուցվածքների նախարարություն
B9: ՄԱՍ 2. ՊԵՏԱԿԱՆ ՄԱՐՄՆԻ ԳԾՈՎ ԱՐԴՅՈՒՆՔԱՅԻՆ (ԿԱՏԱՐՈՂԱԿԱՆ) ՑՈՒՑԱՆԻՇՆԵՐԸ
B11: Ծրագրի դասիչը | C11: Ծրագրի անվանումը
B12: 1049 | C12: Ճանապարհային ցանցի բարելավում
B14: Ծրագրի միջոցառումները
B15: Ծրագրի դասիչը` | C15: 1049 | D15: Ցուցանիշների փոփոխությունը (ավելացումները նշված են դրական նշանով)
B16: Միջոցառման դասիչը` | C16: 21001 | D16: Տարի
B17: Միջոցառման անվանումը` | C17: Պետական նշանակության ավտոճանապարհների հիմնանորոգում
B18: Նկարագրությունը` | C18: Միջպետական, հանրապետական և մարզային նշանակության ավտոճոնապարհների քայքայված ծածկի վերանորոգում, մաշված ծածկի փոխարինում
B19: Միջոցառման տեսակը` | C19: Հանրության կողմից անմիջականորեն օգտագործվող ակտիվների հետ կապված միջոցառումներ
B20: Միջոցառումն իրականացնողի անվանումը | C20: Մասնագիտացված միավոր
B21: Արդյունքի չափորոշիչներ
B22: նախագծերի փաթեթ, հատ | D22: 2
B23: Միջոցառման վրա կատարվող ծախսը (հազար դրամ) | D23: =h2.!G41 -> 4616
B26: Ծրագրի դասիչը` | C26: 1049 | D26: Ցուցանիշների փոփոխությունը (նվազեցումները նշված են փակագծերում)
B27: Միջոցառման դասիչը` | C27: 21019 | D27: Տարի
B28: Միջոցառման անվանումը` | C28: Վթարային իրավիճակներում արտակարգ օպերատիվ ծառայությունների կանչի ավտոմատացված համակարգերի ներդրում
B29: Նկարագրությունը` | C29: Վթարների դեպքում տրանսպորտային միջոցի վայրի տեղորոշում, արտակարգ օպերատիվ կանչի կենտրոնի ստեղծում, զանգերի ֆիլտրում և ուղղորդում, օպերատիվ ծառայությունների արագ արձագանքում
B30: Միջոցառման տեսակը` | C30: Հանրության կողմից անմիջականորեն օգտագործվող ակտիվների հետ կապված միջոցառումներ
B31: Միջոցառումն իրականացնողի անվանումը | C31: Մասնագիտացված միավոր
B32: Արդյունքի չափորոշիչներ
B33: Միջոցառման վրա կատարվող ծախսը (հազար դրամ) | D33: ='h7'!G13 -> -950
E35: Աղյուսակ 9.39
B36: ՀՀ Արմավիրի մարզպետի աշխատակազմ
B37: ՄԱՍ 2. ՊԵՏԱԿԱՆ ՄԱՐՄՆԻ ԳԾՈՎ ԱՐԴՅՈՒՆՔԱՅԻՆ (ԿԱՏԱՐՈՂԱԿԱՆ) ՑՈՒՑԱՆԻՇՆԵՐԸ
B39: Ծրագրի դասիչը | C39: Ծրագրի անվանումը
B40: =C43 -> 1010 | C40: ՀՀ Արմավիրի մարզում տարածքային պետական կառավարում
B42: Ծրագրի միջոցառումները
B43: Ծրագրի դասիչը` | C43: 1010 | D43: Ցուցանիշների փոփոխությունը (նվազեցումները նշված են փակագծերում)
B44: Միջոցառման դասիչը` | C44: 11001 | D44: Տարի
B45: Միջոցառման անվանումը` | C45: ՀՀ Արմավիրի մարզպետարանի կողմից տարածքային պետական կառավարման ապահովում
B46: Նկարագրությունը` | C46: Մարզպետարանի ենթակայության հիմնարկների կառավարում, կրթության, ճանապարհաշինության, քաղաքաշինության և այլ ոլորտներում հասարակական պատվերի տեղաբաշխում, տնտեսության և սոցիալական տարբեր ոլորտներում մարզային միջոցառումների համակարգում
B47: Միջոցառման տեսակը` | C47: Ծառայությունների մատուցում
B48: Միջոցառումն իրականացնողի անվանումը | C48: ՀՀ Արմավիրի մարզպետարան
B49: Արդյունքի չափորոշիչներ
...

Sheet h6
F1: Հավելված N 6
F2: ՀՀ կառավարության 2023 թվականի
F3: ______________ ի ___Ն որոշման
B5: ՀԱՅԱՍՏԱՆԻ ՀԱՆՐԱՊԵՏՈՒԹՅԱՆ ԿԱՌԱՎԱՐՈՒԹՅԱՆ 2022 ԹՎԱԿԱՆԻ ԴԵԿՏԵՄԲԵՐԻ 29-Ի N 2111-Ն ՈՐՈՇՄԱՆ N 9.1 ՀԱՎԵԼՎԱԾԻ NN 9.1.7, 9.1.48 ,9.1.50 ԵՎ 9.1.58 ԱՂՅՈՒՍԱԿՆԵՐՈՒՄ ԿԱՏԱՐՎՈՂ ՓՈՓՈԽՈՒԹՅՈՒՆՆԵՐԸ ԵՎ ԼՐԱՑՈՒՄՆԵՐԸ
E6: Աղյուսակ 9.1.7
B7: ՀՀ տարածքային կառավարման և ենթակառուցվածքների նախարարություն
B8: ՄԱՍ 2. ՊԵՏԱԿԱՆ ՄԱՐՄՆԻ ԳԾՈՎ ԱՐԴՅՈՒՆՔԱՅԻՆ (ԿԱՏԱՐՈՂԱԿԱՆ) ՑՈՒՑԱՆԻՇՆԵՐԸ
B10: Ծրագրի դասիչը | C10: Ծրագրի անվանումը
B11: 1049 | C11: Ճանապարհային ցանցի բարելավում
B12: Ծրագրի միջոցառումները
B13: Ծրագրի դասիչը` | C13: 1049 | D13: Ցուցանիշների փոփոխությունը (նվազեցումները նշված են փակագծերում)
B14: Միջոցառման դասիչը` | C14: 21019 | D14: Տարի
B15: Միջոցառման անվանումը` | C15: Վթարային իրավիճակներում արտակարգ օպերատիվ ծառայությունների կանչի ավտոմատացված համակարգերի ներդրում
B16: Նկարագրությունը` | C16: Վթարների դեպքում տրանսպորտային միջոցի վայրի տեղորոշում, արտակարգ օպերատիվ կանչի կենտրոնի ստեղծում, զանգերի ֆիլտրում և ուղղորդում, օպերատիվ ծառայությունների արագ արձագանքում
B17: Միջոցառման տեսակը` | C17: Հանրության կողմից անմիջականորեն օգտագործվող ակտիվների հետ կապված միջոցառումներ
B18: Միջոցառումն իրականացնողի անվանումը | C18: Մասնագիտացված միավոր
B19: Արդյունքի չափորոշիչներ
B20: Միջոցառման վրա կատարվող ծախսը (հազար դրամ) | D20: ='h7'!G13 -> -950
E21: Աղյուսակ 9.1.50
B22: ՀՀ Արմավիրի մարզպետի աշխատակազմ
B23: ՄԱՍ 1. ՊԵՏԱԿԱՆ ՄԱՐՄՆԻ ԳԾՈՎ ԱՐԴՅՈՒՆՔԱՅԻՆ (ԿԱՏԱՐՈՂԱԿԱՆ) ՑՈՒՑԱՆԻՇՆԵՐԸ
B25: Ծրագրի դասիչը | C25: Ծրագրի անվանումը
B26: 1010 | C26: ՀՀ Արմավիրի մարզում տարածքային պետական կառավարում
B28: Ծրագրի միջոցառումները
B29: Ծրագրի դասիչը` | C29: 1010 | D29: ='h5'!D43 -> Ցուցանիշների փոփոխությունը (նվազեցումները նշված են փակագծերում)
B30: Միջոցառման դասիչը` | C30: 11001 | D30: Տարի
B31: Միջոցառման անվանումը` | C31: ՀՀ Արմավիրի մարզպետարանի կողմից տարածքային պետական կառավարման ապահովում
B32: Նկարագրությունը` | C32: Մարզպետարանի ենթակայության հիմնարկների կառավարում, կրթության, ճանապարհաշինության, քաղաքաշինության և այլ ոլորտներում հասարակական պատվերի տեղաբաշխում, տնտեսության և սոցիալական տարբեր ոլորտներում մարզային միջոցառումների համակարգում
B33: Միջոցառման տեսակը` | C33: Ծառայությունների մատուցում
B34: Միջոցառումն իրականացնողի անվանումը | C34: ՀՀ Արմավիրի մարզպետի աշխատակազմ
B35: Արդյունքի չափորոշիչներ
B36: Միջոցառման վրա կատարվող ծախսը (հազար դրամ) | D36: =h2.!G25 -> -3666
B38: Ծրագրի դասիչը | C38: Ծրագրի անվանումը
B39: 1049 | C39: Ճանապարհային ցանցի բարելավում
B41: Ծրագրի միջոցառումները
B42: Ծրագրի դասիչը` | C42: 1049 | D42: Ցուցանիշների փոփոխությունը (ավելացումները նշված են դրական նշանով)
B43: Միջոցառման դասիչը` | C43: 21001 | D43: Տարի
B44: Միջոցառման անվանումը` | C44: Պետական նշանակության ավտոճանապարհների հիմնանորոգում
B45: Նկարագրությունը` | C45: Միջպետական, հանրապետական և մարզային նշանակության ավտոճոնապարհների քայքայված ծածկի վերանորոգում, մաշված ծածկի փոխարինում
B46: Միջոցառման տեսակը` | C46: Հանրության կողմից անմիջականորեն օգտագործվող ակտիվների հետ կապված միջոցառումներ
...

Sheet h7
A1: Հավելված N7
A2: ՀՀ կառավարության 2023 թվականի
A3: ______________ ի ___Ն որոշման
A6: ՀԱՅԱՍՏԱՆԻ ՀԱՆՐԱՊԵՏՈՒԹՅԱՆ ԿԱՌԱՎԱՐՈՒԹՅԱՆ 2022 ԹՎԱԿԱՆԻ ԴԵԿՏԵՄԲԵՐԻ 29-Ի N 2111-Ն ՈՐՈՇՄԱՆ N 10 ՀԱՎԵԼՎԱԾՈՒՄ ԿԱՏԱՐՎՈՂ ՓՈՓՈԽՈՒԹՅՈՒՆՆԵՐԸ ԵՎ ԼՐԱՑՈՒՄՆԵՐԸ
A7: Կոդը | B7: Անվանումը | C7: Գնման ձևը | D7: Չափման միավորը | E7: Միավորի գինը | F7: ='h1'!E8 -> Ցուցանիշների փոփոխությունը (ավելացումները նշված են դրական նշանով, իսկ նվազեցումները` փակագծերում)
F8: Քանակը | G8: Գումարը (հազար դրամով)
B9: ՀՀ տարածքային կառավարման և ենթակառուցվածքների նախարարություն | G9: =G11 -> -950
A10: Բաժին N 04 | B10: =B21 -> Խումբ N 05 | C10: =C21 -> Դաս N 01 | D10: =D21 -> Ճանապարհային տրանսպորտ | G10: =G11 -> -950
A11: 1049-21019 | B11: Վթարային իրավիճակներում արտակարգ օպերատիվ ծառայությունների կանչի ավտոմատացված համակարգերի ներդրում | G11: =G13 -> -950
A12: ՄԱՍ III. ԾԱՌԱՅՈՒԹՅՈՒՆՆԵՐ | G12: =G13 -> -950
A13: 48211210-1 | B13: ցանցային զանազան համակարգչային ծրագրային փաթեթներ | C13: ԷԱՃ | G13: -950
A14: ՀՀ Արմավիրի մարզպետի աշխատակազմ | G14: =G16+G22 -> 0
A15: Բաժին N 01 | B15: Խումբ N 01 | C15: Դաս N 01 | D15: Օրենսդիր և գործադիր մարմիններ, պետական կառավարում | G15: =G16 -> -3666
A16: 1010 /11001 | B16: ='h1'!D19 -> ՀՀ Արմավիրի մարզպետարանի կողմից տարածքային պետական կառավարման ապահովում | G16: ='h1'!E18 -> -3666
A17: ՄԱՍ III. ԾԱՌԱՅՈՒԹՅՈՒՆՆԵՐ | G17: =G16 -> -3666
A18: 79211180/2 | B18: ներքին աուդիտի ծառայություններ | C18: ԷԱՃ | D18: դրամ | G18: =G17 -> -3666
A20: 71241200 | B20: նախագծերի պատրաստում, ծախսերի գնահատում | C20: ՄԱ | D20: դրամ | E20: 0 | F20: 1 | G20: =+F20*E20/1000 -> 0
A21: =A28 -> Բաժին N 04 | B21: =B28 -> Խումբ N 05 | C21: Դաս N 01 | D21: ='h8'!F15 -> Ճանապարհային տրանսպորտ | G21: =G23 -> 3666
A22: 1049/21001 | B22: =B29 -> Պետական նշանակության ավտոճանապարհների հիմնանորոգում | G22: =G23 -> 3666
A23: ՄԱՍ III. ԾԱՌԱՅՈՒԹՅՈՒՆՆԵՐ | G23: =SUM(G24:G26) -> 3666
A24: 50531140 | B24: փորձաքննության ծառայություններ | C24: ՄԱ | D24: դրամ | E24: 0 | F24: 1 | G24: =+F24*E24/1000 -> 0
A25: 71241200/501 | B25: նախագծերի պատրաստում, ծախսերի գնահատում | C25: ԳՀ | D25: դրամ | E25: 3360000 | F25: 1 | G25: 3360
A26: 50531140/1 | B26: փորձաքննության ծառայություններ | C26: ՄԱ | D26: դրամ | E26: 306000 | F26: 1 | G26: 306
A27: ՀՀ Արագածոտնի մարզպետի աշխատակազմ | G27: =G28 -> 950
A28: Բաժին N 04 | B28: Խումբ N 05 | C28: Դաս N 01 | D28: =D21 -> Ճանապարհային տրանսպորտ | G28: =G29 -> 950
A29: 1049/21001 | B29: Պետական նշանակության ավտոճանապարհների հիմնանորոգում | G29: =G30 -> 950
A30: ՄԱՍ III. ԾԱՌԱՅՈՒԹՅՈՒՆՆԵՐ | G30: =G31 -> 950
A31: 71241200/501 | B31: նախագծերի պատրաստում, ծախսերի գնահատում | C31: ԳՀ | D31: դրամ | E31: 950000 | F31: 1 | G31: 950

Sheet h8
B1: Հավելված N8
F2: ՀՀ կառավարության 2023 թվականի
F3: ______________ ի ___Ն որոշման
B4: ՀԱՅԱՍՏԱՆԻ ՀԱՆՐԱՊԵՏՈՒԹՅԱՆ ԿԱՌԱՎԱՐՈՒԹՅԱՆ ՊԱՀՈՒՍՏԱՅԻՆ ՖՈՆԴԻՑ ՀԱՏԿԱՑՎՈՂ ԳՈՒՄԱՐԻ ՄԱՍԻՆ
H5: հազար դրամ
A6: Գործառական դասիչը | D6: Ծրագրային դասիչը | F6: Բյուջետային հատկացումների գլխավոր կարգադրիչների, ծրագրերի, միջոցառումների և միջոցառումները կատարող պետական մարմինների անվանումները | G6: Ցուցանիշների փոփոխությունը (ավելացումները նշված են դրական նշանով, իսկ նվազեցումները` փակագծերում) | H6: Ցուցանիշների փոփոխությունը (ավելացումները նշված են դրական նշանով, իսկ նվազեցումները` փակագծերում)
A7: բաժինը | B7: խումբը | C7: դասը | D7: ծրագիրը | E7: միջոցառումը | G7: Առաջին կիսամյակ | H7: Տարի
F9: ԸՆԴԱՄԵՆԸ՝ ԾԱԽՍԵՐ | H9: =H10+H30 -> 0
F10: ՀՀ տարածքային կառավարման և ենթակառուցվածքների նախարարություն | H10: =H11 -> 3666
A11: 04 | F11: =h2.!F33 -> ՏՆՏԵՍԱԿԱՆ ՀԱՐԱԲԵՐՈՒԹՅՈՒՆՆԵՐ | H11: =H13 -> 3666
F12: այդ թվում`
B13: 05 | F13: =h2.!F35 -> Տրանսպորտ | H13: =H15 -> 3666
F14: այդ թվում`
C15: 01 | F15: =h2.!F37 -> Ճանապարհային տրանսպորտ | H15: =H17 -> 3666
F16: այդ թվում`
F17: ՀՀ տարածքային կառավարման և ենթակառուցվածքների նախարարություն | H17: =H19 -> 3666
F18: այդ թվում`
D19: 1049 | F19: =h2.!F39 -> Ճանապարհային ցանցի բարելավում | H19: =H21 -> 3666
F20: այդ թվում`
E21: 21001 | F21: =h2.!F41 -> Պետական նշանակության ավտոճանապարհների հիմնանորոգում | H21: =H23 -> 3666
F22: այդ թվում` ըստ կատարողների
F23: ՀՀ Արմավիրի մարզպետի աշխատակազմ | H23: =H25 -> 3666
F24: այդ թվում` բյուջետային ծախսերի տնտեսագիտական դասակարգման հոդվածներ
F25: ԸՆԴԱՄԵՆԸ ԾԱԽՍԵՐ | H25: =H27 -> 3666
F26: ՈՉ ՖԻՆԱՆՍԱԿԱՆ ԱԿՏԻՎՆԵՐԻ ԳԾՈՎ ԾԱԽՍԵՐ | H26: =H27 -> 3666
F27: ՀԻՄՆԱԿԱՆ ՄԻՋՈՑՆԵՐ | H27: =H28 -> 3666
F28: ԱՅԼ ՀԻՄՆԱԿԱՆ ՄԻՋՈՑՆԵՐ | H28: =H29 -> 3666
F29: - Նախագծահետազոտական ծախսեր | H29: =-H30 -> 3666
F30: ՀՀ կառավարություն | H30: =H31 -> -3666
A31: 11 | F31: ՀԻՄՆԱԿԱՆ ԲԱԺԻՆՆԵՐԻՆ ՉԴԱՍՎՈՂ ՊԱՀՈՒՍՏԱՅԻՆ ՖՈՆԴԵՐ | H31: =H33 -> -3666
F32: այդ թվում`
B33: 01 | F33: ՀՀ կառավարության և համայնքների պահուստային ֆոնդ | H33: =H35 -> -3666
F34: այդ թվում`
C35: 01 | F35: ՀՀ կառավարության պահուստային ֆոնդ | H35: =H37 -> -3666
F36: այդ թվում`
D37: 1139 | F37: ՀՀ կառավարության պահուստային ֆոնդ | H37: =+H39 -> -3666
F38: =F36 -> այդ թվում`
E39: 11001 | F39: ՀՀ կառավարության պահուստային ֆոնդ | H39: =H41 -> -3666
F40: այդ թվում` ըստ կատարողների
F41: ՀՀ կառավարություն | H41: =H43 -> -3666
...
