Workbook
Name a: #REF!
Name a: #REF!
Name a: #REF!
Name a: #REF!
Name a: #REF!
Name a: #REF!
Name a: #REF!
Name AgencyCode: #REF!
Name AgencyCode: #REF!
Name AgencyCode: #REF!
Name AgencyCode: #REF!
Name AgencyCode: #REF!
Name AgencyCode: #REF!
Name AgencyCode: #REF!
Name AgencyCode: #REF!
Name AgencyCode: #REF!
Name AgencyName: #REF!
Name AgencyName: #REF!
Name AgencyName: #REF!
Name AgencyName: #REF!
Name AgencyName: #REF!
Name AgencyName: #REF!
Name AgencyName: #REF!
Name AgencyName: #REF!
Name davit: #REF!
Name davit: #REF!
Name davit: #REF!
Name davit: #REF!
Name davit: #REF!
Name davit: #REF!
Name davit: #REF!
Name Functional1: #REF!
Name Functional1: #REF!
Name Functional1: #REF!
Name Functional1: #REF!
Name Functional1: #REF!
Name Functional1: #REF!
Name Functional1: #REF!
Name Functional1: #REF!
Name ggg: #REF!
Name ggg: #REF!
Name ggg: #REF!
Name ggg: #REF!
Name ggg: #REF!
Name ggg: #REF!
Name ggg: #REF!
Name PANature: #REF!
Name PANature: #REF!
Name PANature: #REF!
Name PANature: #REF!
Name PANature: #REF!
Name PANature: #REF!
Name PANature: #REF!
Name PANature: #REF!
Name PAType: #REF!
Name PAType: #REF!
Name PAType: #REF!
Name PAType: #REF!
Name PAType: #REF!
Name PAType: #REF!

Sheet Հավելված N 1
C1: Հավելված N 1
C2: ՀՀ կառավարության 2023 թվականի
C3: ______________ ի ___Ն որոշման
A5: «ՀԱՅԱՍՏԱՆԻ ՀԱՆՐԱՊԵՏՈՒԹՅԱՆ 2023 ԹՎԱԿԱՆԻ ՊԵՏԱԿԱՆ ԲՅՈՒՋԵԻ ՄԱՍԻՆ» ՀԱՅԱՍՏԱՆԻ ՀԱՆՐԱՊԵՏՈՒԹՅԱՆ ՕՐԵՆՔԻ 2-ՐԴ ՀՈԴՎԱԾԻ ԱՂՅՈՒՍԱԿԻ ՑՈՒՑԱՆԻՇՆԵՐՈՒՄ ԿԱՏԱՐՎՈՂ ՓՈՓՈԽՈՒԹՅՈՒՆՆԵՐԸ
D6: հազ. դրամներով
D7: Ցուցանիշների փոփոխությունը (ավելացումները նշված են դրական նշանով)
A8: Եկամուտների գծով | D8: =+'Հավելված N 2 '!D11 -> 280
A9: Ծախսերի գծով | D9: =+'Հավելված N 3'!D12 -> 280
A10: Դեֆիցիտը (պակասուրդը) | D10: =+D9-D8 -> 0

Sheet Հավելված N 2 
C1: Հավելված N 2
C2: ՀՀ կառավարության 2023 թվականի
C3: ______________ ի ___Ն որոշման
A6: «ՀԱՅԱՍՏԱՆԻ ՀԱՆՐԱՊԵՏՈՒԹՅԱՆ 2023 ԹՎԱԿԱՆԻ ՊԵՏԱԿԱՆ ԲՅՈՒՋԵԻ ՄԱՍԻՆ» ՀԱՅԱՍՏԱՆԻ ՀԱՆՐԱՊԵՏՈՒԹՅԱՆ ՕՐԵՆՔԻ 6-ՐԴ ՀՈԴՎԱԾԻ ԱՂՅՈՒՍԱԿՈՒՄ ԵՎ ՀԱՅԱՍՏԱՆԻ ՀԱՆՐԱՊԵՏՈՒԹՅԱՆ ԿԱՌԱՎԱՐՈՒԹՅԱՆ 2022 ԹՎԱԿԱՆԻ ԴԵԿՏԵՄԲԵՐԻ 29-Ի N 2111-Ն ՈՐՈՇՄԱՆ N 2 ՀԱՎԵԼՎԱԾԻ ԱՂՅՈՒՍԱԿՈՒՄ ԿԱՏԱՐՎՈՂ ՓՈՓՈԽՈՒԹՅՈՒՆՆԵՐԸ
A9: Պետական բյուջեի դեֆիցիտի ֆինանսավորման աղբյուրներն ու դրանց տարրերի անվանումները | D9: Ցուցանիշների փոփոխությունը (ավելացումները նշված են դրական նշանով)
D10: Տարի
A11: ՊԵՏԱԿԱՆ ԲՅՈՒՋԵԻ ԵԿԱՄՈՒՏՆԵՐ | D11: =+D12 -> 280
A12: Ընդամենը | D12: =+D14 -> 280
A13: այդ թվում՝
A14: Այլ եկամուտներ | D14: =+'Հավելված N 8'!E11 -> 280

Sheet Հավելված N 3
C1: Հավելված N 3
C2: ՀՀ կառավարության 2023 թվականի
C3: ______________ ի ___Ն որոշման
A6: «ՀԱՅԱUՏԱՆԻ ՀԱՆՐԱՊԵՏՈՒԹՅԱՆ 2023 ԹՎԱԿԱՆԻ ՊԵՏԱԿԱՆ ԲՅՈՒՋԵԻ ՄԱUԻՆ» ՀԱՅԱUՏԱՆԻ ՀԱՆՐԱՊԵՏՈՒԹՅԱՆ OՐԵՆՔԻ N 1 ՀԱՎԵԼՎԱԾԻ N 2 ԱՂՅՈՒՍԱԿՈՒՄ ԿԱՏԱՐՎՈՂ ՎԵՐԱԲԱՇԽՈՒՄԸ ԵՎ ՀԱՅԱՍՏԱՆԻ ՀԱՆՐԱՊԵՏՈՒԹՅԱՆ ԿԱՌԱՎԱՐՈՒԹՅԱՆ 2022 ԹՎԱԿԱՆԻ ԴԵԿՏԵՄԲԵՐԻ 29-Ի N 2111-Ն ՈՐՈՇՄԱՆ N 5 ՀԱՎԵԼՎԱԾԻ N 1 ԱՂՅՈՒՍԱԿՈՒՄ ԿԱՏԱՐՎՈՂ ՓՈՓՈԽՈՒԹՅՈՒՆՆԵՐԸ ԵՎ ԼՐԱՑՈՒՄՆԵՐԸ
D9: հազ. դրամներով
A10: Ծրագրային դասիչը | C10: Բյուջետային հատկացումների գլխավոր կարգադրիչների, ծրագրերի և միջոցառումների անվանումները | D10: Ցուցանիշների փոփոխությունը (ավելացումները նշված են դրական նշանով, իսկ նվազեցումները՝ փակագծերում)
A11: Ծրագիր | B11: Միջոցառում | D11: Տարի
A12: 1192 | C12: ԸՆԴԱՄԵՆԸ | D12: =+ROUND((D14+D156),1) -> 280
C13: այդ թվում
C14: ՀՀ ԿՐԹՈՒԹՅԱՆ, ԳԻՏՈՒԹՅԱՆ, ՄՇԱԿՈՒՅԹԻ ԵՎ ՍՊՈՐՏԻ ՆԱԽԱՐԱՐՈՒԹՅՈՒՆ | D14: =+D16+D29+D60+D79+D92+D105+D124+D143 -> -804361.9
A15: 1045 | C15: Ծրագրի անվանումը`
C16: Նախնական (արհեստագործական) և միջին մասնագիտական կրթություն | D16: =+D23 -> 2105.3
C17: Ծրագրի նպատակը`
C18: Աշխատաշուկայի արդի պահանջներին համապատասխան նախնական մասնագիտական (արհեստագործական) և միջին մասնագիտական կրթության որակավորում ունեցող մասնագետների պատրաստում, կրթության մատչելիության ապահովում:
C19: Վերջնական արդյունքի նկարագրությունը`
C20: Նախնական (արհեստագործական) և միջին մասնագիտական կրթության գրավչության բարձրացում, մատչելի և մրցունակ նախնական (արհեստագործական) և միջին մասնագիտական կրթության ապահովում
C21: Ծրագրի միջոցառումներ
B22: 32001 | C22: Միջոցառման անվանումը`
C23: Նախնական մասնագիտական (արհեստագործական) և միջին մասնագիտական ուսումնական հաստատությունների շենքային պայմանների բարելավում | D23: =+'Հավելված N 4'!G146 -> 2105.3
C24: Միջոցառման նկարագրությունը`
C25: ՆՄՄԿՈՒ հաստատությունների շենքերի հիմնանորոգման և նախագծման (շինարարական աշխատանքներ, ջեռուցման համակարգի ստեղծում, ներքին հարդարում, տարածքի բարեկարգում) աշխատանքների իրականացում
C26: Միջոցառման տեսակը
C27: Այլ պետական կազմակերպությունների կողմից օգտագործվող ոչ ֆինանսական ակտիվների հետ գործառնություններ
A28: 1075 | C28: Ծրագրի անվանումը`
C29: Մշակութային ժառանգության ծրագիր | D29: =+D36+D42+D48+D54 -> 224136.9
C30: Ծրագրի նպատակը`
C31: Մշակութային ժառանգության պահպանում, օգտագործում, համալրում և հանրահռչակում
C32: Վերջնական արդյունքի նկարագրությունը`
C33: Մշակութային ժառանգության շարունակական պահպանում, մշակութային զբոսաշրջության զարգացում և խթանում
C34: Ծրագրի միջոցառումներ
B35: 21001 | C35: Միջոցառման անվանումը`
C36: Հուշարձանների ամրակայում, նորոգում և վերականգնում | D36: =+'Հավելված N 4'!G127 -> -29510.9
C37: Միջոցառման նկարագրությունը`
C38: Հուշարձանների գիտանախագծային փաստաթղթերի կազմում, հրատապ ուսումնասիրում, վավերագրման և ուսումնասիրման աշխատանքներ, հետախուզում և հնագիտական պեղում, ամրակայում, նորոգում և վերականգնում
C39: Միջոցառման տեսակը
C40: Հանրության կողմից անմիջականորեն օգտագործվող ակտիվների հետ կապված միջոցառումներ
B41: 32001 | C41: Միջոցառման անվանումը`
C42: Ներդրումներ թանգարանների և պատկերասրահների հիմնանորոգման համար | D42: =+'Հավելված N 4'!G48 -> 45872.3
C43: Միջոցառման նկարագրությունը`
C44: Թանգարանների և պատկերասրահների շենքերի, մասնաշենքերի հիմնանորոգում, համաշինարարական աշխատանքներ, ջեռուցման համակարգի իրականացում, ներքին հարդարում, տարածքի բարեկարգում և նախագծում
C45: Միջոցառման տեսակը
C46: Այլ պետական կազմակերպությունների կողմից օգտագործվող ոչ ֆինանսական ակտիվների հետ գործառնություններ
B47: 32008 | C47: Միջոցառման անվանումը`
C48: Թանգարանների և պատկերասրահների գույքային և տեխնիկական հագեցվածության բարելավում | D48: =+'Հավելված N 4'!G57 -> 10800
C49: Միջոցառման նկարագրությունը`
C50: Թանգարանների և պատկերասրահների համար անհրաժեշտ գույքի, տեխնիկայի և սարքավորումների ձեռքբերում
C51: Միջոցառման տեսակը
C52: Այլ պետական կազմակերպությունների կողմից օգտագործվող ոչ ֆինանսական ակտիվների հետ գործառնություններ
B53: 32010 | C53: Միջոցառման անվանումը`
C54: Տեղեկատվական մոդուլային կենտրոնների ստեղծում | D54: =+'Հավելված N 7'!G24 -> 196975.5
C55: Միջոցառման նկարագրությունը`
C56: Տեղեկատվական մոդուլային կենտրոնների կառուցում և տեղադրում արգելոց-թանգարանների տարածքում
C57: Միջոցառման տեսակը
C58: Այլ պետական կազմակերպությունների կողմից օգտագործվող ոչ ֆինանսական ակտիվների հետ գործառնություններ
A59: 1124 | C59: Ծրագրի անվանումը`
C60: Գրահրատարակչության և գրադարանների ծրագիր | D60: =+D67+D73 -> 43384.9
C61: Ծրագրի նպատակը`
C62: Նպաստել գրականության զարգացմանը, տարածմանը և հանրահռչակմանը
C63: Վերջնական արդյունքի նկարագրությունը`
C64: Գրքի և գրական արտադրանքի բազմազանության և հասանելիության ապահովում, ստեղծագործական գործընթացների խթանում
C65: Ծրագրի միջոցառումներ
B66: 32001 | C66: Միջոցառման անվանումը`
C67: Հանրային գրադարանների նյութատեխնիկական բազայի զարգացում | D67: =+'Հավելված N 4'!G24 -> 1372.9
C68: Միջոցառման նկարագրությունը`
C69: Հանրային գրադարանների նյութատեխնիկական բազայի զարգացում
C70: Միջոցառման տեսակը
C71: Այլ պետական կազմակերպությունների կողմից օգտագործվող ոչ ֆինանսական ակտիվների հետ գործառնություններ
B72: 32002 | C72: Միջոցառման անվանումը`
C73: Ներդրումներ գրադարանների հիմնանորոգման համար | D73: =+'Հավելված N 4'!G33 -> 42012
C74: Միջոցառման նկարագրությունը`
C75: Գրադարանների շենքերի, մասնաշենքերի հիմնանորոգում, համաշինարարական աշխատանքներ, ջեռուցման համակարգի իրականացում, ներքին հարդարում, տարածքի բարեկարգում և նախագծում
C76: Միջոցառման տեսակը
C77: Այլ պետական կազմակերպությունների կողմից օգտագործվող ոչ ֆինանսական ակտիվների հետ գործառնություններ
A78: 1130 | C78: Ծրագրի անվանումը`
C79: Կրթության, գիտության, մշակույթի և սպորտի բնագավառի պետական քաղաքականության մշակում, ծրագրերի համակարգում և մոնիտորինգ | D79: =+D86 -> 384.8
C80: Ծրագրի նպատակը`
C81: Ապահովել համընդհանուր, հավասարապես հասանելի, ներառական և որակյալ կրթություն՛ բավարարելով տնտեսության ու հասարակության պահանջները, լիարժեք ծառայելով ազգային շահերին
C82: Վերջնական արդյունքի նկարագրությունը`
C83: Կրթության, գիտության, մշակույթի և սպորտի բնագավառում իրականացվող ծրագրերի ազդեցության և արդյունավետության բարելավում
C84: Ծրագրի միջոցառումներ
B85: 32001 | C85: Միջոցառման անվանումը`
C86: ՀՀ կրթության, գիտության, մշակույթի և սպորտի բնագավառում օժանդակ ծրագրեր իրականացնող կազմակերպությունների շենքային պայմանների և գույքային հագեցվածության բարելավում | D86: =+'Հավելված N 4'!G208 -> 384.8
C87: Միջոցառման նկարագրությունը`
C88: ՀՀ կրթության, գիտության, մշակույթի և սպորտի բնագավառում օժանդակ ծրագրեր իրականացնող կազմակերպությունների աշխատանքային պայմանների բարելավում
C89: Միջոցառման տեսակը
C90: Այլ պետական կազմակերպությունների կողմից օգտագործվող ոչ ֆինանսական ակտիվների հետ գործառնություններ
A91: 1146 | C91: Ծրագրի անվանումը`
C92: Հանրակրթության ծրագիր | D92: =+D99 -> -256289.6
C93: Ծրագրի նպատակը`
C94: Ապահովել անվճար և որակյալ հանրակրթություն
C95: Վերջնական արդյունքի նկարագրությունը`
C96: Մտավոր, հոգևոր, ֆիզիկական և սոցիալական ունակությունների համակողմանի ու ներդաշնակ զարգացմամբ, հայրենասիրության, պետականության և մարդասիրության ոգով դաստիրակված, պատշաճ վարքով և վարվելակերպով անձի ձևավորում
C97: Ծրագրի միջոցառումներ
B98: 12010 | C98: Միջոցառման անվանումը`
C99: «Մոդուլային» տիպի մանկապարտեզների շենքային ապահովում | D99: =+'Հավելված N 4'!G157 -> -256289.6
C100: Միջոցառման նկարագրությունը`
C101: Համայնքներում «Մոդուլային» տիպի մանկապարտեզների կառուցում և նախագծում
C102: Միջոցառման տեսակը
C103: Տրանսֆերտների տրամադրում
A104: 1168 | C104: Ծրագրի անվանումը`
...

Sheet Հավելված N 4
F1: Հավելված N 4
F2: ՀՀ կառավարության 2023 թվականի
F3: ______________ ի ___Ն որոշման
A5: ՀԱՅԱՍՏԱՆԻ ՀԱՆՐԱՊԵՏՈՒԹՅԱՆ ԿԱՌԱՎԱՐՈՒԹՅԱՆ 2022 ԹՎԱԿԱՆԻ ԴԵԿՏԵՄԲԵՐԻ 29-Ի N2111-Ն ՈՐՈՇՄԱՆ N 3 ԵՎ N 4 ՀԱՎԵԼՎԱԾՆԵՐՈՒՄ ԿԱՏԱՐՎՈՂ ՓՈՓՈԽՈՒԹՅՈՒՆՆԵՐԸ ԵՎ ԼՐԱՑՈՒՄՆԵՐԸ
G8: հազ. դրամներով
A9: Գործառական դասիչը | D9: Ծրագրային դասիչը | F9: Բյուջետային հատկացումների գլխավոր կարգադրիչների, ծրագրերի, միջոցառումների և միջոցառումները կատարող պետական մարմինների անվանումները | G9: Ցուցանիշների փոփոխությունը (ավելացումները նշված են դրական նշանով, իսկ նվազեցումները՝ փակագծերում)
A10: Բաժին | B10: Խումբ | C10: Դաս | D10: Ծրագիր | E10: Միջոցառում | G10: Տարի
F11: ԸՆԴԱՄԵՆԸ | G11: =+G13+G218 -> 280
F12: այդ թվում՝
F13: ՀՀ ԿՐԹՈՒԹՅԱՆ, ԳԻՏՈՒԹՅԱՆ, ՄՇԱԿՈՒՅԹԻ ԵՎ ՍՊՈՐՏԻ ՆԱԽԱՐԱՐՈՒԹՅՈՒՆ | G13: =+G14+G136 -> -804361.9
A14: 08 | F14: ՀԱՆԳԻՍՏ, ՄՇԱԿՈՒՅԹ ԵՎ ԿՐՈՆ | G14: =+G16 -> 177147.6
F15: այդ թվում`
B16: 02 | F16: Մշակութային ծառայություններ | G16: =+G18+G42+G75+G90+G121 -> 177147.6
F17: այդ թվում`
C18: 01 | F18: Գրադարաններ | G18: =+G20 -> 43384.9
F19: այդ թվում`
F20: ՀՀ կրթության, գիտության, մշակույթի և սպորտի նախարարություն | G20: =+G22 -> 43384.9
F21: այդ թվում`
D22: 1124 | E22: Գրահրատարակչության և գրադարանների ծրագիր | G22: =+G24+G33 -> 43384.9
F23: այդ թվում`
E24: 32001 | F24: Հանրային գրադարանների նյութատեխնիկական բազայի զարգացում | G24: =+G26 -> 1372.9
F25: այդ թվում` ըստ կատարողների
F26: ՀՀ կրթության, գիտության, մշակույթի և սպորտի նախարարություն | G26: =+G28 -> 1372.9
F27: այդ թվում՝ բյուջետային ծախսերի տնտեսագիտական դասակարգման հոդվածներ
F28: ԸՆԴԱՄԵՆԸ ԾԱԽՍԵՐ | G28: =+G29 -> 1372.9
F29: ԸՆԹԱՑԻԿ ԾԱԽՍԵՐ | G29: =+G30 -> 1372.9
F30: ԴՐԱՄԱՇՆՈՐՀՆԵՐ | G30: =+G31 -> 1372.9
F31: ԿԱՊԻՏԱԼ ԴՐԱՄԱՇՆՈՐՀՆԵՐ ՊԵՏԱԿԱՆ ՀԱՏՎԱԾԻ ԱՅԼ ՄԱԿԱՐԴԱԿՆԵՐԻՆ | G31: =+G32 -> 1372.9
F32: - Կապիտալ դրամաշնորհներ պետական և համայնքային ոչ առևտրային կազմակերպություններին | G32: =+'Հավելված N 7'!G27 -> 1372.9
E33: 32002 | F33: Ներդրումներ գրադարանների հիմնանորոգման համար | G33: =+G35 -> 42012
F34: այդ թվում` ըստ կատարողների
F35: ՀՀ կրթության, գիտության, մշակույթի և սպորտի նախարարություն | G35: =+G37 -> 42012
F36: այդ թվում՝ բյուջետային ծախսերի տնտեսագիտական դասակարգման հոդվածներ
F37: ԸՆԴԱՄԵՆԸ ԾԱԽՍԵՐ | G37: =+G38 -> 42012
F38: ԸՆԹԱՑԻԿ ԾԱԽՍԵՐ | G38: =+G39 -> 42012
F39: ԴՐԱՄԱՇՆՈՐՀՆԵՐ | G39: =+G40 -> 42012
F40: Կապիտալ դրամաշնորհներ պետական հատվածի այլ մակարդակներին | G40: =+G41 -> 42012
F41: - Կապիտալ դրամաշնորհներ պետական և համայնքային ոչ առևտրային կազմակերպություններին | G41: =+'Հավելված N 7'!G29 -> 42012
C42: 02 | F42: Թանգարաններ և ցուցասրահներ | G42: =+G44 -> 253647.8
F43: այդ թվում`
F44: ՀՀ կրթության, գիտության, մշակույթի և սպորտի նախարարություն | G44: =+G46 -> 253647.8
F45: այդ թվում`
D46: 1075 | E46: Մշակութային ժառանգության ծրագիր | G46: =+G48+G57+G66 -> 253647.8
F47: այդ թվում`
E48: 32001 | F48: Ներդրումներ թանգարանների և պատկերասրահների հիմնանորոգման համար | G48: =+G50 -> 45872.3
F49: այդ թվում` ըստ կատարողների
F50: ՀՀ կրթության, գիտության, մշակույթի և սպորտի նախարարություն | G50: =+G52 -> 45872.3
F51: այդ թվում՝ բյուջետային ծախսերի տնտեսագիտական դասակարգման հոդվածներ
F52: ԸՆԴԱՄԵՆԸ ԾԱԽՍԵՐ | G52: =+G53 -> 45872.3
F53: ԸՆԹԱՑԻԿ ԾԱԽՍԵՐ | G53: =+G54 -> 45872.3
F54: ԴՐԱՄԱՇՆՈՐՀՆԵՐ | G54: =+G55 -> 45872.3
F55: ԿԱՊԻՏԱԼ ԴՐԱՄԱՇՆՈՐՀՆԵՐ ՊԵՏԱԿԱՆ ՀԱՏՎԱԾԻ ԱՅԼ ՄԱԿԱՐԴԱԿՆԵՐԻՆ | G55: =+G56 -> 45872.3
F56: - Կապիտալ դրամաշնորհներ պետական և համայնքային ոչ առևտրային կազմակերպություններին | G56: =+'Հավելված N 7'!G15 -> 45872.3
E57: 32008 | F57: Թանգարանների և պատկերասրահների գույքային և տեխնիկական հագեցվածության բարելավում | G57: =+G59 -> 10800
F58: այդ թվում` ըստ կատարողների
F59: ՀՀ կրթության, գիտության, մշակույթի և սպորտի նախարարություն | G59: =+G61 -> 10800
F60: այդ թվում՝ բյուջետային ծախսերի տնտեսագիտական դասակարգման հոդվածներ
F61: ԸՆԴԱՄԵՆԸ ԾԱԽՍԵՐ | G61: =+G62 -> 10800
F62: ԸՆԹԱՑԻԿ ԾԱԽՍԵՐ | G62: =G63 -> 10800
F63: ԴՐԱՄԱՇՆՈՐՀՆԵՐ | G63: =G64 -> 10800
F64: Կապիտալ դրամաշնորհներ պետական հատվածի այլ մակարդակներին | G64: =+G65 -> 10800
F65: - Այլ կապիտալ դրամաշնորհներ | G65: =+'Հավելված N 7'!G22 -> 10800
E66: 32010 | F66: Տեղեկատվական մոդուլային կենտրոնների ստեղծում | G66: =+G68 -> 196975.5
F67: այդ թվում` ըստ կատարողների
F68: ՀՀ կրթության, գիտության, մշակույթի և սպորտի նախարարություն | G68: =+G70 -> 196975.5
F69: այդ թվում՝ բյուջետային ծախսերի տնտեսագիտական դասակարգման հոդվածներ
F70: ԸՆԴԱՄԵՆԸ ԾԱԽՍԵՐ | G70: =+G71 -> 196975.5
F71: ԸՆԹԱՑԻԿ ԾԱԽՍԵՐ | G71: =G72 -> 196975.5
F72: ԴՐԱՄԱՇՆՈՐՀՆԵՐ | G72: =G73 -> 196975.5
F73: Կապիտալ դրամաշնորհներ պետական հատվածի այլ մակարդակներին | G73: =+G74 -> 196975.5
F74: - Կապիտալ դրամաշնորհներ պետական և համայնքային ոչ առևտրային կազմակերպություններին | G74: =+'Հավելված N 7'!G24 -> 196975.5
C75: 03 | F75: Մշակույթի տներ, ակումբներ, կենտրոններ | G75: =+G77 -> 25230.7
F76: այդ թվում`
F77: ՀՀ կրթության, գիտության, մշակույթի և սպորտի նախարարություն | G77: =+G79 -> 25230.7
F78: այդ թվում`
D79: 1196 | E79: Մարզերի մշակութային զարգացման ծրագիր | G79: =+G81+G95 -> 25230.7
F80: այդ թվում`
E81: 12001 | F81: Աջակցություն համայնքներին մշակութային հաստատությունների շենքային պայմանների բարելավման համար | G81: =+G83 -> 25230.7
F82: այդ թվում` ըստ կատարողների
F83: ՀՀ Լոռու մարզպետի աշխատակազմ | G83: =+G85 -> 25230.7
F84: այդ թվում՝ բյուջետային ծախսերի տնտեսագիտական դասակարգման հոդվածներ
F85: ԸՆԴԱՄԵՆԸ ԾԱԽՍԵՐ | G85: =+G86+G91 -> 25230.7
F86: ԸՆԹԱՑԻԿ ԾԱԽՍԵՐ | G86: =G87 -> 25230.7
F87: ԴՐԱՄԱՇՆՈՐՀՆԵՐ | G87: =G88 -> 25230.7
F88: Կապիտալ դրամաշնորհներ պետական հատվածի այլ մակարդակներին | G88: =+G89 -> 25230.7
F89: - Կապիտալ դրամաշնորհներ պետական և համայնքային ոչ առևտրային կազմակերպություններին | G89: =+'Հավելված N 7'!G50 -> 25230.7
C90: 05 | F90: Արվեստ | G90: =+G92 -> -115604.9
F91: այդ թվում`
F92: ՀՀ կրթության, գիտության, մշակույթի և սպորտի նախարարություն | G92: =+G94 -> -115604.9
F93: այդ թվում`
D94: 1168 | E94: Արվեստների ծրագիր | G94: =+G96+G112 -> -115604.9
F95: այդ թվում`
E96: 32001 | F96: Ներդրումներ թատրոնների շենքերի կապիտալ վերանորոգման համար | G96: =+G98+G105 -> -224164.9
F97: այդ թվում` ըստ կատարողների
F98: ՀՀ կրթության, գիտության, մշակույթի և սպորտի նախարարություն | G98: =+G100 -> 9644
F99: այդ թվում՝ բյուջետային ծախսերի տնտեսագիտական դասակարգման հոդվածներ
F100: ԸՆԴԱՄԵՆԸ ԾԱԽՍԵՐ | G100: =+G101 -> 9644
F101: ԸՆԹԱՑԻԿ ԾԱԽՍԵՐ | G101: =+G102 -> 9644
F102: ԴՐԱՄԱՇՆՈՐՀՆԵՐ | G102: =+G103 -> 9644
F103: ԿԱՊԻՏԱԼ ԴՐԱՄԱՇՆՈՐՀՆԵՐ ՊԵՏԱԿԱՆ ՀԱՏՎԱԾԻ ԱՅԼ ՄԱԿԱՐԴԱԿՆԵՐԻՆ | G103: =+G104 -> 9644
...

Sheet Հավելված N 5
F1: Հավելված N 5
F2: ՀՀ կառավարության 2023 թվականի
F3: ______________ ի ___Ն որոշման
A5: «ՀԱՅԱUՏԱՆԻ ՀԱՆՐԱՊԵՏՈՒԹՅԱՆ 2023 ԹՎԱԿԱՆԻ ՊԵՏԱԿԱՆ ԲՅՈՒՋԵԻ ՄԱUԻՆ» ՀԱՅԱUՏԱՆԻ ՀԱՆՐԱՊԵՏՈՒԹՅԱՆ OՐԵՆՔԻ N 1 ՀԱՎԵԼՎԱԾԻ N 3 ԱՂՅՈՒՍԱԿՈՒՄ ԿԱՏԱՐՎՈՂ ՓՈՓՈԽՈՒԹՅՈՒՆՆԵՐԸ
H8: հազ. դրամներով
A9: Ծրագրային դասիչ | C9: Բյուջետային գլխավոր կարգադրիչների, ծրագրերի, միջոցառումների և ուղղությունների անվանումները | D9: Ընդամենը | E9: Ցուցանիշների փոփոխությունը (նվազեցումները նշված են փակագծերում)
A10: Ծրագիր | B10: Միջոցառում | E10: Կառուցման աշխատանքներ | F10: Վերակառուցման, վերանորոգման և վերականգնման աշխատանքներ | G10: Նախագծահե- տազոտական, գեոդեզիա- քարտեզագրա- կան աշխա- տանքներ | H10: Ոչ ֆինանսական այլ ակտիվների ձեռքբերում
C11: ԸՆԴԱՄԵՆԸ | D11: =SUM(E11:H11) -> -1314953.9 | E11: =+E13 -> -1051634.1 | F11: =+F13 -> -263319.8 | G11: =+G13 -> 0 | H11: =+H13 -> 0
C12: այդ թվում՝
C13: ՀՀ ԿՐԹՈՒԹՅԱՆ, ԳԻՏՈՒԹՅԱՆ, ՄՇԱԿՈՒՅԹԻ ԵՎ ՍՊՈՐՏԻ ՆԱԽԱՐԱՐՈՒԹՅՈՒՆ | D13: =SUM(E13:H13) -> -1314953.9 | E13: =+E15+E21+E24+E27 -> -1051634.1 | F13: =+F15+F21+F24+F27 -> -263319.8 | G13: =+G15+G21+G24+G27 -> 0 | H13: =+H15+H21+H24+H27 -> 0
C14: այդ թվում`
A15: 1075 | B15: 21001 | C15: Հուշարձանների ամրակայում, նորոգում և վերականգնում | D15: =SUM(E15:H15) -> -29510.9 | E15: =+E17 -> 0 | F15: =+F17 -> -29510.9 | G15: =+G17 -> 0 | H15: =+H17 -> 0
C16: այդ թվում`
C17: 1. Վերականգնողական աշխատանքներ | D17: =SUM(E17:H17) -> -29510.9 | E17: =+E19 -> 0 | F17: =+F19 -> -29510.9 | G17: =+G19 -> 0 | H17: =+H19 -> 0
C18: որից`
C19: ՀՀ Արագածոտնի մարզ | D19: =SUM(E19:H19) -> -29510.9 | E19: =+E20 -> 0 | F19: =+F20 -> -29510.9 | G19: =+G20 -> 0 | H19: =+H20 -> 0
C20: Փարպի համայնքի 5-րդ դարի Ծիրանավոր եկեղեցու ամրակայում, վերականգնում և տարածքի բարեկարգում | D20: =SUM(E20:H20) -> -29510.9 | F20: =+'Հավելված N 11'!I14+'Հավելված N 11'!I16+'Հավելված N 11'!I17+'Հավելված N 11'!I18 -> -29510.9
A21: 1146 | B21: 12010 | C21: «Մոդուլային» տիպի մանկապարտեզների շենքային ապահովում | D21: =+E21+F21+G21+H21 -> -256289.6 | E21: =+E23 -> -256289.6 | F21: =+F23 -> 0 | G21: =+G23 -> 0 | H21: =+H23 -> 0
C22: այդ թվում`
C23: «Մոդուլային» տիպի մանկապարտեզների շենքային ապահովում | D23: =SUM(E23:H23) -> -256289.6 | E23: -256289.6 | F23: 0 | G23: 0 | H23: 0
A24: 1168 | B24: 32001 | C24: Ներդրումներ թատրոնների շենքերի կապիտալ վերանորոգման համար | D24: =+E24+F24+G24+H24 -> -233808.9 | E24: =+E26 -> 0 | F24: =+F26 -> -233808.9 | G24: =+G26 -> 0 | H24: =+H26 -> 0
C25: այդ թվում`
C26: Ներդրումներ թատրոնների և համերգային կազմակերպությունների շենքերի կապիտալ վերանորոգման համար | D26: =SUM(E26:H26) -> -233808.9 | E26: 0 | F26: -233808.9 | G26: 0 | H26: 0
A27: 1183 | B27: 32003 | C27: Փոքրաքանակ երեխաներով համալրված հանրակրթական դպրոցների և կրթահամալիրների մոդուլային շենքերի կառուցում | D27: =SUM(E27:H27) -> -795344.5 | E27: =+E29 -> -795344.5 | F27: =+F29 -> 0 | G27: =+G29 -> 0 | H27: =+H29 -> 0
C28: այդ թվում`
C29: Փոքրաքանակ երեխաներով համալրված հանրակրթական դպրոցների և կրթահամալիրների մոդուլային շենքերի կառուցում | D29: =+E29+F29+G29+H29 -> -795344.5 | E29: =-861510.6+66166.1 -> -795344.5 | F29: 0 | G29: 0 | H29: 0

Sheet Հավելված N 6
D1: Հավելված N 6
D2: ՀՀ կառավարության 2023 թվականի
D3: ______________ ի ___Ն որոշման
B5: ՀԱՅԱՍՏԱՆԻ ՀԱՆՐԱՊԵՏՈՒԹՅԱՆ ԿԱՌԱՎԱՐՈՒԹՅԱՆ 2022 ԹՎԱԿԱՆԻ ԴԵԿՏԵՄԲԵՐԻ 29-Ի N 2111-Ն ՈՐՈՇՄԱՆ N 5 ՀԱՎԵԼՎԱԾԻ N 2 ԱՂՅՈՒՍԱԿՈՒՄ ԿԱՏԱՐՎՈՂ ՓՈՓՈԽՈՒԹՅՈՒՆՆԵՐԸ
E8: հազ. դրամներով
B9: Ծրագրային դասիչ | D9: Բյուջետային գլխավոր կարգադրիչների, ծրագրերի, միջոցառումների, միջոցառումները կատարող պետական մարմինների և ուղղությունների անվանումները | E9: Ցուցանիշների փոփոխությունը (նվազեցումները նշված են փակագծերում)
B10: Ծրագիր | C10: Միջոցառում | E10: Տարի
D12: ՀՀ ԿՐԹՈՒԹՅԱՆ, ԳԻՏՈՒԹՅԱՆ, ՄՇԱԿՈՒՅԹԻ ԵՎ ՍՊՈՐՏԻ ՆԱԽԱՐԱՐՈՒԹՅՈՒՆ | E12: =+E14+E22+E25+E28 -> -1314953.9
D13: այդ թվում՝
B14: 1075 | C14: 21001 | D14: Հուշարձանների ամրակայում, նորոգում և վերականգնում | E14: =+E16 -> -29510.9
D15: այդ թվում` ըստ կատարողների
D16: ՀՀ կրթության, գիտության, մշակույթի և սպորտի նախարարություն | E16: =+E18 -> -29510.9
D17: այդ թվում՝ ըստ ուղղությունների
D18: 1. Վերականգնողական աշխատանքներ | E18: =+E20 -> -29510.9
D19: որից`
D20: ՀՀ Արագածոտնի մարզ | E20: =+E21 -> -29510.9
D21: =+'Հավելված N 5'!C20 -> Փարպի համայնքի 5-րդ դարի Ծիրանավոր եկեղեցու ամրակայում, վերականգնում և տարածքի բարեկարգում | E21: =+'Հավելված N 5'!D20 -> -29510.9
B22: 1146 | C22: 12010 | D22: «Մոդուլային» տիպի մանկապարտեզների շենքային ապահովում | E22: =+E24 -> -256289.6
D23: այդ թվում` ըստ կատարողների
D24: ՀՀ կառավարություն | E24: =+'Հավելված N 5'!D23 -> -256289.6
B25: 1168 | C25: 32001 | D25: Ներդրումներ թատրոնների շենքերի կապիտալ վերանորոգման համար | E25: =+E27 -> -233808.9
D26: այդ թվում` ըստ կատարողների
D27: ՀՀ կառավարություն | E27: =+'Հավելված N 5'!D26 -> -233808.9
B28: 1183 | C28: 32003 | D28: Փոքրաքանակ երեխաներով համալրված հանրակրթական դպրոցների և կրթահամալիրների մոդուլային շենքերի կառուցում | E28: =+E30 -> -795344.5
D29: այդ թվում` ըստ կատարողների
D30: ՀՀ կառավարություն | E30: =+'Հավելված N 5'!D29 -> -795344.5

Sheet Հավելված N 7
F1: Հավելված N 7
F2: ՀՀ կառավարության 2023 թվականի
F3: ______________ ի ___Ն որոշման
A6: ՀԱՅԱՍՏԱՆԻ ՀԱՆՐԱՊԵՏՈՒԹՅԱՆ ԿԱՌԱՎԱՐՈՒԹՅԱՆ 2022 ԹՎԱԿԱՆԻ ԴԵԿՏԵՄԲԵՐԻ 29-Ի N 2111-Ն ՈՐՈՇՄԱՆ N 5 ՀԱՎԵԼՎԱԾԻ N 7 ԱՂՅՈՒՍԱԿՈՒՄ ԿԱՏԱՐՎՈՂ ԼՐԱՑՈՒՄՆԵՐԸ
A7: հազ. դրամներով
A8: Ծրագրային դասիչը | D8: Բյուջետային հատկացումների գլխավոր կարգադրիչների, ծրագրերի, միջոցառումների և միջոցառումները կատարող պետական մարմինների անվանումները | F8: Միջոցառումները կատարող պետական մարմինների և դրամաշնորհ ստացող տնտեսվարող սուբյեկտների անվանումները | G8: Ցուցանիշների փոփոխությունը (ավելացումները նշված են դրական նշանով)
A9: Ծրագիր | B9: Միջոցառում | G9: Տարի
A10: ՀՀ կրթության, գիտության, մշակույթի և սպորտի նախարարություն | G10: =+G11+G14+G26+G31+G34+G40+G48 -> 510592
A11: 1045 | B11: Նախնական (արհեստագործական) և միջին մասնագիտական կրթություն | G11: =+G12 -> 2105.3
B12: 32001 | C12: Նախնական մասնագիտական (արհեստագործական) և միջին մասնագիտական ուսումնական հաստատությունների շենքային պայմանների բարելավում | F12: ՀՀ կրթության, գիտության, մշակույթի և սպորտի նախարարություն | G12: =+G13 -> 2105.3
F13: «Երևանի հ․9 արհեստագործական պետական ուսումնարան» ՊՈԱԿ | G13: 2105.3
A14: 1075 | B14: Մշակութային ժառանգության ծրագիր | G14: =+G15+G22+G24 -> 253647.8
B15: 32001 | C15: Ներդրումներ թանգարանների և պատկերասրահների հիմնանորոգման համար | F15: ՀՀ կրթության, գիտության, մշակույթի և սպորտի նախարարություն | G15: =+G17+G18+G19+G20+G21 -> 45872.3
F17: «Ե․ Չարենցի տուն-թանգարան» ՊՈԱԿ | G17: 5945.9
F18: «Հովհաննես Շարամբեյանի անվան ժողովրդական արվեստների թանգարան» ՊՈԱԿ | G18: 11723.3
F19: «Ռուսական արվեստի թանգարան (պրոֆեսոր Ա. Աբրահամյանի հավաքածու)» ՊՈԱԿ | G19: 2310.2
F20: «Ե. Չարենցի անվան գրականության և արվեստի թանգարան» ՊՈԱԿ | G20: 9537.5
F21: «Հայաստանի ազգային պատկերասրահ» ՊՈԱԿ | G21: 16355.4
B22: 32008 | C22: Թանգարանների և պատկերասրահների գույքային և տեխնիկական հագեցվածության բարելավում | F22: ՀՀ կրթության, գիտության, մշակույթի և սպորտի նախարարություն | G22: =+G23 -> 10800
F23: «Հայոց ցեղասպանության թանգարան-ինստիտուտ» հիմնադրամ | G23: 10800
B24: 32010 | C24: Տեղեկատվական մոդուլային կենտրոնների ստեղծում | F24: ՀՀ կրթության, գիտության, մշակույթի և սպորտի նախարարություն | G24: =+G25 -> 196975.5
F25: «Պատմամշակութային արգելոց-թանգարանների և պատմական միջավայրի պահպանության ծառայություն» ՊՈԱԿ | G25: =65658.5*3 -> 196975.5
A26: 1124 | B26: Գրահրատարակչության և գրադարանների ծրագիր | G26: =+G27+G29 -> 43384.9
B27: 32001 | C27: Հանրային գրադարանների նյութատեխնիկական բազայի զարգացում | F27: ՀՀ կրթության, գիտության, մշակույթի և սպորտի նախարարություն | G27: =+G28 -> 1372.9
F28: «Սյունիքի մարզային գրադարան» ՊՈԱԿ | G28: 1372.9
B29: 32002 | C29: Ներդրումներ գրադարանների հիմնանորոգման համար | F29: ՀՀ կրթության, գիտության, մշակույթի և սպորտի նախարարություն | G29: =+G30 -> 42012
F30: «Հայաստանի ազգային գրադարան» ՊՈԱԿ | G30: 42012
A31: 1130 | B31: Կրթության, գիտության, մշակույթի և սպորտի բնագավառի պետական քաղաքականության մշակում, ծրագրերի համակարգում և մոնիտորինգ | G31: =+G32 -> 384.8
B32: 32001 | C32: ՀՀ կրթության, գիտության, մշակույթի և սպորտի բնագավառում օժանդակ ծրագրեր իրականացնող կազմակերպությունների շենքային պայմանների և գույքային հագեցվածության բարելավում | F32: ՀՀ կրթության, գիտության, մշակույթի և սպորտի նախարարություն | G32: =+G33 -> 384.8
F33: «Գորիսի տարածքային մանկավարժահոգեբանական աջակցության կենտրոն» ՊՈԱԿ | G33: 384.8
A34: 1168 | B34: Արվեստների ծրագիր | G34: =+G35+G37 -> 118204
B35: 32001 | C35: Ներդրումներ թատրոնների և համերգային կազմակերպությունների շենքերի կապիտալ վերանորոգման համար | F35: ՀՀ կրթության, գիտության, մշակույթի և սպորտի նախարարություն | G35: 9644
F36: «Գաբրիել Սունդուկյանի անվան ազգային ակադեմիական թատրոն» ՊՈԱԿ | G36: 9644
B37: 32007 | C37: Թատերահամերգային կազմակերպությունների նյութատեխնիկական բազայի համալրում | F37: ՀՀ կրթության, գիտության, մշակույթի և սպորտի նախարարություն | G37: =+G38+G39 -> 108560
F38: «Հայաստանի էստրադային ջազ-նվագախումբ» ՊՈԱԿ | G38: 23560
F39: «Հայաստանի պետական ֆիլհարմոնիա» ՊՈԱԿ | G39: 85000
A40: 1183 | B40: Ապահով դպրոց | G40: =+G41 -> 67634.5
B41: 32012 | C41: Հանրակրթական դպրոցների գույքով և տեխնիկայով ապահովում | G41: =G42+G46+G44 -> 67634.5
F42: ՀՀ կրթության, գիտության, մշակույթի և սպորտի նախարարություն | G42: =+G43 -> 280
F43: «Երևանի թիվ 109 ավագ դպրոց» ՊՈԱԿ | G43: 280
F44: ՀՀ Սյունիքի մարզպետի աշխատակազմ | G44: =+G45 -> 9800
F45: «գ․ Որոտանի միջնակարգ դպրոց» ՊՈԱԿ | G45: 9800
F46: ՀՀ Տավուշի մարզպետի աշխատակազմ | G46: =+G47 -> 57554.5
F47: «Դիլիջանի Հովհաննես Շարամբեյանի անվան մանկական գեղարվեստի դպրոց» ՀՈԱԿ | G47: 57554.5
A48: 1196 | B48: Մարզերի մշակութային զարգացման ծրագիր | G48: 25230.7
B49: 12001 | C49: Աջակցություն համայնքներին մշակութային հաստատությունների շենքային պայմանների բարելավման համար | G49: 25230.7
F50: ՀՀ Լոռու մարզպետի աշխատակազմ | G50: 25230.7
F51: «Ստեփանավանի մշակույթի և ժամանցի կենտրոն» ՊՈԱԿ | G51: 25230.7

Sheet Հավելված N 8
C1: Հավելված N 8
C2: ՀՀ կառավարության 2023 թվականի
C3: ______________ ի ___Ն որոշման
A6: ՀԱՅԱՍՏԱՆԻ ՀԱՆՐԱՊԵՏՈՒԹՅԱՆ ԿԱՌԱՎԱՐՈՒԹՅԱՆ 2022 ԹՎԱԿԱՆԻ ԴԵԿՏԵՄԲԵՐԻ 29-Ի N 2111-Ն ՈՐՈՇՄԱՆ N 6 ՀԱՎԵԼՎԱԾՈՒՄ ԿԱՏԱՐՎՈՂ ԼՐԱՑՈՒՄԸ
A9: NN ը/կ | B9: Եկամտատեսակը | D9: Գանձման համար պատասխանատու պետական կառավարման մարմինը (մարմինները) | E9: Ցուցանիշների փոփոխությունը (ավելացումները նշված են դրական նշանով)
E10: Տարի
A11: Այլ եկամուտներ, ընդամենը՝ | E11: =+E13 -> 280
B12: այդ թվում՝
A13: 6 | B13: Օրենքով և այլ իրավական ակտերով սահմանված պետական բյուջե մուտքագրվող այլ եկամուտներ | E13: =+E14 -> 280
A14: 6.8 | B14: Նախորդ տարիների՝ ՀՀ պետական բյուջեից ծախսերի ֆինանսավորման նպատակով հատկացված գումարների (բացառությամբ փոխառու միջոցների) վերադարձից մուտքեր | D14: ՀՀ պետական կառավարման մարմիններ | E14: 280

Sheet Հավելված N 9
C1: Հավելված N 9
C2: ՀՀ կառավարության 2023 թվականի
C3: ______________ ի ___Ն որոշման
B5: ՀԱՅԱՍՏԱՆԻ ՀԱՆՐԱՊԵՏՈՒԹՅԱՆ ԿԱՌԱՎԱՐՈՒԹՅԱՆ 2022 ԹՎԱԿԱՆԻ ԴԵԿՏԵՄԲԵՐԻ 29-Ի N 2111-Ն ՈՐՈՇՄԱՆ N 9 ՀԱՎԵԼՎԱԾԻ NN 9.13 ԵՎ 9.47 ԱՂՅՈՒՍԱԿՆԵՐՈՒՄ ԿԱՏԱՐՎՈՂ ՓՈՓՈԽՈՒԹՅՈՒՆՆԵՐԸ ԵՎ ԼՐԱՑՈՒՄՆԵՐԸ
A7: Աղյուսակ 9․13
C8: ՀՀ կրթության, գիտության, մշակույթի և սպորտի նախարարություն
B9: ՄԱՍ 2. ՊԵՏԱԿԱՆ ՄԱՐՄՆԻ ԳԾՈՎ ԱՐԴՅՈՒՆՔԱՅԻՆ (ԿԱՏԱՐՈՂԱԿԱՆ) ՑՈՒՑԱՆԻՇՆԵՐԸ
B12: Ծրագրի դասիչը | C12: Ծրագրի անվանումը
B13: 1045 | C13: Նախնական (արհեստագործական) և միջին մասնագիտական կրթություն
B15: Ծրագրի միջոցառումները | D15: Ցուցանիշների փոփոխությունը (ավելացումները նշված են դրական նշանով)
B16: Ծրագրի դասիչը՝ | C16: 1045
B17: Միջոցառման դասիչը՝ | C17: 32001 | D17: Տարի
B18: Միջոցառման անվանումը՝ | C18: Նախնական մասնագիտական (արհեստագործական) և միջին մասնագիտական ուսումնական հաստատությունների շենքային պայմանների բարելավում
B19: Նկարագրությունը՝ | C19: ՆՄՄԿՈՒ հաստատությունների շենքերի հիմնանորոգման և նախագծման (շինարարական աշխատանքներ, ջեռուցման համակարգի ստեղծում, ներքին հարդարում, տարածքի բարեկարգում) աշխատանքների իրականացում
B20: Միջոցառման տեսակը՝ | C20: Այլ պետական կազմակերպությունների կողմից օգտագործվող ոչ ֆինանսական ակտիվների հետ գործառնություններ
B21: Ակտիվն օգտագործող կազմակերպությունների անվանումները | C21: Նախնական մասնագիտական (արհեստագործական) և միջին մասնագիտական ուսումնական հաստատություններ
B22: Արդյունքի չափորոշիչներ
B23: Հիմնանորոգվող միջին մասնագիտական ուսումնական հաստատությունների քանակ, հատ | D23: 1
B24: Միջոցառման վրա կատարվող ծախսը (հազար դրամ) | D24: =+'Հավելված N 3'!D23 -> 2105.3
B26: Ծրագրի դասիչը | C26: Ծրագրի անվանումը
B27: 1075 | C27: Մշակութային ժառանգության ծրագիր
B29: Ծրագրի միջոցառումները | D29: Ցուցանիշների փոփոխությունը (նվազեցումները նշված են փակագծերում)
B30: Ծրագրի դասիչը՝ | C30: 1075
B31: Միջոցառման դասիչը` | C31: 21001 | D31: Տարի
B32: Միջոցառման անվանումը` | C32: Հուշարձանների ամրակայում, նորոգում և վերականգնում
B33: Նկարագրությունը` | C33: Հուշարձանների գիտանախագծային փաստաթղթերի կազմում, հրատապ ուսումնասիրում, վավերագրման և ուսումնասիրման աշխատանքներ, հետախուզում և հնագիտական պեղում, ամրակայում, նորոգում և վերականգնում
B34: Միջոցառման տեսակը` | C34: Հանրության կողմից անմիջականորեն օգտագործվող ակտիվների հետ կապված միջոցառումներ
B35: Միջոցառումն իրականացնողիանվանումը | C35: Մասնագիտացված կազմակերպություն
B36: Արդյունքի չափորոշիչներ
B37: Միջոցառման վրա կատարվող ծախսը (հազար դրամ) | D37: =+'Հավելված N 3'!D36 -> -29510.9
B39: Ծրագրի միջոցառումները | D39: Ցուցանիշների փոփոխությունը (ավելացումները նշված են դրական նշանով)
B40: Ծրագրի դասիչը՝ | C40: 1075
B41: Միջոցառման դասիչը՝ | C41: 32001 | D41: Տարի
B42: Միջոցառման անվանումը` | C42: Ներդրումներ թանգարանների և պատկերասրահների հիմնանորոգման համար
B43: Նկարագրությունը` | C43: Թանգարանների և պատկերասրահների շենքերի, մասնաշենքերի հիմնանորոգում, համաշինարարական աշխատանքներ, ջեռուցման համակարգի իրականացում, ներքին հարդարում, տարածքի բարեկարգում և նախագծում
B44: Միջոցառման տեսակը` | C44: Այլ պետական կազմակերպությունների կողմից օգտագործվող ոչ ֆինանսական ակտիվների հետ գործառնություններ
B45: Ակտիվն օգտագործող կազմակերպությունների անվանումները | C45: Թանգարաններ և պատկերասրահներ
B46: Արդյունքի չափորոշիչներ
B47: Հիմնանորոգվող թանգարաններ և պատկերասրահներ քանակ, հատ | D47: 5
B48: Միջոցառման վրա կատարվող ծախսը (հազար դրամ) | D48: =+'Հավելված N 3'!D42 -> 45872.3
B50: Ծրագրի միջոցառումները | D50: Ցուցանիշների փոփոխությունը (ավելացումները նշված են դրական նշանով)
B51: Ծրագրի դասիչը՝ | C51: 1075
B52: Միջոցառման դասիչը՝ | C52: 32008 | D52: Տարի
B53: Միջոցառման անվանումը՝ | C53: Թանգարանների և պատկերասրահների գույքային և տեխնիկական հագեցվածության բարելավում
B54: Նկարագրությունը՝ | C54: Թանգարանների և պատկերասրահների համար անհրաժեշտ գույքի, տեխնիկայի և սարքավորումների ձեռքբերում
B55: Միջոցառման տեսակը՝ | C55: Այլ պետական կազմակերպությունների կողմից օգտագործվող ոչ ֆինանսական ակտիվների հետ գործառնություններ
B56: Ակտիվն օգտագործող կազմակերպությունների անվանումները | C56: Թանգարաններ և պատկերասրահներ
B57: Արդյունքի չափորոշիչներ
B58: Կազմակերպությունների թիվը, որտեղ կատարվում են ներդրումները, հատ | D58: 1
B59: Միջոցառման վրա կատարվող ծախսը (հազար դրամ) | D59: =+'Հավելված N 3'!D48 -> 10800
B61: Ծրագրի միջոցառումները | D61: Ցուցանիշների փոփոխությունը (ավելացումները նշված են դրական նշանով)
B62: Ծրագրի դասիչը՝ | C62: 1075
B63: Միջոցառման դասիչը՝ | C63: 32010 | D63: Տարի
B64: Միջոցառման անվանումը՝ | C64: Տեղեկատվական մոդուլային կենտրոնների ստեղծում
B65: Նկարագրությունը՝ | C65: Տեղեկատվական մոդուլային կենտրոնների կառուցում և տեղադրում արգելոց-թանգարանների տարածքում
B66: Միջոցառման տեսակը՝ | C66: Այլ պետական կազմակերպությունների կողմից օգտագործվող ոչ ֆինանսական ակտիվների հետ գործառնություններ
B67: Ակտիվն օգտագործող կազմակերպությունների անվանումները | C67: Արգելոց–թանգարաններ
B68: Արդյունքի չափորոշիչներ
B69: Կառուցվող տեղեկատվական մոդուլային կենտրոնների քանակը, հատ | D69: 3
B70: Միջոցառման վրա կատարվող ծախսը (հազար դրամ) | D70: =+'Հավելված N 3'!D54 -> 196975.5
B72: Ծրագրի դասիչը | C72: Ծրագրի անվանումը
B73: 1124 | C73: Գրահրատարակչության և գրադարանների ծրագիր
B75: Ծրագրի միջոցառումները | D75: Ցուցանիշների փոփոխությունը (ավելացումները նշված են դրական նշանով)
B76: Ծրագրի դասիչը՝ | C76: 1124
B77: Միջոցառման դասիչը՝ | C77: 32001 | D77: Տարի
B78: Միջոցառման անվանումը՝ | C78: Հանրային գրադարանների նյութատեխնիկական բազայի զարգացում
B79: Նկարագրությունը՝ | C79: Հանրային գրադարանների նյութատեխնիկական բազայի զարգացում
B80: Միջոցառման տեսակը՝ | C80: Այլ պետական կազմակերպությունների կողմից օգտագործվող ոչ ֆինանսական ակտիվների հետ գործառնություններ
B81: Ակտիվն օգտագործող կազմակերպությունների անվանումները | C81: Հանրային գրադարաններ
B82: Արդյունքի չափորոշիչներ
B83: Վերազինվող գրադարանների թիվը | D83: 1
B84: Միջոցառման վրա կատարվող ծախսը (հազար դրամ) | D84: =+'Հավելված N 3'!D67 -> 1372.9
B86: Ծրագրի միջոցառումները | D86: Ցուցանիշների փոփոխությունը (ավելացումները նշված են դրական նշանով)
B87: Ծրագրի դասիչը՝ | C87: 1124
B88: Միջոցառման դասիչը՝ | C88: 32002 | D88: Տարի
B89: Միջոցառման անվանումը՝ | C89: Ներդրումներ գրադարանների հիմնանորոգման համար
B90: Նկարագրությունը՝ | C90: Գրադարանների շենքերի, մասնաշենքերի հիմնանորոգում, համաշինարարական աշխատանքներ, ջեռուցման համակարգի իրականացում, ներքին հարդարում, տարածքի բարեկարգում և նախագծում
B91: Միջոցառման տեսակը՝ | C91: Այլ պետական կազմակերպությունների կողմից օգտագործվող ոչ ֆինանսական ակտիվների հետ գործառնություններ
B92: Ակտիվն օգտագործող կազմակերպությունների անվանումները | C92: Հանրային գրադարաններ
B93: Արդյունքի չափորոշիչներ
B94: Գրադարանների թիվը, որտեղ կատարվում են ներդրումները, հատ | D94: 1
B95: Միջոցառման վրա կատարվող ծախսը (հազար դրամ) | D95: =+'Հավելված N 3'!D73 -> 42012
B97: Ծրագրի դասիչը | C97: Ծրագրի անվանումը
B98: 1130 | C98: Կրթության, գիտության, մշակույթի և սպորտի բնագավառի պետական քաղաքականության մշակում, ծրագրերի համակարգում և մոնիտորինգ
B100: Ծրագրի միջոցառումները | D100: Ցուցանիշների փոփոխությունը (ավելացումները նշված են դրական նշանով)
B101: Ծրագրի դասիչը՝ | C101: 1130
B102: Միջոցառման դասիչը՝ | C102: 32001 | D102: Տարի
B103: Միջոցառման անվանումը՝ | C103: ՀՀ կրթության, գիտության, մշակույթի և սպորտի բնագավառում օժանդակ ծրագրեր իրականացնող կազմակերպությունների շենքային պայմանների և գույքային հագեցվածության բարելավում
B104: Նկարագրությունը՝ | C104: ՀՀ կրթության, գիտության, մշակույթի և սպորտի բնագավառում օժանդակ ծրագրեր իրականացնող կազմակերպությունների աշխատանքային պայմանների բարելավում
B105: Միջոցառման տեսակը՝ | C105: Այլ պետական կազմակերպությունների կողմից օգտագործվող ոչ ֆինանսական ակտիվների հետ գործառնություններ
B106: Ակտիվն օգտագործող կազմակերպության անվանումը | C106: Մասնագիտացված կազմակերպություններ
B107: Արդյունքի չափորոշիչներ
B108: Կազմակերպությունների թիվը, որտեղ կատարվում են ներդրումները, հատ | D108: 1
B109: Միջոցառման վրա կատարվող ծախսը (հազար դրամ) | D109: =+'Հավելված N 3'!D86 -> 384.8
B111: Ծրագրի դասիչը | C111: Ծրագրի անվանումը
B112: 1146 | C112: Հանրակրթության ծրագիր
B114: Ծրագրի միջոցառումները | D114: Ցուցանիշների փոփոխությունը (նվազեցումները նշված են փակագծերում)
B115: Ծրագրի դասիչը՝ | C115: 1146
B116: Միջոցառման դասիչը՝ | C116: 12010 | D116: Տարի
B117: Միջոցառման անվանումը` | C117: «Մոդուլային» տիպի մանկապարտեզների շենքային ապահովում
...

Sheet Հավելված N 10
C1: Հավելված N 10
C2: ՀՀ կառավարության 2023 թվականի
C3: ______________ ի ___Ն որոշման
B5: ՀԱՅԱՍՏԱՆԻ ՀԱՆՐԱՊԵՏՈՒԹՅԱՆ ԿԱՌԱՎԱՐՈՒԹՅԱՆ 2022 ԹՎԱԿԱՆԻ ԴԵԿՏԵՄԲԵՐԻ 29-Ի N 2111-Ն ՈՐՈՇՄԱՆ N 9․1 ՀԱՎԵԼՎԱԾԻ NN 9.1․13, 9.1.52, 9.1.55, 9.1.57 ԵՎ 9.1.58 ԱՂՅՈՒՍԱԿՆԵՐՈՒՄ ԿԱՏԱՐՎՈՂ ՓՈՓՈԽՈՒԹՅՈՒՆՆԵՐԸ ԵՎ ԼՐԱՑՈՒՄՆԵՐԸ
A7: Աղյուսակ 9․1.13
C8: ՀՀ կրթության, գիտության, մշակույթի և սպորտի նախարարություն
B9: ՄԱՍ 1. ՊԵՏԱԿԱՆ ՄԱՐՄՆԻ ԳԾՈՎ ԱՐԴՅՈՒՆՔԱՅԻՆ (ԿԱՏԱՐՈՂԱԿԱՆ) ՑՈՒՑԱՆԻՇՆԵՐԸ
B12: Ծրագրի դասիչը | C12: Ծրագրի անվանումը
B13: 1045 | C13: Նախնական (արհեստագործական) և միջին մասնագիտական կրթություն
B15: Ծրագրի միջոցառումները | D15: Ցուցանիշների փոփոխությունը (ավելացումները նշված են դրական նշանով)
B16: Ծրագրի դասիչը՝ | C16: 1045
B17: Միջոցառման դասիչը՝ | C17: 32001 | D17: Տարի
B18: Միջոցառման անվանումը՝ | C18: Նախնական մասնագիտական (արհեստագործական) և միջին մասնագիտական ուսումնական հաստատությունների շենքային պայմանների բարելավում
B19: Նկարագրությունը՝ | C19: ՆՄՄԿՈՒ հաստատությունների շենքերի հիմնանորոգման և նախագծման (շինարարական աշխատանքներ, ջեռուցման համակարգի ստեղծում, ներքին հարդարում, տարածքի բարեկարգում) աշխատանքների իրականացում
B20: Միջոցառման տեսակը՝ | C20: Այլ պետական կազմակերպությունների կողմից օգտագործվող ոչ ֆինանսական ակտիվների հետ գործառնություններ
B21: Ակտիվն օգտագործող կազմակերպությունների անվանումները | C21: Նախնական մասնագիտական (արհեստագործական) և միջին մասնագիտական ուսումնական հաստատություններ
B22: Արդյունքի չափորոշիչներ
B23: Հիմնանորոգվող միջին մասնագիտական ուսումնական հաստատությունների քանակ, հատ | D23: 1
B24: Միջոցառման վրա կատարվող ծախսը (հազար դրամ) | D24: =+'Հավելված N 4'!G148 -> 2105.3
B26: Ծրագրի դասիչը | C26: Ծրագրի անվանումը
B27: 1075 | C27: Մշակութային ժառանգության ծրագիր
B29: Ծրագրի միջոցառումները | D29: Ցուցանիշների փոփոխությունը (նվազեցումները նշված են փակագծերում)
B30: Ծրագրի դասիչը՝ | C30: 1075
B31: Միջոցառման դասիչը` | C31: 21001 | D31: Տարի
B32: Միջոցառման անվանումը` | C32: Հուշարձանների ամրակայում, նորոգում և վերականգնում
B33: Նկարագրությունը` | C33: Հուշարձանների գիտանախագծային փաստաթղթերի կազմում, հրատապ ուսումնասիրում, վավերագրման և ուսումնասիրման աշխատանքներ, հետախուզում և հնագիտական պեղում, ամրակայում, նորոգում և վերականգնում
B34: Միջոցառման տեսակը` | C34: Հանրության կողմից անմիջականորեն օգտագործվող ակտիվների հետ կապված միջոցառումներ
B35: Միջոցառումն իրականացնողիանվանումը | C35: Մասնագիտացված կազմակերպություն
B36: Արդյունքի չափորոշիչներ
B37: Միջոցառման վրա կատարվող ծախսը (հազար դրամ) | D37: =+'Հավելված N 4'!G129 -> -29510.9
B39: Ծրագրի միջոցառումները | D39: Ցուցանիշների փոփոխությունը (ավելացումները նշված են դրական նշանով)
B40: Ծրագրի դասիչը՝ | C40: 1075
B41: Միջոցառման դասիչը՝ | C41: 32001 | D41: Տարի
B42: Միջոցառման անվանումը` | C42: Ներդրումներ թանգարանների և պատկերասրահների հիմնանորոգման համար
B43: Նկարագրությունը` | C43: Թանգարանների և պատկերասրահների շենքերի, մասնաշենքերի հիմնանորոգում, համաշինարարական աշխատանքներ, ջեռուցման համակարգի իրականացում, ներքին հարդարում, տարածքի բարեկարգում և նախագծում
B44: Միջոցառման տեսակը` | C44: Այլ պետական կազմակերպությունների կողմից օգտագործվող ոչ ֆինանսական ակտիվների հետ գործառնություններ
B45: Ակտիվն օգտագործող կազմակերպությունների անվանումները | C45: Թանգարաններ և պատկերասրահներ
B46: Արդյունքի չափորոշիչներ
B47: Հիմնանորոգվող թանգարաններ և պատկերասրահներ քանակ, հատ | D47: 5
B48: Միջոցառման վրա կատարվող ծախսը (հազար դրամ) | D48: =+'Հավելված N 4'!G50 -> 45872.3
B50: Ծրագրի միջոցառումները | D50: Ցուցանիշների փոփոխությունը (ավելացումները նշված են դրական նշանով)
B51: Ծրագրի դասիչը՝ | C51: 1075
B52: Միջոցառման դասիչը՝ | C52: 32008 | D52: Տարի
B53: Միջոցառման անվանումը՝ | C53: Թանգարանների և պատկերասրահների գույքային և տեխնիկական հագեցվածության բարելավում
B54: Նկարագրությունը՝ | C54: Թանգարանների և պատկերասրահների համար անհրաժեշտ գույքի, տեխնիկայի և սարքավորումների ձեռքբերում
B55: Միջոցառման տեսակը՝ | C55: Այլ պետական կազմակերպությունների կողմից օգտագործվող ոչ ֆինանսական ակտիվների հետ գործառնություններ
B56: Ակտիվն օգտագործող կազմակերպությունների անվանումները | C56: Թանգարաններ և պատկերասրահներ
B57: Արդյունքի չափորոշիչներ
B58: Կազմակերպությունների թիվը, որտեղ կատարվում են ներդրումները, հատ | D58: 1
B59: Միջոցառման վրա կատարվող ծախսը (հազար դրամ) | D59: =+'Հավելված N 4'!G59 -> 10800
B61: Ծրագրի միջոցառումները | D61: Ցուցանիշների փոփոխությունը (ավելացումները նշված են դրական նշանով)
B62: Ծրագրի դասիչը՝ | C62: 1075
B63: Միջոցառման դասիչը՝ | C63: 32010 | D63: Տարի
B64: Միջոցառման անվանումը՝ | C64: Տեղեկատվական մոդուլային կենտրոնների ստեղծում
B65: Նկարագրությունը՝ | C65: Տեղեկատվական մոդուլային կենտրոնների կառուցում և տեղադրում արգելոց-թանգարանների տարածքում
B66: Միջոցառման տեսակը՝ | C66: Այլ պետական կազմակերպությունների կողմից օգտագործվող ոչ ֆինանսական ակտիվների հետ գործառնություններ
B67: Ակտիվն օգտագործող կազմակերպությունների անվանումները | C67: Արգելոց–թանգարաններ
B68: Արդյունքի չափորոշիչներ
B69: Կառուցվող տեղեկատվական մոդուլային կենտրոնների քանակը, հատ | D69: 3
B70: Միջոցառման վրա կատարվող ծախսը (հազար դրամ) | D70: =+'Հավելված N 4'!G68 -> 196975.5
B72: Ծրագրի դասիչը | C72: Ծրագրի անվանումը
B73: 1124 | C73: Գրահրատարակչության և գրադարանների ծրագիր
B75: Ծրագրի միջոցառումները | D75: Ցուցանիշների փոփոխությունը (ավելացումները նշված են դրական նշանով)
B76: Ծրագրի դասիչը՝ | C76: 1124
B77: Միջոցառման դասիչը՝ | C77: 32001 | D77: Տարի
B78: Միջոցառման անվանումը՝ | C78: Հանրային գրադարանների նյութատեխնիկական բազայի զարգացում
B79: Նկարագրությունը՝ | C79: Հանրային գրադարանների նյութատեխնիկական բազայի զարգացում
B80: Միջոցառման տեսակը՝ | C80: Այլ պետական կազմակերպությունների կողմից օգտագործվող ոչ ֆինանսական ակտիվների հետ գործառնություններ
B81: Ակտիվն օգտագործող կազմակերպությունների անվանումները | C81: Հանրային գրադարաններ
B82: Արդյունքի չափորոշիչներ
B83: Վերազինվող գրադարանների թիվը | D83: 1
B84: Միջոցառման վրա կատարվող ծախսը (հազար դրամ) | D84: =+'Հավելված N 4'!G26 -> 1372.9
B86: Ծրագրի միջոցառումները | D86: Ցուցանիշների փոփոխությունը (ավելացումները նշված են դրական նշանով)
B87: Ծրագրի դասիչը՝ | C87: 1124
B88: Միջոցառման դասիչը՝ | C88: 32002 | D88: Տարի
B89: Միջոցառման անվանումը՝ | C89: Ներդրումներ գրադարանների հիմնանորոգման համար
B90: Նկարագրությունը՝ | C90: Գրադարանների շենքերի, մասնաշենքերի հիմնանորոգում, համաշինարարական աշխատանքներ, ջեռուցման համակարգի իրականացում, ներքին հարդարում, տարածքի բարեկարգում և նախագծում
B91: Միջոցառման տեսակը՝ | C91: Այլ պետական կազմակերպությունների կողմից օգտագործվող ոչ ֆինանսական ակտիվների հետ գործառնություններ
B92: Ակտիվն օգտագործող կազմակերպությունների անվանումները | C92: Հանրային գրադարաններ
B93: Արդյունքի չափորոշիչներ
B94: Գրադարանների թիվը, որտեղ կատարվում են ներդրումները, հատ | D94: 1
B95: Միջոցառման վրա կատարվող ծախսը (հազար դրամ) | D95: =+'Հավելված N 4'!G35 -> 42012
B97: Ծրագրի դասիչը | C97: Ծրագրի անվանումը
B98: 1130 | C98: Կրթության, գիտության, մշակույթի և սպորտի բնագավառի պետական քաղաքականության մշակում, ծրագրերի համակարգում և մոնիտորինգ
B100: Ծրագրի միջոցառումները | D100: Ցուցանիշների փոփոխությունը (ավելացումները նշված են դրական նշանով)
B101: Ծրագրի դասիչը՝ | C101: 1130
B102: Միջոցառման դասիչը՝ | C102: 32001 | D102: Տարի
B103: Միջոցառման անվանումը՝ | C103: ՀՀ կրթության, գիտության, մշակույթի և սպորտի բնագավառում օժանդակ ծրագրեր իրականացնող կազմակերպությունների շենքային պայմանների և գույքային հագեցվածության բարելավում
B104: Նկարագրությունը՝ | C104: ՀՀ կրթության, գիտության, մշակույթի և սպորտի բնագավառում օժանդակ ծրագրեր իրականացնող կազմակերպությունների աշխատանքային պայմանների բարելավում
B105: Միջոցառման տեսակը՝ | C105: Այլ պետական կազմակերպությունների կողմից օգտագործվող ոչ ֆինանսական ակտիվների հետ գործառնություններ
B106: Ակտիվն օգտագործող կազմակերպության անվանումը | C106: Մասնագիտացված կազմակերպություններ
B107: Արդյունքի չափորոշիչներ
B108: Կազմակերպությունների թիվը, որտեղ կատարվում են ներդրումները, հատ | D108: 1
B109: Միջոցառման վրա կատարվող ծախսը (հազար դրամ) | D109: =+'Հավելված N 4'!G210 -> 384.8
B111: Ծրագրի դասիչը | C111: Ծրագրի անվանումը
B112: 1168 | C112: Արվեստների ծրագիր
B114: Ծրագրի միջոցառումները | D114: Ցուցանիշների փոփոխությունը (ավելացումները նշված են դրական նշանով)
B115: Ծրագրի դասիչը՝ | C115: 1168
B116: Միջոցառման դասիչը՝ | C116: 32001 | D116: Տարի
B117: Միջոցառման անվանումը` | C117: Ներդրումներ թատրոնների և համերգային կազմակերպությունների շենքերի կապիտալ վերանորոգման համար
...

Sheet Հավելված N 11
H1: Հավելված N 11
H2: ՀՀ կառավարության 2023 թվականի
H3: ______________ ի ___Ն որոշման
A5: ՀԱՅԱՍՏԱՆԻ ՀԱՆՐԱՊԵՏՈՒԹՅԱՆ ԿԱՌԱՎԱՐՈՒԹՅԱՆ 2022 ԹՎԱԿԱՆԻ ԴԵԿՏԵՄԲԵՐԻ 29-Ի N 2111-Ն ՈՐՈՇՄԱՆ N 10 ՀԱՎԵԼՎԱԾՈՒՄ ԿԱՏԱՐՎՈՂ ՓՈՓՈԽՈՒԹՅՈՒՆՆԵՐԸ
A7: Կոդը | B7: Անվանումը | E7: Գնման ձևը | F7: Չափման միավորը | G7: Միավորի գինը | H7: Ցուցանիշների փոփոխությունը (նվազեցումները նշված են փակագծերում)
H8: Քանակը | I8: Գումարը (հազար դրամ)
A9: 1 | B9: 2 | E9: 3 | F9: 4 | G9: 5 | H9: 6 | I9: 7
A10: ՀՀ կրթության, գիտության, մշակույթի և սպորտի նախարարություն | I10: =+I11 -> -29510.9
A11: Բաժին N 08 | B11: Խումբ N 02 | C11: Դաս N 07 | D11: Հուշարձանների և մշակութային արժեքների վերականգնում և պահպանում | I11: =+I12 -> -29510.9
A12: 1075-21001 | B12: Հուշարձանների ամրակայում, նորոգում և վերականգնում | I12: =+I13+I15 -> -29510.9
B13: ՄԱՍ II. ԱՇԽԱՏԱՆՔՆԵՐ | I13: =SUM(I14:I14) -> -29266.5
A14: 45451600-2 | B14: վերականգնողական աշխատանքներ | E14: ԲՄ | F14: դրամ | I14: -29266.5
B15: ՄԱՍ III. ԾԱՌԱՅՈՒԹՅՈՒՆՆԵՐ | I15: =SUM(I16:I18) -> -244.4
A16: 71351540-1 | B16: տեխնիկական հսկողության ծառայություններ | E16: ԳՀ | F16: դրամ | G16: 15587 | H16: -1 | I16: -15.5
A17: 71351540-547 | B17: տեխնիկական հսկողության ծառայություններ | E17: ԳՀ | F17: դրամ | I17: -92.2
A18: 98111140-12 | B18: հեղինակային հսկողության ծառայություններ | E18: ՄԱ | F18: դրամ | I18: -136.7

Sheet Հավելված N 12
F1: Հավելված N 12
G2: ՀՀ կառավարության 2023 թվականի
G3: ______________ ի ___Ն որոշման
A6: ՀԱՅԱՍՏԱՆԻ ՀԱՆՐԱՊԵՏՈՒԹՅԱՆ 2023 ԹՎԱԿԱՆԻ ՊԵՏԱԿԱՆ ԲՅՈՒՋԵՈՎ ՆԱԽԱՏԵՍՎԱԾ՝ ՀԱՅԱՍՏԱՆԻ ՀԱՆՐԱՊԵՏՈՒԹՅԱՆ ԿԱՌԱՎԱՐՈՒԹՅԱՆ ՊԱՀՈՒՍՏԱՅԻՆ ՖՈՆԴԻՑ ՀԱՏԿԱՑՈՒՄՆԵՐ ԿԱՏԱՐԵԼՈՒ ՎԵՐԱԲԵՐՅԱԼ
A9: Գործառական դասիչը | D9: Ծրագրային դասիչը | F9: Բյուջետային հատկացումների գլխավոր կարգադրիչների, ծրագրերի, միջոցառումների և միջոցառումները կատարող պետական մարմինների անվանումները | G9: Ցուցանիշների փոփոխությունը (ավելացումները նշված են դրական նշանով, իսկ նվազեցումները` փակագծերում)
A10: Բաժին | B10: Խումբ | C10: Դաս | D10: Ծրագիր | E10: Միջոցառում | G10: Տարի
F11: ԸՆԴԱՄԵՆԸ | G11: =+G13+G34 -> 0
F12: այդ թվում
F13: ՀՀ ԿԱՌԱՎԱՐՈՒԹՅՈՒՆ | G13: =+G14 -> -196975.5
A14: 11 | F14: ՀԻՄՆԱԿԱՆ ԲԱԺԻՆՆԵՐԻՆ ՉԴԱՍՎՈՂ ՊԱՀՈՒՍՏԱՅԻՆ ՖՈՆԴԵՐ | G14: =+G16 -> -196975.5
F15: այդ թվում`
B16: 01 | F16: ՀՀ կառավարության և համայնքների պահուստային ֆոնդ | G16: =+G18 -> -196975.5
F17: այդ թվում`
C18: 01 | F18: ՀՀ կառավարության պահուստային ֆոնդ | G18: =+G20 -> -196975.5
F19: այդ թվում`
F20: ՀՀ կառավարություն | G20: =+G22 -> -196975.5
F21: այդ թվում`
D22: 1139 | E22: ՀՀ կառավարության պահուստային ֆոնդ | F22: ՀՀ կառավարության պահուստային ֆոնդ | G22: =+G24 -> -196975.5
F23: այդ թվում`
E24: 11001 | F24: ՀՀ կառավարության պահուստային ֆոնդ | G24: =+G26 -> -196975.5
F25: այդ թվում` ըստ կատարողների
F26: ՀՀ կառավարություն | G26: =+G28 -> -196975.5
F27: այդ թվում՝ բյուջետային ծախսերի տնտեսագիտական դասակարգման հոդվածներ
F28: ԸՆԴԱՄԵՆԸ ԾԱԽՍԵՐ | G28: =+G29 -> -196975.5
F29: ՈՉ ՖԻՆԱՆՍԱԿԱՆ ԱԿՏԻՎՆԵՐԻ ԳԾՈՎ ԾԱԽՍԵՐ | G29: =+G30 -> -196975.5
F30: ՀԻՄՆԱԿԱՆ ՄԻՋՈՑՆԵՐ | G30: =+G31 -> -196975.5
F31: ՇԵՆՔԵՐ ԵՎ ՇԻՆՈՒԹՅՈՒՆՆԵՐ | G31: =+G32 -> -196975.5
F32: - Շենքերի և շինությունների շինարարություն | G32: =+'Հավելված N 4'!G246 -> -196975.5
F34: ՀՀ ԿՐԹՈՒԹՅԱՆ, ԳԻՏՈՒԹՅԱՆ, ՄՇԱԿՈՒՅԹԻ ԵՎ ՍՊՈՐՏԻ ՆԱԽԱՐԱՐՈՒԹՅՈՒՆ | G34: =+G35 -> 196975.5
A35: 08 | F35: ՀԱՆԳԻՍՏ, ՄՇԱԿՈՒՅԹ ԵՎ ԿՐՈՆ | G35: =+G37 -> 196975.5
F36: այդ թվում`
B37: 02 | F37: Մշակութային ծառայություններ | G37: =+G39 -> 196975.5
F38: այդ թվում`
C39: 02 | F39: Թանգարաններ և ցուցասրահներ | G39: =+G41 -> 196975.5
F40: այդ թվում`
F41: ՀՀ կրթության, գիտության, մշակույթի և սպորտի նախարարություն | G41: =+G43 -> 196975.5
F42: այդ թվում`
D43: 1075 | E43: Մշակութային ժառանգության ծրագիր | G43: =+G45 -> 196975.5
F44: այդ թվում`
E45: 32010 | F45: Տեղեկատվական մոդուլային կենտրոնների ստեղծում | G45: =+G47 -> 196975.5
F46: այդ թվում` ըստ կատարողների
F47: ՀՀ կրթության, գիտության, մշակույթի և սպորտի նախարարություն | G47: =+G49 -> 196975.5
F48: այդ թվում՝ բյուջետային ծախսերի տնտեսագիտական դասակարգման հոդվածներ
F49: ԸՆԴԱՄԵՆԸ ԾԱԽՍԵՐ | G49: =+G50 -> 196975.5
F50: ԸՆԹԱՑԻԿ ԾԱԽՍԵՐ | G50: =+G51 -> 196975.5
F51: ԴՐԱՄԱՇՆՈՐՀՆԵՐ | G51: =+G52 -> 196975.5
F52: Կապիտալ դրամաշնորհներ պետական հատվածի այլ մակարդակներին | G52: =+G53 -> 196975.5
F53: - Կապիտալ դրամաշնորհներ պետական և համայնքային ոչ առևտրային կազմակերպություններին | G53: =+'Հավելված N 4'!G74 -> 196975.5
