Workbook

Sheet Հավելված 1
B1: Հավելված N 1
B2: ՀՀ կառավարության 2023 թվականի
B3: ___________ ___-ի N _______ որոշման
A4: «ՀԱՅԱՍՏԱՆԻ ՀԱՆՐԱՊԵՏՈՒԹՅԱՆ 2023 ԹՎԱԿԱՆԻ ՊԵՏԱԿԱՆ ԲՅՈՒՋԵԻ ՄԱՍԻՆ» ՀԱՅԱՍՏԱՆԻ ՀԱՆՐԱՊԵՏՈՒԹՅԱՆ ՕՐԵՆՔԻ N 2 ՀՈԴՎԱԾԻ ԱՂՅՈՒՍԱԿՈՒՄ ԿԱՏԱՐՎՈՂ ՓՈՓՈԽՈՒԹՅՈՒՆՆԵՐԸ
B5: հազ. դրամներով
B6: Ցուցանիշների փոփոխությունը (ավելացումները նշված են դրական նշանով)
A7: 1. Եկամուտների գծով | B7: ='Հավելված 2'!B8 -> 8200000
A8: 2. Ծախսերի գծով | B8: ='Հավելված 3'!D8 -> 8200000
A9: 3. Դեֆիցիտը (պակասուրդը) | B9: =B8-B7 -> 0

Sheet Հավելված 2
B1: Հավելված N 2
B2: ՀՀ կառավարության 2023 թվականի
B3: ___________ ___-ի N _______ որոշման
A4: «ՀԱՅԱՍՏԱՆԻ ՀԱՆՐԱՊԵՏՈՒԹՅԱՆ 2023 ԹՎԱԿԱՆԻ ՊԵՏԱԿԱՆ ԲՅՈՒՋԵԻ ՄԱՍԻՆ» ՀԱՅԱՍՏԱՆԻ ՀԱՆՐԱՊԵՏՈՒԹՅԱՆ ՕՐԵՆՔԻ N 6 ՀՈԴՎԱԾԻ ԵՎ ՀԱՅԱՍՏԱՆԻ ՀԱՆՐԱՊԵՏՈՒԹՅԱՆ ԿԱՌԱՎԱՐՈՒԹՅԱՆ 2022 ԹՎԱԿԱՆԻ ԴԵԿՏԵՄԲԵՐԻ 29-Ի N 2111-Ն ՈՐՈՇՄԱՆ N 2 ՀԱՎԵԼՎԱԾԻ ԱՂՅՈՒՍԱԿՆԵՐՈՒՄ ԿԱՏԱՐՎՈՂ ՓՈՓՈԽՈՒԹՅՈՒՆՆԵՐԸ
B5: հազ. դրամներով
A6: Պետական բյուջեի եկամուտները | B6: Ցուցանիշների փոփոխությունը (ավելացումները նշված են դրական նշանով)
B7: Տարի
A8: ԸՆԴԱՄԵՆԸ | B8: =B10 -> 8200000
A9: այդ թվում՝
A10: Հարկային եկամուտներ և պետական տուրքեր | B10: ='Հավելված 3'!D8 -> 8200000

Sheet Հավելված 3
D1: Հավելված N 3
D2: ՀՀ կառավարության 2023 թվականի
D3: ___________ ___-ի N _______ որոշման
A4: «ՀԱՅԱՍՏԱՆԻ ՀԱՆՐԱՊԵՏՈՒԹՅԱՆ 2023 ԹՎԱԿԱՆԻ ՊԵՏԱԿԱՆ ԲՅՈՒՋԵԻ ՄԱՍԻՆ» ՀԱՅԱՍՏԱՆԻ ՀԱՆՐԱՊԵՏՈՒԹՅԱՆ ՕՐԵՆՔԻ N 1 ՀԱՎԵԼՎԱԾԻ N 2 ԱՂՅՈՒՍԱԿՈՒՄ ԵՎ ՀԱՅԱՍՏԱՆԻ ՀԱՆՐԱՊԵՏՈՒԹՅԱՆ ԿԱՌԱՎԱՐՈՒԹՅԱՆ 2022 ԹՎԱԿԱՆԻ ԴԵԿՏԵՄԲԵՐԻ 29-Ի N 2111-Ն ՈՐՈՇՄԱՆ N 5 ՀԱՎԵԼՎԱԾԻ N 1 ԱՂՅՈՒՍԱԿՈՒՄ ԿԱՏԱՐՎՈՂ ՓՈՓՈԽՈՒԹՅՈՒՆՆԵՐԸ ՈՒ ԼՐԱՑՈՒՄՆԵՐԸ
D5: հազ. դրամներով
A6: Ծրագրային դասիչը | C6: Բյուջետային հատկացումների գլխավոր կարգադրիչների, ծրագրերի և միջոցառումների անվանումները | D6: Ցուցանիշների փոփոխությունը (ավելացումները նշված են դրական նշանով)
A7: Ծրագիր | B7: Միջոցառում | D7: Տարի
C8: ԸՆԴԱՄԵՆԸ | D8: =D9 -> 8200000
C9: ՀՀ պետական եկամուտների կոմիտե | D9: =D10 -> 8200000
A10: 1023 | C10: Ծրագրի անվանումը՝ | D10: =D23 -> 8200000
C11: Հարկային և մաքսային ծառայություններ
C12: Ծրագրի նպատակը՝
C13: Հարկային և մաքսային միասնական պետական քաղաքականության իրականացում, հարկային և մաքսային օրենսդրության ամբողջական և համահավասար կիրառում
C14: Վերջնական արդյունքի նկարագրությունը՝
C15: Արդյունավետ հարկային և մաքսային հսկողության իրականացում, պետական բյուջեի եկամուտների ապահովում
A16: Ծրագրի միջոցառումներ
B17: 11001 | C17: Միջոցառման անվանումը` | D17: ='[1]Հավելված 3'!G17 -> 0
C18: Հարկային և մաքսային ծառայություններ
C19: Միջոցառման նկարագրությունը`
C20: Հարկային և մաքսային քաղաքականության մշակման, պլանավորման, մոնիտորինգի, ծրագրերի համակարգման, գանձման, վերահսկողության և աջակցության ծառայություններ
C21: Միջոցառման տեսակը
C22: Ծառայությունների մատուցում
B23: 11013 | C23: Միջոցառման անվանումը` | D23: ='Հավելված 4'!G30 -> 8200000
C24: ԵՏՄ անդամ չհանդիսացող պետություններից ՀՀ ֆիզիկական անձանց կողմից անձնական օգտագործման համար ներմուծման դեպքում պետական աջակցություն
C25: Միջոցառման նկարագրությունը`
C26: ԵՏՄ անդամ չհանդիսացող պետություններից ՀՀ ժամանակավոր ներմուծված և չվերաարտահանված թեթև մարդատար տրանսպորտային միջոցների մաքսային ձևակերպումների փոխհատուցում
C27: Միջոցառման տեսակը
C28: Ծառայությունների մատուցում

Sheet Հավելված 4
G1: Հավելված N 4
G2: ՀՀ կառավարության 2023 թվականի
G3: ___________ ___-ի N _______ որոշման
A4: ՀԱՅԱՍՏԱՆԻ ՀԱՆՐԱՊԵՏՈՒԹՅԱՆ ԿԱՌԱՎԱՐՈՒԹՅԱՆ 2022 ԹՎԱԿԱՆԻ ԴԵԿՏԵՄԲԵՐԻ 29-Ի N 2111-Ն ՈՐՈՇՄԱՆ NN 3 ԵՎ 4 ՀԱՎԵԼՎԱԾՆԵՐԻ ԱՂՅՈՒՍԱԿՆԵՐՈՒՄ ԿԱՏԱՐՎՈՂ ՓՈՓՈԽՈՒԹՅՈՒՆՆԵՐԸ ՈՒ ԼՐԱՑՈՒՄՆԵՐԸ
G5: ՀՀ կառավարության 2023 թվականի
G6: ___________ ___-ի N _______ որոշման
G7: հազ. դրամներով
A8: Գործառնական դասիչը | D8: Ծրագրային դասիչը | F8: Բյուջետային ծախսերի գործառնական դասակարգման բաժինների, խմբերի և դասերի, բյուջետային ծրագրերի միջոցառումների, բյուջետային հատկացումների գլխավոր կարգադրիչների անվանումները | G8: Ցուցանիշների փոփոխությունը (ավելացումները նշված են դրական նշանով)
A9: բաժին | B9: խումբ | C9: դաս | D9: ծրագիր | E9: միջոցառում | G9: Տարի
F10: ԸՆԴԱՄԵՆԸ ԾԱԽՍԵՐ | G10: =G12 -> 8200000
F11: այդ թվում՝
A12: 01 | F12: ԸՆԴՀԱՆՈՒՐ ԲՆՈՒՅԹԻ ՀԱՆՐԱՅԻՆ ԾԱՌԱՅՈՒԹՅՈՒՆՆԵՐ | G12: =G14 -> 8200000
F13: այդ թվում՝
B14: 01 | F14: Օրենսդիր և գործադիր մարմիններ, պետական կառավարում, ֆինանսական և հարկաբյուջետային հարաբերություններ, արտաքին հարաբերություններ | G14: =G16 -> 8200000
F15: այդ թվում՝
C16: 02 | F16: Ֆինանսական և հարկաբյուջետային հարաբերություններ | G16: =G18 -> 8200000
F17: այդ թվում՝
F18: ՀՀ պետական եկամուտների կոմիտե | G18: =G19 -> 8200000
D19: 1023 | F19: Հարկային և մաքսային ծառայություններ | G19: =G30 -> 8200000
F20: այդ թվում՝
E21: 11001 | F21: Հարկային և մաքսային ծառայություններ | G21: =G23 -> 0
F22: այդ թվում` ըստ կատարողների
F23: ՀՀ պետական եկամուտների կոմիտե | G23: =G25 -> 0
F24: այդ թվում` բյուջետային ծախսերի տնտեսագիտական դասակարգման հոդվածներ
F25: ԸՆԴԱՄԵՆԸ ԾԱԽՍԵՐ | G25: =G26 -> 0
F26: ԸՆԹԱՑԻԿ ԾԱԽՍԵՐ | G26: =G27 -> 0
F27: ԾԱՌԱՅՈՒԹՅՈՒՆՆԵՐԻ ԵՎ ԱՊՐԱՆՔՆԵՐԻ ՁԵՌՔԲԵՐՈՒՄ | G27: =G28 -> 0
F28: Պայմանագրային այլ ծառայությունների ձեռքբերում | G28: =G29 -> 0
F29: - Ներկայացուցչական ծախսեր | G29: 0
E30: 11013 | F30: ='Հավելված 3'!C24 -> ԵՏՄ անդամ չհանդիսացող պետություններից ՀՀ ֆիզիկական անձանց կողմից անձնական օգտագործման համար ներմուծման դեպքում պետական աջակցություն | G30: =G32 -> 8200000
F31: այդ թվում` ըստ կատարողների
F32: ՀՀ պետական եկամուտների կոմիտե | G32: =G34 -> 8200000
F33: այդ թվում` բյուջետային ծախսերի տնտեսագիտական դասակարգման հոդվածներ
F34: ԸՆԴԱՄԵՆԸ ԾԱԽՍԵՐ | G34: =G35 -> 8200000
F35: ԸՆԹԱՑԻԿ ԾԱԽՍԵՐ | G35: =G36 -> 8200000
F36: ՍՈՑԻԱԼԱԿԱՆ ՆՊԱՍՏՆԵՐ ԵՎ ԿԵՆՍԱԹՈՇԱԿՆԵՐ | G36: =G37 -> 8200000
F37: Սոցիալական օգնության դրամական արտահայտությամբ նպաստներ (բյուջեից) | G37: =G38 -> 8200000
F38: - Այլ նպաստներ բյուջեից | G38: 8200000

Sheet Հավելված 5 աղյուսակներ 1,2
C1: Հավելված N 5
C2: Աղյուսակ N 1
C3: ՀՀ կառավարության 2023 թվականի
C4: ___________ ___-ի N _______ որոշման
A5: ՀԱՅԱՍՏԱՆԻ ՀԱՆՐԱՊԵՏՈՒԹՅԱՆ ԿԱՌԱՎԱՐՈՒԹՅԱՆ 2022 ԹՎԱԿԱՆԻ ԴԵԿՏԵՄԲԵՐԻ 29-Ի N 2111-Ն ՈՐՈՇՄԱՆ N 9 ՀԱՎԵԼՎԱԾԻ N 9.25 ԱՂՅՈՒՍԱԿՈՒՄ ԿԱՏԱՐՎՈՂ ՓՈՓՈԽՈՒԹՅՈՒՆՆԵՐԸ ՈՒ ԼՐԱՑՈՒՄՆԵՐԸ
A7: ՀՀ պետական եկամուտների կոմիտե
A9: ՄԱՍ 2. ՊԵՏԱԿԱՆ ՄԱՐՄՆԻ ԳԾՈՎ ԱՐԴՅՈՒՆՔԱՅԻՆ (ԿԱՏԱՐՈՂԱԿԱՆ) ՑՈՒՑԱՆԻՇՆԵՐԸ
A11: Ծրագրի դասիչը | B11: Ծրագրի անվանումը
A12: 1023 | B12: Հարկային և մաքսային ծառայություններ
A14: Ծրագրի միջոցառումները
A15: Ծրագրի դասիչը՝ | B15: 1023
A16: Միջոցառման դասիչը՝ | B16: 11001 | C16: Տարի
A17: Միջոցառման անվանումը՝ | B17: Հարկային և մաքսային ծառայություններ
A18: Նկարագրությունը՝ | B18: Հարկային և մաքսային քաղաքականության մշակման, պլանավորման, մոնիտորինգի, ծրագրերի համակարգման, գանձման, վերահսկողության և աջակցության ծառայություններ
A19: Միջոցառման տեսակը՝ | B19: Ծառայությունների մատուցում
A20: Ծառայությունը մատուցող կազմակերպության անվանումը | B20: ՀՀ պետական եկամուտների կոմիտե
A21: Արդյունքի չափորոշիչներ
A22: Միջոցառման վրա կատարվող ծախսը (հազար դրամ) | C22: ='Հավելված 4'!#REF! -> #REF!
A24: Ծրագրի դասիչը` | B24: 1023 | C24: Ցուցանիշների փոփոխությունը (ավելացումները ներկայացված են դրական նշանով)
A25: Միջոցառման դասիչը` | B25: 11013 | C25: Տարի
A26: Միջոցառման անվանումը` | B26: ='Հավելված 3'!C24 -> ԵՏՄ անդամ չհանդիսացող պետություններից ՀՀ ֆիզիկական անձանց կողմից անձնական օգտագործման համար ներմուծման դեպքում պետական աջակցություն
A27: Նկարագրությունը` | B27: ='Հավելված 3'!C26 -> ԵՏՄ անդամ չհանդիսացող պետություններից ՀՀ ժամանակավոր ներմուծված և չվերաարտահանված թեթև մարդատար տրանսպորտային միջոցների մաքսային ձևակերպումների փոխհատուցում
A28: Միջոցառման տեսակը` | B28: Ծառայությունների մատուցում
A29: Ծառայությունը մատուցող կազմակերպության(ների) անվանում(ներ)ը` | B29: ՀՀ պետական եկամուտների կոմիտե
A30: Արդյունքի չափորոշիչներ
A31: Մաքսային ձևակերպումների ենթակա տրանսպորտային միջոցների քանակ, հատ | C31: 9000
A32: Միջոցառման վրա կատարվող ծախսը (հազար դրամ) | C32: ='Հավելված 4'!G30 -> 8200000
C34: Աղյուսակ N 2
A35: ՀԱՅԱՍՏԱՆԻ ՀԱՆՐԱՊԵՏՈՒԹՅԱՆ ԿԱՌԱՎԱՐՈՒԹՅԱՆ 2022 ԹՎԱԿԱՆԻ ԴԵԿՏԵՄԲԵՐԻ 29-Ի N 2111-Ն ՈՐՈՇՄԱՆ N 9.1 ՀԱՎԵԼՎԱԾԻ N 9.1.27 ԱՂՅՈՒՍԱԿՈՒՄ ԿԱՏԱՐՎՈՂ ՓՈՓՈԽՈՒԹՅՈՒՆՆԵՐԸ ՈՒ ԼՐԱՑՈՒՄՆԵՐԸ
A37: ՀՀ պետական եկամուտների կոմիտե
A39: ՄԱՍ 1. ՊԵՏԱԿԱՆ ՄԱՐՄՆԻ ԳԾՈՎ ԱՐԴՅՈՒՆՔԱՅԻՆ (ԿԱՏԱՐՈՂԱԿԱՆ) ՑՈՒՑԱՆԻՇՆԵՐԸ
A41: Ծրագրի դասիչը | B41: Ծրագրի անվանումը
A42: 1023 | B42: Հարկային և մաքսային ծառայություններ
A44: Ծրագրի միջոցառումները
A45: Ծրագրի դասիչը՝ | B45: 1023
A46: Միջոցառման դասիչը՝ | B46: 11001 | C46: Տարի
A47: Միջոցառման անվանումը՝ | B47: Հարկային և մաքսային ծառայություններ
A48: Նկարագրությունը՝ | B48: Հարկային և մաքսային քաղաքականության մշակման, պլանավորման, մոնիտորինգի, ծրագրերի համակարգման, գանձման, վերահսկողության և աջակցության ծառայություններ
A49: Միջոցառման տեսակը՝ | B49: Ծառայությունների մատուցում
A50: Ծառայությունը մատուցող կազմակերպության անվանումը | B50: ՀՀ պետական եկամուտների կոմիտե
...
