Workbook
Name a: #REF!
Name a: #REF!
Name AgencyCode: #REF!
Name AgencyCode: #REF!
Name AgencyName: #REF!
Name AgencyName: #REF!
Name davit: #REF!
Name davit: #REF!
Name Functional1: #REF!
Name Functional1: #REF!
Name ggg: #REF!
Name ggg: #REF!
Name HAVELVAC10: #REF!
Name HAVELVAC10: #REF!
Name PANature: #REF!
Name PANature: #REF!
Name PAType: #REF!
Name PAType: #REF!
Name Performance2: #REF!
Name Performance2: #REF!
Name PerformanceType: #REF!
Name PerformanceType: #REF!
Name Հավելված: #REF!
Name Հավելված: #REF!
Name Մաս: #REF!
Name Մաս: #REF!
Name շախմատիստ: #REF!
Name շախմատիստ: #REF!
Name շախմատիստ: #REF!

Sheet havelvac 1
C1: Հավելված N 1
C2: ՀՀ կառավարության 2023 թվականի
C3: ______________ ի ___Ն որոշման
A4: «ՀԱՅԱՍՏԱՆԻ ՀԱՆՐԱՊԵՏՈՒԹՅԱՆ 2023 ԹՎԱԿԱՆԻ ՊԵՏԱԿԱՆ ԲՅՈՒՋԵԻ ՄԱՍԻՆ» ՕՐԵՆՔԻ N 1 ՀԱՎԵԼՎԱԾԻ N 2 ԱՂՅՈՒՍԱԿՈՒՄ ԿԱՏԱՐՎՈՂ ՎԵՐԱԲԱՇԽՈՒՄԸ ԵՎ ՀԱՅԱՍՏԱՆԻ ՀԱՆՐԱՊԵՏՈՒԹՅԱՆ ԿԱՌԱՎԱՐՈՒԹՅԱՆ 2022 ԹՎԱԿԱՆԻ ԴԵԿՏԵՄԲԵՐԻ 29-Ի N 2111-Ն ՈՐՈՇՄԱՆ N 5 ՀԱՎԵԼՎԱԾԻ N 1 ԱՂՅՈՒՍԱԿՈՒՄ ԿԱՏԱՐՎՈՂ ՓՈՓՈԽՈՒԹՅՈՒՆՆԵՐԸ
D5: /հազար դրամ/
A6: Ծրագրային դասիչը | C6: Բյուջետային հատկացումների գլխավոր կարգադրիչների, ծրագրերի և միջոցառումների անվանումները | D6: Ցուցանիշների փոփոխությունը (ավելացումները նշված են դրական նշանով, իսկ նվազեցումները՝ փակագծերում)
A7: ծրագիր | B7: միջոցառում | D7: Տարի
C8: ԸՆԴԱՄԵՆԸ | D8: =D9+D64 -> 0
A9: ՀՀ Կրթության, գիտության, մշակույթի և սպորտի նախարարություն | D9: =D11+D90+D102+D126 -> 0
A10: 1146 | C10: Ծրագրի անվանումը`
C11: Հանրակրթության ծրագիր | D11: =D18+D24+D30+D36+D42+D48+D54+D60+D66+D72+D78+D84 -> 701587.5
C12: Ծրագրի նպատակը`
C13: Ապահովել անվճար և որակյալ հանրակրթություն
C14: Վերջնական արդյունքի նկարագրությունը`
C15: Մտավոր, հոգևոր, ֆիզիկական և սոցիալական ունակությունների համակողմանի ու ներդաշնակ զարգացմամբ, հայրենասիրության, պետականության և մարդասիրության ոգով դաստիրակված, պատշաճ վարքով և վարվելակերպով անձի ձևավորում
A16: Ծրագրի միջոցառումներ
B17: 11001 | C17: Միջոցառման անվանումը`
C18: Տարրական ընդհանուր հանրակրթություն | D18: ='havelvac 2'!G73 -> 443844.49
C19: Միջոցառման նկարագրությունը`
C20: Պարտադիր կրթության առաջին մակարդակում սովորողների ընդգրկվածության, գրագիտության և համակողմանի զարգացման բարձր մակարդակի ապահովում
C21: Միջոցառման տեսակը
C22: Ծառայությունների մատուցում
B23: 11002 | C23: Միջոցառման անվանումը`
C24: Հիմնական ընդհանուր հանրակրթություն | D24: ='havelvac 2'!G160 -> 783096.4
C25: Միջոցառման նկարագրությունը`
C26: Պարտադիր կրթության երկրորդ մակարդակում սովորողների ընդգրկվածության, գրագիտության և համակողմանի զարգացման բարձր մակարդակի ապահովում
C27: Միջոցառման տեսակը
C28: Ծառայությունների մատուցում
B29: 11003 | C29: Միջոցառման անվանումը`
C30: Միջնակարգ ընդհանուր հանրակրթություն | D30: ='havelvac 2'!G259 -> 197571.2
C31: Միջոցառման նկարագրությունը`
C32: Պարտադիր կրթության երրորդ մակարդակում սովորողների ընդգրկվածության, գրագիտության և համակողմանի զարգացման բարձր մակարդակի ապահովում
C33: Միջոցառման տեսակը
C34: Ծառայությունների մատուցում
B35: 11004 | C35: Միջոցառման անվանումը`
C36: Տարրական հատուկ հանրակրթություն | D36: ='havelvac 6'!D86 -> -95667.7
C37: Միջոցառման նկարագրությունը`
C38: Պարտադիր կրթության առաջին մակարդակում սովորողների ընդգրկվածության և գրագիտության ապահովում
C39: Միջոցառման տեսակը
C40: Ծառայությունների մատուցում
...

Sheet havelvac 2
F1: Հավելված N 2
F2: ՀՀ կառավարության 2023 թվականի
F3: ______________ ի ___Ն որոշման
A4: ՀԱՅԱՍՏԱՆԻ ՀԱՆՐԱՊԵՏՈՒԹՅԱՆ ԿԱՌԱՎԱՐՈՒԹՅԱՆ 2022 ԹՎԱԿԱՆԻ ԴԵԿՏԵՄԲԵՐԻ 29-Ի N 2111-Ն ՈՐՈՇՄԱՆ N 3 ԵՎ N 4 ՀԱՎԵԼՎԱԾՆԵՐՈՒՄ ԿԱՏԱՐՎՈՂ ՓՈՓՈԽՈՒԹՅՈՒՆՆԵՐԸ
G5: /հազար դրամ/
A6: Գործառական դասիչը | D6: Ծրագրային դասիչը | F6: Բյուջետային ծախսերի գործառական դասակարգման բաժինների, խմբերի և դասերի, բյուջետային ծրագրերի միջոցառումների, բյուջետային հատկացումների գլխավոր կարգադրիչների անվանումները | G6: Ցուցանիշների փոփոխություն (ավելացումները նշված են դրական նշանով, իսկ նվազեցումները՝ փակագծերում)
A7: Բաժին | B7: Խումբ | C7: Դաս | D7: Ծրագիր | E7: Միջոցառում | G7: Տարի
F8: ԸՆԴԱՄԵՆԸ | G8: =G10 -> 0
F9: այդ թվում`
F10: ՀՀ Կրթության, գիտության, մշակույթի և սպորտի նախարարություն | G10: =G12 -> 0
F11: այդ թվում`
A12: 09 | F12: ԿՐԹՈՒԹՅՈՒՆ | G12: =G14+G156+G339+G350 -> 0
F13: այդ թվում`
B14: 01 | F14: Նախադպրոցական և տարրական ընդհանուր կրթություն | G14: =G16+G71 -> 245125.79
F15: այդ թվում`
C16: 01 | F16: Նախադպրոցական կրթություն | G16: =G20 -> -79298.6
F17: այդ թվում`
D18: 1146 | F18: Հանրակրթության ծրագիր | G18: ='havelvac 1'!D11 -> 701587.5
F19: այդ թվում`
E20: 11013 | F20: Նախադպրոցական կրթություն | G20: =G22+G29+G36+G43+G50+G57+G64 -> -79298.6
F21: այդ թվում` ըստ կատարողների
F22: ՀՀ կրթության , գիտության, մշակույթի և սպորտի նախարարություն | G22: =G24 -> -1598.2
F23: այդ թվում` բյուջետային ծախսերի տնտեսագիտական դասակարգման հոդվածներ
F24: ԸՆԴԱՄԵՆԸ ԾԱԽՍԵՐ | G24: =G25 -> -1598.2
F25: ԸՆԹԱՑԻԿ ԾԱԽՍԵՐ | G25: =G26 -> -1598.2
F26: ՍՈՒԲՍԻԴԻԱՆԵՐ | G26: =G27 -> -1598.2
F27: Սուբսիդիաներ պետական կազմակերպություններին | G27: =G28 -> -1598.2
F28: - Սուբսիդիաներ ոչ ֆինանսական պետական կազմակերպություններին | G28: ='havelvac 6'!D162 -> -1598.2
F29: ՀՀ Արագածոտնի մարզպետարան | G29: =G31 -> -32
F30: այդ թվում` բյուջետային ծախսերի տնտեսագիտական դասակարգման հոդվածներ
F31: ԸՆԴԱՄԵՆԸ ԾԱԽՍԵՐ | G31: =G32 -> -32
F32: ԸՆԹԱՑԻԿ ԾԱԽՍԵՐ | G32: =G33 -> -32
F33: ՍՈՒԲՍԻԴԻԱՆԵՐ | G33: =G34 -> -32
F34: Սուբսիդիաներ պետական կազմակերպություններին | G34: =G35 -> -32
F35: - Սուբսիդիաներ ոչ ֆինանսական պետական կազմակերպություններին | G35: ='havelvac 6'!D242 -> -32
F36: ՀՀ Արմավիրի մարզպետարան | G36: =G38 -> -52.7
F37: այդ թվում` բյուջետային ծախսերի տնտեսագիտական դասակարգման հոդվածներ
F38: ԸՆԴԱՄԵՆԸ ԾԱԽՍԵՐ | G38: =G39 -> -52.7
F39: ԸՆԹԱՑԻԿ ԾԱԽՍԵՐ | G39: =G40 -> -52.7
F40: ՍՈՒԲՍԻԴԻԱՆԵՐ | G40: =G41 -> -52.7
...

Sheet havelvac 3
F1: Հավելված 3
F2: ՀՀ կառավարության 2023 թվականի
F3: ______________ ի ___Ն որոշման
A6: ՀԱՅԱՍՏԱՆԻ ՀԱՆՐԱՊԵՏՈՒԹՅԱՆ ԿԱՌԱՎԱՐՈՒԹՅԱՆ 2022 ԹՎԱԿԱՆԻ ԴԵԿՏԵՄԲԵՐԻ 29-Ի N 2111-Ն ՈՐՈՇՄԱՆ N 5 ՀԱՎԵԼՎԱԾԻ N 7 ԱՂՅՈՒՍԱԿՈՒՄ ԿԱՏԱՐՎՈՂ ՓՈՓՈԽՈՒԹՅՈՒՆՆԵՐԸ
G7: հազար դրամ
A8: Ծրագրային դասիչ | C8: Բյուջետային հատկացումների գլխավոր կարգադրիչների, ծրագրերի, միջոցառումների, ծախսային ուղղությունների անվանումները | F8: Միջոցառումները կատարող պետական մարմինների և դրամաշնորհ ստացող տնտեսվարող սուբյեկտների անվանումները | G8: Ցուցանիշների փոփոխություն (նվազեցումները՝ փակագծերում)
A9: Ծրագիր | B9: Միջոցառում | G9: Տարի
A10: ՀՀ կրթության, գիտության, մշակույթի և սպորտի նախարարություն | G10: =G11 -> -658495.3
A11: 1193 | B11: Հանրակրթության ծրագիր | G11: =G12 -> -658495.3
B12: 11001 | C12: Մանկավարժահոգեբանական աջակցության ծառայություններ և կրթության առանձնահատուկ պայմանների կարիք ունեցող երեխաների կրթության կազմակերպմանն օժանդակող միջոցառումներ | F12: ՀՀ կրթության, գիտության, մշակույթի և սպորտի նախարարություն | G12: =SUM(G13:G23) -> -658495.3
F13: «Արմավիրի տարածքային մանկավարժահոգեբանական աջակցության կենտրոն» ՊՈԱԿ | G13: -5710.1
F14: «Վաղարշապատի տարածքային մանկավարժահոգեբանական աջակցության կենտրոն» ՊՈԱԿ | G14: -58990.3
F15: «Շիրակի տարածքային մանկավարժահոգեբանական աջակցության կենտրոն» ՊՈԱԿ | G15: -69351.9
F16: «Արթիկի տարածքային մանկավարժահոգեբանական աջակցության կենտրոն» ՊՈԱԿ | G16: -46288.4
F17: «Աշտարակի տարածքային մանկավարժահոգեբանական աջակցության կենտրոն» ՊՈԱԿ | G17: -60205.7
F18: «Երևանի թիվ 1 տարածքային մանկավարժահոգեբանական աջակցության կենտրոն» ՊՈԱԿ | G18: -68322.4
F19: «Երևանի թիվ 2 տարածքային մանկավարժահոգեբանական աջակցության կենտրոն» ՊՈԱԿ | G19: -73650.5
F20: «Երևանի թիվ 3 տարածքային մանկավարժահոգեբանական աջակցության կենտրոն» ՊՈԱԿ | G20: -67550.6
F21: «Երևանի թիվ 4 տարածքային մանկավարժահոգեբանական աջակցության կենտրոն» ՊՈԱԿ | G21: -27708.7
F22: «Գեղարքունիքի տարածքային մանկավարժահոգեբանական աջակցության կենտրոն» ՊՈԱԿ | G22: -94401
F23: «Կոտայքի տարածքային մանկավարժահոգեբանական աջակցության կենտրոն» ՊՈԱԿ | G23: -86315.7

Sheet havelvac 4
F1: Հավելված N 4
F2: ՀՀ կառավարության 2023 թվականի
F3: ______________ ի ___Ն որոշման
A5: ՀԱՅԱՍՏԱՆԻ ՀԱՆՐԱՊԵՏՈՒԹՅԱՆ ԿԱՌԱՎԱՐՈՒԹՅԱՆ 2022 ԹՎԱԿԱՆԻ ԴԵԿՏԵՄԲԵՐԻ 29-Ի N 2111-Ն ՈՐՈՇՄԱՆ N 8 ՀԱՎԵԼՎԱԾՈՒՄ ԿԱՏԱՐՎՈՂ ՓՈՓՈԽՈՒԹՅՈՒՆԸ ԵՎ ԼՐԱՑՈՒՄԸ
G6: /հազար դրամ/
A7: Գործառական դասիչը | D7: Ծրագրային դասիչը | F7: Բյուջետային հատկացումների գլխավոր կարգադրիչներ, ծրագրերի, միջոցառումների և միջոցառումներն իրականացնող պետական մարմինների անվանումները | G7: Ցուցանիշների փոփոխություն (ավելացումները նշված են դրական նշանով)
A8: Բաժին | B8: Խումբ | C8: Դաս | D8: Ծրագիր | E8: Միջոցա ռում
F9: ԸՆԴԱՄԵՆԸ ԾԱԽՍԵՐ | G9: =G10 -> 62.4
A10: 09 | F10: ԿՐԹՈՒԹՅՈՒՆ | G10: =G11 -> 62.4
B11: 06 | F11: Կրթությանը տրամադրվող օժանդակ ծառայություններ | G11: =G12 -> 62.4
C12: 01 | F12: Կրթությանը տրամադրվող օժանդակ ծառայություններ | G12: =+G13 -> 62.4
D13: 1192 | F13: Կրթության որակի ապահովում | G13: =G14 -> 62.4
E14: 12004 | F14: Մասնագիտական զարգացման և վարձատրության փոխկապակցված համակարգի ներդրում՝ նախադպրոցական հաստատությունների մանկավարժներին տարակարգի շնորհման գործընթացի միջոցով | G14: =+'havelvac 6'!D25 -> 62.4

Sheet havelvac 5
B1: Հավելված N 5
B2: ՀՀ կառավարության 2023 թվականի
B3: ______________ ի ___Ն որոշման
A5: ՀԱՅԱՍՏԱՆԻ ՀԱՆՐԱՊԵՏՈՒԹՅԱՆ ԿԱՌԱՎԱՐՈՒԹՅԱՆ 2022 ԹՎԱԿԱՆԻ ԴԵԿՏԵՄԲԵՐԻ 29-Ի N 2111-Ն ՈՐՈՇՄԱՆ N 9 ՀԱՎԵԼՎԱԾԻ NN 9.13 ԱՂՅՈՒՍԱԿՈՒՄ ԿԱՏԱՐՎՈՂ ՓՈՓՈԽՈՒԹՅՈՒՆՆԵՐԸ
A6: ՀՀ կրթության, գիտության, մշակույթի և սպորտի նախարարություն
A7: ՄԱՍ 2. ՊԵՏԱԿԱՆ ՄԱՐՄՆԻ ԳԾՈՎ ԱՐԴՅՈՒՆՔԱՅԻՆ (ԿԱՏԱՐՈՂԱԿԱՆ) ՑՈՒՑԱՆԻՇՆԵՐԸ
A9: Ծրագրի դասիչը | B9: Ծրագրի անվանումը
A10: 1146 | B10: Հանրակրթության ծրագիր
A12: Ծրագրի միջոցառումները
A14: Ծրագրի դասիչը` | B14: 1146 | C14: Ցուցանիշների փոփոխությունը (ավելացումները նշված են դրական նշանով, իսկ նվազեցումները՝ փակագծերում)
A15: Միջոցառման դասիչը` | B15: 11001 | C15: Տարի
A16: Միջոցառման անվանումը` | B16: Տարրական ընդհանուր հանրակրթություն
A17: Նկարագրությունը` | B17: Պարտադիր կրթության առաջին մակարդակում սովորողների ընդգրկվածության, գրագիտության և համակողմանի զարգացման բարձր մակարդակի ապահովում
A18: Միջոցառման տեսակը` | B18: Ծառայությունների մատուցում
A19: Ծառայությունը մատուցող կազմակերպության(ների) անվանում(ներ)ը՛ | B19: ՀՀ կրթության, գիտության,մշակույթի և սպորտի նախարարության, ՀՀ մարզպետարանների, Երևանի քաղաքապետարանի ենթակայության ուսումնական հաստատություններ
A20: Արդյունքի չափորոշիչներ
A21: Տարրական ընդհանուր կրթության դասարանների սովորողների միջին տարեկան թիվը /մարդ /, որից՛ | C21: -1945
A22: տղա | C22: -1338
A23: աղջիկ | C23: -607
A24: Սնունդ ստացող երեխաների թիվը /մարդ / | C24: -1673
A25: Գիտելիքների ստուգման արդյունքում սովորողների միջին գնահատականը
A26: Միջոցառման վրա կատարվող ծախսը (հազար դրամ) | C26: ='havelvac 1'!D18 -> 443844.49
A28: Ծրագրի դասիչը` | B28: 1146 | C28: Ցուցանիշների փոփոխությունը (ավելացումները նշված են դրական նշանով, իսկ նվազեցումները՝ փակագծերում)
A29: Միջոցառման դասիչը` | B29: 11002 | C29: Տարի
A30: Միջոցառման անվանումը` | B30: Հիմնական ընդհանուր հանրակրթություն
A31: Նկարագրությունը` | B31: Պարտադիր կրթության երկրորդ մակարդակում սովորողների ընդգրկվածության, գրագիտության և համակողմանի զարգացման բարձր մակարդակի ապահովում
A32: Միջոցառման տեսակը` | B32: Ծառայությունների մատուցում
A33: Ծառայությունը մատուցող կազմակերպության(ների) անվանում(ներ)ը՛ | B33: ՀՀ կրթության, գիտության,մշակույթի և սպորտի նախարարության, ՀՀ մարզպետարանների, Երևանի քաղաքապետարանի ենթակայության ուսումնական հաստատություններ
A34: Արդյունքի չափորոշիչներ
A35: Հիմնական ընդհանուր կրթության դասարանների սովորողների միջին տարեկան թիվը /մարդ /, որից՛ | C35: -1050
A36: տղա | C36: -679
A37: աղջիկ | C37: -371
A38: Գիտելիքների ստուգման արդյունքում սովորողների միջին գնահատականը
A39: Միջոցառման վրա կատարվող ծախսը (հազար դրամ) | C39: ='havelvac 1'!D24 -> 783096.4
A41: Ծրագրի դասիչը` | B41: 1146 | C41: Ցուցանիշների փոփոխությունը (ավելացումները նշված են դրական նշանով, իսկ նվազեցումները՝ փակագծերում)
A42: Միջոցառման դասիչը` | B42: 11003 | C42: Տարի
A43: Միջոցառման անվանումը` | B43: Միջնակարգ ընդհանուր հանրակրթություն
A44: Նկարագրությունը` | B44: Պարտադիր կրթության երրորդ մակարդակում սովորողների ընդգրկվածության, գրագիտության և համակողմանի զարգացման բարձր մակարդակի ապահովում
A45: Միջոցառման տեսակը` | B45: Ծառայությունների մատուցում
A46: Ծառայությունը մատուցող կազմակերպության(ների) անվանում(ներ)ը՛ | B46: ՀՀ կրթության, գիտության,մշակույթի և սպորտի նախարարության, ՀՀ մարզպետարանների, Երևանի քաղաքապետարանի ենթակայության ուսումնական հաստատություններ
...

Sheet havelvac 6
A2: Հավելված N 6
A3: ՀՀ կառավարության 2023 թվականի
A4: ______________ ի ___Ն որոշման
B6: ՀԱՅԱՍՏԱՆԻ ՀԱՆՐԱՊԵՏՈՒԹՅԱՆ ԿԱՌԱՎԱՐՈՒԹՅԱՆ 2022 ԹՎԱԿԱՆԻ ԴԵԿՏԵՄԲԵՐԻ 29-Ի N 2111-Ն ՈՐՈՇՄԱՆ N 9.1 ՀԱՎԵԼՎԱԾԻ NN 9.1.7, 9.1.13, 9.1.48, 9.1.49, 9.1.50, 9.1.51, 9.1.52, 9.1.53, 9.1.54, 9.1.55, 9.1.56 ԵՎ 9.1.57 ԱՂՅՈՒՍԱԿՆԵՐՈՒՄ ԿԱՏԱՐՎՈՂ ՓՈՓՈԽՈՒԹՅՈՒՆՆԵՐԸ
B9: ՄԱՍ 1. ՊԵՏԱԿԱՆ ՄԱՐՄՆԻ ԳԾՈՎ ԱՐԴՅՈՒՆՔԱՅԻՆ (ԿԱՏԱՐՈՂԱԿԱՆ) ՑՈՒՑԱՆԻՇՆԵՐԸ
D11: Աղյուսակ 9.1.7
B12: ՀՀ տարածքային կառավարման և ենթակառուցվածքների նախարարություն
B14: Ծրագրի դասիչը | C14: Ծրագրի անվանումը
B15: 1192 | C15: Կրթության որակի ապահովում
B17: Ծրագրի դասիչը՝ | C17: 1192 | D17: Ցուցանիշների փոփոխությունը (ավելացումները նշված են դրական նշանով)
B18: Միջոցառման դասիչը՝ | C18: 12004 | D18: Տարի
B19: Միջոցառման անվանումը՝ | C19: Մասնագիտական զարգացման և վարձատրության փոխկապակցված համակարգի ներդրում՝ նախադպրոցական հաստատությունների մանկավարժներին տարակարգի շնորհման գործընթացի միջոցով
B20: Նկարագրությունը՝ | C20: Նախադպրոցական ծառայությունների որակի շարունակական բարձրացման նախադրյալների ապահովում
B21: Միջոցառման տեսակը՝ | C21: Տրանսֆերտների տրամադրում
B22: Շահառուների ընտրության չափորոշիչները՝ | C22: Շահառուների ընտրության չափորոշիչները սահմանված են ԿԳՄՍ նախարարի հրամանով
B23: Արդյունքի չափորոշիչներ
B24: ՆՈՒՀ-երի տարակարգ ստացած մանկավարժական աշխատողների թվաքանակ, մարդ | D24: 2
B25: Միջոցառման վրա կատարվող ծախսը (հազար դրամ) | D25: 62.4
D27: Աղյուսակ 9.1.13
B28: ='havelvac 2'!F75 -> ՀՀ կրթության , գիտության, մշակույթի և սպորտի նախարարություն
B30: Ծրագրի դասիչը | C30: Ծրագրի անվանումը
B31: 1146 | C31: Հանրակրթության ծրագիր
B33: Ծրագրի միջոցառումները
B35: Ծրագրի դասիչը` | C35: 1146 | D35: Ցուցանիշների փոփոխությունը (նվազեցումները նշված են փակագծերում)
B36: Միջոցառման դասիչը` | C36: 11001 | D36: Տարի
B37: Միջոցառման անվանումը` | C37: Տարրական ընդհանուր հանրակրթություն
B38: Նկարագրությունը` | C38: Պարտադիր կրթության առաջին մակարդակում սովորողների ընդգրկվածության, գրագիտության և համակողմանի զարգացման բարձր մակարդակի ապահովում
B39: Միջոցառման տեսակը` | C39: Ծառայությունների մատուցում
B40: Ծառայությունը մատուցող կազմակերպության(ների) անվանում(ներ)ը՛ | C40: ՀՀ ԿԳՄՍՆ ենթակայության հանրակրթական դպրոցներ
B41: Արդյունքի չափորոշիչներ
B42: Տարրական ընդհանուր կրթության դասարանների սովորողների միջին տարեկան թիվը /մարդ /, որից՛ | D42: -458
B43: տղա | D43: -258
B44: աղջիկ | D44: -200
B45: Սնունդ ստացող երեխաների թիվը /մարդ /
B46: Գիտելիքների ստուգման արդյունքում սովորողների միջին գնահատականը
B47: Միջոցառման վրա կատարվող ծախսը (հազար դրամ) | D47: -174550.3
B49: Ծրագրի դասիչը` | C49: 1146 | D49: Ցուցանիշների փոփոխությունը (ավելացումները նշված են դրական նշանով)
B50: Միջոցառման դասիչը` | C50: 11002 | D50: Տարի
B51: Միջոցառման անվանումը` | C51: Հիմնական ընդհանուր հանրակրթություն
B52: Նկարագրությունը` | C52: Պարտադիր կրթության երկրորդ մակարդակում սովորողների ընդգրկվածության, գրագիտության և համակողմանի զարգացման բարձր մակարդակի ապահովում
...
