Workbook
Name a: #REF!
Name a: #REF!
Name AgencyCode: #REF!
Name AgencyCode: #REF!
Name AgencyName: #REF!
Name AgencyName: #REF!
Name davit: #REF!
Name davit: #REF!
Name Functional1: #REF!
Name Functional1: #REF!
Name ggg: #REF!
Name ggg: #REF!
Name HAVELVAC10: #REF!
Name HAVELVAC10: #REF!
Name PANature: #REF!
Name PANature: #REF!
Name PAType: #REF!
Name PAType: #REF!
Name Performance2: #REF!
Name Performance2: #REF!
Name PerformanceType: #REF!
Name PerformanceType: #REF!
Name Հավելված: #REF!
Name Հավելված: #REF!
Name Մաս: #REF!
Name Մաս: #REF!
Name շախմատիստ: #REF!
Name շախմատիստ: #REF!
Name շախմատիստ: #REF!

Sheet havelvac 1
C1: Հավելված N 1
C2: ՀՀ կառավարության 2023 թվականի
C3: ______________ ի ___Ն որոշման
A4: «ՀԱՅԱՍՏԱՆԻ ՀԱՆՐԱՊԵՏՈՒԹՅԱՆ 2023 ԹՎԱԿԱՆԻ ՊԵՏԱԿԱՆ ԲՅՈՒՋԵԻ ՄԱՍԻՆ» ՕՐԵՆՔԻ N 1 ՀԱՎԵԼՎԱԾԻ N 2 ԱՂՅՈՒՍԱԿՈՒՄ ԿԱՏԱՐՎՈՂ ՎԵՐԱԲԱՇԽՈՒՄԸ ԵՎ ՀԱՅԱՍՏԱՆԻ ՀԱՆՐԱՊԵՏՈՒԹՅԱՆ ԿԱՌԱՎԱՐՈՒԹՅԱՆ 2022 ԹՎԱԿԱՆԻ ԴԵԿՏԵՄԲԵՐԻ 29-Ի N 2111-Ն ՈՐՈՇՄԱՆ N 5 ՀԱՎԵԼՎԱԾԻ N 1 ԱՂՅՈՒՍԱԿՈՒՄ ԿԱՏԱՐՎՈՂ ՓՈՓՈԽՈՒԹՅՈՒՆՆԵՐԸ
D5: /հազար դրամ/
A6: Ծրագրային դասիչը | C6: Բյուջետային հատկացումների գլխավոր կարգադրիչների, ծրագրերի և միջոցառումների անվանումները | D6: Ցուցանիշների փոփոխությունը (ավելացումները նշված են դրական նշանով, իսկ նվազեցումները՝ փակագծերում)
A7: ծրագիր | B7: միջոցառում | D7: Տարի
C8: ԸՆԴԱՄԵՆԸ | D8: =D9+D64 -> 0
A9: ՀՀ Կրթության, գիտության, մշակույթի և սպորտի նախարարություն | D9: =D11+D90+D102+D126 -> 0
A10: 1146 | C10: Ծրագրի անվանումը`
C11: Հանրակրթության ծրագիր | D11: =D18+D24+D30+D36+D42+D48+D54+D60+D66+D72+D78+D84 -> 701587.5
C12: Ծրագրի նպատակը`
C13: Ապահովել անվճար և որակյալ հանրակրթություն
C14: Վերջնական արդյունքի նկարագրությունը`
C15: Մտավոր, հոգևոր, ֆիզիկական և սոցիալական ունակությունների համակողմանի ու ներդաշնակ զարգացմամբ, հայրենասիրության, պետականության և մարդասիրության ոգով դաստիրակված, պատշաճ վարքով և վարվելակերպով անձի ձևավորում
A16: Ծրագրի միջոցառումներ
B17: 11001 | C17: Միջոցառման անվանումը`
C18: Տարրական ընդհանուր հանրակրթություն | D18: ='havelvac 2'!G73 -> 443844.49
C19: Միջոցառման նկարագրությունը`
C20: Պարտադիր կրթության առաջին մակարդակում սովորողների ընդգրկվածության, գրագիտության և համակողմանի զարգացման բարձր մակարդակի ապահովում
C21: Միջոցառման տեսակը
C22: Ծառայությունների մատուցում
B23: 11002 | C23: Միջոցառման անվանումը`
C24: Հիմնական ընդհանուր հանրակրթություն | D24: ='havelvac 2'!G160 -> 783096.4
C25: Միջոցառման նկարագրությունը`
C26: Պարտադիր կրթության երկրորդ մակարդակում սովորողների ընդգրկվածության, գրագիտության և համակողմանի զարգացման բարձր մակարդակի ապահովում
C27: Միջոցառման տեսակը
C28: Ծառայությունների մատուցում
B29: 11003 | C29: Միջոցառման անվանումը`
C30: Միջնակարգ ընդհանուր հանրակրթություն | D30: ='havelvac 2'!G259 -> 197571.2
C31: Միջոցառման նկարագրությունը`
C32: Պարտադիր կրթության երրորդ մակարդակում սովորողների ընդգրկվածության, գրագիտության և համակողմանի զարգացման բարձր մակարդակի ապահովում
C33: Միջոցառման տեսակը
C34: Ծառայությունների մատուցում
B35: 11004 | C35: Միջոցառման անվանումը`
C36: Տարրական հատուկ հանրակրթություն | D36: ='havelvac 6'!D86 -> -95667.7
C37: Միջոցառման նկարագրությունը`
C38: Պարտադիր կրթության առաջին մակարդակում սովորողների ընդգրկվածության և գրագիտության ապահովում
C39: Միջոցառման տեսակը
C40: Ծառայությունների մատուցում
B41: 11005 | C41: Միջոցառման անվանումը`
C42: Հիմնական հատուկ հանրակրթություն | D42: ='havelvac 6'!D99 -> -44014.5
C43: Միջոցառման նկարագրությունը`
C44: Պարտադիր կրթության երկրորդ մակարդակում սովորողների ընդգրկվածության և գրագիտության ապահովում
C45: Միջոցառման տեսակը
C46: Ծառայությունների մատուցում
B47: 11006 | C47: Միջոցառման անվանումը`
C48: Միջնակարգ հատուկ հանրակրթություն | D48: ='havelvac 6'!D112 -> -41251.3
C49: Միջոցառման նկարագրությունը`
C50: Պարտադիր կրթության երրորդ մակարդակում սովորողների ընդգրկվածության՛ գրագիտության և համակողմանի զարգացման բարձր մակարդակի ապահովում
C51: Միջոցառման տեսակը
C52: Ծառայությունների մատուցում
B53: 11010 | C53: Միջոցառման անվանումը`
C54: Տարրական մասնագիտացված հանրակրթություն | D54: ='havelvac 6'!D125 -> -23752.4
C55: Միջոցառման նկարագրությունը`
C56: Տարրական կրթության մակարդակում մասնագիտացված հանրակրթական ծառայությունների մատուցման միջոցով սովորողների ընդգրկվածության և գրագիտության ապահովում
C57: Միջոցառման տեսակը
C58: Ծառայությունների մատուցում
B59: 11011 | C59: Միջոցառման անվանումը`
C60: Հիմնական մասնագիտացված հանրակրթություն | D60: ='havelvac 6'!D138 -> -194149.4
C61: Միջոցառման նկարագրությունը`
C62: Հիմնական կրթության մակարդակում մասնագիտացված հանրակրթական ծառայությունների մատուցման միջոցով սովորողների ընդգրկվածության և գրագիտության ապահովում
C63: Միջոցառման տեսակը
C64: Ծառայությունների մատուցում
B65: 11012 | C65: Միջոցառման անվանումը`
C66: Միջնակարգ մասնագիտացված հանրակրթություն | D66: ='havelvac 6'!D149 -> -210919.5
C67: Միջոցառման նկարագրությունը`
C68: Միջնակարգ կրթության մակարդակում մասնագիտացված հանրակրթական ծառայությունների մատուցման միջոցով սովորողների ընդգրկվածության , համակողմանի զարգացման և գրագիտության ապահովում
C69: Միջոցառման տեսակը
C70: Ծառայությունների մատուցում
B71: 11013 | C71: Միջոցառման անվանումը`
C72: Նախադպրոցական կրթություն | D72: ='havelvac 2'!G20 -> -79298.6
C73: Միջոցառման նկարագրությունը`
C74: Նախադպրոցական կրթություն մակարդակում սաների ընդգրկվածության, զարգացման բարձր մակարդակի ապահովում, 5-6 տարեկան երեխաների նախապատրաստում տարրական դպրոցին
C75: Միջոցառման տեսակը
C76: Ծառայությունների մատուցում
B77: 11020 | C77: Միջոցառման անվանումը`
C78: Միջնակարգ հանրակրթություն երեկոյան դպրոցում (Շիրակի մարզ) | D78: ='havelvac 2'!G328 -> -1621.3
C79: Միջոցառման նկարագրությունը`
C80: ՀՀ ԱՆ Արթիկի քրեակատարողական հիմնարկում գտնվող ազատազրկված և միջնակարգ կրթություն չունեցող անձանց շրջանակում հանրակրթական ծառայությունների մատուցում
C81: Միջոցառման տեսակը
C82: Ծառայությունների մատուցում
B83: 12004 | C83: Միջոցառման անվանումը`
C84: Ատեստավորման միջոցով որակավորում ստացած ուսուցիչներին հավելավճարների տրամադրում | D84: ='havelvac 2'!G354 -> -32249.9
C85: Միջոցառման նկարագրությունը`
C86: Ատեստավորման միջոցով տարակարգի որակավորում ստացած ուսուցիչներին համաապատասխան հավելավճարի տրամադրման ապահովում
C87: Միջոցառման տեսակը
C88: Տրանսֆերտների տրամադրում
A89: 1148 | C89: Ծրագրի անվանումը`
C90: Արտադպրոցական դաստիարակության ծրագիր | D90: =D96 -> 4308
C91: Ծրագրի նպատակը`
C92: Նպաստել հանրակրթական ուսուցման համակարգում ընդգրկված երեխաների ֆիզիկական, հոգևոր և գեղագիտական զարգացմանը, բնապահպանական և կիրառական գիտելիքների ձեռքբերմանը
C93: Վերջնական արդյունքի նկարագրությունը`
C94: Ստեղծել պայմաններ սովորողների ազատ ժամանացի կազմակերպան միջոցով նրանց հետաքրքրությունների բացահայտման, ձևավորման և զարգացման համար
B95: 11001 | C95: Միջոցառման անվանումը`
C96: Արտադպրոցական դաստիարակություն | D96: ='havelvac 2'!G349 -> 4308
C97: Միջոցառման նկարագրությունը`
C98: Արվեստի, երաժշտության, սպորտի դասընթացներ մարզադպրոցներում , ստեղծագործական և արտադպրոցական դաստիարակության այլ կենտրոններում
C99: Միջոցառման տեսակը
C100: Ծառայությունների մատուցում
...

Sheet havelvac 2
F1: Հավելված N 2
F2: ՀՀ կառավարության 2023 թվականի
F3: ______________ ի ___Ն որոշման
A4: ՀԱՅԱՍՏԱՆԻ ՀԱՆՐԱՊԵՏՈՒԹՅԱՆ ԿԱՌԱՎԱՐՈՒԹՅԱՆ 2022 ԹՎԱԿԱՆԻ ԴԵԿՏԵՄԲԵՐԻ 29-Ի N 2111-Ն ՈՐՈՇՄԱՆ N 3 ԵՎ N 4 ՀԱՎԵԼՎԱԾՆԵՐՈՒՄ ԿԱՏԱՐՎՈՂ ՓՈՓՈԽՈՒԹՅՈՒՆՆԵՐԸ
G5: /հազար դրամ/
A6: Գործառական դասիչը | D6: Ծրագրային դասիչը | F6: Բյուջետային ծախսերի գործառական դասակարգման բաժինների, խմբերի և դասերի, բյուջետային ծրագրերի միջոցառումների, բյուջետային հատկացումների գլխավոր կարգադրիչների անվանումները | G6: Ցուցանիշների փոփոխություն (ավելացումները նշված են դրական նշանով, իսկ նվազեցումները՝ փակագծերում)
A7: Բաժին | B7: Խումբ | C7: Դաս | D7: Ծրագիր | E7: Միջոցառում | G7: Տարի
F8: ԸՆԴԱՄԵՆԸ | G8: =G10 -> 0
F9: այդ թվում`
F10: ՀՀ Կրթության, գիտության, մշակույթի և սպորտի նախարարություն | G10: =G12 -> 0
F11: այդ թվում`
A12: 09 | F12: ԿՐԹՈՒԹՅՈՒՆ | G12: =G14+G156+G339+G350 -> 0
F13: այդ թվում`
B14: 01 | F14: Նախադպրոցական և տարրական ընդհանուր կրթություն | G14: =G16+G71 -> 245125.79
F15: այդ թվում`
C16: 01 | F16: Նախադպրոցական կրթություն | G16: =G20 -> -79298.6
F17: այդ թվում`
D18: 1146 | F18: Հանրակրթության ծրագիր | G18: ='havelvac 1'!D11 -> 701587.5
F19: այդ թվում`
E20: 11013 | F20: Նախադպրոցական կրթություն | G20: =G22+G29+G36+G43+G50+G57+G64 -> -79298.6
F21: այդ թվում` ըստ կատարողների
F22: ՀՀ կրթության , գիտության, մշակույթի և սպորտի նախարարություն | G22: =G24 -> -1598.2
F23: այդ թվում` բյուջետային ծախսերի տնտեսագիտական դասակարգման հոդվածներ
F24: ԸՆԴԱՄԵՆԸ ԾԱԽՍԵՐ | G24: =G25 -> -1598.2
F25: ԸՆԹԱՑԻԿ ԾԱԽՍԵՐ | G25: =G26 -> -1598.2
F26: ՍՈՒԲՍԻԴԻԱՆԵՐ | G26: =G27 -> -1598.2
F27: Սուբսիդիաներ պետական կազմակերպություններին | G27: =G28 -> -1598.2
F28: - Սուբսիդիաներ ոչ ֆինանսական պետական կազմակերպություններին | G28: ='havelvac 6'!D162 -> -1598.2
F29: ՀՀ Արագածոտնի մարզպետարան | G29: =G31 -> -32
F30: այդ թվում` բյուջետային ծախսերի տնտեսագիտական դասակարգման հոդվածներ
F31: ԸՆԴԱՄԵՆԸ ԾԱԽՍԵՐ | G31: =G32 -> -32
F32: ԸՆԹԱՑԻԿ ԾԱԽՍԵՐ | G32: =G33 -> -32
F33: ՍՈՒԲՍԻԴԻԱՆԵՐ | G33: =G34 -> -32
F34: Սուբսիդիաներ պետական կազմակերպություններին | G34: =G35 -> -32
F35: - Սուբսիդիաներ ոչ ֆինանսական պետական կազմակերպություններին | G35: ='havelvac 6'!D242 -> -32
F36: ՀՀ Արմավիրի մարզպետարան | G36: =G38 -> -52.7
F37: այդ թվում` բյուջետային ծախսերի տնտեսագիտական դասակարգման հոդվածներ
F38: ԸՆԴԱՄԵՆԸ ԾԱԽՍԵՐ | G38: =G39 -> -52.7
F39: ԸՆԹԱՑԻԿ ԾԱԽՍԵՐ | G39: =G40 -> -52.7
F40: ՍՈՒԲՍԻԴԻԱՆԵՐ | G40: =G41 -> -52.7
F41: Սուբսիդիաներ պետական կազմակերպություններին | G41: =G42 -> -52.7
F42: - Սուբսիդիաներ ոչ ֆինանսական պետական կազմակերպություններին | G42: ='havelvac 6'!D377 -> -52.7
F43: ՀՀ Գեղարքունիքի մարզպետարան | G43: =G46 -> -43705.1
F44: այդ թվում` բյուջետային ծախսերի տնտեսագիտական դասակարգման հոդվածներ
F45: ԸՆԴԱՄԵՆԸ ԾԱԽՍԵՐ | G45: =G46 -> -43705.1
F46: ԸՆԹԱՑԻԿ ԾԱԽՍԵՐ | G46: =G47 -> -43705.1
F47: ՍՈՒԲՍԻԴԻԱՆԵՐ | G47: =G48 -> -43705.1
F48: Սուբսիդիաներ պետական կազմակերպություններին | G48: =G49 -> -43705.1
F49: - Սուբսիդիաներ ոչ ֆինանսական պետական կազմակերպություններին | G49: ='havelvac 6'!D437 -> -43705.1
F50: ՀՀ Կոտայքի մարզպետարան | G50: =G52 -> -15262.5
F51: այդ թվում` բյուջետային ծախսերի տնտեսագիտական դասակարգման հոդվածներ
F52: ԸՆԴԱՄԵՆԸ ԾԱԽՍԵՐ | G52: =G53 -> -15262.5
F53: ԸՆԹԱՑԻԿ ԾԱԽՍԵՐ | G53: =G54 -> -15262.5
F54: ՍՈՒԲՍԻԴԻԱՆԵՐ | G54: =G55 -> -15262.5
F55: Սուբսիդիաներ պետական կազմակերպություններին | G55: =G56 -> -15262.5
F56: - Սուբսիդիաներ ոչ ֆինանսական պետական կազմակերպություններին | G56: ='havelvac 6'!D571 -> -15262.5
F57: ՀՀ Շիրակի մարզպետարան | G57: =G59 -> -35241.2
F58: այդ թվում` բյուջետային ծախսերի տնտեսագիտական դասակարգման հոդվածներ
F59: ԸՆԴԱՄԵՆԸ ԾԱԽՍԵՐ | G59: =G60 -> -35241.2
F60: ԸՆԹԱՑԻԿ ԾԱԽՍԵՐ | G60: =G61 -> -35241.2
F61: ՍՈՒԲՍԻԴԻԱՆԵՐ | G61: =G62 -> -35241.2
F62: Սուբսիդիաներ պետական կազմակերպություններին | G62: =G63 -> -35241.2
F63: - Սուբսիդիաներ ոչ ֆինանսական պետական կազմակերպություններին | G63: ='havelvac 6'!D670 -> -35241.2
F64: ՀՀ Սյունիքի մարզպետարան | G64: =G66 -> 16593.1
F65: այդ թվում` բյուջետային ծախսերի տնտեսագիտական դասակարգման հոդվածներ
F66: ԸՆԴԱՄԵՆԸ ԾԱԽՍԵՐ | G66: =G67 -> 16593.1
F67: ԸՆԹԱՑԻԿ ԾԱԽՍԵՐ | G67: =G68 -> 16593.1
F68: ՍՈՒԲՍԻԴԻԱՆԵՐ | G68: =G69 -> 16593.1
F69: Սուբսիդիաներ պետական կազմակերպություններին | G69: ='havelvac 6'!D782 -> 16593.1
F70: - Սուբսիդիաներ ոչ ֆինանսական պետական կազմակերպություններին | G70: ='havelvac 6'!D782 -> 16593.1
C71: 02 | F71: Տարրական ընդհանուր կրթություն | G71: =G73+G138+G147 -> 324424.39
F72: այդ թվում`
E73: 11001 | F73: Տարրական ընդհանուր հանրակրթություն | G73: =G75+G82+G89+G96+G103+G110+G117+G124+G131 -> 443844.49
F74: այդ թվում` ըստ կատարողների
F75: ՀՀ կրթության , գիտության, մշակույթի և սպորտի նախարարություն | G75: =G77 -> -174550.3
F76: այդ թվում` բյուջետային ծախսերի տնտեսագիտական դասակարգման հոդվածներ
F77: ԸՆԴԱՄԵՆԸ ԾԱԽՍԵՐ | G77: =+G78 -> -174550.3
F78: ԸՆԹԱՑԻԿ ԾԱԽՍԵՐ | G78: =+G79 -> -174550.3
F79: ՍՈՒԲՍԻԴԻԱՆԵՐ | G79: =+G80 -> -174550.3
F80: Սուբսիդիաներ պետական կազմակերպություններին | G80: =G81 -> -174550.3
F81: - Սուբսիդիաներ ոչ ֆինանսական պետական կազմակերպություններին | G81: ='havelvac 6'!D47 -> -174550.3
F82: ՀՀ Արարատի մարզպետարան | G82: =G84 -> 216945.9
F83: այդ թվում` բյուջետային ծախսերի տնտեսագիտական դասակարգման հոդվածներ
F84: ԸՆԴԱՄԵՆԸ ԾԱԽՍԵՐ | G84: =+G85 -> 216945.9
F85: ԸՆԹԱՑԻԿ ԾԱԽՍԵՐ | G85: =+G86 -> 216945.9
F86: ՍՈՒԲՍԻԴԻԱՆԵՐ | G86: =+G87 -> 216945.9
F87: Սուբսիդիաներ պետական կազմակերպություններին | G87: =G88 -> 216945.9
F88: - Սուբսիդիաներ ոչ ֆինանսական պետական կազմակերպություններին | G88: ='havelvac 6'!D277 -> 216945.9
F89: ՀՀ Արմավիրի մարզպետարան | G89: =G91 -> -7794.5
F90: այդ թվում` բյուջետային ծախսերի տնտեսագիտական դասակարգման հոդվածներ
F91: ԸՆԴԱՄԵՆԸ ԾԱԽՍԵՐ | G91: =+G92 -> -7794.5
F92: ԸՆԹԱՑԻԿ ԾԱԽՍԵՐ | G92: =+G93 -> -7794.5
F93: ՍՈՒԲՍԻԴԻԱՆԵՐ | G93: =+G94 -> -7794.5
F94: Սուբսիդիաներ պետական կազմակերպություններին | G94: =G95 -> -7794.5
F95: - Սուբսիդիաներ ոչ ֆինանսական պետական կազմակերպություններին | G95: ='havelvac 6'!D339 -> -7794.5
F96: ՀՀ Գեղարքունիքի մարզպետարան | G96: =G98 -> -3.6
F97: այդ թվում` բյուջետային ծախսերի տնտեսագիտական դասակարգման հոդվածներ
F98: ԸՆԴԱՄԵՆԸ ԾԱԽՍԵՐ | G98: =+G99 -> -3.6
F99: ԸՆԹԱՑԻԿ ԾԱԽՍԵՐ | G99: =+G100 -> -3.6
F100: ՍՈՒԲՍԻԴԻԱՆԵՐ | G100: =+G101 -> -3.6
...

Sheet havelvac 3
F1: Հավելված 3
F2: ՀՀ կառավարության 2023 թվականի
F3: ______________ ի ___Ն որոշման
A6: ՀԱՅԱՍՏԱՆԻ ՀԱՆՐԱՊԵՏՈՒԹՅԱՆ ԿԱՌԱՎԱՐՈՒԹՅԱՆ 2022 ԹՎԱԿԱՆԻ ԴԵԿՏԵՄԲԵՐԻ 29-Ի N 2111-Ն ՈՐՈՇՄԱՆ N 5 ՀԱՎԵԼՎԱԾԻ N 7 ԱՂՅՈՒՍԱԿՈՒՄ ԿԱՏԱՐՎՈՂ ՓՈՓՈԽՈՒԹՅՈՒՆՆԵՐԸ
G7: հազար դրամ
A8: Ծրագրային դասիչ | C8: Բյուջետային հատկացումների գլխավոր կարգադրիչների, ծրագրերի, միջոցառումների, ծախսային ուղղությունների անվանումները | F8: Միջոցառումները կատարող պետական մարմինների և դրամաշնորհ ստացող տնտեսվարող սուբյեկտների անվանումները | G8: Ցուցանիշների փոփոխություն (նվազեցումները՝ փակագծերում)
A9: Ծրագիր | B9: Միջոցառում | G9: Տարի
A10: ՀՀ կրթության, գիտության, մշակույթի և սպորտի նախարարություն | G10: =G11 -> -658495.3
A11: 1193 | B11: Հանրակրթության ծրագիր | G11: =G12 -> -658495.3
B12: 11001 | C12: Մանկավարժահոգեբանական աջակցության ծառայություններ և կրթության առանձնահատուկ պայմանների կարիք ունեցող երեխաների կրթության կազմակերպմանն օժանդակող միջոցառումներ | F12: ՀՀ կրթության, գիտության, մշակույթի և սպորտի նախարարություն | G12: =SUM(G13:G23) -> -658495.3
F13: «Արմավիրի տարածքային մանկավարժահոգեբանական աջակցության կենտրոն» ՊՈԱԿ | G13: -5710.1
F14: «Վաղարշապատի տարածքային մանկավարժահոգեբանական աջակցության կենտրոն» ՊՈԱԿ | G14: -58990.3
F15: «Շիրակի տարածքային մանկավարժահոգեբանական աջակցության կենտրոն» ՊՈԱԿ | G15: -69351.9
F16: «Արթիկի տարածքային մանկավարժահոգեբանական աջակցության կենտրոն» ՊՈԱԿ | G16: -46288.4
F17: «Աշտարակի տարածքային մանկավարժահոգեբանական աջակցության կենտրոն» ՊՈԱԿ | G17: -60205.7
F18: «Երևանի թիվ 1 տարածքային մանկավարժահոգեբանական աջակցության կենտրոն» ՊՈԱԿ | G18: -68322.4
F19: «Երևանի թիվ 2 տարածքային մանկավարժահոգեբանական աջակցության կենտրոն» ՊՈԱԿ | G19: -73650.5
F20: «Երևանի թիվ 3 տարածքային մանկավարժահոգեբանական աջակցության կենտրոն» ՊՈԱԿ | G20: -67550.6
F21: «Երևանի թիվ 4 տարածքային մանկավարժահոգեբանական աջակցության կենտրոն» ՊՈԱԿ | G21: -27708.7
F22: «Գեղարքունիքի տարածքային մանկավարժահոգեբանական աջակցության կենտրոն» ՊՈԱԿ | G22: -94401
F23: «Կոտայքի տարածքային մանկավարժահոգեբանական աջակցության կենտրոն» ՊՈԱԿ | G23: -86315.7

Sheet havelvac 4
F1: Հավելված N 4
F2: ՀՀ կառավարության 2023 թվականի
F3: ______________ ի ___Ն որոշման
A5: ՀԱՅԱՍՏԱՆԻ ՀԱՆՐԱՊԵՏՈՒԹՅԱՆ ԿԱՌԱՎԱՐՈՒԹՅԱՆ 2022 ԹՎԱԿԱՆԻ ԴԵԿՏԵՄԲԵՐԻ 29-Ի N 2111-Ն ՈՐՈՇՄԱՆ N 8 ՀԱՎԵԼՎԱԾՈՒՄ ԿԱՏԱՐՎՈՂ ՓՈՓՈԽՈՒԹՅՈՒՆԸ ԵՎ ԼՐԱՑՈՒՄԸ
G6: /հազար դրամ/
A7: Գործառական դասիչը | D7: Ծրագրային դասիչը | F7: Բյուջետային հատկացումների գլխավոր կարգադրիչներ, ծրագրերի, միջոցառումների և միջոցառումներն իրականացնող պետական մարմինների անվանումները | G7: Ցուցանիշների փոփոխություն (ավելացումները նշված են դրական նշանով)
A8: Բաժին | B8: Խումբ | C8: Դաս | D8: Ծրագիր | E8: Միջոցա ռում
F9: ԸՆԴԱՄԵՆԸ ԾԱԽՍԵՐ | G9: =G10 -> 62.4
A10: 09 | F10: ԿՐԹՈՒԹՅՈՒՆ | G10: =G11 -> 62.4
B11: 06 | F11: Կրթությանը տրամադրվող օժանդակ ծառայություններ | G11: =G12 -> 62.4
C12: 01 | F12: Կրթությանը տրամադրվող օժանդակ ծառայություններ | G12: =+G13 -> 62.4
D13: 1192 | F13: Կրթության որակի ապահովում | G13: =G14 -> 62.4
E14: 12004 | F14: Մասնագիտական զարգացման և վարձատրության փոխկապակցված համակարգի ներդրում՝ նախադպրոցական հաստատությունների մանկավարժներին տարակարգի շնորհման գործընթացի միջոցով | G14: =+'havelvac 6'!D25 -> 62.4

Sheet havelvac 5
B1: Հավելված N 5
B2: ՀՀ կառավարության 2023 թվականի
B3: ______________ ի ___Ն որոշման
A5: ՀԱՅԱՍՏԱՆԻ ՀԱՆՐԱՊԵՏՈՒԹՅԱՆ ԿԱՌԱՎԱՐՈՒԹՅԱՆ 2022 ԹՎԱԿԱՆԻ ԴԵԿՏԵՄԲԵՐԻ 29-Ի N 2111-Ն ՈՐՈՇՄԱՆ N 9 ՀԱՎԵԼՎԱԾԻ NN 9.13 ԱՂՅՈՒՍԱԿՈՒՄ ԿԱՏԱՐՎՈՂ ՓՈՓՈԽՈՒԹՅՈՒՆՆԵՐԸ
A6: ՀՀ կրթության, գիտության, մշակույթի և սպորտի նախարարություն
A7: ՄԱՍ 2. ՊԵՏԱԿԱՆ ՄԱՐՄՆԻ ԳԾՈՎ ԱՐԴՅՈՒՆՔԱՅԻՆ (ԿԱՏԱՐՈՂԱԿԱՆ) ՑՈՒՑԱՆԻՇՆԵՐԸ
A9: Ծրագրի դասիչը | B9: Ծրագրի անվանումը
A10: 1146 | B10: Հանրակրթության ծրագիր
A12: Ծրագրի միջոցառումները
A14: Ծրագրի դասիչը` | B14: 1146 | C14: Ցուցանիշների փոփոխությունը (ավելացումները նշված են դրական նշանով, իսկ նվազեցումները՝ փակագծերում)
A15: Միջոցառման դասիչը` | B15: 11001 | C15: Տարի
A16: Միջոցառման անվանումը` | B16: Տարրական ընդհանուր հանրակրթություն
A17: Նկարագրությունը` | B17: Պարտադիր կրթության առաջին մակարդակում սովորողների ընդգրկվածության, գրագիտության և համակողմանի զարգացման բարձր մակարդակի ապահովում
A18: Միջոցառման տեսակը` | B18: Ծառայությունների մատուցում
A19: Ծառայությունը մատուցող կազմակերպության(ների) անվանում(ներ)ը՛ | B19: ՀՀ կրթության, գիտության,մշակույթի և սպորտի նախարարության, ՀՀ մարզպետարանների, Երևանի քաղաքապետարանի ենթակայության ուսումնական հաստատություններ
A20: Արդյունքի չափորոշիչներ
A21: Տարրական ընդհանուր կրթության դասարանների սովորողների միջին տարեկան թիվը /մարդ /, որից՛ | C21: -1945
A22: տղա | C22: -1338
A23: աղջիկ | C23: -607
A24: Սնունդ ստացող երեխաների թիվը /մարդ / | C24: -1673
A25: Գիտելիքների ստուգման արդյունքում սովորողների միջին գնահատականը
A26: Միջոցառման վրա կատարվող ծախսը (հազար դրամ) | C26: ='havelvac 1'!D18 -> 443844.49
A28: Ծրագրի դասիչը` | B28: 1146 | C28: Ցուցանիշների փոփոխությունը (ավելացումները նշված են դրական նշանով, իսկ նվազեցումները՝ փակագծերում)
A29: Միջոցառման դասիչը` | B29: 11002 | C29: Տարի
A30: Միջոցառման անվանումը` | B30: Հիմնական ընդհանուր հանրակրթություն
A31: Նկարագրությունը` | B31: Պարտադիր կրթության երկրորդ մակարդակում սովորողների ընդգրկվածության, գրագիտության և համակողմանի զարգացման բարձր մակարդակի ապահովում
A32: Միջոցառման տեսակը` | B32: Ծառայությունների մատուցում
A33: Ծառայությունը մատուցող կազմակերպության(ների) անվանում(ներ)ը՛ | B33: ՀՀ կրթության, գիտության,մշակույթի և սպորտի նախարարության, ՀՀ մարզպետարանների, Երևանի քաղաքապետարանի ենթակայության ուսումնական հաստատություններ
A34: Արդյունքի չափորոշիչներ
A35: Հիմնական ընդհանուր կրթության դասարանների սովորողների միջին տարեկան թիվը /մարդ /, որից՛ | C35: -1050
A36: տղա | C36: -679
A37: աղջիկ | C37: -371
A38: Գիտելիքների ստուգման արդյունքում սովորողների միջին գնահատականը
A39: Միջոցառման վրա կատարվող ծախսը (հազար դրամ) | C39: ='havelvac 1'!D24 -> 783096.4
A41: Ծրագրի դասիչը` | B41: 1146 | C41: Ցուցանիշների փոփոխությունը (ավելացումները նշված են դրական նշանով, իսկ նվազեցումները՝ փակագծերում)
A42: Միջոցառման դասիչը` | B42: 11003 | C42: Տարի
A43: Միջոցառման անվանումը` | B43: Միջնակարգ ընդհանուր հանրակրթություն
A44: Նկարագրությունը` | B44: Պարտադիր կրթության երրորդ մակարդակում սովորողների ընդգրկվածության, գրագիտության և համակողմանի զարգացման բարձր մակարդակի ապահովում
A45: Միջոցառման տեսակը` | B45: Ծառայությունների մատուցում
A46: Ծառայությունը մատուցող կազմակերպության(ների) անվանում(ներ)ը՛ | B46: ՀՀ կրթության, գիտության,մշակույթի և սպորտի նախարարության, ՀՀ մարզպետարանների, Երևանի քաղաքապետարանի ենթակայության ուսումնական հաստատություններ
A47: Արդյունքի չափորոշիչներ
A48: Միջնակարգ ընդհանուր կրթության դասարանների սովորողների միջին տարեկան թիվը /մարդ /, որից՛ | C48: -4231
A49: տղա | C49: -2485
A50: աղջիկ | C50: -1746
A51: Գիտելիքների ստուգման արդյունքում սովորողների միջին գնահատականը
A52: Միջոցառման վրա կատարվող ծախսը (հազար դրամ) | C52: ='havelvac 1'!D30 -> 197571.2
A54: Ծրագրի դասիչը` | B54: 1146 | C54: Ցուցանիշների փոփոխությունը (նվազեցումները նշված են փակագծերում)
A55: Միջոցառման դասիչը` | B55: 11004 | C55: Տարի
A56: Միջոցառման անվանումը` | B56: Տարրական հատուկ հանրակրթություն
A57: Նկարագրությունը` | B57: Պարտադիր կրթության առաջին մակարդակում սովորողների ընդգրկվածության և գրագիտության ապահովում
A58: Միջոցառման տեսակը` | B58: Ծառայությունների մատուցում
A59: Ծառայությունը մատուցող կազմակերպության(ների) անվանում(ներ)ը՛ | B59: ՀՀ ԿԳՄՍՆ ենթակայության հատուկ կրթություն իրականացնող ուսումնական հաստատություններ
A60: Արդյունքի չափորոշիչներ
A61: Սովորողների միջին տարեկան թիվը /մարդ /, որից՛ | C61: ='havelvac 6'!D82 -> -53
A62: տղա | C62: ='havelvac 6'!D83 -> -25
A63: աղջիկ | C63: ='havelvac 6'!D84 -> -28
A64: Գիտելիքների ստուգման արդյունքում սովորողների միջին գնահատականը | C64: ='havelvac 6'!D85 -> 0
A65: Միջոցառման վրա կատարվող ծախսը (հազար դրամ) | C65: ='havelvac 1'!D36 -> -95667.7
A67: Ծրագրի դասիչը` | B67: 1146 | C67: Ցուցանիշների փոփոխությունը (նվազեցումները նշված են փակագծերում)
A68: Միջոցառման դասիչը` | B68: 11005 | C68: Տարի
A69: Միջոցառման անվանումը` | B69: Հիմնական հատուկ հանրակրթություն
A70: Նկարագրությունը` | B70: Պարտադիր կրթության երկրորդ մակարդակում սովորողների ընդգրկվածության և գրագիտության ապահովում
A71: Միջոցառման տեսակը` | B71: Ծառայությունների մատուցում
A72: Ծառայությունը մատուցող կազմակերպության(ների) անվանում(ներ)ը՛ | B72: ՀՀ ԿԳՄՍՆ ենթակայության հատուկ կրթություն իրականացնող ուսումնական հաստատություններ
A73: Արդյունքի չափորոշիչներ
A74: Սովորողների միջին տարեկան թիվը /մարդ /, որից՛ | C74: ='havelvac 6'!D95 -> -27
A75: տղա | C75: ='havelvac 6'!D96 -> -14
A76: աղջիկ | C76: ='havelvac 6'!D97 -> -13
A77: Գիտելիքների ստուգման արդյունքում սովորողների միջին գնահատականը | C77: ='havelvac 6'!D98 -> 0
A78: Միջոցառման վրա կատարվող ծախսը (հազար դրամ) | C78: ='havelvac 1'!D42 -> -44014.5
A80: Ծրագրի դասիչը` | B80: 1146 | C80: Ցուցանիշների փոփոխությունը (նվազեցումները նշված են փակագծերում)
A81: Միջոցառման դասիչը` | B81: 11006 | C81: Տարի
A82: Միջոցառման անվանումը` | B82: Միջնակարգ հատուկ հանրակրթություն
A83: Նկարագրությունը` | B83: Պարտադիր կրթության երրորդ մակարդակում սովորողների ընդգրկվածության՛ գրագիտության և համակողմանի զարգացման բարձր մակարդակի ապահովում
A84: Միջոցառման տեսակը` | B84: Ծառայությունների մատուցում
A85: Ծառայությունը մատուցող կազմակերպության(ների) անվանում(ներ)ը՛ | B85: ՀՀ ԿԳՄՍՆ ենթակայության հատուկ կրթություն իրականացնող ուսումնական հաստատություններ
A86: Արդյունքի չափորոշիչներ
A87: Սովորողների միջին տարեկան թիվը /մարդ /, որից՛ | C87: ='havelvac 6'!D108 -> -29
A88: տղա | C88: ='havelvac 6'!D109 -> -14
A89: աղջիկ | C89: ='havelvac 6'!D110 -> -15
A90: Գիտելիքների ստուգման արդյունքում սովորողների միջին գնահատականը | C90: ='havelvac 6'!D111 -> 0
A91: Միջոցառման վրա կատարվող ծախսը (հազար դրամ) | C91: ='havelvac 1'!D48 -> -41251.3
A93: Ծրագրի դասիչը` | B93: 1146 | C93: Ցուցանիշների փոփոխությունը (նվազեցումները նշված են փակագծերում)
A94: Միջոցառման դասիչը` | B94: 11010 | C94: Տարի
A95: Միջոցառման անվանումը` | B95: Տարրական մասնագիտացված հանրակրթություն
A96: Նկարագրությունը` | B96: Տարրական կրթության մակարդակում մասնագիտացված հանրակրթական ծառայությունների մատուցման միջոցով սովորողների ընդգրկվածության և գրագիտության ապահովում
A97: Միջոցառման տեսակը` | B97: Ծառայությունների մատուցում
A98: Ծառայությունը մատուցող կազմակերպության(ների) անվանում(ներ)ը՛ | B98: ՀՀ ԿԳՄՍՆ ենթակայության մասնագիտացված հանրակրթական ուսումնական հաստատություններ
A99: Արդյունքի չափորոշիչներ
A100: Սովորողների միջին տարեկան թիվը /մարդ /, որից՛ | C100: ='havelvac 6'!D121 -> -89
A101: տղա | C101: ='havelvac 6'!D122 -> -45
A102: աղջիկ | C102: ='havelvac 6'!D123 -> -44
A103: Գիտելիքների ստուգման արդյունքում սովորողների միջին գնահատականը | C103: ='havelvac 6'!D124 -> 0
A104: Միջոցառման վրա կատարվող ծախսը (հազար դրամ) | C104: ='havelvac 1'!D54 -> -23752.4
A106: Ծրագրի դասիչը` | B106: 1146 | C106: Ցուցանիշների փոփոխությունը (նվազեցումները նշված են փակագծերում)
A107: Միջոցառման դասիչը` | B107: 11011 | C107: Տարի
A108: Միջոցառման անվանումը` | B108: Հիմնական մասնագիտացված հանրակրթություն
A109: Նկարագրությունը` | B109: Հիմնական կրթության մակարդակում մասնագիտացված հանրակրթական ծառայությունների մատուցման միջոցով սովորողների ընդգրկվածության և գրագիտության ապահովում
A110: Միջոցառման տեսակը` | B110: Ծառայությունների մատուցում
A111: Ծառայությունը մատուցող կազմակերպության(ների) անվանում(ներ)ը՛ | B111: ՀՀ ԿԳՄՍՆ ենթակայության մասնագիտացված հանրակրթական ուսումնական հաստատություններ
...

Sheet havelvac 6
A2: Հավելված N 6
A3: ՀՀ կառավարության 2023 թվականի
A4: ______________ ի ___Ն որոշման
B6: ՀԱՅԱՍՏԱՆԻ ՀԱՆՐԱՊԵՏՈՒԹՅԱՆ ԿԱՌԱՎԱՐՈՒԹՅԱՆ 2022 ԹՎԱԿԱՆԻ ԴԵԿՏԵՄԲԵՐԻ 29-Ի N 2111-Ն ՈՐՈՇՄԱՆ N 9.1 ՀԱՎԵԼՎԱԾԻ NN 9.1.7, 9.1.13, 9.1.48, 9.1.49, 9.1.50, 9.1.51, 9.1.52, 9.1.53, 9.1.54, 9.1.55, 9.1.56 ԵՎ 9.1.57 ԱՂՅՈՒՍԱԿՆԵՐՈՒՄ ԿԱՏԱՐՎՈՂ ՓՈՓՈԽՈՒԹՅՈՒՆՆԵՐԸ
B9: ՄԱՍ 1. ՊԵՏԱԿԱՆ ՄԱՐՄՆԻ ԳԾՈՎ ԱՐԴՅՈՒՆՔԱՅԻՆ (ԿԱՏԱՐՈՂԱԿԱՆ) ՑՈՒՑԱՆԻՇՆԵՐԸ
D11: Աղյուսակ 9.1.7
B12: ՀՀ տարածքային կառավարման և ենթակառուցվածքների նախարարություն
B14: Ծրագրի դասիչը | C14: Ծրագրի անվանումը
B15: 1192 | C15: Կրթության որակի ապահովում
B17: Ծրագրի դասիչը՝ | C17: 1192 | D17: Ցուցանիշների փոփոխությունը (ավելացումները նշված են դրական նշանով)
B18: Միջոցառման դասիչը՝ | C18: 12004 | D18: Տարի
B19: Միջոցառման անվանումը՝ | C19: Մասնագիտական զարգացման և վարձատրության փոխկապակցված համակարգի ներդրում՝ նախադպրոցական հաստատությունների մանկավարժներին տարակարգի շնորհման գործընթացի միջոցով
B20: Նկարագրությունը՝ | C20: Նախադպրոցական ծառայությունների որակի շարունակական բարձրացման նախադրյալների ապահովում
B21: Միջոցառման տեսակը՝ | C21: Տրանսֆերտների տրամադրում
B22: Շահառուների ընտրության չափորոշիչները՝ | C22: Շահառուների ընտրության չափորոշիչները սահմանված են ԿԳՄՍ նախարարի հրամանով
B23: Արդյունքի չափորոշիչներ
B24: ՆՈՒՀ-երի տարակարգ ստացած մանկավարժական աշխատողների թվաքանակ, մարդ | D24: 2
B25: Միջոցառման վրա կատարվող ծախսը (հազար դրամ) | D25: 62.4
D27: Աղյուսակ 9.1.13
B28: ='havelvac 2'!F75 -> ՀՀ կրթության , գիտության, մշակույթի և սպորտի նախարարություն
B30: Ծրագրի դասիչը | C30: Ծրագրի անվանումը
B31: 1146 | C31: Հանրակրթության ծրագիր
B33: Ծրագրի միջոցառումները
B35: Ծրագրի դասիչը` | C35: 1146 | D35: Ցուցանիշների փոփոխությունը (նվազեցումները նշված են փակագծերում)
B36: Միջոցառման դասիչը` | C36: 11001 | D36: Տարի
B37: Միջոցառման անվանումը` | C37: Տարրական ընդհանուր հանրակրթություն
B38: Նկարագրությունը` | C38: Պարտադիր կրթության առաջին մակարդակում սովորողների ընդգրկվածության, գրագիտության և համակողմանի զարգացման բարձր մակարդակի ապահովում
B39: Միջոցառման տեսակը` | C39: Ծառայությունների մատուցում
B40: Ծառայությունը մատուցող կազմակերպության(ների) անվանում(ներ)ը՛ | C40: ՀՀ ԿԳՄՍՆ ենթակայության հանրակրթական դպրոցներ
B41: Արդյունքի չափորոշիչներ
B42: Տարրական ընդհանուր կրթության դասարանների սովորողների միջին տարեկան թիվը /մարդ /, որից՛ | D42: -458
B43: տղա | D43: -258
B44: աղջիկ | D44: -200
B45: Սնունդ ստացող երեխաների թիվը /մարդ /
B46: Գիտելիքների ստուգման արդյունքում սովորողների միջին գնահատականը
B47: Միջոցառման վրա կատարվող ծախսը (հազար դրամ) | D47: -174550.3
B49: Ծրագրի դասիչը` | C49: 1146 | D49: Ցուցանիշների փոփոխությունը (ավելացումները նշված են դրական նշանով)
B50: Միջոցառման դասիչը` | C50: 11002 | D50: Տարի
B51: Միջոցառման անվանումը` | C51: Հիմնական ընդհանուր հանրակրթություն
B52: Նկարագրությունը` | C52: Պարտադիր կրթության երկրորդ մակարդակում սովորողների ընդգրկվածության, գրագիտության և համակողմանի զարգացման բարձր մակարդակի ապահովում
B53: Միջոցառման տեսակը` | C53: Ծառայությունների մատուցում
B54: Ծառայությունը մատուցող կազմակերպության(ների) անվանում(ներ)ը՛ | C54: ՀՀ ԿԳՄՍՆ ենթակայության հանրակրթական ուսումնական հաստատություններ
B55: Արդյունքի չափորոշիչներ
B56: Հիմնական ընդհանուր կրթության դասարանների սովորողների միջին տարեկան թիվը /մարդ /, որից | D56: 155
B57: տղա | D57: 100
B58: աղջիկ | D58: 55
B59: Գիտելիքների ստուգման արդյունքում սովորողների միջին գնահատականը
B60: Միջոցառման վրա կատարվող ծախսը (հազար դրամ) | D60: 71000
B62: Ծրագրի դասիչը` | C62: 1146 | D62: Ցուցանիշների փոփոխությունը (նվազեցումները նշված են փակագծերում)
B63: Միջոցառման դասիչը` | C63: 11003 | D63: Տարի
B64: Միջոցառման անվանումը` | C64: Միջնակարգ ընդհանուր հանրակրթություն
B65: Նկարագրությունը` | C65: Պարտադիր կրթության երրորդ մակարդակում սովորողների ընդգրկվածության, գրագիտության և համակողմանի զարգացման բարձր մակարդակի ապահովում
B66: Միջոցառման տեսակը` | C66: Ծառայությունների մատուցում
B67: Ծառայությունը մատուցող կազմակերպության(ների) անվանում(ներ)ը՛ | C67: ՀՀ ԿԳՄՍՆ ենթակայության հանրակրթական ուսումնական հաստատություններ
B68: Արդյունքի չափորոշիչներ
B69: Միջնակարգ ընդհանուր կրթության դասարանների սովորողների միջին տարեկան թիվը /մարդ /, որից | D69: -1428
B70: տղա | D70: -1000
B71: աղջիկ | D71: -428
B72: Գիտելիքների ստուգման արդյունքում սովորողների միջին գնահատականը
B73: Միջոցառման վրա կատարվող ծախսը (հազար դրամ) | D73: -243136.8
B75: Ծրագրի դասիչը` | C75: 1146 | D75: Ցուցանիշների փոփոխությունը (նվազեցումները նշված են փակագծերում)
B76: Միջոցառման դասիչը` | C76: 11004 | D76: Տարի
B77: Միջոցառման անվանումը` | C77: Տարրական հատուկ հանրակրթություն
B78: Նկարագրությունը` | C78: Պարտադիր կրթության առաջին մակարդակում սովորողների ընդգրկվածության և գրագիտության ապահովում
B79: Միջոցառման տեսակը` | C79: Ծառայությունների մատուցում
B80: Ծառայությունը մատուցող կազմակերպության(ների) անվանում(ներ)ը՛ | C80: ՀՀ ԿԳՄՍՆ ենթակայության հատուկ կրթություն իրականացնող ուսումնական հաստատություններ
B81: Արդյունքի չափորոշիչներ
B82: Սովորողների միջին տարեկան թիվը /մարդ /, որից՛ | D82: -53
B83: տղա | D83: -25
B84: աղջիկ | D84: -28
B85: Գիտելիքների ստուգման արդյունքում սովորողների միջին գնահատականը
B86: Միջոցառման վրա կատարվող ծախսը (հազար դրամ) | D86: -95667.7
B88: Ծրագրի դասիչը` | C88: 1146 | D88: Ցուցանիշների փոփոխությունը (նվազեցումները նշված են փակագծերում)
B89: Միջոցառման դասիչը` | C89: 11005 | D89: Տարի
B90: Միջոցառման անվանումը` | C90: Հիմնական հատուկ հանրակրթություն
B91: Նկարագրությունը` | C91: Պարտադիր կրթության երկրորդ մակարդակում սովորողների ընդգրկվածության և գրագիտության ապահովում
B92: Միջոցառման տեսակը` | C92: Ծառայությունների մատուցում
B93: Ծառայությունը մատուցող կազմակերպության(ների) անվանում(ներ)ը՛ | C93: ՀՀ ԿԳՄՍՆ ենթակայության հատուկ կրթություն իրականացնող ուսումնական հաստատություններ
B94: Արդյունքի չափորոշիչներ
B95: Սովորողների միջին տարեկան թիվը /մարդ /, որից՛ | D95: -27
B96: տղա | D96: -14
B97: աղջիկ | D97: -13
B98: Գիտելիքների ստուգման արդյունքում սովորողների միջին գնահատականը
B99: Միջոցառման վրա կատարվող ծախսը (հազար դրամ) | D99: -44014.5
B101: Ծրագրի դասիչը` | C101: 1146 | D101: Ցուցանիշների փոփոխությունը (նվազեցումները նշված են փակագծերում)
B102: Միջոցառման դասիչը` | C102: 11006 | D102: Տարի
B103: Միջոցառման անվանումը` | C103: Միջնակարգ հատուկ հանրակրթություն
B104: Նկարագրությունը` | C104: Պարտադիր կրթության երրորդ մակարդակում սովորողների ընդգրկվածության՛ գրագիտության և համակողմանի զարգացման բարձր մակարդակի ապահովում
B105: Միջոցառման տեսակը` | C105: Ծառայությունների մատուցում
B106: Ծառայությունը մատուցող կազմակերպության(ների) անվանում(ներ)ը՛ | C106: ՀՀ ԿԳՄՍՆ ենթակայության հատուկ կրթություն իրականացնող ուսումնական հաստատություններ
B107: Արդյունքի չափորոշիչներ
B108: Սովորողների միջին տարեկան թիվը /մարդ /, որից՛ | D108: -29
B109: տղա | D109: -14
B110: աղջիկ | D110: -15
B111: Գիտելիքների ստուգման արդյունքում սովորողների միջին գնահատականը
B112: Միջոցառման վրա կատարվող ծախսը (հազար դրամ) | D112: -41251.3
B114: Ծրագրի դասիչը` | C114: 1146 | D114: Ցուցանիշների փոփոխությունը (նվազեցումները նշված են փակագծերում)
B115: Միջոցառման դասիչը` | C115: 11010 | D115: Տարի
B116: Միջոցառման անվանումը` | C116: Տարրական մասնագիտացված հանրակրթություն
B117: Նկարագրությունը` | C117: Տարրական կրթության մակարդակում մասնագիտացված հանրակրթական ծառայությունների մատուցման միջոցով սովորողների ընդգրկվածության և գրագիտության ապահովում
...
