Workbook

Sheet 1
A1: Հավելված N 1
A2: ՀՀ կառավարության 2023 թվականի
A3: ------------ N ---------- որոշման
A5: ՀԱՅԱՍՏԱՆԻ ՀԱՆՐԱՊԵՏՈՒԹՅԱՆ ԿԱՌԱՎԱՐՈՒԹՅԱՆ 2022 ԹՎԱԿԱՆԻ ԴԵԿՏԵՄԲԵՐԻ 29-Ի N 2111-Ն ՈՐՈՇՄԱՆ N 3 ԵՎ N 4 ՀԱՎԵԼՎԱԾՆԵՐՈՒՄ ԿԱՏԱՐՎՈՂ ՓՈՓՈԽՈՒԹՅՈՒՆՆԵՐԸ ԵՎ ԼՐԱՑՈՒՄՆԵՐԸ
G6: հազար դրամներով
A7: Գործառական դասիչը | D7: Ծրագրային դասիչը | F7: Բյուջետային հատկացումների գլխավոր կարգադրիչների, ծրագրերի, միջոցառումների և միջոցառումները կատարող պետական մարմինների անվանումները | G7: Ցուցանիշների փոփոխությունները (ավելացումները նշված են դրական նշանով, իսկ նվազեցումները՝ փակագծերում)
A8: Բաժին | B8: Խումբ | C8: Դաս | D8: Ծրագիր | E8: Միջոցառում | G8: Տարի
F9: ԸՆԴԱՄԵՆԸ | G9: =+G11 -> 0
F10: այդ թվում`
A11: 09 | F11: ԿՐԹՈՒԹՅՈՒՆ | G11: =G13 -> 0
F12: այդ թվում`
B13: 06 | F13: Կրթությանը տրամադրվող օժանդակ ծառայություններ | G13: =G15 -> 0
F14: այդ թվում`
C15: 01 | F15: Կրթությանը տրամադրվող օժանդակ ծառայություններ | G15: =+G18 -> 0
F16: այդ թվում`
F17: ՀՀ Ազգային ժողով
D18: 1024 | F18: ՀՀ Ազգային ժողովի լիազորությունների իրականացման ապահովում | G18: =+G20 -> 0
F19: այդ թվում`
E20: 11003 | F20: ՀՀ Ազգային ժողովի դերի բարձրացմանն ուղղված միջոցառումների իրականացում | G20: =G22 -> 0
F21: այդ թվում` ըստ կատարողների
F22: ՀՀ Ազգային ժողով | G22: =G24 -> 0
F23: այդ թվում` բյուջետային ծախսերի տնտեսագիտական դասակարգման հոդվածներ
F24: ԸՆԴԱՄԵՆԸ ԾԱԽՍԵՐ | G24: =+G25 -> 0
F25: ԸՆԹԱՑԻԿ ԾԱԽՍԵՐ | G25: =G26+G29 -> 0
F26: ԾԱՌԱՅՈՒԹՅՈՒՆՆԵՐԻ ԵՎ ԱՊՐԱՆՔՆԵՐԻ ՁԵՌՔԲԵՐՈՒՄ | G26: =G27 -> -25000
F27: Պայմանագրային այլ ծառայությունների ձեռքբերում | G27: =G28 -> -25000
F28: - Ընդհանուր բնույթի այլ ծառայություններ | G28: -25000
F29: ԴՐԱՄԱՇՆՈՐՀՆԵՐ | G29: =+G30 -> 25000
F30: Դրամաշնորհներ միջազգային կազմակերպություններին | G30: =+G31 -> 25000
F31: - Ընթացիկ դրամաշնորհներ միջազգային կազմակերպություններին | G31: 25000

Sheet 2
D1: Հավելված N 2
G2: ՀՀ կառավարության 2023 թվականի
G3: ___________ ___-ի N _______ -Ն որոշման
A6: ՀԱՅԱՍՏԱՆԻ ՀԱՆՐԱՊԵՏՈՒԹՅԱՆ ԿԱՌԱՎԱՐՈՒԹՅԱՆ 2022 ԹՎԱԿԱՆԻ ԴԵԿՏԵՄԲԵՐԻ 29-Ի N 2111-Ն ՈՐՈՇՄԱՆ N 5 ՀԱՎԵԼՎԱԾԻ N 7 ԱՂՅՈՒՍԱԿՈՒՄ ԿԱՏԱՐՎՈՂ ԼՐԱՑՈՒՄՆԵՐԸ
G7: հազար դրամներով
A8: Ծրագրային դասիչ | C8: Բյուջետային հատկացումների գլխավոր կարգադրիչների, ծրագրերի, միջոցառումների, ծախսային ուղղությունների անվանումները | F8: Միջոցառումները կատարող պետական մարմինների և դրամաշնորհ ստացող տնտեսվարող սուբյեկտների անվանումները | G8: Ցուցանիշների փոփոխությունները (ավելացումները նշված են դրական նշանով)
A9: Ծրագիր | B9: Միջոցառում | G9: Տարի
A10: 1 | B10: 2 | C10: 3 | F10: 4 | G10: 5
A11: Ընդամենը | G11: =+G12 -> 25000
A12: ՀՀ Ազգային Ժողով | G12: =+G13 -> 25000
A13: 1024 | B13: ՀՀ Ազգային ժողովի լիազորությունների իրականացման ապահովում | G13: =+G14 -> 25000
B14: 11003 | C14: ՀՀ Ազգային ժողովի դերի բարձրացմանն ուղղված միջոցառումների իրականացում | F14: ՀՀ Ազգային ժողով | G14: =+G15 -> 25000
F15: Միավորված ազգերի կազմակերպության զարգացման ծրագիր | G15: 25000

Sheet 3
A1: Հավելված N 3
A2: ՀՀ կառավարության 2023 թվականի
A3: ------------ N ---------- որոշման
A5: ՀԱՅԱՍՏԱՆԻ ՀԱՆՐԱՊԵՏՈՒԹՅԱՆ ԿԱՌԱՎԱՐՈՒԹՅԱՆ 2022 ԹՎԱԿԱՆԻ ԴԵԿՏԵՄԲԵՐԻ 29-Ի N 2111-Ն ՈՐՈՇՄԱՆ N 9 ՀԱՎԵԼՎԱԾԻ 9.2 ԱՂՅՈՒՍԱԿՈՒՄ ԿԱՏԱՐՎՈՂ ՓՈՓՈԽՈՒԹՅՈՒՆՆԵՐԸ
A8: ՄԱՍ 2. ՊԵՏԱԿԱՆ ՄԱՐՄՆԻ ԳԾՈՎ ԱՐԴՅՈՒՆՔԱՅԻՆ (ԿԱՏԱՐՈՂԱԿԱՆ) ՑՈՒՑԱՆԻՇՆԵՐԸ
A10: Ծրագրի դասիչը | B10: Ծրագրի անվանումը
A11: =+'1'!D18 -> 1024 | B11: ՀՀ Ազգային ժողովի լիազորությունների իրականացման ապահովում
A13: Ծրագրի միջոցառումները
A14: Ծրագրի դասիչը` | B14: =+A11 -> 1024 | C14: Ցուցանիշների փոփոխությունները (ավելացումները նշված են դրական նշանով, իսկ նվազեցումները՝ փակագծերում)
A15: Միջոցառման դասիչը` | B15: =+'1'!E20 -> 11003 | C15: Տարի
A16: Միջոցառման անվանումը` | B16: =+'1'!F20 -> ՀՀ Ազգային ժողովի դերի բարձրացմանն ուղղված միջոցառումների իրականացում
A17: Նկարագրությունը` | B17: ՀՀ ԱԺ նախագահի հովանու ներքո իրականացվող գիտական, կրթական, մշակութային և սպորտային միջոցառումների կազմակերպում
A18: Միջոցառման տեսակը` | B18: Ծառայությունների մատուցում
A19: Ակտիվն օգտագործող կազմակերպության(ների) անվանում(ները)՛ | B19: ՀՀ Ազգային ժողով
A20: Արդյունքի չափորոշիչներ
A21: Միջոցառումների քանակ, հատ | C21: -2
A22: ՀՀ ԱԺ-ի որպես պետական կառույց հանրության իրազեկության աստիճան, տոկոս | C22: 23
A23: Միջոցառման վրա կատարված ծախսը (հազար դրամ) | C23: 0

Sheet 4
A1: Հավելված N 4
A2: ՀՀ կառավարության 2023 թվականի
A3: ------------ N ---------- որոշման
A5: ՀԱՅԱՍՏԱՆԻ ՀԱՆՐԱՊԵՏՈՒԹՅԱՆ ԿԱՌԱՎԱՐՈՒԹՅԱՆ 2022 ԹՎԱԿԱՆԻ ԴԵԿՏԵՄԲԵՐԻ 29-Ի N 2111-Ն ՈՐՈՇՄԱՆ N 9.1 ՀԱՎԵԼՎԱԾԻ N 9.1.2 ԱՂՅՈՒՍԱԿՈՒՄ ԿԱՏԱՐՎՈՂ ՓՈՓՈԽՈՒԹՅՈՒՆՆԵՐԸ
A7: ՄԱՍ 1. ՊԵՏԱԿԱՆ ՄԱՐՄՆԻ ԳԾՈՎ ԱՐԴՅՈՒՆՔԱՅԻՆ (ԿԱՏԱՐՈՂԱԿԱՆ) ՑՈՒՑԱՆԻՇՆԵՐԸ
A8: Ծրագրի դասիչը | B8: Ծրագրի անվանումը
A9: ='3'!A11 -> 1024 | B9: ='3'!B11:C11 -> ՀՀ Ազգային ժողովի լիազորությունների իրականացման ապահովում
A10: Ծրագրի միջոցառումները
A11: Ծրագրի դասիչը` | B11: =+'3'!B14 -> 1024 | C11: Ցուցանիշների փոփոխությունները (ավելացումները նշված են դրական նշանով, իսկ նվազեցումները՝ փակագծերում)
A12: Միջոցառման դասիչը` | B12: =+'3'!B15 -> 11003 | C12: Տարի
A13: Միջոցառման անվանումը` | B13: =+'3'!B16 -> ՀՀ Ազգային ժողովի դերի բարձրացմանն ուղղված միջոցառումների իրականացում
A14: Նկարագրությունը` | B14: =+'3'!B17 -> ՀՀ ԱԺ նախագահի հովանու ներքո իրականացվող գիտական, կրթական, մշակութային և սպորտային միջոցառումների կազմակերպում
A15: Միջոցառման տեսակը` | B15: =+'3'!B18 -> Ծառայությունների մատուցում
A16: ='3'!A19 -> Ակտիվն օգտագործող կազմակերպության(ների) անվանում(ները)՛ | B16: ='3'!B19 -> ՀՀ Ազգային ժողով
A17: Արդյունքի չափորոշիչներ
A18: Միջոցառումների քանակ, հատ | C18: -2
A19: ՀՀ ԱԺ-ի որպես պետական կառույց հանրության իրազեկության աստիճան, տոկոս | C19: 23
A20: Միջոցառման վրա կատարված ծախսը (հազար դրամ) | C20: 0

Sheet 5
I1: Հավելված N 5
I2: ՀՀ կառավարության 2023 թվականի
I3: ------------ N ---------- որոշման
A5: ՀԱՅԱՍՏԱՆԻ ՀԱՆՐԱՊԵՏՈՒԹՅԱՆ ԿԱՌԱՎԱՐՈՒԹՅԱՆ 2022 ԹՎԱԿԱՆԻ ԴԵԿՏԵՄԲԵՐԻ 29-Ի N 2111-Ն ՈՐՈՇՄԱՆ N 10 ՀԱՎԵԼՎԱԾՈՒՄ ԿԱՏԱՐՎՈՂ ՓՈՓՈԽՈՒԹՅՈՒՆՆԵՐԸ
A7: Գնման առարկայի | G7: Ցուցանիշների փոփոխությունը (ավելացումները նշված են դրական նշանով, իսկ նվազեցումները՝ փակագծերում)
A8: կոդը | B8: անվանումը | C8: գնման ձևը | D8: չափի միավորը | F8: միավորի գինը | G8: քանակը | H8: Գումարը (հազար դրամներով)
A10: =+'[1]5'!A7:E7 -> ՀՀ Ազգային ժողով | H10: =+H12 -> -25000
A11: Բաժին N 09 | B11: Խումբ N 06 | C11: Դաս N 01 | D11: Կրթությանը տրամադրվող օժանդակ ծառայություններ
A12: 1024 11003 | B12: =+'4'!B13 -> ՀՀ Ազգային ժողովի դերի բարձրացմանն ուղղված միջոցառումների իրականացում | H12: =+H14 -> -25000
A14: 79951100/1 | B14: միջոցառումների հետ կապված ծառայություններ | C14: ԷԱՃ | D14: դրամ | H14: -25000
