Workbook
Name _tab10: #REF!
Name _tab10: #REF!
Name _tab10: #REF!
Name _tab10: #REF!
Name _tab11: #REF!
Name _tab11: #REF!
Name _tab11: #REF!
Name _tab11: #REF!
Name _tab12: #REF!
Name _tab12: #REF!
Name _tab12: #REF!
Name _tab12: #REF!
Name _tab13: #REF!
Name _tab13: #REF!
Name _tab13: #REF!
Name _tab14: #REF!
Name _tab14: #REF!
Name _tab14: #REF!
Name _tab15: #REF!
Name _tab15: #REF!
Name _tab15: #REF!
Name _tab16: #REF!
Name _tab16: #REF!
Name _tab16: #REF!
Name _tab17: #REF!
Name _tab17: #REF!
Name _tab17: #REF!
Name _tab18: #REF!
Name _tab18: #REF!
Name _tab18: #REF!
Name _tab19: #REF!
Name _tab19: #REF!
Name _tab19: #REF!
Name _tab20: #REF!
Name _tab20: #REF!
Name _tab20: #REF!
Name _tab21: #REF!
Name _tab21: #REF!
Name _tab21: #REF!
Name _tab22: #REF!
Name _tab22: #REF!
Name _tab22: #REF!
Name _tab23: #REF!
Name _tab23: #REF!
Name _tab23: #REF!
Name _tab24: #REF!
Name _tab24: #REF!
Name _tab24: #REF!
Name _tab5: #REF!
Name _tab5: #REF!
Name _tab5: #REF!
Name _tab6: #REF!
Name _tab6: #REF!
Name _tab6: #REF!
Name _tab7: #REF!
Name _tab7: #REF!
Name _tab7: #REF!
Name _tab8: #REF!
Name _tab8: #REF!
Name _tab8: #REF!

Sheet 1
D1: Հավելված N 1
D2: ՀՀ կառավարության 2023 թվականի
D3: № ------------ -Ն որոշման
A5: ՀԱՅԱՍՏԱՆԻ ՀԱՆՐԱՊԵՏՈՒԹՅԱՆ 2023 ԹՎԱԿԱՆԻ ՊԵՏԱԿԱՆ ԲՅՈՒՋԵԻ ՄԱՍԻՆ» ՕՐԵՆՔԻ N 1 ՀԱՎԵԼՎԱԾԻ N 2 ԱՂՅՈՒՍԱԿՈՒՄ ԿԱՏԱՐՎՈՂ ՎԵՐԱԲԱՇԽՈՒՄԸ ԵՎ ՀԱՅԱՍՏԱՆԻ ՀԱՆՐԱՊԵՏՈՒԹՅԱՆ ԿԱՌԱՎԱՐՈՒԹՅԱՆ 2022 ԹՎԱԿԱՆԻ ԴԵԿՏԵՄԲԵՐԻ 29-Ի N 2111-Ն ՈՐՈՇՄԱՆ N 5 ՀԱՎԵԼՎԱԾԻ N 1 ԱՂՅՈՒՍԱԿՈՒՄ ԿԱՏԱՐՎՈՂ ՓՈՓՈԽՈՒԹՅՈՒՆՆԵՐԸ
D7: (հազ. դրամ)
A8: Ծրագրային դասիչը | C8: Բյուջետային հատկացումների գլխավոր կարգադրիչների, ծրագրերի և միջոցառումների անվանումները | D8: Ցուցանիշների փոփոխությունը (ավելացումները նշված են դրական նշանով, իսկ նվազեցումները` փակագծերում)
A9: Ծրագիր | B9: Միջոցառում | D9: Տարի
C10: ԸՆԴԱՄԵՆԸ | D10: =D11+D44 -> 0
C11: ՀՀ տարածքային կառավարման և ենթակառուցվածքների նախարարություն | D11: =+D12+D31 -> -168300
A12: 1049 | C12: Ծրագրի անվանումը` | D12: ='2'!G76 -> -200000
C13: Ճանապարհային ցանցի բարելավում
C14: Ծրագրի նպատակը`
C15: Ճանապարհային ցանցի բարելավում և անվտանգ երթևեկության ապահովում
C16: Վերջնական արդյունքի նկարագրությունը`
C17: Ճանապարհների ծածկի որակի և փոխադրումների արդյունավետության բարելավում, ճանապարհների վիճակով պայմանավորված պատահարների նվազում
A18: Ծրագրի միջոցառումներ
B19: 11002 | C19: Միջոցառման անվանումը` | D19: ='2'!G78 -> -19900
C20: Մարզային նշանակության ավտոճանապարհների պահպանման և անվտանգ երթևեկության ծառայություններ
C21: Միջոցառման նկարագրությունը`
C22: Հողային պաստառի, երթևեկելի մասի, արհեստական կառույցների և կահավորման տարրերի նորմատիվ մակարդակում պահպանում և շահագործում
C23: Միջոցառման տեսակը
C24: Ծառայությունների մատուցում
B25: 21012 | C25: Միջոցառման անվանումը` | D25: ='2'!G87 -> -180100
C26: Եվրասիական զարգացման բանկի աջակցությամբ իրականացվող Հյուսիս-հարավ միջանցքի զարգացման ծրագիր
C27: Միջոցառման նկարագրությունը`
C28: Ճանապարհաշինական աշխատանքներ
C29: Միջոցառման տեսակը
C30: Հանրության կողմից անմիջականորեն օգտագործվող ակտիվների հետ կապված միջոցառումներ
A31: 1212 | C31: Ծրագրի անվանումը` | D31: =+D38 -> 31700
C32: Տարածքային զարգացում
C33: Ծրագրի նպատակը`
C34: Տարածքային համաչափ զարգացման խթանում
C35: Վերջնական արդյունքի նկարագրությունը`
C36: ՀՀ համայնքների կառավարման արդյունավետության բարձրացում և տնտեսական գործունեության խթանում
A37: Ծրագրի միջոցառումներ
B38: 12003 | C38: Միջոցառման անվանումը` | D38: ='2'!G23 -> 31700
C39: Պետական աջակցություն սահմանամերձ համայնքներին
C40: Միջոցառման նկարագրությունը`
C41: Ծրագրի իրականացմամբ ապահովվում է «Սահմանամերձ համայնքների սոցիալական աջակցության մասին» ՀՀ օրենքի կիրարկումը
C42: Միջոցառման տեսակը
...

Sheet 2
G1: Հավելված № 2
G2: ՀՀ կառավարության 2023 թվականի
G3: № ------------ -Ն որոշման
A5: ՀԱՅԱՍՏԱՆԻ ՀԱՆՐԱՊԵՏՈՒԹՅԱՆ ԿԱՌԱՎԱՐՈՒԹՅԱՆ 2022 ԹՎԱԿԱՆԻ ԴԵԿՏԵՄԲԵՐԻ 29-Ի N 2111-Ն ՈՐՈՇՄԱՆ N 3 ԵՎ N 4 ՀԱՎԵԼՎԱԾՆԵՐՈՒՄ ԿԱՏԱՐՎՈՂ ՓՈՓՈԽՈՒԹՅՈՒՆՆԵՐԸ
G7: (հազ. դրամ)
A8: Գործառական դասիչը | D8: Ծրագրային դասիչը | F8: Բյուջետային ծախսերի գործառական դասակարգման բաժինների, խմբերի և դասերի, բյուջետային ծրագրերի միջոցառումների, բյուջետային հատկացումների գլխավոր կարգադրիչների անվանումները | G8: Ցուցանիշների փոփոխությունը (ավելացումները նշված են դրական նշանով, իսկ նվազեցումները` փակագծերում)
A9: բաժին | B9: խումբ | C9: դաս | D9: Ծրագիր | E9: Միջոցառում | G9: Տարի
F10: ԸՆԴԱՄԵՆԸ ԾԱԽՍԵՐ | G10: =G11+G96 -> 0
F11: ՀՀ տարածքային կառավարման և ենթակառուցվածքների նախարարություն | G11: =G13+G68 -> -168300
F12: այդ թվում`
A13: 01 | F13: ԸՆԴՀԱՆՈՒՐ ԲՆՈՒՅԹԻ ՀԱՆՐԱՅԻՆ ԾԱՌԱՅՈՒԹՅՈՒՆՆԵՐ | G13: =G15 -> 31700
F14: այդ թվում`
B15: 08 | F15: Կառավարության տարբեր մակարդակների միջև իրականացվող ընդհանուր բնույթի տրանսֆերտներ | G15: =G17 -> 31700
F16: այդ թվում`
C17: 01 | F17: Կառավարության տարբեր մակարդակների միջև իրականացվող ընդհանուր բնույթի տրանսֆերտներ | G17: =+G23 -> 31700
F18: այդ թվում`
F19: ՀՀ տարածքային կառավարման և ենթակառուցվածքների նախարարություն | G19: =+G21 -> 31700
F20: այդ թվում`
D21: 1212 | F21: Տարածքային զարգացում | G21: =G23 -> 31700
F22: այդ թվում
E23: 12003 | F23: Պետական աջակցություն սահմանամերձ համայնքներին | G23: =G25+G33+G40+G47+G54+G61 -> 31700
F24: այդ թվում` ըստ կատարողների
F25: ՀՀ տարածքային կառավարման և ենթակառուցվածքների նախարարության Ջրային կոմիտե | G25: =G27 -> 10000
F26: այդ թվում`բյուջետային ծախսերի տնտեսագիտական դասակարգման հոդվածներ
F27: ԸՆԴԱՄԵՆԸ ԾԱԽՍԵՐ | G27: =+G28 -> 10000
F28: ԸՆԹԱՑԻԿ ԾԱԽՍԵՐ | G28: =G29 -> 10000
F29: ՍՈՑԻԱԼԱԿԱՆ ՆՊԱՍՏՆԵՐ ԵՎ ԿԵՆՍԱԹՈՇԱԿՆԵՐ | G29: =G30 -> 10000
F30: Սոցիալական օգնության դրամական արտահայտությամբ նպաստներ (բյուջեից) | G30: =G31 -> 10000
F31: - Այլ նպաստներ բյուջեից | G31: 10000
F32: այդ թվում` ըստ կատարողների
F33: ՀՀ Արարատի մարզպետի աշխատակազմ | G33: =G35 -> 300
F34: այդ թվում`բյուջետային ծախսերի տնտեսագիտական դասակարգման հոդվածներ
F35: ԸՆԴԱՄԵՆԸ ԾԱԽՍԵՐ | G35: =+G36 -> 300
F36: ԸՆԹԱՑԻԿ ԾԱԽՍԵՐ | G36: =G37 -> 300
F37: ՍՈՑԻԱԼԱԿԱՆ ՆՊԱՍՏՆԵՐ ԵՎ ԿԵՆՍԱԹՈՇԱԿՆԵՐ | G37: =G38 -> 300
F38: Սոցիալական օգնության դրամական արտահայտությամբ նպաստներ (բյուջեից) | G38: =G39 -> 300
F39: - Այլ նպաստներ բյուջեից | G39: 300
F40: ՀՀ Գեղարքունիքի մարզպետի աշխատակազմ | G40: =G42 -> 1700
F41: այդ թվում`բյուջետային ծախսերի տնտեսագիտական դասակարգման հոդվածներ
F42: ԸՆԴԱՄԵՆԸ ԾԱԽՍԵՐ | G42: =+G43 -> 1700
...

Sheet 3
F1: Հավելված N 3
F2: ՀՀ կառավարության 2023 թվականի
F3: № -------Ն որոշման
A5: «ՀԱՅԱՍՏԱՆԻ ՀԱՆՐԱՊԵՏՈՒԹՅԱՆ 2023 ԹՎԱԿԱՆԻ ՊԵՏԱԿԱՆ ԲՅՈՒՋԵԻ ՄԱՍԻՆ» ՀԱՅԱՍՏԱՆԻ ՀԱՆՐԱՊԵՏՈՒԹՅԱՆ ՕՐԵՆՔԻ N 1 ՀԱՎԵԼՎԱԾԻ N 4 ԱՂՅՈՒՍԱԿՈՒՄ ԵՎ ՀԱՅԱՍՏԱՆԻ ՀԱՆՐԱՊԵՏՈՒԹՅԱՆ ԿԱՌԱՎԱՐՈՒԹՅԱՆ 2022 ԹՎԱԿԱՆԻ ԴԵԿՏԵՄԲԵՐԻ 29-Ի N 2111-Ն ՈՐՈՇՄԱՆ N5 ՀԱՎԵԼՎԱԾԻ N 3 ԱՂՅՈՒՍԱԿՈՒՄ ԿԱՏԱՐՎՈՂ ՓՈՓՈԽՈՒԹՅՈՒՆՆԵՐԸ
F7: (հազ. դրամ)
A8: Ծրագրային դասիչը | C8: Բյուջետային հատկացումների գլխավոր կարգադրիչների, ծրագրերի, միջոցառումների և միջոցառումները կատարող պետական մարմինների անվանումները | D8: Ցուցանիշների փոփոխությունը (նվազեցումները նշված են փակագծերում)
D10: Տարի
A11: ծրագիրը | B11: միջոցառումը | D11: ընդամենը | E11: այդ թվում՝
E12: վարկային միջոցներ | F12: համաֆինան_x000D_ սավորում
C13: ԸՆԴԱՄԵՆԸ ԾՐԱԳՐԵՐՈՎ, այդ թվում` | D13: =E13+F13 -> -180100 | E13: =E15 -> 0 | F13: =+F16 -> -180100
C14: - ՈՉ ՖԻՆԱՆՍԱԿԱՆ ԱԿՏԻՎՆԵՐԻ ԳԾՈՎ ԾԱԽՍԵՐ | D14: =E14+F14 -> -180100 | E14: =E15 -> 0 | F14: =+F18 -> -180100
C15: ՀՀ ՏԱՐԱԾՔԱՅԻՆ ԿԱՌԱՎԱՐՄԱՆ ԵՎ ԵՆԹԱԿԱՌՈՒՑՎԱԾՔՆԵՐԻ ՆԱԽԱՐԱՐՈՒԹՅՈՒՆ այդ թվում՝ | D15: =D16 -> -180100 | E15: =E16 -> 0 | F15: =F16 -> -180100
A16: 1049 | C16: Ճանապարհային ցանցի բարելավում | D16: =+E16+F16 -> -180100 | E16: =+E18 -> 0 | F16: =+F18 -> -180100
C17: այդ թվում՝
B18: 21012 | C18: Եվրասիական զարգացման բանկի աջակցությամբ իրականացվող Հյուսիս-հարավ միջանցքի զարգացման ծրագիր | D18: =+E18+F18 -> -180100 | E18: =+E20 -> 0 | F18: =+F20 -> -180100
C19: այդ թվում` ըստ կատարողների
C20: ՀՀ տարածքային կառավարման և ենթակառուցվածքների նախարարություն | D20: =D22 -> -180100 | E20: =E22 -> 0 | F20: =F22 -> -180100
C21: այդ թվում` բյուջետային ծախսերի տնտեսագիտական դասակարգման հոդվածներ
C22: ԸՆԴԱՄԵՆԸ ԾԱԽՍԵՐ | D22: =+E22+F22 -> -180100 | E22: =+E23 -> 0 | F22: =+F23 -> -180100
C23: ՈՉ ՖԻՆԱՆՍԱԿԱՆ ԱԿՏԻՎՆԵՐԻ ԳԾՈՎ ԾԱԽՍԵՐ | D23: =E23+F23 -> -180100 | E23: =+E24 -> 0 | F23: =+F24 -> -180100
C24: ՀԻՄՆԱԿԱՆ ՄԻՋՈՑՆԵՐ | D24: =+E24+F24 -> -180100 | E24: =+E25 -> 0 | F24: =+F25 -> -180100
C25: ՇԵՆՔԵՐ ԵՎ ՇԻՆՈՒԹՅՈՒՆՆԵՐ | D25: =E25+F25 -> -180100 | E25: =+E26 -> 0 | F25: =+F26 -> -180100
C26: - Շենքերի և շինությունների շինարարություն | D26: =E26+F26 -> -180100 | E26: 0 | F26: -180100

Sheet 4
D1: Հավելված № 4
D2: ՀՀ կառավարության 2023 թվականի
D3: № ------------ -Ն որոշման
B5: ՀԱՅԱՍՏԱՆԻ ՀԱՆՐԱՊԵՏՈՒԹՅԱՆ ԿԱՌԱՎԱՐՈՒԹՅԱՆ 2022 ԹՎԱԿԱՆԻ ԴԵԿՏԵՄԲԵՐԻ 29-Ի N 2111-Ն ՈՐՈՇՄԱՆ N 9 ՀԱՎԵԼՎԱԾԻ N9.7 ԵՎ 9․47 ԱՂՅՈՒՍԱԿՆԵՐՈՒՄ ԿԱՏԱՐՎՈՂ ՓՈՓՈԽՈՒԹՅՈՒՆՆԵՐԸ
D7: Աղյուսակ 9.7
B8: ՀՀ տարածքային կառավարման և ենթակառուցվածքների նախարարություն
B9: ՄԱՍ 2. ՊԵՏԱԿԱՆ ՄԱՐՄՆԻ ԳԾՈՎ ԱՐԴՅՈՒՆՔԱՅԻՆ (ԿԱՏԱՐՈՂԱԿԱՆ) ՑՈՒՑԱՆԻՇՆԵՐԸ
B12: Ծրագրի դասիչը | C12: Ծրագրի անվանումը
B13: 1049 | C13: Ճանապարհային ցանցի բարելավում
B15: Ծրագրի միջոցառումները
B16: Ծրագրի դասիչը` | C16: 1049 | D16: Ցուցանիշների փոփոխությունը (նվազեցումները նշված են փակագծերում)
B17: Միջոցառման դասիչը` | C17: 11002 | D17: Տարի
B18: Միջոցառման անվանումը` | C18: Մարզային նշանակության ավտոճանապարհների պահպանման և անվտանգ երթևեկության ծառայություններ
B19: Նկարագրությունը` | C19: Հողային պաստառի, երթևեկելի մասի, արհեստական կառույցների և կահավորման տարրերի նորմատիվ մակարդակում պահպանում և շահագործում
B20: Միջոցառման տեսակը` | C20: Ծառայությունների մատուցում
B21: Միջոցառումն իրականացնողի անվանումը | C21: Մարզպետարան, մրցութային կարգով ընտրված կազմակերպություններ
B22: Արդյունքի չափորոշիչներ
B23: Միջոցառման վրա կատարվող ծախսը (հազար դրամ) | D23: ='2'!G78 -> -19900
B26: Ծրագրի դասիչը` | C26: 1049 | D26: Ցուցանիշների փոփոխությունը (նվազեցումները նշված են փակագծերում)
B27: Միջոցառման դասիչը` | C27: 21012 | D27: Տարի
B28: Միջոցառման անվանումը` | C28: Եվրասիական զարգացման բանկի աջակցությամբ իրականացվող Հյուսիս-հարավ միջանցքի զարգացման ծրագիր
B29: Նկարագրությունը` | C29: Ճանապարհաշինական աշխատանքներ
B30: Միջոցառման տեսակը` | C30: Հանրության կողմից անմիջականորեն օգտագործվող ակտիվների հետ կապված միջոցառումներ
B31: Միջոցառումն իրականացնողի անվանումը՛ | C31: Մասնագիտացված միավոր
B32: Արդյունքի չափորոշիչներ
B33: Միջոցառման վրա կատարվող ծախսը (հազար դրամ) | D33: ='3'!D18 -> -180100
B36: Ծրագրի դասիչը | C36: Ծրագրի անվանումը
B37: 1212 | C37: Տարածքային զարգացում
B39: Ծրագրի միջոցառումները
B40: Ծրագրի դասիչը` | C40: 1212 | D40: Ցուցանիշների փոփոխությունը (ավելացումները նշված են դրական նշանով)
B41: Միջոցառման դասիչը` | C41: 12003 | D41: Տարի
B42: Միջոցառման անվանումը` | C42: Պետական աջակցություն սահմանամերձ համայնքներին
B43: Նկարագրությունը` | C43: Ծրագրի իրականացմամբ ապահովվում է «Սահմանամերձ համայնքների սոցիալական աջակցության մասին» ՀՀ օրենքի կիրարկումը
B44: Միջոցառման տեսակը` | C44: Տրանսֆերտների տրամադրում
B45: Շահառուների ընտրության չափանիշները | C45: ՀՀ կառավարության 2014 թվականի դեկտեմբերի 18-ի N1444-Ն որոշման համաձայն
B46: Արդյունքի չափորոշիչներ
B47: Միջոցառման վրա կատարվող ծախսը (հազար դրամ) | D47: ='2'!G23 -> 31700
D49: Աղյուսակ 9.47
B50: ՀՀ կառավարություն
B51: ՄԱՍ 2. ՊԵՏԱԿԱՆ ՄԱՐՄՆԻ ԳԾՈՎ ԱՐԴՅՈՒՆՔԱՅԻՆ (ԿԱՏԱՐՈՂԱԿԱՆ) ՑՈՒՑԱՆԻՇՆԵՐԸ
...

Sheet 5
D1: Հավելված № 5
D2: ՀՀ կառավարության 2023 թվականի
D3: № ------------ -Ն որոշման
B5: ՀԱՅԱՍՏԱՆԻ ՀԱՆՐԱՊԵՏՈՒԹՅԱՆ ԿԱՌԱՎԱՐՈՒԹՅԱՆ 2022 ԹՎԱԿԱՆԻ ԴԵԿՏԵՄԲԵՐԻ 29-Ի N 2111-Ն ՈՐՈՇՄԱՆ N 9.1 ՀԱՎԵԼՎԱԾԻ NN 9.1.7, 9.1.25, 9.1.49, 9.1.51, 9.1.55, 9.1.56, 9.1.57 ԵՎ 9.1.58 ԱՂՅՈՒՍԱԿՆԵՐՈՒՄ ԿԱՏԱՐՎՈՂ ՓՈՓՈԽՈՒԹՅՈՒՆՆԵՐԸ
D6: Աղյուսակ 9.1.7
A7: ՀՀ Տարածքային կառավարման և ենթակառուցվածքների նախարարություն
B8: ՄԱՍ 2. ՊԵՏԱԿԱՆ ՄԱՐՄՆԻ ԳԾՈՎ ԱՐԴՅՈՒՆՔԱՅԻՆ (ԿԱՏԱՐՈՂԱԿԱՆ) ՑՈՒՑԱՆԻՇՆԵՐԸ
B10: Ծրագրի դասիչը | C10: Ծրագրի անվանումը
B11: 1049 | C11: Ճանապարհային ցանցի բարելավում
B13: Ծրագրի միջոցառումները
B14: Ծրագրի դասիչը` | C14: 1049 | D14: Ցուցանիշների փոփոխությունը (նվազեցումները նշված են փակագծերում)
B15: Միջոցառման դասիչը` | C15: 21012 | D15: Տարի
B16: Միջոցառման անվանումը` | C16: Եվրասիական զարգացման բանկի աջակցությամբ իրականացվող Հյուսիս-հարավ միջանցքի զարգացման ծրագիր
B17: Նկարագրությունը` | C17: Ճանապարհաշինական աշխատանքներ
B18: Միջոցառման տեսակը` | C18: Հանրության կողմից անմիջականորեն օգտագործվող ակտիվների հետ կապված միջոցառումներ
B19: Միջոցառումն իրականացնողի անվանումը՛ | C19: Մասնագիտացված միավոր
B20: Արդյունքի չափորոշիչներ
B21: Միջոցառման վրա կատարվող ծախսը (հազար դրամ) | D21: ='3'!D18 -> -180100
D23: Աղյուսակ 9.1.25
A24: ՀՀ տարածքային կառավարման և ենթակառուցվածքների նախարարության ջրային կոմիտե
B25: ՄԱՍ 2. ՊԵՏԱԿԱՆ ՄԱՐՄՆԻ ԳԾՈՎ ԱՐԴՅՈՒՆՔԱՅԻՆ (ԿԱՏԱՐՈՂԱԿԱՆ) ՑՈՒՑԱՆԻՇՆԵՐԸ
B27: Ծրագրի դասիչը | C27: Ծրագրի անվանումը
B28: 1212 | C28: Տարածքային զարգացում
B30: Ծրագրի միջոցառումները
B31: Ծրագրի դասիչը` | C31: 1212 | D31: Ցուցանիշների փոփոխությունը (ավելացումները նշված են դրական նշանով)
B32: Միջոցառման դասիչը` | C32: 12003 | D32: Տարի
B33: Միջոցառման անվանումը` | C33: =+'1'!C24 -> Ծառայությունների մատուցում
B34: Նկարագրությունը` | C34: ='1'!C26 -> Եվրասիական զարգացման բանկի աջակցությամբ իրականացվող Հյուսիս-հարավ միջանցքի զարգացման ծրագիր
B35: Միջոցառման տեսակը` | C35: ='1'!C28 -> Ճանապարհաշինական աշխատանքներ
B36: Շահառուների ընտրության չափանիշները | C36: ՀՀ կառավարության 2014 թվականի դեկտեմբերի 18-ի թիվ 1444-Ն որոշման համաձայն
B37: Արդյունքի չափորոշիչներ
B38: Միջոցառման վրա կատարվող ծախսը (հազար դրամ) | D38: ='2'!G31 -> 10000
D39: Աղյուսակ 9.1.49
A40: ՀՀ Արարատի մարզպետի աշխատակազմ
A41: ՄԱՍ 1. ՊԵՏԱԿԱՆ ՄԱՐՄՆԻ ԳԾՈՎ ԱՐԴՅՈՒՆՔԱՅԻՆ (ԿԱՏԱՐՈՂԱԿԱՆ) ՑՈՒՑԱՆԻՇՆԵՐԸ
B43: Ծրագրի դասիչը | C43: Ծրագրի անվանումը
B44: 1212 | C44: Տարածքային զարգացում
B46: Ծրագրի միջոցառումները
B47: Ծրագրի դասիչը` | C47: =+[1]Հ1!B12 -> 1212 | D47: Ցուցանիշների փոփոխությունը (ավելացումները նշված են դրական նշանով)
B48: Միջոցառման դասիչը` | C48: =+'1'!B38 -> 12003 | D48: Տարի
...

Sheet 6
G1: Հավելված № 6
G2: ՀՀ կառավարության 2023 թվականի
G3: № ------------ -Ն որոշման
A5: ՀԱՅԱՍՏԱՆԻ ՀԱՆՐԱՊԵՏՈՒԹՅԱՆ ԿԱՌԱՎԱՐՈՒԹՅԱՆ 2022 ԹՎԱԿԱՆԻ ԴԵԿՏԵՄԲԵՐԻ 29-Ի N 2111-Ն ՈՐՈՇՄԱՆ N 10 ՀԱՎԵԼՎԱԾՈՒՄ ԿԱՏԱՐՎՈՂ ՓՈՓՈԽՈՒԹՅՈՒՆԸ
A7: Կոդը | B7: Անվանումը | C7: Գնման ձևը | D7: Չափի միավորը | E7: Միավորի գինը | F7: Քանակը | G7: Ցուցանիշների փոփոխությունը (նվազեցումները նշված են փակագծերում)
G8: գումարը (հազար դրամ)
A9: ՀՀ Տավուշի մարզպետարան | G9: =G10 -> -19900
A10: Բաժին N 04 | B10: Խումբ N 05 | C10: Դաս N 01 | D10: Ճանապարհային տրանսպորտ | G10: =+G11 -> -19900
A11: 1049 11002 | B11: Մարզային նշանակության ավտոճանապարհների պահպանման և անվտանգ երթևեկության ծառայություններ | G11: =+G12 -> -19900
A12: ՄԱՍ II. ԱՇԽԱՏԱՆՔՆԵՐ | G12: =+G13 -> -19900
A13: 45231176-1 | B13: ճանապարհների պահպանման աշխատանքներ | C13: ՀԲՄ | D13: դրամ | E13: 0 | F13: 0 | G13: ='1'!D19 -> -19900
