Workbook
Name \A: #REF!
Name \A: #REF!
Name _tab10: #REF!
Name _tab11: #REF!
Name _tab12: #REF!
Name _tab13: #REF!
Name _tab14: #REF!
Name _tab15: #REF!
Name _tab16: #REF!
Name _tab17: #REF!
Name _tab18: #REF!
Name _tab19: #REF!
Name _tab20: #REF!
Name _tab21: #REF!
Name _tab22: #REF!
Name _tab23: #REF!
Name _tab24: #REF!
Name _tab5: #REF!
Name _tab6: #REF!
Name _tab7: #REF!
Name _tab8: #REF!
Name _tab9: #REF!
Name AgencyCode: #REF!
Name AgencyCode: #REF!
Name AgencyName: #REF!
Name AgencyName: #REF!
Name ampop_krchat: #REF!
Name ampop_krchat: #REF!
Name Armata: #REF!
Name Armata: #REF!
Name BOP: #REF!
Name BOP: #REF!
Name BOPfoot: #REF!
Name BOPfoot: #REF!
Name DebtCG: '[1]Fis-Debt'!#REF!
Name DebtCG: '[1]Fis-Debt'!#REF!
Name DebtGG: #REF!
Name DebtGG: #REF!
Name Functional1: #REF!
Name Functional1: #REF!
Name Hav: #REF!,#REF!
Name MonExo: #REF!
Name MonExo: #REF!
Name MonGrow: [2]BM!#REF!
Name MonGrow: [2]BM!#REF!
Name PANature: #REF!
Name PANature: #REF!
Name par_count: #REF!,#REF!,#REF!,#REF!,#REF!,#REF!,#REF!,#REF!,#REF!,#REF!,#REF!,#REF!,#REF!,#REF!,#REF!
Name par_qual: #REF!,#REF!,#REF!,#REF!,#REF!
Name par_time: #REF!,#REF!,#REF!,#REF!
Name par2.12s: #REF!
Name par2.4s: #REF!,#REF!,#REF!,#REF!,#REF!,#REF!,#REF!,#REF!,#REF!,#REF!,#REF!,#REF!,#REF!,#REF!,#REF!,#REF!
Name par2.5s: #REF!,#REF!
Name par2.6s: #REF!,#REF!,#REF!,#REF!
Name par2.7s: #REF!,#REF!
Name par2.9s: #REF!,#REF!,#REF!,#REF!,#REF!,#REF!,#REF!,#REF!,#REF!,#REF!,#REF!,#REF!,#REF!,#REF!,#REF!,#REF!
Name par4.10s: #REF!,#REF!
Name par4.11d: #REF!,#REF!,#REF!,#REF!,#REF!
Name par4.12d: #REF!
Name par4.13s: #REF!

Sheet N 1
C1: Հավելված 1 ՀՀ կառավարության 2023 թվականի____________ի N _____-Ն որոշման
A2: «ՀԱՅԱՍՏԱՆԻ ՀԱՆՐԱՊԵՏՈՒԹՅԱՆ 2023 ԹՎԱԿԱՆԻ ՊԵՏԱԿԱՆ ԲՅՈՒՋԵԻ ՄԱՍԻՆ» ՀԱՅԱՍՏԱՆԻ ՀԱՆՐԱՊԵՏՈՒԹՅԱՆ ՕՐԵՆՔԻ N 1 ՀԱՎԵԼՎԱԾԻ N 2 ԱՂՅՈՒՍԱԿՈՒՄ ԿԱՏԱՐՎՈՂ ՎԵՐԱԲԱՇԽՈՒՄԸ ԵՎ ՀԱՅԱՍՏԱՆԻ ՀԱՆՐԱՊԵՏՈՒԹՅԱՆ ԿԱՌԱՎԱՐՈՒԹՅԱՆ 2022 ԹՎԱԿԱՆԻ ԴԵԿՏԵՄԲԵՐԻ 29-Ի N 2111-Ն ՈՐՈՇՄԱՆ N 5 ՀԱՎԵԼՎԱԾԻ N 1 ԱՂՅՈՒՍԱԿՈՒՄ ԿԱՏԱՐՎՈՂ ՓՈՓՈԽՈՒԹՅՈՒՆԸ
D3: (հազար դրամներով)
A4: Ծրագրային դասիչը | C4: Բյուջետային հատկացումների գլխավոր կարգադրիչների, ծրագրերի և միջոցառումների | D4: Ցուցանիշների փոփոխությունը (ծախսերի ավելացումները նշված են դրական նշանով, իսկ նվազեցումները` փակագծերում)
A5: ծրագիրը | B5: միջոցառումը | C5: անվանումները | D5: Տարի
C6: ԸՆԴԱՄԵՆԸ այդ թվում` | D6: =D7 -> 0
C7: ՀՀ շրջակա միջավայրի նախարարություն | D7: =D8+D21 -> 0
A8: 1071 | C8: Ծրագրի անվանումը | D8: =D15 -> 30000 | E8: =E1 -> 0 | F8: =-6600 -> -6600
C9: Շրջակա միջավայրի ոլորտում պետական քաղաքականության մշակում, ծրագրերի համակարգում և մոնիտորինգ
C10: Ծրագրի նպատակը
C11: Շրջակա միջավայրի պահպանությանն ուղղված պետական քաղաքականության մշակում և իրականացում
C12: Վերջնական արդյունքի նկարագրությունը
C13: Շրջակա միջավայրի պահպանությանն ուղղված օրենսդրական դաշտի բարելավում, իրականացվող ծրագրերի ազդեցության և արդյունավետության աճ
C14: Ծրագրի միջոցառումներ
B15: 11001 | C15: Միջոցառման անվանումը | D15: 30000 | E15: =E8 -> 0 | F15: -6600
C16: Շրջակա միջավայրի ոլորտում քաղաքականության մշակում, ծրագրերի համակարգում և մոնիտորինգ
C17: Միջոցառման նկարագրությունը
C18: Շրջակա միջավայրի պահպանությանն ուղղված օրենսդրական դաշտի բարելավում, իրականացվող ծրագրերի արդյունավետության ապահովում
C19: Միջոցառման տեսակը
C20: Ծառայությունների մատուցում
A21: 1155 | C21: Ծրագրի անվանումը` | D21: =D28+D34 -> -30000
C22: Բնական պաշարների և բնության հատուկ պահպանվող տարածքների կառավարում և պահպանում
C23: Ծրագրի նպատակը`
C24: Բնական պաշարների և կենսաբազմազանության արդյունավետ կառավարում և պահպանություն
C25: Վերջնական արդյունքի նկարագրությունը`
C26: Բնական պաշարների և կենսաբազմազանության վերարտադրության աճի ապահովում
C27: Ծրագրի միջոցառումներ
B28: 11001 | C28: Միջոցառման անվանումը` | D28: -31657.7 | E28: ='[4]Օրինակելի ձև 2'!$I$34 -> 1000 | F28: ='[4]Օրինակելի ձև 2'!$L$34 -> 2000 | G28: ='[4]Օրինակելի ձև 2'!$O$34 -> 4000
C29: Գերմանիայի զարգացման վարկերի բանկի (KFW) կողմից տրամադրվող դրամաշնորհային ծրագրի շրջանակներում ՀՀ Սյունիքի մարզի բնության հատուկ պահպանվող տարածքների կառավարման բարելավմանն ուղղված ծրագրերի իրականացում | E29: =#REF!+E28 -> #REF! | F29: =#REF!+F28 -> #REF! | G29: =D28+G28 -> -27657.7
C30: Միջոցառման նկարագրությունը`
C31: ՀՀ Սյունիքի մարզի բնության հատուկ պահպանվող տարածքների կառավարման և հարակից համայնքների սոցիալ-տնտեսական վիճակի բարելավմանն ուղղված ծրագրերի մշակման և նախագծման աշխատանքների իրականացում
C32: Միջոցառման տեսակը
C33: Ծառայությունների մատուցում
B34: 12002 | C34: Միջոցառման անվանումը` | D34: 1657.7 | E34: ='[4]Օրինակելի ձև 2'!$I$34 -> 1000 | F34: ='[4]Օրինակելի ձև 2'!$L$34 -> 2000 | G34: ='[4]Օրինակելի ձև 2'!$O$34 -> 4000
C35: Գերմանիայի զարգացման վարկերի բանկի (KFW) կողմից տրամադրվող դրամաշնորհային ծրագրի շրջանակներում ՀՀ Սյունիքի մարզի բնության հատուկ պահպանվող տարածքների հարակից համայնքների սոցիալ-տնտեսական վիճակի բարելավմանն ուղղված աջակցություն | E35: =#REF!+E34 -> #REF! | F35: =#REF!+F34 -> #REF! | G35: =D34+G34 -> 5657.7
C36: Միջոցառման նկարագրությունը`
C37: ՀՀ Սյունիքի մարզի բնության հատուկ պահպանվող տարածքների և հարակից համայնքներին սոցիալ-տնտեսական վիճակի բարելավման նպատակով աջակցության ցուցաբերում
C38: Միջոցառման տեսակը
C39: Տրանսֆերտների տրամադրում

Sheet N 2
F1: Հավելված 2 ՀՀ կառավարության 2023 թվականի____________ի N _____-Ն որոշման
A3: ՀԱՅԱՍՏԱՆԻ ՀԱՆՐԱՊԵՏՈՒԹՅԱՆ ԿԱՌԱՎԱՐՈՒԹՅԱՆ 2022 ԹՎԱԿԱՆԻ ԴԵԿՏԵՄԲԵՐԻ 29-Ի N 2111-Ն ՈՐՈՇՄԱՆ N3 ԵՎ N4 ՀԱՎԵԼՎԱԾՆԵՐՈՒՄ ԿԱՏԱՐՎՈՂ ՓՈՓՈԽՈՒԹՅՈՒՆՆԵՐԸ
G4: (հազար դրամներով)
A5: Բաժին | B5: Խումբ | C5: Դաս | D5: Ծրագրային դասիչը | F5: Բյուջետային հատկացումների գլխավոր կարգադրիչների, ծրագրերի, միջոցառումների և միջոցառումները կատարող պետական մարմինների անվանումները | G5: Ցուցանիշների փոփոխությունը (ծախսերի ավելացումները նշված են դրական նշանով, իսկ նվազեցումները` փակագծերում)
D6: Ծրագիր | E6: Միջոցառում | G6: Տարի
F7: ԸՆԴԱՄԵՆԸ այդ թվում` | G7: =G8+G25 -> 0
A8: 05 | F8: ՇՐՋԱԿԱ ՄԻՋԱՎԱՅՐԻ ՊԱՇՏՊԱՆՈՒԹՅՈՒՆ | G8: =G10 -> 30000
F9: այդ թվում`
B10: 06 | F10: Շրջակա միջավայրի պաշտպանություն (այլ դասերին չպատկանող) | G10: =G12 -> 30000
F11: այդ թվում`
C12: 01 | F12: Շրջակա միջավայրի պաշտպանություն (այլ դասերին չպատկանող) | G12: =G15 -> 30000
F13: այդ թվում`
F14: Շրջակա միջավայրի նախարարություն
D15: 1071 | F15: Շրջակա միջավայրի ոլորտում պետական քաղաքականության մշակում, ծրագրերի համակարգում և մոնիտորինգ | G15: =G16 -> 30000
E16: 11001 | F16: Շրջակա միջավայրի ոլորտում քաղաքականության մշակում, ծրագրերի համակարգում և մոնիտորինգ | G16: =G18 -> 30000
F17: այդ թվում` ըստ կատարողների
F18: ՀՀ շրջակա միջավայրի նախարարություն | G18: =G20 -> 30000
F19: այդ թվում` բյուջետային ծախսերի տնտեսագիտական դասակարգման հոդվածներ
F20: ԸՆԴԱՄԵՆԸ ԾԱԽՍԵՐ | G20: =G21 -> 30000
F21: ԸՆԹԱՑԻԿ ԾԱԽՍԵՐ | G21: =G22 -> 30000
F22: ԱՇԽԱՏԱՆՔԻ ՎԱՐՁԱՏՐՈՒԹՅՈՒՆ | G22: =G24 -> 30000
F23: Դրամով վճարվող աշխատավարձեր և հավելավճարներ | G23: =G24 -> 30000
F24: - Աշխատողների աշխատավարձեր և հավելավճարներ | G24: ='N 1'!D15 -> 30000
A25: 05 | F25: ՇՐՋԱԿԱ ՄԻՋԱՎԱՅՐԻ ՊԱՇՏՊԱՆՈՒԹՅՈՒՆ | G25: =G27 -> -30000
F26: այդ թվում`
B27: 04 | F27: Կենսաբազմազանության և բնության պաշտպանություն | G27: =G29 -> -30000
F28: այդ թվում`
C29: 01 | F29: Կենսաբազմազանության և բնության պաշտպանություն | G29: =G31 -> -30000
F30: այդ թվում`
F31: ՀՀ շրջակա միջավայրի նախարարություն | G31: =G33 -> -30000
F32: այդ թվում`
D33: 1155 | F33: Բնական պաշարների և բնության հատուկ պահպանվող տարածքների կառավարում և պահպանում | G33: =G35+G43 -> -30000
F34: այդ թվում`
E35: 11001 | F35: Գերմանիայի զարգացման վարկերի բանկի (KFW) կողմից տրամադրվող դրամաշնորհային ծրագրի շրջանակներում ՀՀ Սյունիքի մարզի բնության հատուկ պահպանվող տարածքների կառավարման բարելավմանն ուղղված ծրագրերի իրականացում | G35: =G37 -> -31657.7
F36: այդ թվում` ըստ կատարողների
F37: ՀՀ շրջակա միջավայրի նախարարություն | G37: =G39 -> -31657.7
F38: այդ թվում` բյուջետային ծախսերի տնտեսագիտական դասակարգման հոդվածներ
F39: ԸՆԴԱՄԵՆԸ ԾԱԽՍԵՐ | G39: =G40 -> -31657.7
F40: ԸՆԹԱՑԻԿ ԾԱԽՍԵՐ | G40: =G41 -> -31657.7
F41: ԱՅԼ ԾԱԽՍԵՐ | G41: =G42 -> -31657.7
...

Sheet  N 3
B1: Հավելված 3 ՀՀ կառավարության 2023 թվականի____________ի N _____-Ն որոշման
A3: ՀԱՅԱՍՏԱՆԻ ՀԱՆՐԱՊԵՏՈՒԹՅԱՆ ԿԱՌԱՎԱՐՈՒԹՅԱՆ 2022 ԹՎԱԿԱՆԻ ԴԵԿՏԵՄԲԵՐԻ 29-Ի N 2111-Ն ՈՐՈՇՄԱՆ NN9 ԵՎ 9.1 ՀԱՎԵԼՎԱԾՆԵՐԻ NN 9.12 ԵՎ 9.1.12 ԱՂՅՈՒՍԱԿՆԵՐՈՒՄ ԿԱՏԱՐՎՈՂ ՓՈՓՈԽՈՒԹՅՈՒՆՆԵՐԸ
A4: ՀՀ շրջակա միջավայրի նախարարություն
A5: Ծրագրի դասիչը | B5: Ծրագրի անվանումը
A6: 1071 | B6: Շրջակա միջավայրի ոլորտում պետական քաղաքականության մշակում, ծրագրերի համակարգում և մոնիտորինգ
A8: Ծրագրի դասիչը` | B8: 1071 | C8: Ցուցանիշների փոփոխությունը (ավելացումները նշված են դրական նշանով)
A9: Միջոցառման դասիչը` | B9: 11001 | C9: Տարի
A10: Միջոցառման անվանումը` | B10: Շրջակա միջավայրի ոլորտում քաղաքականության մշակում, ծրագրերի համակարգում և մոնիտորինգ
A11: Նկարագրությունը` | B11: Շրջակա միջավայրի պահպանությանն ուղղված օրենսդրական դաշտի բարելավում, իրականացվող ծրագրերի արդյունավետության ապահովում
A12: Միջոցառման տեսակը` | B12: Ծառայությունների մատուցում
A13: Միջոցառումն իրականացնողի անվանումը՛ | B13: Շրջակա միջավայրի նախարարություն
A14: Արդյունքի չափորոշիչներ
A15: Միջոցառման վրա կատարվող ծախսը (հազար դրամ) | C15: ='N 2'!G15 -> 30000
A17: Ծրագրի դասիչը | B17: Ծրագրի անվանումը
A18: 1155 | B18: Բնական պաշարների և բնության հատուկ պահպանվող տարածքների կառավարում և պահպանում
A20: Ծրագրի դասիչը` | B20: 1155 | C20: Ցուցանիշների փոփոխությունը (նվազեցումները նշված են փակագծերում)
A21: Միջոցառման դասիչը` | B21: 11001 | C21: Տարի
A22: Միջոցառման անվանումը` | B22: Գերմանիայի զարգացման վարկերի բանկի (KFW) կողմից տրամադրվող դրամաշնորհային ծրագրի շրջանակներում ՀՀ Սյունիքի մարզի բնության հատուկ պահպանվող տարածքների կառավարման բարելավմանն ուղղված ծրագրերի իրականացում
A23: Նկարագրությունը` | B23: ՀՀ Սյունիքի մարզի բնության հատուկ պահպանվող տարածքների կառավարման և հարակից համայնքների սոցիալ-տնտեսական վիճակի բարելավմանն ուղղված ծրագրերի մշակման և նախագծման աշխատանքների իրականացում
A24: Միջոցառման տեսակը` | B24: Ծառայությունների մատուցում
A25: Միջոցառումն իրականացնողի անվանումը՛ | B25: Մասնագիտացված միավոր
A26: Արդյունքի չափորոշիչներ
A27: Միջոցառման վրա կատարվող ծախսը (հազար դրամ) | C27: ='N 2'!G35 -> -31657.7
A29: Ծրագրի դասիչը` | B29: 1155 | C29: Ցուցանիշների փոփոխությունը (ավելացումները նշված են դրական նշանով)
A30: Միջոցառման դասիչը` | B30: 12002 | C30: Տարի
A31: Միջոցառման անվանումը` | B31: Գերմանիայի զարգացման վարկերի բանկի (KFW) կողմից տրամադրվող դրամաշնորհային ծրագրի շրջանակներում ՀՀ Սյունիքի մարզի բնության հատուկ պահպանվող տարածքների հարակից համայնքների սոցիալ-տնտեսական վիճակի բարելավմանն ուղղված աջակցություն
A32: Նկարագրությունը` | B32: ՀՀ Սյունիքի մարզի բնության հատուկ պահպանվող տարածքների և հարակից համայնքներին սոցիալ-տնտեսական վիճակի բարելավման նպատակով աջակցության ցուցաբերում
A33: Միջոցառման տեսակը` | B33: Տրանսֆերտների տրամադրում
A34: Շահառուների ընտրության չափանիշները՛ | B34: ՀՀ բնապահպանության նախարարության և KFW -ի միջև 28.05.2013թ կնքված «Առանձին համաձայնագիր»
A35: Արդյունքի չափորոշիչներ
A36: Միջոցառման վրա կատարվող ծախսը (հազար դրամ) | C36: ='N 2'!G43 -> 1657.7

Sheet N 4
D1: Հավելված 4 ՀՀ կառավարության 2023 թվականի____________ի N _____-Ն որոշման
A3: «ՀԱՅԱՍՏԱՆԻ ՀԱՆՐԱՊԵՏՈՒԹՅԱՆ 2023 ԹՎԱԿԱՆԻ ՊԵՏԱԿԱՆ ԲՅՈՒՋԵԻ ՄԱՍԻՆ» ՀԱՅԱՍՏԱՆԻ ՀԱՆՐԱՊԵՏՈՒԹՅԱՆ ՕՐԵՆՔԻ N 1 ՀԱՎԵԼՎԱԾԻ N 5 ԱՂՅՈՒՍԱԿՈՒՄ ԵՎ «ՀԱՅԱՍՏԱՆԻ ՀԱՆՐԱՊԵՏՈՒԹՅԱՆ 2023 ԹՎԱԿԱՆԻ ՊԵՏԱԿԱՆ ԲՅՈՒՋԵԻ ԿԱՏԱՐՈՒՄՆ ԱՊԱՀՈՎՈՂ ՄԻՋՈՑԱՌՈՒՄՆԵՐԻ ՄԱՍԻՆ» ՀԱՅԱՍՏԱՆԻ ՀԱՆՐԱՊԵՏՈՒԹՅԱՆ ԿԱՌԱՎԱՐՈՒԹՅԱՆ 2022 ԹՎԱԿԱՆԻ ԴԵԿՏԵՄԲԵՐԻ 29-Ի N 2111-Ն ՈՐՈՇՄԱՆ N 5 ՀԱՎԵԼՎԱԾԻ N 4 ԱՂՅՈՒՍԱԿՈՒՄ ԿԱՏԱՐՎՈՂ ՓՈՓՈԽՈՒԹՅՈՒՆՆԵՐԸ
E4: (հազար դրամներով)
A5: Ծրագրային դասիչը | C5: Բյուջետային հատկացումների գլխավոր կարգադրիչների, ծրագրերի, միջոցառումների և միջոցառումները կատարող պետական մարմինների անվանումները | D5: Տարի
A6: Ծրագիր | B6: Միջոց_x000D_ առում | D6: Ընդամենը | E6: այդ թվում
E7: Դրամաշնոր_x000D_ հային միջոցներ | F7: Համաֆինանս ավորում
C8: ԸՆԴԱՄԵՆԸ_x000D_ | D8: =E8+F8 -> -30000 | E8: =E10 -> 0 | F8: =+F10 -> -30000
C9: այդ թվում`
C10: - ԸՆԹԱՑԻԿ ԾԱԽՍԵՐ | D10: =E10+F10 -> -30000 | E10: =E16+E22 -> 0 | F10: =F16+F22 -> -30000
C11: - ՈՉ ՖԻՆԱՆՍԱԿԱՆ ԱԿՏԻՎՆԵՐԻ ԳԾՈՎ ԾԱԽՍԵՐ | D11: =D17+D23 -> 0 | E11: =E17+E23 -> 0 | F11: -
C12: ՀՀ ՇՐՋԱԿԱ ՄԻՋԱՎԱՅՐԻ ՆԱԽԱՐԱՐՈՒԹՅՈՒՆ_x000D_ | D12: =E12+F12 -> -30000 | E12: =+E14 -> 0 | F12: =+F14 -> -30000
C13: այդ թվում՝
A14: 1155 | C14: Բնական պաշարների և բնության հատուկ պահպանվող տարածքների կառավարում և պահպանում | D14: =E14+F14 -> -30000 | E14: =+E16+E22 -> 0 | F14: =F16+F22 -> -30000
C15: այդ թվում`
B16: 11001 | C16: Գերմանիայի զարգացման վարկերի բանկի (KFW) կողմից տրամադրվող դրամաշնորհային ծրագրի շրջանակներում ՀՀ Սյունիքի մարզի բնության հատուկ պահպանվող տարածքների կառավարման բարելավմանն ուղղված ծրագրերի իրականացում | D16: =E16+F16 -> -31657.7 | E16: =E18 -> 0 | F16: =F18 -> -31657.7
C17: այդ թվում` ըստ կատարողների
C18: ՀՀ շրջակա միջավայրի նախարարություն | D18: =E18+F18 -> -31657.7 | E18: =E20 -> 0 | F18: =F20 -> -31657.7
C19: այդ թվում` բյուջետային ծախսերի տնտեսագիտական դասակարգման հոդվածներ
C20: ԸՆԹԱՑԻԿ ԾԱԽՍԵՐ | D20: =D21 -> -31657.7 | E20: =E21 -> 0 | F20: =F21 -> -31657.7
C21: - Այլ ծախսեր | D21: =E21+F21 -> -31657.7 | E21: 0 | F21: ='N 1'!D28 -> -31657.7
B22: 12002 | C22: Գերմանիայի զարգացման վարկերի բանկի (KFW) կողմից տրամադրվող դրամաշնորհային ծրագրի շրջանակներում ՀՀ Սյունիքի մարզի բնության հատուկ պահպանվող տարածքների հարակից համայնքների սոցիալ-տնտեսական վիճակի բարելավմանն ուղղված աջակցություն | D22: =E22+F22 -> 1657.7 | E22: =E24 -> 0 | F22: =F24 -> 1657.7
C23: այդ թվում` ըստ կատարողների
C24: ՀՀ շրջակա միջավայրի նախարարություն | D24: =E24+F24 -> 1657.7 | E24: =E26 -> 0 | F24: =F26 -> 1657.7
C25: այդ թվում` բյուջետային ծախսերի տնտեսագիտական դասակարգման հոդվածներ
C26: ԸՆԹԱՑԻԿ ԾԱԽՍԵՐ | D26: =E26+F26 -> 1657.7 | E26: =E27 -> 0 | F26: =F27 -> 1657.7
C27: - Նվիրատվություն այլ շահույթ չհետապնդող կազմակերպություններին | D27: =E27+F27 -> 1657.7 | E27: 0 | F27: =-F21-30000 -> 1657.7
