Workbook
Name a: #REF!
Name AgencyCode: #REF!
Name AgencyName: #REF!
Name davit: #REF!
Name Functional1: #REF!
Name ggg: #REF!
Name HAVELVAC10: #REF!
Name PANature: #REF!
Name PAType: #REF!
Name Performance2: #REF!
Name PerformanceType: #REF!
Name Հավելված: #REF!
Name Մաս: #REF!
Name շախմատիստ: #REF!

Sheet havelvac 1
C1: Հավելված N 1
C2: ՀՀ կառավարության 2023 թվականի
C3: ______________ ի ___Ն որոշման
A4: «ՀԱՅԱՍՏԱՆԻ ՀԱՆՐԱՊԵՏՈՒԹՅԱՆ 2023 ԹՎԱԿԱՆԻ ՊԵՏԱԿԱՆ ԲՅՈՒՋԵԻ ՄԱՍԻՆ» ՕՐԵՆՔԻ N 1 ՀԱՎԵԼՎԱԾԻ N 2 ԱՂՅՈՒՍԱԿՈՒՄ ԿԱՏԱՐՎՈՂ ՎԵՐԱԲԱՇԽՈՒՄԸ ԵՎ ՀԱՅԱՍՏԱՆԻ ՀԱՆՐԱՊԵՏՈՒԹՅԱՆ ԿԱՌԱՎԱՐՈՒԹՅԱՆ 2022 ԹՎԱԿԱՆԻ ԴԵԿՏԵՄԲԵՐԻ 29-Ի N 2111-Ն ՈՐՈՇՄԱՆ N 5 ՀԱՎԵԼՎԱԾԻ N 1 ԱՂՅՈՒՍԱԿՈՒՄ ԿԱՏԱՐՎՈՂ ՓՈՓՈԽՈՒԹՅՈՒՆՆԵՐԸ ԵՎ ԼՐԱՑՈՒՄՆԵՐԸ
D5: հազար դրամ
A6: Ծրագրային դասիչը | C6: Բյուջետային հատկացումների գլխավոր կարգադրիչների, ծրագրերի և միջոցառումների անվանումները | D6: Ցուցանիշների փոփոխությունը (ավելացումները նշված են դրական նշանով, իսկ նվազեցումները՝ փակագծերում)
A7: ծրագիր | B7: միջոցառում | D7: Տարի
C8: ԸՆԴԱՄԵՆԸ | D8: =D9+D48 -> -2.910383e-11
A9: ՀՀ Կրթության, գիտության, մշակույթի և սպորտի նախարարություն | D9: =D10+D22+D35 -> -2.910383e-11
A10: 1162 | C10: Ծրագրի անվանումը` | D10: =D16 -> -264653.4
C11: Գիտական և գիտատեխնիկական հետազոտությունների ծրագիր
C12: Ծրագրի նպատակը`
C13: Գիտական և գիտատեխնիկական գործունեության հիմնարար, կիրառական և թեմատիկ հետազոտությունների իրականացում, ենթակառուցվածքի և ազգային արժեք ներկայացնող գիտական օբյեկտների պահպանում և զարգացում, գիտական ներուժի վերարտադրության ապահովում£
C14: Վերջնական արդյունքի նկարագրությունը`
C15: Գիտության և տեխնիկայի զարգացման գերակա ուղղությունների հետազոտությունների իրականացում, գիտական ներուժի զարգացում, ազգային արժեք ներկայացնող գիտական օբյեկտների պահպանում
B16: 11005 | C16: Միջոցառման անվանումը` | D16: =-257722.9-13861/2 -> -264653.4
C17: Գիտական և գիտատեխնիկական պայմանագրային (թեմատիկ) հետազոտություններ
C18: Միջոցառման նկարագրությունը`
C19: Գիտական և գիտատեխնիկական գործունեության պայմանագրային (թեմատիկ) հետազոտություններ
C20: Միջոցառման տեսակը
C21: Ծառայությունների մատուցում
A22: 1111 | C22: Ծրագրի անվանումը` | D22: =D29 -> 257722.9
C23: Բարձրագույն և հետբուհական մասնագիտական կրթության ծրագիր
C24: Ծրագրի նպատակը`
C25: Ապահովել մատչելի, որակյալ և մրցունակ բարձրագույն և հետբուհական մասնագիտական կրթություն
C26: Վերջնական արդյունքի նկարագրությունը`
C27: Գիտելիքների տնտեսության և գիտության զարգացման արդի պահանջներին համապատասխան բարձրագույն և հետբուհական մասնագիտական որակավորում ունեցող մասնագետների պատրաստում
A28: Ծրագրի միջոցառումներ
B29: 12012 | C29: Միջոցառման անվանումը` | D29: 257722.9
C30: Լեռնային Ղարաբաղից բռնի տեղահանված ընտանիքների Հայաստանի Հանրապետության բարձրագույն և հետբուհական մասնագիտական կրթական ծրագրեր իրականացնող ուսումնական հաստատություններում սովորող ուսանողների ուսման վարձի փոխհատուցում
C31: Միջոցառման նկարագրությունը`
C32: Մինչև 2023 թվականի սեպտեմբերի 19-ն Հայաստանի Հանրապետության բարձրագույն և հետբուհական մասնագիտական կրթական ծրագրեր իրականացնող ուսումնական հաստատությունների վճարովի ուսուցման համակարգում ընդգրկված Լեռնային Ղարաբաղից բռնի տեղահանված ընտանիքների ուսանողներին ուսման վարձի փոխհատուցման նպատակով ուսանողական նպաստի տրամադրում
C33: Միջոցառման տեսակը
C34: Տրանսֆերտների տրամադրում
A35: 1045 | C35: Ծրագրի անվանումը` | D35: =D42 -> 6930.5
C36: Նախնական (արհեստագործական) և միջին մասնագիտական կրթություն
C37: Ծրագրի նպատակը`
C38: Աշխատաշուկայի արդի պահանջներին համապատասխան նախնական մասնագիտական (արհեստագործական) և միջին մասնագիտական կրթության որակավորում ունեցող մասնագետների պատրաստում, կրթության մատչելիության ապահովում:
C39: Վերջնական արդյունքի նկարագրությունը`
C40: Նախնական (արհեստագործական) և միջին մասնագիտական կրթության գրավչության բարձրացում, մատչելի և մրցունակ նախնական (արհեստագործական) և միջին մասնագիտական կրթության ապահովում
A41: Ծրագրի միջոցառումներ
B42: 12011 | C42: Միջոցառման անվանումը` | D42: =13861/2 -> 6930.5
C43: Լեռնային Ղարաբաղից բռնի տեղահանված ընտանիքների Հայաստանի Հանրապետության նախնական (արհեստագործական) և միջին մասնագիտական կրթական ծրագրեր իրականացնող ուսումնական հաստատություններում սովորող ուսանողների ուսման վարձի փոխհատուցում
C44: Միջոցառման նկարագրությունը`
C45: Մինչև 2023 թվականի սեպտեմբերի 19-ն Հայաստանի Հանրապետության նախնական (արհեստագործական) և միջին մասնագիտական կրթական ծրագրեր իրականացնող ուսումնական հաստատությունների վճարովի ուսուցման համակարգում ընդգրկված Լեռնային Ղարաբաղից բռնի տեղահանված ընտանիքների ուսանողներին ուսման վարձի փոխհատուցման նպատակով ուսանողական նպաստի տրամադրում
C46: Միջոցառման տեսակը
C47: Տրանսֆերտների տրամադրում
A48: ՀՀ կառավարություն | D48: =+D50 -> 0
A49: 1139 | C49: Ծրագրի անվանումը`
C50: ՀՀ կառավարության պահուստային ֆոնդ | D50: =D56+D62 -> 0
C51: Ծրագրի նպատակը`
C52: Պետական բյուջեում չկանխատեսված, ինչպես նաև բյուջետային երաշխիքների ապահովման ծախսերի ֆինանսավորման ապահովում
C53: Վերջնական արդյունքի նկարագրությունը`
C54: Պահուստային ֆոնդի կառավարման արդյունավետության և թափանցիկության ապահովում
A55: Ծրագրի միջոցառումներ
B56: 11001 | C56: Միջոցառման անվանումը` | D56: =257722.9+13861/2 -> 264653.4
C57: ՀՀ կառավարության պահուստային ֆոնդ
C58: Միջոցառման նկարագրությունը`
C59: ՀՀ պետական բյուջեում նախատեսված ելքերի լրացուցիչ ֆինանսավորման՝ պետական բյուջեում չկանխատեսված ելքերի, ինչպես նաև բյուջետային երաշխիքների ապահովման ելքերի ֆինանսավորման ապահովում
C60: Միջոցառման տեսակը`
C61: Ծառայությունների մատուցում
B62: 11001 | C62: Միջոցառման անվանումը` | D62: =-257722.9-13861/2 -> -264653.4
C63: ՀՀ կառավարության պահուստային ֆոնդ
C64: Միջոցառման նկարագրությունը`
C65: ՀՀ պետական բյուջեում նախատեսված ելքերի լրացուցիչ ֆինանսավորման՝ պետական բյուջեում չկանխատեսված ելքերի, ինչպես նաև բյուջետային երաշխիքների ապահովման ելքերի ֆինանսավորման ապահովում
C66: Միջոցառման տեսակը
C67: Ծառայությունների մատուցում

Sheet havelvac 2
F1: Հավելված N 2
F2: ՀՀ կառավարության 2023 թվականի
F3: ______________ ի ___Ն որոշման
A4: ՀԱՅԱՍՏԱՆԻ ՀԱՆՐԱՊԵՏՈՒԹՅԱՆ ԿԱՌԱՎԱՐՈՒԹՅԱՆ 2022 ԹՎԱԿԱՆԻ ԴԵԿՏԵՄԲԵՐԻ 29-Ի N 2111-Ն ՈՐՈՇՄԱՆ N 3 ԵՎ N 4 ՀԱՎԵԼՎԱԾՆԵՐՈՒՄ ԿԱՏԱՐՎՈՂ ՓՈՓՈԽՈՒԹՅՈՒՆՆԵՐԸ ԵՎ ԼՐԱՑՈՒՄՆԵՐ
G5: հազար դրամ
A6: Գործառական դասիչը | D6: Ծրագրային դասիչը | F6: Բյուջետային ծախսերի գործառական դասակարգման բաժինների, խմբերի և դասերի, բյուջետային ծրագրերի միջոցառումների, բյուջետային հատկացումների գլխավոր կարգադրիչների անվանումները | G6: Ցուցանիշների փոփոխություն (ավելացումները նշված են դրական նշանով, իսկ նվազեցումները՝ փակագծերում)
A7: Բաժին | B7: Խումբ | C7: Դաս | D7: Ծրագիր | E7: Միջոցառում | G7: Տարի
F8: ԸՆԴԱՄԵՆԸ | G8: =G10+G63 -> 0
F9: այդ թվում`
F10: ՀՀ Կրթության, գիտության, մշակույթի և սպորտի նախարարություն | G10: =G12+G29 -> 0
F11: այդ թվում`
A12: 01 | F12: ԸՆԴՀԱՆՈՒՐ ԲՆՈՒՅԹԻ ՀԱՆՐԱՅԻՆ ԾԱՌԱՅՈՒԹՅՈՒՆՆԵՐ | G12: =+G14 -> -264653.4
F13: այդ թվում`
B14: 05 | F14: Ընդհանուր բնույթի հանրային ծառայությունների գծով հետազոտական և նախագծային աշխատանքներ | G14: =+G16 -> -264653.4
F15: այդ թվում`
C16: 01 | F16: Ընդհանուր բնույթի հանրային ծառայությունների գծով հետազոտական և նախագծային աշխատանքներ | G16: =+G18 -> -264653.4
F17: այդ թվում`
D18: 1162 | F18: Գիտական և գիտատեխնիկական հետազոտությունների ծրագիր | G18: =G20 -> -264653.4
F19: այդ թվում`
E20: 11005 | F20: Գիտական և գիտատեխնիկական պայմանագրային (թեմատիկ) հետազոտություններ | G20: =+G22 -> -264653.4
F21: այդ թվում` ըստ կատարողների
F22: ՀՀ կրթության, գիտության, մշակույթի և սպորտի նախարարության բարձրագույն կրթության և գիտության կոմիտե | G22: =+G24 -> -264653.4
F23: այդ թվում` բյուջետային ծախսերի տնտեսագիտական դասակարգման հոդվածներ
F24: ԸՆԴԱՄԵՆԸ ԾԱԽՍԵՐ | G24: =+G25 -> -264653.4
F25: ԸՆԹԱՑԻԿ ԾԱԽՍԵՐ | G25: =+G26 -> -264653.4
F26: ԴՐԱՄԱՇՆՈՐՀՆԵՐ | G26: =G27 -> -264653.4
F27: Ընթացիկ դրամաշնորհներ պետական հատվածի այլ մակարդակներին | G27: =G28 -> -264653.4
F28: - Այլ ընթացիկ դրամաշնորհներ | G28: ='havelvac 1'!D16 -> -264653.4
A29: 09 | F29: ԿՐԹՈՒԹՅՈՒՆ | G29: =G31+G46 -> 264653.4
F30: այդ թվում`
B31: 04 | F31: Բարձրագույն կրթություն | G31: =G33 -> 257722.9
F32: այդ թվում`
C33: 01 | F33: Բարձրագույն մասնագիտական կրթություն | G33: =G35 -> 257722.9
F34: այդ թվում`
D35: 1111 | F35: Բարձրագույն և հետբուհական մասնագիտական կրթության ծրագիր | G35: =G37 -> 257722.9
F36: այդ թվում`
E37: 12012 | F37: Լեռնային Ղարաբաղից բռնի տեղահանված ընտանիքների Հայաստանի Հանրապետության բարձրագույն և հետբուհական մասնագիտական կրթական ծրագրեր իրականացնող ուսումնական հաստատություններում սովորող ուսանողների ուսման վարձի փոխհատուցում | G37: =G39 -> 257722.9
F38: այդ թվում` ըստ կատարողների
F39: ՀՀ կրթության , գիտության, մշակույթի և սպորտի նախարարություն | G39: =G41 -> 257722.9
F40: այդ թվում` բյուջետային ծախսերի տնտեսագիտական դասակարգման հոդվածներ
F41: ԸՆԴԱՄԵՆԸ ԾԱԽՍԵՐ | G41: =G42 -> 257722.9
F42: ԸՆԹԱՑԻԿ ԾԱԽՍԵՐ | G42: =G43 -> 257722.9
F43: ՍՈՑԻԱԼԱԿԱՆ ՆՊԱՍՏՆԵՐ ԵՎ ԿԵՆՍԱԹՈՇԱԿՆԵՐ | G43: =G44 -> 257722.9
F44: Սոցիալական օգնության դրամական արտահայտությամբ նպաստներ (բյուջեից) | G44: =G45 -> 257722.9
F45: - Այլ նպաստներ բյուջեից | G45: ='havelvac 1'!D29 -> 257722.9
B46: 03 | F46: Նախնական մասնագիտական (արհեստագործական) և միջին մասնագիտական կրթություն | G46: =G48 -> 6930.5
F47: այդ թվում՝
C48: 02 | F48: Միջին մասնագիտական կրթություն | G48: =+G50 -> 6930.5
F49: այդ թվում՝
F50: ՀՀ կրթության , գիտության, մշակույթի և սպորտի նախարարություն | G50: =+G52 -> 6930.5
F51: այդ թվում՝
D52: 1045 | F52: Նախնական (արհեստագործական) և միջին մասնագիտական կրթություն | G52: =+G54 -> 6930.5
F53: այդ թվում՝
E54: 12011 | F54: Լեռնային Ղարաբաղից բռնի տեղահանված ընտանիքների Հայաստանի Հանրապետության նախնական (արհեստագործական) և միջին մասնագիտական կրթական ծրագրեր իրականացնող ուսումնական հաստատություններում սովորող ուսանողների ուսման վարձի փոխհատուցում | G54: =+G56 -> 6930.5
F55: այդ թվում` ըստ կատարողների
F56: ՀՀ կրթության , գիտության, մշակույթի և սպորտի նախարարություն | G56: =G58 -> 6930.5
F57: այդ թվում` բյուջետային ծախսերի տնտեսագիտական դասակարգման հոդվածներ
F58: ԸՆԴԱՄԵՆԸ ԾԱԽՍԵՐ | G58: =G59 -> 6930.5
F59: ԸՆԹԱՑԻԿ ԾԱԽՍԵՐ | G59: =+G60 -> 6930.5
F60: ՍՈՑԻԱԼԱԿԱՆ ՆՊԱՍՏՆԵՐ ԵՎ ԿԵՆՍԱԹՈՇԱԿՆԵՐ | G60: =+G61 -> 6930.5
F61: Սոցիալական օգնության դրամական արտահայտությամբ նպաստներ (բյուջեից) | G61: =+G62 -> 6930.5
F62: - Այլ նպաստներ բյուջեից | G62: ='havelvac 1'!D42 -> 6930.5
F63: ՀՀ կառավարություն | G63: =G65 -> 0
F64: այդ թվում`
A65: 11 | F65: ՀԻՄՆԱԿԱՆ ԲԱԺԻՆՆԵՐԻՆ ՉԴԱՍՎՈՂ ՊԱՀՈՒՍՏԱՅԻՆ ՖՈՆԴԵՐ | G65: =G67 -> 0
F66: այդ թվում`
B67: 01 | F67: ՀՀ կառավարության և համայնքների պահուստային ֆոնդ | G67: =G69 -> 0
F68: այդ թվում`
C69: 01 | F69: ՀՀ կառավարության պահուստային ֆոնդ | G69: =G71 -> 0
F70: այդ թվում`
D71: 1139 | E71: ՀՀ կառավարության պահուստային ֆոնդ | G71: =G73+G81 -> 0
F72: այդ թվում`
E73: 11001 | F73: ՀՀ կառավարության պահուստային ֆոնդ | G73: =G75 -> 264653.4
F74: այդ թվում` ըստ կատարողների
F75: ՀՀ կառավարություն | G75: =G77 -> 264653.4
F76: այդ թվում՝ բյուջետային ծախսերի տնտեսագիտական դասակարգման հոդվածներ
F77: ԸՆԴԱՄԵՆԸ ԾԱԽՍԵՐ | G77: =G78 -> 264653.4
F78: ԸՆԹԱՑԻԿ ԾԱԽՍԵՐ | G78: =G79 -> 264653.4
F79: ԱՅԼ ԾԱԽՍԵՐ | G79: =G80 -> 264653.4
F80: Պահուստային միջոցներ | G80: ='havelvac 1'!D56 -> 264653.4
E81: 11001 | F81: ՀՀ կառավարության պահուստային ֆոնդ | G81: =G83 -> -264653.4
F82: այդ թվում` ըստ կատարողների
F83: ՀՀ կառավարություն | G83: =G85 -> -264653.4
F84: այդ թվում՝ բյուջետային ծախսերի տնտեսագիտական դասակարգման հոդվածներ
F85: ԸՆԴԱՄԵՆԸ ԾԱԽՍԵՐ | G85: =G86 -> -264653.4
F86: ԸՆԹԱՑԻԿ ԾԱԽՍԵՐ | G86: =G87 -> -264653.4
F87: ԱՅԼ ԾԱԽՍԵՐ | G87: =G88 -> -264653.4
F88: Պահուստային միջոցներ | G88: ='havelvac 1'!D62 -> -264653.4

Sheet havelvac 3
F1: Հավելված N 3
E2: ՀՀ կառավարության 2023 թվականի
F3: ______________ ի ___Ն որոշման
A5: ՀԱՅԱՍՏԱՆԻ ՀԱՆՐԱՊԵՏՈՒԹՅԱՆ ԿԱՌԱՎԱՐՈՒԹՅԱՆ 2022 ԹՎԱԿԱՆԻ ԴԵԿՏԵՄԲԵՐԻ 29-Ի N 2111-Ն ՈՐՈՇՄԱՆ N 5 ՀԱՎԵԼՎԱԾԻ N 7.1 ԱՂՅՈՒՍԱԿՈՒՄ ԿԱՏԱՐՎՈՂ ՓՈՓՈԽՈՒԹՅՈՒՆԸ
H8: հազար դրամներով
A10: Ծրագրային դասիչը | C10: Բյուջետային հատկացումների գլխավոր կարգադրիչների, ծրագրերի, միջոցառումների, ծախսային ուղղությունների անվանումները | F10: Միջոցառումները կատարող պետական մարմինների և դրամաշնորհ ստացող տնտեսվարող սուբյեկտների անվանումները | G10: Գերատեսչական պատկանելություն | H10: Ցուցանիշների փոփոխությունը (նվազեցումները նշված են փակագծերում)
A11: Ծրագիր | B11: Միջոցառում | H11: Տարի
A12: ԸՆԴԱՄԵՆԸ | H12: =H13 -> -264653.4
A13: ՀՀ կրթության, գիտության, մշակույթի և սպորտի նախարարություն | H13: =H14 -> -264653.4
A14: 1162 | B14: Գիտական և գիտատեխնիկական հետազոտությունների ծրագիր | H14: =H15 -> -264653.4
B15: 11005 | C15: Գիտական և գիտատեխնիկական գործունեության պայմանագրային (թեմատիկ) հետազոտություններ | F15: ԸՆԴԱՄԵՆԸ- ՀՀ կրթության, գիտության, մշակույթի և սպորտի նախարարության բարձրագույն կրթության և գիտության կոմիտե | H15: =H17 -> -264653.4
B16: այդ թվում՝ ըստ ուղղությունների
F17: Պայմանագրային (թեմատիկ) հետազոտություններ | G17: մրցույթով ընտրված գիտահետազոտական խմբեր | H17: =H18 -> -264653.4
F18: Պայմանագրային (թեմատիկ) հետազոտությունների գիտական թեմաների ֆինանսավորում | G18: մրցույթով ընտրված գիտահետազոտական խմբեր | H18: ='havelvac 1'!D16 -> -264653.4

Sheet havelvac 4
G1: Հավելված N 4
F2: ՀՀ կառավարության 2023 թվականի
G3: ______________ ի ___Ն որոշման
B5: ՀԱՅԱՍՏԱՆԻ ՀԱՆՐԱՊԵՏՈՒԹՅԱՆ ԿԱՌԱՎԱՐՈՒԹՅԱՆ 2022 ԹՎԱԿԱՆԻ ԴԵԿՏԵՄԲԵՐԻ 29-Ի N 2111-Ն ՈՐՈՇՄԱՆ N 5 ՀԱՎԵԼՎԱԾԻ N 7.2 ԱՂՅՈՒՍԱԿՈՒՄ ԿԱՏԱՐՎՈՂ ՓՈՓՈԽՈՒԹՅՈՒՆԸ
H7: հազար դրամներով
B8: Ծրագրային դասիչը | D8: Բյուջետային հատկացումների գլխավոր կարգադրիչների, ծրագրերի, միջոցառումների անվանումները | F8: Միջոցառումներն կատարող պետական մարմինների անվանումները | G8: Գերատեսչական պատկանելություն | H8: Ցուցանիշների փոփոխությունը (նվազեցումները նշված են փակագծերում)
B9: Ծրագիր | C9: Միջոցառում
D10: ԸՆԴԱՄԵՆԸ | H10: =H11 -> -264653.4
C11: ՀՀ կրթության, գիտության, մշակույթի և սպորտի նախարարություն | H11: =H12 -> -264653.4
B12: 1162 | D12: Գիտական և գիտատեխնիկական հետազոտությունների ծրագիր | H12: =H13 -> -264653.4
C13: 11005 | D13: Գիտական և գիտատեխնիկական գործունեության պայմանագրային (թեմատիկ) հետազոտություններ | F13: ՀՀ կրթության, գիտության, մշակույթի և սպորտի նախարարության բարձրագույն կրթության և գիտության կոմիտե | H13: ='havelvac 3'!H18 -> -264653.4

Sheet havelvac 5
B1: Հավելված N 5
B2: ՀՀ կառավարության 2023 թվականի
B3: ______________ ի ___Ն որոշման
A5: ՀԱՅԱՍՏԱՆԻ ՀԱՆՐԱՊԵՏՈՒԹՅԱՆ ԿԱՌԱՎԱՐՈՒԹՅԱՆ 2022 ԹՎԱԿԱՆԻ ԴԵԿՏԵՄԲԵՐԻ 29-Ի N 2111-Ն ՈՐՈՇՄԱՆ N 9 ՀԱՎԵԼՎԱԾԻ NN 9.13 և 9․47 ԱՂՅՈՒՍԱԿՈՒՄ ԿԱՏԱՐՎՈՂ ՓՈՓՈԽՈՒԹՅՈՒՆՆԵՐԸ ԵՎ ԼՐԱՑՈՒՄՆԵՐԸ
A6: Աղյուսակ 9․13
A7: ՀՀ կրթության, գիտության, մշակույթի և սպորտի նախարարություն
A8: ՄԱՍ 2. ՊԵՏԱԿԱՆ ՄԱՐՄՆԻ ԳԾՈՎ ԱՐԴՅՈՒՆՔԱՅԻՆ (ԿԱՏԱՐՈՂԱԿԱՆ) ՑՈՒՑԱՆԻՇՆԵՐԸ
A10: Ծրագրի դասիչը | B10: Ծրագրի անվանումը
A11: 1162 | B11: Գիտական և գիտատեխնիկական հետազոտությունների ծրագիր
A13: Ծրագրի միջոցառումները
A14: Ծրագրի դասիչը՝ | B14: 1162 | C14: Ցուցանիշների փոփոխություն (նվազեցումները նշված են փակագծերում )
A15: Միջոցառման դասիչը` | B15: 11005 | C15: Տարի
A16: Միջոցառման անվանումը` | B16: Գիտական և գիտատեխնիկական պայմանագրային (թեմատիկ) հետազոտություններ
A17: Նկարագրությունը` | B17: Գիտական և գիտատեխնիկական գործունեության պայմանագրային (թեմատիկ) հետազոտություններ
A18: Միջոցառման տեսակը` | B18: Ծառայությունների մատուցում
A19: Միջոցառումն իրականացնողի անվանումը՛ | B19: ՀՀ կառավարության 2001 թ. նոյեմբերի 17-ի Գիտական և գիտատեխնիկական գործունեության պայմանագրային (թեմատիկ) ֆինանսավորման կարգը հաստատելու մասին N1122 որոշման համաձայն մրցույթային կարգով ընտրված գիտական թեմաների ղեկավարներ
A20: Արդյունքի չափորոշիչներ
A21: Թեմաների թիվ, հատ, այդ թվում՛ | C21: -20
A22: Թեմաներում ներգրավված կանանց թվաքանակ, մարդ | C22: -25
A23: Միջազգային գիտական ծրագրերի թիվ, հատ, այդ թվում՛ | C23: -10
A24: Միջոցառման վրա կատարվող ծախսը (հազար դրամ) | C24: ='havelvac 2'!G20 -> -264653.4
A27: Ծրագրի դասիչը | B27: Ծրագրի անվանումը
A28: 1111 | B28: Բարձրագույն և հետբուհական մասնագիտական կրթության ծրագիր
A30: Ծրագրի միջոցառումները
A32: Ծրագրի դասիչը` | B32: 1111 | C32: Ցուցանիշների փոփոխություն (ավելացումները նշված են դրական նշանով )
A33: Միջոցառման դասիչը` | B33: 12012 | C33: Տարի
A34: Միջոցառման անվանումը` | B34: Լեռնային Ղարաբաղից բռնի տեղահանված ընտանիքների Հայաստանի Հանրապետության բարձրագույն և հետբուհական մասնագիտական կրթական ծրագրեր իրականացնող ուսումնական հաստատություններում սովորող ուսանողների ուսման վարձի փոխհատուցում
A35: Նկարագրությունը` | B35: Մինչև 2023 թվականի սեպտեմբերի 19-ն Հայաստանի Հանրապետության բարձրագույն և հետբուհական մասնագիտական կրթական ծրագրեր իրականացնող ուսումնական հաստատությունների վճարովի ուսուցման համակարգում ընդգրկված Լեռնային Ղարաբաղից բռնի տեղահանված ընտանիքների ուսանողներին ուսման վարձի փոխհատուցման նպատակով ուսանողական նպաստի տրամադրում
A36: Միջոցառման տեսակը` | B36: Տրանսֆերտների տրամադրում
A37: Շահառուների ընտրության չափորոշիչը | B37: ՀՀ ԲՈՒՀ-երում և հետ ԲՈՒՀ-երում սովորող Լեռնային Ղարաբաղից բռնի տեղահանված ընտանիքների ուսանողներ
A38: Արդյունքի չափորոշիչներ
A39: Քանակական | B39: Ուսման վարձի փոխհատուցում ստացող ուսանողների թիվ, մարդ | C39: 860
A40: Միջոցառման վրա կատարվող ծախսը (հազար դրամ) | C40: ='havelvac 2'!G37 -> 257722.9
A42: Ծրագրի դասիչը | B42: Ծրագրի անվանումը
A43: 1045 | B43: Նախնական (արհեստագործական) և միջին մասնագիտական կրթություն
A45: Ծրագրի միջոցառումները
A47: Ծրագրի դասիչը` | B47: 1045 | C47: Ցուցանիշների փոփոխություն (ավելացումները նշված են դրական նշանով )
A48: Միջոցառման դասիչը` | B48: 12011 | C48: Տարի
A49: Միջոցառման անվանումը` | B49: Լեռնային Ղարաբաղից բռնի տեղահանված ընտանիքների Հայաստանի Հանրապետության նախնական (արհեստագործական) և միջին մասնագիտական կրթական ծրագրեր իրականացնող ուսումնական հաստատություններում սովորող ուսանողների ուսման վարձի փոխհատուցում
A50: Նկարագրությունը` | B50: Մինչև 2023 թվականի սեպտեմբերի 19-ն Հայաստանի Հանրապետության նախնական (արհեստագործական) և միջին մասնագիտական կրթական ծրագրեր իրականացնող ուսումնական հաստատությունների վճարովի ուսուցման համակարգում ընդգրկված Լեռնային Ղարաբաղից բռնի տեղահանված ընտանիքների ուսանողներին ուսման վարձի փոխհատուցման նպատակով ուսանողական նպաստի տրամադրում
A51: Միջոցառման տեսակը` | B51: Տրանսֆերտների տրամադրում
A52: Շահառուների ընտրության չափորոշիչը | B52: ՀՀ ՆՄԿՈՒ և ՄԿՈՒ հաստատություններում սովորող Լեռնային Ղարաբաղից բռնի տեղահանված ընտանիքների ուսանողներ
A53: Արդյունքի չափորոշիչներ
A54: Քանակական | B54: Ուսման վարձի փոխհատուցում ստացող ուսանողների թիվ, մարդ | C54: 75
A55: Միջոցառման վրա կատարվող ծախսը (հազար դրամ) | C55: ='havelvac 2'!G52 -> 6930.5
A56: Աղյուսակ 9․47
A57: ՀՀ կառավարություն
A58: ՄԱՍ 2. ՊԵՏԱԿԱՆ ՄԱՐՄՆԻ ԳԾՈՎ ԱՐԴՅՈՒՆՔԱՅԻՆ (ԿԱՏԱՐՈՂԱԿԱՆ) ՑՈՒՑԱՆԻՇՆԵՐԸ
A60: Ծրագրի դասիչը | B60: Ծրագրի անվանումը
A61: 1139 | B61: ՀՀ կառավարության պահուստային ֆոնդ
A63: Ծրագրի միջոցառումները
A65: Ծրագրի դասիչը՝ | B65: 1139 | C65: Ցուցանիշների փոփոխություն (ավելացումները նշված են դրական նշանով)
A66: Միջոցառման դասիչը՝ | B66: 11001 | C66: Տարի
A67: Միջոցառման անվանումը՝ | B67: ՀՀ կառավարության պահուստային ֆոնդ
A68: Նկարագրությունը՝ | B68: ՀՀ պետական բյուջեում նախատեսված ելքերի լրացուցիչ ֆինանսավորման՝ պետական բյուջեում չկանխատեսված ելքերի, ինչպես նաև բյուջետային երաշխիքների ապահովման ելքերի ֆինանսավորման ապահովում
A69: Միջոցառման տեսակը՝ | B69: Ծառայությունների մատուցում
A70: Միջոցառումն իրականացնողի անվանումը | B70: ՀՀ կառավարություն
A71: Արդյունքի չափորոշիչներ
A72: Միջոցառման վրա կատարվող ծախսը (հազար դրամ) | C72: ='havelvac 2'!G73 -> 264653.4
A74: Ծրագրի դասիչը՝ | B74: 1139 | C74: Ցուցանիշների փոփոխություն (նվազեցումները նշված են փակագծերում )
A75: Միջոցառման դասիչը՝ | B75: 11001 | C75: Տարի
A76: Միջոցառման անվանումը՝ | B76: ՀՀ կառավարության պահուստային ֆոնդ
A77: Նկարագրությունը՝ | B77: ՀՀ պետական բյուջեում նախատեսված ելքերի լրացուցիչ ֆինանսավորման՝ պետական բյուջեում չկանխատեսված ելքերի, ինչպես նաև բյուջետային երաշխիքների ապահովման ելքերի ֆինանսավորման ապահովում
A78: Միջոցառման տեսակը՝ | B78: Ծառայությունների մատուցում
A79: Միջոցառումն իրականացնողի անվանումը | B79: ՀՀ կառավարություն
A80: Արդյունքի չափորոշիչներ
A81: Միջոցառման վրա կատարվող ծախսը (հազար դրամ) | C81: ='havelvac 2'!G81 -> -264653.4

Sheet havelvac 6
B1: Հավելված N 6
B2: ՀՀ կառավարության 2023 թվականի
B3: ______________ ի ___Ն որոշման
A5: ՀԱՅԱՍՏԱՆԻ ՀԱՆՐԱՊԵՏՈՒԹՅԱՆ ԿԱՌԱՎԱՐՈՒԹՅԱՆ 2022 ԹՎԱԿԱՆԻ ԴԵԿՏԵՄԲԵՐԻ 29-Ի N 2111-Ն ՈՐՈՇՄԱՆ N 9.1 ՀԱՎԵԼՎԱԾԻ NN 9.1.13, 9.1.28 և 9.1.58 ԱՂՅՈՒՍԱԿՆԵՐՈՒՄ ԿԱՏԱՐՎՈՂ ՓՈՓՈԽՈՒԹՅՈՒՆՆԵՐԸ ԵՎ ԼՐԱՑՈՒՄՆԵՐԸ
A6: Աղյուսակ 9․1.28
A7: ՀՀ կրթության, գիտության, մշակույթի և սպորտի նախարարության բարձրագույն կրթության և գիտության կոմիտե
A8: ՄԱՍ 1. ՊԵՏԱԿԱՆ ՄԱՐՄՆԻ ԳԾՈՎ ԱՐԴՅՈՒՆՔԱՅԻՆ (ԿԱՏԱՐՈՂԱԿԱՆ) ՑՈՒՑԱՆԻՇՆԵՐԸ
A10: Ծրագրի դասիչը | B10: Ծրագրի անվանումը
A11: 1162 | B11: Գիտական և գիտատեխնիկական հետազոտությունների ծրագիր
A13: Ծրագրի միջոցառումները
A15: Ծրագրի դասիչը՝ | B15: 1162 | C15: Ցուցանիշների փոփոխությունը (նվազեցումները նշված են փակագծերում)
A16: Միջոցառման դասիչը` | B16: 11005 | C16: Տարի
A17: Միջոցառման անվանումը` | B17: Գիտական և գիտատեխնիկական պայմանագրային (թեմատիկ) հետազոտություններ
A18: Նկարագրությունը` | B18: Գիտական և գիտատեխնիկական գործունեության պայմանագրային (թեմատիկ) հետազոտություններ
A19: Միջոցառման տեսակը` | B19: Ծառայությունների մատուցում
A20: Միջոցառումն իրականացնողի անվանումը՛ | B20: ՀՀ կառավարության 2001 թ. նոյեմբերի 17-ի Գիտական և գիտատեխնիկական գործունեության պայմանագրային (թեմատիկ) ֆինանսավորման կարգը հաստատելու մասին N1122 որոշման համաձայն մրցույթային կարգով ընտրված գիտական թեմաների ղեկավարներ
A21: Արդյունքի չափորոշիչներ
A22: Թեմաների թիվ, հատ, այդ թվում՛ | C22: ='havelvac 5'!C21 -> -20
A23: Թեմաներում ներգրավված կանանց թվաքանակ, մարդ | C23: ='havelvac 5'!C22 -> -25
A24: Միջազգային գիտական ծրագրերի թիվ, հատ, այդ թվում՛ | C24: ='havelvac 5'!C23 -> -10
A25: Միջոցառման վրա կատարվող ծախսը (հազար դրամ) | C25: ='havelvac 5'!C24 -> -264653.4
A27: Աղյուսակ 9․1.13
A28: ՀՀ կրթության, գիտության, մշակույթի և սպորտի նախարարություն
A29: ՄԱՍ 1. ՊԵՏԱԿԱՆ ՄԱՐՄՆԻ ԳԾՈՎ ԱՐԴՅՈՒՆՔԱՅԻՆ (ԿԱՏԱՐՈՂԱԿԱՆ) ՑՈՒՑԱՆԻՇՆԵՐԸ
A31: Ծրագրի դասիչը | B31: Ծրագրի անվանումը
A32: 1111 | B32: Բարձրագույն և հետբուհական մասնագիտական կրթության ծրագիր
A34: Ծրագրի միջոցառումները
A36: Ծրագրի դասիչը` | B36: 1111 | C36: Ցուցանիշների փոփոխություն (ավելացումները նշված են դրական նշանով )
A37: Միջոցառման դասիչը` | B37: 12012 | C37: Տարի
A38: Միջոցառման անվանումը` | B38: Լեռնային Ղարաբաղից բռնի տեղահանված ընտանիքների Հայաստանի Հանրապետության բարձրագույն և հետբուհական մասնագիտական կրթական ծրագրեր իրականացնող ուսումնական հաստատություններում սովորող ուսանողների ուսման վարձի փոխհատուցում
A39: Նկարագրությունը` | B39: Մինչև 2023 թվականի սեպտեմբերի 19-ն Հայաստանի Հանրապետության բարձրագույն և հետբուհական մասնագիտական կրթական ծրագրեր իրականացնող ուսումնական հաստատությունների վճարովի ուսուցման համակարգում ընդգրկված Լեռնային Ղարաբաղից բռնի տեղահանված ընտանիքների ուսանողներին ուսման վարձի փոխհատուցման նպատակով ուսանողական նպաստի տրամադրում
A40: Միջոցառման տեսակը` | B40: Տրանսֆերտների տրամադրում
A41: Շահառուների ընտրության չափորոշիչը | B41: ՀՀ ԲՈՒՀ-երում և հետ ԲՈՒՀ-երում սովորող Լեռնային Ղարաբաղից բռնի տեղահանված ընտանիքների ուսանողներ
A42: Արդյունքի չափորոշիչներ
A43: Քանակական | B43: Ուսման վարձի փոխհատուցում ստացող ուսանողների թիվ, մարդ | C43: ='havelvac 5'!C39 -> 860
A44: Միջոցառման վրա կատարվող ծախսը (հազար դրամ) | C44: ='havelvac 2'!G42 -> 257722.9
A46: Ծրագրի դասիչը | B46: Ծրագրի անվանումը
A47: 1045 | B47: Նախնական (արհեստագործական) և միջին մասնագիտական կրթություն
A49: Ծրագրի միջոցառումները
A51: Ծրագրի դասիչը` | B51: 1045 | C51: Ցուցանիշների փոփոխություն (ավելացումները նշված են դրական նշանով )
A52: Միջոցառման դասիչը` | B52: 12011 | C52: Տարի
A53: Միջոցառման անվանումը` | B53: Լեռնային Ղարաբաղից բռնի տեղահանված ընտանիքների Հայաստանի Հանրապետության նախնական (արհեստագործական) և միջին մասնագիտական կրթական ծրագրեր իրականացնող ուսումնական հաստատություններում սովորող ուսանողների ուսման վարձի փոխհատուցում
A54: Նկարագրությունը` | B54: Մինչև 2023 թվականի սեպտեմբերի 19-ն Հայաստանի Հանրապետության նախնական (արհեստագործական) և միջին մասնագիտական կրթական ծրագրեր իրականացնող ուսումնական հաստատությունների վճարովի ուսուցման համակարգում ընդգրկված Լեռնային Ղարաբաղից բռնի տեղահանված ընտանիքների ուսանողներին ուսման վարձի փոխհատուցման նպատակով ուսանողական նպաստի տրամադրում
A55: Միջոցառման տեսակը` | B55: Տրանսֆերտների տրամադրում
A56: Շահառուների ընտրության չափորոշիչը | B56: ՀՀ ՆՄԿՈՒ և ՄԿՈՒ հաստատություններում սովորող Լեռնային Ղարաբաղից բռնի տեղահանված ընտանիքների ուսանողներ
A57: Արդյունքի չափորոշիչներ
A58: Քանակական | B58: Ուսման վարձի փոխհատուցում ստացող ուսանողների թիվ, մարդ | C58: 75
A59: Միջոցառման վրա կատարվող ծախսը (հազար դրամ) | C59: ='havelvac 2'!G56 -> 6930.5
A60: Աղյուսակ 9․1.58
A61: ՀՀ կառավարություն
A62: ՄԱՍ 1. ՊԵՏԱԿԱՆ ՄԱՐՄՆԻ ԳԾՈՎ ԱՐԴՅՈՒՆՔԱՅԻՆ (ԿԱՏԱՐՈՂԱԿԱՆ) ՑՈՒՑԱՆԻՇՆԵՐԸ
A64: Ծրագրի դասիչը | B64: Ծրագրի անվանումը
A65: 1139 | B65: ՀՀ կառավարության պահուստային ֆոնդ
A67: Ծրագրի միջոցառումները
A69: Ծրագրի դասիչը՝ | B69: 1139 | C69: Ցուցանիշների փոփոխություն (ավելացումները նշված են դրական նշանով)
A70: Միջոցառման դասիչը՝ | B70: 11001 | C70: Տարի
A71: Միջոցառման անվանումը՝ | B71: ՀՀ կառավարության պահուստային ֆոնդ
A72: Նկարագրությունը՝ | B72: ՀՀ պետական բյուջեում նախատեսված ելքերի լրացուցիչ ֆինանսավորման՝ պետական բյուջեում չկանխատեսված ելքերի, ինչպես նաև բյուջետային երաշխիքների ապահովման ելքերի ֆինանսավորման ապահովում
A73: Միջոցառման տեսակը՝ | B73: Ծառայությունների մատուցում
A74: Միջոցառումն իրականացնողի անվանումը | B74: ՀՀ կառավարություն
A75: Արդյունքի չափորոշիչներ
A76: Միջոցառման վրա կատարվող ծախսը (հազար դրամ) | C76: ='havelvac 5'!C72 -> 264653.4
A78: Ծրագրի դասիչը՝ | B78: 1139 | C78: Ցուցանիշների փոփոխություն (նվազեցումները նշված են փակագծերում)
A79: Միջոցառման դասիչը՝ | B79: 11001 | C79: Տարի
A80: Միջոցառման անվանումը՝ | B80: ՀՀ կառավարության պահուստային ֆոնդ
A81: Նկարագրությունը՝ | B81: ՀՀ պետական բյուջեում նախատեսված ելքերի լրացուցիչ ֆինանսավորման՝ պետական բյուջեում չկանխատեսված ելքերի, ինչպես նաև բյուջետային երաշխիքների ապահովման ելքերի ֆինանսավորման ապահովում
A82: Միջոցառման տեսակը՝ | B82: Ծառայությունների մատուցում
A83: Միջոցառումն իրականացնողի անվանումը | B83: ՀՀ կառավարություն
A84: Արդյունքի չափորոշիչներ
A85: Միջոցառման վրա կատարվող ծախսը (հազար դրամ) | C85: ='havelvac 5'!C81 -> -264653.4
