Workbook
Name AgencyCode: #REF!
Name AgencyCode: #REF!
Name AgencyCode: #REF!
Name AgencyName: #REF!
Name AgencyName: #REF!
Name AgencyName: #REF!
Name davit: #REF!
Name davit: #REF!
Name Functional1: #REF!
Name Functional1: #REF!
Name Functional1: #REF!
Name ggg: #REF!
Name ggg: #REF!
Name PANature: #REF!
Name PANature: #REF!
Name PANature: #REF!
Name PAType: #REF!
Name PAType: #REF!
Name PAType: #REF!
Name Performance2: #REF!
Name Performance2: #REF!
Name Performance2: #REF!
Name PerformanceType: #REF!
Name PerformanceType: #REF!
Name PerformanceType: #REF!
Name Հավելված: #REF!
Name Հավելված: #REF!
Name Մաս: #REF!
Name Մաս: #REF!
Name շախմատիստ: #REF!
Name շախմատիստ: #REF!

Sheet Havelvats 1
A1: Հավելված N 1
D2: ՀՀ կառավարության 2023 թվականի
D3: ______________ ի ___Ն որոշման
A5: «ՀԱՅԱUՏԱՆԻ ՀԱՆՐԱՊԵՏՈՒԹՅԱՆ 2023 ԹՎԱԿԱՆԻ ՊԵՏԱԿԱՆ ԲՅՈՒՋԵԻ ՄԱUԻՆ» ՀԱՅԱUՏԱՆԻ ՀԱՆՐԱՊԵՏՈՒԹՅԱՆ OՐԵՆՔԻ N 1 ՀԱՎԵԼՎԱԾԻ N 2 ԱՂՅՈՒՍԱԿՈՒՄ ԿԱՏԱՐՎՈՂ ՎԵՐԱԲԱՇԽՈՒՄԸ ԵՎ ՀԱՅԱՍՏԱՆԻ ՀԱՆՐԱՊԵՏՈՒԹՅԱՆ ԿԱՌԱՎԱՐՈՒԹՅԱՆ 2022 ԹՎԱԿԱՆԻ ԴԵԿՏԵՄԲԵՐԻ 29-Ի N 2111-Ն ՈՐՈՇՄԱՆ N 5 ՀԱՎԵԼՎԱԾԻ N 1 ԱՂՅՈՒՍԱԿՈՒՄ ԿԱՏԱՐՎՈՂ ՓՈՓՈԽՈՒԹՅՈՒՆՆԵՐԸ
D6: հազար դրամներով
A7: Ծրագրային դասիչը | C7: Բյուջետային հատկացումների գլխավոր կարգադրիչների, ծրագրերի և միջոցառումների անվանումները | D7: Ցուցանիշների փոփոխությունը (ավելացումները նշված են դրական նշանով, իսկ նվազեցումները՝ փակագծերում)
A8: Ծրագիր | B8: Միջոցառում | D8: Տարի
C9: ԸՆԴԱՄԵՆԸ | D9: =D11 -> 0
C10: այդ թվում
C11: ՀՀ ԿՐԹՈՒԹՅԱՆ, ԳԻՏՈՒԹՅԱՆ, ՄՇԱԿՈՒՅԹԻ ԵՎ ՍՊՈՐՏԻ ՆԱԽԱՐԱՐՈՒԹՅՈՒՆ | D11: =D12+D25 -> 0
A12: 1041 | C12: Ծրագրի անվանումը` | D12: =D19 -> 497070
C13: Մեծ նվաճումների սպորտ
C14: Ծրագրի նպատակը`
C15: Նպաստել Հայաստանում մեծ սպորտի շարունակական զարգացմանը և միջազգային հարթակներում ՀՀ դիրքի բարելավմանը
C16: Վերջնական արդյունքի նկարագրությունը`
C17: ՀՀ առաջնությունների ընդլայնում, միջազգային սպորտային միջոցառումներին մասնակցության և նվաճումների ապահովում
C18: Ծրագրի միջոցառումներ
B19: 12001 | C19: Միջոցառման անվանումը` | D19: 497070
C20: Միջազգային մարզական միջոցառումների հաղթողներին և մրցանակակիրներին դրամական մրցանակների հանձնում
C21: Միջոցառման նկարագրությունը`
C22: Միջազգային մարզական միջոցառումների հաղթողներին և մրցանակակիրներին դրամական մրցանակների հանձնում
C23: Միջոցառման տեսակը
C24: Տրանսֆերտների տրամադրում
A25: 1111 | C25: Ծրագրի անվանումը` | D25: =D32 -> -497070
C26: Բարձրագույն և հետբուհական մասնագիտական կրթության ծրագիր
C27: Ծրագրի նպատակը`
C28: Ապահովել մատչելի, որակյալ և մրցունակ բարձրագույն և հետբուհական մասնագիտական կրթություն:
C29: Վերջնական արդյունքի նկարագրությունը`
C30: Գիտելիքների տնտեսության և գիտության զարգացման արդի պահանջներին համապատասխան բարձրագույն և հետբուհական մասնագիտական որակավորում ունեցող մասնագետների պատրաստում
C31: Ծրագրի միջոցառումներ
B32: 12004 | C32: Միջոցառման անվանումը` | D32: -497070
C33: Բարձրագույն մասնագիտական կրթության գծով ուսանողական նպաստների տրամադրում
C34: Միջոցառման նկարագրությունը`
C35: Բարձրագույն մասնագիտական կրթություն ստացող ուսանողների նպաստներ
C36: Միջոցառման տեսակը
C37: Տրանսֆերտների տրամադրում

Sheet Havelvats 2 
A1: Հավելված N 2
G2: ՀՀ կառավարության 2023 թվականի
G3: ______________ ի ___Ն որոշման
A5: ՀԱՅԱՍՏԱՆԻ ՀԱՆՐԱՊԵՏՈՒԹՅԱՆ ԿԱՌԱՎԱՐՈՒԹՅԱՆ 2022 ԹՎԱԿԱՆԻ ԴԵԿՏԵՄԲԵՐԻ 29-Ի N2111-Ն ՈՐՈՇՄԱՆ N 3 ԵՎ N 4 ՀԱՎԵԼՎԱԾՆԵՐՈՒՄ ԿԱՏԱՐՎՈՂ ՓՈՓՈԽՈՒԹՅՈՒՆՆԵՐԸ
G8: հազար դրամներով
A9: Գործառական դասիչը | D9: Ծրագրային դասիչը | F9: Բյուջետային հատկացումների գլխավոր կարգադրիչների, ծրագրերի, միջոցառումների և միջոցառումները կատարող պետական մարմինների անվանումները | G9: Ցուցանիշների փոփոխությունը (ավելացումները նշված են դրական նշանով, իսկ նվազեցումները՝ փակագծերում)
A10: Բաժին | B10: Խումբ | C10: Դաս | D10: Ծրագիր | E10: Միջոցառում | G10: Տարի
A11: 08 | B11: 01 | C11: 01 | F11: ԸՆԴԱՄԵՆԸ | G11: =G13 -> 0
F12: այդ թվում
F13: ՀՀ ԿՐԹՈՒԹՅԱՆ, ԳԻՏՈՒԹՅԱՆ, ՄՇԱԿՈՒՅԹԻ ԵՎ ՍՊՈՐՏԻ ՆԱԽԱՐԱՐՈՒԹՅՈՒՆ | G13: =G14+G41 -> 0
F14: ՀԱՆԳԻՍՏ, ՄՇԱԿՈՒՅԹ ԵՎ ԿՐՈՆ | G14: =G16 -> 497070
F15: այդ թվում`
F16: Հանգստի և սպորտի ծառայություններ | G16: =G18 -> 497070
F17: այդ թվում`
F18: Հանգստի և սպորտի ծառայություններ | G18: =G20 -> 497070
F19: այդ թվում`
F20: ՀՀ կրթության, գիտության, մշակույթի և սպորտի նախարարություն | G20: =G22 -> 497070
F21: այդ թվում`
D22: 1041 | E22: Մեծ նվաճումների սպորտ | G22: =G24 -> 497070
F23: այդ թվում`
E24: 12001 | F24: Միջազգային մարզական միջոցառումների հաղթողներին և մրցանակակիրներին դրամական մրցանակների հանձնում | G24: =G26 -> 497070
F25: այդ թվում` ըստ կատարողների
F26: ՀՀ կրթության, գիտության, մշակույթի և սպորտի նախարարություն | G26: =G28 -> 497070
F27: այդ թվում՝ բյուջետային ծախսերի տնտեսագիտական դասակարգման հոդվածներ
F28: ԸՆԴԱՄԵՆԸ ԾԱԽՍԵՐ | G28: =G29 -> 497070
F29: ԸՆԹԱՑԻԿ ԾԱԽՍԵՐ | G29: =+G30 -> 497070
F30: ՍՈՑԻԱԼԱԿԱՆ ՆՊԱՍՏՆԵՐ ԵՎ ԿԵՆՍԱԹՈՇԱԿՆԵՐ | G30: =G31 -> 497070
F31: Սոցիալական օգնության դրամական արտահայտությամբ նպաստներ (բյուջեից) | G31: =+G32 -> 497070
F32: - Կրթական, մշակութային և սպորտային նպաստներ բյուջեից | G32: ='Havelvats 1'!D19 -> 497070
A33: 09 | B33: 04 | C33: 01 | F33: ԿՐԹՈՒԹՅՈՒՆ | G33: =G35 -> -497070
F34: այդ թվում`
F35: Բարձրագույն կրթություն | G35: =G37 -> -497070
F36: այդ թվում`
F37: Բարձրագույն մասնագիտական կրթություն | G37: =G39 -> -497070
F38: այդ թվում`
F39: ՀՀ կրթության, գիտության, մշակույթի և սպորտի նախարարություն | G39: =G41 -> -497070
F40: այդ թվում`
D41: 1111 | E41: Բարձրագույն և հետբուհական մասնագիտական կրթության ծրագիր | G41: =G43+G52 -> -497070
F42: այդ թվում`
E43: 12004 | F43: Բարձրագույն մասնագիտական կրթության գծով ուսանողական նպաստների տրամադրում | G43: =G45 -> -497070
F44: այդ թվում` ըստ կատարողների
F45: ՀՀ կրթության, գիտության, մշակույթի և սպորտի նախարարություն | G45: =G47 -> -497070
F46: այդ թվում՝ բյուջետային ծախսերի տնտեսագիտական դասակարգման հոդվածներ
F47: ԸՆԴԱՄԵՆԸ ԾԱԽՍԵՐ | G47: =G48 -> -497070
F48: ԸՆԹԱՑԻԿ ԾԱԽՍԵՐ | G48: =+G49 -> -497070
F49: ՍՈՑԻԱԼԱԿԱՆ ՆՊԱՍՏՆԵՐ ԵՎ ԿԵՆՍԱԹՈՇԱԿՆԵՐ | G49: =G50 -> -497070
F50: Սոցիալական օգնության դրամական արտահայտությամբ նպաստներ (բյուջեից) | G50: =+G51 -> -497070
F51: - Այլ նպաստներ բյուջեից | G51: ='Havelvats 1'!D32 -> -497070

Sheet Havelvats 3
A1: Հավելված N 3
A2: ՀՀ կառավարության 2023 թվականի
A3: ______________ ի ___Ն որոշման
B5: ՀԱՅԱՍՏԱՆԻ ՀԱՆՐԱՊԵՏՈՒԹՅԱՆ ԿԱՌԱՎԱՐՈՒԹՅԱՆ 2022 ԹՎԱԿԱՆԻ ԴԵԿՏԵՄԲԵՐԻ 29-Ի N 2111-Ն ՈՐՈՇՄԱՆ N 9 ՀԱՎԵԼՎԱԾԻ N 9.13 ԱՂՅՈՒՍԱԿՈՒՄ ԿԱՏԱՐՎՈՂ ՓՈՓՈԽՈՒԹՅՈՒՆՆԵՐԸ
A7: Աղյուսակ 9․13
C8: ՀՀ կրթության, գիտության, մշակույթի և սպորտի նախարարություն
B9: ՄԱՍ 2. ՊԵՏԱԿԱՆ ՄԱՐՄՆԻ ԳԾՈՎ ԱՐԴՅՈՒՆՔԱՅԻՆ (ԿԱՏԱՐՈՂԱԿԱՆ) ՑՈՒՑԱՆԻՇՆԵՐԸ
B13: Ծրագրի դասիչը | C13: Ծրագրի անվանումը
B14: 1041 | C14: Մեծ նվաճումների սպորտ
B17: Ծրագրի միջոցառումները
B18: Ծրագրի դասիչը՝ | C18: 1041 | D18: Ցուցանիշների փոփոխությունը (ավելացումները նշված են դրական նշանով)
B19: Միջոցառման դասիչը՝ | C19: 12001 | D19: Տարի
B20: Միջոցառման անվանումը՝ | C20: Միջազգային մարզական միջոցառումների հաղթողներին և մրցանակակիրներին դրամական մրցանակների հանձնում
B21: Նկարագրությունը՝ | C21: Միջազգային մարզական միջոցառումների հաղթողներին և մրցանակակիրներին դրամական մրցանակների հանձնում
B22: Միջոցառման տեսակը՝ | C22: Տրանսֆերտների տրամադրում
B23: Շահառուների ընտրության չափանիշները | C23: Հայաստանի Հանրապետությանկառավարության 2015 թվականի նոյեմբերի 5-ի № 1282-Ն որոշմամբ սահմանված մարզիկներ, անձնական մարզիչներ,երկրորդ մարզիչներ, բժիշկներ
B24: Արդյունքի չափորոշիչներ
B25: Միջոցառման վրա կատարվող ծախսը (հազար դրամ) | D25: ='Havelvats 1'!D19 -> 497070
B27: Ծրագրի դասիչը | C27: Ծրագրի անվանումը
B28: 1111 | C28: Բարձրագույն և հետբուհական մասնագիտական կրթության ծրագիր
B31: Ծրագրի միջոցառումները | D31: Ցուցանիշների փոփոխությունը (նվազեցումները նշված են փակագծերում)
B32: Ծրագրի դասիչը՝ | C32: 1111 | D32: Տարի
B33: Միջոցառման դասիչը՝ | C33: 12004
B34: Միջոցառման անվանումը՝ | C34: Բարձրագույն մասնագիտական կրթության գծով ուսանողական նպաստների տրամադրում
B35: Նկարագրությունը՝ | C35: Բարձրագույն մասնագիտական կրթություն ստացող ուսանողների նպաստներ
B36: Միջոցառման տեսակը՝ | C36: Տրանսֆերտների տրամադրում
B37: Շահառուների ընտրության չափորոշիչները՛ | C37: Բարձրագույն մասնագիտական կրթություն ստացող ուսանողներ
C38: Արդյունքի չափորոշիչներ
B39: Նպաստներ ստացող ուսանողների թիվ, մարդ | D39: -663
B40: Միջոցառման վրա կատարվող ծախսը (հազար դրամ) | D40: ='Havelvats 1'!D25 -> -497070

Sheet Havelvats4 
D1: Հավելված N4
C2: ՀՀ կառավարության 2023 թվականի
C3: ______________ ի ___Ն որոշման
B5: ՀԱՅԱՍՏԱՆԻ ՀԱՆՐԱՊԵՏՈՒԹՅԱՆ ԿԱՌԱՎԱՐՈՒԹՅԱՆ 2022 ԹՎԱԿԱՆԻ ԴԵԿՏԵՄԲԵՐԻ 29-Ի N 2111-Ն ՈՐՈՇՄԱՆ N 9․1 ՀԱՎԵԼՎԱԾԻ N 9.1․13 ԱՂՅՈՒՍԱԿՈՒՄ ԿԱՏԱՐՎՈՂ ՓՈՓՈԽՈՒԹՅՈՒՆՆԵՐԸ
A7: Աղյուսակ 9․1․13
C8: ՀՀ կրթության, գիտության, մշակույթի և սպորտի նախարարություն
B9: ՄԱՍ 1. ՊԵՏԱԿԱՆ ՄԱՐՄՆԻ ԳԾՈՎ ԱՐԴՅՈՒՆՔԱՅԻՆ (ԿԱՏԱՐՈՂԱԿԱՆ) ՑՈՒՑԱՆԻՇՆԵՐԸ
B12: Ծրագրի դասիչը | C12: Ծրագրի անվանումը
B13: 1041 | C13: Մեծ նվաճումների սպորտ
B16: Ծրագրի միջոցառումները
B17: Ծրագրի դասիչը՝ | C17: 1041 | D17: Ցուցանիշների փոփոխությունը (ավելացումները նշված են դրական նշանով)
B18: Միջոցառման դասիչը՝ | C18: 12001 | D18: Տարի
B19: Միջոցառման անվանումը՝ | C19: Միջազգային մարզական միջոցառումների հաղթողներին և մրցանակակիրներին դրամական մրցանակների հանձնում
B20: Նկարագրությունը՝ | C20: Միջազգային մարզական միջոցառումների հաղթողներին և մրցանակակիրներին դրամական մրցանակների հանձնում
B21: Միջոցառման տեսակը՝ | C21: Տրանսֆերտների տրամադրում
B22: Շահառուների ընտրության չափանիշները | C22: Հայաստանի Հանրապետությանկառավարության 2015 թվականի նոյեմբերի 5-ի № 1282-Ն որոշմամբ սահմանված մարզիկներ, անձնական մարզիչներ,երկրորդ մարզիչներ, բժիշկներ
B23: Արդյունքի չափորոշիչներ
B24: Միջոցառման վրա կատարվող ծախսը (հազար դրամ) | D24: ='Havelvats 1'!D12 -> 497070
B29: Ծրագրի դասիչը | C29: Ծրագրի անվանումը
B30: 1111 | C30: Բարձրագույն և հետբուհական մասնագիտական կրթության ծրագիր
B33: Ծրագրի միջոցառումները
B34: Ծրագրի դասիչը՝ | C34: 1111 | D34: Ցուցանիշների փոփոխությունը (նվազեցումները նշված են փակագծերում)
B35: Միջոցառման դասիչը՝ | C35: 12004 | D35: Տարի
B36: Միջոցառման անվանումը՝ | C36: Բարձրագույն մասնագիտական կրթության գծով ուսանողական նպաստների տրամադրում
B37: Նկարագրությունը՝ | C37: Բարձրագույն մասնագիտական կրթություն ստացող ուսանողների նպաստներ
B38: Միջոցառման տեսակը՝ | C38: Տրանսֆերտների տրամադրում
B39: Շահառուների ընտրության չափորոշիչները՛ | C39: Բարձրագույն մասնագիտական կրթություն ստացող ուսանողներ
C40: Արդյունքի չափորոշիչներ
B41: Նպաստներ ստացող ուսանողների թիվ, մարդ | D41: -663
B42: Միջոցառման վրա կատարվող ծախսը (հազար դրամ) | D42: ='Havelvats 1'!D25 -> -497070
