Workbook
Name _tab10: #REF!
Name _tab10: #REF!
Name _tab11: #REF!
Name _tab11: #REF!
Name _tab12: #REF!
Name _tab13: #REF!
Name _tab14: #REF!
Name _tab15: #REF!
Name _tab16: #REF!
Name _tab17: #REF!
Name _tab18: #REF!
Name _tab19: #REF!
Name _tab20: #REF!
Name _tab21: #REF!
Name _tab22: #REF!
Name _tab23: #REF!
Name _tab24: #REF!
Name _tab5: #REF!
Name _tab6: #REF!
Name _tab7: #REF!
Name _tab8: #REF!
Name _tab9: #REF!
Name AgencyCode: #REF!
Name AgencyCode: #REF!
Name AgencyCode: #REF!
Name AgencyCode: #REF!
Name AgencyCode: #REF!
Name AgencyCode: #REF!
Name AgencyCode: #REF!
Name AgencyCode: #REF!
Name AgencyCode: #REF!
Name AgencyCode: #REF!
Name AgencyName: #REF!
Name AgencyName: #REF!
Name AgencyName: #REF!
Name åû: #REF!
Name åû: #REF!
Name davit: #REF!
Name davit: #REF!
Name fff: #REF!
Name Functional1: #REF!
Name Functional1: #REF!
Name Functional1: #REF!
Name ggg: #REF!
Name ggg: #REF!
Name h: #REF!
Name mas: #REF!
Name mas: #REF!
Name mass: #REF!
Name mass: #REF!
Name PANature: #REF!
Name PANature: #REF!
Name PANature: #REF!
Name par_count: #REF!,#REF!,#REF!,#REF!,#REF!,#REF!,#REF!,#REF!,#REF!,#REF!,#REF!,#REF!,#REF!,#REF!,#REF!
Name par_count: #REF!,#REF!,#REF!,#REF!,#REF!,#REF!,#REF!,#REF!,#REF!,#REF!,#REF!,#REF!,#REF!,#REF!,#REF!
Name par_qual: #REF!,#REF!,#REF!,#REF!,#REF!
Name par_qual: #REF!,#REF!,#REF!,#REF!,#REF!
Name par_time: #REF!,#REF!,#REF!,#REF!
Name par_time: #REF!,#REF!,#REF!,#REF!
Name par2.12s: #REF!

Sheet 1
B1: Հավելված N 1
B2: ՀՀ կառավարության 2023 թվականի
B3: ------------------------ -ի N ---------- որոշման
A6: «ՀԱՅԱՍՏԱՆԻ ՀԱՆՐԱՊԵՏՈՒԹՅԱՆ 2023 ԹՎԱԿԱՆԻ ՊԵՏԱԿԱՆ ԲՅՈՒՋԵԻ ՄԱՍԻՆ» ՀԱՅԱՍՏԱՆԻ ՀԱՆՐԱՊԵՏՈՒԹՅԱՆ ՕՐԵՆՔԻ 2-ՐԴ ՀՈԴՎԱԾԻ ԱՂՅՈՒՍԱԿՈՒՄ ԿԱՏԱՐՎՈՂ ՓՈՓՈԽՈՒԹՅՈՒՆՆԵՐԸ
B8: հազ. դրամ
B9: Ցուցանիշների փոփոխությունները (նվազեցումները նշված են փակագծերում)
A10: Եկամուտների գծով | B10: =+'[1]2'!B11 -> -71524.2
A11: Ծախսերի գծով | B11: =+B10+B12 -> -499068.6
A12: Դեֆիցիտը (պակասուրդը) | B12: =+'[1]6'!E11 -> -427544.4

Sheet 2
A1: Հավելված N 2
A2: ՀՀ կառավարության 2023 թվականի
A3: --------------------- -ի N ---------- որոշման
A5: «ՀԱՅԱՍՏԱՆԻ ՀԱՆՐԱՊԵՏՈՒԹՅԱՆ 2023 ԹՎԱԿԱՆԻ ՊԵՏԱԿԱՆ ԲՅՈՒՋԵԻ ՄԱՍԻՆ» ՕՐԵՆՔԻ 6-ՐԴ ՀՈԴՎԱԾԻ ԱՂՅՈՒՍԱԿՈՒՄ ԵՎ ՀԱՅԱՍՏԱՆԻ ՀԱՆՐԱՊԵՏՈՒԹՅԱՆ ԿԱՌԱՎԱՐՈՒԹՅԱՆ 2022 ԹՎԱԿԱՆԻ ԴԵԿՏԵՄԲԵՐԻ 29-Ի N 2111-Ն ՈՐՈՇՄԱՆ N 2 ՀԱՎԵԼՎԱԾՈՒՄ ԿԱՏԱՐՎՈՂ ՓՈՓՈԽՈՒԹՅՈՒՆՆԵՐԸ
B6: հազ. դրամ
A7: Պետական բյուջեի եկամուտները | B7: Ցուցանիշների փոփոխությունները (նվազեցումները նշված են փակագծերում)
B8: Տարի
A9: Ընդամենը | B9: =+B11 -> -71524.2
A10: այդ թվում
A11: Պաշտոնական դրամաշնորհներ | B11: =+'[1]4'!D89 -> -71524.2

Sheet 3
B1: Հավելված N3
B2: ՀՀ կառավարության 2023 թվականի
B3: ______________ ի ___Ն որոշման
A4: «ՀԱՅԱUՏԱՆԻ ՀԱՆՐԱՊԵՏՈՒԹՅԱՆ 2023 ԹՎԱԿԱՆԻ ՊԵՏԱԿԱՆ ԲՅՈՒՋԵԻ ՄԱUԻՆ» OՐԵՆՔԻ N 3 ՀԱՎԵԼՎԱԾԻ N 1 ԱՂՅՈՒՍԱԿՈՒՄ ԿԱՏԱՐՎՈՂ ՓՈՓՈԽՈՒԹՅՈՒՆՆԵՐԸ
B5: հազար դրամ
A6: Պետական բյուջեի դեֆիցիտի ֆինանսավորման աղբյուրներն ու դրանց տարրերի անվանումները | B6: Ցուցանիշների փոփոխությունները (նվազեցումները նշված են փակագծերում)
B7: 2023թ.
A8: ԸՆԴԱՄԵՆԸ | B8: =+B10 -> -427544.4
A9: այդ թվում՝
A10: Բ. Արտաքին աղբյուրներ - ընդամենը | B10: =+B12 -> -427544.4
A11: այդ թվում
A12: 1. Փոխառու զուտ միջոցներ | B12: =+B14 -> -427544.4
A13: այդ թվում՝
A14: 1.1. Վարկերի և փոխատվությունների ստացում | B14: =+B16 -> -427544.4
A15: որից`
A16: - նպատակային վարկերի գծով | B16: =+'[1]6'!E11 -> -427544.4

Sheet 4
D1: Հավելված N4
D2: ՀՀ կառավարության 2023 թվականի
D3: ______________ ի ___Ն որոշման
A5: «ՀԱՅԱUՏԱՆԻ ՀԱՆՐԱՊԵՏՈՒԹՅԱՆ 2023 ԹՎԱԿԱՆԻ ՊԵՏԱԿԱՆ ԲՅՈՒՋԵԻ ՄԱUԻՆ» OՐԵՆՔԻ N 1 ՀԱՎԵԼՎԱԾԻ N 2 ԱՂՅՈՒՍԱԿՈՒՄ ԿԱՏԱՐՎՈՂ ՎԵՐԱԲԱՇԽՈՒՄԸ ԵՎ ՀԱՅԱՍՏԱՆԻ ՀԱՆՐԱՊԵՏՈՒԹՅԱՆ ԿԱՌԱՎԱՐՈՒԹՅԱՆ 2022 ԹՎԱԿԱՆԻ ԴԵԿՏԵՄԲԵՐԻ 29-Ի N 2111-Ն ՈՐՈՇՄԱՆ N 5 ՀԱՎԵԼՎԱԾԻ N 1 ԱՂՅՈՒՍԱԿՈՒՄ ԿԱՏԱՐՎՈՂ ՓՈՓՈԽՈՒԹՅՈՒՆՆԵՐԸ
D6: հազ. դրամ
A7: Ծրագրային դասիչը | C7: Բյուջետային հատկացումների գլխավոր կարգադրիչների, ծրագրերի և միջոցառումների անվանումները | D7: Ցուցանիշների փոփոխությունը (ավելացումները նշված են դրական նշանով, իսկ նվազեցումները՝ փակագծերում)
A8: Ծրագիր | B8: Միջոցառում | D8: Տարի
C9: ԸՆԴԱՄԵՆԸ | D9: =+D11+D170 -> -499068.6
C10: այդ թվում
C11: ՀՀ էկոնոմիկայի նախարարություն | D11: =+D12+D25+D50+D63+D76+D95+D120+D157 -> 387796.1
A12: 1022 | C12: Ծրագրի անվանումը` | D12: =+D19 -> 486044
C13: Գյուղատնտեսության խթանման ծրագիր
C14: Ծրագրի նպատակը`
C15: Գյուղատնտեսական մթերքի և դրանց վերամշակումից ստացվող սննդամթերքի ծավալների ավելացում
C16: Վերջնական արդյունքի նկարագրությունը`
C17: Գյուղատնտեսական մթերքների ծավալների ավելացում: Օգտագործվող վարելահողերի ավելացում: Պտուղբանջարեղենի և խաղողի վերամշակումից ստացված արտադրանքի ծավալների աճ
C18: Ծրագրի միջոցառումներ
B19: 12001 | C19: Միջոցառման անվանումը` | D19: 486044
C20: Գյուղատնտեսական վարկերի տոկոսադրույքների սուբսիդավորում
C21: Միջոցառման նկարագրությունը`
C22: Գյուղատնտեսության ոլորտում տրամադրվող վարկերի տոկոսադրույքների սուբսիդավորում
C23: Միջոցառման տեսակը
C24: Տրանսֆերտների տրամադրում
A25: 1058 | C25: Ծրագրի անվանումը` | D25: =D32+D38+D44 -> -472926.5
C26: Էկոնոմիկայի ոլորտում պետական քաղաքականության մշակում, ծրագրերի համակարգում և մոնիտորինգ
C27: Ծրագրի նպատակը`
C28: Էկոնոմիկայի ոլորտում պետական արդյունավետ քաղաքականության մշակման և իրականացման ապահովում
C29: Վերջնական արդյունքի նկարագրությունը`
C30: Էկոնոմիկայի ոլորտում իրականացվող ծրագրերի ազդեցության և արդյունավետության բարելավում
B31: Ծրագրի միջոցառումներ
B32: 11002 | C32: Միջոցառման անվանումը` | D32: -190000
C33: ԱՀԿ-ում և oտարերկրյա պետություններում ՀՀ առևտրային ներկայացուցիչների նպատակների և խնդիրների իրագործում
C34: Միջոցառման նկարագրությունը`
C35: ԱՀԿ-ում ՀՀ տնտեսական շահերի ներկայացում և պաշտպանություն, ՀՀ առևտրատնտեսական քաղաքականության զարգացմանը, արտահանումների խթանմանը և ներդրումների ներգրավմանն ուղղված գործունեություն արտերկրում
C36: Միջոցառման տեսակը
C37: Ծառայությունների մատուցում
B38: 11007 | C38: Միջոցառման անվանումը` | D38: -82926.5
C39: ՀՀ էկոնոմիկայի նախարարության կողմից իրականացվող պետական աջակցության ծրագրերի հանրային իրազեկման ապահովում
C40: Միջոցառման նկարագրությունը`
C41: Ոլորտում իրականացվող պետական աջակցության ծրագրերի հանրային իրազեկման նպատակով գովազդատեղեկատվական նյութերի պատրաստում և հրապարակում
...

Sheet 5
A1: Հավելված N5
A2: ՀՀ կառավարության 2023 թվականի
A3: ______________ ի ___Ն որոշման
A5: ՀԱՅԱՍՏԱՆԻ ՀԱՆՐԱՊԵՏՈՒԹՅԱՆ ԿԱՌԱՎԱՐՈՒԹՅԱՆ 2022 ԹՎԱԿԱՆԻ ԴԵԿՏԵՄԲԵՐԻ 29-Ի N 2111-Ն ՈՐՈՇՄԱՆ N 3 ԵՎ N 4 ՀԱՎԵԼՎԱԾՆԵՐՈՒՄ ԿԱՏԱՐՎՈՂ ՓՈՓՈԽՈՒԹՅՈՒՆՆԵՐԸ
G7: հազ. դրամ
A8: Գործառական դասիչը | D8: Ծրագրային դասիչը | F8: Բյուջետային ծախսերի գործառական դասակարգման բաժինների, խմբերի և դասերի, բյուջետային հատկացումների գլխավոր կարգադրիչների, ծրագրերի, միջոցառումների և միջոցառումները կատարող պետական մարմինների անվանումները | G8: Ցուցանիշների փոփոխությունը (ավելացումները նշված են դրական նշանով, իսկ նվազեցումները՝ փակագծերում)
A9: Բաժին | B9: Խումբ | C9: Դաս | D9: Ծրագիր | E9: Միջոցառում | G9: Տարի
F10: ԸՆԴԱՄԵՆԸ ԾԱԽՍԵՐ | G10: =+G12+G230 -> -499068.6
F11: այդ թվում`
F12: ՀՀ էկոնոմիկայի նախարարություն | G12: =+G14 -> 387796.1
F13: այդ թվում`
A14: 04 | F14: ՏՆՏԵՍԱԿԱՆ ՀԱՐԱԲԵՐՈՒԹՅՈՒՆՆԵՐ | G14: =+G16+G110+G213 -> 387796.1
F15: այդ թվում`
B16: 01 | F16: Ընդհանուր բնույթի տնտեսական, առևտրային և աշխատանքի գծով հարաբերություններ | G16: =+G18 -> -3774319
F17: այդ թվում`
C18: 01 | F18: Ընդհանուր բնույթի տնտեսական և առևտրային հարաբերություններ | G18: =+G20 -> -3774319
F19: այդ թվում`
F20: ՀՀ էկոնոմիկայի նախարարություն | G20: =+G22+G59+G70+G81 -> -3774319
F21: այդ թվում`
D22: 1058 | F22: Էկոնոմիկայի ոլորտում պետական քաղաքականության մշակում, ծրագրերի համակարգում և մոնիտորինգ | G22: =+G24+G32+G41 -> -472926.5
F23: այդ թվում`
E24: 11002 | F24: ԱՀԿ-ում և oտարերկրյա պետություններում ՀՀ առևտրային ներկայացուցիչների նպատակների և խնդիրների իրագործում | G24: =+G26 -> -190000
F25: այդ թվում` ըստ կատարողների
F26: ՀՀ էկոնոմիկայի նախարարություն | G26: =+G28 -> -190000
F27: այդ թվում` բյուջետային ծախսերի տնտեսագիտական դասակարգման հոդվածներ
F28: ԸՆԴԱՄԵՆԸ ԾԱԽՍԵՐ | G28: =+G29 -> -190000
F29: ԸՆԹԱՑԻԿ ԾԱԽՍԵՐ | G29: =+G30 -> -190000
F30: ԱՅԼ ԾԱԽՍԵՐ | G30: =+G31 -> -190000
F31: Այլ ծախսեր | G31: -190000
E32: 11007 | F32: ՀՀ էկոնոմիկայի նախարարության կողմից իրականացվող պետական աջակցության ծրագրերի հանրային իրազեկման ապահովում | G32: =+G34 -> -82926.5
F33: այդ թվում` ըստ կատարողների
F34: ՀՀ էկոնոմիկայի նախարարություն | G34: =+G36 -> -82926.5
F35: այդ թվում` բյուջետային ծախսերի տնտեսագիտական դասակարգման հոդվածներ
F36: ԸՆԴԱՄԵՆԸ ԾԱԽՍԵՐ | G36: =+G37 -> -82926.5
F37: ԸՆԹԱՑԻԿ ԾԱԽՍԵՐ | G37: =+G38 -> -82926.5
F38: ԾԱՌԱՅՈՒԹՅՈՒՆՆԵՐԻ ԵՎ ԱՊՐԱՆՔՆԵՐԻ ՁԵՌՔԲԵՐՈՒՄ | G38: =+G39 -> -82926.5
F39: Պայմանագրային այլ ծառայությունների ձեռքբերում | G39: =+G40 -> -82926.5
F40: - Տեղեկատվական ծառայություններ | G40: -82926.5
E41: 31002 | F41: ՀՀ էկոնոմիկայի նախարարության շենքային պայմանների բարելավում | G41: =+G43+G50 -> -200000
F42: այդ թվում` ըստ կատարողների
...

Sheet 6
F1: Հավելված N6
F2: ՀՀ կառավարության 2023 թվականի
F3: ______________ ի ___Ն որոշման
A5: «ՀԱՅԱUՏԱՆԻ ՀԱՆՐԱՊԵՏՈՒԹՅԱՆ 2023 ԹՎԱԿԱՆԻ ՊԵՏԱԿԱՆ ԲՅՈՒՋԵԻ ՄԱUԻՆ» OՐԵՆՔԻ N 1 ՀԱՎԵԼՎԱԾԻ N 4 ԱՂՅՈՒՍԱԿՈՒՄ ԵՎ ՀԱՅԱՍՏԱՆԻ ՀԱՆՐԱՊԵՏՈՒԹՅԱՆ ԿԱՌԱՎԱՐՈՒԹՅԱՆ 2022 ԹՎԱԿԱՆԻ ԴԵԿՏԵՄԲԵՐԻ 29-Ի N 2111-Ն ՈՐՈՇՄԱՆ N 5 ՀԱՎԵԼՎԱԾԻ N 3 ԱՂՅՈՒՍԱԿՈՒՄ ԿԱՏԱՐՎՈՂ ՓՈՓՈԽՈՒԹՅՈՒՆՆԵՐԸ
F6: հազ. դրամ
A7: Ծրագրային դասիչը | C7: Բյուջետային գլխավոր կարգադրիչների, ծրագրերի և միջոցառումների անվանումները | D7: Ցուցանիշների փոփոխությունը (նվազեցումները նշված են փակագծերում)
D8: Տարի
D9: Ընդամենը | E9: այդ թվում`
A10: Ծրագիր | B10: Միջոց առում | E10: Վարկային միջոցներ | F10: Համաֆինան սավորում
C11: ԸՆԴԱՄԵՆԸ | D11: =+D13 -> -457625.7 | E11: =+E13 -> -427544.4 | F11: =+F13 -> -30081.3
C12: այդ թվում`
C13: ՀՀ ԷԿՈՆՈՄԻԿԱՅԻ ՆԱԽԱՐԱՐՈՒԹՅՈՒՆ այդ թվում` | D13: =+E13+F13 -> -457625.7 | E13: =+E47+E14 -> -427544.4 | F13: =+F47+F14 -> -30081.3
A14: 1134 | C14: Ենթակառուցվածքների և գյուղական ֆինանսավորման աջակցություն | D14: =+D16 -> -78095.7 | E14: =+E16 -> -77414.4 | F14: =+F16 -> -681.3
C15: այդ թվում`
B16: 11001 | C16: Գյուղատնտեսության զարգացման միջազգային հիմնադրամի աջակցությամբ իրականացվող «Ենթակառուցվածքների և գյուղական ֆինանսավորման աջակցություն» վարկային ծրագիր | D16: =+E16+F16 -> -78095.7 | E16: =+E18 -> -77414.4 | F16: =+F18 -> -681.3
C17: այդ թվում` ըստ կատարողների
C18: ՀՀ էկոնոմիկայի նախարարություն | D18: =+E18+F18 -> -78095.7 | E18: =+E20 -> -77414.4 | F18: =+F20 -> -681.3
C19: այդ թվում` բյուջետային ծախսերի տնտեսագիտական դասակարգման հոդվածներ
C20: ԸՆԴԱՄԵՆԸ ԾԱԽՍԵՐ | D20: =+E20+F20 -> -78095.7 | E20: =+E21 -> -77414.4 | F20: =+F21 -> -681.3
C21: ԸՆԹԱՑԻԿ ԾԱԽՍԵՐ | D21: =+D22+D25+D44 -> -78095.7 | E21: =+E22+E25+E44 -> -77414.4 | F21: =+F22+F25+F44 -> -681.3
C22: ԱՇԽԱՏԱՆՔԻ ՎԱՐՁԱՏՐՈՒԹՅՈՒՆ | D22: =+E22+F22 -> -5706.9 | E22: =+E23 -> -5706.9 | F22: =+F23 -> 0
C23: Դրամով վճարվող աշխատավարձեր և հավելավճարներ | D23: =+E23+F23 -> -5706.9 | E23: =E24 -> -5706.9 | F23: =+F24 -> 0
C24: - Աշխատողների աշխատավարձեր և հավելավճարներ | D24: =+E24+F24 -> -5706.9 | E24: -5706.9
C25: ԾԱՌԱՅՈՒԹՅՈՒՆՆԵՐԻ ԵՎ ԱՊՐԱՆՔՆԵՐԻ ՁԵՌՔԲԵՐՈՒՄ | D25: =+E25+F25 -> -28722.1 | E25: =+E26+E32+E34+E37+E40 -> -28234.5 | F25: =+F26+F32+F34+F37+F40 -> -487.6
C26: Շարունակական ծախսեր | D26: =+E26+F26 -> -13604.2 | E26: =+E27+E28+E29+E30+E31 -> -13397.5 | F26: =+F27+F28+F29+F30+F31 -> -206.7
C27: - Գործառնական և բանկային ծառայությունների ծախսեր | D27: =+E27+F27 -> -200 | E27: -167 | F27: -33
C28: - Էներգետիկ ծառայություններ | D28: =+E28+F28 -> -1344.2 | E28: -1310 | F28: -34.2
C29: - Կապի ծառայություններ | D29: =+E29+F29 -> -1045 | E29: -905.5 | F29: -139.5
C30: - Ապահովագրական ծախսեր | D30: =+E30+F30 -> -300 | E30: -300 | F30: 0
C31: - Գույքի և սարքավորումների վարձակալություն | D31: =+E31+F31 -> -10715 | E31: -10715 | F31: 0
C32: Ծառայողական գործուղումների գծով ծախսեր | D32: =+E32+F32 -> -2426 | E32: =+E33 -> -2426 | F32: =+F33 -> 0
C33: - Արտասահմանյան գործուղումների գծով ծախսեր | D33: =+E33+F33 -> -2426 | E33: -2426 | F33: 0
C34: Պայմանագրային այլ ծառայությունների ձեռքբերում | D34: =+E34+F34 -> -8673.7 | E34: =+E35+E36 -> -8413 | F34: =+F35+F36 -> -260.7
C35: - Համակարգչային ծառայություններ | D35: =+E35+F35 -> -1820 | E35: -1746 | F35: -74
C36: - Կառավարչական ծառայություններ | D36: =+E36+F36 -> -6853.7 | E36: -6667 | F36: -186.7
C37: Ընթացիկ նորոգում և պահպանում (ծառայություններ և նյութեր) | D37: =+E37+F37 -> -1781 | E37: =+E38+E39 -> -1781 | F37: =+F38+F39 -> 0
C38: - Շենքերի և կառույցների ընթացիկ նորոգում և պահպանում | D38: =+E38+F38 -> -955 | E38: -955
C39: - Մեքենաների և սարքավորումների ընթացիկ նորոգում և պահպանում | D39: =+E39+F39 -> -826 | E39: -826
C40: Նյութեր (Ապրանքներ) | D40: =+E40+F40 -> -2237.2 | E40: =+E41+E42+E43 -> -2217 | F40: =+F41+F42+F43 -> -20.2
C41: - Գրասենյակային նյութեր և հագուստ | D41: =+E41+F41 -> -425 | E41: -425
...

Sheet 7
F1: Հավելված N 7
C2: ՀՀ կառավարության 2023 թվականի
C3: ___________ ___-ի N _______ -Ն որոշման
A5: «ՀԱՅԱՍՏԱՆԻ ՀԱՆՐԱՊԵՏՈՒԹՅԱՆ 2023 ԹՎԱԿԱՆԻ ՊԵՏԱԿԱՆ ԲՅՈՒՋԵԻ ՄԱՍԻՆ» ՕՐԵՆՔԻ N 1 ՀԱՎԵԼՎԱԾԻ N 5 ԱՂՅՈՒՍԱԿՈՒՄ ԵՎ ՀԱՅԱՍՏԱՆԻ ՀԱՆՐԱՊԵՏՈՒԹՅԱՆ ԿԱՌԱՎԱՐՈՒԹՅԱՆ 2022 ԹՎԱԿԱՆԻ ԴԵԿՏԵՄԲԵՐԻ 29-Ի N 2111-Ն ՈՐՈՇՄԱՆ N 5 ՀԱՎԵԼՎԱԾԻ N 4 ԱՂՅՈՒՍԱԿՈՒՄ ԿԱՏԱՐՎՈՂ ՓՈՓՈԽՈՒԹՅՈՒՆՆԵՐԸ
F6: հազ. դրամ
A7: Ծրագրային դասիչը | C7: Բյուջետային հատկացումների գլխավոր կարգադրիչների, ծրագրերի, միջոցառումների և միջոցառումները կատարող պետական մարմինների անվանումները | D7: Ցուցանիշների փոփոխությունը (նվազեցումները նշված են փակագծերում)
D8: Տարի
A9: Ծրագիր | B9: Միջոց_x000D_առում | D9: Ընդամենը | E9: այդ թվում
E10: Դրամաշնոր_x000D_հային միջոցներ | F10: Համաֆինանսավորում
C11: ԸՆԴԱՄԵՆԸ_x000D_ այդ թվում` | D11: =+E11+F11 -> -71524.2 | E11: =+E12 -> -71524.2 | F11: =+F12 -> 0
C12: ՀՀ ԷԿՈՆՈՄԻԿԱՅԻ ՆԱԽԱՐԱՐՈՒԹՅՈՒՆ_x000D_ այդ թվում` | D12: =+D13 -> -71524.2 | E12: =+E13 -> -71524.2 | F12: =+F13 -> 0
A13: 1134 | C13: Ենթակառուցվածքների և գյուղական ֆինանսավորման աջակցություն | D13: =+D15 -> -71524.2 | E13: =+E15 -> -71524.2 | F13: =+F15 -> 0
C14: այդ թվում` | D14: =+E14+F14 -> 0
B15: 12002 | C15: Գլոբալ էկոլոգիական հիմնադրամի աջակցությամբ իրականացվող «Հայաստանում արտադրողականության աճին ուղղված հողերի կայուն կառավարում» դրամաշնորհային ծրագրի շրջանակներում ֆինանսական փաթեթների տրամադրում | D15: =+E15+F15 -> -71524.2 | E15: =E17 -> -71524.2 | F15: =F17 -> 0
C16: այդ թվում` ըստ կատարողների | D16: =+E16+F16 -> 0
C17: ՀՀ էկոնոմիկայի նախարարություն | D17: =+E17+F17 -> -71524.2 | E17: =E21 -> -71524.2 | F17: =F21 -> 0
C18: այդ թվում` բյուջետային ծախսերի տնտեսագիտական դասակարգման հոդվածներ | D18: =+E18+F18 -> 0
C19: ԸՆԴԱՄԵՆԸ ԾԱԽՍԵՐ | D19: =+E19+F19 -> -71524.2 | E19: =+E20 -> -71524.2 | F19: =+F20 -> 0
C20: ԸՆԹԱՑԻԿ ԾԱԽՍԵՐ | D20: =+E20+F20 -> -71524.2 | E20: =+E21 -> -71524.2 | F20: =+F21 -> 0
C21: ԱՅԼ ԾԱԽՍԵՐ | D21: =+E21+F21 -> -71524.2 | E21: =+E22 -> -71524.2 | F21: =+F22 -> 0
C22: Այլ ծախսեր | D22: =+E22+F22 -> -71524.2 | E22: -71524.2 | F22: 0

Sheet 8
A1: Հավելված N 8 ՀՀ կառավարության 2023 թվականի ––-------------------–––––––– N –––––– որոշման
A2: «ՀԱՅԱՍՏԱՆԻ ՀԱՆՐԱՊԵՏՈՒԹՅԱՆ 2023 ԹՎԱԿԱՆԻ ՊԵՏԱԿԱՆ ԲՅՈՒՋԵԻ ՄԱՍԻՆ» ՕՐԵՆՔԻ N 1 ՀԱՎԵԼՎԱԾԻ N 3 ԱՂՅՈՒՍԱԿՈՒՄ ԿԱՏԱՐՎՈՂ ՓՈՓՈԽՈՒԹՅՈՒՆՆԵՐԸ
A3: Ծրագրային դասիչ | C3: Բյուջետային գլխավոր կարգադրիչների, ծրագրերի, միջոցառումների, միջոցառումները կատարող պետական մարմինների և ուղղությունների անվանումները | D3: Ընդամենը | E3: Ցուցանիշների փոփոխությունները (նվազեցումները նշված են փակագծերում)
A4: Ծրագիր | B4: Միջոցառում | E4: Կառուցման աշխատանքներ | F4: Վերակառուցման, վերանորոգման և վերականգնման աշխատանքներ | G4: Նախագծահետազոտական, գեոդեզիաքարտեզագրական աշխատանքներ | H4: Ոչ ֆինանսական այլ ակտիվների ձեռքբերում
C5: ԸՆԴԱՄԵՆԸ | D5: =+D8 -> -2927000 | E5: =+E8 -> -2727000 | F5: =+F8 -> -144000 | G5: =+G8 -> -56000 | H5: =+H8 -> 0
C6: այդ թվում՝
C8: ՀՀ ԷԿՈՆՈՄԻԿԱՅԻ ՆԱԽԱՐԱՐՈՒԹՅՈՒՆ | D8: =+D10+D11 -> -2927000 | E8: =+E10+E11 -> -2727000 | F8: =+F10+F11 -> -144000 | G8: =+G10+G11 -> -56000 | H8: =+H10+H11 -> 0
C9: այդ թվում`
A10: 1058 | B10: 31002 | C10: ՀՀ էկոնոմիկայի նախարարության շենքային պայմանների բարելավում | D10: =+E10+F10+G10+H10 -> -200000 | F10: -144000 | G10: -56000 | H10: 0
A11: 1165 | B11: 31003 | C11: Ենթակառուցվածքներ ներդրումների դիմաց | D11: =+E11+F11+G11+H11 -> -2727000 | E11: -2727000 | F11: 0 | G11: 0 | H11: 0

Sheet 9
A1: Հավելված N 9 ՀՀ կառավարության 2023 թվականի ––-------------------–––––––– N –––––– որոշման
A3: ՀԱՅԱՍՏԱՆԻ ՀԱՆՐԱՊԵՏՈՒԹՅԱՆ ԿԱՌԱՎԱՐՈՒԹՅԱՆ 2022 ԹՎԱԿԱՆԻ ԴԵԿՏԵՄԲԵՐԻ 29-Ի N 2111-Ն ՈՐՈՇՄԱՆ N 5 ՀԱՎԵԼՎԱԾԻ N 2 ԱՂՅՈՒՍԱԿՈՒՄ ԿԱՏԱՐՎՈՂ ՓՈՓՈԽՈՒԹՅՈՒՆՆԵՐԸ
A4: Ծրագրային դասիչ | C4: Բյուջետային գլխավոր կարգադրիչների, ծրագրերի, միջոցառումների, միջոցառումները կատարող պետական մարմինների և ուղղությունների անվանումները | D4: Ցուցանիշների փոփոխությունները (նվազեցումները նշված են փակագծերում)
A5: Ծրագիր | B5: Միջոցառում | D5: Տարի
C6: ԸՆԴԱՄԵՆԸ | D6: =+D9 -> -2927000
C7: այդ թվում՝
C9: ՀՀ ԷԿՈՆՈՄԻԿԱՅԻ ՆԱԽԱՐԱՐՈՒԹՅՈՒՆ | D9: =D11+D19 -> -2927000
C10: այդ թվում`
A11: 1058 | B11: 31002 | C11: ՀՀ էկոնոմիկայի նախարարության շենքային պայմանների բարելավում | D11: =+D13+D16 -> -200000
C12: այդ թվում` ըստ կատարողների
C13: ՀՀ էկոնոմիկայի նախարարություն | D13: =+D15 -> -138876
C14: այդ թվում՝ ըստ ուղղությունների
C15: ՀՀ էկոնոմիկայի նախարարության Ա և Բ մասնաշենքերի վերակառուցման աշխատանքներ | D15: -138876
C16: ՀՀքաղաքաշինության կոմիտե | D16: =+D18 -> -61124
C17: այդ թվում՝ ըստ ուղղությունների
C18: ՀՀ էկոնոմիկայի նախարարության Ա և Բ մասնաշենքերի վերակառուցման աշխատանքներ | D18: -61124
A19: 1165 | B19: 31003 | C19: Ենթակառուցվածքներ ներդրումների դիմաց | D19: =D21 -> -2727000
C20: այդ թվում` ըստ կատարողների
C21: ՀՀ կառավարություն | D21: -2727000

Sheet 10
D1: Հավելված N 10
C2: ՀՀ կառավարության 2023 թվականի
C3: ___________ ___-ի N _______ -Ն որոշման
A6: ՀԱՅԱՍՏԱՆԻ ՀԱՆՐԱՊԵՏՈՒԹՅԱՆ ԿԱՌԱՎԱՐՈՒԹՅԱՆ 2022 ԹՎԱԿԱՆԻ ԴԵԿՏԵՄԲԵՐԻ 29-Ի N 2111-Ն ՈՐՈՇՄԱՆ N 5 ՀԱՎԵԼՎԱԾԻ 7 ԱՂՅՈՒՍԱԿՈՒՄ ԿԱՏԱՐՎՈՂ ՓՈՓՈԽՈՒԹՅՈՒՆՆԵՐԸ
G7: հազ. դրամ
A8: Ծրագրային դասիչ | C8: Բյուջետային հատկացումների գլխավոր կարգադրիչների, ծրագրերի, միջոցառումների, ծախսային ուղղությունների անվանումները | F8: Միջոցառումները կատարող պետական մարմինների և դրամաշնորհ ստացող տնտեսվարող սուբյեկտների անվանումները | G8: Ցուցանիշների փոփոխությունները (նվազեցումները նշված են փակագծերում)
A9: Ծրագիր | B9: Միջոցառում | G9: Տարի
A10: 1 | B10: 2 | C10: 3 | F10: 4 | G10: 5
A11: Ընդամենը | G11: =+G12 -> -112872.5
A12: ՀՀ էկոնոմիկայի նախարարություն | G12: =+G13+G16 -> -112872.5
A13: 1067 | B13: Ստանդարտների մշակում և հավատարմագրման համակարգի զարգացում | G13: =+G14 -> -2780
B14: 11002 | C14: Աջակցություն ՀՀ հավատարմագրման համակարգին | F14: ՀՀ էկոնոմիկայի նախարարություն | G14: =+G15 -> -2780
F15: «Հավատարմագրման ազգային մարմին» ՊՈԱԿ | G15: -2780
A16: 1104 | B16: Գիտելիքահենք, նորարարական տնտեսությանը և փոքր ու միջին ձեռնարկատիրությանը աջակցություն | G16: =+G17 -> -110092.5
B17: 11001 | C17: ՓՄՁ սուբյեկտներին աջակցության ծրագրերի համակարգում և կառավարում | F17: ՀՀ էկոնոմիկայի նախարարություն | G17: =+G18 -> -110092.5
F18: Մրցույթով ընտրված կազմակերպություններ | G18: -110092.5

Sheet 11
D1: Հավելված N 11
B2: ՀՀ կառավարության 2023 թվականի
B3: ______________ ի ___Ն որոշման
B5: ՀԱՅԱՍՏԱՆԻ ՀԱՆՐԱՊԵՏՈՒԹՅԱՆ ԿԱՌԱՎԱՐՈՒԹՅԱՆ 2022 ԹՎԱԿԱՆԻ ԴԵԿՏԵՄԲԵՐԻ 29-Ի N 2111-Ն ՈՐՈՇՄԱՆ N 9 ՀԱՎԵԼՎԱԾԻ N 9.10 ԱՂՅՈՒՍԱԿՈՒՄ ԵՎ N 9.1 ՀԱՎԵԼՎԱԾԻ N 9.1.10 ԱՂՅՈՒՍԱԿՈՒՄ ԿԱՏԱՐՎՈՂ ՓՈՓՈԽՈՒԹՅՈՒՆՆԵՐԸ
B7: ՀՀ Էկոնոմիկայի նախարարություն
B8: ՄԱՍ 1. 2. ՊԵՏԱԿԱՆ ՄԱՐՄՆԻ ԳԾՈՎ ԱՐԴՅՈՒՆՔԱՅԻՆ (ԿԱՏԱՐՈՂԱԿԱՆ) ՑՈՒՑԱՆԻՇՆԵՐԸ
B11: Ծրագրի դասիչը | C11: Ծրագրի անվանումը
B12: 1022 | C12: Գյուղատնտեսության խթանման ծրագիր
B15: Ծրագրի դասիչը` | C15: 1022 | D15: Ցուցանիշների փոփոխությունները (ավելացումները նշված են դրական նշանով)
B16: Միջոցառման դասիչը` | C16: 12001 | D16: Տարի
B17: Միջոցառման անվանումը` | C17: Գյուղատնտեսական վարկերի տոկոսադրույքների սուբսիդավորում
B18: Նկարագրությունը` | C18: Գյուղատնտեսության ոլորտում տրամադրվող վարկերի տոկոսադրույքների սուբսիդավորում
B19: Միջոցառման տեսակը` | C19: Տրանսֆերտների տրամադրում
B20: Շահառուների ընտրության չափանիշները | C20: ՀՀ գյուղատնտեսությամբ զբաղվող տնտեսավարող սուբյեկտներ ընտրված համաձայն` ՀՀ կառավարության 07.03.2019թ. թիվ 184-Լ որոշմամբ հաստատված ծրագրի և ֆինանսական կառույցների կողմից հաստատված համապատասխան չափանիշների
B21: Արդյունքի չափորոշիչներ
B22: Միջոցառման վրա կատարվող ծախսը (հազար դրամ) | D22: 486044
B25: Ծրագրի դասիչը | C25: Ծրագրի անվանումը
B26: 1058 | C26: Էկոնոմիկայի ոլորտում պետական քաղաքականության մշակում, ծրագրերի համակարգում և մոնիտորինգ
B28: Ծրագրի միջոցառումները
B30: Ծրագրի դասիչը` | C30: 1058 | D30: Ցուցանիշների փոփոխությունները (նվազեցումները նշված են փակագծերում)
B31: Միջոցառման դասիչը` | C31: 11002 | D31: Տարի
B32: Միջոցառման անվանումը` | C32: ԱՀԿ-ում և oտարերկրյա պետություններում ՀՀ առևտրային ներկայացուցիչների նպատակների և խնդիրների իրագործում
B33: Նկարագրությունը` | C33: ԱՀԿ-ում ՀՀ տնտեսական շահերի ներկայացում և պաշտպանություն, ՀՀ առևտրատնտեսական քաղաքականության զարգացմանը, արտահանումների խթանմանը և ներդրումների ներգրավմանն ուղղված գործունեություն արտերկրում
B34: Միջոցառման տեսակը` | C34: Ծառայությունների մատուցում
B35: Ծառայությունը մատուցող կազմակերպության(ների) անվանում(ներ)ը | C35: ՀՀ էկոնոմիկայի նախարարություն
B36: Արդյունքի չափորոշիչներ
B37: Օտարերկրյա պետություններում գործող ՀՀ առևտրային ներկայացուցչություններ, քանակ | D37: -3
B38: Միջոցառման վրա կատարվող ծախսը (հազար դրամ) | D38: -190000
B40: Ծրագրի դասիչը` | C40: 1058 | D40: Ցուցանիշների փոփոխությունները (նվազեցումները նշված են փակագծերում)
B41: Միջոցառման դասիչը` | C41: 11007 | D41: Տարի
B42: Միջոցառման անվանումը` | C42: ՀՀ էկոնոմիկայի նախարարության կողմից իրականացվող պետական աջակցության ծրագրերի հանրային իրազեկման ապահովում
B43: Նկարագրությունը` | C43: Ոլորտում իրականացվող պետական աջակցության ծրագրերի հանրային իրազեկման նպատակով գովազդատեղեկատվական նյութերի պատրաստում և հրապարակում
B44: Միջոցառման տեսակը` | C44: Ծառայությունների մատուցում
B45: Ծառայությունը մատուցող կազմակերպության(ների) անվանում(ներ)ը | C45: ՀՀ էկոնոմիկայի նախարարություն
B46: Արդյունքի չափորոշիչներ
B47: Միջոցառման վրա կատարվող ծախսը (հազար դրամ) | D47: -82926.5
B49: Ծրագրի դասիչը` | C49: 1058 | D49: Ցուցանիշների փոփոխությունները (նվազեցումները նշված են փակագծերում)
B50: Միջոցառման դասիչը` | C50: 31002 | D50: Տարի
B51: Միջոցառման անվանումը` | C51: ՀՀ էկոնոմիկայի նախարարության շենքային պայմանների բարելավում
B52: Նկարագրությունը` | C52: ՀՀ էկոնոմիկայի նախարարության շենք-շինությունների կապիտալ վերանորոգում և նախագծանախահաշվային փաստաթղթերի ձեռքբերում
...

Sheet 12
G1: Հավելված № 12
G2: ՀՀ կառավարության 2023 թվականի
G3: № ------------ -Ն որոշման
A5: ՀԱՅԱՍՏԱՆԻ ՀԱՆՐԱՊԵՏՈՒԹՅԱՆ ԿԱՌԱՎԱՐՈՒԹՅԱՆ 2022 ԹՎԱԿԱՆԻ ԴԵԿՏԵՄԲԵՐԻ 29-Ի N 2111-Ն ՈՐՈՇՄԱՆ N 10 ՀԱՎԵԼՎԱԾՈՒՄ ԿԱՏԱՐՎՈՂ ՓՈՓՈԽՈՒԹՅՈՒՆՆԵՐԸ
A6: ՀՀ էկոնոմիկայի նախարարություն
H8: հազ. դրամ
A9: Գնման առարկայի | E9: Գնման ձևը (ընթացակարգը) | F9: Չափի միավորը | G9: Ցուցանիշների փոփոխությունները (նվազեցումները նշված են փակագծերում)
A10: Միջանցիկ կոդը` ըստ CPV դասակարգման | B10: անվանումը | G10: Միավորի գինը (ՀՀ դրամ) | H10: Քանակը | I10: Գումարը (հազար դրամով)
A11: 1 | B11: 2 | E11: 3 | F11: 4 | G11: 5 | H11: 6 | I11: 7
A12: ՀՀ էկոնոմիկայի նախարարություն | I12: =+I13 -> -764446.5
A13: Բաժին N 04 | B13: Խումբ N 01 | C13: Դաս N 01 | D13: Ընդհանուր բնույթի տնտեսական և առևտրային հարաբերություններ | I13: =+I14+I33+I36+I40 -> -764446.5
A14: 1058 11007 | B14: ՀՀ էկոնոմիկայի նախարարության կողմից իրականացվող պետական աջակցության ծրագրերի հանրային իրազեկման ապահովում | I14: =+I15 -> -82926.5
B15: ՄԱՍ III. ԾԱՌԱՅՈՒԹՅՈՒՆՆԵՐ | I15: =+I17+I18+I19+I20+I21+I22+I23+I24+I25+I26+I27+I28+I29+I30+I31 -> -82926.5
A17: 79341100-1 | B17: գովազդային ծառայություններ | E17: ԷԱՃ | F17: դրամ | I17: -19645
A18: 79341100-4 | B18: գովազդային ծառայություններ | E18: ԷԱՃ | F18: դրամ | I18: -4530
A19: 79341100-5 | B19: գովազդային ծառայություններ | E19: ԷԱՃ | F19: դրամ | I19: -1800
A20: 79341100-6 | B20: գովազդային ծառայություններ | E20: ԷԱՃ | F20: դրամ | I20: -6300
A21: 79341100-7 | B21: գովազդային ծառայություններ | E21: ԷԱՃ | F21: դրամ | I21: -7494.1
A22: 79341100-8 | B22: գովազդային ծառայություններ | E22: ԷԱՃ | F22: դրամ | I22: -5240
A23: 79341100-11 | B23: գովազդային ծառայություններ | E23: ԷԱՃ | F23: դրամ | I23: -4456.8
A24: 79341100-12 | B24: գովազդային ծառայություններ | E24: ԷԱՃ | F24: դրամ | I24: -12800
A25: 79341100-13 | B25: գովազդային ծառայություններ | E25: ԷԱՃ | F25: դրամ | I25: -1815.6
A26: 79341100-14 | B26: գովազդային ծառայություններ | E26: ԷԱՃ | F26: դրամ | I26: -4660
A27: 79341100-17 | B27: գովազդային ծառայություններ | E27: ԷԱՃ | F27: դրամ | I27: -4200
A28: 79341100-18 | B28: գովազդային ծառայություններ | E28: ԷԱՃ | F28: դրամ | I28: -1840
... A31: 79341100-23 | B31: գովազդային ծառայություններ | E31: ԷԱՃ | F31: դրամ | I31: -3700
A32: ՀՀ էկոնոմիկայի նախարարություն
A33: 1165 11008 | B33: Վերակառուցման և զարգացման եվրոպական բանկի տարեկան ժողովի շրջանակներում ներդրումային համաժողովի անցկացում | I33: =+I34 -> -481520
B34: ՄԱՍ III. ԾԱՌԱՅՈՒԹՅՈՒՆՆԵՐ | I34: =+I35 -> -481520
A35: 79951100-1 | B35: միջոցառումների հետ կապված ծառայություններ | E35: ԷԱՃ | F35: դրամ | I35: -481520
A36: 1058 31002 | B36: ՀՀ էկոնոմիկայի նախարարության շենքային պայմանների բարելավում | I36: =+I37 -> -138876
B37: ՄԱՍ III. ԾԱՌԱՅՈՒԹՅՈՒՆՆԵՐ | I37: =+I38 -> -138876
A38: 45611300-1 | B38: այլ շենքերի, շինությունների հիմնանորոգում | E38: ԲՄ | F38: դրամ | I38: ='[2]հավելված 2'!G43 -> -138876
A39: ՀՀ քաղաքաշինության կոմիտե
A40: 1058 31002 | B40: ՀՀ էկոնոմիկայի նախարարության շենքային պայմանների բարելավում | I40: =+I41 -> -61124
B41: ՄԱՍ III. ԾԱՌԱՅՈՒԹՅՈՒՆՆԵՐ | I41: =+I42+I43+I44+I45 -> -61124
A42: 50531140-1 | B42: փորձաքննության ծառայություններ | E42: գհ | F42: դրամ | G42: 3200000 | H42: -1 | I42: -3200
A43: 71241200-1 | B43: նախագծերի պատրաստում, ծախսերի գնահատում | E43: գհ | F43: դրամ | G43: 52800000 | H43: -1 | I43: -52800
A44: 71351540-1 | B44: տեխնիկական հսկողության ծառայություններ | E44: գհ | F44: դրամ | G44: 3932400 | H44: -1 | I44: -3932.4
A45: 98111140-1 | B45: հեղինակային հսկողության ծառայություններ | E45: ՄԱ | F45: դրամ | G45: 1191600 | H45: -1 | I45: -1191.6

Sheet 13 
A1: Հավելված N 13
A2: ՀՀ կառավարության 2023 թվականի
A3: ______________ ի ___Ն որոշման
A5: ՀԱՅԱՍՏԱՆԻ ՀԱՆՐԱՊԵՏՈՒԹՅԱՆ 2023 ԹՎԱԿԱՆԻ ՊԵՏԱԿԱՆ ԲՅՈՒՋԵՈՎ ՆԱԽԱՏԵՍՎԱԾ՝ ՀԱՅԱՍՏԱՆԻ ՀԱՆՐԱՊԵՏՈՒԹՅԱՆ ԿԱՌԱՎԱՐՈՒԹՅԱՆ ՊԱՀՈՒՍՏԱՅԻՆ ՖՈՆԴԻՑ ՀԱՏԿԱՑՈՒՄՆԵՐ ԿԱՏԱՐԵԼՈՒ ՎԵՐԱԲԵՐՅԱԼ
G7: հազ. դրամ
A8: Գործառական դասիչը | D8: Ծրագրային դասիչը | F8: Բյուջետային ծախսերի գործառական դասակարգման բաժինների, խմբերի և դասերի, բյուջետային հատկացումների գլխավոր կարգադրիչների, ծրագրերի, միջոցառումների և միջոցառումները կատարող պետական մարմինների անվանումները | G8: Ցուցանիշների փոփոխությունը (ավելացումները նշված են դրական նշանով, իսկ նվազեցումները՝ փակագծերում)
A9: Բաժին | B9: Խումբ | C9: Դաս | D9: Ծրագիր | E9: Միջոցառում | G9: Տարի
F10: ԸՆԴԱՄԵՆԸ ԾԱԽՍԵՐ | G10: =+G12+G31 -> 0
F11: այդ թվում`
F12: ՀՀ էկոնոմիկայի նախարարություն | G12: =+G14 -> 886864.7
F13: այդ թվում`
A14: 04 | F14: ՏՆՏԵՍԱԿԱՆ ՀԱՐԱԲԵՐՈՒԹՅՈՒՆՆԵՐ | G14: =+G16 -> 886864.7
F15: այդ թվում`
B16: 02 | F16: Գյուղատնտեսություն, անտառային տնտեսություն, ձկնորսություն և որսորդություն | G16: =+G18 -> 886864.7
F17: այդ թվում`
C18: 01 | F18: Գյուղատնտեսություն | G18: =G20 -> 886864.7
F19: այդ թվում`
D20: 1187 | F20: Գյուղատնտեսության արդիականացման ծրագիր | G20: =+G22 -> 886864.7
F21: այդ թվում`
E22: 12014 | F22: Հայաստանի Հանրապետությունում ինտենսիվ այգեգործության զարգացման նպատակով սուբսիդավորում | G22: =+G24 -> 886864.7
F23: այդ թվում` ըստ կատարողների
F24: ՀՀ էկոնոմիկայի նախարարություն | G24: =+G26 -> 886864.7
F25: այդ թվում` բյուջետային ծախսերի տնտեսագիտական դասակարգման հոդվածներ
F26: ԸՆԴԱՄԵՆԸ ԾԱԽՍԵՐ | G26: =+G27 -> 886864.7
F27: ԸՆԹԱՑԻԿ ԾԱԽՍԵՐ | G27: =+G28 -> 886864.7
F28: ՍՈՒԲՍԻԴԻԱՆԵՐ | G28: =+G29 -> 886864.7
F29: Սուբսիդիաներ ոչ պետական կազմակերպություններին | G29: =+G30 -> 886864.7
F30: - Սուբսիդիաներ ոչ պետական ֆինանսական կազմակերպություններին | G30: 886864.7
F31: ՀՀ կառավարություն | G31: =+G33 -> -886864.7
F32: այդ թվում`
A33: 11 | F33: Հիմնական բաժիններին չդասվող պահուստային ֆոնդեր | G33: =+G35 -> -886864.7
F34: այդ թվում`
B35: 01 | F35: ՀՀ կառավարության և համայնքների պահուստային ֆոնդ | G35: =+G37 -> -886864.7
F36: այդ թվում`
C37: 01 | F37: ՀՀ կառավարության պահուստային ֆոնդ | G37: =+G39 -> -886864.7
F38: այդ թվում`
D39: 1139 | F39: ՀՀ կառավարության պահուստային ֆոնդ | G39: =+G41+G49 -> -886864.7
F40: այդ թվում`
E41: 11001 | F41: ՀՀ կառավարության պահուստային ֆոնդ | G41: =+G43 -> 0
F42: այդ թվում` ըստ կատարողների
...

Sheet 15
B1: Հավելված N10
B2: ՀՀ կառավարության 2022 թվականի
B3: ______________ ի ___Ն որոշման
B5: ՀԱՅԱՍՏԱՆԻ ՀԱՆՐԱՊԵՏՈՒԹՅԱՆ ԿԱՌԱՎԱՐՈՒԹՅԱՆ ՊԱՀՈՒՍՏԱՅԻՆ ՖՈՆԴԻՑ ԿԱՏԱՐՎՈՂ ՀԱՏԿԱՑՈՒՄԸ
H7: հազ. դրամ
B8: Գործառական դասիչը | E8: Ծրագրային դասիչը | G8: Բյուջետային ծախսերի գործառական դասակարգման բաժինների, խմբերի և դասերի, բյուջետային հատկացումների գլխավոր կարգադրիչների, ծրագրերի, միջոցառումների և միջոցառումները կատարող պետական մարմինների անվանումները | H8: Ցուցանիշների փոփոխությունը (ավելացումները նշված են դրական նշանով, իսկ նվազեցումները` փակագծերում)
B9: Բաժին | C9: Խումբ | D9: Դաս | E9: Ծրագիր | F9: Միջոցառում | H9: Ինն ամիս | I9: Տարի
G10: ԸՆԴԱՄԵՆԸ ԾԱԽՍԵՐ | H10: =+H12+H35 -> 0 | I10: =+I12+I35 -> #REF!
G11: այդ թվում`
G12: ՀՀ ՏԱՐԱԾՔԱՅԻՆ ԿԱՌԱՎԱՐՄԱՆ ԵՎ ԵՆԹԱԿԱՌՈՒՑՎԱԾՔՆԵՐԻ ՆԱԽԱՐԱՐՈՒԹՅՈՒՆ | H12: =+H14 -> 0 | I12: =+I14 -> #REF!
G13: այդ թվում`
B14: 04 | G14: ՏՆՏԵՍԱԿԱՆ ՀԱՐԱԲԵՐՈՒԹՅՈՒՆՆԵՐ | H14: 0 | I14: =+I16 -> #REF!
G15: այդ թվում`
C16: 05 | G16: Տրանսպորտ | H16: 0 | I16: =+I18 -> #REF!
G17: այդ թվում`
D18: 01 | G18: Ճանապարհային տրանսպորտ | H18: =+H20 -> 0 | I18: =+I20 -> #REF!
G19: այդ թվում`
G20: ՀՀ ՏԱՐԱԾՔԱՅԻՆ ԿԱՌԱՎԱՐՄԱՆ ԵՎ ԵՆԹԱԿԱՌՈՒՑՎԱԾՔՆԵՐԻ ՆԱԽԱՐԱՐՈՒԹՅՈՒՆ | H20: =+H22 -> 0 | I20: =+I22 -> #REF!
G21: այդ թվում`
E22: 1049 | G22: Ճանապարհային ցանցի բարելավում | H22: 0 | I22: =+I24 -> #REF!
G23: այդ թվում`
F24: 21001 | G24: ='[4]1'!C13 -> Պետական նշանակության ավտոճանապարհների հիմնանորոգում | H24: =+H26 -> 0 | I24: =+I26 -> #REF!
G25: այդ թվում` ըստ կատարողների
G26: ՀՀ տարածքային կառավարման և ենթակառուցվածքների նախարարություն | H26: 0 | I26: =+I28 -> #REF!
G27: այդ թվում` բյուջետային ծախսերի տնտեսագիտական դասակարգման հոդվածների
G28: ԸՆԴԱՄԵՆԸ ԾԱԽՍԵՐ | H28: 0 | I28: =+I29 -> #REF!
G29: ՈՉ ՖԻՆԱՆՍԱԿԱՆ ԱԿՏԻՎՆԵՐԻ ԳԾՈՎ ԾԱԽՍԵՐ | H29: 0 | I29: =+I30 -> #REF!
G30: ՀԻՄՆԱԿԱՆ ՄԻՋՈՑՆԵՐ | H30: 0 | I30: =+I31 -> #REF!
G31: ՇԵՆՔԵՐ ԵՎ ՇԻՆՈՒԹՅՈՒՆՆԵՐ | H31: 0 | I31: =+I32 -> #REF!
G32: - Շենքերի և շինությունների կապիտալ վերանորոգում | H32: 0 | I32: =-I52 -> #REF!
G33: ՀՀ կառավարություն | H33: =+H35 -> 0 | I33: =+I35 -> #REF!
G34: այդ թվում`
B35: 11 | G35: ՀԻՄՆԱԿԱՆ ԲԱԺԻՆՆԵՐԻՆ ՉԴԱՍՎՈՂ ՊԱՀՈՒՍՏԱՅԻՆ ՖՈՆԴԵՐ | H35: =+H37 -> 0 | I35: =+I37 -> #REF!
G36: այդ թվում`
C37: 01 | G37: ՀՀ կառավարության և համայնքների պահուստային ֆոնդ | H37: =+H39 -> 0 | I37: =+I39 -> #REF!
G38: այդ թվում`
D39: 01 | G39: ՀՀ կառավարության պահուստային ֆոնդ | H39: =+H43 -> 0 | I39: =+I43 -> #REF!
G40: այդ թվում`
G41: ՀՀ կառավարություն | H41: =+H43 -> 0 | I41: =+I43 -> #REF!
G42: այդ թվում`
...
