Workbook
Name _tab10: #REF!
Name _tab10: #REF!
Name _tab11: #REF!
Name _tab11: #REF!
Name _tab12: #REF!
Name _tab12: #REF!
Name _tab13: #REF!
Name _tab13: #REF!
Name _tab14: #REF!
Name _tab14: #REF!
Name _tab15: #REF!
Name _tab15: #REF!
Name _tab16: #REF!
Name _tab16: #REF!
Name _tab17: #REF!
Name _tab17: #REF!
Name _tab18: #REF!
Name _tab18: #REF!
Name _tab19: #REF!
Name _tab19: #REF!
Name _tab20: #REF!
Name _tab20: #REF!
Name _tab21: #REF!
Name _tab21: #REF!
Name _tab22: #REF!
Name _tab22: #REF!
Name _tab22222: #REF!
Name _tab23: #REF!
Name _tab23: #REF!
Name _tab24: #REF!
Name _tab24: #REF!
Name _tab5: #REF!
Name _tab5: #REF!
Name _tab6: #REF!
Name _tab6: #REF!
Name _tab7: #REF!
Name _tab7: #REF!
Name _tab8: #REF!
Name _tab8: #REF!
Name _tab9: #REF!
Name _tab9: #REF!
Name aaaaaaaaaaaa: #REF!
Name hhhh: #REF!
Name hunvar: #REF!,#REF!,#REF!,#REF!,#REF!,#REF!,#REF!,#REF!,#REF!,#REF!,#REF!,#REF!,#REF!,#REF!,#REF!
Name par_count: #REF!,#REF!,#REF!,#REF!,#REF!,#REF!,#REF!,#REF!,#REF!,#REF!,#REF!,#REF!,#REF!,#REF!,#REF!
Name par_count: #REF!,#REF!,#REF!,#REF!,#REF!,#REF!,#REF!,#REF!,#REF!,#REF!,#REF!,#REF!,#REF!,#REF!,#REF!
Name par_qual: #REF!,#REF!,#REF!,#REF!,#REF!
Name par_qual: #REF!,#REF!,#REF!,#REF!,#REF!
Name par_time: #REF!,#REF!,#REF!,#REF!
Name par_time: #REF!,#REF!,#REF!,#REF!
Name par2.12s: #REF!
Name par2.12s: #REF!
Name par2.4s: #REF!,#REF!,#REF!,#REF!,#REF!,#REF!,#REF!,#REF!,#REF!,#REF!,#REF!,#REF!,#REF!,#REF!,#REF!,#REF!
Name par2.4s: #REF!,#REF!,#REF!,#REF!,#REF!,#REF!,#REF!,#REF!,#REF!,#REF!,#REF!,#REF!,#REF!,#REF!,#REF!,#REF!
Name par2.5s: #REF!,#REF!
Name par2.5s: #REF!,#REF!
Name par2.6s: #REF!,#REF!,#REF!,#REF!
Name par2.6s: #REF!,#REF!,#REF!,#REF!
Name par2.7s: #REF!,#REF!
Name par2.7s: #REF!,#REF!

Sheet 1
B1: Հավելված № 1
B2: ՀՀ կառավարության 2023 թվականի
B3: __________ «____» -ի
B4: N_____ -Ն որոշման
B6: «ՀԱՅԱՍՏԱՆԻ ՀԱՆՐԱՊԵՏՈՒԹՅԱՆ 2023 ԹՎԱԿԱՆԻ ՊԵՏԱԿԱՆ ԲՅՈՒՋԵԻ ՄԱՍԻՆ» ՀԱՅԱՍՏԱՆԻ ՀԱՆՐԱՊԵՏՈՒԹՅԱՆ ՕՐԵՆՔԻ № 1 ՀԱՎԵԼՎԱԾԻ № 2 ԱՂՅՈՒՍԱԿՈՒՄ ԿԱՏԱՐՎՈՂ ՎԵՐԱԲԱՇԽՈՒՄԸ ԵՎ ՀԱՅԱՍՏԱՆԻ ՀԱՆՐԱՊԵՏՈՒԹՅԱՆ ԿԱՌԱՎԱՐՈՒԹՅԱՆ 2022 ԹՎԱԿԱՆԻ ԴԵԿՏԵՄԲԵՐԻ 29-Ի № 2111-Ն ՈՐՈՇՄԱՆ № 5 ՀԱՎԵԼՎԱԾԻ № 1 ԱՂՅՈՒՍԱԿՈՒՄ ԿԱՏԱՐՎՈՂ ՓՈՓՈԽՈՒԹՅՈՒՆԸ ԵՎ ԼՐԱՑՈՒՄԸ
B7: (հազ. դրամ)
B8: Ծրագրային դասիչը | D8: Բյուջետային հատկացումների գլխավոր կարգադրիչների, ծրագրերի և միջոցառումների անվանումները | E8: Ցուցանիշների փոփոխությունները (ավելացումները նշված են դրական նշանով, իսկ նվազեցումները` փակագծերում)
B9: Ծրագիր | C9: Միջոցառում | E9: Տարի
D10: ԸՆԴԱՄԵՆԸ | E10: =+E11 -> 0
D11: ՀՀ առողջապահության նախարարություն | E11: =+E12 -> 0
B12: 1126 | D12: Ծրագրի անվանումը | E12: =+E19+E26 -> 0
D13: Առողջապահության ոլորտում պետական քաղաքականության մշակում, ծրագրերի համակարգում և մոնիտորինգ
D14: Ծրագրի նպատակը
D15: Մարդու և հանրության առողջության պահպանում, բնակչության առողջության բարելավում, հիվանդությունների կանխարգելում, հաշմանդամության և մահացության ցուցանիշների նվազեցում
D16: Վերջնական արդյունքի նկարագրությունը
D17: Առողջապահության ոլորտում իրականացվող ծրագրերի ազդեցության և արդյունավետության բարելավում
B18: Ծրագրի միջոցառումներ
C19: 12006 | D19: Միջոցառման անվանումը | E19: =+'5'!H11 -> 198081.2
D20: Առողջապահական համակարգի պետական առևտրային և ոչ առևտրային կազմակերպություններին ֆինանսական աջակցության հատկացում
D21: Միջոցառման նկարագրությունը
D22: Առողջապահական համակարգի պետական առևտրային և ոչ առևտրային կազմակերպություններին ֆինանսական աջակցության տրամադրում ընթացիկ գործունեության արդյունավետության բարձրացմանն ուղղված
D23: Միջոցառման տեսակը
D24: Տրանսֆերտի տրամադրում
C26: 31003 | D26: Միջոցառման անվանումը | E26: =+'2'!E11 -> -198081.2
D27: Առողջապահական կազմակերպությունների կառուցում, վերակառուցում
D28: Միջոցառման նկարագրությունը
D29: Բնակչությանը որակյալ բժշկական օգնության և սպասարկման ծառայություններ մատուցելու նպատակով առողջապահական կազմակերպությունների վերազինում
D30: Միջոցառման տեսակը
D31: Պետական մարմինների կողմից օգտագործվող ոչ ֆինանսական ակտիվների հետ գործառնություններ

Sheet 2
B1: Հավելված № 2
B2: ՀՀ կառավարության 2023 թվականի
B3: __________ «____» -ի
B4: N_____ -Ն որոշման
B6: «ՀԱՅԱՍՏԱՆԻ ՀԱՆՐԱՊԵՏՈՒԹՅԱՆ 2023 ԹՎԱԿԱՆԻ ՊԵՏԱԿԱՆ ԲՅՈՒՋԵԻ ՄԱՍԻՆ» ՀԱՅԱՍՏԱՆԻ ՀԱՆՐԱՊԵՏՈՒԹՅԱՆ ՕՐԵՆՔԻ № 1 ՀԱՎԵԼՎԱԾԻ № 3 ԱՂՅՈՒՍԱԿՈՒՄ ԿԱՏԱՐՎՈՂ ՓՈՓՈԽՈՒԹՅՈՒՆՆԵՐԸ
B7: (հազ. դրամ)
B8: Ծրագրային դասիչ | D8: Բյուջետային գլխավոր կարգադրիչների, ծրագրերի, միջոցառումների և ուղղությունների անվանումները | E8: Ցուցանիշների փոփոխությունները (ավելացումները նշված են դրական նշանով, իսկ նվազեցումները` փակագծերում)
E9: Ընդամենը | F9: այդ թվում
B10: Ծրագիր | C10: Միջոցառում | F10: Կառուցման աշխատանքներ | G10: Վերակառուցման, վերանորոգման և վերականգնման աշխատանքներ | H10: Նախագծահե- տազոտական, գեոդեզիա- քարտեզագրա- կան աշխա- տանքներ | I10: Ոչ ֆինանսական այլ ակտիվների ձեռքբերում
D11: ՀՀ ԱՌՈՂՋԱՊԱՀՈՒԹՅԱՆ ՆԱԽԱՐԱՐՈՒԹՅՈՒՆ | E11: =+E13 -> -198081.2 | F11: =+F13 -> 0 | G11: =+G13 -> -198081.2
D12: այդ թվում`
B13: 1126 | C13: 31003 | D13: Առողջապահական կազմակերպությունների կառուցում, վերակառուցում | E13: =+E15+E18+E20+E22 -> -198081.2 | F13: =+F15+F18+F20+F22 -> 0 | G13: =+G15+G18+G20+G22 -> -198081.2
D14: այդ թվում`
D15: Երևան քաղաք | E15: =+E16+E17 -> -132081.2 | F15: =+F16+F17 -> 0 | G15: =+G16+G17 -> -132081.2
D16: «Հոգեկան առողջության պահպանման ազգային կենտրոն» ՓԲԸ | E16: =+F16+G16+H16+I16 -> -66081.2 | G16: -66081.2
D17: «Ինֆեկցիոն հիվանդությունների ազգային կենտրոն» ՓԲԸ | E17: =+F17+G17+H17+I17 -> -66000 | G17: -66000
D18: ՀՀ Արարատի մարզ | E18: =+E19 -> -155151.5 | F18: =+F19 -> -155151.5 | G18: =+G19 -> 0
D19: «Մասիսի բժշկական կենտրոն» ՓԲԸ | E19: =+F19+G19+H19+I19 -> -155151.5 | F19: -155151.5 | G19: 0
D20: ՀՀ Կոտայքի մարզ | E20: =+E21 -> 155151.5 | F20: =+F21 -> 155151.5 | G20: =+G21 -> 0
D21: «Նաիրի բժշկական կենտրոն» ՓԲԸ | E21: =+F21+G21+H21+I21 -> 155151.5 | F21: 155151.5 | G21: 0
D22: ՀՀ Սյունիքի մարզ | E22: =+E23 -> -66000 | F22: =+F23 -> 0 | G22: =+G23 -> -66000
D23: «Սիսիանի բժշկական կենտրոն» ՓԲԸ | E23: =+F23+G23+H23+I23 -> -66000 | G23: -66000

Sheet 3
B1: Հավելված № 3
B2: ՀՀ կառավարության 2023 թվականի
B3: __________ «____» -ի
B4: N_____ -Ն որոշման
B5: ՀԱՅԱՍՏԱՆԻ ՀԱՆՐԱՊԵՏՈՒԹՅԱՆ ԿԱՌԱՎԱՐՈՒԹՅԱՆ 2022 ԹՎԱԿԱՆԻ ԴԵԿՏԵՄԲԵՐԻ 29-Ի № 2111-Ն ՈՐՈՇՄԱՆ №№ 3 և 4 ՀԱՎԵԼՎԱԾՆԵՐՈՒՄ ԿԱՏԱՐՎՈՂ ՓՈՓՈԽՈՒԹՅՈՒՆՆԵՐԸ ԵՎ ԼՐԱՑՈՒՄՆԵՐԸ
B6: (հազ. դրամ)
B7: Գործառական դասիչը | E7: Ծրագրային դասիչը | G7: Բյուջետային հատկացումների գլխավոր կարգադրիչների, ծրագրերի, միջոցառումների և միջոցառումները կատարող պետական մարմինների անվանումները | H7: Ցուցանիշների փոփոխությունները (ավելացումները նշված են դրական նշանով, իսկ նվազեցումները` փակագծերում)
B8: բաժին | C8: խումբ | D8: դաս | E8: Ծրագիր | F8: Միջոցառում | H8: Տարի
B9: ԸՆԴԱՄԵՆԸ | H9: =+H10 -> 0
B10: 07 | G10: ԱՌՈՂՋԱՊԱՀՈՒԹՅՈՒՆ | H10: =+H12 -> 0
G11: այդ թվում՝
C12: 06 | G12: Առողջապահություն (այլ դասերին չպատկանող) | H12: =+H14 -> 0
G13: այդ թվում՝
D14: 02 | G14: Առողջապահություն (այլ դասերին չպատկանող) | H14: =+H16 -> 0
G15: այդ թվում՝
G16: ՀՀ առողջապահության նախարարություն | H16: =+H18 -> 0
G17: այդ թվում՝
E18: 1126 | G18: Առողջապահության ոլորտում պետական քաղաքականության մշակում, ծրագրերի համակարգում և մոնիտորինգ | H18: =+H20+H29 -> 0
G19: այդ թվում՝
F20: 12006 | G20: Առողջապահական համակարգի պետական առևտրային և ոչ առևտրային կազմակերպություններին ֆինանսական աջակցության հատկացում | H20: =H24 -> 198081.2
G21: այդ թվում ըստ կատարողների
G22: ՀՀ առողջապահության նախարարություն | H22: =H24 -> 198081.2
G23: այդ թվում` բյուջետային ծախսերի տնտեսագիտական դասակարգման հոդվածներ
G24: ԸՆԴԱՄԵՆԸ ԾԱԽՍԵՐ | H24: =H25 -> 198081.2
G25: ԸՆԹԱՑԻԿ ԾԱԽՍԵՐ | H25: =H26 -> 198081.2
G26: ԴՐԱՄԱՇՆՈՐՀՆԵՐ | H26: =+H27 -> 198081.2
G27: Կապիտալ դրամաշնորհներ պետական հատվածի այլ մակարդակներին | H27: =+H28 -> 198081.2
G28: -Կապիտալ դրամաշնորհներ պետական և համայնքային առևտրային կազմակերպություններին | H28: =+'1'!E19 -> 198081.2
F29: 31003 | G29: Առողջապահական կազմակերպությունների կառուցում, վերակառուցում | H29: =+H31 -> -198081.2
G30: այդ թվում ըստ կատարողների
G31: ՀՀ առողջապահության նախարարություն | H31: =+H33 -> -198081.2
G32: այդ թվում` բյուջետային ծախսերի տնտեսագիտական դասակարգման հոդվածներ
G33: ԸՆԴԱՄԵՆԸ ԾԱԽՍԵՐ | H33: =H34 -> -198081.2
G34: ՈՉ ՖԻՆԱՆՍԱԿԱՆ ԱԿՏԻՎՆԵՐԻ ԳԾՈՎ ԾԱԽՍԵՐ | H34: =H35 -> -198081.2
G35: ՀԻՄՆԱԿԱՆ ՄԻՋՈՑՆԵՐ | H35: =H36 -> -198081.2
G36: ՇԵՆՔԵՐ ԵՎ ՇԻՆՈՒԹՅՈՒՆՆԵՐ | H36: =+H37 -> -198081.2
G37: - Շենքերի և շինությունների կապիտալ վերանորոգում | H37: =+'2'!G11 -> -198081.2

Sheet 4
B1: Հավելված № 4
B2: ՀՀ կառավարության 2023 թվականի
B3: __________ «____» -ի
B4: N_____ -Ն որոշման
B6: ՀԱՅԱՍՏԱՆԻ ՀԱՆՐԱՊԵՏՈՒԹՅԱՆ ԿԱՌԱՎԱՐՈՒԹՅԱՆ 2022 ԹՎԱԿԱՆԻ ԴԵԿՏԵՄԲԵՐԻ 29-Ի № 2111-Ն ՈՐՈՇՄԱՆ № 5 ՀԱՎԵԼՎԱԾԻ № 2 ԱՂՅՈՒՍԱԿՈՒՄ ԿԱՏԱՐՎՈՂ ՓՈՓՈԽՈՒԹՅՈՒՆՆԵՐԸ
B7: (հազ. դրամ)
B8: Ծրագրային դասիչ | D8: Բյուջետային գլխավոր կարգադրիչների, ծրագրերի, միջոցառումների և ուղղությունների անվանումները | E8: Ցուցանիշների փոփոխությունները (նվազեցումները նշված են փակագծերում)
B9: Ծրագիր | C9: Միջոցառում | E9: Տարի
D10: ՀՀ ԱՌՈՂՋԱՊԱՀՈՒԹՅԱՆ ՆԱԽԱՐԱՐՈՒԹՅՈՒՆ | E10: =+E12 -> -198081.2
D11: այդ թվում`
B12: 1126 | C12: 31003 | D12: Առողջապահական կազմակերպությունների կառուցում, վերակառուցում | E12: =+E14+E21 -> -198081.2
D13: այդ թվում՝ ըստ կատարողների
D14: ՀՀ առողջապահության նախարարություն | E14: =+E16+E19 -> -198081.2
D15: այդ թվում՝ ըստ ուղղությունների
D16: Երևան քաղաք | E16: =+E17+E18 -> -132081.2
D17: «Հոգեկան առողջության պահպանման ազգային կենտրոն» ՓԲԸ | E17: =+'2'!G16 -> -66081.2
D18: «Ինֆեկցիոն հիվանդությունների ազգային կենտրոն» ՓԲԸ | E18: =+'2'!G17 -> -66000
D19: ՀՀ Սյունիքի մարզ | E19: =+E20 -> -66000
D20: «Սիսիանի բժշկական կենտրոն» ՓԲԸ | E20: =+'2'!G23 -> -66000
D21: ՀՀ քաղաքաշինության կոմիտե | E21: =E23+E25 -> 0
D22: այդ թվում`ըստ ուղղությունների
D23: ՀՀ Արարատի մարզ | E23: =+E24 -> -155151.5
D24: «Մասիսի բժշկական կենտրոն» ՓԲԸ | E24: =+'2'!F19 -> -155151.5
D25: ՀՀ Կոտայքի մարզ | E25: =+E26 -> 155151.5
D26: «Նաիրի բժշկական կենտրոն» ՓԲԸ | E26: =+'2'!F21 -> 155151.5

Sheet 5
B1: Հավելված № 5
B2: ՀՀ կառավարության 2023 թվականի
B3: __________ «____» -ի
B4: N_____ -Ն որոշման
B5: ՀԱՅԱՍՏԱՆԻ ՀԱՆՐԱՊԵՏՈՒԹՅԱՆ ԿԱՌԱՎԱՐՈՒԹՅԱՆ 2022 ԹՎԱԿԱՆԻ ԴԵԿՏԵՄԲԵՐԻ 29-Ի ԹԻՎ 2111-Ն ՈՐՈՇՄԱՆ N5 ՀԱՎԵԼՎԱԾԻ N 7 ԱՂՅՈՒՍԱԿՈՒՄ ԿԱՏԱՐՎՈՂ ՓՈՓՈԽՈՒԹՅՈՒՆՆԵՐԸ ԵՎ ԼՐԱՑՈՒՄՆԵՐԸ
H6: հազար դրամ
B7: Ծրագրային դասիչ | D7: Բյուջետային հատկացումների գլխավոր կարգադրիչների, ծրագրերի, միջոցառումների, ծախսային ուղղությունների անվանումները | G7: Միջոցառումները կատարող պետական մարմինների և դրամաշնորհ ստացող տնտեսվարող սուբյեկտների անվանումները | H7: Տարի Ցուցանիշների փոփոխությունները (ավելացումները նշված են դրական նշանով)
B8: Ծրագիր | C8: Միջոցառում
B9: ՀՀ առողջապահության նախարարություն | H9: =+H10 -> 198081.2
B10: 1126 | C10: Առողջապահության ոլորտում պետական քաղաքականության մշակում, ծրագրերի համակարգում և մոնիտորինգ | H10: =+H11 -> 198081.2
C11: 12006 | D11: Առողջապահական համակարգի պետական առևտրային և ոչ առևտրային կազմակերպություններին ֆինանսական աջակցության հատկացում | G11: ՀՀ առողջապահության նախարարություն | H11: =H12+H13+H14 -> 198081.2
G12: «Գյումրու բժշկական կենտրոն» ՓԲԸ | H12: 163181.2
G13: «Կապանի բժշկական կենտրոն» ՓԲԸ | H13: 15000
G14: «Անդրանիկ Պետրոսյանի անվան Բյուրեղավանի քաղաքային պոլիկլինիկա» ՓԲԸ | H14: 19900

Sheet 6
B1: Հավելված № 6
B2: ՀՀ կառավարության 2023 թվականի
B3: __________ «____» -ի
B4: N_____ -Ն որոշման
B6: ՀԱՅԱՍՏԱՆԻ ՀԱՆՐԱՊԵՏՈՒԹՅԱՆ ԿԱՌԱՎԱՐՈՒԹՅԱՆ 2022 ԹՎԱԿԱՆԻ ԴԵԿՏԵՄԲԵՐԻ 29-Ի № 2111-Ն ՈՐՈՇՄԱՆ № 9 ՀԱՎԵԼՎԱԾԻ № 9.8 ԱՂՅՈՒՍԱԿՈՒՄ ԿԱՏԱՐՎՈՂ ՓՈՓՈԽՈՒԹՅՈՒՆՆԵՐԸ ԵՎ ԼՐԱՑՈՒՄՆԵՐԸ
B7: ՀՀ Առողջապահության նախարարություն
B8: ՄԱՍ 2. ՊԵՏԱԿԱՆ ՄԱՐՄՆԻ ԳԾՈՎ ԱՐԴՅՈՒՆՔԱՅԻՆ (ԿԱՏԱՐՈՂԱԿԱՆ) ՑՈՒՑԱՆԻՇՆԵՐԸ
B9: (հազ. դրամ)
B10: Ծրագրի դասիչը | C10: Ծրագրի անվանումը
B11: 1126 | C11: Առողջապահության ոլորտում պետական քաղաքականության մշակում, ծրագրերի համակարգում և մոնիտորինգ
B13: Ծրագրի միջոցառումները
B14: Ծրագրի դասիչը` | C14: 1126 | D14: Ցուցանիշների փոփոխությունները (ավելացումները նշված են դրական նշանով)
B15: Միջոցառման դասիչը` | C15: 12006 | D15: Տարի
B16: Միջոցառման անվանումը` | C16: Առողջապահական համակարգի պետական առևտրային և ոչ առևտրային կազմակերպություններին ֆինանսական աջակցության հատկացում
B17: Նկարագրությունը` | C17: Առողջապահական համակարգի պետական առևտրային և ոչ առևտրային կազմակերպություններին ֆինանսական աջակցության տրամադրում ընթացիկ գործունեության արդյունավետության բարձրացմանն ուղղված
B18: Միջոցառման տեսակը` | C18: Տրանսֆերտի տրամադրում
B19: Ակտիվն օգտագործող կազմակերպության (ների) անվանում(ներ)ը | C19: Առողջապահական կազմակերպություններ
B20: Արդյունքի չափորոշիչներ
B21: Ֆինանսական աջակցություն ստացող բժշկական հաստատությունների թիվ, հատ | D21: 3
B22: Միջոցառման վրա կատարվող ծախսը (հազար դրամ) | D22: =+'1'!E19 -> 198081.2
B24: Ծրագրի դասիչը` | C24: 1126 | D24: Ցուցանիշների փոփոխությունը (նվազեցումները նշված են փակագծերում)
B25: Միջոցառման դասիչը` | C25: 31003 | D25: Տարի
B26: Միջոցառման անվանումը` | C26: Առողջապահական կազմակերպությունների կառուցում, վերակառուցում
B27: Նկարագրությունը` | C27: Բնակչությանը որակյալ բժշկական օգնության և սպասարկման ծառայություններ մատուցելու նպատակով առողջապահական կազմակերպությունների կառուցում, վերակառուցում
B28: Միջոցառման տեսակը` | C28: Պետական մարմինների կողմից օգտագործվող ոչ ֆինանսական ակտիվների հետ գործառնություններ
B29: Ակտիվն օգտագործող կազմակերպության (ների) անվանում(ներ)ը | C29: ՀՀ գնումների մասին օրենսդրությանը համապատասխան ընտրված կազմակերպություններ
B30: Արդյունքի չափորոշիչներ
B31: Միջոցառման վրա կատարվող ծախսը (հազար դրամ) | D31: =+'1'!E26 -> -198081.2

Sheet 7
B1: Հավելված № 7
B2: ՀՀ կառավարության 2023 թվականի
B3: __________ «____» -ի
B4: N_____ -Ն որոշման
B6: ՀԱՅԱՍՏԱՆԻ ՀԱՆՐԱՊԵՏՈՒԹՅԱՆ ԿԱՌԱՎԱՐՈՒԹՅԱՆ 2022 ԹՎԱԿԱՆԻ ԴԵԿՏԵՄԲԵՐԻ 29-Ի № 2111-Ն ՈՐՈՇՄԱՆ № 9.1 ՀԱՎԵԼՎԱԾԻ № 9.1.8 ԱՂՅՈՒՍԱԿՈՒՄ ԿԱՏԱՐՎՈՂ ՓՈՓՈԽՈՒԹՅՈՒՆՆԵՐԸ
B7: ՀՀ Առողջապահության նախարարություն
B8: ՄԱՍ 1. ՊԵՏԱԿԱՆ ՄԱՐՄՆԻ ԳԾՈՎ ԱՐԴՅՈՒՆՔԱՅԻՆ (ԿԱՏԱՐՈՂԱԿԱՆ) ՑՈՒՑԱՆԻՇՆԵՐԸ
B10: Ծրագրի դասիչը | C10: Ծրագրի անվանումը
B11: 1126 | C11: Առողջապահության ոլորտում պետական քաղաքականության մշակում, ծրագրերի համակարգում և մոնիտորինգ
B13: Ծրագրի միջոցառումները
B14: Ծրագրի դասիչը` | C14: 1126 | D14: Ցուցանիշների փոփոխությունները (ավելացումները նշված են դրական նշանով)
B15: Միջոցառման դասիչը` | C15: 12006 | D15: Տարի
B16: Միջոցառման անվանումը` | C16: Առողջապահական համակարգի պետական առևտրային և ոչ առևտրային կազմակերպություններին ֆինանսական աջակցության հատկացում
B17: Նկարագրությունը` | C17: Առողջապահական համակարգի պետական առևտրային և ոչ առևտրային կազմակերպություններին ֆինանսական աջակցության տրամադրում ընթացիկ գործունեության արդյունավետության բարձրացմանն ուղղված
B18: Միջոցառման տեսակը` | C18: Տրանսֆերտի տրամադրում
B19: Ակտիվն օգտագործող կազմակերպության (ների) անվանում(ներ)ը | C19: Առողջապահական կազմակերպություններ
B20: Արդյունքի չափորոշիչներ
B21: Ֆինանսական աջակցություն ստացող բժշկական հաստատությունների թիվ, հատ | D21: 3
B22: Միջոցառման վրա կատարվող ծախսը (հազար դրամ) | D22: =+'1'!E19 -> 198081.2
B24: Ծրագրի դասիչը` | C24: 1126 | D24: Ցուցանիշների փոփոխությունը (նվազեցումները նշված են փակագծերում)
B25: Միջոցառման դասիչը` | C25: 31003 | D25: Տարի
B26: Միջոցառման անվանումը` | C26: Առողջապահական կազմակերպությունների կառուցում, վերակառուցում
B27: Նկարագրությունը` | C27: Բնակչությանը որակյալ բժշկական օգնության և սպասարկման ծառայություններ մատուցելու նպատակով առողջապահական կազմակերպությունների կառուցում, վերակառուցում
B28: Միջոցառման տեսակը` | C28: Պետական մարմինների կողմից օգտագործվող ոչ ֆինանսական ակտիվների հետ գործառնություններ
B29: Ակտիվն օգտագործող կազմակերպության (ների) անվանում(ներ)ը | C29: ՀՀ գնումների մասին օրենսդրությանը համապատասխան ընտրված կազմակերպություններ
B30: Արդյունքի չափորոշիչներ
B31: Միջոցառման վրա կատարվող ծախսը (հազար դրամ) | D31: =+'3'!H31 -> -198081.2

Sheet 8
B1: Հավելված № 8
B2: ՀՀ կառավարության 2023 թվականի
B3: __________ «____» -ի
B4: N_____ -Ն որոշման
B5: ՀԱՅԱՍՏԱՆԻ ՀԱՆՐԱՊԵՏՈՒԹՅԱՆ ԿԱՌԱՎԱՐՈՒԹՅԱՆ 2022 ԹՎԱԿԱՆԻ ԴԵԿՏԵՄԲԵՐԻ 29-Ի № 2111-Ն ՈՐՈՇՄԱՆ № 10 ՀԱՎԵԼՎԱԾՈՒՄ ԿԱՏԱՐՎՈՂ ՓՈՓՈԽՈՒԹՅՈՒՆՆԵՐԸ
B6: Կոդը | C6: Անվանումը | F6: Գնման ձևը | G6: Չափման միավորը | H6: Միավորի գինը | I6: Քանակը | J6: Ցուցանիշների փոփոխությունները (նվազեցումները նշված են փակագծերում)
J7: Գումարը (հազար դրամով)
B8: ՀՀ առողջապահության նախարարություն | J8: =+J9+J17 -> -198081.2
B9: Բաժին N 07 | C9: Խումբ N 06 | D9: Դաս N 02 | E9: Առողջապահություն (այլ դասերին չպատկանող) | J9: =J10 -> -198081.2
B10: 1126 31003 | C10: Առողջապահական կազմակերպությունների կառուցում, վերակառուցում | J10: =+J11 -> -198081.2
C11: ՄԱՍ II. ԱՇԽԱՏԱՆՔՆԵՐ | J11: =+J12+J13+J14 -> -198081.2
B12: 45451700-1 | C12: վերակառուցման աշխատանքներ | F12: ԲՄ | G12: դրամ | J12: -66081.2
B13: 45451700-2 | C13: վերակառուցման աշխատանքներ | F13: ԲՄ | G13: դրամ | J13: -66000
B14: 45451700-3 | C14: վերակառուցման աշխատանքներ | F14: ԲՄ | G14: դրամ | J14: -66000
B16: ՀՀ քաղաքաշինության կոմիտե
B17: Բաժին 07 | C17: Խումբ 06 | D17: Դաս 02 | E17: Առողջապահություն (այլ դասերին չպատկանող) | J17: =+J18 -> 0
B18: 1126 31003 | C18: Առողջապահական կազմակերպությունների կառուցում, վերակառուցում | J18: =+J19+J22 -> 0
C19: ՄԱՍ II. ԱՇԽԱՏԱՆՔՆԵՐ | J19: =J20+J21 -> 0
B20: 45211250-2 | C20: առողջապահության հետ կապված շենքերի կառուցման աշխատանքներ | F20: ԲՄ | G20: դրամ | J20: -150000
B21: 45211250-3 | C21: առողջապահության հետ կապված շենքերի կառուցման աշխատանքներ | F21: ԲՄ | G21: դրամ | J21: 150000
C22: ՄԱՍ III. ԾԱՌԱՅՈՒԹՅՈՒՆՆԵՐ | J22: =SUM(J23:J26) -> 0
B23: 71351540-2 | C23: տեխնիկական հսկողության ծառայություններ | F23: գհ | G23: դրամ | J23: -4191.5
B24: 71351540-3 | C24: տեխնիկական հսկողության ծառայություններ | F24: գհ | G24: դրամ | J24: 4221.3
B25: 98111140-2 | C25: հեղինակային հսկողության ծառայություններ | F25: ՄԱ | G25: դրամ | J25: -960
B26: 98111140-3 | C26: հեղինակային հսկողության ծառայություններ | F26: ՄԱ | G26: դրամ | J26: 930.2
