Workbook
Name AgencyCode: #REF!
Name AgencyName: #REF!
Name Functional1: #REF!
Name PANature: #REF!
Name PAType: #REF!
Name Performance2: #REF!
Name PerformanceType: #REF!

Sheet Հավելված1
H1: Հավելված N 1
H2: ՀՀ կառավարության 2021 թվականի ----------
H3: № ---------- որոշման
A5: «ՀԱՅԱUՏԱՆԻ ՀԱՆՐԱՊԵՏՈՒԹՅԱՆ 2022 ԹՎԱԿԱՆԻ ՊԵՏԱԿԱՆ ԲՅՈՒՋԵԻ ՄԱUԻՆ» ՀԱՅԱUՏԱՆԻ ՀԱՆՐԱՊԵՏՈՒԹՅԱՆ OՐԵՆՔԻ N 1 ՀԱՎԵԼՎԱԾԻ N 3 ԱՂՅՈՒՍԱԿՈՒՄ ԿԱՏԱՐՎՈՂ ԿԱՏԱՐՎՈՂ ՓՈՓՈԽՈՒԹՅՈՒՆԸ
H7: հազ. դրամներով
A8: Ծրագրային դասիչ | C8: Բյուջետային գլխավոր կարգադրիչների, ծրագրերի, միջոցառումների և ուղղությունների անվանումները | D8: Ընդամենը, | E8: Ցուցանիշների փոփոխությունը (ավելացումները նշված են դրական նշանով, նվազեցումները՝ փակագծերում)
A9: Ծրագիր | B9: Միջոցառում | E9: Կառուցման աշխատանքներ | F9: Վերակառուցման, վերանորոգման և վերականգնման աշխատանքներ | G9: Նախագծահե- տազոտական, գեոդեզիա- քարտեզագրա- կան աշխա- տանքներ | H9: Ոչ ֆինանսական այլ ակտիվների ձեռքբերում
C10: ԸՆԴԱՄԵՆԸ | D10: =D12 -> 0 | E10: =E12 -> 56599 | F10: =F12 -> -56599 | G10: =G12 -> 0 | H10: 0
C11: այդ թվում՝
C12: ՀՀ ԱՐԴԱՐԱԴԱՏՈՒԹՅԱՆ ՆԱԽԱՐԱՐՈՒԹՅՈՒՆ | D12: =D14 -> 0 | E12: =E14 -> 56599 | F12: =F14 -> -56599 | G12: =G14 -> 0 | H12: 0
C13: այդ թվում`
A14: 1120 | B14: 31004 | C14: Քրեակատարողական հիմնարկների օպտիմալացում, շենքային պայմանների բարելավում | D14: =+E14+F14 -> 0 | E14: =+Հավելված2!G31 -> 56599 | F14: =Հավելված2!G32 -> -56599 | G14: 0 | H14: 0

Sheet Հավելված2
G1: Հավելված N 2
G2: ՀՀ կառավարության 2022թվականի
G3: ___________ ___-ի N _______ որոշման
A8: ՀԱՅԱՍՏԱՆԻ ՀԱՆՐԱՊԵՏՈՒԹՅԱՆ ԿԱՌԱՎԱՐՈՒԹՅԱՆ 2022 ԹՎԱԿԱՆԻ ԴԵԿՏԵՄԲԵՐԻ 29-Ի N 2111-Ն ՈՐՈՇՄԱՆ N3 ԵՎ N4 ՀԱՎԵԼՎԱԾՆԵՐՈՒՄ ԿԱՏԱՐՎՈՂ ՓՈՓՈԽՈՒԹՅՈՒՆԸ ԵՎ ԼՐԱՑՈՒՄԸ
G10: հազ. դրամներով
A11: Գործառական դասիչը | D11: Ծրագրային դասիչը | F11: Բյուջետային հատկացումների գլխավոր կարգադրիչների, ծրագրերի, միջոցառումների և միջոցառումները կատարող պետական մարմինների անվանումները | G11: Ցուցանիշների փոփոխությունը (ավելացումները նշված են դրական նշանով, նվազեցումները՝ փակագծերում)
A12: Բաժին | B12: Խումբ | C12: Դաս | D12: Ծրագիր | E12: Միջոցառում | G12: Տարի
F13: ԸՆԴԱՄԵՆԸ | G13: =G14 -> 0
A14: 03 | F14: ՀԱՍԱՐԱԿԱԿԱՆ ԿԱՐԳ, ԱՆՎՏԱՆԳՈՒԹՅՈՒՆ ԵՎ ԴԱՏԱԿԱՆ ԳՈՐԾՈՒՆԵՈՒԹՅՈՒՆ | G14: =G15 -> 0
B15: 05 | F15: Կալանավայրեր | G15: =G17 -> 0
C16: 01 | F16: այդ թվում`
F17: Կալանավայրեր | G17: =G19 -> 0
F18: այդ թվում`
F19: ՀՀ արդարադատության նախարարություն | G19: =G21 -> 0
F20: այդ թվում`
D21: 1120 | F21: Քրեակատարողական ծառայություններ | G21: =G23 -> 0
F22: այդ թվում`
E23: 31004 | F23: Քրեակատարողական հիմնարկների օպտիմալացում, շենքային պայմանների բարելավում | G23: =G25 -> 0
F24: այդ թվում` ըստ կատարողների
F25: ՀՀ արդարադատության նախարարության քրեակատարողական ծառայություն | G25: =G27 -> 0
F26: այդ թվում` բյուջետային ծախսերի տնտեսագիտական դասակարգման հոդվածներ
F27: ԸՆԴԱՄԵՆԸ ԾԱԽՍԵՐ | G27: =G28 -> 0
F28: ՈՉ ՖԻՆԱՆՍԱԿԱՆ ԱԿՏԻՎՆԵՐԻ ԳԾՈՎ ԾԱԽՍԵՐ | G28: =G29 -> 0
F29: ՀԻՄՆԱԿԱՆ ՄԻՋՈՑՆԵՐ | G29: =G30 -> 0
F30: ՇԵՆՔԵՐ ԵՎ ՇԻՆՈՒԹՅՈՒՆՆԵՐ | G30: =G31+G32 -> 0
F31: - Շենքերի և շինությունների շինարարություն | G31: 56599
F32: - Շենքերի և շինությունների կապիտալ վերանորոգում | G32: -56599

Sheet Հավելված3
F1: Հավելված N 3
F2: ՀՀ կառավարության 2022թվականի
F3: ___________ ___-ի N _______ որոշման
A5: ՀԱՅԱՍՏԱՆԻ ՀԱՆՐԱՊԵՏՈՒԹՅԱՆ ԿԱՌԱՎԱՐՈՒԹՅԱՆ 2022ԹՎԱԿԱՆԻ ԴԵԿՏԵՄԲԵՐԻ 29-Ի ԹԻՎ 2111-Ն ՈՐՈՇՄԱՆ N5 ՀԱՎԵԼՎԱԾԻ N2 ԱՂՅՈՒՍԱԿՈՒՄ ԿԱՏԱՐՎՈՂ ՓՈՓՈԽՈՒԹՅՈՒՆԸ ԵՎ ԼՐԱՑՈՒՄԸ
F7: հազ. դրամներով
A8: Ծրագրային դասիչ | C8: Բյուջետային գլխավոր կարգադրիչների, ծրագրերի, միջոցառումների, միջոցառումները կատարող պետական մարմինների և ուղղությունների անվանումները | D8: Ցուցանիշների փոփոխությունը (ավելացումները նշված են դրական նշանով, նվազեցումները՝ փակագծերում)
A9: Ծրագիր | B9: Միջոցառում | D9: ՏԱՐԻ
C10: ԸՆԴԱՄԵՆԸ | D10: =D11 -> 0
C11: ՀՀ ԱՐԴԱՐԱԴԱՏՈՒԹՅԱՆ ՆԱԽԱՐԱՐՈՒԹՅՈՒՆ | D11: =D13 -> 0
C12: այդ թվում`
A13: 1120 | B13: 31004 | C13: Քրեակատարողական հիմնարկների օպտիմալացում, շենքային պայմանների բարելավում | D13: =D15 -> 0
C14: այդ թվում` ըստ կատարողների
C15: ՀՀ արդարադատության նախարարության քրեակատարողական ծառայություն | D15: =+D17+D18 -> 0
C16: այդ թվում` ըստ ուղղությունների
C17: «Արմավիր քրեակատարողական հիմնարկի մասնաշենքերում օդափոխության, համատեղված ջեռուցման հետ և օդորակման համակարգի կառուցման շինարարական աշխատանքներ | D17: =Հավելված2!G31 -> 56599
C18: «Աբովյան քրեակատարողական հիմնարկի մեկուսարանի և վարչական մասնաշենքերի վերանորոգման աշխատանքներ | D18: -56599

Sheet Հավելված4
E1: Հավելված N 4
E2: ՀՀ կառավարության 2022թվականի
E3: ___________ ___-ի N _______ որոշման
B5: ՀԱՅԱՍՏԱՆԻ ՀԱՆՐԱՊԵՏՈՒԹՅԱՆ ԿԱՌԱՎԱՐՈՒԹՅԱՆ 2022 ԹՎԱԿԱՆԻ ԴԵԿՏԵՄԲԵՐԻ 29-Ի N 2111-Ն ՈՐՈՇՄԱՆ N9 ՀԱՎԵԼՎԱԾԻ 9.9 ԱՂՅՈՒՍԱԿՈՒՄ ԿԱՏԱՐՎՈՂ ՓՈՓՈԽՈՒԹՅՈՒՆԸ ԵՎ ԼՐԱՑՈՒՄԸ
B8: ՀՀ արդարադատության նախարարություն
B10: ՄԱՍ 2. ՊԵՏԱԿԱՆ ՄԱՐՄՆԻ ԳԾՈՎ ԱՐԴՅՈՒՆՔԱՅԻՆ (ԿԱՏԱՐՈՂԱԿԱՆ) ՑՈՒՑԱՆԻՇՆԵՐԸ
B12: Ծրագրի դասիչը | C12: Ծրագրի անվանումը
B13: 1120 | C13: Քրեակատարողական ծառայություններ
B15: Ծրագրի միջոցառումները
B16: Ծրագրի դասիչը՝ | C16: 1120 | D16: Ցուցանիշների փոփոխությունները (ավելացումները նշված են դրական նշանով, նվազեցումները՝ փակագծերում)
B17: Միջոցառման դասիչը՝ | C17: 31004 | D17: Տարի
B18: Միջոցառման անվանումը` | C18: Քրեակատարողական հիմնարկների օպտիմալացում, շենքային պայմանների բարելավում
B19: Նկարագրությունը` | C19: Միջազգային չափանիշներին համապատասխան ազատությունից զրկված անձանց համար պատշաճ պայմանների ապահովման նպատակով 12 քրեակատարողական հիմնարկների օպտիմալացում՝ ներառյալ որոշ հիմնարկների փակման միջոցով
B20: Միջոցառման տեսակը` | C20: Պետական մարմինների կողմից օգտագործվող ոչ ֆինանսական ակտիվների հետ գործառնություններ
B21: Ակտիվն օգտագործող կազմակերպության(ների) անվանում(ներ)ը | C21: Քրեակատարողական ծառայություն
C22: Արդյունքի չափորոշիչներ
B23: «Արմավիր» քրեակատարողական հիմնարկի ջեռուցմամբ համատեղված օդափոխության և օդորակման համակարգերի անհրաժեշտ պայմանների ապահովում | D23: 1
B24: «Աբովյան քրեակատարողական հիմնարկի մեկուսարանի և վարչական մասնաշենքերի վերանորոգման աշխատանքներ | D24: -1
B25: Միջոցառման վրա կատարվող ծախսը (հազար դրամ) | D25: =+Հավելված2!G23 -> 0

Sheet Հավելված 5
E1: Հավելված N 5
E2: ՀՀ կառավարության 2022թվականի
E3: ___________ ___-ի N _______ որոշման
A6: ՀԱՅԱՍՏԱՆԻ ՀԱՆՐԱՊԵՏՈՒԹՅԱՆ ԿԱՌԱՎԱՐՈՒԹՅԱՆ 2022 ԹՎԱԿԱՆԻ ԴԵԿՏԵՄԲԵՐԻ 29-Ի N 2111 -Ն ՈՐՈՇՄԱՆ N 9.1 ՀԱՎԵԼՎԱԾԻ 9.1.42 ԱՂՅՈՒՍԱԿՈՒՄ ԿԱՏԱՐՎՈՂ ՓՈՓՈԽՈՒԹՅՈՒՆՆԵՐԸ ԵՎ ԼՐԱՑՈՒՄՆԵՐԸ
B10: ՀՀ արդարադատության նախարարության քրեակատարողական ծառայություն
B12: ՄԱՍ 1. ՊԵՏԱԿԱՆ ՄԱՐՄՆԻ ԳԾՈՎ ԱՐԴՅՈՒՆՔԱՅԻՆ (ԿԱՏԱՐՈՂԱԿԱՆ) ՑՈՒՑԱՆԻՇՆԵՐԸ
B14: Ծրագրի դասիչը | C14: Ծրագրի անվանումը
B15: 1120 | C15: Քրեակատարողական ծառայություններ
B17: Ծրագրի միջոցառումները
B19: Ծրագրի դասիչը՝ | C19: 1120 | D19: Ցուցանիշների փոփոխությունները (ավելացումները նշված են դրական նշանով, նվազեցումները՝ փակագծերում)
B20: Միջոցառման դասիչը՝ | C20: 31004 | D20: Տարի
B21: Միջոցառման անվանումը` | C21: Քրեակատարողական հիմնարկների օպտիմալացում, շենքային պայմանների բարելավում
B22: Նկարագրությունը` | C22: Միջազգային չափանիշներին համապատասխան ազատությունից զրկված անձանց համար պատշաճ պայմանների ապահովման նպատակով 12 քրեակատարողական հիմնարկների օպտիմալացում՝ ներառյալ որոշ հիմնարկների փակման միջոցով
B23: Միջոցառման տեսակը` | C23: Պետական մարմինների կողմից օգտագործվող ոչ ֆինանսական ակտիվների հետ գործառնություններ
B24: Ակտիվն օգտագործող կազմակերպության(ների) անվանում(ներ)ը | C24: Քրեակատարողական ծառայություն
C25: Արդյունքի չափորոշիչներ
B26: «Արմավիր» քրեակատարողական հիմնարկի ջեռուցմամբ համատեղված օդափոխության և օդորակման համակարգերի անհրաժեշտ պայմանների ապահովում | D26: 1
B27: «Աբովյան քրեակատարողական հիմնարկի մեկուսարանի և վարչական մասնաշենքերի վերանորոգման աշխատանքներ | D27: -1
B28: Միջոցառման վրա կատարվող ծախսը (հազար դրամ) | D28: =+Հավելված2!G25 -> 0

Sheet Հավելված 6
G1: Հավելված N 6
G2: ՀՀ կառավարության 2022թվականի
G3: ___________ ___-ի N _______ որոշման
A6: ՀԱՅԱՍՏԱՆԻ ՀԱՆՐԱՊԵՏՈՒԹՅԱՆ ԿԱՌԱՎԱՐՈՒԹՅԱՆ 2022 ԹՎԱԿԱՆԻ ԴԵԿՏԵՄԲԵՐԻ 29-Ի N 2111-Ն ՈՐՈՇՄԱՆ N 10 ՀԱՎԵԼՎԱԾՈՒՄ ԿԱՏԱՐՎՈՂ ՓՈՓՈԽՈՒԹՅՈՒՆՆԵՐԸ և ԼՐԱՑՈՒՄՆԵՐԸ
A8: Կոդը | B8: Անվանումը | C8: Գնման ձևը | D8: Չափի միավորը | E8: միավորի գինը | F8: Ցուցանիշների փոփոխությունը (ավելացումները նշված են դրական նշանով, նվազեցումները փակագծերում)
F9: քանակը | G9: գումարը (հազար դրամով)
A10: 1 | B10: 2 | C10: 3 | D10: 4 | E10: 5 | F10: 6 | G10: 7
A11: ՀՀ արդարադատության նախարարության քրեակատարողական ծառայություն
A12: Բաժին N 03 | B12: Խումբ N 05 | C12: Դաս N 01 | D12: Կալանավայրեր | G12: =+G13 -> -0.044
A13: 1120 | B13: 31004 | C13: Քրեակատարողական հիմնարկների օպտիմալացում, շենքային պայմանների բարելավում | G13: =+G14+G17 -> -0.044
B14: ՄԱՍ II. ԱՇԽԱՏԱՆՔՆԵՐ | G14: =G15+G16 -> -1359.544
A15: 45261159/1 | B15: զանազան հատուկ մասնագիտացված շինարարական աշխատանքներ | C15: ԲՄ | D15: դրամ | E15: 54453956 | F15: 1 | G15: =+E15*F15/1000 -> 54453.956
A16: 45611300/502 | B16: այլ շենքերի, շինությունների հիմնանորոգում | C16: ԳՀ | D16: դրամ | F16: -1 | G16: -55813.5
B17: ՄԱՍ III. ԾԱՌԱՅՈՒԹՅՈՒՆՆԵՐ | G17: =G18+G19+G20+G21 -> 1359.5
A18: 71351540/16 | B18: տեխնիական հսկողության ծառայություններ | C18: ԳՀ | D18: դրամ | E18: 670000 | F18: 1 | G18: =+E18*F18/1000 -> 670
A19: 98111140/13 | B19: հեղինակային հսկողության ծառայություններ | C19: ՄԱ | D19: դրամ | E19: 1475000 | F19: 1 | G19: =+E19*F19/1000 -> 1475
A20: 71351540/510 | B20: տեխնիկական հսկողության ծառայություններ | C20: ԳՀ | D20: դրամ | E20: 400000 | F20: -1 | G20: =E20*F20/1000 -> -400
A21: 98111140/9 | B21: հեղինակային հսկողության ծառայություններ | C21: ՄԱ | D21: դրամ | E21: 385500 | F21: -1 | G21: =E21*F21/1000 -> -385.5
