Workbook
Name _tab10: #REF!
Name _tab10: #REF!
Name _tab10: #REF!
Name _tab11: #REF!
Name _tab11: #REF!
Name _tab11: #REF!
Name _tab12: #REF!
Name _tab12: #REF!
Name _tab12: #REF!
Name _tab13: #REF!
Name _tab13: #REF!
Name _tab13: #REF!
Name _tab14: #REF!
Name _tab14: #REF!
Name _tab14: #REF!
Name _tab15: #REF!
Name _tab15: #REF!
Name _tab15: #REF!
Name _tab16: #REF!
Name _tab16: #REF!
Name _tab16: #REF!
Name _tab17: #REF!
Name _tab17: #REF!
Name _tab17: #REF!
Name _tab18: #REF!
Name _tab18: #REF!
Name _tab18: #REF!
Name _tab19: #REF!
Name _tab19: #REF!
Name _tab19: #REF!
Name _tab20: #REF!
Name _tab20: #REF!
Name _tab20: #REF!
Name _tab21: #REF!
Name _tab21: #REF!
Name _tab21: #REF!
Name _tab22: #REF!
Name _tab22: #REF!
Name _tab22: #REF!
Name _tab23: #REF!
Name _tab23: #REF!
Name _tab23: #REF!
Name _tab24: #REF!
Name _tab24: #REF!
Name _tab24: #REF!
Name _tab5: #REF!
Name _tab5: #REF!
Name _tab5: #REF!
Name _tab6: #REF!
Name _tab6: #REF!
Name _tab6: #REF!
Name _tab7: #REF!
Name _tab7: #REF!
Name _tab7: #REF!
Name _tab8: #REF!
Name _tab8: #REF!
Name _tab8: #REF!
Name _tab9: #REF!
Name _tab9: #REF!
Name _tab9: #REF!

Sheet 1.
D1: Հավելված N 1
D2: ՀՀ կառավարության 2023 թվականի
C3: -----------------ի N -----------Ն որոշման
A5: ՀԱՅԱՍՏԱՆԻ ՀԱՆՐԱՊԵՏՈՒԹՅԱՆ 2023 ԹՎԱԿԱՆԻ ՊԵՏԱԿԱՆ ԲՅՈՒՋԵԻ ՄԱՍԻՆ» ՕՐԵՆՔԻ N 1 ՀԱՎԵԼՎԱԾԻ N 2 ԱՂՅՈՒՍԱԿՈՒՄ ԿԱՏԱՐՎՈՂ ՎԵՐԱԲԱՇԽՈՒՄԸ ԵՎ ՀԱՅԱՍՏԱՆԻ ՀԱՆՐԱՊԵՏՈՒԹՅԱՆ ԿԱՌԱՎԱՐՈՒԹՅԱՆ 2022 ԹՎԱԿԱՆԻ ԴԵԿՏԵՄԲԵՐԻ 29-Ի N 2111-Ն ՈՐՈՇՄԱՆ N 5 ՀԱՎԵԼՎԱԾԻ N 1 ԱՂՅՈՒՍԱԿՈՒՄ ԿԱՏԱՐՎՈՂ ՓՈՓՈԽՈՒԹՅՈՒՆՆԵՐԸ
D6: (հազար դրամ)
A7: Ծրագրային դասիչը | C7: Բյուջետային հատկացումների գլխավոր կարգադրիչների, ծրագրերի և միջոցառումների անվանումները | D7: Ցուցանիշների փոփոխությունները ավելացումները նշված են դրական նշանով, իսկ նվազեցումը՝ փակագծերում
A8: Ծրագիր | B8: Միջոցառում | D8: Տարի
C9: ԸՆԴԱՄԵՆԸ | D9: =D10+D203 -> 0
C10: ՀՀ աշխատանքի և սոցիալական հարցերի նախարարություն | D10: =D11+D36+D61+D114+D139+D158+D189 -> 26294702
A11: 1005 | C11: Ծրագրի անվանումը` | D11: =D24+D30+D18 -> -50688.1
C12: Պարգևավճարներ և պատվովճարներ
C13: Ծրագրի նպատակը`
C14: Պետական հոգածության դրսևորում, առանձին կատեգորիայի քաղաքացիներին և նրանց ընտանիքներին սոցիալական երաշխիքների տրամադրում
C15: Վերջնական արդյունքի նկարագրությունը`
C16: Առանձին կատեգորիայի քաղաքացիներին և նրանց ընտանիքի անդամների սոցիալական պաշտպանվածության մակարդակի բարձրացում
A17: Ծրագրի միջոցառումներ
B18: 12001 | C18: Միջոցառման անվանումը` | D18: =-24273-5060.1 -> -29333.1
C19: Զինծառայողներին, ՀՄՊ մասնակիցներին, այլ պետություններում մարտական գործողությունների մասնակիցներին, զոհված (մահացած) զինծառայողի ընտանիքի անդամներին, ընտանիքներին տրվող պարգևավճարներ
C20: Միջոցառման նկարագրությունը`
C21: Զինծառայողներին, ՀՄՊ մասնակիցներին, այլ պետություններում մարտական գործողությունների մասնակիցներին, զոհված (մահացած) զինծառայողի ընտանիքի անդամներին, ընտանիքներին, պարգևավճարների տրամադրում
C22: Միջոցառման տեսակը
C23: Տրանսֆերտների տրամադրում
B24: 12002 | C24: Միջոցառման անվանումը` | D24: -4997
C25: Վետերանների պատվովճարներ
C26: Միջոցառման նկարագրությունը`
C27: ՀՄՊ վետերաններին պատվովճարի տրամադրում
C28: Միջոցառման տեսակը
C29: Տրանսֆերտների տրամադրում
B30: 12003 | C30: Միջոցառման անվանումը` | D30: -16358
C31: Զոհված՝ հետմահու «Հայաստանի ազգային հերոս» ՀՀ բարձրագույն կոչում ստացած կամ «Մարտական խաչ» շքանշանով պարգևատրված անձի ընտանիքին տրվող պարգևավճար
C32: Միջոցառման նկարագրությունը`
C33: Զոհված՝ հետմահու «Հայաստանի ազգային հերոս» ՀՀ բարձրագույն կոչում ստացած կամ «Մարտական խաչ» շքանշանով պարգևատրված անձի ընտանիքին տրվող պարգևավճարի տրամամդրում
C34: Միջոցառման տեսակը
C35: Տրանսֆերտների տրամադրում
A36: 1082 | C36: Ծրագրի անվանումը` | D36: =SUM(D42,D48,D54) -> 1546877
C37: Սոցիալական աջակցություն անաշխատունակության դեպքում
C38: Ծրագրի նպատակը`
C39: Կորցրած եկամուտների մասնակի փոխհատուցում
C40: Վերջնական արդյունքի նկարագրությունը`
C41: Անաշխատունակության հետևանքով եկամտի կորստի մասնակի փոխհատուցման ապահովում
...

Sheet 2.
G1: Հավելված N 2
G2: ՀՀ կառավարության 2023 թվականի
G3: -----------------ի N -----------Ն որոշման
A5: ՀԱՅԱՍՏԱՆԻ ՀԱՆՐԱՊԵՏՈՒԹՅԱՆ ԿԱՌԱՎԱՐՈՒԹՅԱՆ 2022 ԹՎԱԿԱՆԻ ԴԵԿՏԵՄԲԵՐԻ 29-Ի N 2111-Ն ՈՐՈՇՄԱՆ N 3 ԵՎ N 4 ՀԱՎԵԼՎԱԾՆԵՐՈՒՄ ԿԱՏԱՐՎՈՂ ՓՈՓՈԽՈՒԹՅՈՒՆՆԵՐԸ
G6: (հազար դրամ)
A7: Գործառական դասիչը | D7: Ծրագրային դասիչը | F7: Բյուջետային ծախսերի գործառական դասակարգման բաժինների, խմբերի և դասերի, բյուջետային ծրագրերի միջոցառումների, բյուջետային հատկացումների գլխավոր կարգադրիչների անվանումները | G7: Ցուցանիշների փոփոխությունները ավելացումները նշված են դրական նշանով, իսկ նվազեցումը՝ փակագծերում
A8: Բաժինը | B8: Խումբը | C8: Դասը | D8: Ծրագիր | E8: Միջոցառում | G8: Տարի
F9: ԸՆԴԱՄԵՆԸ ԾԱԽՍԵՐ | G9: =G10+G29+G309 -> 0
A10: 03 | F10: ՀԱՍԱՐԱԿԱԿԱՆ ԿԱՐԳ, ԱՆՎՏԱՆԳՈՒԹՅՈՒՆ ԵՎ ԴԱՏԱԿԱՆ ԳՈՐԾՈՒՆԵՈՒԹՅՈՒՆ | G10: =G12 -> -3026
F11: այդ թվում`
B12: 01 | F12: Հասարակական կարգ և անվտանգություն | G12: =G14 -> -3026
F13: այդ թվում`
C14: 01 | F14: Ոստիկանություն | G14: =G16 -> -3026
F15: այդ թվում`
F16: ՀՀ աշխատանքի և սոցիալական հարցերի նախարարություն | G16: =G18 -> -3026
F17: այդ թվում`
D18: 1205 | F18: Սոցիալական ապահովություն | G18: =G20 -> -3026
F19: այդ թվում`
E20: 12007 | F20: ՀՀ ՊՆ, ՀՀ ԿԱ ԱԱԾ կրտսեր, միջին, ավագ և ՀՀ ԿԱ ՀՀ ոստիկանության միջին, ավագ, գլխավոր սպայական անձնակազմին սոցիալական աջակցություն | G20: =G22 -> -3026
F21: այդ թվում` ըստ կատարողների
F22: ՀՀ աշխատանքի և սոցիալական հարցերի նախարարության միասնական սոցիալական ծառայություն | G22: =G24 -> -3026
F23: այդ թվում` բյուջետային ծախսերի տնտեսագիտական դասակարգման հոդվածներ
F24: ԸՆԴԱՄԵՆԸ ԾԱԽՍԵՐ | G24: =G25 -> -3026
F25: ԸՆԹԱՑԻԿ ԾԱԽՍԵՐ | G25: =G26 -> -3026
F26: ԴՐԱՄԱՇՆՈՐՀՆԵՐ | G26: =G27 -> -3026
F27: Ընթացիկ դրամաշնորհներ պետական հատվածի այլ մակարդակներին | G27: =G28 -> -3026
F28: - Այլ ընթացիկ դրամաշնորհներ | G28: =+'1.'!D177 -> -3026
A29: 10 | F29: ՍՈՑԻԱԼԱԿԱՆ ՊԱՇՏՊԱՆՈՒԹՅՈՒՆ | G29: =G31+G48+G103+G131+G148+G222+G259 -> 26297728
F30: այդ թվում`
B31: 01 | F31: Վատառողջություն և անաշխատունակություն | G31: =G33 -> 5000
F32: այդ թվում`
C33: 01 | F33: Վատառողջություն | G33: =G35 -> 5000
F34: այդ թվում`
F35: ՀՀ աշխատանքի և սոցիալական հարցերի նախարարություն | G35: =G37+G66 -> 5000
F36: այդ թվում`
D37: 1082 | F37: Սոցիալական աջակցություն անաշխատունակության դեպքում | G37: =G39 -> 5000
F38: այդ թվում`
E39: 12003 | F39: Աշխատողների աշխատանքային պարտականությունների կատարման հետ կապված խեղման, մասնագիտական հիվանդության և առողջության այլ վնասման հետևանքով պատճառված վնասի փոխհատուցում | G39: =+G41 -> 5000
F40: այդ թվում` ըստ կատարողների
F41: ՀՀ աշխատանքի և սոցիալական հարցերի նախարարության միասնական սոցիալական ծառայություն | G41: =+G43 -> 5000
...

Sheet 3
H1: Հավելված N 3
H2: ՀՀ կառավարության 2023 թվականի
H3: -----------------ի N -----------Ն որոշման
B5: ՀԱՅԱՍՏԱՆԻ ՀԱՆՐԱՊԵՏՈՒԹՅԱՆ ԿԱՌԱՎԱՐՈՒԹՅԱՆ 2022 ԹՎԱԿԱՆԻ ԴԵԿՏԵՄԲԵՐԻ 29-Ի N 2111-Ն ՈՐՈՇՄԱՆ N 5 ՀԱՎԵԼՎԱԾԻ N 7 ԱՂՅՈՒՍԱԿՈՒՄ ԿԱՏԱՐՎՈՂ ՓՈՓՈԽՈՒԹՅՈՒՆՆԵՐԸ
H6: (հազար դրամ)
B7: Ծրագրային դասիչ | D7: Բյուջետային գլխավոր կարգադրիչների, ծրագրերի, միջոցառումների, միջոցառումները կատարող պետական մարմինների և ուղղությունների անվանումները | G7: Միջոցառումները կատարող պետական մարմինների և դրամաշնորհ ստացող տնտեսավարող սուբյեկտների անվանումները | H7: Ցուցանիշների փոփոխությունները նվազեցումները նշված են փակագծերում
B8: Ծրագիր | C8: Միջոցառում | H8: Տարի
B10: 1 | C10: 2 | D10: 3 | G10: 4 | H10: 5
B11: ՀՀ աշխատանքի և սոցիալական հարցերի նախարարություն | H11: =+H12 -> -204807.9
B12: 1088 | C12: Զբաղվածության ծրագիր | H12: =+H13+H15+H17+H19 -> -204807.9
C13: 12005 | D13: Աշխատաշուկայում անմրցունակ անձանց աշխատանքի տեղավորման դեպքում գործատուին միանվագ փոխհատուցման տրամադրում | G13: ՀՀ աշխատանքի և սոցիալական հարցերի նախարարության միասնական սոցիալական ծառայություն | H13: =H14 -> -116627
G14: Աշխատաշուկայում անմրցունակ անձանց օրենսդրությամբ սահմանված կարգով աշխատանքով ապահովող կազմակերպություններ | H14: =+'[1]2.'!G98 -> -116627
C15: 12018 | D15: =+#REF! -> Զբաղվածության ապահովում Ադրբեջանի կողմից 2016 և 2020 թվականներին սանձազերծված ռազմական գործողություններին մասնակցած գործազուրկ անձանց համար | G15: ՀՀ աշխատանքի և սոցիալական հարցերի նախարարության միասնական սոցիալական ծառայություն | H15: =+H16 -> -82500
G16: Գործազուրկներին զբաղվածությունն ապահովող կազմակերպություններ | H16: =+'2.'!G203 -> -82500
C17: 12019 | D17: Զբաղվածության խթանման միջոցառում | G17: ՀՀ աշխատանքի և սոցիալական հարցերի նախարարության միասնական սոցիալական ծառայություն | H17: =+H18 -> -5126.9
G18: Գործազուրկներին զբաղվածությունն ապահովող կազմակերպություններ | H18: ='1.'!D102 -> -5126.9
C19: 12020 | D19: Գործազուրկների զբաղվածության ապահովում | G19: ՀՀ աշխատանքի և սոցիալական հարցերի նախարարության միասնական սոցիալական ծառայություն | H19: =+H20 -> -554
G20: Գործազուրկներին զբաղվածությունն ապահովող կազմակերպություններ | H20: =+'1.'!D108 -> -554

Sheet 4
C1: Հավելված N 4
C2: ՀՀ կառավարության 2023 թվականի
C3: -----------------ի N -----------Ն որոշման
A4: ՀԱՅԱՍՏԱՆԻ ՀԱՆՐԱՊԵՏՈՒԹՅԱՆ ԿԱՌԱՎԱՐՈՒԹՅԱՆ 2020 ԹՎԱԿԱՆԻ ԴԵԿՏԵՄԲԵՐԻ 30-Ի N 2215-Ն ՈՐՈՇՄԱՆ N 9 ՀԱՎԵԼՎԱԾԻ N 9.1.20 ԱՂՅՈՒՍԱԿՈՒՄ ԿԱՏԱՐՎՈՂ ՓՈՓՈԽՈՒԹՅՈՒՆՆԵՐԸ
A5: ՀԱՅԱՍՏԱՆԻ ՀԱՆՐԱՊԵՏՈՒԹՅԱՆ ԿԱՌԱՎԱՐՈՒԹՅԱՆ 2022 ԹՎԱԿԱՆԻ ԴԵԿՏԵՄԲԵՐԻ 29-Ի N 2111-Ն ՈՐՈՇՄԱՆ N 9 ՀԱՎԵԼՎԱԾԻ N 9.15 ԵՎ N 9.47 ԱՂՅՈՒՍԱԿՈՒՄ ԿԱՏԱՐՎՈՂ ՓՈՓՈԽՈՒԹՅՈՒՆՆԵՐԸ
A6: Հայաստանի Հանրապետության աշխատանքի և սոցիալական հարցերի նախարարություն
A8: ՄԱՍ 2. ՊԵՏԱԿԱՆ ՄԱՐՄՆԻ ԳԾՈՎ ԱՐԴՅՈՒՆՔԱՅԻՆ (ԿԱՏԱՐՈՂԱԿԱՆ) ՑՈՒՑԱՆԻՇՆԵՐԸ
A9: Ծրագրի դասիչը | B9: Ծրագրի անվանումը
A10: 1005 | B10: Պարգևավճարներ և պատվովճարներ
A11: Ծրագրի միջոցառումները
A13: Ծրագրի դասիչը` | B13: 1005 | C13: Ցուցանիշների փոփոխությունները (նվազեցումները նշված են փակագծերում)
A14: Միջոցառման դասիչը` | B14: 12001 | C14: Տարի
A15: Միջոցառման անվանումը` | B15: Զինծառայողներին, ՀՄՊ մասնակիցներին, այլ պետություններում մարտական գործողությունների մասնակիցներին, զոհված (մահացած) զինծառայողի ընտանիքի անդամներին, ընտանիքներին տրվող պարգևավճարներ
A16: Նկարագրությունը` | B16: Զինծառայողներին, ՀՄՊ մասնակիցներին, այլ պետություններում մարտական գործողությունների մասնակիցներին, զոհված (մահացած) զինծառայողի ընտանիքի անդամներին, ընտանիքներին, պարգևավճարների տրամադրում
A17: Միջոցառման տեսակը` | B17: Տրանսֆերտների տրամադրում
A18: Շահառուների ընտրության չափանիշները | B18: ՀՄՊ մասնակիցներ, ՀՄՊ և այլ պետություններում մարտական գործողությունների ընթացքում զոհված զինծառայողների ընտանիքներ
A19: Արդյունքի չափորոշիչներ
A20: Պարգևավճարներ ստացողների թիվ, ընտանիք
A21: Միջոցառման վրա կատարվող ծախսը (հազար դրամ) | C21: =+'1.'!D18 -> -29333.1
A23: Ծրագրի դասիչը` | B23: 1005 | C23: Ցուցանիշների փոփոխությունները (նվազեցումները նշված են փակագծերում)
A24: Միջոցառման դասիչը` | B24: 12002 | C24: Տարի
A25: Միջոցառման անվանումը` | B25: Վետերանների պատվովճարներ
A26: Նկարագրությունը` | B26: ՀՄՊ վետերաններին պատվովճարի տրամադրում
A27: Միջոցառման տեսակը` | B27: Տրանսֆերտների տրամադրում
A28: Շահառուների ընտրության չափանիշները | B28: ՀՄ պատերազմի վետերաններին պատվովճարների տրամադրում 02.12.1998թ. ՀՕ-267-Ն օրենքի 4-րդ հոդվածով
A29: Արդյունքի չափորոշիչներ
A30: Միջոցառման վրա կատարվող ծախսը (հազար դրամ) | C30: ='1.'!D24 -> -4997
A32: Ծրագրի դասիչը` | B32: 1005 | C32: Ցուցանիշների փոփոխությունները (նվազեցումները նշված են փակագծերում)
A33: Միջոցառման դասիչը` | B33: 12003 | C33: Տարի
A34: Միջոցառման անվանումը` | B34: Զոհված՛ հետմահու «Հայաստանի ազգային հերոս» ՀՀ բարձրագույն կոչում ստացած կամ «Մարտական խաչ» շքանշանով պարգևատրված անձի ընտանիքին տրվող պարգևավճար
A35: Նկարագրությունը` | B35: Զոհված՛ հետմահու «Հայաստանի ազգային հերոս» ՀՀ բարձրագույն կոչում ստացած կամ «Մարտական խաչ» շքանշանով պարգևատրված անձի ընտանիքին տրվող պարգևավճարի տրամադրում
A36: Միջոցառման տեսակը` | B36: Տրանսֆերտների տրամադրում
A37: Շահառուների ընտրության չափանիշները | B37: Զոհված հետմահու «Հայաստանի ազգային հերոս» ՀՀ բարձրագույն կոչում ստացած կամ «Մարտական խաչ» շքանշանով պարգևատրված անձի ընտանիքի անդամներ
A38: Արդյունքի չափորոշիչներ
A39: Միջոցառման վրա կատարվող ծախսը (հազար դրամ) | C39: ='1.'!D30 -> -16358
A41: Ծրագրի դասիչը` | B41: Միջոցառման անվանումը`
A42: 1082 | B42: Սոցիալական աջակցություն անաշխատունակության դեպքում
A43: Ծրագրի միջոցառումները
A44: Ծրագրի դասիչը` | B44: 1082 | C44: Ցուցանիշների փոփոխությունները (նվազեցումները նշված են փակագծերում)
A45: Միջոցառման դասիչը` | B45: 12001 | C45: Տարի
...

Sheet 5
C1: Հավելված N 5
C2: ՀՀ կառավարության 2023 թվականի
C3: -----------------ի N -----------Ն որոշման
A4: ՀԱՅԱՍՏԱՆԻ ՀԱՆՐԱՊԵՏՈՒԹՅԱՆ ԿԱՌԱՎԱՐՈՒԹՅԱՆ 2020 ԹՎԱԿԱՆԻ ԴԵԿՏԵՄԲԵՐԻ 30-Ի N 2215-Ն ՈՐՈՇՄԱՆ N 9 ՀԱՎԵԼՎԱԾԻ N 9.1.20 ԱՂՅՈՒՍԱԿՈՒՄ ԿԱՏԱՐՎՈՂ ՓՈՓՈԽՈՒԹՅՈՒՆՆԵՐԸ
A5: ՀԱՅԱՍՏԱՆԻ ՀԱՆՐԱՊԵՏՈՒԹՅԱՆ ԿԱՌԱՎԱՐՈՒԹՅԱՆ 2022 ԹՎԱԿԱՆԻ ԴԵԿՏԵՄԲԵՐԻ 29-Ի N 2111-Ն N 9.1 ՀԱՎԵԼՎԱԾԻ N 9.1.15, N 9.1.19, N 9.1.27 ԵՎ N 9.1.58 ԱՂՅՈՒՍԱԿՈՒՄ ԿԱՏԱՐՎՈՂ ՓՈՓՈԽՈՒԹՅՈՒՆՆԵՐԸ
A6: ՄԱՍ 1. ՊԵՏԱԿԱՆ ՄԱՐՄՆԻ ԳԾՈՎ ԱՐԴՅՈՒՆՔԱՅԻՆ (ԿԱՏԱՐՈՂԱԿԱՆ) ՑՈՒՑԱՆԻՇՆԵՐԸ
A8: ՀՀ աշխատանքի և սոցիալական հարցերի նախարարության միասնական սոցիալական ծառայություն
A9: Ծրագրի դասիչը | B9: Ծրագրի անվանումը
A10: 1005 | B10: Պարգևավճարներ և պատվովճարներ
A11: Ծրագրի միջոցառումները
A13: Ծրագրի դասիչը` | B13: 1005 | C13: Ցուցանիշների փոփոխությունները (նվազեցումները նշված են փակագծերում)
A14: Միջոցառման դասիչը` | B14: 12001 | C14: Տարի
A15: Միջոցառման անվանումը` | B15: Զինծառայողներին, ՀՄՊ մասնակիցներին, այլ պետություններում մարտական գործողությունների մասնակիցներին, զոհված (մահացած) զինծառայողի ընտանիքի անդամներին, ընտանիքներին տրվող պարգևավճարներ
A16: Նկարագրությունը` | B16: Զինծառայողներին, ՀՄՊ մասնակիցներին, այլ պետություններում մարտական գործողությունների մասնակիցներին, զոհված (մահացած) զինծառայողի ընտանիքի անդամներին, ընտանիքներին, պարգևավճարների տրամադրում
A17: Միջոցառման տեսակը` | B17: Տրանսֆերտների տրամադրում
A18: Շահառուների ընտրության չափանիշները | B18: ՀՄՊ մասնակիցներ, ՀՄՊ և այլ պետություններում մարտական գործողությունների ընթացքում զոհված զինծառայողների ընտանիքներ
A19: Արդյունքի չափորոշիչներ
A20: Պարգևավճարներ ստացողների թիվ, ընտանիք
A21: Միջոցառման վրա կատարվող ծախսը (հազար դրամ) | C21: =+'4'!C21 -> -29333.1
A23: Ծրագրի դասիչը` | B23: 1005 | C23: Ցուցանիշների փոփոխությունները (նվազեցումները նշված են փակագծերում)
A24: Միջոցառման դասիչը` | B24: 12002 | C24: Տարի
A25: Միջոցառման անվանումը` | B25: Վետերանների պատվովճարներ
A26: Նկարագրությունը` | B26: ՀՄՊ վետերաններին պատվովճարի տրամադրում
A27: Միջոցառման տեսակը` | B27: Տրանսֆերտների տրամադրում
A28: Շահառուների ընտրության չափանիշները | B28: ՀՄ պատերազմի վետերաններին պատվովճարների տրամադրում 02.12.1998թ. ՀՕ-267-Ն օրենքի 4-րդ հոդվածով
A29: Արդյունքի չափորոշիչներ
A30: Միջոցառման վրա կատարվող ծախսը (հազար դրամ) | C30: =+'4'!C30 -> -4997
A32: Ծրագրի դասիչը` | B32: 1005 | C32: Ցուցանիշների փոփոխությունները (նվազեցումները նշված են փակագծերում)
A33: Միջոցառման դասիչը` | B33: 12003 | C33: Տարի
A34: Միջոցառման անվանումը` | B34: Զոհված՛ հետմահու «Հայաստանի ազգային հերոս» ՀՀ բարձրագույն կոչում ստացած կամ «Մարտական խաչ» շքանշանով պարգևատրված անձի ընտանիքին տրվող պարգևավճար
A35: Նկարագրությունը` | B35: Զոհված՛ հետմահու «Հայաստանի ազգային հերոս» ՀՀ բարձրագույն կոչում ստացած կամ «Մարտական խաչ» շքանշանով պարգևատրված անձի ընտանիքին տրվող պարգևավճարի տրամադրում
A36: Միջոցառման տեսակը` | B36: Տրանսֆերտների տրամադրում
A37: Շահառուների ընտրության չափանիշները | B37: Զոհված հետմահու «Հայաստանի ազգային հերոս» ՀՀ բարձրագույն կոչում ստացած կամ «Մարտական խաչ» շքանշանով պարգևատրված անձի ընտանիքի անդամներ
A38: Արդյունքի չափորոշիչներ
A39: Միջոցառման վրա կատարվող ծախսը (հազար դրամ) | C39: =+'4'!C39 -> -16358
A41: Ծրագրի դասիչը` | B41: Միջոցառման անվանումը`
A42: 1082 | B42: Սոցիալական աջակցություն անաշխատունակության դեպքում
A43: Ծրագրի միջոցառումները
A44: Ծրագրի դասիչը` | B44: 1082 | C44: Ցուցանիշների փոփոխությունները (նվազեցումները նշված են փակագծերում)
A45: Միջոցառման դասիչը` | B45: 12001 | C45: Տարի
...

Sheet 6
I1: Հավելված N 6
I2: ՀՀ կառավարության 2022 թվականի
I3: -----------------ի N -----------Ն որոշման
A5: ՀԱՅԱՍՏԱՆԻ ՀԱՆՐԱՊԵՏՈՒԹՅԱՆ ԿԱՌԱՎԱՐՈՒԹՅԱՆ 2022 ԹՎԱԿԱՆԻ ԴԵԿՏԵՄԲԵՐԻ 29-Ի N 2111-Ն ՈՐՈՇՄԱՆ N 10 ՀԱՎԵԼՎԱԾՈՒՄ ԿԱՏԱՐՎՈՂ ՓՈՓՈԽՈՒԹՅՈՒՆՆԵՐԸ
A7: Գնման առարկայի | G7: Միավորի գինը ( դրամ) | H7: Ցուցանիշների փոփոխությունները ավելացումները նշված են դրական նշանով, իսկ նվազեցումը՝ փակագծերում
A8: Կոդը | D8: Անվանումը | E8: Գնման ձևը | F8: Չափման միավորը | H8: Քանակը | I8: Գումարը (հազար դրամ)
A9: ՀՀ աշխատանքի և սոցիալական հարցերի նախարարության միասնական սոցիալական ծառայություն | I9: =+I10+I14 -> -43446.1
A10: Բաժին N 10 | B10: Խումբ N 05 | C10: Դաս N 01 | D10: Գործազրկություն | I10: =+I11 -> -42411.1
A11: 1088 11001 | B11: Գործազուրկների, աշխատանաքից ազատման ռիսկ ունեցող, ինչպես նաև ազատազրկման ձևով պատիժը կրելու ավարտին վեց ամիս մնացած աշխատանք փնտրող անձանց մասնագիտական ուսուցման կազմակերպում | I11: =+I12 -> -42411.1
B12: ՄԱՍ III. ԾԱՌԱՅՈՒԹՅՈՒՆՆԵՐ | I12: =+I13 -> -42411.1
A13: 80531100-1 | B13: արդյունաբերական ուսուցման ծառայություններ | E13: ԷԱՃ | F13: դրամ | I13: =+'1.'!D66 -> -42411.1
A14: Բաժին N 10 | B14: Խումբ N 09 | C14: Դաս N 02 | D14: Սոցիալական պաշտպանությանը տրամադրվող օժանդակ ծառայություններ (այլ դասերին չպատկանող) | I14: =+I15 -> -1035
A15: 1184 11001 | B15: Մինչև 1993 թվականի հունիսի 10-ը ներդրված ավանդների դիմաց փոխհատուցման միջոցառման իրականացման ապահովում | I15: =+I16 -> -1035
B16: ՄԱՍ III. ԾԱՌԱՅՈՒԹՅՈՒՆՆԵՐ | I16: =+I17 -> -1035
A17: 79571100-1 | B17: փոստային առաքման ծառայություններ | E17: ՄԱ | F17: դրամ | I17: =+'1.'!D146 -> -1035

Sheet 7
G1: Հավելված N 7
G2: ՀՀ կառավարության 2023 թվականի
G3: -----------------ի N -----------Ն որոշման
A5: ՀԱՅԱՍՏԱՆԻ ՀԱՆՐԱՊԵՏՈՒԹՅԱՆ 2023 ԹՎԱԿԱՆԻ ՊԵՏԱԿԱՆ ԲՅՈՒՋԵՈՎ ՆԱԽԱՏԵՍՎԱԾ՝ ՀԱՅԱՍՏԱՆԻ ՀԱՆՐԱՊԵՏՈՒԹՅԱՆ ԿԱՌԱՎԱՐՈՒԹՅԱՆ ՊԱՀՈՒՍՏԱՅԻՆ ՖՈՆԴԻՑ ՀԱՏԿԱՑՈՒՄՆԵՐ ԿԱՏԱՐԵԼՈՒ ՎԵՐԱԲԵՐՅԱԼ
G6: (հազար դրամ)
A7: Գործառական դասիչը | D7: Ծրագրային դասիչը | F7: Բյուջետային ծախսերի գործառական դասակարգման բաժինների, խմբերի և դասերի, բյուջետային ծրագրերի միջոցառումների, բյուջետային հատկացումների գլխավոր կարգադրիչների անվանումները | G7: Ցուցանիշների փոփոխությունները ավելացումները նշված են դրական նշանով, իսկ նվազեցումը՝ փակագծերում
A8: Բաժինը | B8: Խումբը | C8: Դասը | D8: Ծրագիր | E8: Միջոցառում | G8: Տարի
F9: ԸՆԴԱՄԵՆԸ ԾԱԽՍԵՐ | G9: =G29+G11 -> 0
F10: այդ թվում`
A11: 11 | F11: ՀԻՄՆԱԿԱՆ ԲԱԺԻՆՆԵՐԻՆ ՉԴԱՍՎՈՂ ՊԱՀՈՒՍՏԱՅԻՆ ՖՈՆԴԵՐ | G11: =SUM(G13) -> -26294702
F12: այդ թվում`
B13: 01 | F13: ՀՀ կառավարության և համայնքների պահուստային ֆոնդ | G13: =SUM(G15) -> -26294702
F14: այդ թվում`
C15: 01 | F15: ՀՀ կառավարության պահուստային ֆոնդ | G15: =G17 -> -26294702
F16: այդ թվում`
F17: ՀՀ կառավարություն | G17: =G19 -> -26294702
F18: այդ թվում`
D19: 1139 | F19: ՀՀ կառավարության պահուստային ֆոնդ | G19: =SUM(G21) -> -26294702
F20: այդ թվում` ըստ կատարողների
E21: 11001 | F21: ՀՀ կառավարության պահուստային ֆոնդ | G21: =G23 -> -26294702
F22: այդ թվում` ըստ կատարողների
F23: ՀՀ կառավարություն | G23: =G24 -> -26294702
F24: այդ թվում` բյուջետային ծախսերի տնտեսագիտական դասակարգման հոդվածներ | G24: =SUM(G26) -> -26294702
F25: ԸՆԴԱՄԵՆԸ ԾԱԽՍԵՐ | G25: =SUM(G27) -> -26294702
F26: ԸՆԹԱՑԻԿ ԾԱԽՍԵՐ | G26: =SUM(G28) -> -26294702
F27: ԱՅԼ ԾԱԽՍԵՐ | G27: =SUM(G28) -> -26294702
F28: Պահուստային միջոցներ | G28: =+'1.'!D209 -> -26294702
A29: 10 | F29: ՍՈՑԻԱԼԱԿԱՆ ՊԱՇՏՊԱՆՈՒԹՅՈՒՆ | G29: =G31 -> 26294702
F30: այդ թվում`
B31: 02 | F31: Ծերություն | G31: =G33 -> 26294702
F32: այդ թվում`
C33: 01 | F33: Ծերություն | G33: =G35 -> 26294702
F34: այդ թվում`
F35: ՀՀ աշխատանքի և սոցիալական հարցերի նախարարություն | G35: =G37 -> 26294702
F36: այդ թվում`
D37: 1102 | F37: Կենսաթոշակային ապահովություն | G37: =G39 -> 26294702
F38: այդ թվում`
E39: 12005 | F39: Կուտակային հատկացումներ մասնակցի կենսաթոշակային հաշվին | G39: =G41 -> 26294702
F40: այդ թվում` ըստ կատարողների
F41: ՀՀ պետական եկամուտների կոմիտե | G41: =G43 -> 26294702
...
