Workbook

Sheet Հավելված 1
D1: Հավելված N 1
D2: ՀՀ կառավարության 2023 թվականի
D3: ___________ ___-ի N _______ որոշման
A4: «ՀԱՅԱՍՏԱՆԻ ՀԱՆՐԱՊԵՏՈՒԹՅԱՆ 2023 ԹՎԱԿԱՆԻ ՊԵՏԱԿԱՆ ԲՅՈՒՋԵԻ ՄԱՍԻՆ» ՀԱՅԱՍՏԱՆԻ ՀԱՆՐԱՊԵՏՈՒԹՅԱՆ ՕՐԵՆՔԻ N 1 ՀԱՎԵԼՎԱԾԻ N 2 ԱՂՅՈՒՍԱԿՈՒՄ ԿԱՏԱՐՎՈՂ ՎԵՐԱԲԱՇԽՈՒՄԸ ԵՎ ՀԱՅԱՍՏԱՆԻ ՀԱՆՐԱՊԵՏՈՒԹՅԱՆ ԿԱՌԱՎԱՐՈՒԹՅԱՆ 2022 ԹՎԱԿԱՆԻ ԴԵԿՏԵՄԲԵՐԻ 29-Ի N 2111-Ն ՈՐՈՇՄԱՆ N 5 ՀԱՎԵԼՎԱԾԻ N 1 ԱՂՅՈՒՍԱԿՈՒՄ ԿԱՏԱՐՎՈՂ ՓՈՓՈԽՈՒԹՅՈՒՆՆԵՐԸ
D5: հազ. դրամներով
A6: Ծրագրային դասիչը | C6: Բյուջետային հատկացումների գլխավոր կարգադրիչների, ծրագրերի և միջոցառումների անվանումները | D6: Ցուցանիշների փոփոխությունը (ավելացումները նշված են դրական նշանով, իսկ նվազեցումները՝ փակագծերում)
A7: Ծրագիր | B7: Միջոցառում | D7: Տարի
C8: ԸՆԴԱՄԵՆԸ | D8: =D9 -> 0
C9: ՀՀ պետական եկամուտների կոմիտե | D9: =D10 -> 0
A10: 1023 | C10: Ծրագրի անվանումը՝ | D10: =D17+D23+D29 -> 0
C11: Հարկային և մաքսային ծառայություններ
C12: Ծրագրի նպատակը՝
C13: Հարկային և մաքսային միասնական պետական քաղաքականության իրականացում, հարկային և մաքսային օրենսդրության ամբողջական և համահավասար կիրառում
C14: Վերջնական արդյունքի նկարագրությունը՝
C15: Արդյունավետ հարկային և մաքսային հսկողության իրականացում, պետական բյուջեի եկամուտների ապահովում
A16: Ծրագրի միջոցառումներ
B17: 11001 | C17: Միջոցառման անվանումը` | D17: ='Հավելված 3'!G19 -> -57462.4
C18: Հարկային և մաքսային ծառայություններ
C19: Միջոցառման նկարագրությունը`
C20: Հարկային և մաքսային քաղաքականության մշակման, պլանավորման, մոնիտորինգի, ծրագրերի համակարգման, գանձման, վերահսկողության և աջակցության ծառայություններ
C21: Միջոցառման տեսակը
C22: Ծառայությունների մատուցում
B23: 11005 | C23: Միջոցառման անվանումը` | D23: ='Հավելված 3'!G28 -> 10000
C24: Փորձաքննությունների ծառայություններ
C25: Միջոցառման նկարագրությունը`
C26: Փորձաքննությունների կատարում և եզրակացությունների տրամադրում, անվճարունակ քաղաքացիներին իրավական ծառայությունների տրամադրում
C27: Միջոցառման տեսակը
C28: Ծառայությունների մատուցում
B29: 31003 | C29: Միջոցառման անվանումը` | D29: ='Հավելված 3'!G37 -> 47462.4
C30: ՀՀ պետական եկամուտների կոմիտեի շենքային ապահովվածության բարելավում_x000D_
C31: Միջոցառման նկարագրությունը`
C32: ՀՀ պետական եկամուտների կոմիտեի նոր շենքերի և շինությունների շինարարություն, նախագծային աշխատանքների ձեռքբերում
C33: Միջոցառման տեսակը
C34: Պետական մարմինների կողմից օգտագործվող ոչ ֆինանսական ակտիվների հետ գործառնություններ

Sheet Հավելված 2
H1: Հավելված N 2
H2: ՀՀ կառավարության 2023 թվականի
H3: ___________ ___-ի N _______ որոշման
A4: «ՀԱՅԱՍՏԱՆԻ ՀԱՆՐԱՊԵՏՈՒԹՅԱՆ 2023 ԹՎԱԿԱՆԻ ՊԵՏԱԿԱՆ ԲՅՈՒՋԵԻ ՄԱՍԻՆ» ՀԱՅԱՍՏԱՆԻ ՀԱՆՐԱՊԵՏՈՒԹՅԱՆ ՕՐԵՆՔԻ N 1 ՀԱՎԵԼՎԱԾԻ N 3 ԱՂՅՈՒՍԱԿՈՒՄ ԿԱՏԱՐՎՈՂ ՓՈՓՈԽՈՒԹՅՈՒՆՆԵՐԸ
H5: հազ. դրամներով
A6: Ծրագրային դասիչ | C6: Բյուջետային գլխավոր կարգադրիչների, ծրագրերի, միջոցառումների և ուղղությունների անվանումները | D6: Ցուցանիշների փոփոխությունը (ավելացումները նշված են դրական նշանով, իսկ նվազեցումները՝ փակագծերում)
D7: Ընդամենը | E7: այդ թվում՝
E8: Կառուցման աշխատանքներ | F8: Վերակառուցման, վերանորոգման և վերականգնման աշխատանքներ | G8: Նախագծահետազոտական, գեոդեզա-քարտեզագրական աշխատանքներ | H8: Ոչ ֆինանսական այլ ակտիվների ձեռքբերում
A9: Ծրագիր | B9: Միջոցառում
C10: ԸՆԴԱՄԵՆԸ | D10: =D12 -> 47462.4 | E10: =E12 -> 47462.4 | F10: =F12 -> 0 | G10: =G12 -> 0 | H10: =H12 -> 0
C11: այդ թվում՝
C12: ՀՀ ՊԵՏԱԿԱՆ ԵԿԱՄՈՒՏՆԵՐԻ ԿՈՄԻՏԵ | D12: =D14 -> 47462.4 | E12: =E14 -> 47462.4 | F12: =F14 -> 0 | G12: =G14 -> 0 | H12: =H14 -> 0
C13: այդ թվում`
A14: 1023 | B14: 31003 | C14: ՀՀ պետական եկամուտների կոմիտեի շենքային ապահովվածության բարելավում | D14: =SUM(D15:D17) -> 47462.4 | E14: =SUM(E15:E17) -> 47462.4 | F14: =SUM(F15:F17) -> 0 | G14: =SUM(G15:G17) -> 0 | H14: =SUM(H15:H17) -> 0
C15: ՀՀ ՊԵԿ Երևան քաղաքի արտաքին տնտեսական գործունեության կենտրոնի կառուցման աշխատանքներ | D15: =E15+F15+G15+H15 -> -126044.1 | E15: ='Հավելված 4'!D16 -> -126044.1
C16: Արևելյան մաքսատան-վարչության Բագրատաշենի մաքսային կետ-բաժնի ենթակառուցվածքների վերակառուցում | D16: =E16+F16+G16+H16 -> -8601.9 | E16: =+'Հավելված 4'!D17 -> -8601.9
C17: «Մարգարա» մաքսային կետի կառուցման աշխատանքներ | D17: =E17+F17+G17+H17 -> 182108.4 | E17: ='Հավելված 4'!D18 -> 182108.4

Sheet Հավելված 3
G1: Հավելված N 3
G2: ՀՀ կառավարության 2023 թվականի
G3: ___________ ___-ի N _______ որոշման
A4: ՀԱՅԱՍՏԱՆԻ ՀԱՆՐԱՊԵՏՈՒԹՅԱՆ ԿԱՌԱՎԱՐՈՒԹՅԱՆ 2022 ԹՎԱԿԱՆԻ ԴԵԿՏԵՄԲԵՐԻ 29-Ի N 2111-Ն ՈՐՈՇՄԱՆ NN 3 ԵՎ 4 ՀԱՎԵԼՎԱԾՆԵՐԻ ԱՂՅՈՒՍԱԿՆԵՐՈՒՄ ԿԱՏԱՐՎՈՂ ՓՈՓՈԽՈՒԹՅՈՒՆՆԵՐԸ
G5: հազ. դրամներով
A6: Գործառնական դասիչը | D6: Ծրագրային դասիչը | F6: Բյուջետային ծախսերի գործառնական դասակարգման բաժինների, խմբերի և դասերի, բյուջետային ծրագրերի միջոցառումների, բյուջետային հատկացումների գլխավոր կարգադրիչների անվանումները | G6: Ցուցանիշների փոփոխությունը (ավելացումները նշված են դրական նշանով, իսկ նվազեցումները՝ փակագծերում)
A7: բաժին | B7: խումբ | C7: դաս | D7: ծրագիր | E7: միջոցառում | G7: Տարի
F8: ԸՆԴԱՄԵՆԸ ԾԱԽՍԵՐ | G8: =G10 -> 0
F9: այդ թվում՝
A10: 01 | F10: ԸՆԴՀԱՆՈՒՐ ԲՆՈՒՅԹԻ ՀԱՆՐԱՅԻՆ ԾԱՌԱՅՈՒԹՅՈՒՆՆԵՐ | G10: =G12 -> 0
F11: այդ թվում՝
B12: 01 | F12: Օրենսդիր և գործադիր մարմիններ, պետական կառավարում, ֆինանսական և հարկաբյուջետային հարաբերություններ, արտաքին հարաբերություններ | G12: =G14 -> 0
F13: այդ թվում՝
C14: 02 | F14: Ֆինանսական և հարկաբյուջետային հարաբերություններ | G14: =G16 -> 0
F15: այդ թվում՝
F16: ՀՀ պետական եկամուտների կոմիտե | G16: =G17 -> 0
D17: 1023 | F17: Հարկային և մաքսային ծառայություններ | G17: =G19+G28+G37 -> 0
F18: այդ թվում՝
E19: 11001 | F19: Հարկային և մաքսային ծառայություններ | G19: =G21 -> -57462.4
F20: այդ թվում` ըստ կատարողների
F21: ՀՀ պետական եկամուտների կոմիտե | G21: =G23 -> -57462.4
F22: այդ թվում` բյուջետային ծախսերի տնտեսագիտական դասակարգման հոդվածներ
F23: ԸՆԴԱՄԵՆԸ ԾԱԽՍԵՐ | G23: =G24 -> -57462.4
F24: ԸՆԹԱՑԻԿ ԾԱԽՍԵՐ | G24: =G25 -> -57462.4
F25: ԾԱՌԱՅՈՒԹՅՈՒՆՆԵՐԻ ԵՎ ԱՊՐԱՆՔՆԵՐԻ ՁԵՌՔԲԵՐՈՒՄ | G25: =G26 -> -57462.4
F26: Շարունակական ծախսեր | G26: =G27 -> -57462.4
F27: - Արտագերատեսչական ծախսեր | G27: -57462.4
E28: 11005 | F28: Փորձաքննությունների ծառայություններ | G28: =G30 -> 10000
F29: այդ թվում` ըստ կատարողների
F30: ՀՀ պետական եկամուտների կոմիտե | G30: =G32 -> 10000
F31: այդ թվում` բյուջետային ծախսերի տնտեսագիտական դասակարգման հոդվածներ
F32: ԸՆԴԱՄԵՆԸ ԾԱԽՍԵՐ | G32: =G33 -> 10000
F33: ԸՆԹԱՑԻԿ ԾԱԽՍԵՐ | G33: =G34 -> 10000
F34: ԾԱՌԱՅՈՒԹՅՈՒՆՆԵՐԻ ԵՎ ԱՊՐԱՆՔՆԵՐԻ ՁԵՌՔԲԵՐՈՒՄ | G34: =G35 -> 10000
F35: Պայմանագրային այլ ծառայությունների ձեռքբերում | G35: =G36 -> 10000
F36: - Կառավարչական ծառայություններ | G36: 10000
E37: 31003 | F37: ՀՀ պետական եկամուտների կոմիտեի շենքային ապահովվածության բարելավում | G37: =G39 -> 47462.4
F38: այդ թվում` ըստ կատարողների
F39: ՀՀ պետական եկամուտների կոմիտե | G39: =G41 -> 47462.4
F40: այդ թվում` բյուջետային ծախսերի տնտեսագիտական դասակարգման հոդվածներ
F41: ԸՆԴԱՄԵՆԸ ԾԱԽՍԵՐ | G41: =G42 -> 47462.4
F42: ՈՉ ՖԻՆԱՆՍԱԿԱՆ ԱԿՏԻՎՆԵՐԻ ԳԾՈՎ ԾԱԽՍԵՐ | G42: =G43 -> 47462.4
F43: ՀԻՄՆԱԿԱՆ ՄԻՋՈՑՆԵՐ | G43: =G44 -> 47462.4
F44: ՇԵՆՔԵՐ ԵՎ ՇԻՆՈՒԹՅՈՒՆՆԵՐ | G44: =G45 -> 47462.4
F45: - Շենքերի և շինությունների շինարարություն | G45: ='Հավելված 2'!D15+'Հավելված 2'!D16+'Հավելված 2'!D17 -> 47462.4

Sheet Հավելված 4
D1: Հավելված N 4
D2: ՀՀ կառավարության 2023 թվականի
D3: ___________ ___-ի N _______ որոշման
A4: ՀԱՅԱՍՏԱՆԻ ՀԱՆՐԱՊԵՏՈՒԹՅԱՆ ԿԱՌԱՎԱՐՈՒԹՅԱՆ 2022 ԹՎԱԿԱՆԻ ԴԵԿՏԵՄԲԵՐԻ 29-Ի N 2111-Ն ՈՐՈՇՄԱՆ N 5 ՀԱՎԵԼՎԱԾԻ N 2 ԱՂՅՈՒՍԱԿՈՒՄ ԿԱՏԱՐՎՈՂ ՓՈՓՈԽՈՒԹՅՈՒՆՆԵՐԸ
D5: հազ. դրամներով
A6: Ծրագրային դասիչը | C6: Բյուջետային գլխավոր կարգադրիչների, ծրագրերի, միջոցառումների, միջոցառումները կատարող պետական մարմինների և ուղղությունների անվանումները | D6: Ցուցանիշների փոփոխությունը (ավելացումները նշված են դրական նշանով, իսկ նվազեցումները՝ փակագծերում)
A7: Ծրագիրը | B7: Միջոցառումը | D7: Տարի
C8: ԸՆԴԱՄԵՆԸ | D8: =D10 -> 47462.4
C9: այդ թվում՝
C10: ՀՀ ՊԵՏԱԿԱՆ ԵԿԱՄՈՒՏՆԵՐԻ ԿՈՄԻՏԵ | D10: =D12 -> 47462.4
C11: այդ թվում`
A12: 1023 | B12: 31003 | C12: ՀՀ պետական եկամուտների կոմիտեի շենքային ապահովվածության բարելավում | D12: =D14 -> 47462.4
C13: այդ թվում` ըստ կատարողների
C14: ՀՀ պետական եկամուտների կոմիտե | D14: =SUM(D16:D18) -> 47462.4
C15: այդ թվում` ըստ ուղղությունների
C16: ՀՀ ՊԵԿ Երևան քաղաքի արտաքին տնտեսական գործունեության կենտրոնի կառուցման աշխատանքներ | D16: -126044.1
C17: Արևելյան մաքսատան-վարչության Բագրատաշենի մաքսային կետ-բաժնի ենթակառուցվածքների վերակառուցում | D17: -8601.9
C18: «Մարգարա» մաքսային կետի կառուցման աշխատանքներ | D18: =184950-4631.3+2549-759.3 -> 182108.4

Sheet Հավելված 5 աղյուսակներ 1,2
C1: Հավելված N 5
C2: Աղյուսակ N 1
C3: ՀՀ կառավարության 2023 թվականի
C4: ___________ ___-ի N _______ որոշման
A5: ՀԱՅԱՍՏԱՆԻ ՀԱՆՐԱՊԵՏՈՒԹՅԱՆ ԿԱՌԱՎԱՐՈՒԹՅԱՆ 2022 ԹՎԱԿԱՆԻ ԴԵԿՏԵՄԲԵՐԻ 29-Ի N 2111-Ն ՈՐՈՇՄԱՆ N 9 ՀԱՎԵԼՎԱԾԻ N 9.25 ԱՂՅՈՒՍԱԿՈՒՄ ԿԱՏԱՐՎՈՂ ՓՈՓՈԽՈՒԹՅՈՒՆՆԵՐԸ ԵՎ ԼՐԱՑՈՒՄՆԵՐԸ
A7: ՀՀ պետական եկամուտների կոմիտե
A9: ՄԱՍ 2. ՊԵՏԱԿԱՆ ՄԱՐՄՆԻ ԳԾՈՎ ԱՐԴՅՈՒՆՔԱՅԻՆ (ԿԱՏԱՐՈՂԱԿԱՆ) ՑՈՒՑԱՆԻՇՆԵՐԸ
A11: Ծրագրի դասիչը | B11: Ծրագրի անվանումը
A12: 1023 | B12: Հարկային և մաքսային ծառայություններ
A14: Ծրագրի միջոցառումները
A16: Ծրագրի դասիչը՝ | B16: 1023 | C16: Ցուցանիշների փոփոխությունը (նվազեցումները նշված են փակագծերում)
A17: Միջոցառման դասիչը՝ | B17: 11001 | C17: Տարի
A18: Միջոցառման անվանումը՝ | B18: Հարկային և մաքսային ծառայություններ
A19: Նկարագրությունը՝ | B19: Հարկային և մաքսային քաղաքականության մշակման, պլանավորման, մոնիտորինգի, ծրագրերի համակարգման, գանձման, վերահսկողության և աջակցության ծառայություններ
A20: Միջոցառման տեսակը՝ | B20: Ծառայությունների մատուցում
A21: Ծառայությունը մատուցող կազմակերպության անվանումը | B21: ՀՀ պետական եկամուտների կոմիտե
A22: Արդյունքի չափորոշիչներ
A23: Միջոցառման վրա կատարվող ծախսը (հազար դրամ) | C23: ='Հավելված 3'!G19 -> -57462.4
A25: Ծրագրի դասիչը` | B25: 1023 | C25: Ցուցանիշների փոփոխությունը (ավելացումները նշված են դրական նշանով)
A26: Միջոցառման դասիչը` | B26: 11005 | C26: Տարի
A27: Միջոցառման անվանումը` | B27: Փորձաքննությունների ծառայություններ
A28: Նկարագրությունը` | B28: Փորձաքննությունների կատարում և եզրակացությունների տրամադրում, անվճարունակ քաղաքացիներին իրավական ծառայությունների տրամադրում
A29: Միջոցառման տեսակը` | B29: Ծառայությունների մատուցում
A30: Ծառայությունը մատուցող կազմակերպության(ների) անվանում(ներ)ը՛ | B30: Մրցույթի արդյունքում ընտրված կազմակերպություն
A31: Արդյունքի չափորոշիչներ
A32: Ընդամենը փորձաքննությունների քանակ, հատ | C32: =SUM(C33:C35) -> 231
A33: Հետքաբանական փորձաքննությունների քանակ, հատ | C33: 10
A34: Ապրանքագիտական փորձաքննությունների քանակ, հատ | C34: 211
A35: Ավտոտեխնիկական փորձաքննությունների քանակ, հատ | C35: 10
A36: Միջոցառման վրա կատարվող ծախսը (հազար դրամ) | C36: ='Հավելված 3'!G28 -> 10000
A38: Ծրագրի դասիչը` | B38: 1023 | C38: Ցուցանիշների փոփոխությունը (ավելացումները նշված են դրական նշանով)
A39: Միջոցառման դասիչը` | B39: 31003 | C39: Տարի
A40: Միջոցառման անվանումը` | B40: ՀՀ պետական եկամուտների կոմիտեի շենքային ապահովվածության բարելավում
A41: Նկարագրությունը` | B41: ՀՀ պետական եկամուտների կոմիտեի նոր շենքերի և շինությունների շինարարություն, նախագծային աշխատանքների ձեռքբերում
A42: Միջոցառման տեսակը` | B42: Պետական մարմինների կողմից օգտագործվող ոչ ֆինանսական ակտիվների հետ գործառնություններ
A43: Միջոցառումն իրականացնողի անվանումը | B43: ՀՀ պետական եկամուտների կոմիտե
A44: Արդյունքի չափորոշիչներ
A45: Միջոցառման վրա կատարվող ծախսը (հազար դրամ) | C45: ='Հավելված 3'!G37 -> 47462.4
C47: Աղյուսակ N 2
A48: ՀԱՅԱՍՏԱՆԻ ՀԱՆՐԱՊԵՏՈՒԹՅԱՆ ԿԱՌԱՎԱՐՈՒԹՅԱՆ 2022 ԹՎԱԿԱՆԻ ԴԵԿՏԵՄԲԵՐԻ 29-Ի N 2111-Ն ՈՐՈՇՄԱՆ N 9.1 ՀԱՎԵԼՎԱԾԻ N 9.1.27 ԱՂՅՈՒՍԱԿՈՒՄ ԿԱՏԱՐՎՈՂ ՓՈՓՈԽՈՒԹՅՈՒՆՆԵՐԸ ԵՎ ԼՐԱՑՈՒՄՆԵՐԸ
A50: ՀՀ պետական եկամուտների կոմիտե
A52: ՄԱՍ 1. ՊԵՏԱԿԱՆ ՄԱՐՄՆԻ ԳԾՈՎ ԱՐԴՅՈՒՆՔԱՅԻՆ (ԿԱՏԱՐՈՂԱԿԱՆ) ՑՈՒՑԱՆԻՇՆԵՐԸ
A54: Ծրագրի դասիչը | B54: Ծրագրի անվանումը
A55: 1023 | B55: Հարկային և մաքսային ծառայություններ
A57: Ծրագրի միջոցառումները
A59: Ծրագրի դասիչը՝ | B59: 1023 | C59: Ցուցանիշների փոփոխությունը (նվազեցումները նշված են փակագծերում)
A60: Միջոցառման դասիչը՝ | B60: 11001 | C60: Տարի
A61: Միջոցառման անվանումը՝ | B61: Հարկային և մաքսային ծառայություններ
A62: Նկարագրությունը՝ | B62: Հարկային և մաքսային քաղաքականության մշակման, պլանավորման, մոնիտորինգի, ծրագրերի համակարգման, գանձման, վերահսկողության և աջակցության ծառայություններ
A63: Միջոցառման տեսակը՝ | B63: Ծառայությունների մատուցում
A64: Ծառայությունը մատուցող կազմակերպության անվանումը | B64: ՀՀ պետական եկամուտների կոմիտե
A65: Արդյունքի չափորոշիչներ
A66: Միջոցառման վրա կատարվող ծախսը (հազար դրամ) | C66: ='Հավելված 3'!G19 -> -57462.4
A68: Ծրագրի դասիչը` | B68: 1023 | C68: Ցուցանիշների փոփոխությունը (ավելացումները նշված են դրական նշանով)
A69: Միջոցառման դասիչը` | B69: 11005 | C69: Տարի
A70: Միջոցառման անվանումը` | B70: Փորձաքննությունների ծառայություններ
A71: Նկարագրությունը` | B71: Փորձաքննությունների կատարում և եզրակացությունների տրամադրում, անվճարունակ քաղաքացիներին իրավական ծառայությունների տրամադրում
A72: Միջոցառման տեսակը` | B72: Ծառայությունների մատուցում
A73: Ծառայությունը մատուցող կազմակերպության(ների) անվանում(ներ)ը՛ | B73: Մրցույթի արդյունքում ընտրված կազմակերպություն
A74: Արդյունքի չափորոշիչներ
A75: Ընդամենը փորձաքննությունների քանակ, հատ | C75: =SUM(C76:C78) -> 231
A76: Հետքաբանական փորձաքննությունների քանակ, հատ | C76: 10
A77: Ապրանքագիտական փորձաքննությունների քանակ, հատ | C77: 211
A78: Ավտոտեխնիկական փորձաքննությունների քանակ, հատ | C78: 10
A79: Միջոցառման վրա կատարվող ծախսը (հազար դրամ) | C79: ='Հավելված 3'!G28 -> 10000
A81: Ծրագրի դասիչը` | B81: 1023 | C81: Ցուցանիշների փոփոխությունը (ավելացումները նշված են դրական նշանով)
A82: Միջոցառման դասիչը` | B82: 31003 | C82: Տարի
A83: Միջոցառման անվանումը` | B83: ՀՀ պետական եկամուտների կոմիտեի շենքային ապահովվածության բարելավում
A84: Նկարագրությունը` | B84: ՀՀ պետական եկամուտների կոմիտեի նոր շենքերի և շինությունների շինարարություն, նախագծային աշխատանքների ձեռքբերում
A85: Միջոցառման տեսակը` | B85: Պետական մարմինների կողմից օգտագործվող ոչ ֆինանսական ակտիվների հետ գործառնություններ
A86: Միջոցառումն իրականացնողի անվանումը | B86: ՀՀ պետական եկամուտների կոմիտե
A87: Արդյունքի չափորոշիչներ
A88: Միջոցառման վրա կատարվող ծախսը (հազար դրամ) | C88: ='Հավելված 3'!G37 -> 47462.4

Sheet Հավելված 6
G1: Հավելված N 6
G2: ՀՀ կառավարության 2023 թվականի
G3: ___________ ___-ի N _______ որոշման
A4: ՀԱՅԱՍՏԱՆԻ ՀԱՆՐԱՊԵՏՈՒԹՅԱՆ ԿԱՌԱՎԱՐՈՒԹՅԱՆ 2022 ԹՎԱԿԱՆԻ ԴԵԿՏԵՄԲԵՐԻ 29-Ի N 2111-Ն ՈՐՈՇՄԱՆ N 10 ՀԱՎԵԼՎԱԾՈՒՄ ԿԱՏԱՐՎՈՂ ՓՈՓՈԽՈՒԹՅՈՒՆՆԵՐԸ
A6: Գնման առարկայի | E6: Ցուցանիշների փոփոխությունը (ավելացումները նշված են դրական նշանով, իսկ նվազեցումները՝ փակագծերում)
A7: կոդը | B7: անվանումը | C7: գնման ձևը | D7: չափի միավորը | E7: միավորի գինը | F7: քանակը | G7: Գումարը (հազար դրամ)
A9: ՀՀ պետական եկամուտների կոմիտե | G9: =G10 -> -10000.003
A10: Բաժին N 01 | B10: Խումբ N 01 | C10: Դաս N 02 | D10: Ֆինանսական և հարկաբյուջետային հարաբերություններ | G10: =+G11+G14 -> -10000.003
A11: 1023 11001 | B11: Հարկային և մաքսային ծառայություններ | G11: =G12 -> -57462.4
B12: ՄԱՍ III. ԾԱՌԱՅՈՒԹՅՈՒՆՆԵՐ | G12: =+G13 -> -57462.4
A13: 98341140-1 | B13: շենքի պահպանման ծառայություններ | C13: ԲՄ | D13: դրամ | G13: -57462.4
A14: 1023 31003 | B14: ՀՀ պետական եկամուտների կոմիտեի շենքային ապահովվածության բարելավում | G14: =+G15+G18 -> 47462.397
B15: ՄԱՍ II. ԱՇԽԱՏԱՆՔՆԵՐ | G15: =+G16+G17 -> 71471.597
A16: 45451700-1 | B16: վերակառուցման աշխատանքներ | C16: ԲՄ | D16: դրամ | E16: 108847055 | F16: -1 | G16: =E16*F16/1000 -> -108847.05
A17: 45451700-6 | B17: վերակառուցման աշխատանքներ | C17: ՀՄԱ | D17: դրամ | E17: =184949952-4631300 -> 180318652 | F17: 1 | G17: =E17*F17/1000 -> 180318.65
B18: ՄԱՍ III. ԾԱՌԱՅՈՒԹՅՈՒՆՆԵՐ | G18: =G19+G20+G21+G22+G23+G24 -> -24009.2
A19: 71351540-1 | B19: տեխնիկական հսկողության ծառայություններ | C19: ԳՀ | D19: դրամ | E19: 10281000 | F19: -1 | G19: =E19*F19/1000 -> -10281
A20: 71351540-8 | B20: տեխնիկական հսկողության ծառայություններ | C20: ՀԲՄ | D20: դրամ | E20: 5734922 | F20: -1 | G20: =E20*F20/1000 -> -5734.922
A21: 71351540-3 | B21: տեխնիկական հսկողության ծառայություններ | C21: ՀՄԱ | D21: դրամ | E21: 759317 | F21: -1 | G21: =E21*F21/1000 -> -759.317
A22: 71351540-4 | B22: տեխնիկական հսկողության ծառայություններ | C22: ՀՄԱ | D22: դրամ | E22: 2549000 | F22: 1 | G22: =E22*F22/1000 -> 2549
A23: 98111140-1 | B23: հեղինակային հսկողության ծառայություններ | C23: ՄԱ | D23: դրամ | E23: 6916000 | F23: -1 | G23: =E23*F23/1000 -> -6916
A24: 98111140-6 | B24: հեղինակային հսկողության ծառայություններ | C24: ՄԱ | D24: դրամ | E24: 2866961 | F24: -1 | G24: =E24*F24/1000 -> -2866.961

Sheet Հավելված 7
F1: Հավելված N 7
F2: ՀՀ կառավարության 2023 թվականի
F3: ___________ ___-ի N _______ որոշման
A4: ԾԱՎԱԼԱԹԵՐԹ-ՆԱԽԱՀԱՇԻՎ
A5: «ՄԱՐԳԱՐԱ» ՄԱՔՍԱՅԻՆ ԿԵՏԻ ԿԱՌՈՒՑՄԱՆ (2-ՐԴ ՓՈՒԼ) ԱՇԽԱՏԱՆՔՆԵՐԻ ԿԱՏԱՐՄԱՆ
A7: Հ/Հ | B7: Աշխատանքների անվանումը | C7: Չափ. միավորը | D7: Քանակը | E7: Միավորի արժեքը (ՀՀ դրամ) | F7: Ընդամենը (ՀՀ դրամ)
A8: 1 | B8: 2 | C8: 3 | D8: 4 | E8: 5 | F8: 6
B9: Բաժին 1 Հողային աշխատանքներ
A10: 1 | B10: Գոյություն ունեցող հենապատի քանդում | C10: մ3 | D10: 144.8 | E10: 16750.096 | F10: =D10*E10 -> 2425413.9
A11: =+A10+1 -> 2 | B11: Գոյություն ունեցող ասֆալտբետոնե հարթակի քանդում | C11: մ3 | D11: 70 | E11: 5655.1331 | F11: =D11*E11 -> 395859.31
A12: =+A11+1 -> 3 | B12: Գոյություն ունեցող փշալար ցանկապատի ապամոնտաժում ձեռքով և վեդադառց պատվիրատուին | C12: գմ | D12: 200 | E12: 2757.2225 | F12: =D12*E12 -> 551444.51
A13: =+A12+1 -> 4 | B13: Շին աղբի բարձում 1,0 մ3 շերեփի տարողությամբ էքսկավատորով ավտոինքնաթափեր | C13: 1000մ3 | D13: 0.2148 | E13: 799524.36 | F13: =D13*E13 -> 171737.83
A14: =A13+1 -> 5 | B14: Շին աղբի տեղափոխում լցակույտ 1.0կմ | C14: տ | D14: 451.56 | E14: 262.98739 | F14: =D14*E14 -> 118754.59
A15: =+A14+1 -> 6 | B15: Գրունտի մշակում 1,0 մ3 շերեփի տարողությամբ էքսկավատորով բարձելով ավտոինքնաթափեր | C15: 1000մ3 | D15: 1.227 | E15: 663975.64 | F15: =D15*E15 -> 814698.11
A16: =A15+1 -> 7 | B16: Գրունտի տեղափոխում լցակույտ 1.0կմ | C16: տ | D16: 637.65 | E16: 262.98739 | F16: =D16*E16 -> 167693.91
A17: =A16+1 -> 8 | B17: Ավազակոպճային հարթեցնող շերտի իրականացում | C17: մ3 | D17: 2800 | E17: 7896.8645 | F17: =D17*E17 -> 22111221
B18: Ընդամենը 1 բաժնով | F18: =SUM(F10:F17) -> 26756823
B19: Բաժին 2 Հիմնական մասնաշենք (զննման մասնաշենք)
A20: =A16+1 -> 8 | B20: Բետոնե նախապատրաստական շերտի իրականացում В7.5 դասի բետոնից | C20: մ3 | D20: 3.1 | E20: 40617.859 | F20: =D20*E20 -> 125915.36
A21: =A20+1 -> 9 | B21: Միաձույլ ե/բ հիմքեր իրականացում В25 դասի բետոնից | C21: մ3 | D21: 7.6 | E21: 61817.673 | F21: =D21*E21 -> 469814.32
A22: =A21+1 -> 10 | B22: Ամրան ∅16 A500C դասի | C22: տ | D22: 1.0257562 | E22: 485845.03 | F22: =D22*E22 -> 498358.55
A23: =A22+1 -> 11 | B23: Ամրան ∅10 Ac-I դասի | C23: տ | D23: 0.0830849 | E23: 513874.55 | F23: =D23*E23 -> 42695.216
A24: =A23+1 -> 12 | B24: Ամրան ∅8 Ac-I դասի | C24: տ | D24: 0.0436504 | E24: 485845.03 | F24: =D24*E24 -> 21207.33
A25: =A24+1 -> 13 | B25: Ներդիր դետալների տեղադրում | C25: տ | D25: 1.60448 | E25: 1473087.7 | F25: =D25*E25 -> 2363539.8
A26: =A25+1 -> 14 | B26: Ե/բետոնե պատի իրականացում В25 դասի | C26: մ3 | D26: 12.6 | E26: 87429.833 | F26: =D26*E26 -> 1101615.9
A27: =A26+1 -> 15 | B27: Ամրան ∅10 Ac-I դասի | C27: տ | D27: 1.1646653 | E27: 510760.66 | F27: =D27*E27 -> 594865.21
A28: =A27+1 -> 16 | B28: Ամրան ∅8 Ac-I դասի | C28: տ | D28: 0.0974128 | E28: 473387.96 | F28: =D28*E28 -> 46114.047
A29: =A28+1 -> 17 | B29: Մետաղական կանգնակ Կ-1 10 հատ | C29: տ | D29: 0.431 | E29: 63837.427 | F29: =D29*E29 -> 27513.931
A30: =A29+1 -> 18 | B30: Խողովակ պողպատե 120x50x3 | C30: մ | D30: 50.38 | E30: 4543.0247 | F30: =D30*E30 -> 228877.59
A31: =A30+1 -> 19 | B31: Մետաղական թիթեղ - 12x200 | C31: տ | D31: 0.051 | E31: 905250.38 | F31: =D31*E31 -> 46167.769
A32: =A31+1 -> 20 | B32: Մետաղական պահանգ 6 հատ | C32: տ | D32: 0.1986 | E32: 94846.539 | F32: =D32*E32 -> 18836.523
... A38: =A37+1 -> 26 | B38: Խողովակ պողպատե 100x50x4 | C38: մ | D38: 47.92 | E38: 5256.0958 | F38: =D38*E38 -> 251872.11
A39: 1 | B39: Ջրահեռացման խողովակ Մ100մմ | C39: մ | D39: 14.6 | E39: 2746.893 | F39: =D39*E39 -> 40104.638
A40: =A39+1 -> 2 | B40: Ծածկերի մոնտաժում գործարանային արտադրության սենդվիչ պանելներից (պոլուպենոուրիտանե 100մմ) | C40: 100մ2 | D40: 3.62 | E40: 2472255.8 | F40: =D40*E40 -> 8949566.1
A41: =A40+1 -> 3 | B41: Ֆերմա Ֆ-1 (7 հատ) մետաղական կոնստրուկցիաների մոնտաժում | C41: տ | D41: 2.7202 | E41: 1084583.5 | F41: =D41*E41 -> 2950283.9
A42: =A41+1 -> 4 | B42: Մետաղական կանգնակ | C42: տ | D42: 4.96204 | E42: 63837.427 | F42: =D42*E42 -> 316763.87
A43: =A42+1 -> 5 | B43: Խողովակ պողպատե 120x120x5 | C43: մ | D43: 204.504 | E43: 9305.8009 | F43: =D43*E43 -> 1903073.5
A44: =A43+1 -> 6 | B44: Խողովակ պողպատե 180x140x5 | C44: մ | D44: 39.504 | E44: 10464.354 | F44: =D44*E44 -> 413383.86
A45: =A44+1 -> 7 | B45: Խողովակ պողպատե 100x50x3 | C45: մ | D45: 59 | E45: 3998.8783 | F45: =D45*E45 -> 235933.82
A46: =A43+1 -> 6 | B46: Մետաղական թիթեղ - 12x200 | C46: տ | D46: 0.2321 | E46: 905250.38 | F46: =D46*E46 -> 210108.61
A47: =A46+1 -> 7 | B47: Մետաղական կավարամած | C47: տ | D47: 0.9282 | E47: 63837.427 | F47: =D47*E47 -> 59253.9
A48: =A47+1 -> 8 | B48: Մետաղական կավարամածի կոնստրուկցիա 12 | C48: մ | D48: 476 | E48: 3288.7971 | F48: =D48*E48 -> 1565467.4
A49: =A48+1 -> 9 | B49: Ջրհորդան | C49: մ | D49: 24 | E49: 3199.1026 | F49: =D49*E49 -> 76778.464
A50: =A48+1 -> 9 | B50: Ծածկերի մոնտաժում գործարանային արտադրության սենդվիչ պանելներից (պոլուպենոուրիտանե 100մմ) | C50: 100մ2 | D50: 2.17 | E50: 2472255.8 | F50: =D50*E50 -> 5364795.1
A51: =A50+1 -> 10 | B51: Մետաղական կանգնակ | C51: տ | D51: 4.96204 | E51: 63837.427 | F51: =D51*E51 -> 316763.87
A52: =A51+1 -> 11 | B52: Խողովակ պողպատե 120x120x5 | C52: մ | D52: 204.504 | E52: 9305.8009 | F52: =D52*E52 -> 1903073.5
A53: =A52+1 -> 12 | B53: Խողովակ պողպատե 180x140x5 | C53: մ | D53: 39.504 | E53: 10464.354 | F53: =D53*E53 -> 413383.86
A54: =A53+1 -> 13 | B54: Խողովակ պողպատե 100x50x3 | C54: մ | D54: 59 | E54: 3998.8783 | F54: =D54*E54 -> 235933.82
A55: =A52+1 -> 12 | B55: Մետաղական թիթեղ - 12x200 | C55: տ | D55: 0.2321 | E55: 905250.38 | F55: =D55*E55 -> 210108.61
A56: =A55+1 -> 13 | B56: Մետաղական կավարամած | C56: տ | D56: 0.7616 | E56: 63837.427 | F56: =D56*E56 -> 48618.584
A57: =A56+1 -> 14 | B57: Մետաղական կավարամածի կոնստրուկցիա 12 | C57: մ | D57: 238 | E57: 3288.7971 | F57: =D57*E57 -> 782733.71
A58: =A57+1 -> 15 | B58: Ծածկերի մոնտաժում գործարանային արտադրության սենդվիչ պանելներից (պոլուպենոուրիտանե 100մմ) | C58: 100մ2 | D58: 2.17 | E58: 2472255.8 | F58: =D58*E58 -> 5364795.1
A59: =A58+1 -> 16 | B59: ամրացման դետալներ | C59: հատ | D59: 245 | E59: 298.98156 | F59: =D59*E59 -> 73250.481
A60: =A58+1 -> 16 | B60: Կախիչների մետաղական կոնստրուկցիաների մոնտաժում | C60: տ | D60: 0.3424 | E60: 63837.427 | F60: =D60*E60 -> 21857.935
A61: =A60+1 -> 17 | B61: Մետաղական Կախիչների կոնստրուկցիա 12 | C61: մ | D61: 107 | E61: 3288.7971 | F61: =D61*E61 -> 351901.29
A62: =A61+1 -> 18 | B62: Ջրհորդան | C62: մ | D62: 24 | E62: 3199.1026 | F62: =D62*E62 -> 76778.464
A63: =A62+1 -> 19 | B63: Պատերի մոնտաժում գործարանային արտադրության սենդվիչ պանելներից (պոլուպենոուրիտանե 100մմ) | C63: 100մ2 | D63: 5.12 | E63: 3031096.4 | F63: =D63*E63 -> 15519213
A64: =A63+1 -> 20 | B64: Մետաղական էլեմենտների մակերեսների նախաներկում ГФ-021 նախաներկով | C64: մ2 | D64: 379.02748 | E64: 130.42172 | F64: =D64*E64 -> 49433.414
A65: =A64+1 -> 21 | B65: Մետաղական էլեմենտների մակերեսների ներկում ջերմակայուն էմալով | C65: մ2 | D65: 295.6826 | E65: 4352.7561 | F65: =D65*E65 -> 1287034.2
A66: Լ-1 | B66: Դետալ1 տանիքի գագաթ | C66: մ | D66: 24 | E66: 3002 | F66: =D66*E66 -> 72048
A67: Լ-2 | B67: Դետալ2 լուսամուտի տակի դետալ | C67: մ | D67: 55.94 | E67: 2871 | F67: =D67*E67 -> 160603.74
A68: Լ-3 | B68: Դետալ3 լուսամուտի և դռան դետալ | C68: մ | D68: 143.1 | E68: 3495 | F68: =D68*E68 -> 500134.5
A69: Լ-4 | B69: Դետալ4 գլխավոր մուտք դռան դետալ | C69: մ | D69: 47 | E69: 3519 | F69: =D69*E69 -> 165393
A70: Լ-5 | B70: Դետալ5 գլխավոր մուտք դռան դետալ | C70: մ | D70: 20 | E70: 3952 | F70: =D70*E70 -> 79040
A71: Լ-6 | B71: Դետալ6 տանիքի միացման դետալ | C71: մ | D71: 102 | E71: 2854 | F71: =D71*E71 -> 291108
A72: Լ-7 | B72: Դետալ7 տանիքի և պատերի անկյունակ | C72: մ | D72: 60 | E72: 3244 | F72: =D72*E72 -> 194640
A73: Լ-8 | B73: Դետալ8 տանիքի վերջավորության անկյունակ | C73: մ | D73: 118 | E73: 2867 | F73: =D73*E73 -> 338306
A74: Լ-9 | B74: Դետալ9 ջրահեռացման անկյունակ | C74: մ | D74: 60 | E74: 2379 | F74: =D74*E74 -> 142740
A75: Լ-10 | B75: Դետալ10 ջրահեռացման անկյունակ | C75: մ | D75: 60 | E75: 2379 | F75: =D75*E75 -> 142740
A76: Լ-11 | B76: Դետալ11 պատի մացման անկյունակ | C76: մ | D76: 44 | E76: 3107 | F76: =D76*E76 -> 136708
A77: Լ-12 | B77: Դետալ12 պատի մացման անկյունակ | C77: մ | D77: 64 | E77: 2737 | F77: =D77*E77 -> 175168
... A84: Լ-19 | B84: Մետաղական հարթակի տեղադրում օդափոխության սարքավորումների համար | C84: հատ | D84: 3 | E84: 247460 | F84: =D84*E84 -> 742380
B85: Պատեր Առաստաղ
A86: 49 | B86: Պատերի իրականացում գիպստվարաթղթից 12մմ /2 շերտ - Գիպսակարտոնե Սալ 12,5մմ+Գիպսակարտոնե Սալ 12,5մմ ջրակայուն/ | C86: մ2 | D86: 433 | E86: 11524.552 | F86: =D86*E86 -> 4990130.9
A87: =A86+1 -> 50 | B87: Միջնորմերի իրականացում գիպստվարաթղթից 12մմ /2 շերտ - Գիպսակարտոնե Սալ 12,5մմ+Գիպսակարտոնե Սալ 12,5մմ ջրակայուն/ | C87: մ2 | D87: 1164 | E87: 16676.654 | F87: =D87*E87 -> 19411625
A88: =A86+1 -> 50 | B88: հանքաբամբակից շերտի տեղադրում 100 մմ հաստությամբ | C88: մ2 | D88: 939 | E88: 6306.1619 | F88: =D88*E88 -> 5921486
A89: =A88+1 -> 51 | B89: Առաստաղի իրականացում առմսռրոնգ | C89: մ2 | D89: 740 | E89: 11895.289 | F89: =D89*E89 -> 8802513.8
A90: =A89+1 -> 52 | B90: Պատերի ներկում լատեքսային | C90: մ2 | D90: 2171 | E90: 2364.8297 | F90: =D90*E90 -> 5134045.2
A91: =A90+1 -> 53 | B91: Պատերի Պրեսգրանիտե սալիկ | C91: մ2 | D91: 0 | E91: 0 | F91: =D91*E91 -> 0
A92: Լ-20 | B92: Արտաքին պատերի և սալվածքի երեսապատում 3 սմ հաստ․ բազալտե սալերով | C92: մ2 | D92: 210.2 | E92: 30033.596 | F92: =D92*E92 -> 6313062
A93: Լ-21 | B93: Պատերի երեսապատում հախճասալերով | C93: մ2 | D93: 297 | E93: 10480 | F93: =D93*E93 -> 3112560
A94: Լ-22 | B94: Միջնորմներհ մետաղական կոնստրուկցիաների մոնտաժում | C94: տ | D94: 0.134 | E94: 1473087.7 | F94: =D94*E94 -> 197393.76
A95: Լ-23 | B95: Խողովակ 50*50*3մմ | C95: մ | D95: 31.5 | E95: 1700 | F95: =D95*E95 -> 53550
A96: Լ-24 | B96: Ներդիր դետալներ 100*80*8մմ | C96: տ | D96: 0.0055 | E96: 1473087.7 | F96: =D96*E96 -> 8101.9826
A97: Լ-25 | B97: Տախտակամած ներկարարական աշխատանքների համար | C97: քմ | D97: 320 | E97: 332 | F97: =D97*E97 -> 106240
B98: ՊԱՏՈՒՀԱՆՆԵՐ
A99: =A91+1 -> 54 | B99: Ալյումինե, բլոկով,60մմ հաստ., ջերմակամուրջով, ապակեփաթեթով 4+4մմ, պրոֆիլ, բացվող | C99: մ2 | D99: 33.1 | E99: 109573.7 | F99: =D99*E99 -> 3626889.4
A100: =A99+1 -> 55 | B100: Ալյումինե, բլոկով,60մմ հաստ., ջերմակամուրջով, ապակեփաթեթով 4+4մմ, պրոֆի խուլ | C100: մ2 | D100: 87.14 | E100: 61364.163 | F100: =D100*E100 -> 5347273.2
A101: =A100+1 -> 56 | B101: ներքին պատուհանագոք | C101: գմ | D101: 66.74 | E101: 2989.8156 | F101: =D101*E101 -> 199540.29
A102: =A101+1 -> 57 | B102: Արտաքին պատուհանագոք | C102: գմ | D102: 0 | E102: 2989.8156 | F102: =D102*E102 -> 0
A103: Լ-26 | B103: մետալոպաստիկ ՊՎԽ պրոֆիլից 6 մմ ապակիով պատուհանների տեղադրում | C103: մ2 | D103: 2.08 | E103: 52597.478 | F103: =D103*E103 -> 109402.76
B104: ԴՌՆԵՐ
A105: =A102+1 -> 58 | B105: Դուռ Մետաղապլաստե բլոկով | C105: մ2 | D105: 95.6 | E105: 70585.061 | F105: =D105*E105 -> 6747931.8
A106: =A105+1 -> 59 | B106: Ալյումինե, բլոկով, սպիտակ, 60մմ հաստ., ջերմակամուրջով, ապակեփաթեթով 4+4մմ, պրոֆիլ | C106: մ2 | D106: 24 | E106: 126014.35 | F106: =D106*E106 -> 3024344.5
A107: Լ-27 | B107: Դռների պարակալների տեղադրում | C107: մ | D107: 275.6 | E107: 1430 | F107: =D107*E107 -> 394108
A108: Լ-28 | B108: Մետաղական դռների տեղադրում | C108: մ2 | D108: 1.89 | E108: 82200 | F108: =D108*E108 -> 155358
B109: Հատակներ
A110: 1 | B110: պենոպլեքս 3սմ | C110: մ2 | D110: 750 | E110: 1430.4333 | F110: =D110*E110 -> 1072825
A111: =A110+1 -> 2 | B111: Ցեմենտե հարթեցնող շերտի իրականացում 60մմ հաստությամբ Պողպատե, ամրանային, եռակցված, BP d=4,0մմ, բջիջը 100x100մմ ցանցով | C111: 100մ2 | D111: 7.2 | E111: 440295.41 | F111: =D111*E111 -> 3170126.9
A112: Լ-29 | B112: Ցեմենտե հարթեցնող շերտի իրականացում 60մմ հաստությամբ | C112: մ2 | D112: 16.8 | E112: 2933.5 | F112: =D112*E112 -> 49282.8
...
