Workbook
Name _GoBack: '2'!#REF!
Name _tab10: #REF!
Name _tab11: #REF!
Name _tab12: #REF!
Name _tab13: #REF!
Name _tab14: #REF!
Name _tab15: #REF!
Name _tab16: #REF!
Name _tab17: #REF!
Name _tab18: #REF!
Name _tab19: #REF!
Name _tab20: #REF!
Name _tab21: #REF!
Name _tab22: #REF!
Name _tab23: #REF!
Name _tab24: #REF!
Name _tab5: #REF!
Name _tab6: #REF!
Name _tab7: #REF!
Name _tab8: #REF!
Name _tab9: #REF!
Name par_count: #REF!,#REF!,#REF!,#REF!,#REF!,#REF!,#REF!,#REF!,#REF!,#REF!,#REF!,#REF!,#REF!,#REF!,#REF!
Name par_qual: #REF!,#REF!,#REF!,#REF!,#REF!
Name par_time: #REF!,#REF!,#REF!,#REF!
Name par2.12s: #REF!
Name par2.4s: #REF!,#REF!,#REF!,#REF!,#REF!,#REF!,#REF!,#REF!,#REF!,#REF!,#REF!,#REF!,#REF!,#REF!,#REF!,#REF!
Name par2.5s: #REF!,#REF!
Name par2.6s: #REF!,#REF!,#REF!,#REF!
Name par2.7s: #REF!,#REF!
Name par2.9s: #REF!,#REF!,#REF!,#REF!,#REF!,#REF!,#REF!,#REF!,#REF!,#REF!,#REF!,#REF!,#REF!,#REF!,#REF!,#REF!
Name par4.10s: #REF!,#REF!
Name par4.11d: #REF!,#REF!,#REF!,#REF!,#REF!
Name par4.12d: #REF!
Name par4.13s: #REF!
Name par4.14: #REF!,#REF!,#REF!,#REF!,#REF!,#REF!
Name par4.15: #REF!,#REF!,#REF!
Name par4.16: #REF!,#REF!,#REF!
Name par4.17: #REF!,#REF!,#REF!,#REF!
Name par4.18d: #REF!,#REF!
Name par4.19s: #REF!
Name par4.20f: #REF!
Name par4.21f: #REF!
Name par4.22: #REF!
Name par4.4: #REF!
Name par4.5: #REF!
Name par4.6s: #REF!
Name par4.7s: #REF!
Name par4.8: #REF!,#REF!,#REF!,#REF!,#REF!
Name par4.9: #REF!,#REF!,#REF!,#REF!,#REF!,#REF!
Name par5.1: #REF!,#REF!
Name par5.3: #REF!,#REF!,#REF!,#REF!,#REF!,#REF!
Name par5.4: #REF!,#REF!,#REF!,#REF!,#REF!
Name par5.5: #REF!
Name par5.6: #REF!,#REF!
Name program: #REF!,#REF!,#REF!,#REF!,#REF!,#REF!,#REF!,#REF!,#REF!,#REF!,#REF!,#REF!,#REF!,#REF!,#REF!,#REF!,#REF!,#REF!,#REF!,#REF!

Sheet 1
G1: Հավելված № 1
C2: ՀՀ կառավարության 2024 թվականի
G3: № ------------ -Ն որոշման
A5: ՀԱՅԱՍՏԱՆԻ ՀԱՆՐԱՊԵՏՈՒԹՅԱՆ ԿԱՌԱՎԱՐՈՒԹՅԱՆ 2023 ԹՎԱԿԱՆԻ ԴԵԿՏԵՄԲԵՐԻ 28-Ի № 2323-Ն ՈՐՈՇՄԱՆ N 5 ՀԱՎԵԼՎԱԾԻ N 2 ԱՂՅՈՒՍԱԿՈՒՄ ԿԱՏԱՐՎՈՂ ՓՈՓՈԽՈՒԹՅՈՒՆԸ ԵՎ ԼՐԱՑՈՒՄԸ
G6: (հազ. դրամ)
A8: Ծրագրային դասիչը | C8: Բյուջետային գլխավոր կարգադրիչների, ծրագրերի, միջոցառումների, միջոցառումները կատարող պետական մարմինների և ուղղությունների անվանումները | D8: Ցուցանիշների փոփոխությունը (ավելացումները նշված են դրական նշանով, իսկ նվազեցումները՝ փակագծերում)
A10: ծրագիրը | B10: միջոցառումը | D10: Առաջին եռամսյակ | E10: Առաջին կիսամյակ | F10: Ինն ամիս | G10: Տարի
C11: ԸՆԴԱՄԵՆԸ | D11: =+D15 -> 0 | E11: =+E15 -> 0 | F11: =+F15 -> 0 | G11: =+G15 -> 0
C12: այդ թվում`
A13: 1103 | B13: 21001 | C13: Քաղաքաշինության բնագավառում պետական ծրագրերի իրականացման ապահովում | D13: =+D15 -> 0 | E13: =+E15 -> 0 | F13: =+F15 -> 0 | G13: =+G15 -> 0
C14: այդ թվում` ըստ կատարողների
C15: ՀՀ քաղաքաշինության կոմիտե | D15: =SUM(D17:D18) -> 0 | E15: =SUM(E17:E18) -> 0 | F15: =SUM(F17:F18) -> 0 | G15: =SUM(G17:G18) -> 0
C16: այդ թվում` ըստ ուղղությունների
C17: Հայաստանի Հանրապետության Լոռու մարզի Ստեփանավան համայնքի Աշոտաբերդում թաղամասի կառուցում | D17: -87850 | E17: =+'2'!E13 -> -108481 | F17: =+E17 -> -108481 | G17: =+E17 -> -108481
C18: Հայաստանի Հանրապետության Սյունիքի մարզի սահմանամերձ Գորիս համայնքի Շուռնուխ բնակավայրում բնակելի թաղամասի կառուցում | D18: 87850 | E18: =+'2'!E14 -> 108481 | F18: =+E18 -> 108481 | G18: =+E18 -> 108481

Sheet 2
F1: Հավելված № 2
D2: ՀՀ կառավարության 2024 թվականի
E3: № ------------ -Ն որոշման
A5: «ՀԱՅԱՍՏԱՆԻ ՀԱՆՐԱՊԵՏՈՒԹՅԱՆ 2024 ԹՎԱԿԱՆԻ ՊԵՏԱԿԱՆ ԲՅՈՒՋԵԻ ՄԱՍԻՆ» ՀԱՅԱՍՏԱՆԻ ՀԱՆՐԱՊԵՏՈՒԹՅԱՆ ՕՐԵՆՔԻ ՀԱՎԵԼՎԱԾ 1-Ի N 3 ԱՂՅՈՒՍԱԿՈՒՄ ԿԱՏԱՐՎՈՂ ՎԵՐԱԲԱՇԽՈՒՄԸ
H6: (հազ. դրամ)
A7: Ծրագրային դասիչը | C7: Բյուջետային գլխավոր կարգադրիչների, ծրագրերի, միջոցառումների, միջոցառումները կատարող պետական մարմինների և ուղղությունների անվանումները | D7: Ընդամենը | E7: Կառուցման աշխատանքներ | F7: Վերակառուցման, վերանորոգման և վերականգնման աշխատանքներ | G7: Նախագծահետազոտական, գեոդեզիա-քարտեզագրական աշխատանքներ | H7: Ոչ ֆինանսական այլ ակտիվերի ձեռքբերում
A8: ծրագիրը | B8: միջոցառումը | C8: ԸՆԴԱՄԵՆԸ | D8: =SUM(E8:H8) -> 0 | E8: =+E10 -> 0 | F8: 0 | G8: =+G10 -> 0 | H8: 0
C9: այդ թվում`
C10: ՀՀ քաղաքաշինության կոմիտե | D10: =SUM(E10:H10) -> 0 | E10: =+E12 -> 0 | F10: 0 | G10: =+G12 -> 0 | H10: 0
C11: այդ թվում`
A12: 1103 | B12: 21001 | C12: Քաղաքաշինության բնագավառում պետական ծրագրերի իրականացման ապահովում | D12: =+D14+D13 -> 0 | E12: =+E14+E13 -> 0 | F12: =SUM(F14:F14) -> 0 | G12: =SUM(G14:G14) -> 0 | H12: =SUM(H14:H14) -> 0
C13: =+'1'!C17 -> Հայաստանի Հանրապետության Լոռու մարզի Ստեփանավան համայնքի Աշոտաբերդում թաղամասի կառուցում | D13: =SUM(E13:H13) -> -108481 | E13: =+'5'!I15+'5'!I18+'5'!I19 -> -108481 | F13: 0 | G13: 0 | H13: 0
C14: Հայաստանի Հանրապետության Սյունիքի մարզի սահմանամերձ Գորիս համայնքի Շուռնուխ բնակավայրում բնակելի թաղամասի կառուցում | D14: =SUM(E14:H14) -> 108481 | E14: =+'5'!I16+'5'!I20+'5'!I21 -> 108481 | F14: 0 | G14: 0 | H14: 0

Sheet 3
F1: Հավելված № 3
B2: ՀՀ կառավարության 2024 թվականի
F3: № ------------ -Ն որոշման
A4: ՀԱՅԱՍՏԱՆԻ ՀԱՆՐԱՊԵՏՈՒԹՅԱՆ ԿԱՌԱՎԱՐՈՒԹՅԱՆ 2023 ԹՎԱԿԱՆԻ ԴԵԿՏԵՄԲԵՐԻ 28-Ի N 2323-Ն ՈՐՈՇՄԱՆ N 9 ՀԱՎԵԼՎԱԾԻ 9.33 ԱՂՅՈՒՍԱԿՈՒՄ ԿԱՏԱՐՎՈՂ ԼՐԱՑՈՒՄԸ
A5: ՀՀ Քաղաքաշինության կոմիտե
A6: ՄԱՍ 2. ՊԵՏԱԿԱՆ ՄԱՐՄՆԻ ԳԾՈՎ ԱՐԴՅՈՒՆՔԱՅԻՆ (ԿԱՏԱՐՈՂԱԿԱՆ) ՑՈՒՑԱՆԻՇՆԵՐԸ
A7: Ծրագրի դասիչը | B7: Ծրագրի անվանումը
A8: 1103 | B8: Քաղաքաշինության և ճարտարապետության բնագավառում պետական քաղաքականության իրականացում և կանոնակարգում
A10: Ծրագրի միջոցառումները
A11: Ծրագրի դասիչը` | B11: 1103 | C11: Ցուցանիշների փոփոխությունը (ավելացումները նշված են դրական նշանով)
A12: Միջոցառման դասիչը` | B12: 21001 | C12: Առաջին եռամսյակ | D12: Առաջին կիսամյակ | E12: Ինն ամիս | F12: Տարի
A13: Միջոցառման անվանումը` | B13: Քաղաքաշինության բնագավառում պետական ծրագրերի իրականացման ապահովում
A14: Նկարագրությունը` | B14: Նախագծանախահաշվային փաստաթղթերի, ինչպես նաև հիմնանորոգման, վերակառուցման, կառուցման աշխատանքների ձեռքբերում
A15: Միջոցառման տեսակը` | B15: Հանրության կողմից անմիջականորեն օգտագործվող ակտիվների հետ կապված միջոցառումներ
A16: Միջոցառումն իրականացնողի անվանումը | B16: ՀՀ քաղաքաշինության կոմիտե
A17: Արդյունքի չափորոշիչներ
A18: ՀՀ Լոռու մարզի Ստեփանավան համայնքներում նոր բնակելի թաղամասերի կառուցում, հատ
A19: Անբավարար տեխնիկական վիճակում գտնվող բնակարանային ֆոնդի փոխարեն նոր շենքերի կառուցման մեկնարկ, հատ(Աշոտաբերդ թաղամաս)
A20: ՀՀ Սյունիքի մարզի Շուռնուխ բնակավայրում կառուցվող բնակելի թաղամաս (բնակելի տների, ճանապարհների և այլ ենթակառուցվածքների), հատ
A21: Շուռնուխ բնակավայրում կառուցման ենթակա բնակելի տների թիվը, հատ | D21: 13 | F21: 13
A22: Միջոցառման վրա կատարվող ծախսը (հազար դրամ) | C22: 0 | D22: 0 | E22: 0 | F22: 0

Sheet 4
F1: Հավելված № 4
B2: ՀՀ կառավարության 2024 թվականի
F3: № ------------ -Ն որոշման
A6: ՀԱՅԱՍՏԱՆԻ ՀԱՆՐԱՊԵՏՈՒԹՅԱՆ ԿԱՌԱՎԱՐՈՒԹՅԱՆ 2023 ԹՎԱԿԱՆԻ ԴԵԿՏԵՄԲԵՐԻ 28-Ի N 2323-Ն ՈՐՈՇՄԱՆ N 9.1 ՀԱՎԵԼՎԱԾԻ 9.1.39 ԱՂՅՈՒՍԱԿՈՒՄ ԿԱՏԱՐՎՈՂ ԼՐԱՑՈՒՄԸ
A7: ՀՀ Քաղաքաշինության կոմիտե
A8: ՄԱՍ 1. ՊԵՏԱԿԱՆ ՄԱՐՄՆԻ ԳԾՈՎ ԱՐԴՅՈՒՆՔԱՅԻՆ (ԿԱՏԱՐՈՂԱԿԱՆ) ՑՈՒՑԱՆԻՇՆԵՐԸ
A10: Ծրագրի դասիչը | B10: Ծրագրի անվանումը
A11: 1103 | B11: Քաղաքաշինության և ճարտարապետության բնագավառում պետական քաղաքականության իրականացում և կանոնակարգում
A13: Ծրագրի միջոցառումները
A14: Ծրագրի դասիչը` | B14: 1103 | C14: =+'3'!C11:F11 -> Ցուցանիշների փոփոխությունը (ավելացումները նշված են դրական նշանով)
A15: Միջոցառման դասիչը` | B15: 21001 | C15: Առաջին եռամսյակ | D15: Առաջին կիսամյակ | E15: Ինն ամիս | F15: Տարի
A16: Միջոցառման անվանումը` | B16: Քաղաքաշինության բնագավառում պետական ծրագրերի իրականացման ապահովում
A17: Նկարագրությունը` | B17: Նախագծանախահաշվային փաստաթղթերի, ինչպես նաև հիմնանորոգման, վերակառուցման, կառուցման աշխատանքների ձեռքբերում
A18: Միջոցառման տեսակը` | B18: Հանրության կողմից անմիջականորեն օգտագործվող ակտիվների հետ կապված միջոցառումներ
A19: Միջոցառումն իրականացնողի անվանումը | B19: ՀՀ քաղաքաշինության կոմիտե
A20: Արդյունքի չափորոշիչներ
A21: =+'3'!A18:B18 -> ՀՀ Լոռու մարզի Ստեփանավան համայնքներում նոր բնակելի թաղամասերի կառուցում, հատ
A22: =+'3'!A19:B19 -> Անբավարար տեխնիկական վիճակում գտնվող բնակարանային ֆոնդի փոխարեն նոր շենքերի կառուցման մեկնարկ, հատ(Աշոտաբերդ թաղամաս)
A23: =+'3'!A20:B20 -> ՀՀ Սյունիքի մարզի Շուռնուխ բնակավայրում կառուցվող բնակելի թաղամաս (բնակելի տների, ճանապարհների և այլ ենթակառուցվածքների), հատ | D23: 13 | F23: 13
A24: Միջոցառման վրա կատարվող ծախսը (հազար դրամ) | C24: 0 | D24: 0 | E24: 0 | F24: 0

Sheet 5
G1: Հավելված № 5
E2: ՀՀ կառավարության 2024 թվականի
F3: № ------------ -Ն որոշման
A6: ՀԱՅԱՍՏԱՆԻ ՀԱՆՐԱՊԵՏՈՒԹՅԱՆ ԿԱՌԱՎԱՐՈՒԹՅԱՆ 2023 ԹՎԱԿԱՆԻ ԴԵԿՏԵՄԲԵՐԻ 28-Ի № 2323-Ն ՈՐՈՇՄԱՆ N 10 ՀԱՎԵԼՎԱԾՈՒՄ ԿԱՏԱՐՎՈՂ ՓՈՓՈԽՈՒԹՅՈՒՆՆԵՐԸ ԵՎ ԼՐԱՑՈՒՄՆԵՐԸ
A8: կոդը | B8: անվանումը | E8: Գնման ձևը | F8: Չափի միավորը | G8: Միավորի գինը | H8: Ցուցանիշների փոփոխությունը (ավելացումները նշված են դրական նշանով, իսկ նվազեցումները՝ փակագծերում)
H9: Քանակը | I9: Գումարը (հազար դրամով)
A10: 1 | B10: 2 | E10: 3 | F10: 4 | G10: 5 | H10: 6 | I10: 7
A11: ՀՀ Քաղաքաշինության կոմիտե | I11: =+I12 -> 0
A12: Բաժին 06 | B12: Խումբ 01 | D12: Դաս 01 | F12: Բնակարանային շինարարություն | I12: =+I13 -> 0
A13: 1103 21001 | B13: Քաղաքաշինության բնագավառում պետական ծրագրերի իրականացման ապահովում | I13: =+I14+I17 -> 0
B14: ՄԱՍ II. ԱՇԽԱՏԱՆՔՆԵՐ | I14: =+I15+I16 -> 0
A15: 45221142-1 | B15: ընդհանուր շինարարական աշխատանքներ | E15: ԲՄ | F15: դրամ | G15: =+I15*1000 -> -105743700 | H15: 0 | I15: -105743.7
A16: 45221142 | B16: ընդհանուր շինարարական աշխատանքներ | E16: ՀՄԱ | F16: դրամ | G16: =+I16*1000 -> 105743700 | H16: 1 | I16: 105743.7
B17: ՄԱՍ III. ԾԱՌԱՅՈՒԹՅՈՒՆՆԵՐ | I17: =+I18+I19+I20+I21 -> 0
A18: 71351540-1 | B18: տեխնիկական հսկողության ծառայություններ | E18: ԳՀ | F18: դրամ | G18: =+I18*1000 -> -648100 | H18: 0 | I18: -648.1
A19: 98111140-1 | B19: հեղինակային հսկողության ծառայություններ | E19: ՄԱ | F19: դրամ | G19: =+I19*1000 -> -2089200 | H19: 0 | I19: -2089.2
A20: 71351540 | B20: տեխնիկական հսկողության ծառայություններ | E20: ՀՄԱ | F20: դրամ | G20: =+I20*1000 -> 648100 | H20: 1 | I20: 648.1
A21: 98111140 | B21: հեղինակային հսկողության ծառայություններ | E21: ՄԱ | F21: դրամ | G21: =+I21*1000 -> 2089200 | H21: 1 | I21: 2089.2
I26: 227993.6
I27: =+I26*97.4/100 -> 222065.77
I28: =+I26*2/100 -> 4559.872
I29: =+I26*0.6/100 -> 1367.9616
