Workbook

Sheet Sheet5
B1: ՀԱՎԵԼՎԱԾ N 1
A3: «ՀԱՅԱՍՏԱՆԻ ՀԱՆՐԱՊԵՏՈՒԹՅԱՆ 2015 ԹՎԱԿԱՆԻ ՊԵՏԱԿԱՆ ԲՅՈՒՋԵԻ ՄԱՍԻՆ» ՀԱՅԱՍՏԱՆԻ ՀԱՆՐԱՊԵՏՈՒԹՅԱՆ ՕՐԵՆՔԻ 2-ՐԴ ՀՈԴՎԱԾԻ ԱՂՅՈՒՍԱԿՈՒՄ ԿԱՏԱՐՎՈՂ ՓՈՓՈԽՈՒԹՅՈՒՆՆԵՐԸ
B4: (հազար դրամներով)
B5: Ցուցանիշների փոփոխություն (ավելացումները նշված են դրական նշանով)
A6: Եկամուտների գծով
A7: Ծախսերի գծով
A8: Դեֆիցիտը (պակասուրդը)

Sheet Sheet4
C1: ՀԱՎԵԼՎԱԾ N 2
A2: «ՀԱՅԱՍՏԱՆԻ ՀԱՆՐԱՊԵՏՈՒԹՅԱՆ 2015 ԹՎԱԿԱՆԻ ՊԵՏԱԿԱՆ ԲՅՈՒՋԵԻ ՄԱՍԻՆ» ՀԱՅԱՍՏԱՆԻ ՀԱՆՐԱՊԵՏՈՒԹՅԱՆ ՕՐԵՆՔԻ 3-ՐԴ ՀՈԴՎԱԾԻ ԱՂՅՈՒՍԱԿՈՒՄ ԵՎ ՀԱՅԱՍՏԱՆԻ ՀԱՆՐԱՊԵՏՈՒԹՅԱՆ ԿԱՌԱՎԱՐՈՒԹՅԱՆ 2014 ԹՎԱԿԱՆԻ ԴԵԿՏԵՄԲԵՐԻ 18-Ի N1515-Ն ՈՐՈՇՄԱՆ N 1 ՀԱՎԵԼՎԱԾԻ N 1 ԱՂՅՈՒՍԱԿՈՒՄ ԿԱՏԱՐՎՈՂ ՓՈՓՈԽՈՒԹՅՈՒՆՆԵՐԸ
C3: (հազար դրամներով)
A4: Պետական բյուջեի դեֆիցիտի ֆինանսավորման աղբյուրներն ու դրանց տարրերի անվանումները | B4: Ցուցանիշների փոփոխություն (ավելացումները նշված են դրական նշանով)
B5: Առաջին կիսամյակ | C5: Ինն ամիս | D5: Տարի
A6: ԸՆԴԱՄԵՆԸ | B6: =B14+B8 -> #REF! | C6: =C14+C8 -> 20891009 | D6: =D14+D8 -> 4091597.9
A7: այդ թվում`
A8: Ա.ՆԵՐՔԻՆ ԱՂԲՅՈՒՐՆԵՐ | B8: =B10 -> 675000 | C8: =C10 -> 675000 | D8: =D10 -> 675000
A9: այդ թվում`
A10: 2.Ֆինանսական զուտ ակտիվներ | B10: =B12 -> 675000 | C10: =C12 -> 675000 | D10: =D12 -> 675000
A11: այդ թվում`
A12: 2.3 Ելքերի ֆինանսավորմանն ուղղվող ՀՀ 2015 թվականի պետական բյուջեի տարեսկզբի ազատ մնացորդի միջոցներ | B12: 675000 | C12: 675000 | D12: 675000
C13: . | D13: .
A14: Բ.ԱՐՏԱՔԻՆ ԱՂԲՅՈՒՐՆԵՐ | B14: =B16 -> #REF! | C14: =C16 -> 20216009 | D14: =D16 -> 3416597.9
A15: այդ թվում`
A16: 1.Փոխառու զուտ միջոցներ | B16: =B18 -> #REF! | C16: =C18 -> 20216009 | D16: =D18 -> 3416597.9
A17: այդ թվում`
A18: 1.1.Վարկերի և փոխատվությունների ստացում | B18: ='[1]N7-1'!#REF! -> #REF! | C18: ='[1]N7-1'!F10 -> 20216009 | D18: ='[1]N7-1'!G10 -> 3416597.9

Sheet Sheet3
C1: ՀԱՎԵԼՎԱԾ N 3
A4: «ՀԱՅԱՍՏԱՆԻ ՀԱՆՐԱՊԵՏՈՒԹՅԱՆ 2015 ԹՎԱԿԱՆԻ ՊԵՏԱԿԱՆ ԲՅՈՒՋԵԻ ՄԱՍԻՆ» ՀՀ ՕՐԵՆՔԻ 6-ՐԴ ՀՈԴՎԱԾԻ ԱՂՅՈՒՍԱԿԻ ԵՎ ՀՀ ԿԱՌԱՎԱՐՈՒԹՅԱՆ 2014 ԹՎԱԿԱՆԻ ԴԵԿՏԵՄԲԵՐԻ 18-ի N 1515-Ն ՈՐՈՇՄԱՆ N 2 ՀԱՎԵԼՎԱԾԻ ՑՈՒՑԱՆԻՇՆԵՐՈՒՄ ԿԱՏԱՐՎՈՂ ՓՈՓՈԽՈՒԹՅՈՒՆՆԵՐԸ
C6: (հազար դրամներով)
A7: Պետական բյուջեի եկամուտներ | B7: Ցուցանիշների փոփոխություն (ավելացումները նշված են դրական նշանով)
B8: Ինն ամիս | C8: Տարի
A9: ԸՆԴԱՄԵՆԸ | B9: =B11+B12 -> #REF! | C9: =C11+C12 -> 8610087.6
A10: այդ թվում`
A11: Հարկային եկամուտներ և պետական տուրքեր | B11: ='[1]N7-1'!#REF!+'[1]N 7-2'!G10 -> #REF! | C11: ='[1]N7-1'!G10+'[1]N 7-2'!J10 -> 4014159.6
A12: Պաշտոնական դրամաշնորհներ | B12: ='[1]N 7-2'!F10 -> 4535189.8 | C12: ='[1]N 7-2'!I10 -> 4595928

Sheet Sheet2
F1: ՀԱՎԵԼՎԱԾ N 4
A4: «ՀԱՅԱՍՏԱՆԻ ՀԱՆՐԱՊԵՏՈՒԹՅԱՆ 2015 ԹՎԱԿԱՆԻ ՊԵՏԱԿԱՆ ԲՅՈՒՋԵԻ ՄԱՍԻՆ » ՀՀ ՕՐԵՆՔԻ 7-ՐԴ ՀՈԴՎԱԾԻ ԱՂՅՈՒՍԱԿԻ, ԻՆՉՊԵՍ ՆԱԵՎ ՀՀ ԿԱՌԱՎԱՐՈՒԹՅԱՆ 2014 ԹՎԱԿԱՆԻ ԴԵԿՏԵՄԲԵՐԻ 18-Ի N 1515-Ն ՈՐՈՇՄԱՆ N 3 ՀԱՎԵԼՎԱԾԻ ՑՈՒՑԱՆԻՇՆԵՐՈՒՄ ԿԱՏԱՐՎՈՂ ՓՈՓՈԽՈՒԹՅՈՒՆՆԵՐԸ
F6: (հազար դրամներով)
A7: Բաժին | B7: Խումբ | C7: Դաս | D7: Բյուջետային ծախսերի գործառական դասակարգման բաժինների, խմբերի և դասերի անվանումները | E7: Ցուցանիշների փոփոխություն (ավելացումները նշված են դրական նշանով, իսկ նվազեցումները՝ փակագծերում)
E8: Ինն ամիս | F8: Տարի
D9: ԸՆԴԱՄԵՆԸ ԾԱԽՍԵՐ | E9: =E11+E15+E27+E32+E36+E40+E44 -> #REF! | F9: =F11+F15+F27+F32+F36+F40+F44 -> 29501096
D10: այդ թվում
A11: 01 | D11: ԸՆԴՀԱՆՈՒՐ ԲՆՈՒՅԹԻ ՀԱՆՐԱՅԻՆ ԾԱՌԱՅՈՒԹՅՈՒՆՆԵՐ | E11: =E13 -> #REF! | F11: ='[1]N 6'!F11 -> 21750834
D12: այդ թվում
B13: 01 | D13: Օրենսդիր և գործադիր մարմիններ, պետական կառավարում, ֆինանսական և հարկաբյուջետային հարաբերություններ, արտաքին հարաբերություններ | E13: =E14 -> #REF! | F13: =F14 -> 21750834
C14: 02 | D14: Ֆինանսական և հարկաբյուջետային հարաբերություններ | E14: ='[1]N 6'!E15 -> #REF! | F14: ='[1]N 6'!F15 -> 21750834
A15: 04 | D15: ՏՆՏԵՍԱԿԱՆ ՀԱՐԱԲԵՐՈՒԹՅՈՒՆՆԵՐ | E15: =E17+E20+E23+E25 -> #REF! | F15: ='[1]N 6'!F44 -> 10123432
D16: այդ թվում՝
B17: 02 | D17: Գյուղատնտեսություն, անտառային տնտեսություն, ձկնորսություն և որսորդություն | E17: =E18+E19 -> #REF! | F17: =F18+F19 -> -880734.5
C18: 01 | D18: Գյուղատնտեսություն | E18: ='[1]N 6'!E48 -> #REF! | F18: ='[1]N 6'!F48 -> 129194
C19: 04 | D19: Ոռոգում | E19: ='[1]N 6'!E63 -> #REF! | F19: ='[1]N 6'!F63 -> -1009928.5
B20: 03 | D20: Վառելիք և էներգետիկա | E20: =E21+E22 -> #REF! | F20: =F21+F22 -> 14050260
C21: 04 | D21: Վառելիքի այլ տեսակներ | E21: ='[1]N 6'!E87 -> #REF! | F21: ='[1]N 6'!F87 -> 14081600
C22: 05 | D22: Էլեկտրաէներգիա | E22: ='[1]N 6'!E99 -> #REF! | F22: ='[1]N 6'!F99 -> -31340.3
B23: 05 | D23: Տրանսպորտ | E23: =E24 -> #REF! | F23: =F24 -> -2875469.4
C24: 01 | D24: Ճանապարհային տրանսպորտ | E24: ='[1]N 6'!E107 -> #REF! | F24: ='[1]N 6'!F107 -> -2875469.4
B25: 09 | D25: Տնտեսական հարաբերություններ (այլ դասերին չպատկանող) | E25: =E26 -> #REF! | F25: =F26 -> -170624.2
C26: 01 | D26: Տնտեսական հարաբերություններ (այլ դասերին չպատկանող) | E26: ='[1]N 6'!E142 -> #REF! | F26: ='[1]N 6'!F142 -> -170624.2
A27: 05 | D27: ՇՐՋԱԿԱ ՄԻՋԱՎԱՅՐԻ ՊԱՇՏՊԱՆՈՒԹՅՈՒՆ | E27: =E29 -> #REF! | F27: =F29 -> 117205.1
D28: այդ թվում՝
B29: 04 | D29: Կենսաբազմազանության և բնության պաշտպանություն | E29: =E31 -> #REF! | F29: =F31 -> 117205.1
D30: այդ թվում՝
C31: 01 | D31: Կենսաբազմազանության և բնության պաշտպանություն | E31: ='[1]N 6'!E159 -> #REF! | F31: ='[1]N 6'!F159 -> 117205.1
A32: 06 | D32: ԲՆԱԿԱՐԱՆԱՅԻՆ ՇԻՆԱՐԱՐՈՒԹՅՈՒՆ ԵՎ ԿՈՄՈՒՆԱԼ ԾԱՌԱՅՈՒԹՅՈՒՆՆԵՐ | E32: =E34 -> #REF! | F32: ='[1]N 6'!F170 -> -1124568.6
D33: այդ թվում`
B34: 03 | D34: Ջրամատակարարում | E34: =E35 -> #REF! | F34: =F35 -> -1124568.6
C35: 01 | D35: Ջրամատակարարում | E35: ='[1]N 6'!E174 -> #REF! | F35: ='[1]N 6'!F174 -> -1124568.6
A36: 07 | D36: ԱՌՈՂՋԱՊԱՀՈՒԹՅՈՒՆ | E36: =E38 -> #REF! | F36: =F38 -> 108000
D37: այդ թվում`
B38: 06 | D38: Առողջապահություն (այլ դասերին չպատկանող) | E38: =E39 -> #REF! | F38: =F39 -> 108000
C39: 01 | D39: Առողջապահական հարակից ծառայություններ և ծրագրեր | E39: ='[1]N 6'!E224 -> #REF! | F39: ='[1]N 6'!F224 -> 108000
A40: 08 | D40: ՀԱՆԳԻՍՏ, ՄՇԱԿՈՒՅԹ ԵՎ ԿՐՈՆ | E40: =E42 -> #REF! | F40: =F42 -> -2148806
D41: այդ թվում`
B42: 02 | D42: Մշակութային ծառայություններ | E42: =E43 -> #REF! | F42: =F43 -> -2148806
C43: 05 | D43: Արվեստ | E43: ='[1]N 6'!E236 -> #REF! | F43: ='[1]N 6'!F236 -> -2148806
A44: 11 | D44: ՀԻՄՆԱԿԱՆ ԲԱԺԻՆՆԵՐԻՆ ՉԴԱՍՎՈՂ ՊԱՀՈՒՍՏԱՅԻՆ ՖՈՆԴԵՐ | E44: =E46 -> 675000 | F44: =F46 -> 675000
D45: այդ թվում`
B46: 01 | D46: ՀՀ կառավարության և համայնքների պահուստային ֆոնդ | E46: =E47 -> 675000 | F46: =F47 -> 675000
C47: 01 | D47: ՀՀ կառավարության պահուստային ֆոնդ | E47: ='[1]N 6'!E247 -> 675000 | F47: ='[1]N 6'!F247 -> 675000

Sheet Sheet1
C1: ՀԱՎԵԼՎԱԾ N 5
A4: «ՀԱՅԱՍՏԱՆԻ ՀԱՆՐԱՊԵՏՈՒԹՅԱՆ 2015 ԹՎԱԿԱՆԻ ՊԵՏԱԿԱՆ ԲՅՈՒՋԵԻ ՄԱՍԻՆ » ՀՀ ՕՐԵՆՔԻ 8-ՐԴ ՀՈԴՎԱԾԻ ԱՂՅՈՒՍԱԿԻ, ԻՆՉՊԵՍ ՆԱԵՎ ՀՀ ԿԱՌԱՎԱՐՈՒԹՅԱՆ 2014 ԹՎԱԿԱՆԻ ԴԵԿՏԵՄԲԵՐԻ 18-Ի N 1515-Ն ՈՐՈՇՄԱՆ N 4 ՀԱՎԵԼՎԱԾԻ ՑՈՒՑԱՆԻՇՆԵՐՈՒՄ ԿԱՏԱՐՎՈՂ ՓՈՓՈԽՈՒԹՅՈՒՆՆԵՐԸ
C6: (հազար դրամներով)
A7: Բյուջետային ծախսերի տնտեսագիտական դասակարգման հոդվածների անվանումները | B7: Ցուցանիշների փոփոխություն (ավելացումները նշված են դրական նշանով, իսկ նվազեցումները՝ փակագծերում)
B8: Ինն ամիս | C8: Տարի
A9: ԸՆԴԱՄԵՆԸ ԾԱԽՍԵՐ | B9: =B11+B20 -> #REF! | C9: =C11+C20 -> 29501096
A10: այդ թվում
A11: ԸՆԹԱՑԻԿ ԾԱԽՍԵՐ | B11: =B13+B16 -> #REF! | C11: =C13+C16 -> 8195579
A12: այդ թվում
A13: ԾԱՌԱՅՈՒԹՅՈՒՆՆԵՐԻ ԵՎ ԱՊՐԱՆՔՆԵՐԻ ՁԵՌՔ ԲԵՐՈՒՄ | B13: =B15 -> 30902.4 | C13: =C15 -> 30902.4
A14: այդ թվում
A15: Ընդհանուր բնույթի այլ ծառայություններ | B15: ='[1]N 6'!E38 -> 30902.4 | C15: ='[1]N 6'!F38 -> 30902.4
A16: ԱՅԼ ԾԱԽՍԵՐ | B16: =B18+B19 -> #REF! | C16: =C18+C19 -> 8164676.6
A17: այդ թվում
A18: - Այլ ծախսեր | B18: ='[1]N 6'!E29+'[1]N 6'!E34+'[1]N 6'!E42+'[1]N 6'!E53+'[1]N 6'!E58+'[1]N 6'!E62+'[1]N 6'!E68+'[1]N 6'!E74+'[1]N 6'!E79+'[1]N 6'!E84+'[1]N 6'!E92+'[1]N 6'!E97+'[1]N 6'!E104+'[1]N 6'!E112+'[1]N 6'!E117+'[1]N 6'!E122+'[1]N 6'!E128+'[1]N 6'!E147+'[1]N 6'!E154+'[1]N 6'!E179+'[1]N 6'!E185+'[1]N 6'!E207+'[1]N 6'!E219 -> #REF! | C18: ='[1]N 6'!F29+'[1]N 6'!F34+'[1]N 6'!F42+'[1]N 6'!F53+'[1]N 6'!F58+'[1]N 6'!F62+'[1]N 6'!F68+'[1]N 6'!F74+'[1]N 6'!F79+'[1]N 6'!F84+'[1]N 6'!F92+'[1]N 6'!F97+'[1]N 6'!F104+'[1]N 6'!F112+'[1]N 6'!F117+'[1]N 6'!F122+'[1]N 6'!F128+'[1]N 6'!F147+'[1]N 6'!F154+'[1]N 6'!F179+'[1]N 6'!F185+'[1]N 6'!F207+'[1]N 6'!F219 -> 7489676.6
A19: -Պահուստային միջոցներ | B19: ='[1]N 6'!E247 -> 675000 | C19: ='[1]N 6'!F247 -> 675000
A20: ՈՉ ՖԻՆԱՆՍԱԿԱՆ ԱԿՏԻՎՆԵՐԻ ՀԵՏ ԳՈՐԾԱՌՆՈՒԹՅՈՒՆՆԵՐ | B20: =B22 -> #REF! | C20: =C22 -> 21305517
A21: այդ թվում
A22: ՈՉ ՖԻՆԱՆՍԱԿԱՆ ԱԿՏԻՎՆԵՐԻ ԳԾՈՎ ԾԱԽՍԵՐ | B22: =B24 -> #REF! | C22: =C24 -> 21305517
A23: այդ թվում
A24: ՀԻՄՆԱԿԱՆ ՄԻՋՈՑՆԵՐ | B24: =B26+B29+B33 -> #REF! | C24: =C26+C29+C33 -> 21305517
A25: այդ թվում
A26: ՇԵՆՔԵՐ ԵՎ ՇԻՆՈՒԹՅՈՒՆՆԵՐ | B26: =B27+B28 -> #REF! | C26: =C27+C28 -> -4124116.2
A27: - Շենքերի և շինությունների շինարարություն | B27: ='[1]N 6'!E69+'[1]N 6'!E80+'[1]N 6'!E113+'[1]N 6'!E118+'[1]N 6'!E129+'[1]N 6'!E133+'[1]N 6'!E139+'[1]N 6'!E148+'[1]N 6'!E155+'[1]N 6'!E211+'[1]N 6'!E215+'[1]N 6'!E20 -> #REF! | C27: ='[1]N 6'!F69+'[1]N 6'!F80+'[1]N 6'!F113+'[1]N 6'!F118+'[1]N 6'!F129+'[1]N 6'!F133+'[1]N 6'!F139+'[1]N 6'!F148+'[1]N 6'!F155+'[1]N 6'!F211+'[1]N 6'!F215+'[1]N 6'!F20 -> -5151656.9
A28: - Շենքերի և շինությունների կապիտալ վերանորոգում | B28: ='[1]N 6'!E123+'[1]N 6'!E149+'[1]N 6'!E156+'[1]N 6'!E168+'[1]N 6'!E180+'[1]N 6'!E189+'[1]N 6'!E193+'[1]N 6'!E198+'[1]N 6'!E229 -> #REF! | C28: ='[1]N 6'!F123+'[1]N 6'!F149+'[1]N 6'!F156+'[1]N 6'!F168+'[1]N 6'!F180+'[1]N 6'!F189+'[1]N 6'!F193+'[1]N 6'!F198+'[1]N 6'!F229 -> 1027540.7
A29: ՄԵՔԵՆԱՆԵՐԻ ԵՎ ՍԱՐՔԱՎՈՐՈՒՄՆԵՐԻ ՁԵՌՔԲԵՐՈՒՄ,ՊԱՀՊԱՆՈՒՄ ԵՎ ՀԻՄՆԱՆՈՐՈԳՈՒՄ | B29: =B31+B32 -> #REF! | C29: =C31+C32 -> 25493438
A30: այդ թվում
A31: - Վարչական սարքավորումներ | B31: ='[1]N 6'!E43+'[1]N 6'!E134+'[1]N 6'!E157 -> #REF! | C31: ='[1]N 6'!F43+'[1]N 6'!F134+'[1]N 6'!F157 -> 127578.2
A32: - Այլ մեքենաներ և սարքավորումներ | B32: ='[1]N 6'!E21+'[1]N 6'!E25+'[1]N 6'!E54+'[1]N 6'!E70+'[1]N 6'!E75+'[1]N 6'!E93+'[1]N 6'!E98+'[1]N 6'!E181+'[1]N 6'!E202+'[1]N 6'!E230+'[1]N 6'!E241+'[1]N 6'!E30 -> #REF! | C32: ='[1]N 6'!F21+'[1]N 6'!F25+'[1]N 6'!F54+'[1]N 6'!F70+'[1]N 6'!F75+'[1]N 6'!F93+'[1]N 6'!F98+'[1]N 6'!F181+'[1]N 6'!F202+'[1]N 6'!F230+'[1]N 6'!F241+'[1]N 6'!F30 -> 25365860
A33: ԱՅԼ ՀԻՄՆԱԿԱՆ ՄԻՋՈՑՆԵՐ | B33: =B35+B36 -> #REF! | C33: =C35+C36 -> -63805
A34: այդ թվում
A35: -Ոչ նյութական հիմնական միջոցներ | B35: ='[1]N 6'!E135 -> #REF! | C35: ='[1]N 6'!F135 -> -873.8
A36: - Նախագծահետազոտական ծախսեր | B36: ='[1]N 6'!E124+'[1]N 6'!E150+'[1]N 6'!E158+'[1]N 6'!E169+'[1]N 6'!E194+'[1]N 6'!E203+'[1]N 6'!E231 -> #REF! | C36: ='[1]N 6'!F124+'[1]N 6'!F150+'[1]N 6'!F158+'[1]N 6'!F169+'[1]N 6'!F194+'[1]N 6'!F203+'[1]N 6'!F231 -> -62931.2

Sheet Հավելված 1
G2: ՀավելվածN 1
G3: ՀՀ կառավարության 2024 թվականի
G4: ______________ ի ___Ն որոշման
A6: «ՀԱՅԱUՏԱՆԻ ՀԱՆՐԱՊԵՏՈՒԹՅԱՆ 2024 ԹՎԱԿԱՆԻ ՊԵՏԱԿԱՆ ԲՅՈՒՋԵԻ ՄԱUԻՆ» ՀԱՅԱUՏԱՆԻ ՀԱՆՐԱՊԵՏՈՒԹՅԱՆ OՐԵՆՔԻ N 1 ՀԱՎԵԼՎԱԾԻ N 2 ԱՂՅՈՒՍԱԿՈՒՄ ԿԱՏԱՐՎՈՂ ՎԵՐԱԲԱՇԽՈՒՄՆԵՐԸ, ԼՐԱՑՈՒՄՆԵՐԸ ԵՎ ՓՈՓՈԽՈՒԹՅՈՒՆՆԵՐԸ ԵՎ ՀԱՅԱՍՏԱՆԻ ՀԱՆՐԱՊԵՏՈՒԹՅԱՆ ԿԱՌԱՎԱՐՈՒԹՅԱՆ 2023 ԹՎԱԿԱՆԻ ԴԵԿՏԵՄԲԵՐԻ 28-Ի N 2323-Ն ՈՐՈՇՄԱՆ N5 ՀԱՎԵԼՎԱԾԻ N1 ԱՂՅՈՒՍԱԿՈՒՄ ԿԱՏԱՐՎՈՂ ԼՐԱՑՈՒՄՆԵՐԸ ԵՎ ՓՈՓՈԽՈՒԹՅՈՒՆՆԵՐԸ
G7: (հազ. դրամ)
A8: Ծրագրային դասիչը | C8: Բյուջետային հատկացումների գլխավոր կարգադրիչների, ծրագրերի և միջոցառումների անվանումները | D8: Ցուցանիշների փոփոխությունը (ավելացումները նշված են դրական նշանով, իսկ նվազեցումները` փակագծերում)
A9: Ծրագիր | B9: Միջոցառում
D10: Առաջին եռամսյակ | E10: Առաջին կիսամյակ | F10: Ինն ամիս | G10: Տարի
C11: ՀՀ տարածքային կառավարման և ենթակառուցվածքների նախարարություն | D11: =+D12 -> 0 | E11: =+E12 -> 0 | F11: =+F12 -> 0 | G11: =+G12 -> 0
A12: 1049 | C12: Ծրագրի անվանումը` | D12: =+D19+D25+D31+D37+D43+D49+D55 -> 0 | E12: =+E19+E25+E31+E37+E43+E49+E55 -> 0 | F12: =+F19+F25+F31+F37+F43+F49+F55 -> 0 | G12: =+G19+G25+G31+G37+G43+G49+G55 -> 0
C13: Ճանապարհային ցանցի բարելավում
C14: Ծրագրի նպատակը`
C15: Ճանապարհային ցանցի բարելավում և անվտանգ երթևեկության ապահովում
C16: Վերջնական արդյունքի նկարագրությունը՝
C17: Ճանապարհների ծածկի որակի և փոխադրումների արդյունավետության բարելավում, ճանապարհների վիճակով պայմանավորված պատահարների նվազում
A18: Ծրագրի միջոցառումներ
B19: 11012 | C19: Միջոցառման անվանումը` | D19: =+'Հավելված 2'!G30 -> 320000 | E19: =+'Հավելված 2'!H30 -> 320000 | F19: =+'Հավելված 2'!I30 -> 320000 | G19: =+'Հավելված 2'!J30 -> 320000
C20: Եվրասիական զարգացման բանկի աջակցությամբ իրականացվող Հյուսիս-հարավ միջանցքի զարգացման ծրագրի համակարգում և կառավարում
C21: Միջոցառման նկարագրությունը`
C22: Խորհրդատվական ծառայություններ և պահպանման ծախսեր
C23: Միջոցառման տեսակը
C24: Ծառայությունների մատուցում
B25: 21004 | C25: Միջոցառման անվանումը` | D25: =+'Հավելված 2'!G31 -> 110000 | E25: =+'Հավելված 2'!H31 -> 110000 | F25: =+'Հավելված 2'!I31 -> 110000 | G25: =+'Հավելված 2'!J31 -> 110000
C26: Ասիական զարգացման բանկի աջակցությամբ իրականացվող Մ6 Վանաձոր-Ալավերդի-Վրաստանի սահման միջպետական նշանակության ճանապարհի ծրագրի կառուցում և հիմնանորոգում
C27: Միջոցառման նկարագրությունը`
C28: Ճանապարհաշինական աշխատանքներ
C29: Միջոցառման տեսակը
C30: Հանրության կողմից անմիջականորեն օգտագործվող ակտիվների հետ կապված միջոցառումներ
B31: 21006 | C31: Միջոցառման անվանումը` | D31: =+'Հավելված 2'!G40 -> -160000 | E31: =+'Հավելված 2'!H40 -> -160000 | F31: =+'Հավելված 2'!I40 -> -160000 | G31: =+'Հավելված 2'!J40 -> -160000
C32: Ասիական զարգացման բանկի աջակցությամբ իրականացվող Հյուսիս-հարավ միջանցքի զարգացման վարկային ծրագիր, Տրանշ 2
C33: Միջոցառման նկարագրությունը`
C34: Աշտարակ-Թալին 29+600կմ-71+500կմ հատվածի կառուցում
C35: Միջոցառման տեսակը
C36: Հանրության կողմից անմիջականորեն օգտագործվող ակտիվների հետ կապված միջոցառումներ
B37: 21011 | C37: Միջոցառման անվանումը` | D37: =+'Հավելված 2'!G49 -> 670000 | E37: =+'Հավելված 2'!H49 -> 670000 | F37: =+'Հավելված 2'!I49 -> 0 | G37: =+'Հավելված 2'!J49 -> 0
C38: Ասիական զարգացման բանկի աջակցությամբ իրականացվող Հյուսիս-հարավ միջանցքի զարգացման վարկային ծրագիր, Տրանշ 3
C39: Միջոցառման նկարագրությունը`
C40: Հատված Թալին-Լանջիկ 71+500 կմ-90+200 կմ կառուցման շինարարական աշխատանքներ
C41: Միջոցառման տեսակը
C42: Հանրության կողմից անմիջականորեն օգտագործվող ակտիվների հետ կապված միջոցառումներ
B43: 21012 | C43: Միջոցառման անվանումը` | D43: =+'Հավելված 2'!G58 -> -962000 | E43: =+'Հավելված 2'!H58 -> -962000 | F43: =+'Հավելված 2'!I58 -> -292000 | G43: =+'Հավելված 2'!J58 -> -292000
C44: Եվրասիական զարգացման բանկի աջակցությամբ իրականացվող Հյուսիս-հարավ միջանցքի զարգացման ծրագիր
C45: Միջոցառման նկարագրությունը`
C46: Ճանապարհաշինական աշխատանքներ
C47: Միջոցառման տեսակը
C48: Հանրության կողմից անմիջականորեն օգտագործվող ակտիվների հետ կապված միջոցառումներ
B49: 21007 | C49: Միջոցառման անվանումը` | D49: =+'Հավելված 2'!G76 -> -100000 | E49: =+'Հավելված 2'!H76 -> -100000 | F49: =+'Հավելված 2'!I76 -> -100000 | G49: =+'Հավելված 2'!J76 -> -100000
C50: Եվրոպական ներդրումային բանկի աջակցությամբ իրականացվող Հյուսիս-հարավ միջանցքի զարգացման դրամաշնորհային ծրագիր, Տրանշ 3
C51: Միջոցառման նկարագրությունը`
C52: Լանջիկ-Գյումրի 2.75 կմ երկարությամբ ճանապարհային հատվածի կառուցում
C53: Միջոցառման տեսակը
C54: Հանրության կողմից անմիջականորեն օգտագործվող ակտիվների հետ կապված միջոցառումներ
B55: 21014 | C55: Միջոցառման անվանումը` | D55: =+'Հավելված 2'!G67 -> 122000 | E55: =+'Հավելված 2'!H67 -> 122000 | F55: =+'Հավելված 2'!I67 -> 122000 | G55: =+'Հավելված 2'!J67 -> 122000
C56: Եվրոպական ներդրումային բանկի աջակցությամբ իրականացվող Մ6 Վանաձոր-Ալավերդի-Վրաստանի սահման միջպետական նշանակության ճանապարհի անվտանգության բարելավման դրամաշնորհային ծրագիր
C57: Միջոցառման նկարագրությունը`
C58: Ճանապարհաշինական աշխատանքներ
C59: Միջոցառման տեսակը
C60: Հանրության կողմից անմիջականորեն օգտագործվող ակտիվների հետ կապված միջոցառումներ

Sheet Հավելված 2
J2: Հավելված N 2
J3: ՀՀ կառավարության 2024 թվականի
J4: ______________ ի ___Ն որոշման
A6: ՀԱՅԱՍՏԱՆԻ ՀԱՆՐԱՊԵՏՈՒԹՅԱՆ ԿԱՌԱՎԱՐՈՒԹՅԱՆ 2023 ԹՎԱԿԱՆԻ ԴԵԿՏԵՄԲԵՐԻ 28-Ի N 2323-Ն ՈՐՈՇՄԱՆ NN 3 ԵՎ 4 ՀԱՎԵԼՎԱԾՆԵՐՈՒՄ ԿԱՏԱՐՎՈՂ ԼՐԱՑՈՒՄՆԵՐԸ ԵՎ ՓՈՓՈԽՈՒԹՅՈՒՆՆԵՐԸ
J7: (հազ. դրամ)
A8: Գործառնական դասիչը | D8: Ծրագրային դասիչը | F8: Բյուջետային ծախսերի գործառական դասակարգման բաժինների, խմբերի և դասերի, բյուջետային ծրագերի միջոցառումների, բյուջետային հատկացումների գլխավոր կարգադրիչների և բյուջետային տնտեսագիտական դասակարգման հոդվածների անվանումները | G8: Ցուցանիշների փոփոխությունը (ավելացումները նշված են դրական նշանով, իսկ նվազեցումները` փակագծերում)
A9: Բաժին | B9: Խումբ | C9: Դաս | D9: Ծրագիր | E9: Միջոցառում
G10: Առաջին եռամսյակ | H10: Առաջին կիսամյակ | I10: Ինն ամիս | J10: Տարի
F11: ԸՆԴԱՄԵՆԸ՝ ԾԱԽՍԵՐ | G11: =+G13 -> 0 | H11: =+H13 -> 0 | I11: =+I13 -> 0 | J11: =+J13 -> 0
F12: այդ թվում`
A13: 04 | F13: ՏՆՏԵՍԱԿԱՆ ՀԱՐԱԲԵՐՈՒԹՅՈՒՆՆԵՐ | G13: =+G14 -> 0 | H13: =+H14 -> 0 | I13: =+I14 -> 0 | J13: =+J14 -> 0
F14: այդ թվում՝ | G14: =+G16 -> 0 | H14: =+H16 -> 0 | I14: =+I16 -> 0 | J14: =+J16 -> 0
B15: 05 | F15: Տրանսպորտ
F16: այդ թվում` | G16: =+G18 -> 0 | H16: =+H18 -> 0 | I16: =+I18 -> 0 | J16: =+J18 -> 0
C17: 01 | F17: Ճանապարհային տրանսպորտ
F18: այդ թվում` | G18: =+G20 -> 0 | H18: =+H20 -> 0 | I18: =+I20 -> 0 | J18: =+J20 -> 0
F19: ՀՀ տարածքային կառավարման և ենթակառուցվածքների նախարարություն
D20: 1049 | F20: Ճանապարհային ցանցի բարելավում | G20: =+I20+J20 -> 0 | H20: =+J20+K20 -> 0 | I20: =+K20+L20 -> 0 | J20: =+L20+M20 -> 0
F21: այդ թվում՝
E22: 11012 | F22: =+'Հավելված 3'!C19 -> Եվրասիական զարգացման բանկի աջակցությամբ իրականացվող Հյուսիս-հարավ միջանցքի զարգացման ծրագրի համակարգում և կառավարում | G22: =+G24 -> 320000 | H22: =+H24 -> 320000 | I22: =+I24 -> 320000 | J22: =+J24 -> 320000
F23: այդ թվում` ըստ կատարողների
F24: ՀՀ տարածքային կառավարման և ենթակառուցվածքների նախարարություն | G24: =G26 -> 320000 | H24: =H26 -> 320000 | I24: =I26 -> 320000 | J24: =J26 -> 320000
F25: այդ թվում` բյուջետային ծախսերի տնտեսագիտական դասակարգման հոդվածներ
F26: ԸՆԴԱՄԵՆԸ ԾԱԽՍԵՐ | G26: =+G27 -> 320000 | H26: =+H27 -> 320000 | I26: =+I27 -> 320000 | J26: =+J27 -> 320000
F27: ԸՆԹԱՑԻԿ ԾԱԽՍԵՐ | G27: =+G28 -> 320000 | H27: =+H28 -> 320000 | I27: =+I28 -> 320000 | J27: =+J28 -> 320000
F28: ԴՐԱՄԱՇՆՈՐՀՆԵՐ | G28: =+G29 -> 320000 | H28: =+H29 -> 320000 | I28: =+I29 -> 320000 | J28: =+J29 -> 320000
F29: Կապիտալ դրամաշնորհներ պետական հատվածի այլ մակարդակներին | G29: =+G30 -> 320000 | H29: =+H30 -> 320000 | I29: =+I30 -> 320000 | J29: =+J30 -> 320000
F30: - Այլ կապիտալ դրամաշնորհներ | G30: =+'Հավելված 3'!D27 -> 320000 | H30: =+'Հավելված 3'!G27 -> 320000 | I30: =+'Հավելված 3'!J27 -> 320000 | J30: =+'Հավելված 3'!M27 -> 320000
E31: 21004 | F31: =+'Հավելված 3'!C28 -> Ասիական զարգացման բանկի աջակցությամբ իրականացվող Մ6 Վանաձոր-Ալավերդի-Վրաստանի սահման միջպետական նշանակության ճանապարհի ծրագրի կառուցում և հիմնանորոգում | G31: =+G33 -> 110000 | H31: =+H33 -> 110000 | I31: =+I33 -> 110000 | J31: =+J33 -> 110000
F32: այդ թվում` ըստ կատարողների
F33: ՀՀ տարածքային կառավարման և ենթակառուցվածքների նախարարություն | G33: =G35 -> 110000 | H33: =H35 -> 110000 | I33: =I35 -> 110000 | J33: =J35 -> 110000
F34: այդ թվում` բյուջետային ծախսերի տնտեսագիտական դասակարգման հոդվածներ
F35: ԸՆԴԱՄԵՆԸ ԾԱԽՍԵՐ | G35: =+G36 -> 110000 | H35: =+H36 -> 110000 | I35: =+I36 -> 110000 | J35: =+J36 -> 110000
F36: ՈՉ ՖԻՆԱՆՍԱԿԱՆ ԱԿՏԻՎՆԵՐԻ ԳԾՈՎ ԾԱԽՍԵՐ | G36: =+G37 -> 110000 | H36: =+H37 -> 110000 | I36: =+I37 -> 110000 | J36: =+J37 -> 110000
F37: ՀԻՄՆԱԿԱՆ ՄԻՋՈՑՆԵՐ | G37: =+G38 -> 110000 | H37: =+H38 -> 110000 | I37: =+I38 -> 110000 | J37: =+J38 -> 110000
F38: ԱՅԼ ՀԻՄՆԱԿԱՆ ՄԻՋՈՑՆԵՐ | G38: =G39 -> 110000 | H38: =H39 -> 110000 | I38: =I39 -> 110000 | J38: =J39 -> 110000
F39: - Նախագծահետազոտական ծախսեր | G39: =+'Հավելված 3'!D36 -> 110000 | H39: =+'Հավելված 3'!G36 -> 110000 | I39: =+'Հավելված 3'!J36 -> 110000 | J39: =+'Հավելված 3'!M36 -> 110000
E40: 21006 | F40: =+'Հավելված 3'!C37 -> Ասիական զարգացման բանկի աջակցությամբ իրականացվող Հյուսիս-հարավ միջանցքի զարգացման վարկային ծրագիր, Տրանշ 2 | G40: =+G42 -> -160000 | H40: =+H42 -> -160000 | I40: =+I42 -> -160000 | J40: =+J42 -> -160000
F41: այդ թվում` ըստ կատարողների
F42: ՀՀ տարածքային կառավարման և ենթակառուցվածքների նախարարություն | G42: =G44 -> -160000 | H42: =H44 -> -160000 | I42: =I44 -> -160000 | J42: =J44 -> -160000
F43: այդ թվում` բյուջետային ծախսերի տնտեսագիտական դասակարգման հոդվածներ
F44: ԸՆԴԱՄԵՆԸ ԾԱԽՍԵՐ | G44: =+G45 -> -160000 | H44: =+H45 -> -160000 | I44: =+I45 -> -160000 | J44: =+J45 -> -160000
F45: ՈՉ ՖԻՆԱՆՍԱԿԱՆ ԱԿՏԻՎՆԵՐԻ ԳԾՈՎ ԾԱԽՍԵՐ | G45: =+G46 -> -160000 | H45: =+H46 -> -160000 | I45: =+I46 -> -160000 | J45: =+J46 -> -160000
F46: ՀԻՄՆԱԿԱՆ ՄԻՋՈՑՆԵՐ | G46: =G47 -> -160000 | H46: =H47 -> -160000 | I46: =I47 -> -160000 | J46: =J47 -> -160000
F47: ՇԵՆՔԵՐ ԵՎ ՇԻՆՈՒԹՅՈՒՆՆԵՐ | G47: =+G48 -> -160000 | H47: =+H48 -> -160000 | I47: =+I48 -> -160000 | J47: =+J48 -> -160000
F48: - Շենքերի և շինությունների շինարարություն | G48: =+'Հավելված 3'!D45 -> -160000 | H48: =+'Հավելված 3'!G45 -> -160000 | I48: =+'Հավելված 3'!J45 -> -160000 | J48: =+'Հավելված 3'!M45 -> -160000
E49: 21011 | F49: =+'Հավելված 3'!C46 -> Ասիական զարգացման բանկի աջակցությամբ իրականացվող Հյուսիս-հարավ միջանցքի զարգացման վարկային ծրագիր, Տրանշ 3 | G49: =+G51 -> 670000 | H49: =+H51 -> 670000 | I49: =+I51 -> 0 | J49: =+J51 -> 0
F50: այդ թվում` ըստ կատարողների
F51: ՀՀ տարածքային կառավարման և ենթակառուցվածքների նախարարություն | G51: =G53 -> 670000 | H51: =H53 -> 670000 | I51: =I53 -> 0 | J51: =J53 -> 0
F52: այդ թվում` բյուջետային ծախսերի տնտեսագիտական դասակարգման հոդվածներ
F53: ԸՆԴԱՄԵՆԸ ԾԱԽՍԵՐ | G53: =+G54 -> 670000 | H53: =+H54 -> 670000 | I53: =+I54 -> 0 | J53: =+J54 -> 0
F54: ՈՉ ՖԻՆԱՆՍԱԿԱՆ ԱԿՏԻՎՆԵՐԻ ԳԾՈՎ ԾԱԽՍԵՐ | G54: =+G55 -> 670000 | H54: =+H55 -> 670000 | I54: =+I55 -> 0 | J54: =+J55 -> 0
F55: ՀԻՄՆԱԿԱՆ ՄԻՋՈՑՆԵՐ | G55: =G56 -> 670000 | H55: =H56 -> 670000 | I55: =I56 -> 0 | J55: =J56 -> 0
F56: ՇԵՆՔԵՐ ԵՎ ՇԻՆՈՒԹՅՈՒՆՆԵՐ | G56: =+G57 -> 670000 | H56: =+H57 -> 670000 | I56: =+I57 -> 0 | J56: =+J57 -> 0
F57: - Շենքերի և շինությունների շինարարություն | G57: =+'Հավելված 3'!D54 -> 670000 | H57: =+'Հավելված 3'!G54 -> 670000 | I57: =+'Հավելված 3'!J54 -> 0 | J57: =+'Հավելված 3'!M54 -> 0
E58: 21012 | F58: =+'Հավելված 3'!C55 -> Եվրասիական զարգացման բանկի աջակցությամբ իրականացվող Հյուսիս-հարավ միջանցքի զարգացման ծրագիր | G58: =+G60 -> -962000 | H58: =+H60 -> -962000 | I58: =+I60 -> -292000 | J58: =+J60 -> -292000
F59: այդ թվում` ըստ կատարողների
F60: ՀՀ տարածքային կառավարման և ենթակառուցվածքների նախարարություն | G60: =G62 -> -962000 | H60: =H62 -> -962000 | I60: =I62 -> -292000 | J60: =J62 -> -292000
F61: այդ թվում` բյուջետային ծախսերի տնտեսագիտական դասակարգման հոդվածներ
F62: ԸՆԴԱՄԵՆԸ ԾԱԽՍԵՐ | G62: =+G63 -> -962000 | H62: =+H63 -> -962000 | I62: =+I63 -> -292000 | J62: =+J63 -> -292000
F63: ՈՉ ՖԻՆԱՆՍԱԿԱՆ ԱԿՏԻՎՆԵՐԻ ԳԾՈՎ ԾԱԽՍԵՐ | G63: =+G64 -> -962000 | H63: =+H64 -> -962000 | I63: =+I64 -> -292000 | J63: =+J64 -> -292000
F64: ՀԻՄՆԱԿԱՆ ՄԻՋՈՑՆԵՐ | G64: =G65 -> -962000 | H64: =H65 -> -962000 | I64: =I65 -> -292000 | J64: =J65 -> -292000
F65: ՇԵՆՔԵՐ ԵՎ ՇԻՆՈՒԹՅՈՒՆՆԵՐ | G65: =+G66 -> -962000 | H65: =+H66 -> -962000 | I65: =+I66 -> -292000 | J65: =+J66 -> -292000
F66: - Շենքերի և շինությունների շինարարություն | G66: =+'Հավելված 3'!D63 -> -962000 | H66: =+'Հավելված 3'!G63 -> -962000 | I66: =+'Հավելված 3'!J63 -> -292000 | J66: =+'Հավելված 3'!M63 -> -292000
E67: 21014 | F67: ='Հավելված 4'!C17 -> Եվրոպական ներդրումային բանկի աջակցությամբ իրականացվող Մ6 Վանաձոր-Ալավերդի-Վրաստանի սահման միջպետական նշանակության ճանապարհի անվտանգության բարելավման դրամաշնորհային ծրագիր | G67: =+G69 -> 122000 | H67: =+H69 -> 122000 | I67: =+I69 -> 122000 | J67: =+J69 -> 122000
F68: այդ թվում` ըստ կատարողների
F69: ՀՀ տարածքային կառավարման և ենթակառուցվածքների նախարարություն | G69: =G71 -> 122000 | H69: =H71 -> 122000 | I69: =I71 -> 122000 | J69: =J71 -> 122000
F70: այդ թվում` բյուջետային ծախսերի տնտեսագիտական դասակարգման հոդվածներ
F71: ԸՆԴԱՄԵՆԸ ԾԱԽՍԵՐ | G71: =+G72 -> 122000 | H71: =+H72 -> 122000 | I71: =+I72 -> 122000 | J71: =+J72 -> 122000
F72: ՈՉ ՖԻՆԱՆՍԱԿԱՆ ԱԿՏԻՎՆԵՐԻ ԳԾՈՎ ԾԱԽՍԵՐ | G72: =+G73 -> 122000 | H72: =+H73 -> 122000 | I72: =+I73 -> 122000 | J72: =+J73 -> 122000
F73: ՀԻՄՆԱԿԱՆ ՄԻՋՈՑՆԵՐ | G73: =G74 -> 122000 | H73: =H74 -> 122000 | I73: =I74 -> 122000 | J73: =J74 -> 122000
F74: ՇԵՆՔԵՐ ԵՎ ՇԻՆՈՒԹՅՈՒՆՆԵՐ | G74: =+G75 -> 122000 | H74: =+H75 -> 122000 | I74: =+I75 -> 122000 | J74: =+J75 -> 122000
F75: - Շենքերի և շինությունների շինարարություն | G75: =+'Հավելված 4'!D25 -> 122000 | H75: =+'Հավելված 4'!G25 -> 122000 | I75: =+'Հավելված 4'!J25 -> 122000 | J75: =+'Հավելված 4'!M25 -> 122000
E76: 21007 | F76: ='Հավելված 4'!C26 -> Եվրոպական ներդրումային բանկի աջակցությամբ իրականացվող Հյուսիս-հարավ միջանցքի զարգացման դրամաշնորհային ծրագիր, Տրանշ 3 | G76: =+G78 -> -100000 | H76: =+H78 -> -100000 | I76: =+I78 -> -100000 | J76: =+J78 -> -100000
F77: այդ թվում` ըստ կատարողների
F78: ՀՀ տարածքային կառավարման և ենթակառուցվածքների նախարարություն | G78: =G80 -> -100000 | H78: =H80 -> -100000 | I78: =I80 -> -100000 | J78: =J80 -> -100000
F79: այդ թվում` բյուջետային ծախսերի տնտեսագիտական դասակարգման հոդվածներ
F80: ԸՆԴԱՄԵՆԸ ԾԱԽՍԵՐ | G80: =+G81 -> -100000 | H80: =+H81 -> -100000 | I80: =+I81 -> -100000 | J80: =+J81 -> -100000
F81: ՈՉ ՖԻՆԱՆՍԱԿԱՆ ԱԿՏԻՎՆԵՐԻ ԳԾՈՎ ԾԱԽՍԵՐ | G81: =+G82 -> -100000 | H81: =+H82 -> -100000 | I81: =+I82 -> -100000 | J81: =+J82 -> -100000
F82: ՀԻՄՆԱԿԱՆ ՄԻՋՈՑՆԵՐ | G82: =G83 -> -100000 | H82: =H83 -> -100000 | I82: =I83 -> -100000 | J82: =J83 -> -100000
F83: ՇԵՆՔԵՐ ԵՎ ՇԻՆՈՒԹՅՈՒՆՆԵՐ | G83: =+G84 -> -100000 | H83: =+H84 -> -100000 | I83: =+I84 -> -100000 | J83: =+J84 -> -100000
F84: - Շենքերի և շինությունների շինարարություն | G84: =+'Հավելված 4'!D34 -> -100000 | H84: =+'Հավելված 4'!G34 -> -100000 | I84: =+'Հավելված 4'!J34 -> -100000 | J84: =+'Հավելված 4'!M34 -> -100000

Sheet N 2.2 
L1: ՀԱՎԵԼՎԱԾ N 2
L2: Աղյուսակ N 2
A4: «ՀԱՅԱUՏԱՆԻ ՀԱՆՐԱՊԵՏՈՒԹՅԱՆ 2018 ԹՎԱԿԱՆԻ ՊԵՏԱԿԱՆ ԲՅՈՒՋԵԻ ՄԱUԻՆ» ՀԱՅԱUՏԱՆԻ ՀԱՆՐԱՊԵՏՈՒԹՅԱՆ OՐԵՆՔԻ N1 ՀԱՎԵԼՎԱԾԻ N 15 ԱՂՅՈՒՍԱԿՈՒՄ ԵՎ ՀԱՅԱUՏԱՆԻ ՀԱՆՐԱՊԵՏՈՒԹՅԱՆ ԿԱՌԱՎԱՐՈՒԹՅԱՆ 2017 ԹՎԱԿԱՆԻ ԴԵԿՏԵՄԲԵՐԻ 28-Ի N 1717-Ն ՈՐՈՇՄԱՆ N 5 ՀԱՎԵԼՎԱԾԻ N 14 ԱՂՅՈՒՍԱԿՈՒՄ ԿԱՏԱՐՎՈՂ ՓՈՓՈԽՈՒԹՅՈՒՆՆԵՐԸ ԵՎ ԼՐԱՑՈՒՄՆԵՐԸ
M5: հազար դրամ
A6: Բաժին | B6: Խումբ | C6: Դաս | D6: ԴՐԱՄԱՇՆՈՐՀԱՅԻՆ ԾՐԱԳՐԵՐԻ, ԴՐԱՆՔ ԻՐԱԿԱՆԱՑՆՈՂ ՄԱՐՄԻՆՆԵՐԻ ԵՎ ԲՅՈՒՋԵՏԱՅԻՆ ԾԱԽՍԵՐԻ ՏՆՏԵՍԱԳԻՏԱԿԱՆ ԴԱՍԱԿԱՐԳՄԱՆ ՀՈԴՎԱԾՆԵՐԻ ԱՆՎԱՆՈՒՄՆԵՐԸ | E6: Առաջին կիսամյակ | H6: Ինն ամիս | K6: Տարի
E7: Ընդամենը | F7: այդ թվում | H7: Ընդամենը | I7: այդ թվում | K7: Ընդամենը | L7: այդ թվում
F8: Դրամաշնորհային միջոցներ | G8: Համաֆինան_x000D_ սավորում | I8: Դրամաշնորհային միջոցներ | J8: Համաֆինան_x000D_ սավորում | L8: Դրամաշնորհային միջոցներ | M8: Համաֆինան_x000D_ սավորում
D9: ԸՆԴԱՄԵՆԸ ԾՐԱԳՐԵՐՈՎ, այդ թվում` | E9: =F9+G9 -> 106225.6 | F9: =F10+F11 -> 75875.4 | G9: =G10+G11 -> 30350.2 | H9: =I9+J9 -> 212409.4 | I9: =I10+I11 -> 151721 | J9: =J10+J11 -> 60688.4 | K9: =L9+M9 -> 318593.2 | L9: =L10+L11 -> 227566.6 | M9: =M10+M11 -> 91026.6
D10: - ԸՆԹԱՑԻԿ ԾԱԽՍԵՐ | E10: =+F10+G10 -> 272102.3 | F10: =+F14+F19+F41+F27 -> 230456.1 | G10: =+G14+G19+G41+G27 -> 41646.2 | H10: =+I10+J10 -> 407599.65 | I10: =+I14+I19+I41+I27 -> 332800.75 | J10: =+J14+J19+J41+J27 -> 74798.9 | K10: =+L10+M10 -> 526813.7 | L10: =+L14+L19+L41+L27 -> 419504.9 | M10: =+M14+M19+M41+M27 -> 107308.8
D11: - ՈՉ ՖԻՆԱՆՍԱԿԱՆ ԱԿՏԻՎՆԵՐԻ ԳԾՈՎ ԾԱԽՍԵՐ | E11: =F11+G11 -> -165876.7 | F11: =+F22+F35+F30 -> -154580.7 | G11: =+G22+G35+G30 -> -11296 | H11: =I11+J11 -> -195190.25 | I11: =+I22+I35+I30 -> -181079.75 | J11: =+J22+J35+J30 -> -14110.5 | K11: =L11+M11 -> -208220.5 | L11: =+L22+L35+L30 -> -191938.3 | M11: =+M22+M35+M30 -> -16282.2
A12: 04 | B12: 02 | C12: 04 | D12: 10. Համաշխարհային բանկի աջակցությամբ իրականացվող Մաստարայի ջրամբարի նախապատրաստման դրամաշնորհային ծրագիր | E12: =F12+G12 -> 79071.3 | F12: =+F13 -> 79071.3 | G12: =+G13 -> 0 | H12: =I12+J12 -> 79071.3 | I12: =+I13 -> 79071.3 | J12: =+J13 -> 0 | K12: =L12+M12 -> 79071.3 | L12: =+L13 -> 79071.3 | M12: =+M13 -> 0
D13: այդ թվում` ՀՀ էներգետիկ ենթակառուցվածքների և բնական պաշարների նախարարության ջրային տնտեսության պետական կոմիտե | E13: =F13+G13 -> 79071.3 | F13: =+F14 -> 79071.3 | G13: =+G14 -> 0 | H13: =I13+J13 -> 79071.3 | I13: =+I14 -> 79071.3 | J13: =+J14 -> 0 | K13: =L13+M13 -> 79071.3 | L13: =+L14 -> 79071.3 | M13: =+M14 -> 0
D14: ԸՆԹԱՑԻԿ ԾԱԽՍԵՐ | E14: =F14+G14 -> 79071.3 | F14: =F15 -> 79071.3 | G14: =G15 -> 0 | H14: =I14+J14 -> 79071.3 | I14: =I15 -> 79071.3 | J14: =J15 -> 0 | K14: =L14+M14 -> 79071.3 | L14: =L15 -> 79071.3 | M14: =M15 -> 0
D15: ԱՅԼ ԾԱԽՍԵՐ, այդ թվում` | E15: =F15+G15 -> 79071.3 | F15: =F16 -> 79071.3 | G15: =G16 -> 0 | H15: =I15+J15 -> 79071.3 | I15: =I16 -> 79071.3 | J15: =J16 -> 0 | K15: =L15+M15 -> 79071.3 | L15: =L16 -> 79071.3 | M15: =M16 -> 0
D16: Այլ ծախսեր | E16: =F16+G16 -> 79071.3 | F16: 79071.3 | H16: =I16+J16 -> 79071.3 | I16: 79071.3 | K16: =L16+M16 -> 79071.3 | L16: 79071.3
A17: 06 | B17: 03 | C17: 01 | D17: 06. Վերակառուցման և զարգացման եվրոպական բանկի աջակցությամբ իրականացվող ջրամատակարարման բարելավման դրամաշնորհային ծրագիր | E17: =F17+G17 -> 0 | F17: =F22+F19 -> 0 | G17: =G22+G19 -> 0 | H17: =I17+J17 -> 0 | I17: =I22+I19 -> 0 | J17: =J22+J19 -> 0 | K17: =L17+M17 -> 0 | L17: =L22+L19 -> 0 | M17: =M22+M19 -> 0
D18: այդ թվում` ՀՀ էներգետիկ ենթակառուցվածքների և բնական պաշարների նախարարության ջրային տնտեսության պետական կոմիտե | E18: =F18+G18 -> 0 | F18: =F17 -> 0 | G18: =G17 -> 0 | H18: =I18+J18 -> 0 | I18: =I17 -> 0 | J18: =J17 -> 0 | K18: =L18+M18 -> 0 | L18: =L17 -> 0 | M18: =M17 -> 0
D19: ԸՆԹԱՑԻԿ ԾԱԽՍԵՐ | E19: =F19+G19 -> 43606.5 | F19: =F20 -> 37453 | G19: =G20 -> 6153.5 | H19: =I19+J19 -> 48796.3 | I19: =I20 -> 42000 | J19: =J20 -> 6796.3 | K19: =L19+M19 -> 48796.3 | L19: =L20 -> 42000 | M19: =M20 -> 6796.3
D20: ԱՅԼ ԾԱԽՍԵՐ, այդ թվում` | E20: =F20+G20 -> 43606.5 | F20: =F21 -> 37453 | G20: =G21 -> 6153.5 | H20: =I20+J20 -> 48796.3 | I20: =I21 -> 42000 | J20: =J21 -> 6796.3 | K20: =L20+M20 -> 48796.3 | L20: =L21 -> 42000 | M20: =M21 -> 6796.3
D21: Այլ ծախսեր | E21: =F21+G21 -> 43606.5 | F21: 37453 | G21: 6153.5 | H21: =I21+J21 -> 48796.3 | I21: 42000 | J21: 6796.3 | K21: =L21+M21 -> 48796.3 | L21: 42000 | M21: 6796.3
D22: ՈՉ ՖԻՆԱՆՍԱԿԱՆ ԱԿՏԻՎՆԵՐԻ ԳԾՈՎ ԾԱԽՍԵՐ | E22: =F22+G22 -> -43606.5 | F22: =+F23 -> -37453 | G22: =+G23 -> -6153.5 | H22: =I22+J22 -> -48796.3 | I22: =+I23 -> -42000 | J22: =+J23 -> -6796.3 | K22: =L22+M22 -> -48796.3 | L22: =+L23 -> -42000 | M22: =+M23 -> -6796.3 | O22: 3737.62 | P22: =+O33/O22 -> 0.58860986
D23: ԱՅԼ ՀԻՄՆԱԿԱՆ ՄԻՋՈՑՆԵՐ, այդ թվում` | E23: =F23+G23 -> -43606.5 | F23: =F24 -> -37453 | G23: =G24 -> -6153.5 | H23: =I23+J23 -> -48796.3 | I23: =I24 -> -42000 | J23: =J24 -> -6796.3 | K23: =L23+M23 -> -48796.3 | L23: =L24 -> -42000 | M23: =M24 -> -6796.3 | N23: =+F24+I21 -> 4547
D24: Նախագծահետազոտական ծախսեր | E24: =F24+G24 -> -43606.5 | F24: -37453 | G24: -6153.5 | H24: =I24+J24 -> -48796.3 | I24: -42000 | J24: -6796.3 | K24: =L24+M24 -> -48796.3 | L24: -42000 | M24: -6796.3 | N24: 5506.12 | O24: =+N24/('[2]Չընդունված հաշիվ. ներառյ 17.01.'!$Z$19+'[2]Չընդունված հաշիվ. ներառյ 17.01.'!$W$19)*1000 -> 755.8752
A25: 06 | B25: 03 | C25: 01 | D25: 03. Եվրոպական միության հարևանության ներդրումային ծրագրի աջակցությամբ իրականացվող Երևանի ջրամատակարարման բարելավման դրամաշնորհային ծրագիր | E25: =F25+G25 -> 0 | F25: =F30+F27 -> 0 | G25: =G30+G27 -> 0 | H25: =I25+J25 -> 0 | I25: =I30+I27 -> 0 | J25: =J30+J27 -> 0 | K25: =L25+M25 -> 0 | L25: =L30+L27 -> 0 | M25: =M30+M27 -> 0
D26: այդ թվում` ՀՀ էներգետիկ ենթակառուցվածքների և բնական պաշարների նախարարության ջրային տնտեսության պետական կոմիտե | E26: =F26+G26 -> 0 | F26: =F25 -> 0 | G26: =G25 -> 0 | H26: =I26+J26 -> 0 | I26: =I25 -> 0 | J26: =J25 -> 0 | K26: =L26+M26 -> 0 | L26: =L25 -> 0 | M26: =M25 -> 0
D27: ԸՆԹԱՑԻԿ ԾԱԽՍԵՐ | E27: =F27+G27 -> 43198.9 | F27: =F28 -> 38056.4 | G27: =G28 -> 5142.5 | H27: =I27+J27 -> 67322.65 | I27: =I28 -> 60008.45 | J27: =J28 -> 7314.2 | K27: =L27+M27 -> 80352.9 | L27: =L28 -> 70867 | M27: =M28 -> 9485.9
D28: ԱՅԼ ԾԱԽՍԵՐ, այդ թվում` | E28: =F28+G28 -> 43198.9 | F28: =F29 -> 38056.4 | G28: =G29 -> 5142.5 | H28: =I28+J28 -> 67322.65 | I28: =I29 -> 60008.45 | J28: =J29 -> 7314.2 | K28: =L28+M28 -> 80352.9 | L28: =L29 -> 70867 | M28: =M29 -> 9485.9
D29: Այլ ծախսեր | E29: =F29+G29 -> 43198.9 | F29: =76112.8/2 -> 38056.4 | G29: 5142.5 | H29: =I29+J29 -> 67322.65 | I29: =120016.9/2 -> 60008.45 | J29: =14628.4/2 -> 7314.2 | K29: =L29+M29 -> 80352.9 | L29: =141734/2 -> 70867 | M29: =18971.8/2 -> 9485.9
D30: ՈՉ ՖԻՆԱՆՍԱԿԱՆ ԱԿՏԻՎՆԵՐԻ ԳԾՈՎ ԾԱԽՍԵՐ | E30: =F30+G30 -> -43198.9 | F30: =+F31 -> -38056.4 | G30: =+G31 -> -5142.5 | H30: =I30+J30 -> -67322.65 | I30: =+I31 -> -60008.45 | J30: =+J31 -> -7314.2 | K30: =L30+M30 -> -80352.9 | L30: =+L31 -> -70867 | M30: =+M31 -> -9485.9 | O30: 3737.62 | P30: =+O41/O30 -> 0
D31: ԱՅԼ ՀԻՄՆԱԿԱՆ ՄԻՋՈՑՆԵՐ, այդ թվում` | E31: =F31+G31 -> -43198.9 | F31: =F32 -> -38056.4 | G31: =G32 -> -5142.5 | H31: =I31+J31 -> -67322.65 | I31: =I32 -> -60008.45 | J31: =J32 -> -7314.2 | K31: =L31+M31 -> -80352.9 | L31: =L32 -> -70867 | M31: =M32 -> -9485.9 | N31: =+F32+I29 -> 21952.05
D32: Շենքերի և շինությունների կապիտալ վերանորոգում | E32: =F32+G32 -> -43198.9 | F32: -38056.4 | G32: -5142.5 | H32: =I32+J32 -> -67322.65 | I32: =-120016.9/2 -> -60008.45 | J32: =-14628.4/2 -> -7314.2 | K32: =L32+M32 -> -80352.9 | L32: =-141734/2 -> -70867 | M32: =-18971.8/2 -> -9485.9 | N32: 5506.12 | O32: =+N32/('[2]Չընդունված հաշիվ. ներառյ 17.01.'!$Z$19+'[2]Չընդունված հաշիվ. ներառյ 17.01.'!$W$19)*1000 -> 755.8752
A33: 06 | B33: 03 | C33: 01 | D33: 09. Գերմանիայի զարգացման վարկերի բանկի և Եվրոպական միության Հարևանության ներդրումային գործիքի աջակցությամբ իրականացվող ջրամատակարարման և ջրահեռացման ենթակառուցվածքների վերականգման դրամաշնորհային ծրագրի երրորդ փուլ | E33: =F33+G33 -> -79071.3 | F33: =F35 -> -79071.3 | G33: =G35 -> 0 | H33: =I33+J33 -> -79071.3 | I33: =I35 -> -79071.3 | J33: =J35 -> 0 | K33: =L33+M33 -> -79071.3 | L33: =L35 -> -79071.3 | M33: =M35 -> 0 | N33: 39653 | O33: =+N33+F24 -> 2200 | P33: =+O33/N24 -> 0.3995554
D34: այդ թվում` ՀՀ էներգետիկ ենթակառուցվածքների և բնական պաշարների նախարարության ջրային տնտեսության պետական կոմիտե | E34: =F34+G34 -> -79071.3 | F34: =F33 -> -79071.3 | G34: =G33 -> 0 | H34: =I34+J34 -> -79071.3 | I34: =I33 -> -79071.3 | J34: =J33 -> 0 | K34: =L34+M34 -> -79071.3 | L34: =L33 -> -79071.3 | M34: =M33 -> 0
D35: ՈՉ ՖԻՆԱՆՍԱԿԱՆ ԱԿՏԻՎՆԵՐԻ ԳԾՈՎ ԾԱԽՍԵՐ | E35: =F35+G35 -> -79071.3 | F35: =F36 -> -79071.3 | G35: =G36 -> 0 | H35: =I35+J35 -> -79071.3 | I35: =I36 -> -79071.3 | J35: =J36 -> 0 | K35: =L35+M35 -> -79071.3 | L35: =L36 -> -79071.3 | M35: =M36 -> 0
D36: ՀԻՄՆԱԿԱՆ ՄԻՋՈՑՆԵՐ, այդ թվում` | E36: =F36+G36 -> -79071.3 | F36: =F37 -> -79071.3 | G36: =G37 -> 0 | H36: =I36+J36 -> -79071.3 | I36: =I37 -> -79071.3 | J36: =J37 -> 0 | K36: =L36+M36 -> -79071.3 | L36: =L37 -> -79071.3 | M36: =M37 -> 0
D37: ՇԵՆՔԵՐ ԵՎ ՇԻՆՈՒԹՅՈՒՆՆԵՐ, այդ թվում` | E37: =F37+G37 -> -79071.3 | F37: =F38 -> -79071.3 | G37: =G38 -> 0 | H37: =I37+J37 -> -79071.3 | I37: =I38 -> -79071.3 | J37: =J38 -> 0 | K37: =L37+M37 -> -79071.3 | L37: =L38 -> -79071.3 | M37: =M38 -> 0
D38: Շենքերի և շինությունների շինարարություն | E38: =F38+G38 -> -79071.3 | F38: -79071.3 | H38: =I38+J38 -> -79071.3 | I38: -79071.3 | K38: =L38+M38 -> -79071.3 | L38: -79071.3
A39: 06 | B39: 03 | C39: 01 | D39: 11. Գերմանիայի զարգացման վարկերի բանկի աջակցությամբ իրականացվող ուղեկցող միջոցառում Համայնքային ենթակառուցվածքների երկրորդ ծրագրի երրորդ փուլ դրամաշնորհային ծրագրի | E39: =+E40 -> 106225.6 | F39: =+F40 -> 75875.4 | G39: =+G40 -> 30350.2 | H39: =I39+J39 -> 212409.4 | I39: =+I40 -> 151721 | J39: =+J40 -> 60688.4 | K39: =L39+M39 -> 318593.2 | L39: =+L40 -> 227566.6 | M39: =+M40 -> 91026.6
D40: այդ թվում` ՀՀ էներգետիկ ենթակառուցվածքների և բնական պաշարների նախարարության ջրային տնտեսության պետական կոմիտե | E40: =F40+G40 -> 106225.6 | F40: =+F41 -> 75875.4 | G40: =+G41 -> 30350.2 | H40: =+H41 -> 212409.4 | I40: =+I41 -> 151721 | J40: =+J41 -> 60688.4 | K40: =+K41 -> 318593.2 | L40: =+L41 -> 227566.6 | M40: =+M41 -> 91026.6
D41: ԸՆԹԱՑԻԿ ԾԱԽՍԵՐ | E41: =+E42 -> 106225.6 | F41: =+F42 -> 75875.4 | G41: =+G42 -> 30350.2 | H41: =+H42 -> 212409.4 | I41: =+I42 -> 151721 | J41: =+J42 -> 60688.4 | K41: =+K42 -> 318593.2 | L41: =+L42 -> 227566.6 | M41: =+M42 -> 91026.6
D42: ԱՅԼ ԾԱԽՍԵՐ, այդ թվում | E42: =E43 -> 106225.6 | F42: =F43 -> 75875.4 | G42: =+G43 -> 30350.2 | H42: =+H43 -> 212409.4 | I42: =+I43 -> 151721 | J42: =+J43 -> 60688.4 | K42: =+K43 -> 318593.2 | L42: =+L43 -> 227566.6 | M42: =+M43 -> 91026.6
D43: Այլ ծախսեր | E43: =+F43+G43 -> 106225.6 | F43: 75875.4 | G43: 30350.2 | H43: =I43+J43 -> 212409.4 | I43: 151721 | J43: 60688.4 | K43: =L43+M43 -> 318593.2 | L43: 227566.6 | M43: 91026.6
E46: 43198.9 | F46: 38056.4 | G46: 5142.5 | H46: 67322.65 | I46: 60008.45 | J46: 7314.2 | K46: 80352.9 | L46: 70867 | M46: 9485.9
E47: =+E46-E29 -> 0 | F47: =+F46-F29 -> 0 | G47: =+G46-G29 -> 0 | H47: =+H46-H29 -> 0 | I47: =+I46-I29 -> 0 | J47: =+J46-J29 -> 0 | K47: =+K46-K29 -> 0 | L47: =+L46-L29 -> 0 | M47: =+M46-M29 -> 0

Sheet Հավելված 3
O1: Հավելված N 3
O2: ՀՀ կառավարության 2024 թվականի
O3: ______________ ի ___Ն որոշման
A5: «ՀԱՅԱՍՏԱՆԻ ՀԱՆՐԱՊԵՏՈՒԹՅԱՆ 2024 ԹՎԱԿԱՆԻ ՊԵՏԱԿԱՆ ԲՅՈՒՋԵԻ ՄԱՍԻՆ» ՀԱՅԱՍՏԱՆԻ ՀԱՆՐԱՊԵՏՈՒԹՅԱՆ ՕՐԵՆՔԻ N 1 ՀԱՎԵԼՎԱԾԻ N 4 ԱՂՅՈՒՍԱԿՈՒՄ ԿԱՏԱՐՎՈՂ ՎԵՐԱԲԱՇԽՈՒՄՆԵՐԸ, ԼՐԱՑՈՒՄՆԵՐԸ ԵՎ ՓՈՓՈԽՈՒԹՅՈՒՆՆԵՐԸ ԵՎ ՀԱՅԱՍՏԱՆԻ ՀԱՆՐԱՊԵՏՈՒԹՅԱՆ ԿԱՌԱՎԱՐՈՒԹՅԱՆ 2023 ԹՎԱԿԱՆԻ ԴԵԿՏԵՄԲԵՐԻ 28-Ի N 2323-Ն ՈՐՈՇՄԱՆ N5 ՀԱՎԵԼՎԱԾԻ N 3 ԱՂՅՈՒՍԱԿՈՒՄ ԿԱՏԱՐՎՈՂ ԼՐԱՑՈՒՄՆԵՐԸ ԵՎ ՓՈՓՈԽՈՒԹՅՈՒՆՆԵՐԸ
O7: (հազ. դրամ)
A8: Ծրագրային դասիչը | C8: Բյուջետային հատկացումների գլխավոր կարգադրիչների, ծրագրերի, միջոցառումների և միջոցառումները կատարող պետական մարմինների անվանումները | D8: Ցուցանիշների փոփոխությունը (ավելացումները նշված են դրական նշանով, իսկ նվազեցումները` փակագծերում)
D10: Առաջին եռամսյակ | G10: Առաջին կիսամյակ | J10: Ինն ամիս | M10: Տարի
A11: ծրագիրը | B11: միջոցառումը | D11: ընդամենը | E11: այդ թվում՝ | G11: ընդամենը | H11: այդ թվում՝ | J11: ընդամենը | K11: այդ թվում՝ | M11: ընդամենը | N11: այդ թվում՝
E12: վարկային միջոցներ | F12: համաֆինան_x000D_ սավորում | H12: վարկային միջոցներ | I12: համաֆինան_x000D_ սավորում | K12: վարկային միջոցներ | L12: համաֆինան_x000D_ սավորում | N12: վարկային միջոցներ | O12: համաֆինան_x000D_ սավորում
C13: ԸՆԴԱՄԵՆԸ ԾՐԱԳՐԵՐՈՎ, այդ թվում` | D13: =E13+F13 -> -22000 | E13: =E14+E15 -> 0 | F13: =F14+F15 -> -22000 | G13: =H13+I13 -> -22000 | H13: =H14+H15 -> 0 | I13: =I14+I15 -> -22000 | J13: =K13+L13 -> -22000 | K13: =K14+K15 -> 0 | L13: =L14+L15 -> -22000 | M13: =N13+O13 -> -22000 | N13: =N14+N15 -> 0 | O13: =O14+O15 -> -22000
C14: - ԸՆԹԱՑԻԿ ԾԱԽՍԵՐ | D14: =+E14+F14 -> 320000 | E14: =+E19 -> 0 | F14: =+F19 -> 320000 | G14: =+H14+I14 -> 320000 | H14: =+H19 -> 0 | I14: =+I19 -> 320000 | J14: =+K14+L14 -> 320000 | K14: =+K19 -> 0 | L14: =+L19 -> 320000 | M14: =+N14+O14 -> 320000 | N14: =+N19 -> 0 | O14: =+O19 -> 320000
C15: - ՈՉ ՖԻՆԱՆՍԱԿԱՆ ԱԿՏԻՎՆԵՐԻ ԳԾՈՎ ԾԱԽՍԵՐ | D15: =E15+F15 -> -342000 | E15: =+E28+E37+E46+E55 -> 0 | F15: =+F28+F37+F46+F55 -> -342000 | G15: =H15+I15 -> -342000 | H15: =+H28+H37+H46+H55 -> 0 | I15: =+I28+I37+I46+I55 -> -342000 | J15: =K15+L15 -> -342000 | K15: =+K28+K37+K46+K55 -> 0 | L15: =+L28+L37+L46+L55 -> -342000 | M15: =N15+O15 -> -342000 | N15: =+N28+N37+N46+N55 -> 0 | O15: =+O28+O37+O46+O55 -> -342000
C16: ՀՀ ՏԱՐԱԾՔԱՅԻՆ ԿԱՌԱՎԱՐՄԱՆ ԵՎ ԵՆԹԱԿԱՌՈՒՑՎԱԾՔՆԵՐԻ ՆԱԽԱՐԱՐՈՒԹՅՈՒՆ այդ թվում՝ | D16: =D17 -> -22000 | E16: =E17 -> 0 | F16: =F17 -> -22000 | G16: =G17 -> -22000 | H16: =H17 -> 0 | I16: =I17 -> -22000 | J16: =J17 -> -22000 | K16: =K17 -> 0 | ... O16: =O17 -> -22000
A17: 1049 | C17: Ճանապարհային ցանցի բարելավում | D17: =+E17+F17 -> -22000 | E17: =E19+E28+E37+E46+E55 -> 0 | F17: =F19+F28+F37+F46+F55 -> -22000 | G17: =+H17+I17 -> -22000 | H17: =H19+H28+H37+H46+H55 -> 0 | I17: =I19+I28+I37+I46+I55 -> -22000 | J17: =+K17+L17 -> -22000 | K17: =K19+K28+K37+K46+K55 -> 0 | L17: =L19+L28+L37+L46+L55 -> -22000 | M17: =+N17+O17 -> -22000 | N17: =N19+N28+N37+N46+N55 -> 0 | O17: =O19+O28+O37+O46+O55 -> -22000
C18: այդ թվում՝
B19: 11012 | C19: Եվրասիական զարգացման բանկի աջակցությամբ իրականացվող Հյուսիս-հարավ միջանցքի զարգացման ծրագրի համակարգում և կառավարում | D19: =+E19+F19 -> 320000 | E19: =+E21 -> 0 | F19: =+F21 -> 320000 | G19: =+H19+I19 -> 320000 | H19: =+H21 -> 0 | I19: =+I21 -> 320000 | J19: =+K19+L19 -> 320000 | K19: =+K21 -> 0 | L19: =+L21 -> 320000 | M19: =+N19+O19 -> 320000 | N19: =+N21 -> 0 | O19: =+O21 -> 320000
C20: այդ թվում` ըստ կատարողների
C21: ՀՀ տարածքային կառավարման և ենթակառուցվածքների նախարարություն | D21: =D23 -> 320000 | E21: =E23 -> 0 | F21: =F23 -> 320000 | G21: =G23 -> 320000 | H21: =H23 -> 0 | I21: =I23 -> 320000 | J21: =J23 -> 320000 | K21: =K23 -> 0 | ... O21: =O23 -> 320000
C22: այդ թվում` բյուջետային ծախսերի տնտեսագիտական դասակարգման հոդվածներ
C23: ԸՆԴԱՄԵՆԸ ԾԱԽՍԵՐ | D23: =+E23+F23 -> 320000 | E23: =+E24 -> 0 | F23: =+F24 -> 320000 | G23: =+H23+I23 -> 320000 | H23: =+H24 -> 0 | I23: =+I24 -> 320000 | J23: =+K23+L23 -> 320000 | K23: =+K24 -> 0 | L23: =+L24 -> 320000 | M23: =+N23+O23 -> 320000 | N23: =+N24 -> 0 | O23: =+O24 -> 320000
C24: ԸՆԹԱՑԻԿ ԾԱԽՍԵՐ | D24: =E24+F24 -> 320000 | E24: =+E25 -> 0 | F24: =+F25 -> 320000 | G24: =H24+I24 -> 320000 | H24: =+H25 -> 0 | I24: =+I25 -> 320000 | J24: =K24+L24 -> 320000 | K24: =+K25 -> 0 | L24: =+L25 -> 320000 | M24: =N24+O24 -> 320000 | N24: =+N25 -> 0 | O24: =+O25 -> 320000
C25: ԴՐԱՄԱՇՆՈՐՀՆԵՐ | D25: =+E25+F25 -> 320000 | E25: =+E26 -> 0 | F25: =+F26 -> 320000 | G25: =+H25+I25 -> 320000 | H25: =+H26 -> 0 | I25: =+I26 -> 320000 | J25: =+K25+L25 -> 320000 | K25: =+K26 -> 0 | L25: =+L26 -> 320000 | M25: =+N25+O25 -> 320000 | N25: =+N26 -> 0 | O25: =+O26 -> 320000
C26: Կապիտալ դրամաշնորհներ պետական հատվածի այլ մակարդակներին | D26: =E26+F26 -> 320000 | E26: =+E27 -> 0 | F26: =+F27 -> 320000 | G26: =H26+I26 -> 320000 | H26: =+H27 -> 0 | I26: =+I27 -> 320000 | J26: =K26+L26 -> 320000 | K26: =+K27 -> 0 | L26: =+L27 -> 320000 | M26: =N26+O26 -> 320000 | N26: =+N27 -> 0 | O26: =+O27 -> 320000
C27: - Այլ կապիտալ դրամաշնորհներ | D27: =E27+F27 -> 320000 | E27: 0 | F27: 320000 | G27: =H27+I27 -> 320000 | H27: =+E27 -> 0 | I27: =+F27 -> 320000 | J27: =K27+L27 -> 320000 | K27: =+H27 -> 0 | L27: =+I27 -> 320000 | M27: =N27+O27 -> 320000 | N27: =+K27 -> 0 | O27: =+L27 -> 320000
B28: 21004 | C28: Ասիական զարգացման բանկի աջակցությամբ իրականացվող Մ6 Վանաձոր-Ալավերդի-Վրաստանի սահման միջպետական նշանակության ճանապարհի ծրագրի կառուցում և հիմնանորոգում | D28: =+E28+F28 -> 110000 | E28: =+E30 -> 120000 | F28: =+F30 -> -10000 | G28: =+H28+I28 -> 110000 | H28: =+H30 -> 120000 | I28: =+I30 -> -10000 | J28: =+K28+L28 -> 110000 | K28: =+K30 -> 120000 | L28: =+L30 -> -10000 | M28: =+N28+O28 -> 110000 | N28: =+N30 -> 120000 | O28: =+O30 -> -10000
C29: այդ թվում` ըստ կատարողների
C30: ՀՀ տարածքային կառավարման և ենթակառուցվածքների նախարարություն | D30: =D32 -> 110000 | E30: =E32 -> 120000 | F30: =F32 -> -10000 | G30: =G32 -> 110000 | H30: =H32 -> 120000 | I30: =I32 -> -10000 | J30: =J32 -> 110000 | K30: =K32 -> 120000 | ... O30: =O32 -> -10000
C31: այդ թվում` բյուջետային ծախսերի տնտեսագիտական դասակարգման հոդվածներ
C32: ԸՆԴԱՄԵՆԸ ԾԱԽՍԵՐ | D32: =+E32+F32 -> 110000 | E32: =+E33 -> 120000 | F32: =+F33 -> -10000 | G32: =+H32+I32 -> 110000 | H32: =+H33 -> 120000 | I32: =+I33 -> -10000 | J32: =+K32+L32 -> 110000 | K32: =+K33 -> 120000 | L32: =+L33 -> -10000 | M32: =+N32+O32 -> 110000 | N32: =+N33 -> 120000 | O32: =+O33 -> -10000
C33: ՈՉ ՖԻՆԱՆՍԱԿԱՆ ԱԿՏԻՎՆԵՐԻ ԳԾՈՎ ԾԱԽՍԵՐ | D33: =E33+F33 -> 110000 | E33: =+E34 -> 120000 | F33: =+F34 -> -10000 | G33: =H33+I33 -> 110000 | H33: =+H34 -> 120000 | I33: =+I34 -> -10000 | J33: =K33+L33 -> 110000 | K33: =+K34 -> 120000 | L33: =+L34 -> -10000 | M33: =N33+O33 -> 110000 | N33: =+N34 -> 120000 | O33: =+O34 -> -10000
C34: ՀԻՄՆԱԿԱՆ ՄԻՋՈՑՆԵՐ | D34: =+E34+F34 -> 110000 | E34: =+E35 -> 120000 | F34: =+F35 -> -10000 | G34: =+H34+I34 -> 110000 | H34: =+H35 -> 120000 | I34: =+I35 -> -10000 | J34: =+K34+L34 -> 110000 | K34: =+K35 -> 120000 | L34: =+L35 -> -10000 | M34: =+N34+O34 -> 110000 | N34: =+N35 -> 120000 | O34: =+O35 -> -10000
C35: ԱՅԼ ՀԻՄՆԱԿԱՆ ՄԻՋՈՑՆԵՐ | D35: =E35+F35 -> 110000 | E35: =+E36 -> 120000 | F35: =+F36 -> -10000 | G35: =H35+I35 -> 110000 | H35: =+H36 -> 120000 | I35: =+I36 -> -10000 | J35: =K35+L35 -> 110000 | K35: =+K36 -> 120000 | L35: =+L36 -> -10000 | M35: =N35+O35 -> 110000 | N35: =+N36 -> 120000 | O35: =+O36 -> -10000
C36: - Նախագծահետազոտական ծախսեր | D36: =E36+F36 -> 110000 | E36: 120000 | F36: -10000 | G36: =H36+I36 -> 110000 | H36: =+E36 -> 120000 | I36: =+F36 -> -10000 | J36: =K36+L36 -> 110000 | K36: =+H36 -> 120000 | L36: =+I36 -> -10000 | M36: =N36+O36 -> 110000 | N36: =+K36 -> 120000 | O36: =+L36 -> -10000
B37: 21006 | C37: Ասիական զարգացման բանկի աջակցությամբ իրականացվող Հյուսիս-հարավ միջանցքի զարգացման վարկային ծրագիր, Տրանշ 2 | D37: =+E37+F37 -> -160000 | E37: =+E39 -> 0 | F37: =+F39 -> -160000 | G37: =+H37+I37 -> -160000 | H37: =+H39 -> 0 | I37: =+I39 -> -160000 | J37: =+K37+L37 -> -160000 | K37: =+K39 -> 0 | L37: =+L39 -> -160000 | M37: =+N37+O37 -> -160000 | N37: =+N39 -> 0 | O37: =+O39 -> -160000
C38: այդ թվում` ըստ կատարողների
C39: ՀՀ տարածքային կառավարման և ենթակառուցվածքների նախարարություն | D39: =D41 -> -160000 | E39: =E41 -> 0 | F39: =F41 -> -160000 | G39: =G41 -> -160000 | H39: =H41 -> 0 | I39: =I41 -> -160000 | J39: =J41 -> -160000 | K39: =K41 -> 0 | ... O39: =O41 -> -160000
C40: այդ թվում` բյուջետային ծախսերի տնտեսագիտական դասակարգման հոդվածներ
C41: ԸՆԴԱՄԵՆԸ ԾԱԽՍԵՐ | D41: =+E41+F41 -> -160000 | E41: =+E42 -> 0 | F41: =+F42 -> -160000 | G41: =+H41+I41 -> -160000 | H41: =+H42 -> 0 | I41: =+I42 -> -160000 | J41: =+K41+L41 -> -160000 | K41: =+K42 -> 0 | L41: =+L42 -> -160000 | M41: =+N41+O41 -> -160000 | N41: =+N42 -> 0 | O41: =+O42 -> -160000
C42: ՈՉ ՖԻՆԱՆՍԱԿԱՆ ԱԿՏԻՎՆԵՐԻ ԳԾՈՎ ԾԱԽՍԵՐ | D42: =E42+F42 -> -160000 | E42: =+E43 -> 0 | F42: =+F43 -> -160000 | G42: =H42+I42 -> -160000 | H42: =+H43 -> 0 | I42: =+I43 -> -160000 | J42: =K42+L42 -> -160000 | K42: =+K43 -> 0 | L42: =+L43 -> -160000 | M42: =N42+O42 -> -160000 | N42: =+N43 -> 0 | O42: =+O43 -> -160000
C43: ՀԻՄՆԱԿԱՆ ՄԻՋՈՑՆԵՐ | D43: =+E43+F43 -> -160000 | E43: =+E44 -> 0 | F43: =+F44 -> -160000 | G43: =+H43+I43 -> -160000 | H43: =+H44 -> 0 | I43: =+I44 -> -160000 | J43: =+K43+L43 -> -160000 | K43: =+K44 -> 0 | L43: =+L44 -> -160000 | M43: =+N43+O43 -> -160000 | N43: =+N44 -> 0 | O43: =+O44 -> -160000
C44: ՇԵՆՔԵՐ ԵՎ ՇԻՆՈՒԹՅՈՒՆՆԵՐ | D44: =E44+F44 -> -160000 | E44: =+E45 -> 0 | F44: =+F45 -> -160000 | G44: =H44+I44 -> -160000 | H44: =+H45 -> 0 | I44: =+I45 -> -160000 | J44: =K44+L44 -> -160000 | K44: =+K45 -> 0 | L44: =+L45 -> -160000 | M44: =N44+O44 -> -160000 | N44: =+N45 -> 0 | O44: =+O45 -> -160000
C45: - Շենքերի և շինությունների շինարարություն | D45: =E45+F45 -> -160000 | E45: 0 | F45: =-10000-150000 -> -160000 | G45: =H45+I45 -> -160000 | H45: =+E45 -> 0 | I45: =+F45 -> -160000 | J45: =K45+L45 -> -160000 | K45: =+H45 -> 0 | L45: =+I45 -> -160000 | M45: =N45+O45 -> -160000 | N45: =+K45 -> 0 | O45: =+L45 -> -160000
B46: 21011 | C46: Ասիական զարգացման բանկի աջակցությամբ իրականացվող Հյուսիս-հարավ միջանցքի զարգացման վարկային ծրագիր, Տրանշ 3 | D46: =+E46+F46 -> 670000 | E46: =+E48 -> 670000 | F46: =+F48 -> 0 | G46: =+H46+I46 -> 670000 | H46: =+H48 -> 670000 | I46: =+I48 -> 0 | J46: =+K46+L46 -> 0 | K46: =+K48 -> 0 | L46: =+L48 -> 0 | M46: =+N46+O46 -> 0 | N46: =+N48 -> 0 | O46: =+O48 -> 0
C47: այդ թվում` ըստ կատարողների
C48: ՀՀ տարածքային կառավարման և ենթակառուցվածքների նախարարություն | D48: =D50 -> 670000 | E48: =E50 -> 670000 | F48: =F50 -> 0 | G48: =G50 -> 670000 | H48: =H50 -> 670000 | I48: =I50 -> 0 | J48: =J50 -> 0 | K48: =K50 -> 0 | ... O48: =O50 -> 0
C49: այդ թվում` բյուջետային ծախսերի տնտեսագիտական դասակարգման հոդվածներ
C50: ԸՆԴԱՄԵՆԸ ԾԱԽՍԵՐ | D50: =+E50+F50 -> 670000 | E50: =+E51 -> 670000 | F50: =+F51 -> 0 | G50: =+H50+I50 -> 670000 | H50: =+H51 -> 670000 | I50: =+I51 -> 0 | J50: =+K50+L50 -> 0 | K50: =+K51 -> 0 | L50: =+L51 -> 0 | M50: =+N50+O50 -> 0 | N50: =+N51 -> 0 | O50: =+O51 -> 0
C51: ՈՉ ՖԻՆԱՆՍԱԿԱՆ ԱԿՏԻՎՆԵՐԻ ԳԾՈՎ ԾԱԽՍԵՐ | D51: =E51+F51 -> 670000 | E51: =+E52 -> 670000 | F51: =+F52 -> 0 | G51: =H51+I51 -> 670000 | H51: =+H52 -> 670000 | I51: =+I52 -> 0 | J51: =K51+L51 -> 0 | K51: =+K52 -> 0 | L51: =+L52 -> 0 | M51: =N51+O51 -> 0 | N51: =+N52 -> 0 | O51: =+O52 -> 0
C52: ՀԻՄՆԱԿԱՆ ՄԻՋՈՑՆԵՐ | D52: =+E52+F52 -> 670000 | E52: =+E53 -> 670000 | F52: =+F53 -> 0 | G52: =+H52+I52 -> 670000 | H52: =+H53 -> 670000 | I52: =+I53 -> 0 | J52: =+K52+L52 -> 0 | K52: =+K53 -> 0 | L52: =+L53 -> 0 | M52: =+N52+O52 -> 0 | N52: =+N53 -> 0 | O52: =+O53 -> 0
C53: ՇԵՆՔԵՐ ԵՎ ՇԻՆՈՒԹՅՈՒՆՆԵՐ | D53: =E53+F53 -> 670000 | E53: =+E54 -> 670000 | F53: =+F54 -> 0 | G53: =H53+I53 -> 670000 | H53: =+H54 -> 670000 | I53: =+I54 -> 0 | J53: =K53+L53 -> 0 | K53: =+K54 -> 0 | L53: =+L54 -> 0 | M53: =N53+O53 -> 0 | N53: =+N54 -> 0 | O53: =+O54 -> 0
C54: - Շենքերի և շինությունների շինարարություն | D54: =E54+F54 -> 670000 | E54: 670000 | F54: 0 | G54: =H54+I54 -> 670000 | H54: =+E54 -> 670000 | I54: 0 | J54: =K54+L54 -> 0 | K54: 0 | L54: 0 | M54: =N54+O54 -> 0 | N54: =+K54 -> 0 | O54: 0
B55: 21012 | C55: Եվրասիական զարգացման բանկի աջակցությամբ իրականացվող Հյուսիս-հարավ միջանցքի զարգացման ծրագիր | D55: =+E55+F55 -> -962000 | E55: =+E57 -> -790000 | F55: =+F57 -> -172000 | G55: =+H55+I55 -> -962000 | H55: =+H57 -> -790000 | I55: =+I57 -> -172000 | J55: =+K55+L55 -> -292000 | K55: =+K57 -> -120000 | L55: =+L57 -> -172000 | M55: =+N55+O55 -> -292000 | N55: =+N57 -> -120000 | O55: =+O57 -> -172000
C56: այդ թվում` ըստ կատարողների
C57: ՀՀ տարածքային կառավարման և ենթակառուցվածքների նախարարություն | D57: =D59 -> -962000 | E57: =E59 -> -790000 | F57: =F59 -> -172000 | G57: =G59 -> -962000 | H57: =H59 -> -790000 | I57: =I59 -> -172000 | J57: =J59 -> -292000 | K57: =K59 -> -120000 | ... O57: =O59 -> -172000
C58: այդ թվում` բյուջետային ծախսերի տնտեսագիտական դասակարգման հոդվածներ
C59: ԸՆԴԱՄԵՆԸ ԾԱԽՍԵՐ | D59: =+E59+F59 -> -962000 | E59: =+E60 -> -790000 | F59: =+F60 -> -172000 | G59: =+H59+I59 -> -962000 | H59: =+H60 -> -790000 | I59: =+I60 -> -172000 | J59: =+K59+L59 -> -292000 | K59: =+K60 -> -120000 | L59: =+L60 -> -172000 | M59: =+N59+O59 -> -292000 | N59: =+N60 -> -120000 | O59: =+O60 -> -172000
C60: ՈՉ ՖԻՆԱՆՍԱԿԱՆ ԱԿՏԻՎՆԵՐԻ ԳԾՈՎ ԾԱԽՍԵՐ | D60: =E60+F60 -> -962000 | E60: =+E61 -> -790000 | F60: =+F61 -> -172000 | G60: =H60+I60 -> -962000 | H60: =+H61 -> -790000 | I60: =+I61 -> -172000 | J60: =K60+L60 -> -292000 | K60: =+K61 -> -120000 | L60: =+L61 -> -172000 | M60: =N60+O60 -> -292000 | N60: =+N61 -> -120000 | O60: =+O61 -> -172000
C61: ՀԻՄՆԱԿԱՆ ՄԻՋՈՑՆԵՐ | D61: =+E61+F61 -> -962000 | E61: =+E62 -> -790000 | F61: =+F62 -> -172000 | G61: =+H61+I61 -> -962000 | H61: =+H62 -> -790000 | I61: =+I62 -> -172000 | J61: =+K61+L61 -> -292000 | K61: =+K62 -> -120000 | L61: =+L62 -> -172000 | M61: =+N61+O61 -> -292000 | N61: =+N62 -> -120000 | O61: =+O62 -> -172000
C62: ՇԵՆՔԵՐ ԵՎ ՇԻՆՈՒԹՅՈՒՆՆԵՐ | D62: =E62+F62 -> -962000 | E62: =+E63 -> -790000 | F62: =+F63 -> -172000 | G62: =H62+I62 -> -962000 | H62: =+H63 -> -790000 | I62: =+I63 -> -172000 | J62: =K62+L62 -> -292000 | K62: =+K63 -> -120000 | L62: =+L63 -> -172000 | M62: =N62+O62 -> -292000 | N62: =+N63 -> -120000 | O62: =+O63 -> -172000
C63: - Շենքերի և շինությունների շինարարություն | D63: =E63+F63 -> -962000 | E63: =-670000-120000 -> -790000 | F63: -172000 | G63: =H63+I63 -> -962000 | H63: =+E63 -> -790000 | I63: =+F63 -> -172000 | J63: =K63+L63 -> -292000 | K63: =+H63+670000 -> -120000 | L63: =+I63 -> -172000 | M63: =N63+O63 -> -292000 | N63: =+K63 -> -120000 | O63: =+L63 -> -172000

Sheet Հավելված 4
O1: Հավելված 4
O2: ՀՀ կառավարության 2024 թվականի
O3: " " " " N -Ն որոշման
A5: «ՀԱՅԱՍՏԱՆԻ ՀԱՆՐԱՊԵՏՈՒԹՅԱՆ 2024 ԹՎԱԿԱՆԻ ՊԵՏԱԿԱՆ ԲՅՈՒՋԵԻ ՄԱՍԻՆ» ՕՐԵՆՔԻ N 1 ՀԱՎԵԼՎԱԾԻ N 5 ԱՂՅՈՒՍԱԿՈՒՄ ԿԱՏԱՐՎՈՂ ՎԵՐԱԲԱՇԽՈՒՄԸ ԵՎ ՀԱՅԱՍՏԱՆԻ ՀԱՆՐԱՊԵՏՈՒԹՅԱՆ ԿԱՌԱՎԱՐՈՒԹՅԱՆ 2023 ԹՎԱԿԱՆԻ ԴԵԿՏԵՄԲԵՐԻ 28-Ի N 2323-Ն ՈՐՈՇՄԱՆ N5 ՀԱՎԵԼՎԱԾԻ N 4 ԱՂՅՈՒՍԱԿՈՒՄ ԿԱՏԱՐՎՈՂ ԼՐԱՑՈՒՄՆԵՐԸ ԵՎ ՓՈՓՈԽՈՒԹՅՈՒՆՆԵՐԸ
O7: (հազ. դրամ)
A8: Ծրագրային դասիչը | C8: Բյուջետային հատկացումների գլխավոր կարգադրիչների, ծրագրերի, միջոցառումների և միջոցառումները կատարող պետական մարմինների անվանումները | D8: Առաջին եռամսյակ | G8: Առաջին կիսամյակ | J8: Ինն ամիս | M8: Տարի
D9: Ընդամենը | E9: այդ թվում` | G9: Ընդամենը | H9: այդ թվում` | J9: Ընդամենը | K9: այդ թվում` | M9: Ընդամենը | N9: այդ թվում`
A10: Ծրագիր | B10: Միջոց առում | E10: Դրամաշնորհային միջոցներ | F10: Համաֆինան սավորում | H10: Դրամաշնորհային միջոցներ | I10: Համաֆինան սավորում | K10: Դրամաշնորհային միջոցներ | L10: Համաֆինան սավորում | N10: Դրամաշնորհային միջոցներ | O10: Համաֆինան սավորում
C11: ԸՆԴԱՄԵՆԸ | D11: =E11+F11 -> 22000 | E11: =+E14+E13 -> 0 | F11: =+F14+F13 -> 22000 | G11: =H11+I11 -> 22000 | H11: =+H14+H13 -> 0 | I11: =+I14+I13 -> 22000 | J11: =K11+L11 -> 22000 | K11: =+K14+K13 -> 0 | L11: =+L14+L13 -> 22000 | M11: =N11+O11 -> 22000 | N11: =+N14+N13 -> 0 | O11: =+O14+O13 -> 22000
C12: այդ թվում`
C13: ԸՆԹԱՑԻԿ ԾԱԽՍԵՐ | D13: =E13+F13 -> 0 | E13: 0 | F13: 0 | G13: =H13+I13 -> 0 | H13: 0 | I13: 0 | J13: =K13+L13 -> 0 | K13: 0 | L13: 0 | M13: =N13+O13 -> 0 | N13: 0 | O13: 0
C14: ՈՉ ՖԻՆԱՆՍԱԿԱՆ ԱԿՏԻՎՆԵՐԻ ԳԾՈՎ ԾԱԽՍԵՐ | D14: =E14+F14 -> 22000 | E14: =+E15 -> 0 | F14: =+F15 -> 22000 | G14: =H14+I14 -> 22000 | H14: =+H15 -> 0 | I14: =+I15 -> 22000 | J14: =K14+L14 -> 22000 | K14: =+K15 -> 0 | L14: =+L15 -> 22000 | M14: =N14+O14 -> 22000 | N14: =+N15 -> 0 | O14: =+O15 -> 22000
A15: 1049 | C15: Ճանապարհային ցանցի բարելավում | D15: =E15+F15 -> 22000 | E15: =+E17+E26 -> 0 | F15: =+F17+F26 -> 22000 | G15: =H15+I15 -> 22000 | H15: =+H17+H26 -> 0 | I15: =+I17+I26 -> 22000 | J15: =K15+L15 -> 22000 | K15: =+K17+K26 -> 0 | L15: =+L17+L26 -> 22000 | M15: =N15+O15 -> 22000 | N15: =+N17+N26 -> 0 | O15: =+O17+O26 -> 22000
C16: այդ թվում`
B17: 21014 | C17: Եվրոպական ներդրումային բանկի աջակցությամբ իրականացվող Մ6 Վանաձոր-Ալավերդի-Վրաստանի սահման միջպետական նշանակության ճանապարհի անվտանգության բարելավման դրամաշնորհային ծրագիր | D17: =E17+F17 -> 122000 | E17: =+E19 -> 100000 | F17: =+F19 -> 22000 | G17: =H17+I17 -> 122000 | H17: =+H19 -> 100000 | I17: =+I19 -> 22000 | J17: =K17+L17 -> 122000 | K17: =+K19 -> 100000 | L17: =+L19 -> 22000 | M17: =N17+O17 -> 122000 | N17: =+N19 -> 100000 | O17: =+O19 -> 22000
C18: այդ թվում` ըստ կատարողների
C19: ՀՀ տարածքային կառավարման և ենթակառուցվածքների նախարարություն | D19: =+E19+F19 -> 122000 | E19: =+E21 -> 100000 | F19: =+F21 -> 22000 | G19: =+H19+I19 -> 122000 | H19: =+H21 -> 100000 | I19: =+I21 -> 22000 | J19: =+K19+L19 -> 122000 | K19: =+K21 -> 100000 | L19: =+L21 -> 22000 | M19: =+N19+O19 -> 122000 | N19: =+N21 -> 100000 | O19: =+O21 -> 22000
C20: այդ թվում` բյուջետային ծախսերի տնտեսագիտական դասակարգման հոդվածներ
C21: ԸՆԴԱՄԵՆԸ ԾԱԽՍԵՐ | D21: =+E21+F21 -> 122000 | E21: =+E22 -> 100000 | F21: =+F22 -> 22000 | G21: =+H21+I21 -> 122000 | H21: =+H22 -> 100000 | I21: =+I22 -> 22000 | J21: =+K21+L21 -> 122000 | K21: =+K22 -> 100000 | L21: =+L22 -> 22000 | M21: =+N21+O21 -> 122000 | N21: =+N22 -> 100000 | O21: =+O22 -> 22000
C22: ՈՉ ՖԻՆԱՆՍԱԿԱՆ ԱԿՏԻՎՆԵՐԻ ԳԾՈՎ ԾԱԽՍԵՐ | D22: =+E22+F22 -> 122000 | E22: =+E23 -> 100000 | F22: =+F23 -> 22000 | G22: =+H22+I22 -> 122000 | H22: =+H23 -> 100000 | I22: =+I23 -> 22000 | J22: =+K22+L22 -> 122000 | K22: =+K23 -> 100000 | L22: =+L23 -> 22000 | M22: =+N22+O22 -> 122000 | N22: =+N23 -> 100000 | O22: =+O23 -> 22000
C23: ՀԻՄՆԱԿԱՆ ՄԻՋՈՑՆԵՐ | D23: =+E23+F23 -> 122000 | E23: =+E24 -> 100000 | F23: =+F24 -> 22000 | G23: =+H23+I23 -> 122000 | H23: =+H24 -> 100000 | I23: =+I24 -> 22000 | J23: =+K23+L23 -> 122000 | K23: =+K24 -> 100000 | L23: =+L24 -> 22000 | M23: =+N23+O23 -> 122000 | N23: =+N24 -> 100000 | O23: =+O24 -> 22000
C24: ՇԵՆՔԵՐ ԵՎ ՇԻՆՈՒԹՅՈՒՆՆԵՐ | D24: =+E24+F24 -> 122000 | E24: =+E25 -> 100000 | F24: =+F25 -> 22000 | G24: =+H24+I24 -> 122000 | H24: =+H25 -> 100000 | I24: =+I25 -> 22000 | J24: =+K24+L24 -> 122000 | K24: =+K25 -> 100000 | L24: =+L25 -> 22000 | M24: =+N24+O24 -> 122000 | N24: =+N25 -> 100000 | O24: =+O25 -> 22000
C25: - Շենքերի և շինությունների շինարարություն | D25: =+E25+F25 -> 122000 | E25: 100000 | F25: 22000 | G25: =+H25+I25 -> 122000 | H25: =+E25 -> 100000 | I25: =+F25 -> 22000 | J25: =+K25+L25 -> 122000 | K25: =+H25 -> 100000 | L25: =+I25 -> 22000 | M25: =+N25+O25 -> 122000 | N25: =+K25 -> 100000 | O25: =+L25 -> 22000
B26: 21007 | C26: Եվրոպական ներդրումային բանկի աջակցությամբ իրականացվող Հյուսիս-հարավ միջանցքի զարգացման դրամաշնորհային ծրագիր, Տրանշ 3 | D26: =E26+F26 -> -100000 | E26: =+E28 -> -100000 | F26: =+F28 -> 0 | G26: =H26+I26 -> -100000 | H26: =+H28 -> -100000 | I26: =+I28 -> 0 | J26: =K26+L26 -> -100000 | K26: =+K28 -> -100000 | L26: =+L28 -> 0 | M26: =N26+O26 -> -100000 | N26: =+N28 -> -100000 | O26: =+O28 -> 0
C27: այդ թվում` ըստ կատարողների
C28: ՀՀ տարածքային կառավարման և ենթակառուցվածքների նախարարություն | D28: =+E28+F28 -> -100000 | E28: =+E30 -> -100000 | F28: =+F30 -> 0 | G28: =+H28+I28 -> -100000 | H28: =+H30 -> -100000 | I28: =+I30 -> 0 | J28: =+K28+L28 -> -100000 | K28: =+K30 -> -100000 | L28: =+L30 -> 0 | M28: =+N28+O28 -> -100000 | N28: =+N30 -> -100000 | O28: =+O30 -> 0
C29: այդ թվում` բյուջետային ծախսերի տնտեսագիտական դասակարգման հոդվածներ
C30: ԸՆԴԱՄԵՆԸ ԾԱԽՍԵՐ | D30: =+E30+F30 -> -100000 | E30: =+E31 -> -100000 | F30: =+F31 -> 0 | G30: =+H30+I30 -> -100000 | H30: =+H31 -> -100000 | I30: =+I31 -> 0 | J30: =+K30+L30 -> -100000 | K30: =+K31 -> -100000 | L30: =+L31 -> 0 | M30: =+N30+O30 -> -100000 | N30: =+N31 -> -100000 | O30: =+O31 -> 0
C31: ՈՉ ՖԻՆԱՆՍԱԿԱՆ ԱԿՏԻՎՆԵՐԻ ԳԾՈՎ ԾԱԽՍԵՐ | D31: =+E31+F31 -> -100000 | E31: =+E32 -> -100000 | F31: =+F32 -> 0 | G31: =+H31+I31 -> -100000 | H31: =+H32 -> -100000 | I31: =+I32 -> 0 | J31: =+K31+L31 -> -100000 | K31: =+K32 -> -100000 | L31: =+L32 -> 0 | M31: =+N31+O31 -> -100000 | N31: =+N32 -> -100000 | O31: =+O32 -> 0
C32: ՀԻՄՆԱԿԱՆ ՄԻՋՈՑՆԵՐ | D32: =+E32+F32 -> -100000 | E32: =+E33 -> -100000 | F32: =+F33 -> 0 | G32: =+H32+I32 -> -100000 | H32: =+H33 -> -100000 | I32: =+I33 -> 0 | J32: =+K32+L32 -> -100000 | K32: =+K33 -> -100000 | L32: =+L33 -> 0 | M32: =+N32+O32 -> -100000 | N32: =+N33 -> -100000 | O32: =+O33 -> 0
C33: ՇԵՆՔԵՐ ԵՎ ՇԻՆՈՒԹՅՈՒՆՆԵՐ | D33: =+E33+F33 -> -100000 | E33: =+E34 -> -100000 | F33: =+F34 -> 0 | G33: =+H33+I33 -> -100000 | H33: =+H34 -> -100000 | I33: =+I34 -> 0 | J33: =+K33+L33 -> -100000 | K33: =+K34 -> -100000 | L33: =+L34 -> 0 | M33: =+N33+O33 -> -100000 | N33: =+N34 -> -100000 | O33: =+O34 -> 0
C34: - Շենքերի և շինությունների շինարարություն | D34: =+E34+F34 -> -100000 | E34: -100000 | G34: =+H34+I34 -> -100000 | H34: =+E34 -> -100000 | J34: =+K34+L34 -> -100000 | K34: =+H34 -> -100000 | L34: 0 | M34: =+N34+O34 -> -100000 | N34: =+K34 -> -100000 | O34: =+L34 -> 0

Sheet Հավելված 5
E1: Հավելված N 5
B2: ՀՀ կառավարության 2024 թվականի
B3: ______________ ի ___Ն որոշման
A7: ՀԱՅԱՍՏԱՆԻ ՀԱՆՐԱՊԵՏՈՒԹՅԱՆ ԿԱՌԱՎԱՐՈՒԹՅԱՆ 2023 ԹՎԱԿԱՆԻ ԴԵԿՏԵՄԲԵՐԻ 28-Ի N 2323-Ն ՈՐՈՇՄԱՆ N 9 ՀԱՎԵԼՎԱԾԻ NN 9.7 ԵՎ N 9.1 ՀԱՎԵԼՎԱԾԻ NN 9.1.7 ԱՂՅՈՒՍԱԿՆԵՐՈՒՄ ԿԱՏԱՐՎՈՂ ԼՐԱՑՈՒՄՆԵՐԸ ԵՎ ՓՈՓՈԽՈՒԹՅՈՒՆՆԵՐԸ
E8: Աղյուսակներ 9.7 և 9.1.7
A9: ՀՀ տարածքային կառավարման և ենթակառուցվածքների նախարարություն
A10: ՄԱՍ 2. ՊԵՏԱԿԱՆ ՄԱՐՄՆԻ ԳԾՈՎ ԱՐԴՅՈՒՆՔԱՅԻՆ (ԿԱՏԱՐՈՂԱԿԱՆ) ՑՈՒՑԱՆԻՇՆԵՐԸ
A12: Ծրագրի դասիչը | B12: Ծրագրի անվանումը
A13: 1049 | B13: Ճանապարհային ցանցի բարելավում
A15: Ծրագրի միջոցառումները
A18: Ծրագրի դասիչը` | B18: 1049 | C18: Ցուցանիշների փոփոխությունը (ավելացումները նշված են դրական նշանով)
A20: Միջոցառման դասիչը` | B20: 11012 | C20: Առաջին եռամսյակ | D20: Առաջին կիսամյակ | E20: Ինն ամիս | F20: Տարի
A21: Միջոցառման անվանումը` | B21: =+'Հավելված 3'!C19 -> Եվրասիական զարգացման բանկի աջակցությամբ իրականացվող Հյուսիս-հարավ միջանցքի զարգացման ծրագրի համակարգում և կառավարում
A22: Նկարագրությունը` | B22: Խորհրդատվական ծառայություններ և պահպանման ծախսեր
A23: Միջոցառման տեսակը` | B23: Ծառայությունների մատուցում
A24: Միջոցառումն իրականացնողի անվանումը | B24: Մասնագիտացված միավոր
A25: Արդյունքի չափորոշիչներ
A26: Հողերի օտարում, շահառուների քանակ | D26: 50 | F26: 50
A27: Միջոցառման շրջանակներումիրականացվող ծախսերի կատարման տոկոս (ծրագրի սկզբից ներառյալ հաշվետու տարին) | F27: 10
A28: Միջոցառման վրա կատարվող ծախսը (հազար դրամ) | C28: =+'Հավելված 2'!G22 -> 320000 | D28: =+'Հավելված 2'!H22 -> 320000 | E28: =+'Հավելված 2'!I22 -> 320000 | F28: =+'Հավելված 2'!J22 -> 320000
A30: Ծրագրի դասիչը` | B30: 1049 | C30: Ցուցանիշների փոփոխությունը (ավելացումները նշված են դրական նշանով)
A32: Միջոցառման դասիչը` | B32: 21004 | C32: Առաջին եռամսյակ | D32: Առաջին կիսամյակ | E32: Ինն ամիս | F32: Տարի
A33: Միջոցառման անվանումը` | B33: Ասիական զարգացման բանկի աջակցությամբ իրականացվող Մ6 Վանաձոր-Ալավերդի-Վրաստանի սահման միջպետական նշանակության ճանապարհի ծրագրի կառուցում և հիմնանորոգում
A34: Նկարագրությունը` | B34: Ճանապարհաշինական աշխատանքներ
A35: Միջոցառման տեսակը` | B35: Հանրության կողմից անմիջականորեն օգտագործվող ակտիվների հետ կապված միջոցառումներ
A36: Միջոցառումն իրականացնողի անվանումը | B36: Մասնագիտացված միավոր
A37: Արդյունքի չափորոշիչներ
A38: Միջոցառման վրա կատարվող ծախսը (հազար դրամ) | C38: =+'Հավելված 2'!G31 -> 110000 | D38: =+'Հավելված 2'!H31 -> 110000 | E38: =+'Հավելված 2'!I31 -> 110000 | F38: =+'Հավելված 2'!J31 -> 110000
A40: Ծրագրի դասիչը` | B40: 1049 | C40: Ցուցանիշների փոփոխությունը (նվազեցումները նշված են փակագծերում)
A42: Միջոցառման դասիչը` | B42: 21006 | C42: Առաջին եռամսյակ | D42: Առաջին կիսամյակ | E42: Ինն ամիս | F42: Տարի
A43: Միջոցառման անվանումը` | B43: Ասիական զարգացման բանկի աջակցությամբ իրականացվող Հյուսիս-հարավ միջանցքի զարգացման վարկային ծրագիր, Տրանշ 2
A44: Նկարագրությունը` | B44: Աշտարակ-Թալին 29+600կմ-71+500կմ հատվածի կառուցում
A45: Միջոցառման տեսակը` | B45: Հանրության կողմից անմիջականորեն օգտագործվող ակտիվների հետ կապված միջոցառումներ
A46: Միջոցառումն իրականացնողի անվանումը | B46: Մասնագիտացված միավոր
A47: Արդյունքի չափորոշիչներ
A48: Միջոցառման վրա կատարվող ծախսը (հազար դրամ) | C48: =+'Հավելված 2'!G40 -> -160000 | D48: =+'Հավելված 2'!H40 -> -160000 | E48: =+'Հավելված 2'!I40 -> -160000 | F48: =+'Հավելված 2'!J40 -> -160000
A50: Ծրագրի դասիչը` | B50: 1049 | C50: Ցուցանիշների փոփոխությունը (ավելացումները նշված են դրական նշանով)
A51: Միջոցառման դասիչը` | B51: 21011 | C51: Առաջին եռամսյակ | D51: Առաջին կիսամյակ | E51: Ինն ամիս | F51: Տարի
A52: Միջոցառման անվանումը` | B52: Ասիական զարգացման բանկի աջակցությամբ իրականացվող Հյուսիս-հարավ միջանցքի զարգացման վարկային ծրագիր, Տրանշ 3
A53: Նկարագրությունը` | B53: Հատված Թալին-Լանջիկ 71+500 կմ-90+200 կմ կառուցման շինարարական աշխատանքներ
A54: Միջոցառման տեսակը` | B54: Հանրության կողմից անմիջականորեն օգտագործվող ակտիվների հետ կապված միջոցառումներ
A55: Միջոցառումն իրականացնողի անվանումը՛ | B55: Մասնագիտացված միավոր
A56: Արդյունքի չափորոշիչներ
A57: Կապալի պայմանագրերի քանակը (հատ) | D57: 1 | F57: 1
A58: Միջոցառման վրա կատարվող ծախսը (հազար դրամ) | C58: =+'Հավելված 2'!G49 -> 670000 | D58: =+'Հավելված 2'!H49 -> 670000
A60: Ծրագրի դասիչը` | B60: 1049 | C60: Ցուցանիշների փոփոխությունը (նվազեցումները նշված են փակագծերում)
A61: Միջոցառման դասիչը` | B61: 21012 | C61: Առաջին եռամսյակ | D61: Առաջին կիսամյակ | E61: Ինն ամիս | F61: Տարի
A62: Միջոցառման անվանումը` | B62: Եվրասիական զարգացման բանկի աջակցությամբ իրականացվող Հյուսիս-հարավ միջանցքի զարգացման ծրագիր
A63: Նկարագրությունը` | B63: Ճանապարհաշինական աշխատանքներ
A64: Միջոցառման տեսակը` | B64: Հանրության կողմից անմիջականորեն օգտագործվող ակտիվների հետ կապված միջոցառումներ
A65: Միջոցառումն իրականացնողի անվանումը՛ | B65: Մասնագիտացված միավոր
A66: Արդյունքի չափորոշիչներ
A67: Միջոցառման վրա կատարվող ծախսը (հազար դրամ) | C67: =+'Հավելված 2'!G58 -> -962000 | D67: =+'Հավելված 2'!H58 -> -962000 | E67: =+'Հավելված 2'!I58 -> -292000 | F67: =+'Հավելված 2'!J58 -> -292000
A69: Ծրագրի դասիչը` | B69: 1049 | C69: Ցուցանիշների փոփոխությունը (նվազեցումները նշված են փակագծերում)
A70: Միջոցառման դասիչը` | B70: 21007 | C70: Առաջին եռամսյակ | D70: Առաջին կիսամյակ | E70: Ինն ամիս | F70: Տարի
A71: Միջոցառման անվանումը` | B71: Եվրոպական ներդրումային բանկի աջակցությամբ իրականացվող Հյուսիս-հարավ միջանցքի զարգացման դրամաշնորհային ծրագիր, Տրանշ 3
A72: Նկարագրությունը` | B72: Լանջիկ-Գյումրի 2.75 կմ երկարությամբ ճանապարհային հատվածի կառուցում
A73: Միջոցառման տեսակը` | B73: Հանրության կողմից անմիջականորեն օգտագործվող ակտիվների հետ կապված միջոցառումներ
A74: Միջոցառումն իրականացնողի անվանումը՛ | B74: Մասնագիտացված միավոր
A75: Արդյունքի չափորոշիչներ
A76: Միջոցառման վրա կատարվող ծախսը (հազար դրամ) | C76: =+'Հավելված 2'!G76 -> -100000 | D76: =+'Հավելված 2'!H76 -> -100000 | E76: =+'Հավելված 2'!I76 -> -100000 | F76: =+'Հավելված 2'!J76 -> -100000
A78: Ծրագրի դասիչը` | B78: 1049 | C78: Ցուցանիշների փոփոխությունը (ավելացումները նշված են դրական նշանով)
A79: Միջոցառման դասիչը` | B79: 21014 | C79: Առաջին եռամսյակ | D79: Առաջին կիսամյակ | E79: Ինն ամիս | F79: Տարի
A80: Միջոցառման անվանումը` | B80: Եվրոպական ներդրումային բանկի աջակցությամբ իրականացվող Մ6 Վանաձոր-Ալավերդի-Վրաստանի սահման միջպետական նշանակության ճանապարհի անվտանգության բարելավման դրամաշնորհային ծրագիր
A81: Նկարագրությունը` | B81: Ճանապարհաշինական աշխատանքներ
A82: Միջոցառման տեսակը` | B82: Հանրության կողմից անմիջականորեն օգտագործվող ակտիվների հետ կապված միջոցառումներ
A83: Միջոցառումն իրականացնողի անվանումը՛ | B83: Մասնագիտացված միավոր
A84: Արդյունքի չափորոշիչներ
A85: Ճանապարհների վրա վտանգավոր կետերի վերացում, պայմանագրերի քանակ (Հետ երաշխիքային գումարիների վճարում), հատ | D85: 5 | F85: 5
A86: Միջոցառման վրա կատարվող ծախսը (հազար դրամ) | C86: =+'Հավելված 2'!G67 -> 122000 | D86: =+'Հավելված 2'!H67 -> 122000 | E86: =+'Հավելված 2'!I67 -> 122000 | F86: =+'Հավելված 2'!J67 -> 122000

Sheet N 3.2
E1: Հավելված N 3
E2: Աղյուսակ N 2
A4: Հայաստանի Հանրապետության կառավարության 2017 թվականի դեկտեմբերի 28-ի N 1717-Ն որոշման
A5: N 11 հավելվածի N 12 աղյուսակում ՀՀ կառավարության աշխատակազմի
A6: մասով կատարվող փոփոխություններ և լրացումները
A8: ՀՀ ԿԱՌԱՎԱՐՈՒԹՅԱՆ 2017 ԹՎԱԿԱՆԻ ԴԵԿՏԵՄԲԵՐԻ 28-Ի N 1717-Ն ՈՐՈՇՄԱՆ N 11 ՀԱՎԵԼՎԱԾԻ N 12 ԱՂՅՈՒՍԱԿՈՒՄ՝ ՀՀ ԷՆԵՐԳԵՏԻԿ ԵՆԹԱԿԱՌՈՒՑՎԱԾՔՆԵՐԻ և ԲՆԱԿԱՆ ՊԱՇԱՐՆԵՐԻ ՆԱԽԱՐԱՐՈՒԹՅԱՆ ՋՐԱՅԻՆ ՏՆՏԵՍՈՒԹՅԱՆ ՊԵՏԱԿԱՆ ԿՈՄԻՏԵԻ ՄԱՍՈՎ ԿԱՏԱՐՎՈՂ ՓՈՓՈԽՈՒԹՅՈՒՆՆԵՐԸ
A9: Բաժին 2.
A10: Գերատեսչության կողմից իրականացվող քաղաքականության միջոցառումների ծրագրային խմբավորումը
A11: Ծրագրային դասիչը | C11: Գործառական դասիչը | D11: Ծրագիրը/քաղաքականության միջոցառումը | E11: ՀՀ 2018 թ. բյուջե
A12: ծրագիրը | B12: միջոցառումը | C12: (բաժինը/խումբը/դասը) | E12: (հազ. դրամ)
A13: 1027 | D13: ԾՐԱԳԻՐ
D14: Կոլեկտորադրենաժային ծառայություններ | E14: =+E21 -> 79071.3
D15: Ծրագրի նկարագրությունը
D16: Գրունտային ջրերի մոնիտերինգի հիման վրա կոլեկտորադրենաժային ցանցի միջոցով գրունտային ջրերի հեռացում
D17: Վերջնական արդյունքի նկարագրությունը
D18: Հավանական գերխոնավ տարածքներում մշակելի հողատարածքների ապահովում
C20: Քաղաքականության միջոցառումներ. Ծառայություններ
B21: ԱԾ09 | C21: 04.02.04 | D21: Ջրային տնտեսության այլ ենթակառուցվածքների համակարգում և ղեկավարում | E21: =+'N 2.2 '!K12 -> 79071.3
D22: Մատուցվող ծառայության նկարագրությունը
D23: Համաշխարհային բանկի աջակցությամբ իրականացվող Մաստարայի ջրամբարի նախապատրաստման դրամաշնորհային ծրագիր
D24: Ծառայություն մատուցողի անվանումը
D25: «Ջրային տնտեսության ծրագրերի իրականացման գրասենյակ» ՊՀ
A26: 1072 | D26: ԾՐԱԳԻՐ
D27: Աջակցություն խմելու ջրի մատակարարման և ջրահեռացման ծառայություններին | E27: =E33+E38+E43+E59+E66+E88+E73+E53+E48+E80 -> #REF!
D28: Ծրագրի նկարագրությունը
D29: Խմելու ջուր մատակարարող ընկերությունների սուբսիդավորում
D30: Վերջնական արդյունքի նկարագրությունը
D31: Ջրամատակարարման ծառայությունների հասանելիության և մատչելիության ապահովում
C32: Քաղաքականության միջոցառումներ. Ծառայություններ
B33: ԱԾ01 | C33: 06.03.01 | D33: Վերակառուցման և զարգացման Եվրոպական բանկի աջակցությամբ իրականացվող Երևանի ջրամատակարարման բարելավման ծրագիր | E33: =+#REF! -> #REF!
D34: Մատուցվող ծառայության նկարագրությունը
D35: Վերակառուցման և զարգացման Եվրոպական բանկի աջակցությամբ իրականացվող Երևանի ջրամատակարարման բարելավման ծրագրի համակարգում և ղեկավարում
D36: Ծառայություն մատուցողի անվանումը
D37: «Ջրային տնտեսության ծրագրերի իրականացման գրասենյակ» ՊՀ
B38: ԱԾ03 | C38: 06.03.01 | D38: Եվրոպական ներդրումային բանկի աջակցությամբ իրականացվող Երևանի ջրամատակարարման բարելավման ծրագիր | E38: =+#REF! -> #REF!
D39: Մատուցվող ծառայության նկարագրությունը
D40: Եվրոպական ներդրումային բանկի աջակցությամբ իրականացվող Երևանի ջրամատակարարման բարելավման ծրագրի համակարգում և ղեկավարում
D41: Ծառայություն մատուցողի անվանումը
D42: «Ջրային տնտեսության ծրագրերի իրականացման գրասենյակ» ՊՀ
B43: ԱԾ04 | C43: 06.03.01 | D43: Վերակառուցման և զարգացման Եվրոպական բանկի աջակցությամբ իրականացվող Երևանի ջրամատակարարման բարելավման դրամաշնորհային ծրագիր | E43: =+'N 2.2 '!K21 -> 48796.3
D44: Մատուցվող ծառայության նկարագրությունը
D45: Վերակառուցման և զարգացման Եվրոպական բանկի աջակցությամբ իրականացվող Երևանի ջրամատակարարման բարելավման ծրագրի աջակցություն
D46: Ծառայություն մատուցողի անվանումը
D47: «Ջրային տնտեսության ծրագրերի իրականացման գրասենյակ» ՊՀ
B48: ԱԾ05 | C48: 06.03.01 | D48: Եվրոպական միության հարևանության ներդրումային ծրագրի աջակցությամբ իրականացվող Երևանի ջրամատակարարման բարելավման դրամաշնորհային ծրագիր | E48: =+'N 2.2 '!K29 -> 80352.9
D49: Մատուցվող ծառայության նկարագրությունը
D50: Վերակառուցման և զարգացման Եվրոպական բանկի աջակցությամբ իրականացվող Երևանի ջրամատակարարման բարելավման ծրագրի աջակցություն
D51: Ծառայություն մատուցողի անվանումը
D52: «Ջրային տնտեսության ծրագրերի իրականացման գրասենյակ» ՊՀ
B53: ԱԾ03 | C53: 06.03.01 | D53: Գերմանիայի զարգացման վարկերի բանկի աջակցությամբ իրականացվող ուղեկցող միջոցառում Համայնքային ենթակառուցվածքների երկրորդ ծրագրի երրորդ փուլ դրամաշնորհային ծրագրի | E53: 318593.2
D54: Մատուցվող ծառայության նկարագրությունը
D55: Խորհրդատվական ծառայություններ
D56: Ծառայություն մատուցողի անվանումը
D57: ՀՀ ԷԵԲՊՆ ջրային տնտեսության պետական կոմիտե
C58: Այլ կազմակերպությանը տրամադրված ակտիվներ
B59: ԱՏ 03 | C59: 06.03.01. | D59: Ջրամատակարարման և ջրահեռացման ենթակառուցվածքների հիմնանորոգում (Վերակառուցման և զարգացման եվրոպական բանկի աջակցությամբ իրականացվող Երևանի ջրամատակարարման բարելավման ծրագրի շրջանակներում) | E59: =+#REF! -> #REF!
D60: Ակտիվի նկարագրությունը
D61: Երևանի ջրամատակարարման ցանցի բարելավման աշխատանքներ
D62: Ակտիվն օգտագործող կազմակերպության անվանումը
D63: «Վեոլիա-Ջուր» ՓԲԸ
D64: Ծրագիրը (ծրագրերը), որին (որոնց) առնչվում է ակտիվը
D65: /1072/ Խմելու ջրի մատակարարման և ջրահեռացման ծառայություններ
B66: ԱՏ 04 | C66: 06.03.01. | D66: Ջրամատակարարման և ջրահեռացման ենթակառուցվածքների հիմնանորոգում (Եվրոպական ներդրումային բանկի աջակցությամբ իրականացվող Երևանի ջրամատակարարման բարելավման ծրագրի շրջանակներում) | E66: =+#REF! -> #REF!
D67: Ակտիվի նկարագրությունը
D68: Երևանի ջրամատակարարման ցանցի բարելավման աշխատանքներ
D69: Ակտիվն օգտագործող կազմակերպության անվանումը
D70: «Վեոլիա-Ջուր» ՓԲԸ
D71: Ծրագիրը (ծրագրերը), որին (որոնց) առնչվում է ակտիվը
D72: /1072/ Խմելու ջրի մատակարարման և ջրահեռացման ծառայություններ
B73: ԱՏ 05 | C73: 06.03.01. | D73: Ջրամատակարարման և ջրահեռացման ենթակառուցվածքների հիմնանորոգում (Վերակառուցման և զարգացման եվրոպական բանկի աջակցությամբ իրականացվող Երևանի ջրամատակարարման բարելավման դրամաշնորհային ծրագրի շրջանակներում) | E73: =+'N 2.2 '!K24 -> -48796.3
D74: Ակտիվի նկարագրությունը
D75: Երևանի ջրամատակարարման ցանցի բարելավման աշխատանքներ
D76: Ակտիվն օգտագործող կազմակերպության անվանումը
D77: «Վեոլիա-Ջուր» ՓԲԸ
D78: Ծրագիրը (ծրագրերը), որին (որոնց) առնչվում է ակտիվը
D79: /1072/ Խմելու ջրի մատակարարման և ջրահեռացման ծառայություններ
B80: ԱՏ 06 | C80: 06.03.01. | D80: Ջրամատակարարման և ջրահեռացման ենթակառուցվածքների հիմնանորոգում (Եվրոպական միության հարևանության ներդրումային ծրագրի աջակցությամբ իրականացվող Երևանի ջրամատակարարման բարելավման դրամաշնորհային ծրագրի շրջանակներում) | E80: =+'N 2.2 '!K32 -> -80352.9
D81: Ակտիվի նկարագրությունը
D82: Երևանի ջրամատակարարման ցանցի բարելավման աշխատանքներ
D83: Ակտիվն օգտագործող կազմակերպության անվանումը
D84: «Վեոլիա-Ջուր» ՓԲԸ
D85: Ծրագիրը (ծրագրերը), որին (որոնց) առնչվում է ակտիվը
D86: /1072/ Խմելու ջրի մատակարարման և ջրահեռացման ծառայություններ
C87: Քաղաքականության միջոցառումներ. Տրանսֆերտներ
B88: ԾՏ 01 | C88: 06.03.01 | D88: Ջրամատակարար ընկերությունների կողմից չսպասարկվող համայնքներին տրանսֆերտների տրամադրում (Գերմանիայի զարգացման և Եվրոպական միության Հարևանության ներդրումային բանկի ջրամատակարարման և ջրահեռացման ենթակառուցվածքների դրամաշնորհային ծրագիր՝ երրորդ փուլի շրջանակներում) | E88: =+'N 2.2 '!K33 -> -79071.3
D89: Տրանսֆերտի նկարագրությունը
D90: 560 գյուղական բնակավայրերից ընտրված որոշ համայնքների ջրամատակարարման և ջրահեռացման համակարգերի հատվածների հրատապ վերականգման աշխատանքների իրականացում, ինչպես նաև՝ Արմավիրի կեղտաջրերի մաքրման կայանի կառուցում
E93: =+E88+E80+E73+E66+E59+E53+E48+E43+E38+E33+E21 -> #REF!
