Workbook
Name a: #REF!
Name a: #REF!
Name a: #REF!
Name a: #REF!
Name AgencyCode: #REF!
Name AgencyCode: #REF!
Name AgencyCode: #REF!
Name AgencyCode: #REF!
Name AgencyCode: #REF!
Name AgencyCode: #REF!
Name AgencyCode: #REF!
Name AgencyName: #REF!
Name AgencyName: #REF!
Name AgencyName: #REF!
Name AgencyName: #REF!
Name davit: #REF!
Name davit: #REF!
Name davit: #REF!
Name Functional1: #REF!
Name Functional1: #REF!
Name Functional1: #REF!
Name Functional1: #REF!
Name ggg: #REF!
Name ggg: #REF!
Name ggg: #REF!
Name PANature: #REF!
Name PANature: #REF!
Name PANature: #REF!
Name PANature: #REF!
Name PAType: #REF!
Name PAType: #REF!
Name PAType: #REF!
Name PAType: #REF!
Name Performance2: #REF!
Name Performance2: #REF!
Name Performance2: #REF!
Name Performance2: #REF!
Name PerformanceType: #REF!
Name PerformanceType: #REF!
Name PerformanceType: #REF!
Name PerformanceType: #REF!
Name Հավելված: #REF!
Name Հավելված: #REF!
Name Հավելված: #REF!
Name Հավելված10: #REF!
Name Հավելված10: #REF!
Name Հավելված10: #REF!
Name Հավելված11: #REF!
Name Հավելված11: #REF!
Name Հավելված11: #REF!
Name Հավելված20: #REF!
Name Հավելված20: #REF!
Name Հավելված20: #REF!
Name Հավելված9: #REF!
Name Հավելված9: #REF!
Name Հավելված9: #REF!
Name Մաս: #REF!
Name Մաս: #REF!
Name Մաս: #REF!
Name շախմատիստ: #REF!

Sheet Հավելված N 1 
E1: Հավելված N 1
E2: ՀՀ կառավարության 2024 թվականի
E3: ______________ ի ___Ն որոշման
A5: «ՀԱՅԱՍՏԱՆԻ ՀԱՆՐԱՊԵՏՈՒԹՅԱՆ 2024 ԹՎԱԿԱՆԻ ՊԵՏԱԿԱՆ ԲՅՈՒՋԵԻ ՄԱՍԻՆ» ՕՐԵՆՔԻ 3-ՐԴ ՀՈԴՎԱԾԻ, N 3 ՀԱՎԵԼՎԱԾԻ N 1 ԱՂՅՈՒՍԱԿՈՒՄ ԵՎ ՀԱՅԱՍՏԱՆԻ ՀԱՆՐԱՊԵՏՈՒԹՅԱՆ ԿԱՌԱՎԱՐՈՒԹՅԱՆ 2023 ԹՎԱԿԱՆԻ ԴԵԿՏԵՄԲԵՐԻ 28-Ի N 2323-Ն ՈՐՈՇՄԱՆ N 1 ՀԱՎԵԼՎԱԾԻ N 1 ԱՂՅՈՒՍԱԿՈՒՄ ԿԱՏԱՐՎՈՂ ՓՈՓՈԽՈՒԹՅՈՒՆՆԵՐԸ
E7: հազ. դրամ
A8: Պետական բյուջեի դեֆիցիտի ֆինանսավորման աղբյուրներն ու դրանց տարրերի անվանումները | B8: Ցուցանիշների փոփոխությունը (ավելացումները նշված են դրական նշանով)
B9: Առաջին եռամսյակ | C9: Առաջին կիսամյակ | D9: Ինն ամիս | E9: Տարի
A10: ԸՆԴԱՄԵՆԸ | B10: =+B12 -> 401369.8 | C10: =+C12 -> 521927.8 | D10: =+D12 -> 0 | E10: =+E12 -> 0
A11: այդ թվում՝
A12: Ա.Ներքին աղբյուրներ-ընդամենը | B12: =+B14 -> 401369.8 | C12: =+C14 -> 521927.8 | D12: =+D14 -> 0 | E12: =+E14 -> 0
A13: այդ թվում՝
A14: 2. Ֆինանսական զուտ ակտիվներ | B14: =+B16 -> 401369.8 | C14: =+C16 -> 521927.8 | D14: =+D16 -> 0 | E14: =+E16 -> 0
A15: այդ թվում՝
A16: 2.6.Այլ | B16: =+B18 -> 401369.8 | C16: =+C18 -> 521927.8 | D16: =+D18 -> 0 | E16: =+E18 -> 0
A17: որից՝
A18: Ժամանակավորապես ազատ միջոցներ | B18: =+'Հավելված N 2'!D12 -> 401369.8 | C18: =+'Հավելված N 2'!E12 -> 521927.8 | D18: =+'Հավելված N 2'!F12 -> 0 | E18: =+'Հավելված N 2'!G12 -> 0

Sheet Հավելված N 2
C1: Հավելված N 2
C2: ՀՀ կառավարության 2024 թվականի
C3: ______________ ի ___Ն որոշման
A6: «ՀԱՅԱUՏԱՆԻ ՀԱՆՐԱՊԵՏՈՒԹՅԱՆ 2024 ԹՎԱԿԱՆԻ ՊԵՏԱԿԱՆ ԲՅՈՒՋԵԻ ՄԱUԻՆ» ՀԱՅԱUՏԱՆԻ ՀԱՆՐԱՊԵՏՈՒԹՅԱՆ OՐԵՆՔԻ N 1 ՀԱՎԵԼՎԱԾԻ N 2 ԱՂՅՈՒՍԱԿՈՒՄ ԿԱՏԱՐՎՈՂ ՎԵՐԱԲԱՇԽՈՒՄԸ ԵՎ ՀԱՅԱՍՏԱՆԻ ՀԱՆՐԱՊԵՏՈՒԹՅԱՆ ԿԱՌԱՎԱՐՈՒԹՅԱՆ 2023 ԹՎԱԿԱՆԻ ԴԵԿՏԵՄԲԵՐԻ 28-Ի N 2323-Ն ՈՐՈՇՄԱՆ N 5 ՀԱՎԵԼՎԱԾԻ N 1 ԱՂՅՈՒՍԱԿՈՒՄ ԿԱՏԱՐՎՈՂ ՓՈՓՈԽՈՒԹՅՈՒՆՆԵՐԸ ԵՎ ԼՐԱՑՈՒՄՆԵՐԸ
G9: հազ. դրամներով
A10: Ծրագրային դասիչը | C10: Բյուջետային հատկացումների գլխավոր կարգադրիչների, ծրագրերի և միջոցառումների անվանումները | D10: Ցուցանիշների փոփոխությունը (ավելացումները նշված են դրական նշանով, իսկ նվազեցումները փակագծերում)
A11: Ծրագիր | B11: Միջոցառում | D11: Առաջին եռամսյակ | E11: Առաջին կիսամյակ | F11: Ինն ամիս | G11: Տարի
A12: 1192 | C12: ԸՆԴԱՄԵՆԸ | D12: =+D14 -> 401369.8 | E12: =+E14 -> 521927.8 | F12: =+F14 -> 0 | G12: =+G14 -> 0
C13: այդ թվում
C14: ՀՀ ԿՐԹՈՒԹՅԱՆ, ԳԻՏՈՒԹՅԱՆ, ՄՇԱԿՈՒՅԹԻ ԵՎ ՍՊՈՐՏԻ ՆԱԽԱՐԱՐՈՒԹՅՈՒՆ | D14: =+D16+D29+D48 -> 401369.8 | E14: =+E16+E29+E48 -> 521927.8 | F14: =+F16+F29+F48 -> 0 | G14: =+G16+G29+G48 -> 0
A15: 1163 | C15: Ծրագրի անվանումը`
C16: Մասսայական սպորտ | D16: =+D23 -> 51974 | E16: =+E23 -> 51974 | F16: =+F23 -> 51974 | G16: =+G23 -> 51974
C17: Ծրագրի նպատակը`
C18: Բնակչության շրջանում առողջ ապրելակերպի արմատավորում, անհատի բազմակողմանի ու ներդաշնակ զարգացման գործում ֆիզիկական կուլտուրայի և սպորտի դերի բարձրացում
C19: Վերջնական արդյունքի նկարագրությունը`
C20: Սպորտի նկատմամբ հետաքրքրվածության և մասնակցության ընդլայնում
C21: Ծրագրի միջոցառումներ
B22: 32001 | C22: Միջոցառման անվանումը`
C23: Մարզական օբյեկտների շինարարություն | D23: =+'Հավելված N 3'!G87 -> 51974 | E23: =+'Հավելված N 3'!H87 -> 51974 | F23: =+'Հավելված N 3'!I87 -> 51974 | G23: =+'Հավելված N 3'!J87 -> 51974
C24: Միջոցառման նկարագրությունը`
C25: Մարզական օբյեկտների շենքերի (մասնաշենքերի) կառուցում (համաշինարարական աշխատանքներ, ջեռուցման համակարգի իրականացում, ներքին հարդարում, տարածքի բարեկարգում) և նախագծում
C26: Միջոցառման տեսակը
C27: Այլ պետական կազմակերպությունների կողմից օգտագործվող ոչ ֆինանսական ակտիվների հետ գործառնություններ
A28: 1183 | C28: Ծրագրի անվանումը`
C29: Ապահով դպրոց | D29: =+D36+D42 -> 580136 | E29: =+E36+E42 -> 621661.4 | F29: =+F36+F42 -> 655626.1 | G29: =+G36+G42 -> 655626.1
C30: Ծրագրի նպատակը`
C31: Դպրոցներին սպառնացող աղետների ռիսկի կառավարման կարողությունների հզորացում, դպրոցի անձնակազմի և աշակերտների անվտանգության ապահովման մակարդակի բարձրացում՛ կիրառելով ներառական և երեխայակենտրոն մոտեցում
C32: Վերջնական արդյունքի նկարագրությունը`
C33: Դպրոցական միջավայրի բարելավում
C34: Ծրագրի միջոցառումներ
B35: 32007 | C35: Միջոցառման անվանումը`
C36: Հանրակրթական կրթություն իրականացնող ուսումնական հաստատությունների նոր մարզադահլիճների կառուցում | D36: =+'Հավելված N 3'!G98 -> 418279.2 | E36: =+'Հավելված N 3'!H98 -> 418279.2 | F36: =+'Հավելված N 3'!I98 -> 418279.2 | G36: =+'Հավելված N 3'!J98 -> 418279.2
C37: Միջոցառման նկարագրությունը`
C38: Հանրակրթական ուսուցում իրականացնող ուսումնական հաստատությունների նոր մարզադահլիճների կառուցման նախագծանախահաշվային փաստաթղթերի մշակում
C39: Միջոցառման տեսակը
C40: Այլ պետական կազմակերպությունների կողմից օգտագործվող ոչ ֆինանսական ակտիվների հետ գործառնություններ
B41: 32009 | C41: Միջոցառման անվանումը`
C42: Հանրակրթական կրթություն իրականացնող ուսումնական հաստատությունների մարզադահլիճների վերակառուցում | D42: =+'Հավելված N 3'!G107 -> 161856.8 | E42: =+'Հավելված N 3'!H107 -> 203382.2 | F42: =+'Հավելված N 3'!I107 -> 237346.9 | G42: =+'Հավելված N 3'!J107 -> 237346.9
C43: Միջոցառման նկարագրությունը`
C44: Հանրակրթական ուսուցում իրականացնող ուսումնական հաստատությունների մարզադահլիճների վերակառուցման նախագծանախահաշվային փաստաթղթերի մշակում
C45: Միջոցառման տեսակը
C46: Այլ պետական կազմակերպությունների կողմից օգտագործվող ոչ ֆինանսական ակտիվների հետ գործառնություններ
A47: 1236 | C47: Ծրագրի անվանումը`
C48: Հանրակրթական և նախադպրոցական հաստատությունների հիմնում, կառուցում, բարելավում | D48: =+D55+D61+D67+D73 -> -230740.2 | E48: =+E55+E61+E67+E73 -> -151707.6 | F48: =+F55+F61+F67+F73 -> -707600.1 | G48: =+G55+G61+G67+G73 -> -707600.1
C49: Ծրագրի նպատակը`
C50: Առնվազն 300 դպրոցի և 500 մանկապարտեզի կառուցման, վերակառուցման, հիմնանորոգման ծրագրերի իրականացում ՀՀ պետական բյուջեի միջոցների շրջանակներում
C51: Վերջնական արդյունքի նկարագրությունը`
C52: Կրթական միջավայրի բարելավում
C53: Ծրագրի միջոցառումներ
B54: 32001 | C54: Միջոցառման անվանումը`
C55: Մանկապարտեզների նոր շենքերի կառուցում | D55: =+'Հավելված N 3'!G26 -> 74395 | E55: =+'Հավելված N 3'!H26 -> 153427.6 | F55: =+'Հավելված N 3'!I26 -> 232460.1 | G55: =+'Հավելված N 3'!J26 -> 232460.1
C56: Միջոցառման նկարագրությունը`
C57: Նախադպրոցական կրթության հասանելիության ապահովման նպատակով՛ մանկապարտեզների հիմնում, նոր շենքերի (մասնաշենքերի), ներառյալ՛ ,Մոդուլայինե տիպի շենքերի կառուցում և նախագծում
C58: Միջոցառման տեսակը
C59: Այլ պետական կազմակերպությունների կողմից օգտագործվող ոչ ֆինանսական ակտիվների հետ գործառնություններ
B60: 32002 | C60: Միջոցառման անվանումը`
C61: Մանկապարտեզների շենքերի վերակառուցում, հիմնանորոգում | D61: =+'Հավելված N 3'!G35 -> 0 | E61: =+'Հավելված N 3'!H35 -> 0 | F61: =+'Հավելված N 3'!I35 -> -279349.7 | G61: =+'Հավելված N 3'!J35 -> -231068.5
C62: Միջոցառման նկարագրությունը`
C63: Նախադպրոցական կրթության հասանելիության ապահովման նպատակով՛ մանկապարտեզների շենքերի (մասնաշենքերի), վերակառուցում, հիմնանորոգում և նախագծում
C64: Միջոցառման տեսակը
C65: Այլ պետական կազմակերպությունների կողմից օգտագործվող ոչ ֆինանսական ակտիվների հետ գործառնություններ
B66: 32003 | C66: Միջոցառման անվանումը`
C67: Հանրակրթական դպրոցների նոր շենքերի կառուցում | D67: =+'Հավելված N 3'!G52 -> -325135.2 | E67: =+'Հավելված N 3'!H52 -> -325135.2 | F67: =+'Հավելված N 3'!I52 -> -680710.5 | G67: =+'Հավելված N 3'!J52 -> -728991.7
C68: Միջոցառման նկարագրությունը`
C69: ՀՀ մարզերում կրթական որակյալ ծառայությունների հասանելիության ապահովման ծրագրի շրջանակներում հանրակրթական և նախադպրոցական կրթության հասանելիության ապահովման նպատակով կրթական կենտրոնների կառուցում
C70: Միջոցառման տեսակը
C71: Այլ պետական կազմակերպությունների կողմից օգտագործվող ոչ ֆինանսական ակտիվների հետ գործառնություններ
B72: 32005 | C72: Միջոցառման անվանումը`
C73: Կրթահամալիրների կառուցում | D73: =+'Հավելված N 3'!G70 -> 20000 | E73: =+'Հավելված N 3'!H70 -> 20000 | F73: =+'Հավելված N 3'!I70 -> 20000 | G73: =+'Հավելված N 3'!J70 -> 20000
C74: Միջոցառման նկարագրությունը`
C75: ՀՀ մարզերում կրթական որակյալ ծառայությունների հասանելիության ապահովման ծրագրի շրջանակներում հանրակրթական և նախադպրոցական կրթության հասանելիության ապահովման նպատակով կրթական կենտրոնների կառուցում
C76: Միջոցառման տեսակը
C77: Այլ պետական կազմակերպությունների կողմից օգտագործվող ոչ ֆինանսական ակտիվների հետ գործառնություններ

Sheet Հավելված N 3
F1: Հավելված N 3
F2: ՀՀ կառավարության 2024 թվականի
F3: ______________ ի ___Ն որոշման
A7: ՀԱՅԱՍՏԱՆԻ ՀԱՆՐԱՊԵՏՈՒԹՅԱՆ ԿԱՌԱՎԱՐՈՒԹՅԱՆ 2023 ԹՎԱԿԱՆԻ ԴԵԿՏԵՄԲԵՐԻ 28-Ի N 2323-Ն ՈՐՈՇՄԱՆ N 3 ԵՎ N 4 ՀԱՎԵԼՎԱԾՆԵՐՈՒՄ ԿԱՏԱՐՎՈՂ ՓՈՓՈԽՈՒԹՅՈՒՆՆԵՐԸ ԵՎ ԼՐԱՑՈՒՄՆԵՐԸ
J10: հազ. դրամներով
A11: Գործառական դասիչը | D11: Ծրագրային դասիչը | F11: Բյուջետային հատկացումների գլխավոր կարգադրիչների, ծրագրերի, միջոցառումների և միջոցառումները կատարող պետական մարմինների անվանումները | G11: Ցուցանիշների փոփոխությունը (ավելացումները նշված են դրական նշանով, իսկ նվազեցումները փակագծերում)
A12: Բաժին | B12: Խումբ | C12: Դաս | D12: Ծրագիր | E12: Միջոցառում | G12: Առաջին եռամսյակ | H12: Առաջին կիսամյակ | I12: Ինն ամիս | J12: Տարի
F13: ԸՆԴԱՄԵՆԸ | G13: =+G15 -> 401369.8 | H13: =+H15 -> 521927.8 | I13: =+I15 -> 0 | J13: =+J15 -> 0
F14: այդ թվում՝
F15: ՀՀ ԿՐԹՈՒԹՅԱՆ, ԳԻՏՈՒԹՅԱՆ, ՄՇԱԿՈՒՅԹԻ ԵՎ ՍՊՈՐՏԻ ՆԱԽԱՐԱՐՈՒԹՅՈՒՆ | G15: =+G16 -> 401369.8 | H15: =+H16 -> 521927.8 | I15: =+I16 -> 0 | J15: =+J16 -> 0
A16: 09 | F16: ԿՐԹՈՒԹՅՈՒՆ | G16: =+G18+G44+G79 -> 401369.8 | H16: =+H18+H44+H79 -> 521927.8 | I16: =+I18+I44+I79 -> 0 | J16: =+J18+J44+J79 -> 0
F17: այդ թվում`
B18: 01 | F18: Նախադպրոցական և տարրական ընդհանուր կրթություն | G18: =+G20 -> 74395 | H18: =+H20 -> 153427.6 | I18: =+I20 -> -46889.6 | J18: =+J20 -> 1391.6
F19: այդ թվում`
C20: 01 | F20: Նախադպրոցական կրթություն | G20: =+G22 -> 74395 | H20: =+H22 -> 153427.6 | I20: =+I22 -> -46889.6 | J20: =+J22 -> 1391.6
F21: այդ թվում`
F22: ՀՀ կրթության, գիտության, մշակույթի և սպորտի նախարարություն | G22: =+G24 -> 74395 | H22: =+H24 -> 153427.6 | I22: =+I24 -> -46889.6 | J22: =+J24 -> 1391.6
F23: այդ թվում`
D24: 1236 | E24: Հանրակրթական և նախադպրոցական հաստատությունների հիմնում, կառուցում, բարելավում | G24: =+G26+G35 -> 74395 | H24: =+H26+H35 -> 153427.6 | I24: =+I26+I35 -> -46889.6 | J24: =+J26+J35 -> 1391.6
F25: այդ թվում`
E26: 32001 | F26: Մանկապարտեզների նոր շենքերի կառուցում | G26: =+G28 -> 74395 | H26: =+H28 -> 153427.6 | I26: =+I28 -> 232460.1 | J26: =+J28 -> 232460.1
F27: այդ թվում` ըստ կատարողների
F28: ՀՀ քաղաքաշինության կոմիտե | G28: =+G30 -> 74395 | H28: =+H30 -> 153427.6 | I28: =+I30 -> 232460.1 | J28: =+J30 -> 232460.1
F29: այդ թվում՝ բյուջետային ծախսերի տնտեսագիտական դասակարգման հոդվածներ
F30: ԸՆԴԱՄԵՆԸ ԾԱԽՍԵՐ | G30: =G31 -> 74395 | H30: =H31 -> 153427.6 | I30: =I31 -> 232460.1 | J30: =J31 -> 232460.1
F31: ՈՉ ՖԻՆԱՆՍԱԿԱՆ ԱԿՏԻՎՆԵՐԻ ԳԾՈՎ ԾԱԽՍԵՐ | G31: =+G32 -> 74395 | H31: =+H32 -> 153427.6 | I31: =+I32 -> 232460.1 | J31: =+J32 -> 232460.1
F32: ՀԻՄՆԱԿԱՆ ՄԻՋՈՑՆԵՐ | G32: =+G33 -> 74395 | H32: =+H33 -> 153427.6 | I32: =+I33 -> 232460.1 | J32: =+J33 -> 232460.1
F33: ՇԵՆՔԵՐ ԵՎ ՇԻՆՈՒԹՅՈՒՆՆԵՐ | G33: =+G34 -> 74395 | H33: =+H34 -> 153427.6 | I33: =+I34 -> 232460.1 | J33: =+J34 -> 232460.1
F34: - Շենքերի և շինությունների շինարարություն | G34: =+'Հավելված N 5'!E64 -> 74395 | H34: =+'Հավելված N 5'!F64 -> 153427.6 | I34: =+'Հավելված N 5'!G64 -> 232460.1 | J34: =+'Հավելված N 5'!H64 -> 232460.1
E35: 32002 | F35: Մանկապարտեզների շենքերի վերակառուցում, հիմնանորոգում | G35: =+G37 -> 0 | H35: =+H37 -> 0 | I35: =+I37 -> -279349.7 | J35: =+J37 -> -231068.5
F36: այդ թվում` ըստ կատարողների
F37: ՀՀ կառավարություն | G37: =+G39 -> 0 | H37: =+H39 -> 0 | I37: =+I39 -> -279349.7 | J37: =+J39 -> -231068.5
F38: այդ թվում՝ բյուջետային ծախսերի տնտեսագիտական դասակարգման հոդվածներ
F39: ԸՆԴԱՄԵՆԸ ԾԱԽՍԵՐ | G39: =G40 -> 0 | H39: =H40 -> 0 | I39: =I40 -> -279349.7 | J39: =J40 -> -231068.5
F40: ՈՉ ՖԻՆԱՆՍԱԿԱՆ ԱԿՏԻՎՆԵՐԻ ԳԾՈՎ ԾԱԽՍԵՐ | G40: =+G41 -> 0 | H40: =+H41 -> 0 | I40: =+I41 -> -279349.7 | J40: =+J41 -> -231068.5
F41: ՀԻՄՆԱԿԱՆ ՄԻՋՈՑՆԵՐ | G41: =+G42 -> 0 | H41: =+H42 -> 0 | I41: =+I42 -> -279349.7 | J41: =+J42 -> -231068.5
F42: ՇԵՆՔԵՐ ԵՎ ՇԻՆՈՒԹՅՈՒՆՆԵՐ | G42: =+G43 -> 0 | H42: =+H43 -> 0 | I42: =+I43 -> -279349.7 | J42: =+J43 -> -231068.5
F43: - Շենքերի և շինությունների կապիտալ վերանորոգում | G43: =+'Հավելված N 5'!E72 -> 0 | H43: =+'Հավելված N 5'!F72 -> 0 | I43: =+'Հավելված N 5'!G72 -> -279349.7 | J43: =+'Հավելված N 5'!H72 -> -231068.5
B44: 02 | F44: Միջնակարգ ընդհանուր կրթություն | G44: =+G46 -> -305135.2 | H44: =+H46 -> -305135.2 | I44: =+I46 -> -660710.5 | J44: =+J46 -> -708991.7
F45: այդ թվում`
F46: Հիմնական ընդհանուր կրթություն | G46: =+G48 -> -305135.2 | H46: =+H48 -> -305135.2 | I46: =+I48 -> -660710.5 | J46: =+J48 -> -708991.7
C47: 01 | F47: այդ թվում`
F48: ՀՀ կրթության, գիտության, մշակույթի և սպորտի նախարարություն | G48: =+G50 -> -305135.2 | H48: =+H50 -> -305135.2 | I48: =+I50 -> -660710.5 | J48: =+J50 -> -708991.7
F49: այդ թվում`
D50: 1236 | E50: Հանրակրթական և նախադպրոցական հաստատությունների հիմնում, կառուցում, բարելավում | G50: =+G52+G70 -> -305135.2 | H50: =+H52+H70 -> -305135.2 | I50: =+I52+I70 -> -660710.5 | J50: =+J52+J70 -> -708991.7
F51: այդ թվում`
E52: 32003 | F52: Հանրակրթական դպրոցների նոր շենքերի կառուցում | G52: =+G54+G63 -> -325135.2 | H52: =+H54+H63 -> -325135.2 | I52: =+I54+I63 -> -680710.5 | J52: =+J54+J63 -> -728991.7
F53: այդ թվում` ըստ կատարողների
F54: ՀՀ քաղաքաշինության կոմիտե | G54: =+G56 -> 407864.8 | H54: =+H56 -> 407864.8 | I54: =+I56 -> 407864.8 | J54: =+J56 -> 407864.8
F55: այդ թվում՝ բյուջետային ծախսերի տնտեսագիտական դասակարգման հոդվածներ
F56: ԸՆԴԱՄԵՆԸ ԾԱԽՍԵՐ | G56: =G57 -> 407864.8 | H56: =H57 -> 407864.8 | I56: =I57 -> 407864.8 | J56: =J57 -> 407864.8
F57: ՈՉ ՖԻՆԱՆՍԱԿԱՆ ԱԿՏԻՎՆԵՐԻ ԳԾՈՎ ԾԱԽՍԵՐ | G57: =+G58 -> 407864.8 | H57: =+H58 -> 407864.8 | I57: =+I58 -> 407864.8 | J57: =+J58 -> 407864.8
F58: ՀԻՄՆԱԿԱՆ ՄԻՋՈՑՆԵՐ | G58: =+G59+G61 -> 407864.8 | H58: =+H59+H61 -> 407864.8 | I58: =+I59+I61 -> 407864.8 | J58: =+J59+J61 -> 407864.8
F59: ՇԵՆՔԵՐ ԵՎ ՇԻՆՈՒԹՅՈՒՆՆԵՐ | G59: =+G60 -> 377164.8 | H59: =+H60 -> 377164.8 | I59: =+I60 -> 377164.8 | J59: =+J60 -> 571364.8
F60: - Շենքերի և շինությունների շինարարություն | G60: =+'Հավելված N 5'!E75-'Հավելված N 5'!E79-'Հավելված N 5'!E80-'Հավելված N 5'!E93 -> 377164.8 | H60: =+'Հավելված N 5'!F75-'Հավելված N 5'!F79-'Հավելված N 5'!F80-'Հավելված N 5'!F93 -> 377164.8 | I60: =+'Հավելված N 5'!G75-'Հավելված N 5'!G79-'Հավելված N 5'!G80-'Հավելված N 5'!G93 -> 377164.8 | J60: =+'Հավելված N 5'!H75-'Հավելված N 5'!H79-'Հավելված N 5'!H80-'Հավելված N 5'!H93+194200 -> 571364.8
F61: ԱՅԼ ՀԻՄՆԱԿԱՆ ՄԻՋՈՑՆԵՐ | G61: =+G62 -> 30700 | H61: =+H62 -> 30700 | I61: =+I62 -> 30700 | J61: =+J62 -> -163500
F62: - Նախագծահետազոտական ծախսեր | G62: =+'Հավելված N 5'!E79+'Հավելված N 5'!E80+'Հավելված N 5'!E93 -> 30700 | H62: =+'Հավելված N 5'!F79+'Հավելված N 5'!F80+'Հավելված N 5'!F93 -> 30700 | I62: =+'Հավելված N 5'!G79+'Հավելված N 5'!G80+'Հավելված N 5'!G93 -> 30700 | J62: =+'Հավելված N 5'!H79+'Հավելված N 5'!H80+'Հավելված N 5'!H93-194200 -> -163500
F63: ՀՀ կառավարություն | G63: =+G65 -> -733000 | H63: =+H65 -> -733000 | I63: =+I65 -> -1088575.3 | J63: =+J65 -> -1136856.5
F64: այդ թվում՝ բյուջետային ծախսերի տնտեսագիտական դասակարգման հոդվածներ
F65: ԸՆԴԱՄԵՆԸ ԾԱԽՍԵՐ | G65: =G66 -> -733000 | H65: =H66 -> -733000 | I65: =I66 -> -1088575.3 | J65: =J66 -> -1136856.5
F66: ՈՉ ՖԻՆԱՆՍԱԿԱՆ ԱԿՏԻՎՆԵՐԻ ԳԾՈՎ ԾԱԽՍԵՐ | G66: =+G67 -> -733000 | H66: =+H67 -> -733000 | I66: =+I67 -> -1088575.3 | J66: =+J67 -> -1136856.5
F67: ՀԻՄՆԱԿԱՆ ՄԻՋՈՑՆԵՐ | G67: =+G68 -> -733000 | H67: =+H68 -> -733000 | I67: =+I68 -> -1088575.3 | J67: =+J68 -> -1136856.5
F68: ՇԵՆՔԵՐ ԵՎ ՇԻՆՈՒԹՅՈՒՆՆԵՐ | G68: =+G69 -> -733000 | H68: =+H69 -> -733000 | I68: =+I69 -> -1088575.3 | J68: =+J69 -> -1136856.5
F69: - Շենքերի և շինությունների շինարարություն | G69: =+'Հավելված N 5'!E95 -> -733000 | H69: =+'Հավելված N 5'!F95 -> -733000 | I69: =+'Հավելված N 5'!G95 -> -1088575.3 | J69: =+'Հավելված N 5'!H95 -> -1136856.5
E70: 32005 | F70: Կրթահամալիրների կառուցում | G70: =+G72 -> 20000 | H70: =+H72 -> 20000 | I70: =+I72 -> 20000 | J70: =+J72 -> 20000
F71: այդ թվում` ըստ կատարողների
F72: ՀՀ քաղաքաշինության կոմիտե | G72: =+G74 -> 20000 | H72: =+H74 -> 20000 | I72: =+I74 -> 20000 | J72: =+J74 -> 20000
F73: այդ թվում՝ բյուջետային ծախսերի տնտեսագիտական դասակարգման հոդվածներ
F74: ԸՆԴԱՄԵՆԸ ԾԱԽՍԵՐ | G74: =G75 -> 20000 | H74: =H75 -> 20000 | I74: =I75 -> 20000 | J74: =J75 -> 20000
F75: ՈՉ ՖԻՆԱՆՍԱԿԱՆ ԱԿՏԻՎՆԵՐԻ ԳԾՈՎ ԾԱԽՍԵՐ | G75: =+G76 -> 20000 | H75: =+H76 -> 20000 | I75: =+I76 -> 20000 | J75: =+J76 -> 20000
F76: ՀԻՄՆԱԿԱՆ ՄԻՋՈՑՆԵՐ | G76: =+G77 -> 20000 | H76: =+H77 -> 20000 | I76: =+I77 -> 20000 | J76: =+J77 -> 20000
F77: ԱՅԼ ՀԻՄՆԱԿԱՆ ՄԻՋՈՑՆԵՐ | G77: =+G78 -> 20000 | H77: =+H78 -> 20000 | I77: =+I78 -> 20000 | J77: =+J78 -> 20000
F78: - Նախագծահետազոտական ծախսեր | G78: =+'Հավելված N 5'!E98 -> 20000 | H78: =+'Հավելված N 5'!F98 -> 20000 | I78: =+'Հավելված N 5'!G98 -> 20000 | J78: =+'Հավելված N 5'!H98 -> 20000
B79: 06 | F79: Կրթությանը տրամադրվող օժանդակ ծառայություններ | G79: =+G81 -> 632110 | H79: =+H81 -> 673635.4 | I79: =+I81 -> 707600.1 | J79: =+J81 -> 707600.1
F80: այդ թվում`
C81: 01 | F81: Կրթությանը տրամադրվող օժանդակ ծառայություններ | G81: =+G83 -> 632110 | H81: =+H83 -> 673635.4 | I81: =+I83 -> 707600.1 | J81: =+J83 -> 707600.1
F82: այդ թվում`
F83: ՀՀ կրթության, գիտության, մշակույթի և սպորտի նախարարություն | G83: =+G85+G96 -> 632110 | H83: =+H85+H96 -> 673635.4 | I83: =+I85+I96 -> 707600.1 | J83: =+J85+J96 -> 707600.1
F84: այդ թվում`
D85: 1163 | E85: Մասսայական սպորտ | G85: =+G87 -> 51974 | H85: =+H87 -> 51974 | I85: =+I87 -> 51974 | J85: =+J87 -> 51974
F86: այդ թվում`
E87: 32001 | F87: Մարզական օբյեկտների շինարարություն | G87: =+G89 -> 51974 | H87: =+H89 -> 51974 | I87: =+I89 -> 51974 | J87: =+J89 -> 51974
F88: այդ թվում` ըստ կատարողների
F89: ՀՀ քաղաքաշինության կոմիտե | G89: =+G91 -> 51974 | H89: =+H91 -> 51974 | I89: =+I91 -> 51974 | J89: =+J91 -> 51974
F90: այդ թվում՝ բյուջետային ծախսերի տնտեսագիտական դասակարգման հոդվածներ
F91: ԸՆԴԱՄԵՆԸ ԾԱԽՍԵՐ | G91: =+G92 -> 51974 | H91: =+H92 -> 51974 | I91: =+I92 -> 51974 | J91: =+J92 -> 51974
F92: ՈՉ ՖԻՆԱՆՍԱԿԱՆ ԱԿՏԻՎՆԵՐԻ ԳԾՈՎ ԾԱԽՍԵՐ | G92: =+G93 -> 51974 | H92: =+H93 -> 51974 | I92: =+I93 -> 51974 | J92: =+J93 -> 51974
F93: ՀԻՄՆԱԿԱՆ ՄԻՋՈՑՆԵՐ | G93: =+G94 -> 51974 | H93: =+H94 -> 51974 | I93: =+I94 -> 51974 | J93: =+J94 -> 51974
F94: ՇԵՆՔԵՐ ԵՎ ՇԻՆՈՒԹՅՈՒՆՆԵՐ | G94: =+G95 -> 51974 | H94: =+H95 -> 51974 | I94: =+I95 -> 51974 | J94: =+J95 -> 51974
F95: - Շենքերի և շինությունների շինարարություն | G95: =+'Հավելված N 5'!E15 -> 51974 | H95: =+'Հավելված N 5'!F15 -> 51974 | I95: =+'Հավելված N 5'!G15 -> 51974 | J95: =+'Հավելված N 5'!H15 -> 51974
D96: 1183 | E96: Ապահով դպրոց | G96: =+G98+G107 -> 580136 | H96: =+H98+H107 -> 621661.4 | I96: =+I98+I107 -> 655626.1 | J96: =+J98+J107 -> 655626.1
F97: այդ թվում`
E98: 32007 | F98: Հանրակրթական կրթություն իրականացնող ուսումնական հաստատությունների նոր մարզադահլիճների կառուցում | G98: =+G100 -> 418279.2 | H98: =+H100 -> 418279.2 | I98: =+I100 -> 418279.2 | J98: =+J100 -> 418279.2
F99: այդ թվում` ըստ կատարողների
F100: ՀՀ քաղաքաշինության կոմիտե | G100: =+G102 -> 418279.2 | H100: =+H102 -> 418279.2 | I100: =+I102 -> 418279.2 | J100: =+J102 -> 418279.2
F101: այդ թվում՝ բյուջետային ծախսերի տնտեսագիտական դասակարգման հոդվածներ
F102: ԸՆԴԱՄԵՆԸ ԾԱԽՍԵՐ | G102: =+G103 -> 418279.2 | H102: =+H103 -> 418279.2 | I102: =+I103 -> 418279.2 | J102: =+J103 -> 418279.2
F103: ՈՉ ՖԻՆԱՆՍԱԿԱՆ ԱԿՏԻՎՆԵՐԻ ԳԾՈՎ ԾԱԽՍԵՐ | G103: =+G104 -> 418279.2 | H103: =+H104 -> 418279.2 | I103: =+I104 -> 418279.2 | J103: =+J104 -> 418279.2
F104: ՀԻՄՆԱԿԱՆ ՄԻՋՈՑՆԵՐ | G104: =+G105 -> 418279.2 | H104: =+H105 -> 418279.2 | I104: =+I105 -> 418279.2 | J104: =+J105 -> 418279.2
F105: ՇԵՆՔԵՐ ԵՎ ՇԻՆՈՒԹՅՈՒՆՆԵՐ | G105: =+G106 -> 418279.2 | H105: =+H106 -> 418279.2 | I105: =+I106 -> 418279.2 | J105: =+J106 -> 418279.2
...

Sheet Հավելված N 4
F1: Հավելված N 4
F2: ՀՀ կառավարության 2024 թվականի
F3: ______________ ի ___Ն որոշման
A5: «ՀԱՅԱUՏԱՆԻ ՀԱՆՐԱՊԵՏՈՒԹՅԱՆ 2024 ԹՎԱԿԱՆԻ ՊԵՏԱԿԱՆ ԲՅՈՒՋԵԻ ՄԱUԻՆ» ՀԱՅԱUՏԱՆԻ ՀԱՆՐԱՊԵՏՈՒԹՅԱՆ OՐԵՆՔԻ N 1 ՀԱՎԵԼՎԱԾԻ N 3 ԱՂՅՈՒՍԱԿՈՒՄ ԿԱՏԱՐՎՈՂ ՓՈՓՈԽՈՒԹՅՈՒՆՆԵՐԸ ԵՎ ԼՐԱՑՈՒՄՆԵՐԸ
G8: հազ. դրամներով
A9: Ծրագրային դասիչ | C9: Բյուջետային գլխավոր կարգադրիչների, ծրագրերի, միջոցառումների, միջոցառումները կատարող պետական մարմինների և ուղղությունների անվանումները | D9: Ընդամենը | E9: Ցուցանիշների փոփոխությունը (ավելացումները նշված են դրական նշանով, իսկ նվազեցումները՝ փակագծերում)
A10: Ծրագիր | B10: Միջոցառում | E10: Կառուցման աշխատանքներ | F10: Վերակառուցման, վերանորոգման և վերականգնման աշխատանքներ | G10: Նախագծահե- տազոտական, գեոդեզիա- քարտեզագրա- կան աշխա- տանքներ | H10: Ոչ ֆինանսական այլ ակտիվների ձեռքբերում
C11: ԸՆԴԱՄԵՆԸ | D11: =SUM(E11:H11) -> 8.7311491e-11 | E11: =+E13 -> -288046.9 | F11: =+F13 -> 237346.9 | G11: =+G13 -> 50700 | H11: =+H13 -> 0
C12: այդ թվում՝
C13: ՀՀ ԿՐԹՈՒԹՅԱՆ, ԳԻՏՈՒԹՅԱՆ, ՄՇԱԿՈՒՅԹԻ ԵՎ ՍՊՈՐՏԻ ՆԱԽԱՐԱՐՈՒԹՅՈՒՆ | D13: =SUM(E13:H13) -> 8.7311491e-11 | E13: =+E15+E19+E40+E58+E64+E67+E88 -> -288046.9 | F13: =+F15+F19+F40+F58+F64+F67+F88 -> 237346.9 | G13: =+G15+G19+G40+G58+G64+G67+G88 -> 50700 | H13: =+H15+H19+H40+H58+H64+H67+H88 -> 0
C14: այդ թվում`
A15: 1163 | B15: 32001 | C15: Մարզական օբյեկտների շինարարություն | D15: =SUM(E15:H15) -> 51974 | E15: =+E17 -> 51974 | F15: =+F17 -> 0 | G15: =+G17 -> 0 | H15: =+H17 -> 0
C16: այդ թվում`
C17: ՀՀ Արմավիրի մարզ | D17: =SUM(E17:H17) -> 51974 | E17: =SUM(E18:E18) -> 51974 | F17: =SUM(F18:F18) -> 0 | G17: =SUM(G18:G18) -> 0 | H17: =SUM(H18:H18) -> 0
C18: Արմավիրի մարզի Ջրառատ համայնքի ծանրամարտի մարզադպրոց | D18: =+E18+F18+G18+H18 -> 51974 | E18: =+'Հավելված N 8'!I58+'Հավելված N 8'!I60+'Հավելված N 8'!I61 -> 51974
A19: 1183 | B19: 32007 | C19: Հանրակրթական կրթություն իրականացնող ուսումնական հաստատությունների նոր մարզադահլիճների կառուցում | D19: =SUM(E19:H19) -> 418279.2 | E19: =+E21+E26+E28+E34 -> 418279.2 | F19: =+F21+F26+F28+F34 -> 0 | G19: =+G21+G26+G28+G34 -> 0 | H19: =+H21+H26+H28+H34 -> 0
C20: այդ թվում`
C21: Երևան քաղաք | D21: =SUM(E21:H21) -> 164834.3 | E21: =SUM(E22:E25) -> 164834.3 | F21: =SUM(F22:F25) -> 0 | G21: =SUM(G22:G25) -> 0 | H21: =SUM(H22:H25) -> 0
C22: «Երևանի Միքայել Նալբանդյանի անվան հ.33 հիմնական դպրոց» ՊՈԱԿ | D22: =+E22+F22+G22+H22 -> 39373.8 | E22: =+'Հավելված N 8'!I64+'Հավելված N 8'!I80+'Հավելված N 8'!I91 -> 39373.8
C23: «Երևանի Ս. Խանզադյանի անվան հ. 184 ավագ դպրոց» ՊՈԱԿ | D23: =+E23+F23+G23+H23 -> 42827.8 | E23: =+'Հավելված N 8'!I65+'Հավելված N 8'!I81+'Հավելված N 8'!I92 -> 42827.8
C24: «Երևանի Ա. Երզնկյանի անվան հ. 118 ավագ դպրոց» ՊՈԱԿ | D24: =+E24+F24+G24+H24 -> 47816.4 | E24: =+'Հավելված N 8'!I66+'Հավելված N 8'!I82+'Հավելված N 8'!I93 -> 47816.4
C25: «Երևանի Սիլվա Կապուտիկյանի անվան հ. 145 հիմնական դպրոց» ՊՈԱԿ | D25: =+E25+F25+G25+H25 -> 34816.3 | E25: =+'Հավելված N 8'!I67+'Հավելված N 8'!I83+'Հավելված N 8'!I94 -> 34816.3
C26: ՀՀ Արագածոտնի մարզ | D26: =SUM(E26:H26) -> 2658.2 | E26: =+E27 -> 2658.2 | F26: =+F27 -> 0 | G26: =+G27 -> 0 | H26: =+H27 -> 0
C27: «Թալինի ավագ դպրոց» ՊՈԱԿ | D27: =SUM(E27:H27) -> 2658.2 | E27: =+'Հավելված N 8'!I68+'Հավելված N 8'!I84+'Հավելված N 8'!I95 -> 2658.2
C28: ՀՀ Արմավիրի մարզ | D28: =SUM(E28:H28) -> 39250.2 | E28: =SUM(E29:E33) -> 39250.2 | F28: =SUM(F29:F33) -> 0 | G28: =SUM(G29:G33) -> 0 | H28: =SUM(H29:H33) -> 0
C29: «Արտիմետի միջնակարգ դպրոց» ՊՈԱԿ | D29: =+E29+F29+G29+H29 -> 3460.6 | E29: =+'Հավելված N 8'!I69+'Հավելված N 8'!I96 -> 3460.6
C30: «Արագածի Մ. Մեխակյանի անվան միջնակարգ դպրոց» ՊՈԱԿ | D30: =+E30+F30+G30+H30 -> 32092.6 | E30: =+'Հավելված N 8'!I70+'Հավելված N 8'!I85+'Հավելված N 8'!I97 -> 32092.6
C31: «Վաղարշապատի Երվանդ Օտյանի անվան N 7 հիմնական դպրոց » ՊՈԱԿ | D31: =+E31+F31+G31+H31 -> 1488.6 | E31: =+'Հավելված N 8'!I71+'Հավելված N 8'!I98 -> 1488.6
C32: «Ջանֆիդայի Է. Դաշտոյանի անվան միջնակարգ դպրոց» ՊՈԱԿ | D32: =+E32+F32+G32+H32 -> 1097.7 | E32: =+'Հավելված N 8'!I72+'Հավելված N 8'!I99 -> 1097.7
C33: «Արմավիրի N 6 հիմնական դպրոց» ՊՈԱԿ | D33: =+E33+F33+G33+H33 -> 1110.7 | E33: =+'Հավելված N 8'!I73+'Հավելված N 8'!I100 -> 1110.7
C34: ՀՀ Լոռու մարզ | D34: =SUM(E34:H34) -> 211536.5 | E34: =SUM(E35:E39) -> 211536.5 | F34: =SUM(F35:F39) -> 0 | G34: =SUM(G35:G39) -> 0 | H34: =SUM(H35:H39) -> 0
C35: «Վանաձորի Խ. Աբովյանի անվան թիվ 9 հիմնական դպրոց» ՊՈԱԿ | D35: =+E35+F35+G35+H35 -> 69569.9 | E35: =+'Հավելված N 8'!I74+'Հավելված N 8'!I86+'Հավելված N 8'!I101 -> 69569.9
C36: «Վանաձորի Ծովակալ Իսակովի անվան թիվ 23 հիմնական դպրոց ՊՈԱԿ | D36: =+E36+F36+G36+H36 -> 24774.6 | E36: =+'Հավելված N 8'!I75+'Հավելված N 8'!I87+'Հավելված N 8'!I102 -> 24774.6
C37: Ստեփանավանի N1 վարժարան ՊՈԱԿ | D37: =+E37+F37+G37+H37 -> 14277.5 | E37: =+'Հավելված N 8'!I76+'Հավելված N 8'!I88+'Հավելված N 8'!I103 -> 14277.5
C38: «Ագարակի միջնակարգ դպրոց» ՊՈԱԿ | D38: =+E38+F38+G38+H38 -> 52491.8 | E38: =+'Հավելված N 8'!I77+'Հավելված N 8'!I89+'Հավելված N 8'!I104 -> 52491.8
C39: «Վարդաբլուրի միջնակարգ դպրոց» ՊՈԱԿ | D39: =+E39+F39+G39+H39 -> 50422.7 | E39: =+'Հավելված N 8'!I78+'Հավելված N 8'!I90+'Հավելված N 8'!I105 -> 50422.7
A40: 1183 | B40: 32009 | C40: Հանրակրթական կրթություն իրականացնող ուսումնական հաստատությունների մարզադահլիճների վերակառուցում | D40: =SUM(E40:H40) -> 237346.9 | E40: =+E42+E47+E52+E54+E56 -> 0 | F40: =+F42+F47+F52+F54+F56 -> 237346.9 | G40: =+G42+G47+G52+G54+G56 -> 0 | H40: =+H42+H47+H52+H54+H56 -> 0
C41: այդ թվում`
C42: Երևան քաղաք | D42: =SUM(E42:H42) -> 47201.1 | E42: =SUM(E43:E46) -> 0 | F42: =SUM(F43:F46) -> 47201.1 | G42: =SUM(G43:G46) -> 0 | H42: =SUM(H43:H46) -> 0
C43: «Երևանի Մ. Սարյանի անվան հ. 86 հիմնական դպրոց» ՊՈԱԿ | D43: =+E43+F43+G43+H43 -> 1832.1 | F43: =+'Հավելված N 8'!I108+'Հավելված N 8'!I119+'Հավելված N 8'!I129 -> 1832.1
C44: «Երևանի Վ. Թեքեյանի անվան թիվ 92 հիմնական դպրոց» ՊՈԱԿ | D44: =SUM(E44:H44) -> 33704.3 | F44: =+'Հավելված N 8'!I117+'Հավելված N 8'!I127+'Հավելված N 8'!I135 -> 33704.3
C45: «Երևանի հ. 37 հիմնական դպրոց» ՊՈԱԿ | D45: =SUM(E45:H45) -> 260.4 | F45: =+'Հավելված N 8'!I128+'Հավելված N 8'!I136 -> 260.4
C46: «Երևանի հ. 136 հիմնական դպրոց» ՊՈԱԿ | D46: =+E46+F46+G46+H46 -> 11404.3 | F46: =+'Հավելված N 8'!I109+'Հավելված N 8'!I120+'Հավելված N 8'!I130 -> 11404.3
C47: ՀՀ Արմավիրի մարզ | D47: =SUM(E47:H47) -> 89362.7 | E47: =SUM(E48:E51) -> 0 | F47: =SUM(F48:F51) -> 89362.7 | G47: =SUM(G48:G51) -> 0 | H47: =SUM(H48:H51) -> 0
C48: Շահումյանի միջնակարգ դպրոց ՊՈԱԿ | D48: =+E48+F48+G48+H48 -> 19329.5 | F48: =+'Հավելված N 8'!I110 -> 19329.5
C49: «Փշատավանի միջնակարգ դպրոց» ՊՈԱԿ | D49: =+E49+F49+G49+H49 -> 31.4 | F49: =+'Հավելված N 8'!I111+'Հավելված N 8'!I121 -> 31.4
C50: «Սարդարապատի միջնակարգ դպրոց» ՊՈԱԿ | D50: =+E50+F50+G50+H50 -> 66592.5 | F50: =+'Հավելված N 8'!I112+'Հավելված N 8'!I122+'Հավելված N 8'!I131 -> 66592.5
C51: «Արմավիրի հ. 8 հիմնական դպրոց» ՊՈԱԿ | D51: =+E51+F51+G51+H51 -> 3409.3 | F51: =+'Հավելված N 8'!I113+'Հավելված N 8'!I123 -> 3409.3
C52: ՀՀ Գեղարքունիքի մարզ | D52: =SUM(E52:H52) -> 51424.9 | E52: =SUM(E53) -> 0 | F52: =SUM(F53) -> 51424.9 | G52: =SUM(G53) -> 0 | H52: =SUM(H53) -> 0
C53: «Ակունք գյուղի միջնակարգ դպրոց» ՊՈԱԿ | D53: =+E53+F53+G53+H53 -> 51424.9 | F53: =+'Հավելված N 8'!I114+'Հավելված N 8'!I124+'Հավելված N 8'!I132 -> 51424.9
C54: ՀՀ Լոռու մարզ | D54: =SUM(E54:H54) -> 17732.1 | E54: =SUM(E55) -> 0 | F54: =SUM(F55) -> 17732.1 | G54: =SUM(G55) -> 0 | H54: =SUM(H55) -> 0
C55: «Վանաձորի Ղևոնդ Ալիշանի անվան N 27 հիմնական դպրոց» ՊՈԱԿ | D55: =+E55+F55+G55+H55 -> 17732.1 | F55: =+'Հավելված N 8'!I115+'Հավելված N 8'!I125+'Հավելված N 8'!I133 -> 17732.1
C56: ՀՀ Վայոց Ձորի մարզ | D56: =SUM(E56:H56) -> 31626.1 | E56: =SUM(E57) -> 0 | F56: =SUM(F57) -> 31626.1 | G56: =SUM(G57) -> 0 | H56: =SUM(H57) -> 0
C57: «Շատինի միջնակարգ դպրոց» ՊՈԱԿ | D57: =+E57+F57+G57+H57 -> 31626.1 | F57: =+'Հավելված N 8'!I116+'Հավելված N 8'!I126+'Հավելված N 8'!I134 -> 31626.1
A58: 1236 | B58: 32001 | C58: Մանկապարտեզների նոր շենքերի կառուցում | D58: =SUM(E58:H58) -> 232460.1 | E58: =+E60+E62 -> 232460.1 | F58: =+F60+F62 -> 0 | G58: =+G60+G62 -> 0 | H58: =+H60+H62 -> 0
C59: այդ թվում`
C60: ՀՀ Արարատի մարզ | D60: =SUM(E60:H60) -> 158065.1 | E60: =+E61 -> 158065.1 | F60: =+F61 -> 0 | G60: =+G61 -> 0 | H60: =+H61 -> 0
C61: ՀՀ Արարատի մարզի Արալեզ համայնքում «Մոդուլային» տիպի 144 տեղ հզորությամբ մսուր-մանկապարտեզ | D61: =+E61+F61+G61+H61 -> 158065.1 | E61: =+'Հավելված N 8'!I17+'Հավելված N 8'!I20+'Հավելված N 8'!I22 -> 158065.1
C62: ՀՀ Արմավիրի մարզ | D62: =SUM(E62:H62) -> 74395 | E62: =+E63 -> 74395 | F62: =+F63 -> 0 | G62: =+G63 -> 0 | H62: =+H63 -> 0
C63: ՀՀ Արմավիրի մարզի Արևիկ համայնքում «Մոդուլային» տիպի 144 տեղ հզորությամբ մսուր-մանկապարտեզ | D63: =+E63+F63+G63+H63 -> 74395 | E63: =+'Հավելված N 8'!I18+'Հավելված N 8'!I21+'Հավելված N 8'!I23 -> 74395
A64: 1236 | B64: 32002 | C64: Մանկապարտեզների շենքերի վերակառուցում, հիմնանորոգում | D64: =SUM(E64:H64) -> -231068.5 | E64: =+E66 -> -231068.5 | F64: =+F66 -> 0 | G64: =+G66 -> 0 | H64: =+H66 -> 0
C65: այդ թվում`
C66: Մանկապարտեզների շենքերի վերակառուցում, հիմնանորոգում | D66: =SUM(E66:H66) -> -231068.5 | E66: =-D15-D19-D40-D58-D67-D88 -> -231068.5 | G66: 0 | H66: 0
A67: 1236 | B67: 32003 | C67: Հանրակրթական դպրոցների նոր շենքերի կառուցում | D67: =SUM(E67:H67) -> -728991.7 | E67: =+E69+E70+E73+E76+E79+E82+E84+E86 -> -759691.7 | F67: =+F69+F70+F73+F76+F79+F82+F84+F86 -> 0 | G67: =+G69+G70+G73+G76+G79+G82+G84+G86 -> 30700 | H67: =+H69+H70+H73+H76+H79+H82+H84+H86 -> 0
C68: այդ թվում`
C69: Հանրակրթական դպրոցների նոր շենքերի կառուցում | D69: =SUM(E69:H69) -> -1136856.5 | E69: -1136856.5 | F69: 0 | G69: 0 | H69: 0
C70: ՀՀ Արարատի մարզ | D70: =SUM(E70:H70) -> 116750.6 | E70: =SUM(E71:E72) -> 111750.6 | F70: =SUM(F71:F72) -> 0 | G70: =SUM(G71:G72) -> 5000 | H70: =SUM(H71:H72) -> 0
C71: «Մասիսի թիվ 5 ավագ դպրոց» ՊՈԱԿ | D71: =+E71+F71+G71+H71 -> 111750.6 | E71: =+'Հավելված N 8'!I27+'Հավելված N 8'!I33+'Հավելված N 8'!I37 -> 111750.6
C72: «Նիզամիի միջնակարգ դպրոց» ՊՈԱԿ | D72: =+E72+F72+G72+H72 -> 5000 | G72: =+'Հավելված N 8'!I39+'Հավելված N 8'!I42 -> 5000
C73: ՀՀ Արմավիրի մարզ | D73: =SUM(E73:H73) -> 20700 | E73: =SUM(E74:E75) -> 0 | F73: =SUM(F74:F75) -> 0 | G73: =SUM(G74:G75) -> 20700 | H73: =SUM(H74:H75) -> 0
C74: «Վաղարշապատի Մովսես Խորենացու անվան N 10 ավագ դպրոց» ՊՈԱԿ | D74: =+E74+F74+G74+H74 -> 15700 | G74: 15700
C75: «Հայկաշենի Գ. Կիրակոսյանի անվան միջնակարգ դպրոց» ՊՈԱԿ | D75: =+E75+F75+G75+H75 -> 5000 | G75: =+'Հավելված N 8'!I40+'Հավելված N 8'!I43 -> 5000
C76: ՀՀ Լոռու մարզ | D76: =SUM(E76:H76) -> 175590.6 | E76: =SUM(E77:E78) -> 175590.6 | F76: =SUM(F77:F78) -> 0 | G76: =SUM(G77:G78) -> 0 | H76: =SUM(H77:H78) -> 0
C77: «Մեդովկայի միջնակարգ դպրոց դպրոց» ՊՈԱԿ | D77: =+E77+F77+G77+H77 -> 112845.9 | E77: =+'Հավելված N 8'!I28+1644.5+799.9 -> 112845.9
C78: «Հագվու հիմնական դպրոց» ՊՈԱԿ | D78: =+E78+F78+G78+H78 -> 62744.7 | E78: =+'Հավելված N 8'!I29+2250.3+413.8 -> 62744.7
C79: ՀՀ Կոտայքի մարզ | D79: =SUM(E79:H79) -> 3229.8 | E79: =SUM(E80:E81) -> 3229.8 | F79: =SUM(F80:F81) -> 0 | G79: =SUM(G80:G81) -> 0 | H79: =SUM(H80:H81) -> 0
C80: «Ջրառատի միջնակարգ դպրոց» ՊՈԱԿ | D80: =+E80+F80+G80+H80 -> 3008.5 | E80: =2790.1+218.4 -> 3008.5
C81: «Կաթնաղբյուրի հիմնական դպրոց» ՊՈԱԿ | D81: =+E81+F81+G81+H81 -> 221.3 | E81: 221.3
C82: ՀՀ Շիրակի մարզ | D82: =SUM(E82:H82) -> 40901.9 | E82: =+E83 -> 40901.9 | F82: =+F83 -> 0 | G82: =+G83 -> 0 | H82: =+H83 -> 0
C83: «Կապսի միջնակարգ դպրոց» ՊՈԱԿ | D83: =+E83+F83+G83+H83 -> 40901.9 | E83: =+'Հավելված N 8'!I30+'Հավելված N 8'!I35+875.8 -> 40901.9
C84: ՀՀ Վայոց Ձորի մարզ | D84: =SUM(E84:H84) -> 45691.9 | E84: =+E85 -> 45691.9 | F84: =+F85 -> 0 | G84: =+G85 -> 0 | H84: =+H85 -> 0
C85: «Եղեգիսի միջնակարգ դպրոց» ՊՈԱԿ | D85: =+E85+F85+G85+H85 -> 45691.9 | E85: =+'Հավելված N 8'!I31+'Հավելված N 8'!I36+933.7 -> 45691.9
C86: ՀՀ Տավուշի մարզ | D86: =SUM(E86:H86) -> 5000 | E86: =+E87 -> 0 | F86: =+F87 -> 0 | G86: =+G87 -> 5000 | H86: =+H87 -> 0
C87: «Նավուրի միջնակարգ դպրոց» ՊՈԱԿ | D87: =+E87+F87+G87+H87 -> 5000 | G87: =+'Հավելված N 8'!I41+'Հավելված N 8'!I44 -> 5000
A88: 1236 | B88: 32005 | C88: Կրթահամալիրների կառուցում | D88: =SUM(E88:H88) -> 20000 | E88: =+E90+E92+E94+E96 -> 0 | F88: =+F90+F92+F94+F96 -> 0 | G88: =+G90+G92+G94+G96 -> 20000 | H88: =+H90+H92+H94+H96 -> 0
C89: այդ թվում`
C90: ՀՀ Արագածոտնի մարզ | D90: =SUM(E90:H90) -> 5000 | E90: =+E91 -> 0 | F90: =+F91 -> 0 | G90: =+G91 -> 5000 | H90: =+H91 -> 0
C91: գ․ Հացաշենի մոդուլային կրթահամալիր | D91: =+E91+F91+G91+H91 -> 5000 | G91: =+'Հավելված N 8'!I47+'Հավելված N 8'!I51 -> 5000
C92: ՀՀ Գեղարքունիքի մարզ | D92: =SUM(E92:H92) -> 5000 | E92: =+E93 -> 0 | F92: =+F93 -> 0 | G92: =+G93 -> 5000 | H92: =+H93 -> 0
C93: գ․ Արփունքի մոդուլային կրթահամալիր | D93: =+E93+F93+G93+H93 -> 5000 | G93: =+'Հավելված N 8'!I48+'Հավելված N 8'!I52 -> 5000
C94: ՀՀ Կոտայքի մարզ | D94: =SUM(E94:H94) -> 5000 | E94: =+E95 -> 0 | F94: =+F95 -> 0 | G94: =+G95 -> 5000 | H94: =+H95 -> 0
C95: գ․ Նուռնուսի մոդուլային կրթահամալիր | D95: =+E95+F95+G95+H95 -> 5000 | G95: =+'Հավելված N 8'!I49+'Հավելված N 8'!I53 -> 5000
C96: ՀՀ Վայոց Ձորի մարզ | D96: =SUM(E96:H96) -> 5000 | E96: =+E97 -> 0 | F96: =+F97 -> 0 | G96: =+G97 -> 5000 | H96: =+H97 -> 0
C97: գ․ Գողթանիկի մոդուլային կրթահամալիր | D97: =+E97+F97+G97+H97 -> 5000 | G97: =+'Հավելված N 8'!I50+'Հավելված N 8'!I54 -> 5000

Sheet Հավելված N 5
G1: Հավելված N 5
E2: ՀՀ կառավարության 2024 թվականի
G3: ______________ ի ___Ն որոշման
B6: ՀԱՅԱՍՏԱՆԻ ՀԱՆՐԱՊԵՏՈՒԹՅԱՆ ԿԱՌԱՎԱՐՈՒԹՅԱՆ 2023 ԹՎԱԿԱՆԻ ԴԵԿՏԵՄԲԵՐԻ 28-Ի N 2323-Ն ՈՐՈՇՄԱՆ N 5 ՀԱՎԵԼՎԱԾԻ N 2 ԱՂՅՈՒՍԱԿՈՒՄ ԿԱՏԱՐՎՈՂ ՓՈՓՈԽՈՒԹՅՈՒՆՆԵՐԸ ԵՎ ԼՐԱՑՈՒՄՆԵՐԸ
H8: հազ. դրամներով
B9: Ծրագրային դասիչ | D9: Բյուջետային գլխավոր կարգադրիչների, ծրագրերի, միջոցառումների, միջոցառումները կատարող պետական մարմինների և ուղղությունների անվանումները | E9: Ցուցանիշների փոփոխությունը (ավելացումները նշված են դրական նշանով, իսկ նվազեցումները՝ փակագծերում)
B10: Ծրագիր | C10: Միջոցառում | E10: Առաջին եռամսյակ | F10: Առաջին կիսամյակ | G10: Ինն ամիս | H10: Տարի
D11: ՀՀ ԿՐԹՈՒԹՅԱՆ, ԳԻՏՈՒԹՅԱՆ, ՄՇԱԿՈՒՅԹԻ ԵՎ ՍՊՈՐՏԻ ՆԱԽԱՐԱՐՈՒԹՅՈՒՆ | E11: =+E13+E19+E42+E62+E70+E73+E96 -> 401369.8 | F11: =+F13+F19+F42+F62+F70+F73+F96 -> 521927.8 | G11: =+G13+G19+G42+G62+G70+G73+G96 -> 0 | H11: =+H13+H19+H42+H62+H70+H73+H96 -> 0
D12: այդ թվում՝
B13: 1163 | C13: 32001 | D13: Մարզական օբյեկտների շինարարություն | E13: =+E15 -> 51974 | F13: =+F15 -> 51974 | G13: =+G15 -> 51974 | H13: =+H15 -> 51974
D14: այդ թվում` ըստ կատարողների
D15: ՀՀ քաղաքաշինության կոմիտե | E15: =+E17 -> 51974 | F15: =+F17 -> 51974 | G15: =+G17 -> 51974 | H15: =+H17 -> 51974
D16: այդ թվում՝ ըստ ուղղությունների
D17: ՀՀ Արմավիրի մարզ | E17: =SUM(E18:E18) -> 51974 | F17: =SUM(F18:F18) -> 51974 | G17: =SUM(G18:G18) -> 51974 | H17: =SUM(H18:H18) -> 51974
D18: =+'Հավելված N 4'!C18 -> Արմավիրի մարզի Ջրառատ համայնքի ծանրամարտի մարզադպրոց | E18: =+H18 -> 51974 | F18: =+H18 -> 51974 | G18: =+H18 -> 51974 | H18: =+'Հավելված N 4'!D18 -> 51974
B19: 1183 | C19: 32007 | D19: Հանրակրթական կրթություն իրականացնող ուսումնական հաստատությունների նոր մարզադահլիճների կառուցում | E19: =+E21 -> 418279.2 | F19: =+F21 -> 418279.2 | G19: =+G21 -> 418279.2 | H19: =+H21 -> 418279.2
D20: այդ թվում` ըստ կատարողների
D21: ՀՀ քաղաքաշինության կոմիտե | E21: =+E23+E28+E30+E36 -> 418279.2 | F21: =+F23+F28+F30+F36 -> 418279.2 | G21: =+G23+G28+G30+G36 -> 418279.2 | H21: =+H23+H28+H30+H36 -> 418279.2
D22: այդ թվում՝ ըստ ուղղությունների
D23: Երևան քաղաք | E23: =SUM(E24:E27) -> 164834.3 | F23: =SUM(F24:F27) -> 164834.3 | G23: =SUM(G24:G27) -> 164834.3 | H23: =SUM(H24:H27) -> 164834.3
D24: =+'Հավելված N 4'!C22 -> «Երևանի Միքայել Նալբանդյանի անվան հ.33 հիմնական դպրոց» ՊՈԱԿ | E24: =+H24 -> 39373.8 | F24: =+H24 -> 39373.8 | G24: =+H24 -> 39373.8 | H24: =+'Հավելված N 4'!D22 -> 39373.8
D25: =+'Հավելված N 4'!C23 -> «Երևանի Ս. Խանզադյանի անվան հ. 184 ավագ դպրոց» ՊՈԱԿ | E25: =+H25 -> 42827.8 | F25: =+H25 -> 42827.8 | G25: =+H25 -> 42827.8 | H25: =+'Հավելված N 4'!D23 -> 42827.8
D26: =+'Հավելված N 4'!C24 -> «Երևանի Ա. Երզնկյանի անվան հ. 118 ավագ դպրոց» ՊՈԱԿ | E26: =+H26 -> 47816.4 | F26: =+H26 -> 47816.4 | G26: =+H26 -> 47816.4 | H26: =+'Հավելված N 4'!D24 -> 47816.4
D27: =+'Հավելված N 4'!C25 -> «Երևանի Սիլվա Կապուտիկյանի անվան հ. 145 հիմնական դպրոց» ՊՈԱԿ | E27: =+H27 -> 34816.3 | F27: =+H27 -> 34816.3 | G27: =+H27 -> 34816.3 | H27: =+'Հավելված N 4'!D25 -> 34816.3
D28: ՀՀ Արագածոտնի մարզ | E28: =+E29 -> 2658.2 | F28: =+F29 -> 2658.2 | G28: =+G29 -> 2658.2 | H28: =+H29 -> 2658.2
D29: =+'Հավելված N 4'!C27 -> «Թալինի ավագ դպրոց» ՊՈԱԿ | E29: =+H29 -> 2658.2 | F29: =+H29 -> 2658.2 | G29: =+H29 -> 2658.2 | H29: =+'Հավելված N 4'!D27 -> 2658.2
D30: ՀՀ Արմավիրի մարզ | E30: =SUM(E31:E35) -> 39250.2 | F30: =SUM(F31:F35) -> 39250.2 | G30: =SUM(G31:G35) -> 39250.2 | H30: =SUM(H31:H35) -> 39250.2
D31: =+'Հավելված N 4'!C29 -> «Արտիմետի միջնակարգ դպրոց» ՊՈԱԿ | E31: =+H31 -> 3460.6 | F31: =+H31 -> 3460.6 | G31: =+H31 -> 3460.6 | H31: =+'Հավելված N 4'!D29 -> 3460.6
D32: =+'Հավելված N 4'!C30 -> «Արագածի Մ. Մեխակյանի անվան միջնակարգ դպրոց» ՊՈԱԿ | E32: =+H32 -> 32092.6 | F32: =+H32 -> 32092.6 | G32: =+H32 -> 32092.6 | H32: =+'Հավելված N 4'!D30 -> 32092.6
D33: =+'Հավելված N 4'!C31 -> «Վաղարշապատի Երվանդ Օտյանի անվան N 7 հիմնական դպրոց » ՊՈԱԿ | E33: =+H33 -> 1488.6 | F33: =+H33 -> 1488.6 | G33: =+H33 -> 1488.6 | H33: =+'Հավելված N 4'!D31 -> 1488.6
D34: =+'Հավելված N 4'!C32 -> «Ջանֆիդայի Է. Դաշտոյանի անվան միջնակարգ դպրոց» ՊՈԱԿ | E34: =+H34 -> 1097.7 | F34: =+H34 -> 1097.7 | G34: =+H34 -> 1097.7 | H34: =+'Հավելված N 4'!D32 -> 1097.7
D35: =+'Հավելված N 4'!C33 -> «Արմավիրի N 6 հիմնական դպրոց» ՊՈԱԿ | E35: =+H35 -> 1110.7 | F35: =+H35 -> 1110.7 | G35: =+H35 -> 1110.7 | H35: =+'Հավելված N 4'!D33 -> 1110.7
D36: ՀՀ Լոռու մարզ | E36: =SUM(E37:E41) -> 211536.5 | F36: =SUM(F37:F41) -> 211536.5 | G36: =SUM(G37:G41) -> 211536.5 | H36: =SUM(H37:H41) -> 211536.5
D37: =+'Հավելված N 4'!C35 -> «Վանաձորի Խ. Աբովյանի անվան թիվ 9 հիմնական դպրոց» ՊՈԱԿ | E37: =+H37 -> 69569.9 | F37: =+H37 -> 69569.9 | G37: =+H37 -> 69569.9 | H37: =+'Հավելված N 4'!D35 -> 69569.9
D38: =+'Հավելված N 4'!C36 -> «Վանաձորի Ծովակալ Իսակովի անվան թիվ 23 հիմնական դպրոց ՊՈԱԿ | E38: =+H38 -> 24774.6 | F38: =+H38 -> 24774.6 | G38: =+H38 -> 24774.6 | H38: =+'Հավելված N 4'!D36 -> 24774.6
D39: =+'Հավելված N 4'!C37 -> Ստեփանավանի N1 վարժարան ՊՈԱԿ | E39: =+H39 -> 14277.5 | F39: =+H39 -> 14277.5 | G39: =+H39 -> 14277.5 | H39: =+'Հավելված N 4'!D37 -> 14277.5
D40: =+'Հավելված N 4'!C38 -> «Ագարակի միջնակարգ դպրոց» ՊՈԱԿ | E40: =+H40 -> 52491.8 | F40: =+H40 -> 52491.8 | G40: =+H40 -> 52491.8 | H40: =+'Հավելված N 4'!D38 -> 52491.8
D41: =+'Հավելված N 4'!C39 -> «Վարդաբլուրի միջնակարգ դպրոց» ՊՈԱԿ | E41: =+H41 -> 50422.7 | F41: =+H41 -> 50422.7 | G41: =+H41 -> 50422.7 | H41: =+'Հավելված N 4'!D39 -> 50422.7
B42: 1183 | C42: 32009 | D42: Հանրակրթական կրթություն իրականացնող ուսումնական հաստատությունների մարզադահլիճների վերակառուցում | E42: =+E44 -> 161856.8 | F42: =+F44 -> 203382.2 | G42: =+G44 -> 237346.9 | H42: =+H44 -> 237346.9
D43: այդ թվում` ըստ կատարողների
D44: ՀՀ քաղաքաշինության կոմիտե | E44: =+E46+E51+E56+E58+E60 -> 161856.8 | F44: =+F46+F51+F56+F58+F60 -> 203382.2 | G44: =+G46+G51+G56+G58+G60 -> 237346.9 | H44: =+H46+H51+H56+H58+H60 -> 237346.9
D45: այդ թվում՝ ըստ ուղղությունների
D46: Երևան քաղաք | E46: =SUM(E47:E50) -> 13236.4 | F46: =SUM(F47:F50) -> 13236.4 | G46: =SUM(G47:G50) -> 47201.1 | H46: =SUM(H47:H50) -> 47201.1
D47: =+'Հավելված N 4'!C43 -> «Երևանի Մ. Սարյանի անվան հ. 86 հիմնական դպրոց» ՊՈԱԿ | E47: =+H47 -> 1832.1 | F47: =+H47 -> 1832.1 | G47: =+H47 -> 1832.1 | H47: =+'Հավելված N 4'!D43 -> 1832.1
D48: =+'Հավելված N 4'!C44 -> «Երևանի Վ. Թեքեյանի անվան թիվ 92 հիմնական դպրոց» ՊՈԱԿ | E48: 0 | F48: 0 | G48: =+H48 -> 33704.3 | H48: =+'Հավելված N 4'!D44 -> 33704.3
D49: =+'Հավելված N 4'!C45 -> «Երևանի հ. 37 հիմնական դպրոց» ՊՈԱԿ | E49: 0 | F49: 0 | G49: =+H49 -> 260.4 | H49: =+'Հավելված N 4'!D45 -> 260.4
D50: =+'Հավելված N 4'!C46 -> «Երևանի հ. 136 հիմնական դպրոց» ՊՈԱԿ | E50: =+H50 -> 11404.3 | F50: =+H50 -> 11404.3 | G50: =+H50 -> 11404.3 | H50: =+'Հավելված N 4'!D46 -> 11404.3
D51: ՀՀ Արմավիրի մարզ | E51: =SUM(E52:E55) -> 89362.7 | F51: =SUM(F52:F55) -> 89362.7 | G51: =SUM(G52:G55) -> 89362.7 | H51: =SUM(H52:H55) -> 89362.7
D52: =+'Հավելված N 4'!C48 -> Շահումյանի միջնակարգ դպրոց ՊՈԱԿ | E52: =+H52 -> 19329.5 | F52: =+H52 -> 19329.5 | G52: =+H52 -> 19329.5 | H52: =+'Հավելված N 4'!D48 -> 19329.5
D53: =+'Հավելված N 4'!C49 -> «Փշատավանի միջնակարգ դպրոց» ՊՈԱԿ | E53: =+H53 -> 31.4 | F53: =+H53 -> 31.4 | G53: =+H53 -> 31.4 | H53: =+'Հավելված N 4'!D49 -> 31.4
D54: =+'Հավելված N 4'!C50 -> «Սարդարապատի միջնակարգ դպրոց» ՊՈԱԿ | E54: =+H54 -> 66592.5 | F54: =+H54 -> 66592.5 | G54: =+H54 -> 66592.5 | H54: =+'Հավելված N 4'!D50 -> 66592.5
D55: =+'Հավելված N 4'!C51 -> «Արմավիրի հ. 8 հիմնական դպրոց» ՊՈԱԿ | E55: =+H55 -> 3409.3 | F55: =+H55 -> 3409.3 | G55: =+H55 -> 3409.3 | H55: =+'Հավելված N 4'!D51 -> 3409.3
D56: ՀՀ Գեղարքունիքի մարզ | E56: =+E57 -> 25712.5 | F56: =+F57 -> 51424.9 | G56: =+G57 -> 51424.9 | H56: =+H57 -> 51424.9
D57: =+'Հավելված N 4'!C53 -> «Ակունք գյուղի միջնակարգ դպրոց» ՊՈԱԿ | E57: =+ROUND(H57/2,1) -> 25712.5 | F57: =+H57 -> 51424.9 | G57: =+H57 -> 51424.9 | H57: =+'Հավելված N 4'!D53 -> 51424.9
D58: ՀՀ Լոռու մարզ | E58: =+E59 -> 17732.1 | F58: =+F59 -> 17732.1 | G58: =+G59 -> 17732.1 | H58: =+H59 -> 17732.1
D59: =+'Հավելված N 4'!C55 -> «Վանաձորի Ղևոնդ Ալիշանի անվան N 27 հիմնական դպրոց» ՊՈԱԿ | E59: =+H59 -> 17732.1 | F59: =+H59 -> 17732.1 | G59: =+H59 -> 17732.1 | H59: =+'Հավելված N 4'!D55 -> 17732.1
D60: ՀՀ Վայոց Ձորի մարզ | E60: =+E61 -> 15813.1 | F60: =+F61 -> 31626.1 | G60: =+G61 -> 31626.1 | H60: =+H61 -> 31626.1
D61: =+'Հավելված N 4'!C57 -> «Շատինի միջնակարգ դպրոց» ՊՈԱԿ | E61: =+ROUND(H61/2,1) -> 15813.1 | F61: =+H61 -> 31626.1 | G61: =+H61 -> 31626.1 | H61: =+'Հավելված N 4'!D57 -> 31626.1
B62: 1236 | C62: 32001 | D62: Մանկապարտեզների նոր շենքերի կառուցում | E62: =+E64 -> 74395 | F62: =+F64 -> 153427.6 | G62: =+G64 -> 232460.1 | H62: =+H64 -> 232460.1
D63: այդ թվում` ըստ կատարողների
D64: ՀՀ քաղաքաշինության կոմիտե | E64: =+E66+E68 -> 74395 | F64: =+F66+F68 -> 153427.6 | G64: =+G66+G68 -> 232460.1 | H64: =+H66+H68 -> 232460.1
D65: այդ թվում՝ ըստ ուղղությունների
D66: ՀՀ Արարատի մարզ | E66: =SUM(E67:E67) -> 0 | F66: =SUM(F67:F67) -> 79032.6 | G66: =SUM(G67:G67) -> 158065.1 | H66: =SUM(H67:H67) -> 158065.1
D67: =+'Հավելված N 4'!C61 -> ՀՀ Արարատի մարզի Արալեզ համայնքում «Մոդուլային» տիպի 144 տեղ հզորությամբ մսուր-մանկապարտեզ | E67: 0 | F67: =+ROUND(H67/2,1) -> 79032.6 | G67: =+H67 -> 158065.1 | H67: =+'Հավելված N 4'!D61 -> 158065.1
D68: ՀՀ Արմավիրի մարզ | E68: =SUM(E69:E69) -> 74395 | F68: =SUM(F69:F69) -> 74395 | G68: =SUM(G69:G69) -> 74395 | H68: =SUM(H69:H69) -> 74395
D69: =+'Հավելված N 4'!C63 -> ՀՀ Արմավիրի մարզի Արևիկ համայնքում «Մոդուլային» տիպի 144 տեղ հզորությամբ մսուր-մանկապարտեզ | E69: =+H69 -> 74395 | F69: =+H69 -> 74395 | G69: =+H69 -> 74395 | H69: =+'Հավելված N 4'!D63 -> 74395
B70: 1236 | C70: 32002 | D70: Մանկապարտեզների շենքերի վերակառուցում, հիմնանորոգում | E70: =+E72 -> 0 | F70: =+F72 -> 0 | G70: =+G72 -> -279349.7 | H70: =+H72 -> -231068.5
D71: այդ թվում` ըստ կատարողների
D72: ՀՀ կառավարություն | E72: 0 | F72: 0 | G72: =-G13-G19-G42-G62-G73-G96 -> -279349.7 | H72: =+'Հավելված N 4'!D66 -> -231068.5
B73: 1236 | C73: 32003 | D73: Հանրակրթական դպրոցների նոր շենքերի կառուցում | E73: =+E75+E95 -> -325135.2 | F73: =+F75+F95 -> -325135.2 | G73: =+G75+G95 -> -680710.5 | H73: =+H75+H95 -> -728991.7
D74: այդ թվում` ըստ կատարողների
D75: ՀՀ քաղաքաշինության կոմիտե | E75: =+E77+E80+E83+E86+E89+E91+E93 -> 407864.8 | F75: =+F77+F80+F83+F86+F89+F91+F93 -> 407864.8 | G75: =+G77+G80+G83+G86+G89+G91+G93 -> 407864.8 | H75: =+H77+H80+H83+H86+H89+H91+H93 -> 407864.8
D76: այդ թվում՝ ըստ ուղղությունների
D77: ՀՀ Արարատի մարզ | E77: =SUM(E78:E79) -> 116750.6 | F77: =SUM(F78:F79) -> 116750.6 | G77: =SUM(G78:G79) -> 116750.6 | H77: =SUM(H78:H79) -> 116750.6
D78: =+'Հավելված N 4'!C71 -> «Մասիսի թիվ 5 ավագ դպրոց» ՊՈԱԿ | E78: =+H78 -> 111750.6 | F78: =+H78 -> 111750.6 | G78: =+H78 -> 111750.6 | H78: =+'Հավելված N 4'!D71 -> 111750.6
D79: =+'Հավելված N 4'!C72 -> «Նիզամիի միջնակարգ դպրոց» ՊՈԱԿ | E79: =+H79 -> 5000 | F79: =+H79 -> 5000 | G79: =+H79 -> 5000 | H79: =+'Հավելված N 4'!D72 -> 5000
D80: ՀՀ Արմավիրի մարզ | E80: =SUM(E81:E82) -> 20700 | F80: =SUM(F81:F82) -> 20700 | G80: =SUM(G81:G82) -> 20700 | H80: =SUM(H81:H82) -> 20700
D81: =+'Հավելված N 4'!C74 -> «Վաղարշապատի Մովսես Խորենացու անվան N 10 ավագ դպրոց» ՊՈԱԿ | E81: =+H81 -> 15700 | F81: =+H81 -> 15700 | G81: =+H81 -> 15700 | H81: =+'Հավելված N 4'!D74 -> 15700
D82: =+'Հավելված N 4'!C75 -> «Հայկաշենի Գ. Կիրակոսյանի անվան միջնակարգ դպրոց» ՊՈԱԿ | E82: =+H82 -> 5000 | F82: =+H82 -> 5000 | G82: =+H82 -> 5000 | H82: =+'Հավելված N 4'!D75 -> 5000
D83: ՀՀ Լոռու մարզ | E83: =SUM(E84:E85) -> 175590.6 | F83: =SUM(F84:F85) -> 175590.6 | G83: =SUM(G84:G85) -> 175590.6 | H83: =SUM(H84:H85) -> 175590.6
D84: =+'Հավելված N 4'!C77 -> «Մեդովկայի միջնակարգ դպրոց դպրոց» ՊՈԱԿ | E84: =+H84 -> 112845.9 | F84: =+H84 -> 112845.9 | G84: =+H84 -> 112845.9 | H84: =+'Հավելված N 4'!D77 -> 112845.9
D85: =+'Հավելված N 4'!C78 -> «Հագվու հիմնական դպրոց» ՊՈԱԿ | E85: =+H85 -> 62744.7 | F85: =+H85 -> 62744.7 | G85: =+H85 -> 62744.7 | H85: =+'Հավելված N 4'!D78 -> 62744.7
D86: ՀՀ Կոտայքի մարզ | E86: =SUM(E87:E88) -> 3229.8 | F86: =SUM(F87:F88) -> 3229.8 | G86: =SUM(G87:G88) -> 3229.8 | H86: =SUM(H87:H88) -> 3229.8
D87: =+'Հավելված N 4'!C80 -> «Ջրառատի միջնակարգ դպրոց» ՊՈԱԿ | E87: =+H87 -> 3008.5 | F87: =+H87 -> 3008.5 | G87: =+H87 -> 3008.5 | H87: =+'Հավելված N 4'!D80 -> 3008.5
D88: =+'Հավելված N 4'!C81 -> «Կաթնաղբյուրի հիմնական դպրոց» ՊՈԱԿ | E88: =+H88 -> 221.3 | F88: =+H88 -> 221.3 | G88: =+H88 -> 221.3 | H88: =+'Հավելված N 4'!D81 -> 221.3
D89: ՀՀ Շիրակի մարզ | E89: =SUM(E90:E90) -> 40901.9 | F89: =SUM(F90:F90) -> 40901.9 | G89: =SUM(G90:G90) -> 40901.9 | H89: =SUM(H90:H90) -> 40901.9
D90: =+'Հավելված N 4'!C83 -> «Կապսի միջնակարգ դպրոց» ՊՈԱԿ | E90: =+H90 -> 40901.9 | F90: =+H90 -> 40901.9 | G90: =+H90 -> 40901.9 | H90: =+'Հավելված N 4'!D83 -> 40901.9
D91: ՀՀ Վայոց Ձորի մարզ | E91: =SUM(E92:E92) -> 45691.9 | F91: =SUM(F92:F92) -> 45691.9 | G91: =SUM(G92:G92) -> 45691.9 | H91: =SUM(H92:H92) -> 45691.9
D92: =+'Հավելված N 4'!C85 -> «Եղեգիսի միջնակարգ դպրոց» ՊՈԱԿ | E92: =+H92 -> 45691.9 | F92: =+H92 -> 45691.9 | G92: =+H92 -> 45691.9 | H92: =+'Հավելված N 4'!D85 -> 45691.9
D93: ՀՀ Տավուշի մարզ | E93: =SUM(E94:E94) -> 5000 | F93: =SUM(F94:F94) -> 5000 | G93: =SUM(G94:G94) -> 5000 | H93: =SUM(H94:H94) -> 5000
D94: =+'Հավելված N 4'!C87 -> «Նավուրի միջնակարգ դպրոց» ՊՈԱԿ | E94: =+H94 -> 5000 | F94: =+H94 -> 5000 | G94: =+H94 -> 5000 | H94: =+'Հավելված N 4'!D87 -> 5000
D95: ՀՀ կառավարություն | E95: -733000 | F95: -733000 | G95: -1088575.3 | H95: =+'Հավելված N 4'!D69 -> -1136856.5
B96: 1236 | C96: 32005 | D96: Կրթահամալիրների կառուցում | E96: =+E98+E118 -> 20000 | F96: =+F98+F118 -> 20000 | G96: =+G98+G118 -> 20000 | H96: =+H98+H118 -> 20000
D97: այդ թվում` ըստ կատարողների
D98: ՀՀ քաղաքաշինության կոմիտե | E98: =+E100+E102+E104+E106 -> 20000 | F98: =+F100+F102+F104+F106 -> 20000 | G98: =+G100+G102+G104+G106 -> 20000 | H98: =+H100+H102+H104+H106 -> 20000
D99: այդ թվում՝ ըստ ուղղությունների
D100: ՀՀ Արագածոտնի մարզ | E100: =SUM(E101:E101) -> 5000 | F100: =SUM(F101:F101) -> 5000 | G100: =SUM(G101:G101) -> 5000 | H100: =SUM(H101:H101) -> 5000
D101: =+'Հավելված N 4'!C91 -> գ․ Հացաշենի մոդուլային կրթահամալիր | E101: =+H101 -> 5000 | F101: =+H101 -> 5000 | G101: =+H101 -> 5000 | H101: =+'Հավելված N 4'!D91 -> 5000
D102: ՀՀ Գեղարքունիքի մարզ | E102: =SUM(E103:E103) -> 5000 | F102: =SUM(F103:F103) -> 5000 | G102: =SUM(G103:G103) -> 5000 | H102: =SUM(H103:H103) -> 5000
D103: =+'Հավելված N 4'!C93 -> գ․ Արփունքի մոդուլային կրթահամալիր | E103: =+H103 -> 5000 | F103: =+H103 -> 5000 | G103: =+H103 -> 5000 | H103: =+'Հավելված N 4'!D93 -> 5000
...

Sheet Հավելված N 6
C1: Հավելված N 6
C2: ՀՀ կառավարության 2024 թվականի
C3: ______________ ի ___Ն որոշման
B6: ՀԱՅԱՍՏԱՆԻ ՀԱՆՐԱՊԵՏՈՒԹՅԱՆ ԿԱՌԱՎԱՐՈՒԹՅԱՆ 2023 ԹՎԱԿԱՆԻ ԴԵԿՏԵՄԲԵՐԻ 28-Ի N 2323-Ն ՈՐՈՇՄԱՆ N 9 ՀԱՎԵԼՎԱԾԻ NN 9.13 ԱՂՅՈՒՍԱԿՈՒՄ ԿԱՏԱՐՎՈՂ ՓՈՓՈԽՈՒԹՅՈՒՆՆԵՐԸ ԵՎ ԼՐԱՑՈՒՄՆԵՐԸ
A8: Աղյուսակ 9․13
C9: ՀՀ կրթության, գիտության, մշակույթի և սպորտի նախարարություն
B10: ՄԱՍ 2. ՊԵՏԱԿԱՆ ՄԱՐՄՆԻ ԳԾՈՎ ԱՐԴՅՈՒՆՔԱՅԻՆ (ԿԱՏԱՐՈՂԱԿԱՆ) ՑՈՒՑԱՆԻՇՆԵՐԸ
B13: Ծրագրի դասիչը | C13: Ծրագրի անվանումը
B14: 1163 | C14: Մասսայական սպորտ
B16: Ծրագրի միջոցառումները
B17: Ծրագրի դասիչը՝ | C17: 1163 | D17: Ցուցանիշների փոփոխությունը (ավելացումները նշված են դրական նշանով)
B18: Միջոցառման դասիչը՝ | C18: 32001 | D18: Առաջին եռամսյակ | E18: Առաջին կիսամյակ | F18: Ինն ամիս | G18: Տարի
B19: Միջոցառման անվանումը` | C19: Մարզական օբյեկտների շինարարություն
B20: Նկարագրությունը` | C20: Մարզական օբյեկտների շենքերի (մասնաշենքերի) կառուցում (համաշինարարական աշխատանքներ, ջեռուցման համակարգի իրականացում, ներքին հարդարում, տարածքի բարեկարգում) և նախագծում
B21: Միջոցառման տեսակը` | C21: Այլ պետական կազմակերպությունների կողմից օգտագործվող ոչ ֆինանսական ակտիվների հետ գործառնություններ
B22: Ակտիվն օգտագործող կազմակերպությունների անվանումները | C22: Մարզական հաստատություններ
B23: Արդյունքի չափորոշիչներ
B24: Կառուցման ենթակա օբյեկտների թիվ, հատ | E24: 1 | G24: 1
B25: Հաստատությունների քանակ, որոնց շինարարական աշխատանքների ավարտվածության աստիճանը 100% է, հատ | E25: 1 | G25: 1
B26: Միջոցառման վրա կատարվող ծախսը (հազար դրամ) | D26: =+'Հավելված N 2'!D23 -> 51974 | E26: =+'Հավելված N 2'!E23 -> 51974 | F26: =+'Հավելված N 2'!F23 -> 51974 | G26: =+'Հավելված N 2'!G23 -> 51974
B28: Ծրագրի դասիչը | C28: Ծրագրի անվանումը
B29: 1183 | C29: Ապահով դպրոց
B31: Ծրագրի միջոցառումները
B32: Ծրագրի դասիչը` | C32: 1183 | D32: Ցուցանիշների փոփոխությունը (ավելացումները նշված են դրական նշանով)
B33: Միջոցառման դասիչը` | C33: 32007 | D33: Առաջին եռամսյակ | E33: Առաջին կիսամյակ | F33: Ինն ամիս | G33: Տարի
B34: Միջոցառման անվանումը` | C34: Հանրակրթական կրթություն իրականացնող ուսումնական հաստատությունների նոր մարզադահլիճների կառուցում
B35: Նկարագրությունը` | C35: Հանրակրթական ուսուցում իրականացնող ուսումնական հաստատությունների նոր մարզադահլիճների կառուցման նախագծանախահաշվային փաստաթղթերի մշակում
B36: Միջոցառման տեսակը` | C36: Այլ պետական կազմակերպությունների կողմից օգտագործվող ոչ ֆինանսական ակտիվների հետ գործառնություններ
B37: Ակտիվն օգտագործող կազմակերպությունների անվանումները | C37: Հանրակրթական դպրոցներ
B38: Արդյունքի չափորոշիչներ
B39: Ուսումնական հաստատությունների քանակ, որոնց համար կառուցվում են նոր մարզադահլիճներ, հատ | E39: 15 | G39: 15
B40: Հաստատությունների քանակ, որոնց շինարարական աշխատանքների ավարտվածության աստիճանը 100% է, հատ | E40: 15 | G40: 15
B41: Միջոցառման վրա կատարվող ծախսը (հազար դրամ) | D41: =+'Հավելված N 2'!D36 -> 418279.2 | E41: =+'Հավելված N 2'!E36 -> 418279.2 | F41: =+'Հավելված N 2'!F36 -> 418279.2 | G41: =+'Հավելված N 2'!G36 -> 418279.2
B43: Ծրագրի միջոցառումները
B44: Ծրագրի դասիչը` | C44: 1183 | D44: Ցուցանիշների փոփոխությունը (ավելացումները նշված են դրական նշանով)
B45: Միջոցառման դասիչը` | C45: 32009 | D45: Առաջին եռամսյակ | E45: Առաջին կիսամյակ | F45: Ինն ամիս | G45: Տարի
B46: Միջոցառման անվանումը` | C46: Հանրակրթական կրթություն իրականացնող ուսումնական հաստատությունների մարզադահլիճների վերակառուցում
B47: Նկարագրությունը` | C47: Հանրակրթական ուսուցում իրականացնող ուսումնական հաստատությունների մարզադահլիճների վերակառուցման նախագծանախահաշվային փաստաթղթերի մշակում
B48: Միջոցառման տեսակը` | C48: Այլ պետական կազմակերպությունների կողմից օգտագործվող ոչ ֆինանսական ակտիվների հետ գործառնություններ
B49: Ակտիվն օգտագործող կազմակերպությունների անվանումները | C49: Հանրակրթական դպրոցներ
B50: Արդյունքի չափորոշիչներ
B51: Հիմնանորոգվող ուսումնական հաստատությունների քանակ, հատ | E51: 9 | G51: 9
B52: Հաստատությունների քանակ, որոնց շինարարական աշխատանքների ավարտվածության աստիճանը 100% է, հատ | E52: 8 | G52: 9
B53: Միջոցառման վրա կատարվող ծախսը (հազար դրամ) | D53: =+'Հավելված N 2'!D42 -> 161856.8 | E53: =+'Հավելված N 2'!E42 -> 203382.2 | F53: =+'Հավելված N 2'!F42 -> 237346.9 | G53: =+'Հավելված N 2'!G42 -> 237346.9
B55: Ծրագրի դասիչը | C55: Ծրագրի անվանումը
B56: 1236 | C56: Հանրակրթական և նախադպրոցական հաստատությունների հիմնում, կառուցում, բարելավում
B58: Ծրագրի միջոցառումները
B59: Ծրագրի դասիչը՝ | C59: 1236 | D59: Ցուցանիշների փոփոխությունը (ավելացումները նշված են դրական նշանով)
B60: Միջոցառման դասիչը՝ | C60: 32001 | D60: Առաջին եռամսյակ | E60: Առաջին կիսամյակ | F60: Ինն ամիս | G60: Տարի
B61: Միջոցառման անվանումը` | C61: Մանկապարտեզների նոր շենքերի կառուցում
B62: Նկարագրությունը` | C62: Նախադպրոցական կրթության հասանելիության ապահովման նպատակով՛ մանկապարտեզների հիմնում, նոր շենքերի (մասնաշենքերի), ներառյալ՛ ,Մոդուլայինե տիպի շենքերի կառուցում և նախագծում
B63: Միջոցառման տեսակը` | C63: Այլ պետական կազմակերպությունների կողմից օգտագործվող ոչ ֆինանսական ակտիվների հետ գործառնություններ
B64: Ակտիվն օգտագործող կազմակերպությունների անվանումները | C64: Նախադպրոցական կրթություն իրականացնող ուսումնական հաստատություններ
B65: Արդյունքի չափորոշիչներ
B66: Կառուցվող մանկապարտեզների քանակ, հատ | E66: 1 | G66: 1
B67: Հաստատությունների քանակ, որոնց շինարարական աշխատանքների ավարտվածության աստիճանը 100% է, հատ | E67: 1 | G67: 1
B68: Միջոցառման վրա կատարվող ծախսը (հազար դրամ) | D68: =+'Հավելված N 2'!D55 -> 74395 | E68: =+'Հավելված N 2'!E55 -> 153427.6 | F68: =+'Հավելված N 2'!F55 -> 232460.1 | G68: =+'Հավելված N 2'!G55 -> 232460.1
B70: Ծրագրի միջոցառումները
B71: Ծրագրի դասիչը՝ | C71: 1236 | D71: Ցուցանիշների փոփոխությունը (նվազեցումները նշված են փակագծերում)
B72: Միջոցառման դասիչը՝ | C72: 32002 | D72: Առաջին եռամսյակ | E72: Առաջին կիսամյակ | F72: Ինն ամիս | G72: Տարի
B73: Միջոցառման անվանումը` | C73: Մանկապարտեզների շենքերի վերակառուցում, հիմնանորոգում
B74: Նկարագրությունը` | C74: Նախադպրոցական կրթության հասանելիության ապահովման նպատակով՛ մանկապարտեզների շենքերի (մասնաշենքերի), վերակառուցում, հիմնանորոգում և նախագծում
B75: Միջոցառման տեսակը` | C75: Այլ պետական կազմակերպությունների կողմից օգտագործվող ոչ ֆինանսական ակտիվների հետ գործառնություններ
B76: Ակտիվն օգտագործող կազմակերպությունների անվանումները | C76: Նախադպրոցական կրթությույն իրականացնող ուսումնական հաստատություններ
B77: Արդյունքի չափորոշիչներ
B78: Միջոցառման վրա կատարվող ծախսը (հազար դրամ) | D78: =+'Հավելված N 2'!D61 -> 0 | E78: =+'Հավելված N 2'!E61 -> 0 | F78: =+'Հավելված N 2'!F61 -> -279349.7 | G78: =+'Հավելված N 2'!G61 -> -231068.5
B80: Ծրագրի միջոցառումները
B81: Ծրագրի դասիչը՝ | C81: 1236 | D81: Ցուցանիշների փոփոխությունը (ավելացումները նշված են դրական նշանով, իսկ նվազեցումները՝ փակագծերում)
B82: Միջոցառման դասիչը՝ | C82: 32003 | D82: Առաջին եռամսյակ | E82: Առաջին կիսամյակ | F82: Ինն ամիս | G82: Տարի
B83: Միջոցառման անվանումը` | C83: Հանրակրթական դպրոցների նոր շենքերի կառուցում
B84: Նկարագրությունը` | C84: ՀՀ մարզերում կրթական որակյալ ծառայությունների հասանելիության ապահովման ծրագրի շրջանակներում հանրակրթական և նախադպրոցական կրթության հասանելիության ապահովման նպատակով կրթական կենտրոնների կառուցում
B85: Միջոցառման տեսակը` | C85: Այլ պետական կազմակերպությունների կողմից օգտագործվող ոչ ֆինանսական ակտիվների հետ գործառնություններ
B86: Ակտիվն օգտագործող կազմակերպությունների անվանումները | C86: Հանրակրթական դպրոցներ
B87: Արդյունքի չափորոշիչներ
B88: Կառուցվող մոդուլային դպրոցների թիվը, հատ | E88: 4 | G88: 4
B89: Մոդուլային դպրոցների թիվը, որոնց շինարարական աշխատանքների ավարտվածության աստիճանը 100% է, հատ | E89: 4 | G89: 4
B90: Տարվա ընթացքում կառուցումն ավարտված մոդուլային դպրոցների ընդհանուր հզորությունը (շահառուների թիվը), մարդ | E90: 450 | G90: 450
B91: ՀՀ-ում կրթական որակյալ ծառայությունների հասանելիության ապահովման ծրագրի շրջանակներում կառուցվող ոչ մոդուլային դպրոցների թիվը, հատ | E91: 1 | G91: 1
B92: ՀՀ-ում կրթական որակյալ ծառայությունների հասանելիության ապահովման ծրագրի շրջանակներում կառուցվող ոչ մոդուլային դպրոցների թիվը, որոնց շինարարական աշխատանքների ավարտվածության աստիճանը 100% է, հատ | E92: 1 | G92: 1
B93: Տարվա ընթացքում կառուցումն ավարտված ոչ մոդուլային դպրոցների ընդհանուր հզորությունը (շահառուների թիվը), մարդ | E93: 288 | G93: 288
B94: Նախագծանախահաշվային փաստաթղթերի քանակ, հատ | E94: 4 | G94: 4
B95: Միջոցառման վրա կատարվող ծախսը (հազար դրամ) | D95: =+'Հավելված N 2'!D67 -> -325135.2 | E95: =+'Հավելված N 2'!E67 -> -325135.2 | F95: =+'Հավելված N 2'!F67 -> -680710.5 | G95: =+'Հավելված N 2'!G67 -> -728991.7
B97: Ծրագրի միջոցառումները
B98: Ծրագրի դասիչը՝ | C98: 1236 | D98: Ցուցանիշների փոփոխությունը (ավելացումները նշված են դրական նշանով)
B99: Միջոցառման դասիչը՝ | C99: 32005 | D99: Առաջին եռամսյակ | E99: Առաջին կիսամյակ | F99: Ինն ամիս | G99: Տարի
B100: Միջոցառման անվանումը` | C100: Կրթահամալիրների կառուցում
B101: Նկարագրությունը` | C101: ՀՀ մարզերում կրթական որակյալ ծառայությունների հասանելիության ապահովման ծրագրի շրջանակներում հանրակրթական և նախադպրոցական կրթության հասանելիության ապահովման նպատակով կրթական կենտրոնների կառուցում
B102: Միջոցառման տեսակը` | C102: Այլ պետական կազմակերպությունների կողմից օգտագործվող ոչ ֆինանսական ակտիվների հետ գործառնություններ
B103: Ակտիվն օգտագործող կազմակերպությունների անվանումները | C103: Ստեղծվող կրթահամալիրներ
B104: Արդյունքի չափորոշիչներ
B105: Նախագծանախահաշվային փաստաթղթերի քանակ, հատ | E105: 4 | G105: 4
B106: Միջոցառման վրա կատարվող ծախսը (հազար դրամ) | D106: =+'Հավելված N 2'!D73 -> 20000 | E106: =+'Հավելված N 2'!E73 -> 20000 | F106: =+'Հավելված N 2'!F73 -> 20000 | G106: =+'Հավելված N 2'!G73 -> 20000

Sheet Հավելված N 7
C1: Հավելված N 7
C2: ՀՀ կառավարության 2024 թվականի
C3: ______________ ի ___Ն որոշման
B6: ՀԱՅԱՍՏԱՆԻ ՀԱՆՐԱՊԵՏՈՒԹՅԱՆ ԿԱՌԱՎԱՐՈՒԹՅԱՆ 2023 ԹՎԱԿԱՆԻ ԴԵԿՏԵՄԲԵՐԻ 28-Ի N 2323-Ն ՈՐՈՇՄԱՆ N 9.1 ՀԱՎԵԼՎԱԾԻ NN 9.1.39 ԵՎ 9.1.58 ԱՂՅՈՒՍԱԿՆԵՐՈՒՄ ԿԱՏԱՐՎՈՂ ՓՈՓՈԽՈՒԹՅՈՒՆՆԵՐԸ ԵՎ ԼՐԱՑՈՒՄՆԵՐԸ
A9: Աղյուսակ 9․1.39
C10: ՀՀ քաղաքաշինության կոմիտե
B11: ՄԱՍ 1. ՊԵՏԱԿԱՆ ՄԱՐՄՆԻ ԳԾՈՎ ԱՐԴՅՈՒՆՔԱՅԻՆ (ԿԱՏԱՐՈՂԱԿԱՆ) ՑՈՒՑԱՆԻՇՆԵՐԸ
B14: Ծրագրի դասիչը | C14: Ծրագրի անվանումը
B15: 1163 | C15: Մասսայական սպորտ
B17: Ծրագրի միջոցառումները
B18: Ծրագրի դասիչը՝ | C18: 1163 | D18: Ցուցանիշների փոփոխությունը (ավելացումները նշված են դրական նշանով)
B19: Միջոցառման դասիչը՝ | C19: 32001 | D19: Առաջին եռամսյակ | E19: Առաջին կիսամյակ | F19: Ինն ամիս | G19: Տարի
B20: Միջոցառման անվանումը` | C20: Մարզական օբյեկտների շինարարություն
B21: Նկարագրությունը` | C21: Մարզական օբյեկտների շենքերի (մասնաշենքերի) կառուցում (համաշինարարական աշխատանքներ, ջեռուցման համակարգի իրականացում, ներքին հարդարում, տարածքի բարեկարգում) և նախագծում
B22: Միջոցառման տեսակը` | C22: Այլ պետական կազմակերպությունների կողմից օգտագործվող ոչ ֆինանսական ակտիվների հետ գործառնություններ
B23: Ակտիվն օգտագործող կազմակերպությունների անվանումները | C23: Մարզական հաստատություններ
B24: Արդյունքի չափորոշիչներ
B25: Կառուցման ենթակա օբյեկտների թիվ, հատ | E25: 1 | G25: 1
B26: Հաստատությունների քանակ, որոնց շինարարական աշխատանքների ավարտվածության աստիճանը 100% է, հատ | E26: 1 | G26: 1
B27: Միջոցառման վրա կատարվող ծախսը (հազար դրամ) | D27: =+'Հավելված N 3'!G89 -> 51974 | E27: =+'Հավելված N 3'!H89 -> 51974 | F27: =+'Հավելված N 3'!I89 -> 51974 | G27: =+'Հավելված N 3'!J89 -> 51974
B29: Ծրագրի դասիչը | C29: Ծրագրի անվանումը
B30: 1183 | C30: Ապահով դպրոց
B32: Ծրագրի միջոցառումները
B33: Ծրագրի դասիչը` | C33: 1183 | D33: Ցուցանիշների փոփոխությունը (ավելացումները նշված են դրական նշանով)
B34: Միջոցառման դասիչը` | C34: 32007 | D34: Առաջին եռամսյակ | E34: Առաջին կիսամյակ | F34: Ինն ամիս | G34: Տարի
B35: Միջոցառման անվանումը` | C35: Հանրակրթական կրթություն իրականացնող ուսումնական հաստատությունների նոր մարզադահլիճների կառուցում
B36: Նկարագրությունը` | C36: Հանրակրթական ուսուցում իրականացնող ուսումնական հաստատությունների նոր մարզադահլիճների կառուցման նախագծանախահաշվային փաստաթղթերի մշակում
B37: Միջոցառման տեսակը` | C37: Այլ պետական կազմակերպությունների կողմից օգտագործվող ոչ ֆինանսական ակտիվների հետ գործառնություններ
B38: Ակտիվն օգտագործող կազմակերպությունների անվանումները | C38: Հանրակրթական դպրոցներ
B39: Արդյունքի չափորոշիչներ
B40: Ուսումնական հաստատությունների քանակ, որոնց համար կառուցվում են նոր մարզադահլիճներ, հատ | E40: 15 | G40: 15
B41: Հաստատությունների քանակ, որոնց շինարարական աշխատանքների ավարտվածության աստիճանը 100% է, հատ | E41: 15 | G41: 15
B42: Միջոցառման վրա կատարվող ծախսը (հազար դրամ) | D42: =+'Հավելված N 3'!G100 -> 418279.2 | E42: =+'Հավելված N 3'!H100 -> 418279.2 | F42: =+'Հավելված N 3'!I100 -> 418279.2 | G42: =+'Հավելված N 3'!J100 -> 418279.2
B44: Ծրագրի միջոցառումները
B45: Ծրագրի դասիչը` | C45: 1183 | D45: Ցուցանիշների փոփոխությունը (ավելացումները նշված են դրական նշանով)
B46: Միջոցառման դասիչը` | C46: 32009 | D46: Առաջին եռամսյակ | E46: Առաջին կիսամյակ | F46: Ինն ամիս | G46: Տարի
B47: Միջոցառման անվանումը` | C47: Հանրակրթական կրթություն իրականացնող ուսումնական հաստատությունների մարզադահլիճների վերակառուցում
B48: Նկարագրությունը` | C48: Հանրակրթական ուսուցում իրականացնող ուսումնական հաստատությունների մարզադահլիճների վերակառուցման նախագծանախահաշվային փաստաթղթերի մշակում
B49: Միջոցառման տեսակը` | C49: Այլ պետական կազմակերպությունների կողմից օգտագործվող ոչ ֆինանսական ակտիվների հետ գործառնություններ
B50: Ակտիվն օգտագործող կազմակերպությունների անվանումները | C50: Հանրակրթական դպրոցներ
B51: Արդյունքի չափորոշիչներ
B52: Հիմնանորոգվող ուսումնական հաստատությունների քանակ, հատ | E52: 9 | G52: 9
B53: Հաստատությունների քանակ, որոնց շինարարական աշխատանքների ավարտվածության աստիճանը 100% է, հատ | E53: 8 | G53: 9
B54: Միջոցառման վրա կատարվող ծախսը (հազար դրամ) | D54: =+'Հավելված N 3'!G109 -> 161856.8 | E54: =+'Հավելված N 3'!H109 -> 203382.2 | F54: =+'Հավելված N 3'!I109 -> 237346.9 | G54: =+'Հավելված N 3'!J109 -> 237346.9
B56: Ծրագրի դասիչը | C56: Ծրագրի անվանումը
B57: 1236 | C57: Հանրակրթական և նախադպրոցական հաստատությունների հիմնում, կառուցում, բարելավում
B59: Ծրագրի միջոցառումները
B60: Ծրագրի դասիչը՝ | C60: 1236 | D60: Ցուցանիշների փոփոխությունը (ավելացումները նշված են դրական նշանով)
B61: Միջոցառման դասիչը՝ | C61: 32001 | D61: Առաջին եռամսյակ | E61: Առաջին կիսամյակ | F61: Ինն ամիս | G61: Տարի
B62: Միջոցառման անվանումը` | C62: Մանկապարտեզների նոր շենքերի կառուցում
B63: Նկարագրությունը` | C63: Նախադպրոցական կրթության հասանելիության ապահովման նպատակով՛ մանկապարտեզների հիմնում, նոր շենքերի (մասնաշենքերի), ներառյալ՛ ,Մոդուլայինե տիպի շենքերի կառուցում և նախագծում
B64: Միջոցառման տեսակը` | C64: Այլ պետական կազմակերպությունների կողմից օգտագործվող ոչ ֆինանսական ակտիվների հետ գործառնություններ
B65: Ակտիվն օգտագործող կազմակերպությունների անվանումները | C65: Նախադպրոցական կրթություն իրականացնող ուսումնական հաստատություններ
B66: Արդյունքի չափորոշիչներ
B67: Կառուցվող մանկապարտեզների քանակ, հատ | E67: 1 | G67: 1
B68: Հաստատությունների քանակ, որոնց շինարարական աշխատանքների ավարտվածության աստիճանը 100% է, հատ | E68: 1 | G68: 1
B69: Միջոցառման վրա կատարվող ծախսը (հազար դրամ) | D69: =+'Հավելված N 3'!G28 -> 74395 | E69: =+'Հավելված N 3'!H28 -> 153427.6 | F69: =+'Հավելված N 3'!I28 -> 232460.1 | G69: =+'Հավելված N 3'!J28 -> 232460.1
B71: Ծրագրի միջոցառումները
B72: Ծրագրի դասիչը՝ | C72: 1236 | D72: Ցուցանիշների փոփոխությունը (ավելացումները նշված են դրական նշանով)
B73: Միջոցառման դասիչը՝ | C73: 32003 | D73: Առաջին եռամսյակ | E73: Առաջին կիսամյակ | F73: Ինն ամիս | G73: Տարի
B74: Միջոցառման անվանումը` | C74: Հանրակրթական դպրոցների նոր շենքերի կառուցում
B75: Նկարագրությունը` | C75: ՀՀ մարզերում կրթական որակյալ ծառայությունների հասանելիության ապահովման ծրագրի շրջանակներում հանրակրթական և նախադպրոցական կրթության հասանելիության ապահովման նպատակով կրթական կենտրոնների կառուցում
B76: Միջոցառման տեսակը` | C76: Այլ պետական կազմակերպությունների կողմից օգտագործվող ոչ ֆինանսական ակտիվների հետ գործառնություններ
B77: Ակտիվն օգտագործող կազմակերպությունների անվանումները | C77: Հանրակրթական դպրոցներ
B78: Արդյունքի չափորոշիչներ
B79: Կառուցվող մոդուլային դպրոցների թիվը, հատ | E79: 4 | G79: 4
B80: Մոդուլային դպրոցների թիվը, որոնց շինարարական աշխատանքների ավարտվածության աստիճանը 100% է, հատ | E80: 4 | G80: 4
B81: Տարվա ընթացքում կառուցումն ավարտված մոդուլային դպրոցների ընդհանուր հզորությունը (շահառուների թիվը), մարդ | E81: 450 | G81: 450
B82: ՀՀ-ում կրթական որակյալ ծառայությունների հասանելիության ապահովման ծրագրի շրջանակներում կառուցվող ոչ մոդուլային դպրոցների թիվը, հատ | E82: 1 | G82: 1
B83: ՀՀ-ում կրթական որակյալ ծառայությունների հասանելիության ապահովման ծրագրի շրջանակներում կառուցվող ոչ մոդուլային դպրոցների թիվը, որոնց շինարարական աշխատանքների ավարտվածության աստիճանը 100% է, հատ | E83: 1 | G83: 1
B84: Տարվա ընթացքում կառուցումն ավարտված ոչ մոդուլային դպրոցների ընդհանուր հզորությունը (շահառուների թիվը), մարդ | E84: 288 | G84: 288
B85: Նախագծանախահաշվային փաստաթղթերի քանակ, հատ | E85: 4 | G85: 4
B86: Միջոցառման վրա կատարվող ծախսը (հազար դրամ) | D86: =+'Հավելված N 3'!G54 -> 407864.8 | E86: =+'Հավելված N 3'!H54 -> 407864.8 | F86: =+'Հավելված N 3'!I54 -> 407864.8 | G86: =+'Հավելված N 3'!J54 -> 407864.8
B88: Ծրագրի միջոցառումները
B89: Ծրագրի դասիչը՝ | C89: 1236 | D89: Ցուցանիշների փոփոխությունը (ավելացումները նշված են դրական նշանով)
B90: Միջոցառման դասիչը՝ | C90: 32005 | D90: Առաջին եռամսյակ | E90: Առաջին կիսամյակ | F90: Ինն ամիս | G90: Տարի
B91: Միջոցառման անվանումը` | C91: Կրթահամալիրների կառուցում
B92: Նկարագրությունը` | C92: ՀՀ մարզերում կրթական որակյալ ծառայությունների հասանելիության ապահովման ծրագրի շրջանակներում հանրակրթական և նախադպրոցական կրթության հասանելիության ապահովման նպատակով կրթական կենտրոնների կառուցում
B93: Միջոցառման տեսակը` | C93: Այլ պետական կազմակերպությունների կողմից օգտագործվող ոչ ֆինանսական ակտիվների հետ գործառնություններ
B94: Ակտիվն օգտագործող կազմակերպությունների անվանումները | C94: Ստեղծվող կրթահամալիրներ
B95: Արդյունքի չափորոշիչներ
B96: Նախագծանախահաշվային փաստաթղթերի քանակ, հատ | E96: 4 | G96: 4
B97: Միջոցառման վրա կատարվող ծախսը (հազար դրամ) | D97: =+'Հավելված N 3'!G72 -> 20000 | E97: =+'Հավելված N 3'!H72 -> 20000 | F97: =+'Հավելված N 3'!I72 -> 20000 | G97: =+'Հավելված N 3'!J72 -> 20000
A104: Աղյուսակ 9․1.58
C105: ՀՀ կառավարություն
B106: ՄԱՍ 1. ՊԵՏԱԿԱՆ ՄԱՐՄՆԻ ԳԾՈՎ ԱՐԴՅՈՒՆՔԱՅԻՆ (ԿԱՏԱՐՈՂԱԿԱՆ) ՑՈՒՑԱՆԻՇՆԵՐԸ
B109: Ծրագրի դասիչը | C109: Ծրագրի անվանումը
B110: 1236 | C110: Հանրակրթական և նախադպրոցական հաստատությունների հիմնում, կառուցում, բարելավում
B112: Ծրագրի միջոցառումները
B113: Ծրագրի դասիչը՝ | C113: 1236 | D113: Ցուցանիշների փոփոխությունը (նվազեցումները նշված են փակագծերում)
B114: Միջոցառման դասիչը՝ | C114: 32002 | D114: Առաջին եռամսյակ | E114: Առաջին կիսամյակ | F114: Ինն ամիս | G114: Տարի
B115: Միջոցառման անվանումը` | C115: Մանկապարտեզների շենքերի վերակառուցում, հիմնանորոգում
B116: Նկարագրությունը` | C116: Նախադպրոցական կրթության հասանելիության ապահովման նպատակով՛ մանկապարտեզների շենքերի (մասնաշենքերի), վերակառուցում, հիմնանորոգում և նախագծում
B117: Միջոցառման տեսակը` | C117: Այլ պետական կազմակերպությունների կողմից օգտագործվող ոչ ֆինանսական ակտիվների հետ գործառնություններ
B118: Ակտիվն օգտագործող կազմակերպությունների անվանումները | C118: Նախադպրոցական կրթությույն իրականացնող ուսումնական հաստատություններ
B119: Արդյունքի չափորոշիչներ
B120: Միջոցառման վրա կատարվող ծախսը (հազար դրամ) | D120: =+'Հավելված N 3'!G37 -> 0 | E120: =+'Հավելված N 3'!H37 -> 0 | F120: =+'Հավելված N 3'!I37 -> -279349.7 | G120: =+'Հավելված N 3'!J37 -> -231068.5
B122: Ծրագրի միջոցառումները
B123: Ծրագրի դասիչը՝ | C123: 1236 | D123: Ցուցանիշների փոփոխությունը (նվազեցումները նշված են փակագծերում)
B124: Միջոցառման դասիչը՝ | C124: 32003 | D124: Առաջին եռամսյակ | E124: Առաջին կիսամյակ | F124: Ինն ամիս | G124: Տարի
...

Sheet Հավելված N 8
H1: Հավելված N 8
H2: ՀՀ կառավարության 2024 թվականի
H3: ______________ ի ___Ն որոշման
A6: ՀԱՅԱՍՏԱՆԻ ՀԱՆՐԱՊԵՏՈՒԹՅԱՆ ԿԱՌԱՎԱՐՈՒԹՅԱՆ 2023 ԹՎԱԿԱՆԻ ԴԵԿՏԵՄԲԵՐԻ 28-Ի N 2323-Ն N 10 ՀԱՎԵԼՎԱԾՈՒՄ ԿԱՏԱՐՎՈՂ ԼՐԱՑՈՒՄՆԵՐԸ
A10: Կոդը | B10: Անվանումը | E10: Գնման ձևը | F10: Չափման միավորը | G10: Միավորի գինը | H10: Ցուցանիշների փոփոխությունը (ավելացումները նշված են դրական նշանով)
H11: Քանակը | I11: Գումարը (հազար դրամ)
A12: 1 | B12: 2 | E12: 3 | F12: 4 | G12: 5 | H12: 6 | I12: 7
A13: ՀՀ քաղաքաշինության կոմիտե | I13: =+I14+I24+I55 -> 1349434.9
A14: Բաժին N 09 | B14: Խումբ N 01 | C14: Դաս N 01 | D14: Նախադպրոցական կրթություն | I14: =+I15 -> 232460.1
A15: 1236-32001 | B15: Մանկապարտեզների նոր շենքերի կառուցում | I15: =+I16+I19 -> 232460.1
B16: ՄԱՍ II. ԱՇԽԱՏԱՆՔՆԵՐ | I16: =SUM(I17:I18) -> 219262.9
A17: 45221142-2 | B17: ընդհանուր շինարարական աշխատանքներ | E17: ՀԲՄ | F17: դրամ | I17: 148851.4
A18: 45221142 | B18: ընդհանուր շինարարական աշխատանքներ | E18: ՀԲՄ | F18: դրամ | G18: 70411500 | H18: 1 | I18: =+ROUNDUP(H18*G18/1000,1) -> 70411.5
B19: ՄԱՍ III. ԾԱՌԱՅՈՒԹՅՈՒՆՆԵՐ | I19: =SUM(I20:I23) -> 13197.2
A20: 71351540-2 | B20: տեխնիկական հսկողության ծառայություններ | E20: ԳՀ | F20: դրամ | I20: 5049.7
A21: 71351540 | B21: տեխնիկական հսկողության ծառայություններ | E21: ԳՀ | F21: դրամ | G21: 2641000 | H21: 1 | I21: =+ROUNDUP(H21*G21/1000,1) -> 2641
A22: 98111140-2 | B22: հեղինակային հսկողության ծառայություններ | E22: ՄԱ | F22: դրամ | I22: 4164
A23: 98111140 | B23: հեղինակային հսկողության ծառայություններ | E23: ՄԱ | F23: դրամ | G23: 1342500 | H23: 1 | I23: =+ROUNDUP(H23*G23/1000,1) -> 1342.5
A24: Բաժին N 09 | B24: Խումբ N 02 | C24: Դաս N 01 | D24: Հիմնական ընդհանուր կրթություն | I24: =+I25+I45 -> 409374.7
A25: 1236-32003 | B25: Հանրակրթական դպրոցների նոր շենքերի կառուցում | I25: =+I26+I32 -> 389374.7
B26: ՄԱՍ II. ԱՇԽԱՏԱՆՔՆԵՐ | I26: =SUM(I27:I31) -> 358120.4
A27: 45221142 | B27: ընդհանուր շինարարական աշխատանքներ | E27: ԲՄ | F27: դրամ | G27: 105493250 | H27: 1 | I27: =+ROUNDUP(H27*G27/1000,1) -> 105493.3
A28: 45211231 | B28: միջնակարգ դպրոցների կառուցման աշխատանքներ | E28: ԲՄ | F28: դրամ | G28: 110401440 | H28: 1 | I28: =+ROUNDUP(H28*G28/1000,1) -> 110401.5
A29: 45211231 | B29: միջնակարգ դպրոցների կառուցման աշխատանքներ | E29: ԲՄ | F29: դրամ | G29: 60080600 | H29: 1 | I29: =+ROUNDUP(H29*G29/1000,1) -> 60080.6
A30: 45221142 | B30: ընդհանուր շինարարական աշխատանքներ | E30: ՀԲՄ | F30: դրամ | G30: 39156630 | H30: 1 | I30: =+ROUNDUP(H30*G30/1000,1) -> 39156.7
A31: 45221142 | B31: ընդհանուր շինարարական աշխատանքներ | E31: ՀԲՄ | F31: դրամ | G31: 42988300 | H31: 1 | I31: =+ROUNDUP(H31*G31/1000,1) -> 42988.3
B32: ՄԱՍ III. ԾԱՌԱՅՈՒԹՅՈՒՆՆԵՐ | I32: =SUM(I33:I44) -> 31254.3
A33: 71351540 | B33: տեխնիկական հսկողության ծառայություններ | E33: ԳՀ | F33: դրամ | G33: 5356100 | H33: 1 | I33: =+ROUNDUP(H33*G33/1000,1) -> 5356.1
A34: 71351540 | B34: տեխնիկական հսկողության ծառայություններ | E34: ԳՀ | F34: դրամ | G34: =1644470+2250320 -> 3894790 | H34: =--1 -> 1 | I34: =+ROUNDUP(H34*G34/1000,1) -> 3894.8
A35: 71351540-64 | B35: տեխնիկական հսկողության ծառայություններ | E35: ԳՀ | F35: դրամ | H35: =--1 -> 1 | I35: 869.4
A36: 71351540-80 | B36: տեխնիկական հսկողության ծառայություններ | E36: ԳՀ | F36: դրամ | H36: =--1 -> 1 | I36: 1769.9
A37: 98111140 | B37: հեղինակային հսկողության ծառայություններ | E37: ՄԱ | F37: դրամ | G37: 901200 | H37: 1 | I37: =+ROUNDUP(H37*G37/1000,1) -> 901.2
A38: 98111140-13 | B38: հեղինակային հսկողության ծառայություններ | E38: ՄԱ | F38: դրամ | H38: =--1 -> 1 | I38: =799.9+413.8+218.4+221.3+875.8+933.7 -> 3462.9
A39: 71241200 | B39: նախագծերի պատրաստում, ծախսերի գնահատում | E39: ԳՀ | F39: դրամ | G39: 4500000 | H39: 1 | I39: =+ROUNDUP(H39*G39/1000,1) -> 4500
A40: 71241200 | B40: նախագծերի պատրաստում, ծախսերի գնահատում | E40: ԳՀ | F40: դրամ | G40: 4500000 | H40: 1 | I40: =+ROUNDUP(H40*G40/1000,1) -> 4500
A41: 71241200 | B41: նախագծերի պատրաստում, ծախսերի գնահատում | E41: ԳՀ | F41: դրամ | G41: 4500000 | H41: 1 | I41: =+ROUNDUP(H41*G41/1000,1) -> 4500
A42: 50531140 | B42: փորձաքննության ծառայություններ | E42: ԳՀ | F42: դրամ | G42: 500000 | H42: 1 | I42: =+ROUND(H42*G42/1000,1) -> 500
A43: 50531140 | B43: փորձաքննության ծառայություններ | E43: ԳՀ | F43: դրամ | G43: 500000 | H43: 1 | I43: =+ROUND(H43*G43/1000,1) -> 500
A44: 50531140 | B44: փորձաքննության ծառայություններ | E44: ԳՀ | F44: դրամ | G44: 500000 | H44: 1 | I44: =+ROUND(H44*G44/1000,1) -> 500
A45: 1236-32005 | B45: Կրթահամալիրների կառուցում | I45: =+I46 -> 20000
B46: ՄԱՍ III. ԾԱՌԱՅՈՒԹՅՈՒՆՆԵՐ | I46: =SUM(I47:I54) -> 20000
A47: 71241200 | B47: նախագծերի պատրաստում, ծախսերի գնահատում | E47: ԳՀ | F47: դրամ | G47: 4500000 | H47: 1 | I47: =+ROUNDUP(H47*G47/1000,1) -> 4500
A48: 71241200 | B48: նախագծերի պատրաստում, ծախսերի գնահատում | E48: ԳՀ | F48: դրամ | G48: 4500000 | H48: 1 | I48: =+ROUNDUP(H48*G48/1000,1) -> 4500
A49: 71241200 | B49: նախագծերի պատրաստում, ծախսերի գնահատում | E49: ԳՀ | F49: դրամ | G49: 4500000 | H49: 1 | I49: =+ROUNDUP(H49*G49/1000,1) -> 4500
A50: 71241200 | B50: նախագծերի պատրաստում, ծախսերի գնահատում | E50: ԳՀ | F50: դրամ | G50: 4500000 | H50: 1 | I50: =+ROUNDUP(H50*G50/1000,1) -> 4500
A51: 50531140 | B51: փորձաքննության ծառայություններ | E51: ԳՀ | F51: դրամ | G51: 500000 | H51: 1 | I51: =+ROUND(H51*G51/1000,1) -> 500
A52: 50531140 | B52: փորձաքննության ծառայություններ | E52: ԳՀ | F52: դրամ | G52: 500000 | H52: 1 | I52: =+ROUND(H52*G52/1000,1) -> 500
A53: 50531140 | B53: փորձաքննության ծառայություններ | E53: ԳՀ | F53: դրամ | G53: 500000 | H53: 1 | I53: =+ROUND(H53*G53/1000,1) -> 500
A54: 50531140 | B54: փորձաքննության ծառայություններ | E54: ԳՀ | F54: դրամ | G54: 500000 | H54: 1 | I54: =+ROUND(H54*G54/1000,1) -> 500
A55: Բաժին N 09 | B55: Խումբ N 06 | C55: Դաս N 01 | D55: Կրթությանը տրամադրվող օժանդակ ծառայություններ | I55: =+I56+I62+I106 -> 707600.1
A56: 1163-32001 | B56: Մարզական օբյեկտների շինարարություն | I56: =+I57+I59 -> 51974
B57: ՄԱՍ II. ԱՇԽԱՏԱՆՔՆԵՐ | I57: =+I58 -> 48327
A58: 45211131 | B58: մարզական օբյեկտների շինարարական աշխատանքներ | E58: ԲՄ | F58: դրամ | G58: 48326930 | H58: 1 | I58: =+ROUNDUP(H58*G58/1000,1) -> 48327
B59: ՄԱՍ III. ԾԱՌԱՅՈՒԹՅՈՒՆՆԵՐ | I59: =SUM(I60:I61) -> 3647
A60: 71351540 | B60: տեխնիկական հսկողության ծառայություններ | E60: ԳՀ | F60: դրամ | G60: 2839220 | H60: 1 | I60: =+ROUNDUP(H60*G60/1000,1) -> 2839.3
A61: 98111140 | B61: հեղինակային հսկողության ծառայություններ | E61: ՄԱ | F61: դրամ | G61: 807700 | H61: 1 | I61: =+ROUNDUP(H61*G61/1000,1) -> 807.7
A62: 1183-32007 | B62: Հանրակրթական կրթություն իրականացնող ուսումնական հաստատությունների նոր մարզադահլիճների կառուցում | I62: =+I63+I79 -> 418279.2
B63: ՄԱՍ II. ԱՇԽԱՏԱՆՔՆԵՐ | I63: =SUM(I64:I78) -> 394514.8
A64: 45221142 | B64: ընդհանուր շինարարական աշխատանքներ | E64: ԲՄ | F64: դրամ | G64: 37618390 | H64: 1 | I64: =+ROUNDUP(H64*G64/1000,1) -> 37618.4
A65: 45221142 | B65: ընդհանուր շինարարական աշխատանքներ | E65: ԲՄ | F65: դրամ | G65: 40907510 | H65: 1 | I65: =+ROUNDUP(H65*G65/1000,1) -> 40907.6
A66: 45221142 | B66: ընդհանուր շինարարական աշխատանքներ | E66: ԲՄ | F66: դրամ | G66: 45091780 | H66: 1 | I66: =+ROUNDUP(H66*G66/1000,1) -> 45091.8
A67: 45221142 | B67: ընդհանուր շինարարական աշխատանքներ | E67: ԲՄ | F67: դրամ | G67: 32822140 | H67: 1 | I67: =+ROUNDUP(H67*G67/1000,1) -> 32822.2
A68: 45221142 | B68: ընդհանուր շինարարական աշխատանքներ | E68: ԲՄ | F68: դրամ | G68: 2119140 | H68: 1 | I68: =+ROUNDUP(H68*G68/1000,1) -> 2119.2
A69: 45221142 | B69: ընդհանուր շինարարական աշխատանքներ | E69: ԲՄ | F69: դրամ | G69: 3440500 | H69: 1 | I69: =+ROUNDUP(H69*G69/1000,1) -> 3440.5
A70: 45221142 | B70: ընդհանուր շինարարական աշխատանքներ | E70: ԲՄ | F70: դրամ | G70: 30989900 | H70: 1 | I70: =+ROUNDUP(H70*G70/1000,1) -> 30989.9
A71: 45221142 | B71: ընդհանուր շինարարական աշխատանքներ | E71: ԲՄ | F71: դրամ | G71: 1097220 | H71: 1 | I71: =+ROUNDUP(H71*G71/1000,1) -> 1097.3
A72: 45221142 | B72: ընդհանուր շինարարական աշխատանքներ | E72: ԲՄ | F72: դրամ | G72: 901860 | H72: 1 | I72: =+ROUNDUP(H72*G72/1000,1) -> 901.9
A73: 45221142 | B73: ընդհանուր շինարարական աշխատանքներ | E73: ԲՄ | F73: դրամ | G73: 754360 | H73: 1 | I73: =+ROUNDUP(H73*G73/1000,1) -> 754.4
A74: 45221142 | B74: ընդհանուր շինարարական աշխատանքներ | E74: ԲՄ | F74: դրամ | G74: 66314510 | H74: 1 | I74: =+ROUNDUP(H74*G74/1000,1) -> 66314.6
A75: 45221142 | B75: ընդհանուր շինարարական աշխատանքներ | E75: ԲՄ | F75: դրամ | G75: 22964890 | H75: 1 | I75: =+ROUNDUP(H75*G75/1000,1) -> 22964.9
... A78: 45221142 | B78: ընդհանուր շինարարական աշխատանքներ | E78: ԲՄ | F78: դրամ | G78: 47306710 | H78: 1 | I78: =+ROUNDUP(H78*G78/1000,1) -> 47306.8
B79: ՄԱՍ III. ԾԱՌԱՅՈՒԹՅՈՒՆՆԵՐ | I79: =SUM(I80:I105) -> 23764.4
A80: 71351540 | B80: տեխնիկական հսկողության ծառայություններ | E80: ԳՀ | F80: դրամ | G80: 1124260 | H80: 1 | I80: =+ROUNDUP(H80*G80/1000,1) -> 1124.3
A81: 71351540 | B81: տեխնիկական հսկողության ծառայություններ | E81: ԳՀ | F81: դրամ | G81: 1452470 | H81: 1 | I81: =+ROUNDUP(H81*G81/1000,1) -> 1452.5
A82: 71351540 | B82: տեխնիկական հսկողության ծառայություններ | E82: ԳՀ | F82: դրամ | G82: 1844800 | H82: 1 | I82: =+ROUNDUP(H82*G82/1000,1) -> 1844.8
A83: 71351540 | B83: տեխնիկական հսկողության ծառայություններ | E83: ԳՀ | F83: դրամ | G83: 1392300 | H83: 1 | I83: =+ROUNDUP(H83*G83/1000,1) -> 1392.3
A84: 71351540 | B84: տեխնիկական հսկողության ծառայություններ | E84: ԳՀ | F84: դրամ | G84: 441300 | H84: 1 | I84: =+ROUNDUP(H84*G84/1000,1) -> 441.3
A85: 71351540 | B85: տեխնիկական հսկողության ծառայություններ | E85: ԳՀ | F85: դրամ | G85: 365200 | H85: 1 | I85: =+ROUNDUP(H85*G85/1000,1) -> 365.2
A86: 71351540 | B86: տեխնիկական հսկողության ծառայություններ | E86: ԳՀ | F86: դրամ | G86: 2962400 | H86: 1 | I86: =+ROUNDUP(H86*G86/1000,1) -> 2962.4
A87: 71351540 | B87: տեխնիկական հսկողության ծառայություններ | E87: ԳՀ | F87: դրամ | G87: 1621900 | H87: 1 | I87: =+ROUNDUP(H87*G87/1000,1) -> 1621.9
A88: 71351540 | B88: տեխնիկական հսկողության ծառայություններ | E88: ԳՀ | F88: դրամ | G88: 1083200 | H88: 1 | I88: =+ROUNDUP(H88*G88/1000,1) -> 1083.2
A89: 71351540 | B89: տեխնիկական հսկողության ծառայություններ | E89: ԳՀ | F89: դրամ | G89: 2589200 | H89: 1 | I89: =+ROUNDUP(H89*G89/1000,1) -> 2589.2
A90: 71351540 | B90: տեխնիկական հսկողության ծառայություններ | E90: ԳՀ | F90: դրամ | G90: 2787800 | H90: 1 | I90: =+ROUNDUP(H90*G90/1000,1) -> 2787.8
A91: 98111140 | B91: հեղինակային հսկողության ծառայություններ | E91: ՄԱ | F91: դրամ | G91: 631020 | H91: 1 | I91: =+ROUNDUP(H91*G91/1000,1) -> 631.1
... A105: 98111140 | B105: հեղինակային հսկողության ծառայություններ | E105: ՄԱ | F105: դրամ | G105: 328030 | H105: 1 | I105: =+ROUNDUP(H105*G105/1000,1) -> 328.1
A106: 1183-32009 | B106: Հանրակրթական կրթություն իրականացնող ուսումնական հաստատությունների մարզադահլիճների վերակառուցում | I106: =+I107+I118 -> 237346.9
B107: ՄԱՍ II. ԱՇԽԱՏԱՆՔՆԵՐ | I107: =SUM(I108:I117) -> 230941.9
A108: 45451700 | B108: վերակառուցման աշխատանքներ | E108: ԲՄ | F108: դրամ | G108: 1308830 | H108: 1 | I108: =+ROUNDUP(H108*G108/1000,1) -> 1308.9
A109: 45451700 | B109: վերակառուցման աշխատանքներ | E109: ԲՄ | F109: դրամ | G109: 10641500 | H109: 1 | I109: =+ROUNDUP(H109*G109/1000,1) -> 10641.5
A110: 45451700 | B110: վերակառուցման աշխատանքներ | E110: ԲՄ | F110: դրամ | G110: 19329460 | H110: 1 | I110: =+ROUNDUP(H110*G110/1000,1) -> 19329.5
A111: 45451700 | B111: վերակառուցման աշխատանքներ | E111: ԲՄ | F111: դրամ | G111: 10090 | H111: 1 | I111: =+ROUNDUP(H111*G111/1000,1) -> 10.1
A112: 45451700 | B112: վերակառուցման աշխատանքներ | E112: ԲՄ | F112: դրամ | G112: 65560760 | H112: 1 | I112: =+ROUNDUP(H112*G112/1000,1) -> 65560.8
A113: 45451700 | B113: վերակառուցման աշխատանքներ | E113: ԲՄ | F113: դրամ | G113: 3312560 | H113: 1 | I113: =+ROUNDUP(H113*G113/1000,1) -> 3312.6
A114: 45451700 | B114: վերակառուցման աշխատանքներ | E114: ԲՄ | F114: դրամ | G114: 47247100 | H114: 1 | I114: =+ROUNDUP(H114*G114/1000,1) -> 47247.1
A115: 45451700 | B115: վերակառուցման աշխատանքներ | E115: ԲՄ | F115: դրամ | G115: 17349960 | H115: 1 | I115: =+ROUNDUP(H115*G115/1000,1) -> 17350
A116: 45451700 | B116: վերակառուցման աշխատանքներ | E116: ԲՄ | F116: դրամ | G116: 30837100 | H116: 1 | I116: =+ROUNDUP(H116*G116/1000,1) -> 30837.1
A117: 45451700-1 | B117: վերակառուցման աշխատանքներ | E117: ԲՄ | F117: դրամ | I117: 35344.3
B118: ՄԱՍ III. ԾԱՌԱՅՈՒԹՅՈՒՆՆԵՐ | I118: =SUM(I119:I136) -> 6405
A119: 71351540 | B119: տեխնիկական հսկողության ծառայություններ | E119: ԳՀ | F119: դրամ | G119: 77700 | H119: 1 | I119: =+ROUNDUP(H119*G119/1000,1) -> 77.7
A120: 71351540 | B120: տեխնիկական հսկողության ծառայություններ | E120: ԳՀ | F120: դրամ | G120: 304200 | H120: 1 | I120: =+ROUNDUP(H120*G120/1000,1) -> 304.2
...
