Workbook
Name a: #REF!
Name a: #REF!
Name a: #REF!
Name a: #REF!
Name AgencyCode: #REF!
Name AgencyCode: #REF!
Name AgencyCode: #REF!
Name AgencyCode: #REF!
Name AgencyCode: #REF!
Name AgencyCode: #REF!
Name AgencyCode: #REF!
Name AgencyName: #REF!
Name AgencyName: #REF!
Name AgencyName: #REF!
Name AgencyName: #REF!
Name davit: #REF!
Name davit: #REF!
Name davit: #REF!
Name Functional1: #REF!
Name Functional1: #REF!
Name Functional1: #REF!
Name Functional1: #REF!
Name ggg: #REF!
Name ggg: #REF!
Name ggg: #REF!
Name PANature: #REF!
Name PANature: #REF!
Name PANature: #REF!
Name PANature: #REF!
Name PAType: #REF!
Name PAType: #REF!
Name PAType: #REF!
Name PAType: #REF!
Name Performance2: #REF!
Name Performance2: #REF!
Name Performance2: #REF!
Name Performance2: #REF!
Name PerformanceType: #REF!
Name PerformanceType: #REF!
Name PerformanceType: #REF!
Name PerformanceType: #REF!
Name Հավելված: #REF!
Name Հավելված: #REF!
Name Հավելված: #REF!
Name Հավելված10: #REF!
Name Հավելված10: #REF!
Name Հավելված10: #REF!
Name Հավելված11: #REF!
Name Հավելված11: #REF!
Name Հավելված11: #REF!
Name Հավելված20: #REF!
Name Հավելված20: #REF!
Name Հավելված20: #REF!
Name Հավելված9: #REF!
Name Հավելված9: #REF!
Name Հավելված9: #REF!
Name Մաս: #REF!
Name Մաս: #REF!
Name Մաս: #REF!
Name շախմատիստ: #REF!

Sheet Հավելված N 1 
E1: Հավելված N 1
E2: ՀՀ կառավարության 2024 թվականի
E3: ______________ ի ___Ն որոշման
A5: «ՀԱՅԱՍՏԱՆԻ ՀԱՆՐԱՊԵՏՈՒԹՅԱՆ 2024 ԹՎԱԿԱՆԻ ՊԵՏԱԿԱՆ ԲՅՈՒՋԵԻ ՄԱՍԻՆ» ՕՐԵՆՔԻ 3-ՐԴ ՀՈԴՎԱԾԻ, N 3 ՀԱՎԵԼՎԱԾԻ N 1 ԱՂՅՈՒՍԱԿՈՒՄ ԵՎ ՀԱՅԱՍՏԱՆԻ ՀԱՆՐԱՊԵՏՈՒԹՅԱՆ ԿԱՌԱՎԱՐՈՒԹՅԱՆ 2023 ԹՎԱԿԱՆԻ ԴԵԿՏԵՄԲԵՐԻ 28-Ի N 2323-Ն ՈՐՈՇՄԱՆ N 1 ՀԱՎԵԼՎԱԾԻ N 1 ԱՂՅՈՒՍԱԿՈՒՄ ԿԱՏԱՐՎՈՂ ՓՈՓՈԽՈՒԹՅՈՒՆՆԵՐԸ
E7: հազ. դրամ
A8: Պետական բյուջեի դեֆիցիտի ֆինանսավորման աղբյուրներն ու դրանց տարրերի անվանումները | B8: Ցուցանիշների փոփոխությունը (ավելացումները նշված են դրական նշանով)
B9: Առաջին եռամսյակ | C9: Առաջին կիսամյակ | D9: Ինն ամիս | E9: Տարի
A10: ԸՆԴԱՄԵՆԸ | B10: =+B12 -> 401369.8 | C10: =+C12 -> 521927.8 | D10: =+D12 -> 0 | E10: =+E12 -> 0
A11: այդ թվում՝
A12: Ա.Ներքին աղբյուրներ-ընդամենը | B12: =+B14 -> 401369.8 | C12: =+C14 -> 521927.8 | D12: =+D14 -> 0 | E12: =+E14 -> 0
A13: այդ թվում՝
A14: 2. Ֆինանսական զուտ ակտիվներ | B14: =+B16 -> 401369.8 | C14: =+C16 -> 521927.8 | D14: =+D16 -> 0 | E14: =+E16 -> 0
A15: այդ թվում՝
A16: 2.6.Այլ | B16: =+B18 -> 401369.8 | C16: =+C18 -> 521927.8 | D16: =+D18 -> 0 | E16: =+E18 -> 0
A17: որից՝
A18: Ժամանակավորապես ազատ միջոցներ | B18: =+'Հավելված N 2'!D12 -> 401369.8 | C18: =+'Հավելված N 2'!E12 -> 521927.8 | D18: =+'Հավելված N 2'!F12 -> 0 | E18: =+'Հավելված N 2'!G12 -> 0

Sheet Հավելված N 2
C1: Հավելված N 2
C2: ՀՀ կառավարության 2024 թվականի
C3: ______________ ի ___Ն որոշման
A6: «ՀԱՅԱUՏԱՆԻ ՀԱՆՐԱՊԵՏՈՒԹՅԱՆ 2024 ԹՎԱԿԱՆԻ ՊԵՏԱԿԱՆ ԲՅՈՒՋԵԻ ՄԱUԻՆ» ՀԱՅԱUՏԱՆԻ ՀԱՆՐԱՊԵՏՈՒԹՅԱՆ OՐԵՆՔԻ N 1 ՀԱՎԵԼՎԱԾԻ N 2 ԱՂՅՈՒՍԱԿՈՒՄ ԿԱՏԱՐՎՈՂ ՎԵՐԱԲԱՇԽՈՒՄԸ ԵՎ ՀԱՅԱՍՏԱՆԻ ՀԱՆՐԱՊԵՏՈՒԹՅԱՆ ԿԱՌԱՎԱՐՈՒԹՅԱՆ 2023 ԹՎԱԿԱՆԻ ԴԵԿՏԵՄԲԵՐԻ 28-Ի N 2323-Ն ՈՐՈՇՄԱՆ N 5 ՀԱՎԵԼՎԱԾԻ N 1 ԱՂՅՈՒՍԱԿՈՒՄ ԿԱՏԱՐՎՈՂ ՓՈՓՈԽՈՒԹՅՈՒՆՆԵՐԸ ԵՎ ԼՐԱՑՈՒՄՆԵՐԸ
G9: հազ. դրամներով
A10: Ծրագրային դասիչը | C10: Բյուջետային հատկացումների գլխավոր կարգադրիչների, ծրագրերի և միջոցառումների անվանումները | D10: Ցուցանիշների փոփոխությունը (ավելացումները նշված են դրական նշանով, իսկ նվազեցումները փակագծերում)
A11: Ծրագիր | B11: Միջոցառում | D11: Առաջին եռամսյակ | E11: Առաջին կիսամյակ | F11: Ինն ամիս | G11: Տարի
A12: 1192 | C12: ԸՆԴԱՄԵՆԸ | D12: =+D14 -> 401369.8 | E12: =+E14 -> 521927.8 | F12: =+F14 -> 0 | G12: =+G14 -> 0
C13: այդ թվում
C14: ՀՀ ԿՐԹՈՒԹՅԱՆ, ԳԻՏՈՒԹՅԱՆ, ՄՇԱԿՈՒՅԹԻ ԵՎ ՍՊՈՐՏԻ ՆԱԽԱՐԱՐՈՒԹՅՈՒՆ | D14: =+D16+D29+D48 -> 401369.8 | E14: =+E16+E29+E48 -> 521927.8 | F14: =+F16+F29+F48 -> 0 | G14: =+G16+G29+G48 -> 0
A15: 1163 | C15: Ծրագրի անվանումը`
C16: Մասսայական սպորտ | D16: =+D23 -> 51974 | E16: =+E23 -> 51974 | F16: =+F23 -> 51974 | G16: =+G23 -> 51974
C17: Ծրագրի նպատակը`
C18: Բնակչության շրջանում առողջ ապրելակերպի արմատավորում, անհատի բազմակողմանի ու ներդաշնակ զարգացման գործում ֆիզիկական կուլտուրայի և սպորտի դերի բարձրացում
C19: Վերջնական արդյունքի նկարագրությունը`
C20: Սպորտի նկատմամբ հետաքրքրվածության և մասնակցության ընդլայնում
C21: Ծրագրի միջոցառումներ
B22: 32001 | C22: Միջոցառման անվանումը`
C23: Մարզական օբյեկտների շինարարություն | D23: =+'Հավելված N 3'!G87 -> 51974 | E23: =+'Հավելված N 3'!H87 -> 51974 | F23: =+'Հավելված N 3'!I87 -> 51974 | G23: =+'Հավելված N 3'!J87 -> 51974
C24: Միջոցառման նկարագրությունը`
C25: Մարզական օբյեկտների շենքերի (մասնաշենքերի) կառուցում (համաշինարարական աշխատանքներ, ջեռուցման համակարգի իրականացում, ներքին հարդարում, տարածքի բարեկարգում) և նախագծում
C26: Միջոցառման տեսակը
C27: Այլ պետական կազմակերպությունների կողմից օգտագործվող ոչ ֆինանսական ակտիվների հետ գործառնություններ
A28: 1183 | C28: Ծրագրի անվանումը`
C29: Ապահով դպրոց | D29: =+D36+D42 -> 580136 | E29: =+E36+E42 -> 621661.4 | F29: =+F36+F42 -> 655626.1 | G29: =+G36+G42 -> 655626.1
C30: Ծրագրի նպատակը`
C31: Դպրոցներին սպառնացող աղետների ռիսկի կառավարման կարողությունների հզորացում, դպրոցի անձնակազմի և աշակերտների անվտանգության ապահովման մակարդակի բարձրացում՛ կիրառելով ներառական և երեխայակենտրոն մոտեցում
C32: Վերջնական արդյունքի նկարագրությունը`
C33: Դպրոցական միջավայրի բարելավում
C34: Ծրագրի միջոցառումներ
B35: 32007 | C35: Միջոցառման անվանումը`
C36: Հանրակրթական կրթություն իրականացնող ուսումնական հաստատությունների նոր մարզադահլիճների կառուցում | D36: =+'Հավելված N 3'!G98 -> 418279.2 | E36: =+'Հավելված N 3'!H98 -> 418279.2 | F36: =+'Հավելված N 3'!I98 -> 418279.2 | G36: =+'Հավելված N 3'!J98 -> 418279.2
C37: Միջոցառման նկարագրությունը`
C38: Հանրակրթական ուսուցում իրականացնող ուսումնական հաստատությունների նոր մարզադահլիճների կառուցման նախագծանախահաշվային փաստաթղթերի մշակում
C39: Միջոցառման տեսակը
C40: Այլ պետական կազմակերպությունների կողմից օգտագործվող ոչ ֆինանսական ակտիվների հետ գործառնություններ
B41: 32009 | C41: Միջոցառման անվանումը`
C42: Հանրակրթական կրթություն իրականացնող ուսումնական հաստատությունների մարզադահլիճների վերակառուցում | D42: =+'Հավելված N 3'!G107 -> 161856.8 | E42: =+'Հավելված N 3'!H107 -> 203382.2 | F42: =+'Հավելված N 3'!I107 -> 237346.9 | G42: =+'Հավելված N 3'!J107 -> 237346.9
C43: Միջոցառման նկարագրությունը`
C44: Հանրակրթական ուսուցում իրականացնող ուսումնական հաստատությունների մարզադահլիճների վերակառուցման նախագծանախահաշվային փաստաթղթերի մշակում
...

Sheet Հավելված N 3
F1: Հավելված N 3
F2: ՀՀ կառավարության 2024 թվականի
F3: ______________ ի ___Ն որոշման
A7: ՀԱՅԱՍՏԱՆԻ ՀԱՆՐԱՊԵՏՈՒԹՅԱՆ ԿԱՌԱՎԱՐՈՒԹՅԱՆ 2023 ԹՎԱԿԱՆԻ ԴԵԿՏԵՄԲԵՐԻ 28-Ի N 2323-Ն ՈՐՈՇՄԱՆ N 3 ԵՎ N 4 ՀԱՎԵԼՎԱԾՆԵՐՈՒՄ ԿԱՏԱՐՎՈՂ ՓՈՓՈԽՈՒԹՅՈՒՆՆԵՐԸ ԵՎ ԼՐԱՑՈՒՄՆԵՐԸ
J10: հազ. դրամներով
A11: Գործառական դասիչը | D11: Ծրագրային դասիչը | F11: Բյուջետային հատկացումների գլխավոր կարգադրիչների, ծրագրերի, միջոցառումների և միջոցառումները կատարող պետական մարմինների անվանումները | G11: Ցուցանիշների փոփոխությունը (ավելացումները նշված են դրական նշանով, իսկ նվազեցումները փակագծերում)
A12: Բաժին | B12: Խումբ | C12: Դաս | D12: Ծրագիր | E12: Միջոցառում | G12: Առաջին եռամսյակ | H12: Առաջին կիսամյակ | I12: Ինն ամիս | J12: Տարի
F13: ԸՆԴԱՄԵՆԸ | G13: =+G15 -> 401369.8 | H13: =+H15 -> 521927.8 | I13: =+I15 -> 0 | J13: =+J15 -> 0
F14: այդ թվում՝
F15: ՀՀ ԿՐԹՈՒԹՅԱՆ, ԳԻՏՈՒԹՅԱՆ, ՄՇԱԿՈՒՅԹԻ ԵՎ ՍՊՈՐՏԻ ՆԱԽԱՐԱՐՈՒԹՅՈՒՆ | G15: =+G16 -> 401369.8 | H15: =+H16 -> 521927.8 | I15: =+I16 -> 0 | J15: =+J16 -> 0
A16: 09 | F16: ԿՐԹՈՒԹՅՈՒՆ | G16: =+G18+G44+G79 -> 401369.8 | H16: =+H18+H44+H79 -> 521927.8 | I16: =+I18+I44+I79 -> 0 | J16: =+J18+J44+J79 -> 0
F17: այդ թվում`
B18: 01 | F18: Նախադպրոցական և տարրական ընդհանուր կրթություն | G18: =+G20 -> 74395 | H18: =+H20 -> 153427.6 | I18: =+I20 -> -46889.6 | J18: =+J20 -> 1391.6
F19: այդ թվում`
C20: 01 | F20: Նախադպրոցական կրթություն | G20: =+G22 -> 74395 | H20: =+H22 -> 153427.6 | I20: =+I22 -> -46889.6 | J20: =+J22 -> 1391.6
F21: այդ թվում`
F22: ՀՀ կրթության, գիտության, մշակույթի և սպորտի նախարարություն | G22: =+G24 -> 74395 | H22: =+H24 -> 153427.6 | I22: =+I24 -> -46889.6 | J22: =+J24 -> 1391.6
F23: այդ թվում`
D24: 1236 | E24: Հանրակրթական և նախադպրոցական հաստատությունների հիմնում, կառուցում, բարելավում | G24: =+G26+G35 -> 74395 | H24: =+H26+H35 -> 153427.6 | I24: =+I26+I35 -> -46889.6 | J24: =+J26+J35 -> 1391.6
F25: այդ թվում`
E26: 32001 | F26: Մանկապարտեզների նոր շենքերի կառուցում | G26: =+G28 -> 74395 | H26: =+H28 -> 153427.6 | I26: =+I28 -> 232460.1 | J26: =+J28 -> 232460.1
F27: այդ թվում` ըստ կատարողների
F28: ՀՀ քաղաքաշինության կոմիտե | G28: =+G30 -> 74395 | H28: =+H30 -> 153427.6 | I28: =+I30 -> 232460.1 | J28: =+J30 -> 232460.1
F29: այդ թվում՝ բյուջետային ծախսերի տնտեսագիտական դասակարգման հոդվածներ
F30: ԸՆԴԱՄԵՆԸ ԾԱԽՍԵՐ | G30: =G31 -> 74395 | H30: =H31 -> 153427.6 | I30: =I31 -> 232460.1 | J30: =J31 -> 232460.1
F31: ՈՉ ՖԻՆԱՆՍԱԿԱՆ ԱԿՏԻՎՆԵՐԻ ԳԾՈՎ ԾԱԽՍԵՐ | G31: =+G32 -> 74395 | H31: =+H32 -> 153427.6 | I31: =+I32 -> 232460.1 | J31: =+J32 -> 232460.1
F32: ՀԻՄՆԱԿԱՆ ՄԻՋՈՑՆԵՐ | G32: =+G33 -> 74395 | H32: =+H33 -> 153427.6 | I32: =+I33 -> 232460.1 | J32: =+J33 -> 232460.1
F33: ՇԵՆՔԵՐ ԵՎ ՇԻՆՈՒԹՅՈՒՆՆԵՐ | G33: =+G34 -> 74395 | H33: =+H34 -> 153427.6 | I33: =+I34 -> 232460.1 | J33: =+J34 -> 232460.1
F34: - Շենքերի և շինությունների շինարարություն | G34: =+'Հավելված N 5'!E64 -> 74395 | H34: =+'Հավելված N 5'!F64 -> 153427.6 | I34: =+'Հավելված N 5'!G64 -> 232460.1 | J34: =+'Հավելված N 5'!H64 -> 232460.1
E35: 32002 | F35: Մանկապարտեզների շենքերի վերակառուցում, հիմնանորոգում | G35: =+G37 -> 0 | H35: =+H37 -> 0 | I35: =+I37 -> -279349.7 | J35: =+J37 -> -231068.5
F36: այդ թվում` ըստ կատարողների
F37: ՀՀ կառավարություն | G37: =+G39 -> 0 | H37: =+H39 -> 0 | I37: =+I39 -> -279349.7 | J37: =+J39 -> -231068.5
F38: այդ թվում՝ բյուջետային ծախսերի տնտեսագիտական դասակարգման հոդվածներ
F39: ԸՆԴԱՄԵՆԸ ԾԱԽՍԵՐ | G39: =G40 -> 0 | H39: =H40 -> 0 | I39: =I40 -> -279349.7 | J39: =J40 -> -231068.5
F40: ՈՉ ՖԻՆԱՆՍԱԿԱՆ ԱԿՏԻՎՆԵՐԻ ԳԾՈՎ ԾԱԽՍԵՐ | G40: =+G41 -> 0 | H40: =+H41 -> 0 | I40: =+I41 -> -279349.7 | J40: =+J41 -> -231068.5
F41: ՀԻՄՆԱԿԱՆ ՄԻՋՈՑՆԵՐ | G41: =+G42 -> 0 | H41: =+H42 -> 0 | I41: =+I42 -> -279349.7 | J41: =+J42 -> -231068.5
F42: ՇԵՆՔԵՐ ԵՎ ՇԻՆՈՒԹՅՈՒՆՆԵՐ | G42: =+G43 -> 0 | H42: =+H43 -> 0 | I42: =+I43 -> -279349.7 | J42: =+J43 -> -231068.5
F43: - Շենքերի և շինությունների կապիտալ վերանորոգում | G43: =+'Հավելված N 5'!E72 -> 0 | H43: =+'Հավելված N 5'!F72 -> 0 | I43: =+'Հավելված N 5'!G72 -> -279349.7 | J43: =+'Հավելված N 5'!H72 -> -231068.5
B44: 02 | F44: Միջնակարգ ընդհանուր կրթություն | G44: =+G46 -> -305135.2 | H44: =+H46 -> -305135.2 | I44: =+I46 -> -660710.5 | J44: =+J46 -> -708991.7
F45: այդ թվում`
...

Sheet Հավելված N 4
F1: Հավելված N 4
F2: ՀՀ կառավարության 2024 թվականի
F3: ______________ ի ___Ն որոշման
A5: «ՀԱՅԱUՏԱՆԻ ՀԱՆՐԱՊԵՏՈՒԹՅԱՆ 2024 ԹՎԱԿԱՆԻ ՊԵՏԱԿԱՆ ԲՅՈՒՋԵԻ ՄԱUԻՆ» ՀԱՅԱUՏԱՆԻ ՀԱՆՐԱՊԵՏՈՒԹՅԱՆ OՐԵՆՔԻ N 1 ՀԱՎԵԼՎԱԾԻ N 3 ԱՂՅՈՒՍԱԿՈՒՄ ԿԱՏԱՐՎՈՂ ՓՈՓՈԽՈՒԹՅՈՒՆՆԵՐԸ ԵՎ ԼՐԱՑՈՒՄՆԵՐԸ
G8: հազ. դրամներով
A9: Ծրագրային դասիչ | C9: Բյուջետային գլխավոր կարգադրիչների, ծրագրերի, միջոցառումների, միջոցառումները կատարող պետական մարմինների և ուղղությունների անվանումները | D9: Ընդամենը | E9: Ցուցանիշների փոփոխությունը (ավելացումները նշված են դրական նշանով, իսկ նվազեցումները՝ փակագծերում)
A10: Ծրագիր | B10: Միջոցառում | E10: Կառուցման աշխատանքներ | F10: Վերակառուցման, վերանորոգման և վերականգնման աշխատանքներ | G10: Նախագծահե- տազոտական, գեոդեզիա- քարտեզագրա- կան աշխա- տանքներ | H10: Ոչ ֆինանսական այլ ակտիվների ձեռքբերում
C11: ԸՆԴԱՄԵՆԸ | D11: =SUM(E11:H11) -> 8.7311491e-11 | E11: =+E13 -> -288046.9 | F11: =+F13 -> 237346.9 | G11: =+G13 -> 50700 | H11: =+H13 -> 0
C12: այդ թվում՝
C13: ՀՀ ԿՐԹՈՒԹՅԱՆ, ԳԻՏՈՒԹՅԱՆ, ՄՇԱԿՈՒՅԹԻ ԵՎ ՍՊՈՐՏԻ ՆԱԽԱՐԱՐՈՒԹՅՈՒՆ | D13: =SUM(E13:H13) -> 8.7311491e-11 | E13: =+E15+E19+E40+E58+E64+E67+E88 -> -288046.9 | F13: =+F15+F19+F40+F58+F64+F67+F88 -> 237346.9 | G13: =+G15+G19+G40+G58+G64+G67+G88 -> 50700 | H13: =+H15+H19+H40+H58+H64+H67+H88 -> 0
C14: այդ թվում`
A15: 1163 | B15: 32001 | C15: Մարզական օբյեկտների շինարարություն | D15: =SUM(E15:H15) -> 51974 | E15: =+E17 -> 51974 | F15: =+F17 -> 0 | G15: =+G17 -> 0 | H15: =+H17 -> 0
C16: այդ թվում`
C17: ՀՀ Արմավիրի մարզ | D17: =SUM(E17:H17) -> 51974 | E17: =SUM(E18:E18) -> 51974 | F17: =SUM(F18:F18) -> 0 | G17: =SUM(G18:G18) -> 0 | H17: =SUM(H18:H18) -> 0
C18: Արմավիրի մարզի Ջրառատ համայնքի ծանրամարտի մարզադպրոց | D18: =+E18+F18+G18+H18 -> 51974 | E18: =+'Հավելված N 8'!I58+'Հավելված N 8'!I60+'Հավելված N 8'!I61 -> 51974
A19: 1183 | B19: 32007 | C19: Հանրակրթական կրթություն իրականացնող ուսումնական հաստատությունների նոր մարզադահլիճների կառուցում | D19: =SUM(E19:H19) -> 418279.2 | E19: =+E21+E26+E28+E34 -> 418279.2 | F19: =+F21+F26+F28+F34 -> 0 | G19: =+G21+G26+G28+G34 -> 0 | H19: =+H21+H26+H28+H34 -> 0
C20: այդ թվում`
C21: Երևան քաղաք | D21: =SUM(E21:H21) -> 164834.3 | E21: =SUM(E22:E25) -> 164834.3 | F21: =SUM(F22:F25) -> 0 | G21: =SUM(G22:G25) -> 0 | H21: =SUM(H22:H25) -> 0
C22: «Երևանի Միքայել Նալբանդյանի անվան հ.33 հիմնական դպրոց» ՊՈԱԿ | D22: =+E22+F22+G22+H22 -> 39373.8 | E22: =+'Հավելված N 8'!I64+'Հավելված N 8'!I80+'Հավելված N 8'!I91 -> 39373.8
C23: «Երևանի Ս. Խանզադյանի անվան հ. 184 ավագ դպրոց» ՊՈԱԿ | D23: =+E23+F23+G23+H23 -> 42827.8 | E23: =+'Հավելված N 8'!I65+'Հավելված N 8'!I81+'Հավելված N 8'!I92 -> 42827.8
C24: «Երևանի Ա. Երզնկյանի անվան հ. 118 ավագ դպրոց» ՊՈԱԿ | D24: =+E24+F24+G24+H24 -> 47816.4 | E24: =+'Հավելված N 8'!I66+'Հավելված N 8'!I82+'Հավելված N 8'!I93 -> 47816.4
C25: «Երևանի Սիլվա Կապուտիկյանի անվան հ. 145 հիմնական դպրոց» ՊՈԱԿ | D25: =+E25+F25+G25+H25 -> 34816.3 | E25: =+'Հավելված N 8'!I67+'Հավելված N 8'!I83+'Հավելված N 8'!I94 -> 34816.3
C26: ՀՀ Արագածոտնի մարզ | D26: =SUM(E26:H26) -> 2658.2 | E26: =+E27 -> 2658.2 | F26: =+F27 -> 0 | G26: =+G27 -> 0 | H26: =+H27 -> 0
C27: «Թալինի ավագ դպրոց» ՊՈԱԿ | D27: =SUM(E27:H27) -> 2658.2 | E27: =+'Հավելված N 8'!I68+'Հավելված N 8'!I84+'Հավելված N 8'!I95 -> 2658.2
C28: ՀՀ Արմավիրի մարզ | D28: =SUM(E28:H28) -> 39250.2 | E28: =SUM(E29:E33) -> 39250.2 | F28: =SUM(F29:F33) -> 0 | G28: =SUM(G29:G33) -> 0 | H28: =SUM(H29:H33) -> 0
C29: «Արտիմետի միջնակարգ դպրոց» ՊՈԱԿ | D29: =+E29+F29+G29+H29 -> 3460.6 | E29: =+'Հավելված N 8'!I69+'Հավելված N 8'!I96 -> 3460.6
C30: «Արագածի Մ. Մեխակյանի անվան միջնակարգ դպրոց» ՊՈԱԿ | D30: =+E30+F30+G30+H30 -> 32092.6 | E30: =+'Հավելված N 8'!I70+'Հավելված N 8'!I85+'Հավելված N 8'!I97 -> 32092.6
C31: «Վաղարշապատի Երվանդ Օտյանի անվան N 7 հիմնական դպրոց » ՊՈԱԿ | D31: =+E31+F31+G31+H31 -> 1488.6 | E31: =+'Հավելված N 8'!I71+'Հավելված N 8'!I98 -> 1488.6
C32: «Ջանֆիդայի Է. Դաշտոյանի անվան միջնակարգ դպրոց» ՊՈԱԿ | D32: =+E32+F32+G32+H32 -> 1097.7 | E32: =+'Հավելված N 8'!I72+'Հավելված N 8'!I99 -> 1097.7
C33: «Արմավիրի N 6 հիմնական դպրոց» ՊՈԱԿ | D33: =+E33+F33+G33+H33 -> 1110.7 | E33: =+'Հավելված N 8'!I73+'Հավելված N 8'!I100 -> 1110.7
C34: ՀՀ Լոռու մարզ | D34: =SUM(E34:H34) -> 211536.5 | E34: =SUM(E35:E39) -> 211536.5 | F34: =SUM(F35:F39) -> 0 | G34: =SUM(G35:G39) -> 0 | H34: =SUM(H35:H39) -> 0
C35: «Վանաձորի Խ. Աբովյանի անվան թիվ 9 հիմնական դպրոց» ՊՈԱԿ | D35: =+E35+F35+G35+H35 -> 69569.9 | E35: =+'Հավելված N 8'!I74+'Հավելված N 8'!I86+'Հավելված N 8'!I101 -> 69569.9
C36: «Վանաձորի Ծովակալ Իսակովի անվան թիվ 23 հիմնական դպրոց ՊՈԱԿ | D36: =+E36+F36+G36+H36 -> 24774.6 | E36: =+'Հավելված N 8'!I75+'Հավելված N 8'!I87+'Հավելված N 8'!I102 -> 24774.6
C37: Ստեփանավանի N1 վարժարան ՊՈԱԿ | D37: =+E37+F37+G37+H37 -> 14277.5 | E37: =+'Հավելված N 8'!I76+'Հավելված N 8'!I88+'Հավելված N 8'!I103 -> 14277.5
C38: «Ագարակի միջնակարգ դպրոց» ՊՈԱԿ | D38: =+E38+F38+G38+H38 -> 52491.8 | E38: =+'Հավելված N 8'!I77+'Հավելված N 8'!I89+'Հավելված N 8'!I104 -> 52491.8
C39: «Վարդաբլուրի միջնակարգ դպրոց» ՊՈԱԿ | D39: =+E39+F39+G39+H39 -> 50422.7 | E39: =+'Հավելված N 8'!I78+'Հավելված N 8'!I90+'Հավելված N 8'!I105 -> 50422.7
A40: 1183 | B40: 32009 | C40: Հանրակրթական կրթություն իրականացնող ուսումնական հաստատությունների մարզադահլիճների վերակառուցում | D40: =SUM(E40:H40) -> 237346.9 | E40: =+E42+E47+E52+E54+E56 -> 0 | F40: =+F42+F47+F52+F54+F56 -> 237346.9 | G40: =+G42+G47+G52+G54+G56 -> 0 | H40: =+H42+H47+H52+H54+H56 -> 0
C41: այդ թվում`
C42: Երևան քաղաք | D42: =SUM(E42:H42) -> 47201.1 | E42: =SUM(E43:E46) -> 0 | F42: =SUM(F43:F46) -> 47201.1 | G42: =SUM(G43:G46) -> 0 | H42: =SUM(H43:H46) -> 0
C43: «Երևանի Մ. Սարյանի անվան հ. 86 հիմնական դպրոց» ՊՈԱԿ | D43: =+E43+F43+G43+H43 -> 1832.1 | F43: =+'Հավելված N 8'!I108+'Հավելված N 8'!I119+'Հավելված N 8'!I129 -> 1832.1
...

Sheet Հավելված N 5
G1: Հավելված N 5
E2: ՀՀ կառավարության 2024 թվականի
G3: ______________ ի ___Ն որոշման
B6: ՀԱՅԱՍՏԱՆԻ ՀԱՆՐԱՊԵՏՈՒԹՅԱՆ ԿԱՌԱՎԱՐՈՒԹՅԱՆ 2023 ԹՎԱԿԱՆԻ ԴԵԿՏԵՄԲԵՐԻ 28-Ի N 2323-Ն ՈՐՈՇՄԱՆ N 5 ՀԱՎԵԼՎԱԾԻ N 2 ԱՂՅՈՒՍԱԿՈՒՄ ԿԱՏԱՐՎՈՂ ՓՈՓՈԽՈՒԹՅՈՒՆՆԵՐԸ ԵՎ ԼՐԱՑՈՒՄՆԵՐԸ
H8: հազ. դրամներով
B9: Ծրագրային դասիչ | D9: Բյուջետային գլխավոր կարգադրիչների, ծրագրերի, միջոցառումների, միջոցառումները կատարող պետական մարմինների և ուղղությունների անվանումները | E9: Ցուցանիշների փոփոխությունը (ավելացումները նշված են դրական նշանով, իսկ նվազեցումները՝ փակագծերում)
B10: Ծրագիր | C10: Միջոցառում | E10: Առաջին եռամսյակ | F10: Առաջին կիսամյակ | G10: Ինն ամիս | H10: Տարի
D11: ՀՀ ԿՐԹՈՒԹՅԱՆ, ԳԻՏՈՒԹՅԱՆ, ՄՇԱԿՈՒՅԹԻ ԵՎ ՍՊՈՐՏԻ ՆԱԽԱՐԱՐՈՒԹՅՈՒՆ | E11: =+E13+E19+E42+E62+E70+E73+E96 -> 401369.8 | F11: =+F13+F19+F42+F62+F70+F73+F96 -> 521927.8 | G11: =+G13+G19+G42+G62+G70+G73+G96 -> 0 | H11: =+H13+H19+H42+H62+H70+H73+H96 -> 0
D12: այդ թվում՝
B13: 1163 | C13: 32001 | D13: Մարզական օբյեկտների շինարարություն | E13: =+E15 -> 51974 | F13: =+F15 -> 51974 | G13: =+G15 -> 51974 | H13: =+H15 -> 51974
D14: այդ թվում` ըստ կատարողների
D15: ՀՀ քաղաքաշինության կոմիտե | E15: =+E17 -> 51974 | F15: =+F17 -> 51974 | G15: =+G17 -> 51974 | H15: =+H17 -> 51974
D16: այդ թվում՝ ըստ ուղղությունների
D17: ՀՀ Արմավիրի մարզ | E17: =SUM(E18:E18) -> 51974 | F17: =SUM(F18:F18) -> 51974 | G17: =SUM(G18:G18) -> 51974 | H17: =SUM(H18:H18) -> 51974
D18: =+'Հավելված N 4'!C18 -> Արմավիրի մարզի Ջրառատ համայնքի ծանրամարտի մարզադպրոց | E18: =+H18 -> 51974 | F18: =+H18 -> 51974 | G18: =+H18 -> 51974 | H18: =+'Հավելված N 4'!D18 -> 51974
B19: 1183 | C19: 32007 | D19: Հանրակրթական կրթություն իրականացնող ուսումնական հաստատությունների նոր մարզադահլիճների կառուցում | E19: =+E21 -> 418279.2 | F19: =+F21 -> 418279.2 | G19: =+G21 -> 418279.2 | H19: =+H21 -> 418279.2
D20: այդ թվում` ըստ կատարողների
D21: ՀՀ քաղաքաշինության կոմիտե | E21: =+E23+E28+E30+E36 -> 418279.2 | F21: =+F23+F28+F30+F36 -> 418279.2 | G21: =+G23+G28+G30+G36 -> 418279.2 | H21: =+H23+H28+H30+H36 -> 418279.2
D22: այդ թվում՝ ըստ ուղղությունների
D23: Երևան քաղաք | E23: =SUM(E24:E27) -> 164834.3 | F23: =SUM(F24:F27) -> 164834.3 | G23: =SUM(G24:G27) -> 164834.3 | H23: =SUM(H24:H27) -> 164834.3
D24: =+'Հավելված N 4'!C22 -> «Երևանի Միքայել Նալբանդյանի անվան հ.33 հիմնական դպրոց» ՊՈԱԿ | E24: =+H24 -> 39373.8 | F24: =+H24 -> 39373.8 | G24: =+H24 -> 39373.8 | H24: =+'Հավելված N 4'!D22 -> 39373.8
D25: =+'Հավելված N 4'!C23 -> «Երևանի Ս. Խանզադյանի անվան հ. 184 ավագ դպրոց» ՊՈԱԿ | E25: =+H25 -> 42827.8 | F25: =+H25 -> 42827.8 | G25: =+H25 -> 42827.8 | H25: =+'Հավելված N 4'!D23 -> 42827.8
D26: =+'Հավելված N 4'!C24 -> «Երևանի Ա. Երզնկյանի անվան հ. 118 ավագ դպրոց» ՊՈԱԿ | E26: =+H26 -> 47816.4 | F26: =+H26 -> 47816.4 | G26: =+H26 -> 47816.4 | H26: =+'Հավելված N 4'!D24 -> 47816.4
D27: =+'Հավելված N 4'!C25 -> «Երևանի Սիլվա Կապուտիկյանի անվան հ. 145 հիմնական դպրոց» ՊՈԱԿ | E27: =+H27 -> 34816.3 | F27: =+H27 -> 34816.3 | G27: =+H27 -> 34816.3 | H27: =+'Հավելված N 4'!D25 -> 34816.3
D28: ՀՀ Արագածոտնի մարզ | E28: =+E29 -> 2658.2 | F28: =+F29 -> 2658.2 | G28: =+G29 -> 2658.2 | H28: =+H29 -> 2658.2
D29: =+'Հավելված N 4'!C27 -> «Թալինի ավագ դպրոց» ՊՈԱԿ | E29: =+H29 -> 2658.2 | F29: =+H29 -> 2658.2 | G29: =+H29 -> 2658.2 | H29: =+'Հավելված N 4'!D27 -> 2658.2
D30: ՀՀ Արմավիրի մարզ | E30: =SUM(E31:E35) -> 39250.2 | F30: =SUM(F31:F35) -> 39250.2 | G30: =SUM(G31:G35) -> 39250.2 | H30: =SUM(H31:H35) -> 39250.2
D31: =+'Հավելված N 4'!C29 -> «Արտիմետի միջնակարգ դպրոց» ՊՈԱԿ | E31: =+H31 -> 3460.6 | F31: =+H31 -> 3460.6 | G31: =+H31 -> 3460.6 | H31: =+'Հավելված N 4'!D29 -> 3460.6
D32: =+'Հավելված N 4'!C30 -> «Արագածի Մ. Մեխակյանի անվան միջնակարգ դպրոց» ՊՈԱԿ | E32: =+H32 -> 32092.6 | F32: =+H32 -> 32092.6 | G32: =+H32 -> 32092.6 | H32: =+'Հավելված N 4'!D30 -> 32092.6
D33: =+'Հավելված N 4'!C31 -> «Վաղարշապատի Երվանդ Օտյանի անվան N 7 հիմնական դպրոց » ՊՈԱԿ | E33: =+H33 -> 1488.6 | F33: =+H33 -> 1488.6 | G33: =+H33 -> 1488.6 | H33: =+'Հավելված N 4'!D31 -> 1488.6
D34: =+'Հավելված N 4'!C32 -> «Ջանֆիդայի Է. Դաշտոյանի անվան միջնակարգ դպրոց» ՊՈԱԿ | E34: =+H34 -> 1097.7 | F34: =+H34 -> 1097.7 | G34: =+H34 -> 1097.7 | H34: =+'Հավելված N 4'!D32 -> 1097.7
D35: =+'Հավելված N 4'!C33 -> «Արմավիրի N 6 հիմնական դպրոց» ՊՈԱԿ | E35: =+H35 -> 1110.7 | F35: =+H35 -> 1110.7 | G35: =+H35 -> 1110.7 | H35: =+'Հավելված N 4'!D33 -> 1110.7
D36: ՀՀ Լոռու մարզ | E36: =SUM(E37:E41) -> 211536.5 | F36: =SUM(F37:F41) -> 211536.5 | G36: =SUM(G37:G41) -> 211536.5 | H36: =SUM(H37:H41) -> 211536.5
D37: =+'Հավելված N 4'!C35 -> «Վանաձորի Խ. Աբովյանի անվան թիվ 9 հիմնական դպրոց» ՊՈԱԿ | E37: =+H37 -> 69569.9 | F37: =+H37 -> 69569.9 | G37: =+H37 -> 69569.9 | H37: =+'Հավելված N 4'!D35 -> 69569.9
D38: =+'Հավելված N 4'!C36 -> «Վանաձորի Ծովակալ Իսակովի անվան թիվ 23 հիմնական դպրոց ՊՈԱԿ | E38: =+H38 -> 24774.6 | F38: =+H38 -> 24774.6 | G38: =+H38 -> 24774.6 | H38: =+'Հավելված N 4'!D36 -> 24774.6
D39: =+'Հավելված N 4'!C37 -> Ստեփանավանի N1 վարժարան ՊՈԱԿ | E39: =+H39 -> 14277.5 | F39: =+H39 -> 14277.5 | G39: =+H39 -> 14277.5 | H39: =+'Հավելված N 4'!D37 -> 14277.5
D40: =+'Հավելված N 4'!C38 -> «Ագարակի միջնակարգ դպրոց» ՊՈԱԿ | E40: =+H40 -> 52491.8 | F40: =+H40 -> 52491.8 | G40: =+H40 -> 52491.8 | H40: =+'Հավելված N 4'!D38 -> 52491.8
D41: =+'Հավելված N 4'!C39 -> «Վարդաբլուրի միջնակարգ դպրոց» ՊՈԱԿ | E41: =+H41 -> 50422.7 | F41: =+H41 -> 50422.7 | G41: =+H41 -> 50422.7 | H41: =+'Հավելված N 4'!D39 -> 50422.7
B42: 1183 | C42: 32009 | D42: Հանրակրթական կրթություն իրականացնող ուսումնական հաստատությունների մարզադահլիճների վերակառուցում | E42: =+E44 -> 161856.8 | F42: =+F44 -> 203382.2 | G42: =+G44 -> 237346.9 | H42: =+H44 -> 237346.9
D43: այդ թվում` ըստ կատարողների
...

Sheet Հավելված N 6
C1: Հավելված N 6
C2: ՀՀ կառավարության 2024 թվականի
C3: ______________ ի ___Ն որոշման
B6: ՀԱՅԱՍՏԱՆԻ ՀԱՆՐԱՊԵՏՈՒԹՅԱՆ ԿԱՌԱՎԱՐՈՒԹՅԱՆ 2023 ԹՎԱԿԱՆԻ ԴԵԿՏԵՄԲԵՐԻ 28-Ի N 2323-Ն ՈՐՈՇՄԱՆ N 9 ՀԱՎԵԼՎԱԾԻ NN 9.13 ԱՂՅՈՒՍԱԿՈՒՄ ԿԱՏԱՐՎՈՂ ՓՈՓՈԽՈՒԹՅՈՒՆՆԵՐԸ ԵՎ ԼՐԱՑՈՒՄՆԵՐԸ
A8: Աղյուսակ 9․13
C9: ՀՀ կրթության, գիտության, մշակույթի և սպորտի նախարարություն
B10: ՄԱՍ 2. ՊԵՏԱԿԱՆ ՄԱՐՄՆԻ ԳԾՈՎ ԱՐԴՅՈՒՆՔԱՅԻՆ (ԿԱՏԱՐՈՂԱԿԱՆ) ՑՈՒՑԱՆԻՇՆԵՐԸ
B13: Ծրագրի դասիչը | C13: Ծրագրի անվանումը
B14: 1163 | C14: Մասսայական սպորտ
B16: Ծրագրի միջոցառումները
B17: Ծրագրի դասիչը՝ | C17: 1163 | D17: Ցուցանիշների փոփոխությունը (ավելացումները նշված են դրական նշանով)
B18: Միջոցառման դասիչը՝ | C18: 32001 | D18: Առաջին եռամսյակ | E18: Առաջին կիսամյակ | F18: Ինն ամիս | G18: Տարի
B19: Միջոցառման անվանումը` | C19: Մարզական օբյեկտների շինարարություն
B20: Նկարագրությունը` | C20: Մարզական օբյեկտների շենքերի (մասնաշենքերի) կառուցում (համաշինարարական աշխատանքներ, ջեռուցման համակարգի իրականացում, ներքին հարդարում, տարածքի բարեկարգում) և նախագծում
B21: Միջոցառման տեսակը` | C21: Այլ պետական կազմակերպությունների կողմից օգտագործվող ոչ ֆինանսական ակտիվների հետ գործառնություններ
B22: Ակտիվն օգտագործող կազմակերպությունների անվանումները | C22: Մարզական հաստատություններ
B23: Արդյունքի չափորոշիչներ
B24: Կառուցման ենթակա օբյեկտների թիվ, հատ | E24: 1 | G24: 1
B25: Հաստատությունների քանակ, որոնց շինարարական աշխատանքների ավարտվածության աստիճանը 100% է, հատ | E25: 1 | G25: 1
B26: Միջոցառման վրա կատարվող ծախսը (հազար դրամ) | D26: =+'Հավելված N 2'!D23 -> 51974 | E26: =+'Հավելված N 2'!E23 -> 51974 | F26: =+'Հավելված N 2'!F23 -> 51974 | G26: =+'Հավելված N 2'!G23 -> 51974
B28: Ծրագրի դասիչը | C28: Ծրագրի անվանումը
B29: 1183 | C29: Ապահով դպրոց
B31: Ծրագրի միջոցառումները
B32: Ծրագրի դասիչը` | C32: 1183 | D32: Ցուցանիշների փոփոխությունը (ավելացումները նշված են դրական նշանով)
B33: Միջոցառման դասիչը` | C33: 32007 | D33: Առաջին եռամսյակ | E33: Առաջին կիսամյակ | F33: Ինն ամիս | G33: Տարի
B34: Միջոցառման անվանումը` | C34: Հանրակրթական կրթություն իրականացնող ուսումնական հաստատությունների նոր մարզադահլիճների կառուցում
B35: Նկարագրությունը` | C35: Հանրակրթական ուսուցում իրականացնող ուսումնական հաստատությունների նոր մարզադահլիճների կառուցման նախագծանախահաշվային փաստաթղթերի մշակում
B36: Միջոցառման տեսակը` | C36: Այլ պետական կազմակերպությունների կողմից օգտագործվող ոչ ֆինանսական ակտիվների հետ գործառնություններ
B37: Ակտիվն օգտագործող կազմակերպությունների անվանումները | C37: Հանրակրթական դպրոցներ
B38: Արդյունքի չափորոշիչներ
B39: Ուսումնական հաստատությունների քանակ, որոնց համար կառուցվում են նոր մարզադահլիճներ, հատ | E39: 15 | G39: 15
B40: Հաստատությունների քանակ, որոնց շինարարական աշխատանքների ավարտվածության աստիճանը 100% է, հատ | E40: 15 | G40: 15
B41: Միջոցառման վրա կատարվող ծախսը (հազար դրամ) | D41: =+'Հավելված N 2'!D36 -> 418279.2 | E41: =+'Հավելված N 2'!E36 -> 418279.2 | F41: =+'Հավելված N 2'!F36 -> 418279.2 | G41: =+'Հավելված N 2'!G36 -> 418279.2
B43: Ծրագրի միջոցառումները
B44: Ծրագրի դասիչը` | C44: 1183 | D44: Ցուցանիշների փոփոխությունը (ավելացումները նշված են դրական նշանով)
B45: Միջոցառման դասիչը` | C45: 32009 | D45: Առաջին եռամսյակ | E45: Առաջին կիսամյակ | F45: Ինն ամիս | G45: Տարի
B46: Միջոցառման անվանումը` | C46: Հանրակրթական կրթություն իրականացնող ուսումնական հաստատությունների մարզադահլիճների վերակառուցում
B47: Նկարագրությունը` | C47: Հանրակրթական ուսուցում իրականացնող ուսումնական հաստատությունների մարզադահլիճների վերակառուցման նախագծանախահաշվային փաստաթղթերի մշակում
B48: Միջոցառման տեսակը` | C48: Այլ պետական կազմակերպությունների կողմից օգտագործվող ոչ ֆինանսական ակտիվների հետ գործառնություններ
B49: Ակտիվն օգտագործող կազմակերպությունների անվանումները | C49: Հանրակրթական դպրոցներ
...

Sheet Հավելված N 7
C1: Հավելված N 7
C2: ՀՀ կառավարության 2024 թվականի
C3: ______________ ի ___Ն որոշման
B6: ՀԱՅԱՍՏԱՆԻ ՀԱՆՐԱՊԵՏՈՒԹՅԱՆ ԿԱՌԱՎԱՐՈՒԹՅԱՆ 2023 ԹՎԱԿԱՆԻ ԴԵԿՏԵՄԲԵՐԻ 28-Ի N 2323-Ն ՈՐՈՇՄԱՆ N 9.1 ՀԱՎԵԼՎԱԾԻ NN 9.1.39 ԵՎ 9.1.58 ԱՂՅՈՒՍԱԿՆԵՐՈՒՄ ԿԱՏԱՐՎՈՂ ՓՈՓՈԽՈՒԹՅՈՒՆՆԵՐԸ ԵՎ ԼՐԱՑՈՒՄՆԵՐԸ
A9: Աղյուսակ 9․1.39
C10: ՀՀ քաղաքաշինության կոմիտե
B11: ՄԱՍ 1. ՊԵՏԱԿԱՆ ՄԱՐՄՆԻ ԳԾՈՎ ԱՐԴՅՈՒՆՔԱՅԻՆ (ԿԱՏԱՐՈՂԱԿԱՆ) ՑՈՒՑԱՆԻՇՆԵՐԸ
B14: Ծրագրի դասիչը | C14: Ծրագրի անվանումը
B15: 1163 | C15: Մասսայական սպորտ
B17: Ծրագրի միջոցառումները
B18: Ծրագրի դասիչը՝ | C18: 1163 | D18: Ցուցանիշների փոփոխությունը (ավելացումները նշված են դրական նշանով)
B19: Միջոցառման դասիչը՝ | C19: 32001 | D19: Առաջին եռամսյակ | E19: Առաջին կիսամյակ | F19: Ինն ամիս | G19: Տարի
B20: Միջոցառման անվանումը` | C20: Մարզական օբյեկտների շինարարություն
B21: Նկարագրությունը` | C21: Մարզական օբյեկտների շենքերի (մասնաշենքերի) կառուցում (համաշինարարական աշխատանքներ, ջեռուցման համակարգի իրականացում, ներքին հարդարում, տարածքի բարեկարգում) և նախագծում
B22: Միջոցառման տեսակը` | C22: Այլ պետական կազմակերպությունների կողմից օգտագործվող ոչ ֆինանսական ակտիվների հետ գործառնություններ
B23: Ակտիվն օգտագործող կազմակերպությունների անվանումները | C23: Մարզական հաստատություններ
B24: Արդյունքի չափորոշիչներ
B25: Կառուցման ենթակա օբյեկտների թիվ, հատ | E25: 1 | G25: 1
B26: Հաստատությունների քանակ, որոնց շինարարական աշխատանքների ավարտվածության աստիճանը 100% է, հատ | E26: 1 | G26: 1
B27: Միջոցառման վրա կատարվող ծախսը (հազար դրամ) | D27: =+'Հավելված N 3'!G89 -> 51974 | E27: =+'Հավելված N 3'!H89 -> 51974 | F27: =+'Հավելված N 3'!I89 -> 51974 | G27: =+'Հավելված N 3'!J89 -> 51974
B29: Ծրագրի դասիչը | C29: Ծրագրի անվանումը
B30: 1183 | C30: Ապահով դպրոց
B32: Ծրագրի միջոցառումները
B33: Ծրագրի դասիչը` | C33: 1183 | D33: Ցուցանիշների փոփոխությունը (ավելացումները նշված են դրական նշանով)
B34: Միջոցառման դասիչը` | C34: 32007 | D34: Առաջին եռամսյակ | E34: Առաջին կիսամյակ | F34: Ինն ամիս | G34: Տարի
B35: Միջոցառման անվանումը` | C35: Հանրակրթական կրթություն իրականացնող ուսումնական հաստատությունների նոր մարզադահլիճների կառուցում
B36: Նկարագրությունը` | C36: Հանրակրթական ուսուցում իրականացնող ուսումնական հաստատությունների նոր մարզադահլիճների կառուցման նախագծանախահաշվային փաստաթղթերի մշակում
B37: Միջոցառման տեսակը` | C37: Այլ պետական կազմակերպությունների կողմից օգտագործվող ոչ ֆինանսական ակտիվների հետ գործառնություններ
B38: Ակտիվն օգտագործող կազմակերպությունների անվանումները | C38: Հանրակրթական դպրոցներ
B39: Արդյունքի չափորոշիչներ
B40: Ուսումնական հաստատությունների քանակ, որոնց համար կառուցվում են նոր մարզադահլիճներ, հատ | E40: 15 | G40: 15
B41: Հաստատությունների քանակ, որոնց շինարարական աշխատանքների ավարտվածության աստիճանը 100% է, հատ | E41: 15 | G41: 15
B42: Միջոցառման վրա կատարվող ծախսը (հազար դրամ) | D42: =+'Հավելված N 3'!G100 -> 418279.2 | E42: =+'Հավելված N 3'!H100 -> 418279.2 | F42: =+'Հավելված N 3'!I100 -> 418279.2 | G42: =+'Հավելված N 3'!J100 -> 418279.2
B44: Ծրագրի միջոցառումները
B45: Ծրագրի դասիչը` | C45: 1183 | D45: Ցուցանիշների փոփոխությունը (ավելացումները նշված են դրական նշանով)
B46: Միջոցառման դասիչը` | C46: 32009 | D46: Առաջին եռամսյակ | E46: Առաջին կիսամյակ | F46: Ինն ամիս | G46: Տարի
B47: Միջոցառման անվանումը` | C47: Հանրակրթական կրթություն իրականացնող ուսումնական հաստատությունների մարզադահլիճների վերակառուցում
B48: Նկարագրությունը` | C48: Հանրակրթական ուսուցում իրականացնող ուսումնական հաստատությունների մարզադահլիճների վերակառուցման նախագծանախահաշվային փաստաթղթերի մշակում
B49: Միջոցառման տեսակը` | C49: Այլ պետական կազմակերպությունների կողմից օգտագործվող ոչ ֆինանսական ակտիվների հետ գործառնություններ
B50: Ակտիվն օգտագործող կազմակերպությունների անվանումները | C50: Հանրակրթական դպրոցներ
...

Sheet Հավելված N 8
H1: Հավելված N 8
H2: ՀՀ կառավարության 2024 թվականի
H3: ______________ ի ___Ն որոշման
A6: ՀԱՅԱՍՏԱՆԻ ՀԱՆՐԱՊԵՏՈՒԹՅԱՆ ԿԱՌԱՎԱՐՈՒԹՅԱՆ 2023 ԹՎԱԿԱՆԻ ԴԵԿՏԵՄԲԵՐԻ 28-Ի N 2323-Ն N 10 ՀԱՎԵԼՎԱԾՈՒՄ ԿԱՏԱՐՎՈՂ ԼՐԱՑՈՒՄՆԵՐԸ
A10: Կոդը | B10: Անվանումը | E10: Գնման ձևը | F10: Չափման միավորը | G10: Միավորի գինը | H10: Ցուցանիշների փոփոխությունը (ավելացումները նշված են դրական նշանով)
H11: Քանակը | I11: Գումարը (հազար դրամ)
A12: 1 | B12: 2 | E12: 3 | F12: 4 | G12: 5 | H12: 6 | I12: 7
A13: ՀՀ քաղաքաշինության կոմիտե | I13: =+I14+I24+I55 -> 1349434.9
A14: Բաժին N 09 | B14: Խումբ N 01 | C14: Դաս N 01 | D14: Նախադպրոցական կրթություն | I14: =+I15 -> 232460.1
A15: 1236-32001 | B15: Մանկապարտեզների նոր շենքերի կառուցում | I15: =+I16+I19 -> 232460.1
B16: ՄԱՍ II. ԱՇԽԱՏԱՆՔՆԵՐ | I16: =SUM(I17:I18) -> 219262.9
A17: 45221142-2 | B17: ընդհանուր շինարարական աշխատանքներ | E17: ՀԲՄ | F17: դրամ | I17: 148851.4
A18: 45221142 | B18: ընդհանուր շինարարական աշխատանքներ | E18: ՀԲՄ | F18: դրամ | G18: 70411500 | H18: 1 | I18: =+ROUNDUP(H18*G18/1000,1) -> 70411.5
B19: ՄԱՍ III. ԾԱՌԱՅՈՒԹՅՈՒՆՆԵՐ | I19: =SUM(I20:I23) -> 13197.2
A20: 71351540-2 | B20: տեխնիկական հսկողության ծառայություններ | E20: ԳՀ | F20: դրամ | I20: 5049.7
A21: 71351540 | B21: տեխնիկական հսկողության ծառայություններ | E21: ԳՀ | F21: դրամ | G21: 2641000 | H21: 1 | I21: =+ROUNDUP(H21*G21/1000,1) -> 2641
A22: 98111140-2 | B22: հեղինակային հսկողության ծառայություններ | E22: ՄԱ | F22: դրամ | I22: 4164
A23: 98111140 | B23: հեղինակային հսկողության ծառայություններ | E23: ՄԱ | F23: դրամ | G23: 1342500 | H23: 1 | I23: =+ROUNDUP(H23*G23/1000,1) -> 1342.5
A24: Բաժին N 09 | B24: Խումբ N 02 | C24: Դաս N 01 | D24: Հիմնական ընդհանուր կրթություն | I24: =+I25+I45 -> 409374.7
A25: 1236-32003 | B25: Հանրակրթական դպրոցների նոր շենքերի կառուցում | I25: =+I26+I32 -> 389374.7
B26: ՄԱՍ II. ԱՇԽԱՏԱՆՔՆԵՐ | I26: =SUM(I27:I31) -> 358120.4
A27: 45221142 | B27: ընդհանուր շինարարական աշխատանքներ | E27: ԲՄ | F27: դրամ | G27: 105493250 | H27: 1 | I27: =+ROUNDUP(H27*G27/1000,1) -> 105493.3
A28: 45211231 | B28: միջնակարգ դպրոցների կառուցման աշխատանքներ | E28: ԲՄ | F28: դրամ | G28: 110401440 | H28: 1 | I28: =+ROUNDUP(H28*G28/1000,1) -> 110401.5
A29: 45211231 | B29: միջնակարգ դպրոցների կառուցման աշխատանքներ | E29: ԲՄ | F29: դրամ | G29: 60080600 | H29: 1 | I29: =+ROUNDUP(H29*G29/1000,1) -> 60080.6
A30: 45221142 | B30: ընդհանուր շինարարական աշխատանքներ | E30: ՀԲՄ | F30: դրամ | G30: 39156630 | H30: 1 | I30: =+ROUNDUP(H30*G30/1000,1) -> 39156.7
A31: 45221142 | B31: ընդհանուր շինարարական աշխատանքներ | E31: ՀԲՄ | F31: դրամ | G31: 42988300 | H31: 1 | I31: =+ROUNDUP(H31*G31/1000,1) -> 42988.3
B32: ՄԱՍ III. ԾԱՌԱՅՈՒԹՅՈՒՆՆԵՐ | I32: =SUM(I33:I44) -> 31254.3
A33: 71351540 | B33: տեխնիկական հսկողության ծառայություններ | E33: ԳՀ | F33: դրամ | G33: 5356100 | H33: 1 | I33: =+ROUNDUP(H33*G33/1000,1) -> 5356.1
A34: 71351540 | B34: տեխնիկական հսկողության ծառայություններ | E34: ԳՀ | F34: դրամ | G34: =1644470+2250320 -> 3894790 | H34: =--1 -> 1 | I34: =+ROUNDUP(H34*G34/1000,1) -> 3894.8
A35: 71351540-64 | B35: տեխնիկական հսկողության ծառայություններ | E35: ԳՀ | F35: դրամ | H35: =--1 -> 1 | I35: 869.4
A36: 71351540-80 | B36: տեխնիկական հսկողության ծառայություններ | E36: ԳՀ | F36: դրամ | H36: =--1 -> 1 | I36: 1769.9
A37: 98111140 | B37: հեղինակային հսկողության ծառայություններ | E37: ՄԱ | F37: դրամ | G37: 901200 | H37: 1 | I37: =+ROUNDUP(H37*G37/1000,1) -> 901.2
A38: 98111140-13 | B38: հեղինակային հսկողության ծառայություններ | E38: ՄԱ | F38: դրամ | H38: =--1 -> 1 | I38: =799.9+413.8+218.4+221.3+875.8+933.7 -> 3462.9
A39: 71241200 | B39: նախագծերի պատրաստում, ծախսերի գնահատում | E39: ԳՀ | F39: դրամ | G39: 4500000 | H39: 1 | I39: =+ROUNDUP(H39*G39/1000,1) -> 4500
A40: 71241200 | B40: նախագծերի պատրաստում, ծախսերի գնահատում | E40: ԳՀ | F40: դրամ | G40: 4500000 | H40: 1 | I40: =+ROUNDUP(H40*G40/1000,1) -> 4500
A41: 71241200 | B41: նախագծերի պատրաստում, ծախսերի գնահատում | E41: ԳՀ | F41: դրամ | G41: 4500000 | H41: 1 | I41: =+ROUNDUP(H41*G41/1000,1) -> 4500
A42: 50531140 | B42: փորձաքննության ծառայություններ | E42: ԳՀ | F42: դրամ | G42: 500000 | H42: 1 | I42: =+ROUND(H42*G42/1000,1) -> 500
A43: 50531140 | B43: փորձաքննության ծառայություններ | E43: ԳՀ | F43: դրամ | G43: 500000 | H43: 1 | I43: =+ROUND(H43*G43/1000,1) -> 500
A44: 50531140 | B44: փորձաքննության ծառայություններ | E44: ԳՀ | F44: դրամ | G44: 500000 | H44: 1 | I44: =+ROUND(H44*G44/1000,1) -> 500
A45: 1236-32005 | B45: Կրթահամալիրների կառուցում | I45: =+I46 -> 20000
...
