Workbook

Sheet 1
F1: Հավելված N 1
F2: ՀՀ կառավարության 2024 թվականի
F3: -ի N -Ն որոշման
A4: «ՀԱՅԱՍՏԱՆԻ ՀԱՆՐԱՊԵՏՈՒԹՅԱՆ 2024 ԹՎԱԿԱՆԻ ՊԵՏԱԿԱՆ ԲՅՈՒՋԵԻ ՄԱՍԻՆ» ՀԱՅԱՍՏԱՆԻ ՀԱՆՐԱՊԵՏՈՒԹՅԱՆ ՕՐԵՆՔԻ N 1 ՀԱՎԵԼՎԱԾԻ N 2 ԱՂՅՈՒՍԱԿՈՒՄ ԿԱՏԱՐՎՈՂ ՎԵՐԱԲԱՇԽՈՒՄԸ, ՓՈՓՈԽՈՒԹՅՈՒՆՆԵՐԸ ԵՎ ԼՐԱՑՈՒՄՆԵՐԸ, ՀԱՅԱՍՏԱՆԻ ՀԱՆՐԱՊԵՏՈՒԹՅԱՆ ԿԱՌԱՎԱՐՈՒԹՅԱՆ 2023 ԹՎԱԿԱՆԻ ԴԵԿՏԵՄԲԵՐԻ 28-Ի N 2323-Ն ՈՐՈՇՄԱՆ N 5 ՀԱՎԵԼՎԱԾԻ N 1 ԱՂՅՈՒՍԱԿՈՒՄ ԿԱՏԱՐՎՈՂ ՓՈՓՈԽՈՒԹՅՈՒՆՆԵՐԸ ԵՎ ԼՐԱՑՈՒՄՆԵՐԸ
F6: (հազ. դրամ)
A7: Ծրագրային դասիչը | C7: Բյուջետային գլխավոր կարգադրիչների, ծրագրերի և միջոցառումների անվանումները | D7: Ցուցանիշների փոփոխությունը (ավելացումները նշված են դրական նշանով, իսկ նվազեցումները՝ փակագծերում)
A8: Ծրագիր | B8: Միջոցառում | D8: Առաջին կիսամյակ | E8: Ինն ամիս | F8: Տարի
C9: ԸՆԴԱՄԵՆԸ | D9: =D10+D92 -> 7.2759576e-12 | E9: =E10+E92 -> 0.025 | F9: =F10+F92 -> 0.025
C10: ՀՀ տարածքային կառավարման և ենթակառուցվածքների նախարարություն | D10: =D11+D36+D79 -> 7.2759576e-12 | E10: =E11+E36+E79 -> 0.025 | F10: =F11+F36+F79 -> 0.025
A11: 1004 | C11: Ծրագրի անվանումը` | D11: =D18+D24+D30 -> -48993.9 | E11: =E18+E24+E30 -> -48993.9 | F11: =F18+F24+F30 -> -67766.7
C12: Ոռոգման համակարգի առողջացում
C13: Ծրագրի նպատակը`
C14: Ոռոգման ծառայությունների հասանելիության և մատչելիության ապահովում
C15: Վերջնական արդյունքի նկարագրությունը`
C16: Ոռոգման ջրի մատակարարման արդյունավետության և հասանելիության բարելավում՝ կորուստների կրճատում
A17: Ծրագրի միջոցառումներ
B18: 31004 | C18: Միջոցառման անվանումը` | D18: ='3'!G21 -> -65752.9 | E18: ='3'!H21 -> -65752.9 | F18: ='3'!I21 -> -65752.9
C19: Գերմանիայի զարգացման վարկերի բանկի աջակցությամբ իրականացվող Ախուրյան գետի ջրային ռեսուրսների ինտեգրված կառավարման ծրագրի շրջանակներում ջրային տնտեսության ենթակառուցվածքների հիմնանորոգում
C20: Միջոցառման նկարագրությունը`
C21: Գերմանիայի զարգացման վարկերի բանկի աջակցությամբ իրականացվող Ախուրյան գետի ջրային ռեսուրսների ինտեգրված կառավարման ծրագիր
C22: Միջոցառման տեսակը
C23: Պետական մարմինների կողմից օգտագործվող ոչ ֆինանսական ակտիվների հետ գործառնություններ
B24: 31007 | C24: Միջոցառման անվանումը` | D24: ='3'!G30 -> 16759 | E24: ='3'!H30 -> 16759 | F24: ='3'!I30 -> 16759
C25: Ջրային տնտեսության հիդրոտեխնիկական սարքավորումների տեղադրման աշխատանքներ
C26: Միջոցառման նկարագրությունը`
C27: Ոռոգման համակարգերի՝ ջրառի, ջրանցքների բաժանարար կետերը SCADA և այլ համակարգով հագեցած ջրաչափական սարքավորումներով կահավորում
C28: Միջոցառման տեսակը
C29: Պետական մարմինների կողմից օգտագործվող ոչ ֆինանսական ակտիվների հետ գործառնություններ
B30: 31014 | C30: Միջոցառման անվանումը` | D30: ='3'!G39 -> 0 | E30: ='3'!H39 -> 0 | F30: ='3'!I39 -> -18772.8
C31: Ջրամբարների վերականգնման և վերազինման աշխատանքներ
C32: Միջոցառման նկարագրությունը`
C33: Ջրամբարների վերականգնման և վերազինման համար նախագծերի և աշխատանքների ձեռքբերում
C34: Միջոցառման տեսակը
C35: Պետական մարմինների կողմից օգտագործվող ոչ ֆինանսական ակտիվների հետ գործառնություններ
A36: 1072 | C36: Ծրագրի անվանումը` | D36: =D43+D55+D73+D67+D49+D61 -> 47193.9 | E36: =E43+E55+E73+E67+E49+E61 -> 47193.925 | F36: =F43+F55+F73+F67+F49+F61 -> 65966.725
C37: Ջրամատակարարաման և ջրահեռացման բարելավում
C38: Ծրագրի նպատակը`
C39: Ջրամատակարարման ծառայությունների հասանելիության և մատչելիության ապահովում
C40: Վերջնական արդյունքի նկարագրությունը`
C41: Խմելու ջրի մատակարարման և ջրահեռացման համակարգի բարելավում, կորուստների կրճատում
A42: Ծրագրի միջոցառումներ
B43: 11007 | C43: Միջոցառման անվանումը` | D43: ='3'!G58 -> 53838.5 | E43: ='3'!H58 -> 53838.5 | F43: ='3'!I58 -> 53838.5
C44: Գերմանիայի զարգացման վարկերի բանկի աջակցությամբ իրականացվող ջրամատակարարման և ջրահեռացման ենթակառուցվածքների վերականգնման ծրագրի երրորդ փուլ
C45: Միջոցառման նկարագրությունը`
C46: Համայնքային ջրամատակարարման և ջրահեռացման ենթակառուցվածքների վերականգնման ծրագրի համակարգում և ղեկավարում
C47: Միջոցառման տեսակը
C48: Ծառայությունների մատուցում
B49: 11009 | C49: Միջոցառման անվանումը` | D49: ='3'!G66 -> 41484 | E49: ='3'!H66 -> 41484 | F49: ='3'!I66 -> 41484
C50: Գերմանիայի զարգացման վարկերի բանկի աջակցությամբ իրականացվող Համայնքային ենթակառուցվածքների երկրորդ ծրագրի երրորդ փուլի դրամաշնորհային ծրագրի ուղեկցող միջոցառման 3-րդ բաղադրիչ
C51: Միջոցառման նկարագրությունը`
C52: Ջրային կոմիտեին և համակարգի ընկերություններին աջակցություն՛ գործառույթների իրականացման և անձնակազմի կարողությունների զարգացման գործում
C53: Միջոցառման տեսակը
C54: Ծառայությունների մատուցում
B55: 11011 | C55: Միջոցառման անվանումը` | D55: ='3'!G74 -> 5330.3 | E55: ='3'!H74 -> 5330.3 | F55: ='3'!I74 -> 5330.3
C56: Գերմանիայի զարգացման վարկերի բանկի աջակցությամբ իրականացվող Համայնքային ենթակառուցվածքների երկրորդ ծրագրի երրորդ փուլի դրամաշնորհային ծրագիր
C57: Միջոցառման նկարագրությունը`
C58: Համայնքային ջրամատակարարման և ջրահեռացման ենթակառուցվածքների վերականգնման դրամաշնորհային ծրագրի համակարգում և ղեկավարում
C59: Միջոցառման տեսակը
C60: Ծառայությունների մատուցում
B61: 12001 | C61: Միջոցառման անվանումը` | D61: ='3'!G82 -> -29569.6 | E61: ='3'!H82 -> -29569.6 | F61: ='3'!I82 -> -29569.6
C62: Գերմանիայի զարգացման և Եվրոպական միության հարևանության ներդրումային բանկի աջակցությամբ իրականացվող ջրամատակարարման և ջրահեռացման ենթակառուցվածքների դրամաշնորհային ծրագիր` երրորդ փուլ
C63: Միջոցառման նկարագրությունը`
C64: 579 գյուղական բնակավայրերից ընտրված որոշ համայնքների ջրամատակարարման և ջրահեռացման համակարգերի հատվածների հրատապ վերականգնման աշխատանքների իրականացում ինչպես նաև՛ Արմավիրի կեղտաջրերի մաքրման կայանի կառուցում
C65: Միջոցառման տեսակը
C66: Տրանսֆերտների տրամադրում
B67: 31004 | C67: Միջոցառման անվանումը` | D67: ='3'!G91 -> -5330.3 | E67: ='3'!H91 -> -5330.3 | F67: ='3'!I91 -> -5330.3
C68: Եվրոպական միության հարևանության ներդրումային ծրագրի աջակցությամբ իրականացվող Երևանի ջրամատակարարման բարելավման դրամաշնորհային ծրագրի շրջանակներում Ջրամատակարարման և ջրահեռացման ենթակառուցվածքների հիմնանորոգում
C69: Միջոցառման նկարագրությունը`
C70: Երևանի ջրամատակարարման ցանցի բարելավման աշխատանքներ
C71: Միջոցառման տեսակը
C72: Պետական մարմինների կողմից օգտագործվող ոչ ֆինանսական ակտիվների հետ գործառնություններ
B73: 31010 | C73: Միջոցառման անվանումը` | D73: ='3'!G100 -> -18559 | E73: ='3'!H100 -> -18558.975 | F73: ='3'!I100 -> 213.825
C74: Ջրամատակարարման և ջրահեռացման համակարգի հիմնանորոգում
C75: Միջոցառման նկարագրությունը`
C76: Ջրամատակարարման և ջրահեռացման համակարգի հիմնանորոգման նախագծերի և աշխատանքների ձեռքբերում
C77: Միջոցառման տեսակը
C78: Պետական մարմինների կողմից օգտագործվող ոչ ֆինանսական ակտիվների հետ գործառնություններ
A79: 1109 | C79: Ծրագրի անվանումը` | D79: =D86 -> 1800 | E79: =E86 -> 1800 | F79: =F86 -> 1800
C80: Ջրային տնտեսության ոլորտում ծրագրերի համակարգում և մոնիտորինգ
C81: Ծրագրի նպատակը`
C82: Ջրային տնտեսության ոլորտում պետական արդյունավետ ծրագրերի մշակման և իրականացման ապահովում
C83: Վերջնական արդյունքի նկարագրությունը`
C84: Ջրային տնտեսության ոլորտում իրականացվող ծրագրերի ազդեցության և արդյունավետության բարելավում
A85: Ծրագրի միջոցառումներ
B86: 31001 | C86: Միջոցառման անվանումը` | D86: ='3'!G111 -> 1800 | E86: ='3'!H111 -> 1800 | F86: ='3'!I111 -> 1800
C87: Ջրային կոմիտեի տեխնիկական հագեցվածության բարելավում
C88: Միջոցառման նկարագրությունը`
C89: Ջրային կոմիտեի համար համակարգչային տեխնիկայի և գրասենյակային գույքի ձեռքբերում:
C90: Միջոցառման տեսակը
C91: Պետական մարմինների կողմից օգտագործվող ոչ ֆինանսական ակտիվների հետ գործառնություններ
C92: ՀՀ կառավարություն | D92: =D93 -> 0 | E92: =E93 -> 0 | F92: =F93 -> 0
A93: 1139 | C93: Ծրագրի անվանումը` | D93: =D100+D106 -> 0 | E93: =E100+E106 -> 0 | F93: =F100+F106 -> 0
C94: ՀՀ կառավարության պահուստային ֆոնդ
C95: Ծրագրի նպատակը`
C96: Պետական բյուջեում չկանխատեսված՝ ինչպես նաեւ բյուջետային երաշխիքների ապահովման ծախսերի ֆինանսավորման ապահովում
C97: Վերջնական արդյունքի նկարագրությունը`
C98: Պահուստային ֆոնդի կառավարման արդյունավետության և թափանցիկության ապահովում
A99: Ծրագրի միջոցառումներ
B100: 11001 | C100: Միջոցառման անվանումը` | D100: ='3'!G131 -> 16759 | E100: ='3'!H131 -> 16759 | F100: ='3'!I131 -> 16759
C101: ՀՀ կառավարության պահուստային ֆոնդ
...

Sheet 2
A1: Հավելված N 2
A2: ՀՀ կառավարության 2024 թվականի
A3: -ի N -Ն որոշման
A4: «ՀԱՅԱՍՏԱՆԻ ՀԱՆՐԱՊԵՏՈՒԹՅԱՆ 2024 ԹՎԱԿԱՆԻ ՊԵՏԱԿԱՆ ԲՅՈՒՋԵԻ ՄԱՍԻՆ» ՀԱՅԱՍՏԱՆԻ ՀԱՆՐԱՊԵՏՈՒԹՅԱՆ ՕՐԵՆՔԻ N 1 ՀԱՎԵԼՎԱԾԻ N 3 ԱՂՅՈՒՍԱԿՈՒՄ ԿԱՏԱՐՎՈՂ ՓՈՓՈԽՈՒԹՅՈՒՆՆԵՐԸ ԵՎ ԼՐԱՑՈՒՄՆԵՐԸ
G5: (հազ. դրամ)
A6: Ծրագրային դասիչ | C6: Բյուջետային գլխավոր կարգադրիչների, ծրագրերի, միջոցառումների և ուղղությունների անվանումները | D6: Ցուցանիշների փոփոխությունը (ավելացումները նշված են դրական նշանով, իսկ նվազեցումները՝ փակագծերում)
D7: Ընդամենը, | E7: այդ թվում՝
A8: Ծրագիր | B8: Միջոցառում | E8: Կառուցման աշխատանքներ | F8: Վերակառուցման, վերանորոգման և վերականգնման աշխատանքներ | G8: Նախագծահե- տազոտական, գեոդեզիա- քարտեզագրա- կան աշխա- տանքներ | H8: Ոչ ֆինանսական այլ ակտիվների ձեռքբերում
C9: ԸՆԴԱՄԵՆԸ | D9: =SUM(E9:H9) -> 0.025 | E9: =E11 -> -348245.1 | F9: =F11 -> 329686.12 | G9: =G11 -> 0 | H9: =H11 -> 18559
C10: այդ թվում՝
C11: ՀՀ ՏԱՐԱԾՔԱՅԻՆ ԿԱՌԱՎԱՐՄԱՆ ԵՎ ԵՆԹԱԿԱՌՈՒՑՎԱԾՔՆԵՐԻ ՆԱԽԱՐԱՐՈՒԹՅՈՒՆ | D11: =D13+D19+D35+D16 -> 0.025 | E11: =E13+E19+E35+E16 -> -348245.1 | F11: =F13+F19+F35+F16 -> 329686.12 | G11: =G13+G19+G35+G16 -> 0 | H11: =H13+H19+H35+H16 -> 18559
C12: այդ թվում`
A13: 1004 | B13: 31007 | C13: Ջրային տնտեսության հիդրոտեխնիկական սարքավորումների տեղադրման աշխատանքներ | D13: =SUM(E13:H13) -> 16759 | H13: =H15 -> 16759
C14: այդ թվում`
C15: Տվյալների առցանց փոխանցմամբ ջրահաշվիչ (ջրաչափիչ) սարքերի ձեռքբերում | D15: =SUM(E15:H15) -> 16759 | H15: ='6'!F16 -> 16759
A16: 1004 | B16: 31014 | C16: Ջրամբարների վերականգնման և վերազինման աշխատանքներ | D16: =SUM(E16:H16) -> -18772.8 | F16: =F18 -> -18772.8 | G16: =G18 -> 0 | H16: =H18 -> 0
C17: այդ թվում`
C18: ՀՀ Տավուշի մարզի Տավուշի ջրամբարի պատվարի վերականգնման աշխատանքներ | D18: =SUM(E18:H18) -> -18772.8 | F18: ='6'!F17 -> -18772.8
A19: 1072 | B19: 31010 | C19: Ջրամատակարարման և ջրահեռացման համակարգի հիմնանորոգում | D19: =SUM(E19:H19) -> 213.825 | E19: =SUM(E21:E34) -> -348245.1 | F19: =SUM(F21:F34) -> 348458.92 | G19: =SUM(G21:G28) -> 0 | H19: =SUM(H21:H28) -> 0
C20: այդ թվում՝
C21: ՀՀ Արարատի մարզի Բերդիկ համայնքի ջրամատակարարման համակարգի վերակառուցում | D21: =SUM(E21:H21) -> 6999.1 | F21: ='6'!F26 -> 6999.1
C22: ՀՀ Արարատի մարզի Ազատավան համայնքի ջրամատակարարման համակարգի վերակառուցում | D22: =SUM(E22:H22) -> -14885.5 | F22: ='6'!F27 -> -14885.5
C23: ՀՀ Արարատի մարզի Վերին Արտաշատ համայնքի խմելու ջրամատակարարման համակարգի վերակառուցում | D23: =SUM(E23:H23) -> -7522.9 | F23: ='6'!F28 -> -7522.9
C24: ՀՀ Արարատի մարզի Նոր Ուղի համայնքի խմելու ջրամատակարարման համակարգի վերակառուցում | D24: =SUM(E24:H24) -> -11301.5 | F24: ='6'!F29 -> -11301.5
C25: ՀՀ Արարատի մարզի Վ. Դվին համայնքի ջրամատակարարման համակարգի վերակառուցում | D25: =SUM(E25:H25) -> 1780.9 | F25: ='6'!F30 -> 1780.9
C26: ՀՀ Գեղարքունիքի մարզի Ներքին Գետաշեն բնակավայրի ջրամատակարարման համակարգի վերակառուցում | D26: =SUM(E26:H26) -> 26759.2 | F26: ='6'!F31 -> 26759.2
C27: ՀՀ Սյունիքի մարզի Մեղրի քաղաքի ջրի մաքրման կայանի ապամոնտաժում, նորի կառուցում | D27: =SUM(E27:H27) -> 0 | E27: ='6'!F32 -> 0
C28: ՀՀ Սյունիքի մարզի Ագարակ քաղաքի գոյություն ունեցող ջրի մաքրման կայանի հիմնանորոգում, լրացուցիչ նոր կայանի կառուցում | D28: =SUM(E28:H28) -> -348245.1 | E28: ='6'!F33 -> -348245.1
C29: ՀՀ Գեղարքունիքի մարզի Կարմիրգյուղ և Սարուխան բնակավայրերի ջրամատակարարման համակարգի վերակառուցում | D29: =SUM(E29:H29) -> 134089.97 | F29: ='6'!F34 -> 134089.97
C30: ՀՀ Արարատի մարզի Մխչյան համայնքի ջրամատակարարման համակարգի վերակառուցում | D30: =SUM(E30:H30) -> 82256.553 | F30: ='6'!F35 -> 82256.553
C31: ՀՀ Արարատի մարզի Արալեզ համայնքի ջրամատակարարման համակարգի վերակառուցում | D31: =SUM(E31:H31) -> 94946.104 | F31: ='6'!F36 -> 94946.104
C32: ՀՀ Գեղարքունիքի մարզի Վարսեր բնակավայրի ջրամատակարարման համակարգի վերակառուցում | D32: =SUM(E32:H32) -> 6313.5 | F32: ='6'!F37 -> 6313.5
C33: ՀՀ Արարատի մարզի Մասիս քաղաքի ջրամատակարարման համակարգի վերակառուցում | D33: =SUM(E33:H33) -> 27500.3 | F33: ='6'!F38 -> 27500.3
C34: ՀՀ Արարատի մարզի Նոր Կյուրին համայնքի ջրամատակարարման համակարգի վերակառուցում | D34: =SUM(E34:H34) -> 1523.2 | F34: ='6'!F39 -> 1523.2
A35: 1109 | B35: 31001 | C35: Ջրային կոմիտեի տեխնիկական հագեցվածության բարելավում | D35: =SUM(E35:H35) -> 1800 | E35: 0 | F35: 0 | G35: 0 | H35: ='6'!F40 -> 1800

Sheet 3
A1: Հավելված N3
A2: ՀՀ կառավարության 2024 թվականի
A3: -ի N -Ն որոշման
A4: ՀԱՅԱՍՏԱՆԻ ՀԱՆՐԱՊԵՏՈՒԹՅԱՆ ԿԱՌԱՎԱՐՈՒԹՅԱՆ 2023 ԹՎԱԿԱՆԻ ԴԵԿՏԵՄԲԵՐԻ 28-Ի N 2323-Ն ՈՐՈՇՄԱՆ N 3 ԵՎ N 4 ՀԱՎԵԼՎԱԾՆԵՐՈՒՄ ԿԱՏԱՐՎՈՂ ՓՈՓՈԽՈՒԹՅՈՒՆՆԵՐԸ ԵՎ ԼՐԱՑՈՒՄՆԵՐԸ
H5: (հազ. դրամ)
A6: Գործառական դասիչը | D6: Ծրագրային դասիչը | F6: Բյուջետային ծախսերի գործառական դասակարգման բաժինների, խմբերի և դասերի, բյուջետային ծրագրերի միջոցառումների, բյուջետային հատկացումների գլխավոր կարգադրիչների անվանումները | G6: Ցուցանիշների փոփոխությունը (ավելացումները նշված են դրական նշանով, իսկ նվազեցումները՝ փակագծերում)
A7: Բաժին | B7: Խումբ | C7: Դաս | D7: Ծրագիր | E7: Միջոցառում | G7: Առաջին կիսամյակ | H7: Ինն ամիս | I7: Տարի
F8: ԸՆԴԱՄԵՆԸ ԾԱԽՍԵՐ | G8: =G10+G120 -> 0 | H8: =H10+H120 -> 0.025 | I8: =I10+I120 -> 0.025
F9: այդ թվում`
F10: ՀՀ տարածքային կառավարման և ենթակառուցվածքների նախարարություն | G10: =G11+G48 -> 0 | H10: =H11+H48 -> 0.025 | I10: =I11+I48 -> 0.025
A11: 04 | F11: ՏՆՏԵՍԱԿԱՆ ՀԱՐԱԲԵՐՈՒԹՅՈՒՆՆԵՐ | G11: =G13 -> -48993.9 | H11: =H13 -> -48993.9 | I11: =I13 -> -67766.7
F12: այդ թվում`
B13: 02 | F13: Գյուղատնտեսություն, անտառային տնտեսություն, ձկնորսություն և որսորդություն | G13: =G15 -> -48993.9 | H13: =H15 -> -48993.9 | I13: =I15 -> -67766.7
F14: այդ թվում`
C15: 04 | F15: Ոռոգում | G15: =G17 -> -48993.9 | H15: =H17 -> -48993.9 | I15: =I17 -> -67766.7
F16: այդ թվում`
F17: ՀՀ տարածքային կառավարման և ենթակառուցվածքների նախարարություն | G17: =G19 -> -48993.9 | H17: =H19 -> -48993.9 | I17: =I19 -> -67766.7
F18: այդ թվում`
D19: 1004 | F19: Ոռոգման համակարգի առողջացում | G19: =G21+G30+G39 -> -48993.9 | H19: =H21+H30+H39 -> -48993.9 | I19: =I21+I30+I39 -> -67766.7
F20: այդ թվում`
E21: 31004 | F21: Գերմանիայի զարգացման վարկերի բանկի աջակցությամբ իրականացվող Ախուրյան գետի ջրային ռեսուրսների ինտեգրված կառավարման ծրագրի շրջանակներում ջրային տնտեսության ենթակառուցվածքների հիմնանորոգում | G21: =G23 -> -65752.9 | H21: =H23 -> -65752.9 | I21: =I23 -> -65752.9
F22: այդ թվում` ըստ կատարողների
F23: ՀՀ տարածքային կառավարման և ենթակառուցվածքների նախարարության ջրային կոմիտե | G23: =G25 -> -65752.9 | H23: =H25 -> -65752.9 | I23: =I25 -> -65752.9
F24: այդ թվում` բյուջետային ծախսերի տնտեսագիտական դասակարգման հոդվածներ
F25: ԸՆԴԱՄԵՆԸ ԾԱԽՍԵՐ | G25: =G26 -> -65752.9 | H25: =H26 -> -65752.9 | I25: =I26 -> -65752.9
F26: ՈՉ ՖԻՆԱՆՍԱԿԱՆ ԱԿՏԻՎՆԵՐԻ ԳԾՈՎ ԾԱԽՍԵՐ | G26: =G27 -> -65752.9 | H26: =H27 -> -65752.9 | I26: =I27 -> -65752.9
F27: ՀԻՄՆԱԿԱՆ ՄԻՋՈՑՆԵՐ | G27: =G28 -> -65752.9 | H27: =H28 -> -65752.9 | I27: =I28 -> -65752.9
F28: ՇԵՆՔԵՐ ԵՎ ՇԻՆՈՒԹՅՈՒՆՆԵՐ | G28: =G29 -> -65752.9 | H28: =H29 -> -65752.9 | I28: =I29 -> -65752.9
F29: - Շենքերի և շինությունների շինարարություն | G29: ='4'!D18 -> -65752.9 | H29: ='4'!G18 -> -65752.9 | I29: ='4'!J18 -> -65752.9
E30: 31007 | F30: Ջրային տնտեսության հիդրոտեխնիկական սարքավորումների տեղադրման աշխատանքներ | G30: =G32 -> 16759 | H30: =H32 -> 16759 | I30: =I32 -> 16759
F31: այդ թվում` ըստ կատարողների
F32: ՀՀ տարածքային կառավարման և ենթակառուցվածքների նախարարության ջրային կոմիտե | G32: =G34 -> 16759 | H32: =H34 -> 16759 | I32: =I34 -> 16759
F33: այդ թվում` բյուջետային ծախսերի տնտեսագիտական դասակարգման հոդվածներ
F34: ԸՆԴԱՄԵՆԸ ԾԱԽՍԵՐ | G34: =G35 -> 16759 | H34: =H35 -> 16759 | I34: =I35 -> 16759
F35: ՈՉ ՖԻՆԱՆՍԱԿԱՆ ԱԿՏԻՎՆԵՐԻ ԳԾՈՎ ԾԱԽՍԵՐ | G35: =G36 -> 16759 | H35: =H36 -> 16759 | I35: =I36 -> 16759
F36: ՀԻՄՆԱԿԱՆ ՄԻՋՈՑՆԵՐ | G36: =G37 -> 16759 | H36: =H37 -> 16759 | I36: =I37 -> 16759
F37: ՄԵՔԵՆԱՆԵՐ ԵՎ ՍԱՐՔԱՎՈՐՈՒՄՆԵՐ | G37: =G38 -> 16759 | H37: =H38 -> 16759 | I37: =I38 -> 16759
F38: - Այլ մեքենաներ և սարքավորումներ | G38: ='6'!D12 -> 16759 | H38: ='6'!E12 -> 16759 | I38: ='6'!F12 -> 16759
E39: 31014 | F39: Ջրամբարների վերականգնման և վերազինման աշխատանքներ | G39: =G41 -> 0 | H39: =H41 -> 0 | I39: =I41 -> -18772.8
F40: այդ թվում` ըստ կատարողների
F41: ՀՀ տարածքային կառավարման և ենթակառուցվածքների նախարարության ջրային կոմիտե | G41: =G43 -> 0 | H41: =H43 -> 0 | I41: =I43 -> -18772.8
F42: այդ թվում` բյուջետային ծախսերի տնտեսագիտական դասակարգման հոդվածներ
F43: ԸՆԴԱՄԵՆԸ ԾԱԽՍԵՐ | G43: =G44 -> 0 | H43: =H44 -> 0 | I43: =I44 -> -18772.8
F44: ՈՉ ՖԻՆԱՆՍԱԿԱՆ ԱԿՏԻՎՆԵՐԻ ԳԾՈՎ ԾԱԽՍԵՐ | G44: =G45 -> 0 | H44: =H45 -> 0 | I44: =I45 -> -18772.8
F45: ՀԻՄՆԱԿԱՆ ՄԻՋՈՑՆԵՐ | G45: =G46 -> 0 | H45: =H46 -> 0 | I45: =I46 -> -18772.8
F46: ՇԵՆՔԵՐ ԵՎ ՇԻՆՈՒԹՅՈՒՆՆԵՐ | G46: =G47 -> 0 | H46: =H47 -> 0 | I46: =I47 -> -18772.8
F47: - Շենքերի և շինությունների կապիտալ վերանորոգում | G47: ='6'!D21 -> 0 | H47: ='6'!E21 -> 0 | I47: ='6'!F21 -> -18772.8
A48: 06 | F48: ԲՆԱԿԱՐԱՆԱՅԻՆ ՇԻՆԱՐԱՐՈՒԹՅՈՒՆ ԵՎ ԿՈՄՈՒՆԱԼ ԾԱՌԱՅՈՒԹՅՈՒՆՆԵՐ | G48: =G50 -> 48993.9 | H48: =H50 -> 48993.925 | I48: =I50 -> 67766.725
F49: այդ թվում`
B50: 03 | F50: Ջրամատակարարում | G50: =G52 -> 48993.9 | H50: =H52 -> 48993.925 | I50: =I52 -> 67766.725
F51: այդ թվում`
C52: 01 | F52: Ջրամատակարարում | G52: =G54 -> 48993.9 | H52: =H54 -> 48993.925 | I52: =I54 -> 67766.725
F53: այդ թվում`
F54: ՀՀ տարածքային կառավարման և ենթակառուցվածքների նախարարություն | G54: =G56+G109 -> 48993.9 | H54: =H56+H109 -> 48993.925 | I54: =I56+I109 -> 67766.725
F55: այդ թվում`
D56: 1072 | F56: Ջրամատակարարաման և ջրահեռացման բարելավում | G56: =G58+G74+G100+G91+G66+G82 -> 47193.9 | H56: =H58+H74+H100+H91+H66+H82 -> 47193.925 | I56: =I58+I74+I100+I91+I66+I82 -> 65966.725
F57: այդ թվում`
E58: 11007 | F58: Գերմանիայի զարգացման վարկերի բանկի աջակցությամբ իրականացվող ջրամատակարարման և ջրահեռացման ենթակառուցվածքների վերականգնման ծրագրի երրորդ փուլ | G58: =G60 -> 53838.5 | H58: =H60 -> 53838.5 | I58: =I60 -> 53838.5
F59: այդ թվում` ըստ կատարողների
F60: ՀՀ տարածքային կառավարման և ենթակառուցվածքների նախարարության ջրային կոմիտե | G60: =G62 -> 53838.5 | H60: =H62 -> 53838.5 | I60: =I62 -> 53838.5
F61: այդ թվում` բյուջետային ծախսերի տնտեսագիտական դասակարգման հոդվածներ
F62: ԸՆԴԱՄԵՆԸ ԾԱԽՍԵՐ | G62: =G63 -> 53838.5 | H62: =H63 -> 53838.5 | I62: =I63 -> 53838.5
F63: ԸՆԹԱՑԻԿ ԾԱԽՍԵՐ | G63: =G64 -> 53838.5 | H63: =H64 -> 53838.5 | I63: =I64 -> 53838.5
F64: ԱՅԼ ԾԱԽՍԵՐ | G64: =G65 -> 53838.5 | H64: =H65 -> 53838.5 | I64: =I65 -> 53838.5
F65: Այլ ծախսեր | G65: ='4'!D36 -> 53838.5 | H65: ='4'!G36 -> 53838.5 | I65: ='4'!J36 -> 53838.5
E66: 11009 | F66: Գերմանիայի զարգացման վարկերի բանկի աջակցությամբ իրականացվող Համայնքային ենթակառուցվածքների երկրորդ ծրագրի երրորդ փուլի դրամաշնորհային ծրագրի ուղեկցող միջոցառման 3-րդ բաղադրիչ | G66: =G68 -> 41484 | H66: =H68 -> 41484 | I66: =I68 -> 41484
F67: այդ թվում` ըստ կատարողների
F68: ՀՀ տարածքային կառավարման և ենթակառուցվածքների նախարարության ջրային կոմիտե | G68: =G70 -> 41484 | H68: =H70 -> 41484 | I68: =I70 -> 41484
F69: այդ թվում` բյուջետային ծախսերի տնտեսագիտական դասակարգման հոդվածներ
F70: ԸՆԴԱՄԵՆԸ ԾԱԽՍԵՐ | G70: =G71 -> 41484 | H70: =H71 -> 41484 | I70: =I71 -> 41484
F71: ԸՆԹԱՑԻԿ ԾԱԽՍԵՐ | G71: =G72 -> 41484 | H71: =H72 -> 41484 | I71: =I72 -> 41484
F72: ԱՅԼ ԾԱԽՍԵՐ | G72: =G73 -> 41484 | H72: =H73 -> 41484 | I72: =I73 -> 41484
F73: Այլ ծախսեր | G73: ='5'!D18 -> 41484 | H73: ='5'!G18 -> 41484 | I73: ='5'!J18 -> 41484
E74: 11011 | F74: Գերմանիայի զարգացման վարկերի բանկի աջակցությամբ իրականացվող Համայնքային ենթակառուցվածքների երկրորդ ծրագրի երրորդ փուլի դրամաշնորհային ծրագիր | G74: =G76 -> 5330.3 | H74: =H76 -> 5330.3 | I74: =I76 -> 5330.3
F75: այդ թվում` ըստ կատարողների
F76: ՀՀ տարածքային կառավարման և ենթակառուցվածքների նախարարության ջրային կոմիտե | G76: =G78 -> 5330.3 | H76: =H78 -> 5330.3 | I76: =I78 -> 5330.3
F77: այդ թվում` բյուջետային ծախսերի տնտեսագիտական դասակարգման հոդվածներ
F78: ԸՆԴԱՄԵՆԸ ԾԱԽՍԵՐ | G78: =G79 -> 5330.3 | H78: =H79 -> 5330.3 | I78: =I79 -> 5330.3
F79: ԸՆԹԱՑԻԿ ԾԱԽՍԵՐ | G79: =G80 -> 5330.3 | H79: =H80 -> 5330.3 | I79: =I80 -> 5330.3
F80: ԱՅԼ ԾԱԽՍԵՐ | G80: =G81 -> 5330.3 | H80: =H81 -> 5330.3 | I80: =I81 -> 5330.3
F81: Այլ ծախսեր | G81: ='5'!D33 -> 5330.3 | H81: ='5'!G33 -> 5330.3 | I81: ='5'!J33 -> 5330.3
E82: 12001 | F82: Գերմանիայի զարգացման և Եվրոպական միության հարևանության ներդրումային բանկի աջակցությամբ իրականացվող ջրամատակարարման և ջրահեռացման ենթակառուցվածքների դրամաշնորհային ծրագիր` երրորդ փուլ | G82: =G84 -> -29569.6 | H82: =H84 -> -29569.6 | I82: =I84 -> -29569.6
F83: այդ թվում` ըստ կատարողների
F84: ՀՀ տարածքային կառավարման և ենթակառուցվածքների նախարարության ջրային կոմիտե | G84: =G86 -> -29569.6 | H84: =H86 -> -29569.6 | I84: =I86 -> -29569.6
F85: այդ թվում` բյուջետային ծախսերի տնտեսագիտական դասակարգման հոդվածներ
F86: ԸՆԴԱՄԵՆԸ ԾԱԽՍԵՐ | G86: =G87 -> -29569.6 | H86: =H87 -> -29569.6 | I86: =I87 -> -29569.6
F87: ՈՉ ՖԻՆԱՆՍԱԿԱՆ ԱԿՏԻՎՆԵՐԻ ԳԾՈՎ ԾԱԽՍԵՐ | G87: =G88 -> -29569.6 | H87: =H88 -> -29569.6 | I87: =I88 -> -29569.6
F88: ՀԻՄՆԱԿԱՆ ՄԻՋՈՑՆԵՐ | G88: =G89 -> -29569.6 | H88: =H89 -> -29569.6 | I88: =I89 -> -29569.6
F89: ԱՅԼ ՀԻՄՆԱԿԱՆ ՄԻՋՈՑՆԵՐ | G89: =G90 -> -29569.6 | H89: =H90 -> -29569.6 | I89: =I90 -> -29569.6
F90: - Նախագծահետազոտական ծախսեր | G90: ='5'!D34 -> -29569.6 | H90: ='5'!G34 -> -29569.6 | I90: ='5'!J34 -> -29569.6
E91: 31004 | F91: Եվրոպական միության հարևանության ներդրումային ծրագրի աջակցությամբ իրականացվող Երևանի ջրամատակարարման բարելավման դրամաշնորհային ծրագրի շրջանակներում Ջրամատակարարման և ջրահեռացման ենթակառուցվածքների հիմնանորոգում | G91: =G93 -> -5330.3 | H91: =H93 -> -5330.3 | I91: =I93 -> -5330.3
F92: այդ թվում` ըստ կատարողների
F93: ՀՀ տարածքային կառավարման և ենթակառուցվածքների նախարարության ջրային կոմիտե | G93: =G95 -> -5330.3 | H93: =H95 -> -5330.3 | I93: =I95 -> -5330.3
F94: այդ թվում` բյուջետային ծախսերի տնտեսագիտական դասակարգման հոդվածներ
F95: ԸՆԴԱՄԵՆԸ ԾԱԽՍԵՐ | G95: =G96 -> -5330.3 | H95: =H96 -> -5330.3 | I95: =I96 -> -5330.3
F96: ՈՉ ՖԻՆԱՆՍԱԿԱՆ ԱԿՏԻՎՆԵՐԻ ԳԾՈՎ ԾԱԽՍԵՐ | G96: =G97 -> -5330.3 | H96: =H97 -> -5330.3 | I96: =I97 -> -5330.3
F97: ՀԻՄՆԱԿԱՆ ՄԻՋՈՑՆԵՐ | G97: =G98 -> -5330.3 | H97: =H98 -> -5330.3 | I97: =I98 -> -5330.3
F98: ՇԵՆՔԵՐ ԵՎ ՇԻՆՈՒԹՅՈՒՆՆԵՐ | G98: =G99 -> -5330.3 | H98: =H99 -> -5330.3 | I98: =I99 -> -5330.3
F99: - Շենքերի և շինությունների կապիտալ վերանորոգում | G99: -5330.3 | H99: =G99 -> -5330.3 | I99: =H99 -> -5330.3
E100: 31010 | F100: Ջրամատակարարման և ջրահեռացման համակարգի հիմնանորոգում | G100: =G102 -> -18559 | H100: =H102 -> -18558.975 | I100: =I102 -> 213.825
...

Sheet 4
L1: Հավելված N 4
L2: ՀՀ կառավարության 2024 թվականի
L3: ______________ ի ___Ն որոշման
A5: «ՀԱՅԱUՏԱՆԻ ՀԱՆՐԱՊԵՏՈՒԹՅԱՆ 2024 ԹՎԱԿԱՆԻ ՊԵՏԱԿԱՆ ԲՅՈՒՋԵԻ ՄԱUԻՆ» OՐԵՆՔԻ N 1 ՀԱՎԵԼՎԱԾԻ N 4 ԱՂՅՈՒՍԱԿՈՒՄ ԵՎ ՀԱՅԱՍՏԱՆԻ ՀԱՆՐԱՊԵՏՈՒԹՅԱՆ ԿԱՌԱՎԱՐՈՒԹՅԱՆ 2023 ԹՎԱԿԱՆԻ ԴԵԿՏԵՄԲԵՐԻ 28-Ի N 2323-Ն ՈՐՈՇՄԱՆ N 5 ՀԱՎԵԼՎԱԾԻ N 3 ԱՂՅՈՒՍԱԿՈՒՄ ԿԱՏԱՐՎՈՂ ՓՈՓՈԽՈՒԹՅՈՒՆՆԵՐԸ
L6: հազ. դրամ
A7: Ծրագրային դասիչը | C7: Բյուջետային գլխավոր կարգադրիչների, ծրագրերի և միջոցառումների անվանումները | D7: Ցուցանիշների փոփոխությունը (ավելացումները նշված են դրական նշանով, իսկ նվազեցումները` փակագծերում)
D8: Առաջին կիսամյակ | G8: Ինն ամիս | J8: Տարի
D9: Ընդամենը | E9: այդ թվում` | G9: Ընդամենը | H9: այդ թվում` | J9: Ընդամենը | K9: այդ թվում`
A10: Ծրագիր | B10: Միջոց առում | E10: Վարկային միջոցներ | F10: Համաֆինան սավորում | H10: Վարկային միջոցներ | I10: Համաֆինան սավորում | K10: Վարկային միջոցներ | L10: Համաֆինան սավորում
C11: ԸՆԴԱՄԵՆԸ | D11: =+E11+F11 -> -11914.4 | E11: =+E15 -> 0 | F11: =+F15 -> -11914.4 | G11: =+H11+I11 -> -11914.4 | H11: =+H15 -> 0 | I11: =+I15 -> -11914.4 | J11: =+K11+L11 -> -11914.4 | K11: =+K15 -> 0 | L11: =+L15 -> -11914.4
C12: այդ թվում`
C13: ԸՆԹԱՑԻԿ ԾԱԽՍԵՐ | D13: =+E13+F13 -> 53838.5 | E13: =E29 -> 39510.5 | F13: =F29 -> 14328 | G13: =+H13+I13 -> 53838.5 | H13: =H29 -> 39510.5 | I13: =I29 -> 14328 | J13: =+K13+L13 -> 53838.5 | K13: =K29 -> 39510.5 | L13: =L29 -> 14328
C14: ՈՉ ՖԻՆԱՆՍԱԿԱՆ ԱԿՏԻՎՆԵՐԻ ԳԾՈՎ ԾԱԽՍԵՐ | D14: =+E14+F14 -> -65752.9 | E14: =E22 -> -39510.5 | F14: =F22 -> -26242.4 | G14: =+H14+I14 -> -65752.9 | H14: =H22 -> -39510.5 | I14: =I22 -> -26242.4 | J14: =+K14+L14 -> -65752.9 | K14: =K22 -> -39510.5 | L14: =L22 -> -26242.4
C15: ՀՀ ՏԱՐԱԾՔԱՅԻՆ ԿԱՌԱՎԱՐՄԱՆ ԵՎ ԵՆԹԱԿԱՌՈՒՑՎԱԾՔՆԵՐԻ ՆԱԽԱՐԱՐՈՒԹՅՈՒՆ | D15: =D16+D27 -> -11914.4 | E15: =E16+E27 -> 0 | F15: =F16+F27 -> -11914.4 | G15: =+H15+I15 -> -11914.4 | H15: =H16+H27 -> 0 | I15: =I16+I27 -> -11914.4 | J15: =+K15+L15 -> -11914.4 | K15: =K16+K27 -> 0 | L15: =L16+L27 -> -11914.4
A16: 1004 | C16: Ոռոգման համակարգի առողջացում | D16: =+E16+F16 -> -65752.9 | E16: =+E18 -> -39510.5 | F16: =+F18 -> -26242.4 | G16: =+H16+I16 -> -65752.9 | H16: =+H18 -> -39510.5 | I16: =+I18 -> -26242.4 | J16: =+K16+L16 -> -65752.9 | K16: =+K18 -> -39510.5 | L16: =+L18 -> -26242.4
C17: այդ թվում`
B18: 31004 | C18: Գերմանիայի զարգացման վարկերի բանկի աջակցությամբ իրականացվող Ախուրյան գետի ջրային ռեսուրսների ինտեգրված կառավարման ծրագրի շրջանակներում ջրային տնտեսության ենթակառուցվածքների հիմնանորոգում | D18: =+D20 -> -65752.9 | E18: =+E20 -> -39510.5 | F18: =+F20 -> -26242.4 | G18: =+G20 -> -65752.9 | H18: =+H20 -> -39510.5 | I18: =+I20 -> -26242.4 | J18: =+J20 -> -65752.9 | K18: =+K20 -> -39510.5 | L18: =+L20 -> -26242.4
C19: այդ թվում` ըստ կատարողների
C20: ՀՀ տարածքային կառավարման և ենթակառուցվածքների նախարարության ջրային կոմիտե | D20: =+D22 -> -65752.9 | E20: =+E22 -> -39510.5 | F20: =+F22 -> -26242.4 | G20: =+G22 -> -65752.9 | H20: =+H22 -> -39510.5 | I20: =+I22 -> -26242.4 | J20: =+J22 -> -65752.9 | K20: =+K22 -> -39510.5 | L20: =+L22 -> -26242.4
C21: այդ թվում` բյուջետային ծախսերի տնտեսագիտական դասակարգման հոդվածներ
C22: ԸՆԴԱՄԵՆԸ ԾԱԽՍԵՐ | D22: =+E22+F22 -> -65752.9 | E22: =+E23 -> -39510.5 | F22: =+F23 -> -26242.4 | G22: =+H22+I22 -> -65752.9 | H22: =+H23 -> -39510.5 | I22: =+I23 -> -26242.4 | J22: =+K22+L22 -> -65752.9 | K22: =+K23 -> -39510.5 | L22: =+L23 -> -26242.4
C23: ՈՉ ՖԻՆԱՆՍԱԿԱՆ ԱԿՏԻՎՆԵՐԻ ԳԾՈՎ ԾԱԽՍԵՐ | D23: =+E23+F23 -> -65752.9 | E23: =+E24 -> -39510.5 | F23: =+F24 -> -26242.4 | G23: =+H23+I23 -> -65752.9 | H23: =+H24 -> -39510.5 | I23: =+I24 -> -26242.4 | J23: =+K23+L23 -> -65752.9 | K23: =+K24 -> -39510.5 | L23: =+L24 -> -26242.4
C24: ՀԻՄՆԱԿԱՆ ՄԻՋՈՑՆԵՐ | D24: =+E24+F24 -> -65752.9 | E24: =+E26 -> -39510.5 | F24: =+F26 -> -26242.4 | G24: =+H24+I24 -> -65752.9 | H24: =+H26 -> -39510.5 | I24: =+I26 -> -26242.4 | J24: =+K24+L24 -> -65752.9 | K24: =+K26 -> -39510.5 | L24: =+L26 -> -26242.4
C25: ՇԵՆՔԵՐ ԵՎ ՇԻՆՈՒԹՅՈՒՆՆԵՐ | D25: =+E25+F25 -> -65752.9 | E25: =E26 -> -39510.5 | F25: =F26 -> -26242.4 | G25: =+H25+I25 -> -65752.9 | H25: =H26 -> -39510.5 | I25: =I26 -> -26242.4 | J25: =+K25+L25 -> -65752.9 | K25: =K26 -> -39510.5 | L25: =L26 -> -26242.4
C26: - Շենքերի և շինությունների շինարարություն | D26: =+E26+F26 -> -65752.9 | E26: -39510.5 | F26: -26242.4 | G26: =+H26+I26 -> -65752.9 | H26: -39510.5 | I26: -26242.4 | J26: =+K26+L26 -> -65752.9 | K26: -39510.5 | L26: -26242.4
A27: 1072 | C27: Ջրամատակարարաման և ջրահեռացման բարելավում | D27: =+E27+F27 -> 53838.5 | E27: =+E29 -> 39510.5 | F27: =+F29 -> 14328 | G27: =+H27+I27 -> 53838.5 | H27: =+H29 -> 39510.5 | I27: =+I29 -> 14328 | J27: =+K27+L27 -> 53838.5 | K27: =+K29 -> 39510.5 | L27: =+L29 -> 14328
C28: այդ թվում`
B29: 11007 | C29: Գերմանիայի զարգացման վարկերի բանկի աջակցությամբ իրականացվող ջրամատակարարման և ջրահեռացման ենթակառուցվածքների վերականգնման ծրագրի երրորդ փուլ | D29: =+D31 -> 53838.5 | E29: =+E31 -> 39510.5 | F29: =+F31 -> 14328 | G29: =+G31 -> 53838.5 | H29: =+H31 -> 39510.5 | I29: =+I31 -> 14328 | J29: =+J31 -> 53838.5 | K29: =+K31 -> 39510.5 | L29: =+L31 -> 14328
C30: այդ թվում` ըստ կատարողների
C31: ՀՀ տարածքային կառավարման և ենթակառուցվածքների նախարարության ջրային կոմիտե | D31: =+D33 -> 53838.5 | E31: =+E33 -> 39510.5 | F31: =+F33 -> 14328 | G31: =+G33 -> 53838.5 | H31: =+H33 -> 39510.5 | I31: =+I33 -> 14328 | J31: =+J33 -> 53838.5 | K31: =+K33 -> 39510.5 | L31: =+L33 -> 14328
C32: այդ թվում` բյուջետային ծախսերի տնտեսագիտական դասակարգման հոդվածներ
C33: ԸՆԴԱՄԵՆԸ ԾԱԽՍԵՐ | D33: =+E33+F33 -> 53838.5 | E33: =+E34 -> 39510.5 | F33: =+F34 -> 14328 | G33: =+H33+I33 -> 53838.5 | H33: =+H34 -> 39510.5 | I33: =+I34 -> 14328 | J33: =+K33+L33 -> 53838.5 | K33: =+K34 -> 39510.5 | L33: =+L34 -> 14328
C34: ԸՆԹԱՑԻԿ ԾԱԽՍԵՐ | D34: =+E34+F34 -> 53838.5 | E34: =+E35 -> 39510.5 | F34: =+F35 -> 14328 | G34: =+H34+I34 -> 53838.5 | H34: =+H35 -> 39510.5 | I34: =+I35 -> 14328 | J34: =+K34+L34 -> 53838.5 | K34: =+K35 -> 39510.5 | L34: =+L35 -> 14328
C35: ԱՅԼ ԾԱԽՍԵՐ | D35: =+E35+F35 -> 53838.5 | E35: =+E36 -> 39510.5 | F35: =+F36 -> 14328 | G35: =+H35+I35 -> 53838.5 | H35: =+H36 -> 39510.5 | I35: =+I36 -> 14328 | J35: =+K35+L35 -> 53838.5 | K35: =+K36 -> 39510.5 | L35: =+L36 -> 14328
C36: Այլ ծախսեր | D36: =+E36+F36 -> 53838.5 | E36: 39510.5 | F36: 14328 | G36: =+H36+I36 -> 53838.5 | H36: 39510.5 | I36: 14328 | J36: =+K36+L36 -> 53838.5 | K36: 39510.5 | L36: 14328
E37: =+E35-E36 -> 0
G38: =+E36*G35 -> 2.1271861e+09
G40: =+E35-G38 -> -2.1271465e+09

Sheet 5
L1: Հավելված N 5
L2: ՀՀ կառավարության 2024 թվականի
L3: ______________ ի ___Ն որոշման
A5: «ՀԱՅԱUՏԱՆԻ ՀԱՆՐԱՊԵՏՈՒԹՅԱՆ 2024 ԹՎԱԿԱՆԻ ՊԵՏԱԿԱՆ ԲՅՈՒՋԵԻ ՄԱUԻՆ» OՐԵՆՔԻ N 1 ՀԱՎԵԼՎԱԾԻ N 5 ԱՂՅՈՒՍԱԿՈՒՄ ԵՎ ՀԱՅԱՍՏԱՆԻ ՀԱՆՐԱՊԵՏՈՒԹՅԱՆ ԿԱՌԱՎԱՐՈՒԹՅԱՆ 2023 ԹՎԱԿԱՆԻ ԴԵԿՏԵՄԲԵՐԻ 28-Ի N 2323-Ն ՈՐՈՇՄԱՆ N 5 ՀԱՎԵԼՎԱԾԻ N 4 ԱՂՅՈՒՍԱԿՈՒՄ ԿԱՏԱՐՎՈՂ ՓՈՓՈԽՈՒԹՅՈՒՆՆԵՐԸ ԵՎ ԼՐԱՑՈՒՄՆԵՐԸ
L6: հազ. դրամ
A7: Ծրագրային դասիչը | C7: Բյուջետային գլխավոր կարգադրիչների, ծրագրերի և միջոցառումների անվանումները | D7: Ցուցանիշների փոփոխությունը (ավելացումները նշված են դրական նշանով, իսկ նվազեցումները` փակագծերում)
D8: Առաջին կիսամյակ | G8: Ինն ամիս | J8: Տարի
D9: Ընդամենը | E9: այդ թվում` | G9: Ընդամենը | H9: այդ թվում` | J9: Ընդամենը | K9: այդ թվում`
A10: Ծրագիր | B10: Միջոց առում | E10: Դրամաշնորհային միջոցներ | F10: Համաֆինան սավորում | H10: Դրամաշնորհային միջոցներ | I10: Համաֆինան սավորում | K10: Դրամաշնորհային միջոցներ | L10: Համաֆինան սավորում
C11: ԸՆԴԱՄԵՆԸ | D11: =+E11+F11 -> 11914.4 | E11: =+E15 -> 0 | F11: =+F15 -> 11914.4 | G11: =+H11+I11 -> 11914.4 | H11: =+H15 -> 0 | I11: =+I15 -> 11914.4 | J11: =+K11+L11 -> 11914.4 | K11: =+K15 -> 0 | L11: =+L15 -> 11914.4
C12: այդ թվում`
C13: ԸՆԹԱՑԻԿ ԾԱԽՍԵՐ | D13: =+E13+F13 -> 46814.3 | E13: =+E31+E23 -> 34899.9 | F13: =+F31+F23 -> 11914.4 | G13: =+H13+I13 -> 46814.3 | H13: =+H31+H23 -> 34899.9 | I13: =+I31+I23 -> 11914.4 | J13: =+K13+L13 -> 46814.3 | K13: =+K31+K23 -> 34899.9 | L13: =+L31+L23 -> 11914.4
C14: ՈՉ ՖԻՆԱՆՍԱԿԱՆ ԱԿՏԻՎՆԵՐԻ ԳԾՈՎ ԾԱԽՍԵՐ | D14: =+E14+F14 -> -34899.9 | E14: =E48+E39 -> -34899.9 | F14: =F48+F39 -> 0 | G14: =+H14+I14 -> -34899.9 | H14: =H48+H39 -> -34899.9 | I14: =I48+I39 -> 0 | J14: =+K14+L14 -> -34899.9 | K14: =K48+K39 -> -34899.9 | L14: =L48+L39 -> 0
C15: ՀՀ ՏԱՐԱԾՔԱՅԻՆ ԿԱՌԱՎԱՐՄԱՆ ԵՎ ԵՆԹԱԿԱՌՈՒՑՎԱԾՔՆԵՐԻ ՆԱԽԱՐԱՐՈՒԹՅՈՒՆ | D15: =+E15+F15 -> 11914.4 | E15: =E16 -> 0 | F15: =F16 -> 11914.4 | G15: =+H15+I15 -> 11914.4 | H15: =H16 -> 0 | I15: =I16 -> 11914.4 | J15: =+K15+L15 -> 11914.4 | K15: =K16 -> 0 | L15: =L16 -> 11914.4
A16: 1072 | C16: Ջրամատակարարաման և ջրահեռացման բարելավում | D16: =+E16+F16 -> 11914.4 | E16: =+E18+E26+E43+E34 -> 0 | F16: =+F18+F26+F43+F34 -> 11914.4 | G16: =+H16+I16 -> 11914.4 | H16: =+H18+H26+H43+H34 -> 0 | I16: =+I18+I26+I43+I34 -> 11914.4 | J16: =+K16+L16 -> 11914.4 | K16: =+K18+K26+K43+K34 -> 0 | L16: =+L18+L26+L43+L34 -> 11914.4
C17: այդ թվում`
B18: 11009 | C18: Գերմանիայի զարգացման վարկերի բանկի աջակցությամբ իրականացվող Համայնքային ենթակառուցվածքների երկրորդ ծրագրի երրորդ փուլի դրամաշնորհային ծրագրի ուղեկցող միջոցառման 3-րդ բաղադրիչ | D18: =+D20 -> 41484 | E18: =+E20 -> 29569.6 | F18: =+F20 -> 11914.4 | G18: =+G20 -> 41484 | H18: =+H20 -> 29569.6 | I18: =+I20 -> 11914.4 | J18: =+J20 -> 41484 | K18: =+K20 -> 29569.6 | L18: =+L20 -> 11914.4
C19: այդ թվում` ըստ կատարողների
C20: ՀՀ տարածքային կառավարման և ենթակառուցվածքների նախարարության ջրային կոմիտե | D20: =+D22 -> 41484 | E20: =+E22 -> 29569.6 | F20: =+F22 -> 11914.4 | G20: =+G22 -> 41484 | H20: =+H22 -> 29569.6 | I20: =+I22 -> 11914.4 | J20: =+J22 -> 41484 | K20: =+K22 -> 29569.6 | L20: =+L22 -> 11914.4
C21: այդ թվում` բյուջետային ծախսերի տնտեսագիտական դասակարգման հոդվածներ
C22: ԸՆԴԱՄԵՆԸ ԾԱԽՍԵՐ | D22: =+E22+F22 -> 41484 | E22: =+E23 -> 29569.6 | F22: =+F23 -> 11914.4 | G22: =+H22+I22 -> 41484 | H22: =+H23 -> 29569.6 | I22: =+I23 -> 11914.4 | J22: =+K22+L22 -> 41484 | K22: =+K23 -> 29569.6 | L22: =+L23 -> 11914.4
C23: ԸՆԹԱՑԻԿ ԾԱԽՍԵՐ | D23: =+E23+F23 -> 41484 | E23: =+E24 -> 29569.6 | F23: =+F24 -> 11914.4 | G23: =+H23+I23 -> 41484 | H23: =+H24 -> 29569.6 | I23: =+I24 -> 11914.4 | J23: =+K23+L23 -> 41484 | K23: =+K24 -> 29569.6 | L23: =+L24 -> 11914.4
C24: ԱՅԼ ԾԱԽՍԵՐ | D24: =+E24+F24 -> 41484 | E24: =+E25 -> 29569.6 | F24: =+F25 -> 11914.4 | G24: =+H24+I24 -> 41484 | H24: =+H25 -> 29569.6 | I24: =+I25 -> 11914.4 | J24: =+K24+L24 -> 41484 | K24: =+K25 -> 29569.6 | L24: =+L25 -> 11914.4
C25: Այլ ծախսեր | D25: =+E25+F25 -> 41484 | E25: 29569.6 | F25: 11914.4 | G25: =+H25+I25 -> 41484 | H25: 29569.6 | I25: 11914.4 | J25: =+K25+L25 -> 41484 | K25: 29569.6 | L25: 11914.4
B26: 11011 | C26: Գերմանիայի զարգացման վարկերի բանկի աջակցությամբ իրականացվող Համայնքային ենթակառուցվածքների երկրորդ ծրագրի երրորդ փուլի դրամաշնորհային ծրագիր | D26: =+D28 -> 5330.3 | E26: =+E28 -> 5330.3 | F26: =+F28 -> 0 | G26: =+G28 -> 5330.3 | H26: =+H28 -> 5330.3 | I26: =+I28 -> 0 | J26: =+J28 -> 5330.3 | K26: =+K28 -> 5330.3 | L26: =+L28 -> 0
C27: այդ թվում` ըստ կատարողների
C28: ՀՀ տարածքային կառավարման և ենթակառուցվածքների նախարարության ջրային կոմիտե | D28: =+D30 -> 5330.3 | E28: =+E30 -> 5330.3 | F28: =+F30 -> 0 | G28: =+G30 -> 5330.3 | H28: =+H30 -> 5330.3 | I28: =+I30 -> 0 | J28: =+J30 -> 5330.3 | K28: =+K30 -> 5330.3 | L28: =+L30 -> 0
C29: այդ թվում` բյուջետային ծախսերի տնտեսագիտական դասակարգման հոդվածներ
C30: ԸՆԴԱՄԵՆԸ ԾԱԽՍԵՐ | D30: =+E30+F30 -> 5330.3 | E30: =+E31 -> 5330.3 | F30: =+F31 -> 0 | G30: =+H30+I30 -> 5330.3 | H30: =+H31 -> 5330.3 | I30: =+I31 -> 0 | J30: =+K30+L30 -> 5330.3 | K30: =+K31 -> 5330.3 | L30: =+L31 -> 0
C31: ԸՆԹԱՑԻԿ ԾԱԽՍԵՐ | D31: =+E31+F31 -> 5330.3 | E31: =+E32 -> 5330.3 | F31: =+F32 -> 0 | G31: =+H31+I31 -> 5330.3 | H31: =+H32 -> 5330.3 | I31: =+I32 -> 0 | J31: =+K31+L31 -> 5330.3 | K31: =+K32 -> 5330.3 | L31: =+L32 -> 0
C32: ԱՅԼ ԾԱԽՍԵՐ | D32: =+E32+F32 -> 5330.3 | E32: =+E33 -> 5330.3 | F32: =+F33 -> 0 | G32: =+H32+I32 -> 5330.3 | H32: =+H33 -> 5330.3 | I32: =+I33 -> 0 | J32: =+K32+L32 -> 5330.3 | K32: =+K33 -> 5330.3 | L32: =+L33 -> 0
C33: Այլ ծախսեր | D33: =+E33+F33 -> 5330.3 | E33: 5330.3 | G33: =+H33+I33 -> 5330.3 | H33: 5330.3 | J33: =+K33+L33 -> 5330.3 | K33: 5330.3
B34: 12001 | C34: Գերմանիայի զարգացման և Եվրոպական միության հարևանության ներդրումային բանկի աջակցությամբ իրականացվող ջրամատակարարման և ջրահեռացման ենթակառուցվածքների դրամաշնորհային ծրագիր` երրորդ փուլ | D34: =+D36 -> -29569.6 | E34: =+E36 -> -29569.6 | F34: =+F36 -> 0 | G34: =+G36 -> -29569.6 | H34: =+H36 -> -29569.6 | I34: =+I36 -> 0 | J34: =+J36 -> -29569.6 | K34: =+K36 -> -29569.6 | L34: =+L36 -> 0
C35: այդ թվում` ըստ կատարողների
C36: ՀՀ տարածքային կառավարման և ենթակառուցվածքների նախարարության ջրային կոմիտե | D36: =+D38 -> -29569.6 | E36: =+E38 -> -29569.6 | F36: =+F38 -> 0 | G36: =+G38 -> -29569.6 | H36: =+H38 -> -29569.6 | I36: =+I38 -> 0 | J36: =+J38 -> -29569.6 | K36: =+K38 -> -29569.6 | L36: =+L38 -> 0
C37: այդ թվում` բյուջետային ծախսերի տնտեսագիտական դասակարգման հոդվածներ
C38: ԸՆԴԱՄԵՆԸ ԾԱԽՍԵՐ | D38: =+E38+F38 -> -29569.6 | E38: =+E39 -> -29569.6 | F38: =+F39 -> 0 | G38: =+H38+I38 -> -29569.6 | H38: =+H39 -> -29569.6 | I38: =+I39 -> 0 | J38: =+K38+L38 -> -29569.6 | K38: =+K39 -> -29569.6 | L38: =+L39 -> 0
C39: ՈՉ ՖԻՆԱՆՍԱԿԱՆ ԱԿՏԻՎՆԵՐԻ ԳԾՈՎ ԾԱԽՍԵՐ | D39: =+E39+F39 -> -29569.6 | E39: =+E40 -> -29569.6 | F39: =+F40 -> 0 | G39: =+H39+I39 -> -29569.6 | H39: =+H40 -> -29569.6 | I39: =+I40 -> 0 | J39: =+K39+L39 -> -29569.6 | K39: =+K40 -> -29569.6 | L39: =+L40 -> 0
C40: ՀԻՄՆԱԿԱՆ ՄԻՋՈՑՆԵՐ | D40: =+E40+F40 -> -29569.6 | E40: =+E42 -> -29569.6 | F40: =+F42 -> 0 | G40: =+H40+I40 -> -29569.6 | H40: =+H42 -> -29569.6 | I40: =+I42 -> 0 | J40: =+K40+L40 -> -29569.6 | K40: =+K42 -> -29569.6 | L40: =+L42 -> 0
C41: ԱՅԼ ՀԻՄՆԱԿԱՆ ՄԻՋՈՑՆԵՐ | D41: =D42 -> -29569.6 | E41: =E42 -> -29569.6 | G41: =G42 -> -29569.6 | H41: =H42 -> -29569.6 | J41: =J42 -> -29569.6 | K41: =K42 -> -29569.6
C42: - Նախագծահետազոտական ծախսեր | D42: =+E42+F42 -> -29569.6 | E42: -29569.6 | G42: =+H42+I42 -> -29569.6 | H42: -29569.6 | J42: =+K42+L42 -> -29569.6 | K42: -29569.6
B43: 31004 | C43: Եվրոպական միության հարևանության ներդրումային ծրագրի աջակցությամբ իրականացվող Երևանի ջրամատակարարման բարելավման դրամաշնորհային ծրագրի շրջանակներում Ջրամատակարարման և ջրահեռացման ենթակառուցվածքների հիմնանորոգում | D43: =+D45 -> -5330.3 | E43: =+E45 -> -5330.3 | F43: =+F45 -> 0 | G43: =+G45 -> -5330.3 | H43: =+H45 -> -5330.3 | I43: =+I45 -> 0 | J43: =+J45 -> -5330.3 | K43: =+K45 -> -5330.3 | L43: =+L45 -> 0
C44: այդ թվում` ըստ կատարողների
C45: ՀՀ տարածքային կառավարման և ենթակառուցվածքների նախարարության ջրային կոմիտե | D45: =+D47 -> -5330.3 | E45: =+E47 -> -5330.3 | F45: =+F47 -> 0 | G45: =+G47 -> -5330.3 | H45: =+H47 -> -5330.3 | I45: =+I47 -> 0 | J45: =+J47 -> -5330.3 | K45: =+K47 -> -5330.3 | L45: =+L47 -> 0
C46: այդ թվում` բյուջետային ծախսերի տնտեսագիտական դասակարգման հոդվածներ
C47: ԸՆԴԱՄԵՆԸ ԾԱԽՍԵՐ | D47: =+E47+F47 -> -5330.3 | E47: =+E48 -> -5330.3 | F47: =+F48 -> 0 | G47: =+H47+I47 -> -5330.3 | H47: =+H48 -> -5330.3 | I47: =+I48 -> 0 | J47: =+K47+L47 -> -5330.3 | K47: =+K48 -> -5330.3 | L47: =+L48 -> 0
C48: ՈՉ ՖԻՆԱՆՍԱԿԱՆ ԱԿՏԻՎՆԵՐԻ ԳԾՈՎ ԾԱԽՍԵՐ | D48: =+E48+F48 -> -5330.3 | E48: =+E49 -> -5330.3 | F48: =+F49 -> 0 | G48: =+H48+I48 -> -5330.3 | H48: =+H49 -> -5330.3 | I48: =+I49 -> 0 | J48: =+K48+L48 -> -5330.3 | K48: =+K49 -> -5330.3 | L48: =+L49 -> 0
C49: ՀԻՄՆԱԿԱՆ ՄԻՋՈՑՆԵՐ | D49: =+E49+F49 -> -5330.3 | E49: =+E51 -> -5330.3 | F49: =+F51 -> 0 | G49: =+H49+I49 -> -5330.3 | H49: =+H51 -> -5330.3 | I49: =+I51 -> 0 | J49: =+K49+L49 -> -5330.3 | K49: =+K51 -> -5330.3 | L49: =+L51 -> 0
C50: ՇԵՆՔԵՐ ԵՎ ՇԻՆՈՒԹՅՈՒՆՆԵՐ | D50: =+E50+F50 -> -5330.3 | E50: =E51 -> -5330.3 | G50: =+H50+I50 -> -5330.3 | H50: =H51 -> -5330.3 | J50: =+K50+L50 -> -5330.3 | K50: =K51 -> -5330.3
C51: - Շենքերի և շինությունների կապիտալ վերանորոգում | D51: =+E51+F51 -> -5330.3 | E51: -5330.3 | G51: =+H51+I51 -> -5330.3 | H51: -5330.3 | J51: =+K51+L51 -> -5330.3 | K51: -5330.3

Sheet 6
A1: Հավելված N 6
A2: ՀՀ կառավարության 2024 թվականի
A3: -ի N -Ն որոշման
A4: ՀԱՅԱՍՏԱՆԻ ՀԱՆՐԱՊԵՏՈՒԹՅԱՆ ԿԱՌԱՎԱՐՈՒԹՅԱՆ 2023 ԹՎԱԿԱՆԻ ԴԵԿՏԵՄԲԵՐԻ 28-Ի N 2323-Ն ՈՐՈՇՄԱՆ N 5 ՀԱՎԵԼՎԱԾԻ N 2 ԱՂՅՈՒՍԱԿՈՒՄ ԿԱՏԱՐՎՈՂ ՓՈՓՈԽՈՒԹՅՈՒՆՆԵՐԸ ԵՎ ԼՐԱՑՈՒՄՆԵՐԸ
F5: (հազ. դրամ)
A6: Ծրագրային դասիչ | C6: Բյուջետային գլխավոր կարգադրիչների, ծրագրերի, միջոցառումների, միջոցառումները կատարող պետական մարմինների և ուղղությունների անվանումները | D6: Ցուցանիշների փոփոխությունը (ավելացումները նշված են դրական նշանով, իսկ նվազեցումները` փակագծերում)
A7: Ծրագիր | B7: Միջոցառում | D7: Առաջին կիսամյակ | E7: Ինն ամիս | F7: Տարի
C8: ԸՆԴԱՄԵՆԸ | D8: =D10 -> 0 | E8: =E10 -> 0.025 | F8: =F10 -> 0.025
C9: այդ թվում՝
C10: ՀՀ ՏԱՐԱԾՔԱՅԻՆ ԿԱՌԱՎԱՐՄԱՆ ԵՎ ԵՆԹԱԿԱՌՈՒՑՎԱԾՔՆԵՐԻ ՆԱԽԱՐԱՐՈՒԹՅՈՒՆ | D10: =D12+D22+D40+D17 -> 0 | E10: =E12+E22+E40+E17 -> 0.025 | F10: =F12+F22+F40+F17 -> 0.025
C11: այդ թվում`
A12: 1004 | B12: 31007 | C12: Ջրային տնտեսության հիդրոտեխնիկական սարքավորումների տեղադրման աշխատանքներ | D12: =D14 -> 16759 | E12: =E14 -> 16759 | F12: =F14 -> 16759
C13: այդ թվում` ըստ կատարողների
C14: ՀՀ տարածքային կառավարման և ենթակառուցվածքների նախարարության ջրային կոմիտե | D14: =D16 -> 16759 | E14: =E16 -> 16759 | F14: =F16 -> 16759
C15: այդ թվում` ըստ ուղղությունների
C16: Տվյալների առցանց փոխանցմամբ ջրահաշվիչ (ջրաչափիչ) սարքերի ձեռքբերում | D16: 16759 | E16: 16759 | F16: 16759
A17: 1004 | B17: 31014 | C17: Ջրամբարների վերականգնման և վերազինման աշխատանքներ | D17: =D19 -> 0 | E17: =E19 -> 0 | F17: =F19 -> -18772.8
C18: այդ թվում` ըստ կատարողների
C19: ՀՀ տարածքային կառավարման և ենթակառուցվածքների նախարարության ջրային կոմիտե | D19: =D21 -> 0 | E19: =E21 -> 0 | F19: =F21 -> -18772.8
C20: այդ թվում` ըստ ուղղությունների
C21: ՀՀ Տավուշի մարզի Տավուշի ջրամբարի պատվարի վերականգնման աշխատանքներ | F21: -18772.8
A22: 1072 | B22: 31010 | C22: Ջրամատակարարման և ջրահեռացման համակարգի հիմնանորոգում | D22: =D24 -> -18559 | E22: =E24 -> -18558.975 | F22: =F24 -> 213.825
C23: այդ թվում` ըստ կատարողների
C24: ՀՀ տարածքային կառավարման և ենթակառուցվածքների նախարարության ջրային կոմիտե | D24: =SUM(D26:D39) -> -18559 | E24: =SUM(E26:E39) -> -18558.975 | F24: =SUM(F26:F39) -> 213.825
C25: այդ թվում` ըստ ուղղությունների
C26: ՀՀ Արարատի մարզի Բերդիկ համայնքի ջրամատակարարման համակարգի վերակառուցում | D26: 6999.1 | E26: 6999.1 | F26: 6999.1
C27: ՀՀ Արարատի մարզի Ազատավան համայնքի ջրամատակարարման համակարգի վերակառուցում | D27: -58000 | E27: -23000 | F27: -14885.5
C28: ՀՀ Արարատի մարզի Վերին Արտաշատ համայնքի խմելու ջրամատակարարման համակարգի վերակառուցում | D28: -50000 | E28: -20000 | F28: -7522.9
C29: ՀՀ Արարատի մարզի Նոր Ուղի համայնքի խմելու ջրամատակարարման համակարգի վերակառուցում | D29: -43000 | E29: -11301.5 | F29: -11301.5
C30: ՀՀ Արարատի մարզի Վ. Դվին համայնքի ջրամատակարարման համակարգի վերակառուցում | D30: -40076.5 | E30: -15700 | F30: 1780.9
C31: ՀՀ Գեղարքունիքի մարզի Ներքին Գետաշեն բնակավայրի ջրամատակարարման համակարգի վերակառուցում | D31: 26759.2 | E31: 26759.2 | F31: 26759.2
C32: ՀՀ Սյունիքի մարզի Մեղրի քաղաքի ջրի մաքրման կայանի ապամոնտաժում, նորի կառուցում | D32: 0 | E32: 0 | F32: 0
C33: ՀՀ Սյունիքի մարզի Ագարակ քաղաքի գոյություն ունեցող ջրի մաքրման կայանի հիմնանորոգում, լրացուցիչ նոր կայանի կառուցում | D33: -207870.5 | E33: -328945.4 | F33: -348245.1
C34: ՀՀ Գեղարքունիքի մարզի Կարմիրգյուղ և Սարուխան բնակավայրերի ջրամատակարարման համակարգի վերակառուցում | D34: 134090 | E34: 134089.97 | F34: 134089.97
C35: ՀՀ Արարատի մարզի Մխչյան համայնքի ջրամատակարարման համակարգի վերակառուցում | D35: 82256.6 | E35: 82256.553 | F35: 82256.553
C36: ՀՀ Արարատի մարզի Արալեզ համայնքի ջրամատակարարման համակարգի վերակառուցում | D36: 94946.1 | E36: 94946.104 | F36: 94946.104
C37: ՀՀ Գեղարքունիքի մարզի Վարսեր բնակավայրի ջրամատակարարման համակարգի վերակառուցում | D37: 6313.5 | E37: 6313.5 | F37: 6313.5
... C39: ՀՀ Արարատի մարզի Նոր Կյուրին համայնքի ջրամատակարարման համակարգի վերակառուցում | D39: 1523.2 | E39: 1523.2 | F39: 1523.2
A40: 1109 | B40: 31001 | C40: Ջրային կոմիտեի տեխնիկական հագեցվածության բարելավում | D40: =D42 -> 1800 | E40: =E42 -> 1800 | F40: =F42 -> 1800
C41: այդ թվում` ըստ կատարողների
C42: ՀՀ տարածքային կառավարման և ենթակառուցվածքների նախարարության ջրային կոմիտե | D42: 1800 | E42: 1800 | F42: 1800

Sheet 7-1
A1: Հավելված N 7
A2: ՀՀ կառավարության 2024 թվականի
A3: -ի N -Ն որոշման
A5: ՀԱՅԱՍՏԱՆԻ ՀԱՆՐԱՊԵՏՈՒԹՅԱՆ ԿԱՌԱՎԱՐՈՒԹՅԱՆ 2023 ԹՎԱԿԱՆԻ ԴԵԿՏԵՄԲԵՐԻ 28-Ի N 2323-Ն ՈՐՈՇՄԱՆ N 9 ՀԱՎԵԼՎԱԾԻ N 9.7 ԵՎ N 9.48 ԱՂՅՈՒՍԱԿՆԵՐՈՒՄ ԿԱՏԱՐՎՈՂ ՓՈՓՈԽՈՒԹՅՈՒՆՆԵՐԸ ԵՎ ԼՐԱՑՈՒՄՆԵՐԸ
A6: ՀՀ տարածքային կառավարման և ենթակառուցվածքների նախարարություն
A8: ՄԱՍ 2. ՊԵՏԱԿԱՆ ՄԱՐՄՆԻ ԳԾՈՎ ԱՐԴՅՈՒՆՔԱՅԻՆ (ԿԱՏԱՐՈՂԱԿԱՆ) ՑՈՒՑԱՆԻՇՆԵՐԸ | E8: Աղյուսակ 9.7
A10: Ծրագրի դասիչը | B10: Ծրագրի անվանումը
A11: 1004 | B11: Ոռոգման համակարգի առողջացում
A12: Ծրագրի միջոցառումները
A14: Ծրագրի դասիչը` | B14: 1004 | C14: Ցուցանիշների փոփոխությունը (նվազեցումները նշված են փակագծերում)
A16: Միջոցառման դասիչը` | B16: 31004 | C16: Առաջին կիսամյակ | D16: Ինն ամիս | E16: Տարի
A17: Միջոցառման անվանումը` | B17: Գերմանիայի զարգացման վարկերի բանկի աջակցությամբ իրականացվող Ախուրյան գետի ջրային ռեսուրսների ինտեգրված կառավարման ծրագրի շրջանակներում ջրային տնտեսության ենթակառուցվածքների հիմնանորոգում
A18: Նկարագրությունը` | B18: Գերմանիայի զարգացման վարկերի բանկի աջակցությամբ իրականացվող Ախուրյան գետի ջրային ռեսուրսների ինտեգրված կառավարման ծրագիր
A19: Միջոցառման տեսակը` | B19: Պետական մարմինների կողմից օգտագործվող ոչ ֆինանսական ակտիվների հետ գործառնություններ
A20: Ակտիվն օգտագործող կազմակերպության(ների) անվանում(ները)՛ | B20: Մասնագիտացված միավոր
A21: Արդյունքի չափորոշիչներ
A22: Միջոցառման վրա կատարվող ծախսը (հազար դրամ) | C22: ='1'!D18 -> -65752.9 | D22: ='1'!E18 -> -65752.9 | E22: ='1'!F18 -> -65752.9
A24: Ծրագրի դասիչը` | B24: 1004 | C24: Ցուցանիշների փոփոխությունը (ավելացումները նշված են դրական նշանով)
A26: Միջոցառման դասիչը` | B26: 31007 | C26: Առաջին կիսամյակ | D26: Ինն ամիս | E26: Տարի
A27: Միջոցառման անվանումը` | B27: Ջրային տնտեսության հիդրոտեխնիկական սարքավորումների տեղադրման աշխատանքներ
A28: Նկարագրությունը` | B28: Ոռոգման համակարգերի՝ ջրառի, ջրանցքների բաժանարար կետերը SCADA և այլ համակարգով հագեցած ջրաչափական սարքավորումներով կահավորում
A29: Միջոցառման տեսակը` | B29: Պետական մարմինների կողմից օգտագործվող ոչ ֆինանսական ակտիվների հետ գործառնություններ
A30: Միջոցառումն իրականացնողի անվանումը | B30: Ոռոգման համակարգի ընկերություններ
A31: Արդյունքի չափորոշիչներ
A32: Տվյալների առցանց փոխանցմամբ ջրահաշվիչ (ջրաչափիչ) սարքերի ձեռքբերում,հատ | C32: 52 | E32: 52
A33: Միջոցառման վրա կատարվող ծախսը (հազար դրամ) | C33: ='1'!D24 -> 16759 | D33: ='1'!E24 -> 16759 | E33: ='1'!F24 -> 16759
A35: Ծրագրի դասիչը` | B35: 1004 | C35: Ցուցանիշների փոփոխությունը (նվազեցումները նշված են փակագծերում)
A37: Միջոցառման դասիչը` | B37: 31014 | C37: Առաջին կիսամյակ | D37: Ինն ամիս | E37: Տարի
A38: Միջոցառման անվանումը` | B38: Ջրամբարների վերականգնման և վերազինման աշխատանքներ
A39: Նկարագրությունը` | B39: Ջրամբարների վերականգնման և վերազինման համար նախագծերի և աշխատանքների ձեռքբերում
A40: Միջոցառման տեսակը` | B40: Պետական մարմինների կողմից օգտագործվող ոչ ֆինանսական ակտիվների հետ գործառնություններ
A41: Ակտիվն օգտագործող կազմակերպության(ների) անվանում(ները)՛ | B41: Ոռոգման համակարգի ընկերություններ
A42: Արդյունքի չափորոշիչներ
A43: Միջոցառման վրա կատարվող ծախսը (հազար դրամ) | C43: ='1'!D30 -> 0 | D43: ='1'!E30 -> 0 | E43: ='1'!F30 -> -18772.8
A45: Ծրագրի դասիչը | B45: Ծրագրի անվանումը
A46: 1072 | B46: Ջրամատակարարաման և ջրահեռացման բարելավում
A47: Ծրագրի միջոցառումները
A49: Ծրագրի դասիչը` | B49: 1072 | C49: Ցուցանիշների փոփոխությունը (ավելացումները նշված են դրական նշանով)
A50: Միջոցառման դասիչը` | B50: 11007 | C50: Առաջին կիսամյակ | D50: Ինն ամիս | E50: Տարի
A51: Միջոցառման անվանումը` | B51: Գերմանիայի զարգացման վարկերի բանկի աջակցությամբ իրականացվող ջրամատակարարման և ջրահեռացման ենթակառուցվածքների վերականգնման ծրագրի երրորդ փուլ
A52: Նկարագրությունը` | B52: Համայնքային ջրամատակարարման և ջրահեռացման ենթակառուցվածքների վերականգնման ծրագրի համակարգում և ղեկավարում
A53: Միջոցառման տեսակը` | B53: Ծառայությունների մատուցում
A54: Ակտիվն օգտագործող կազմակերպության(ների) անվանում(ները)՛ | B54: Մասնագիտացված միավոր
A55: Արդյունքի չափորոշիչներ
A56: Միջոցառման վրա կատարված ծախսը (հազար դրամ) | C56: ='1'!D43 -> 53838.5 | D56: ='1'!E43 -> 53838.5 | E56: ='1'!F43 -> 53838.5
A58: Ծրագրի դասիչը | B58: Ծրագրի անվանումը
A59: 1072 | B59: Ջրամատակարարաման և ջրահեռացման բարելավում
A60: Ծրագրի միջոցառումները
A62: Ծրագրի դասիչը` | B62: 1072 | C62: Ցուցանիշների փոփոխությունը (ավելացումները նշված են դրական նշանով)
A63: Միջոցառման դասիչը` | B63: 11009 | C63: Առաջին կիսամյակ | D63: Ինն ամիս | E63: Տարի
A64: Միջոցառման անվանումը` | B64: Գերմանիայի զարգացման վարկերի բանկի աջակցությամբ իրականացվող Համայնքային ենթակառուցվածքների երկրորդ ծրագրի երրորդ փուլի դրամաշնորհային ծրագրի ուղեկցող միջոցառման 3-րդ բաղադրիչ
A65: Նկարագրությունը` | B65: Ջրային կոմիտեին և համակարգի ընկերություններին աջակցություն՛ գործառույթների իրականացման և անձնակազմի կարողությունների զարգացման գործում
A66: Միջոցառման տեսակը` | B66: Ծառայությունների մատուցում
A67: Միջոցառումն իրականացնողի անվանումը? | B67: Մասնագիտացված միավոր
A68: Արդյունքի չափորոշիչներ
A69: Կառավարվող/վերահսկվող խորհրդատվական պայմանագրերի քանակը, հատ | C69: 1 | E69: 1
A70: Միջոցառման վրա կատարված ծախսը (հազար դրամ) | C70: ='1'!D49 -> 41484 | D70: ='1'!E49 -> 41484 | E70: ='1'!F49 -> 41484
A72: Ծրագրի դասիչը` | B72: 1072 | C72: Ցուցանիշների փոփոխությունը (ավելացումները նշված են դրական նշանով)
A73: Միջոցառման դասիչը` | B73: 11011 | C73: Առաջին կիսամյակ | D73: Ինն ամիս | E73: Տարի
A74: Միջոցառման անվանումը` | B74: Գերմանիայի զարգացման վարկերի բանկի աջակցությամբ իրականացվող Համայնքային ենթակառուցվածքների երկրորդ ծրագրի երրորդ փուլի դրամաշնորհային ծրագիր
A75: Նկարագրությունը` | B75: Համայնքային ջրամատակարարման և ջրահեռացման ենթակառուցվածքների վերականգնման դրամաշնորհային ծրագրի համակարգում և ղեկավարում
A76: Միջոցառման տեսակը` | B76: Ծառայությունների մատուցում
A77: Ակտիվն օգտագործող կազմակերպության(ների) անվանում(ները)՛ | B77: Մասնագիտացված միավոր
A78: Արդյունքի չափորոշիչներ
A79: Կառավարվող/վերահսկվող խորհրդատվական պայմանագրերի քանակը, հատ | C79: 1 | E79: 1
A80: Միջոցառման վրա կատարված ծախսը (հազար դրամ) | C80: ='1'!D55 -> 5330.3 | D80: ='1'!E55 -> 5330.3 | E80: ='1'!F55 -> 5330.3
A82: Ծրագրի դասիչը` | B82: 1072 | C82: Ցուցանիշների փոփոխությունը (նվազեցումները նշված են փակագծերում)
A84: Միջոցառման դասիչը` | B84: 12001 | C84: Առաջին կիսամյակ | D84: Ինն ամիս | E84: Տարի
A85: Միջոցառման անվանումը` | B85: Գերմանիայի զարգացման և Եվրոպական միության հարևանության ներդրումային բանկի աջակցությամբ իրականացվող ջրամատակարարման և ջրահեռացման ենթակառուցվածքների դրամաշնորհային ծրագիր` երրորդ փուլ
A86: Նկարագրությունը` | B86: 579 գյուղական բնակավայրերից ընտրված որոշ համայնքների ջրամատակարարման և ջրահեռացման համակարգերի հատվածների հրատապ վերականգնման աշխատանքների իրականացում ինչպես նաև՛ Արմավիրի կեղտաջրերի մաքրման կայանի կառուցում
A87: Միջոցառման տեսակը` | B87: Տրանսֆերտների տրամադրում
A88: Շահառուների ընտրության չափանիշները | B88: ՀՀ բնակչություն
A89: Արդյունքի չափորոշիչներ
A90: Միջոցառման վրա կատարվող ծախսը (հազար դրամ) | C90: ='1'!D61 -> -29569.6 | D90: ='1'!E61 -> -29569.6 | E90: ='1'!F61 -> -29569.6
A93: Ծրագրի դասիչը` | B93: 1072 | C93: Ցուցանիշների փոփոխությունը (նվազեցումները նշված են փակագծերում)
A95: Միջոցառման դասիչը` | B95: 31004 | C95: Առաջին կիսամյակ | D95: Ինն ամիս | E95: Տարի
A96: Միջոցառման անվանումը` | B96: Եվրոպական միության հարևանության ներդրումային ծրագրի աջակցությամբ իրականացվող Երևանի ջրամատակարարման բարելավման դրամաշնորհային ծրագրի շրջանակներում Ջրամատակարարման և ջրահեռացման ենթակառուցվածքների հիմնանորոգում
A97: Նկարագրությունը` | B97: Երևանի ջրամատակարարման ցանցի բարելավման աշխատանքներ
A98: Միջոցառման տեսակը` | B98: Պետական մարմինների կողմից օգտագործվող ոչ ֆինանսական ակտիվների հետ գործառնություններ
A99: Ակտիվն օգտագործող կազմակերպության(ների) անվանում(ները)՛ | B99: Մասնագիտացված միավոր
A100: Արդյունքի չափորոշիչներ
A101: Միջոցառման վրա կատարվող ծախսը (հազար դրամ) | C101: ='1'!D67 -> -5330.3 | D101: ='1'!E67 -> -5330.3 | E101: ='1'!F67 -> -5330.3
A103: Ծրագրի դասիչը` | B103: 1072 | C103: Ցուցանիշների փոփոխությունը (ավելացումները նշված են դրական նշանով, իսկ նվազեցումները՝ փակագծերում)
A105: Միջոցառման դասիչը` | B105: 31010 | C105: Առաջին կիսամյակ | D105: Ինն ամիս | E105: Տարի
A106: Միջոցառման անվանումը` | B106: Ջրամատակարարման և ջրահեռացման համակարգի հիմնանորոգում
A107: Նկարագրությունը` | B107: Ջրամատակարարման և ջրահեռացման համակարգի հիմնանորոգման նախագծերի և աշխատանքների ձեռքբերում
A108: Միջոցառման տեսակը` | B108: Պետական մարմինների կողմից օգտագործվող ոչ ֆինանսական ակտիվների հետ գործառնություններ
A109: Միջոցառումն իրականացնողի անվանումը | B109: ՀՀ ՏԿԵՆ ջրային կոմիտե
A110: Արդյունքի չափորոշիչներ
A111: Վերականգնվող օբյեկտներ, հատ | C111: 6 | E111: 6
A112: Միջոցառման վրա կատարվող ծախսը (հազար դրամ) | C112: ='1'!D73 -> -18559 | D112: ='1'!E73 -> -18558.975 | E112: ='1'!F73 -> 213.825
A114: Ծրագրի դասիչը | B114: Ծրագրի անվանումը
A115: 1109 | B115: Ջրային տնտեսության ոլորտում ծրագրերի համակարգում և մոնիտորինգ
A116: Ծրագրի միջոցառումները
A118: Ծրագրի դասիչը` | B118: 1109 | C118: Ցուցանիշների փոփոխությունը (ավելացումները նշված են դրական նշանով)
A119: Միջոցառման դասիչը` | B119: 31001 | C119: Առաջին կիսամյակ | D119: Ինն ամիս | E119: Տարի
A120: Միջոցառման անվանումը` | B120: Ջրային կոմիտեի տեխնիկական հագեցվածության բարելավում
A121: Նկարագրությունը` | B121: Ջրային կոմիտեի համար համակարգչային տեխնիկայի և գրասենյակային գույքի ձեռքբերում
A122: Միջոցառման տեսակը` | B122: Պետական մարմինների կողմից օգտագործվող ոչ ֆինանսական ակտիվների հետ գործառնություններ
A123: Ակտիվն օգտագործող կազմակերպության(ների) անվանումը(ները) | B123: ՀՀ ՏԿԵՆ ջրային կոմիտե
...

Sheet 7-2
A1: Աղյուսակ 2
A3: ՀԱՅԱՍՏԱՆԻ ՀԱՆՐԱՊԵՏՈՒԹՅԱՆ ԿԱՌԱՎԱՐՈՒԹՅԱՆ 2023 ԹՎԱԿԱՆԻ ԴԵԿՏԵՄԲԵՐԻ 28-Ի N 2323-Ն ՈՐՈՇՄԱՆ N 9.1 ՀԱՎԵԼՎԱԾԻ N 9.1.25 ԵՎ N 9.1.58 ԱՂՅՈՒՍԱԿՆԵՐՈՒՄ ԿԱՏԱՐՎՈՂ ՓՈՓՈԽՈՒԹՅՈՒՆՆԵՐԸ ԵՎ ԼՐԱՑՈՒՄՆԵՐԸ
E4: Աղյուսակ 9.1.25
A5: ՀՀ տարածքային կառավարման և ենթակառուցվածքների նախարարության ջրային կոմիտե
A6: ՄԱՍ 1. ՊԵՏԱԿԱՆ ՄԱՐՄՆԻ ԳԾՈՎ ԱՐԴՅՈՒՆՔԱՅԻՆ (ԿԱՏԱՐՈՂԱԿԱՆ) ՑՈՒՑԱՆԻՇՆԵՐԸ
A8: Ծրագրի դասիչը | B8: Ծրագրի անվանումը
A9: 1004 | B9: Ոռոգման համակարգի առողջացում
A10: Ծրագրի միջոցառումները
A12: Ծրագրի դասիչը` | B12: 1004 | C12: Ցուցանիշների փոփոխությունը (նվազեցումները նշված են փակագծերում)
A14: Միջոցառման դասիչը` | B14: 31004 | C14: Առաջին կիսամյակ | D14: Ինն ամիս | E14: Տարի
A15: Միջոցառման անվանումը` | B15: Գերմանիայի զարգացման վարկերի բանկի աջակցությամբ իրականացվող Ախուրյան գետի ջրային ռեսուրսների ինտեգրված կառավարման ծրագրի շրջանակներում ջրային տնտեսության ենթակառուցվածքների հիմնանորոգում
A16: Նկարագրությունը` | B16: Գերմանիայի զարգացման վարկերի բանկի աջակցությամբ իրականացվող Ախուրյան գետի ջրային ռեսուրսների ինտեգրված կառավարման ծրագիր
A17: Միջոցառման տեսակը` | B17: Պետական մարմինների կողմից օգտագործվող ոչ ֆինանսական ակտիվների հետ գործառնություններ
A18: Ակտիվն օգտագործող կազմակերպության(ների) անվանում(ները)՛ | B18: Մասնագիտացված միավոր
A19: Արդյունքի չափորոշիչներ
A20: Միջոցառման վրա կատարվող ծախսը (հազար դրամ) | C20: ='7-1'!C22 -> -65752.9 | D20: ='7-1'!D22 -> -65752.9 | E20: ='7-1'!E22 -> -65752.9
A22: Ծրագրի դասիչը` | B22: 1004 | C22: Ցուցանիշների փոփոխությունը (ավելացումները նշված են դրական նշանով)
A24: Միջոցառման դասիչը` | B24: 31007 | C24: Առաջին կիսամյակ | D24: Ինն ամիս | E24: Տարի
A25: Միջոցառման անվանումը` | B25: Ջրային տնտեսության հիդրոտեխնիկական սարքավորումների տեղադրման աշխատանքներ
A26: Նկարագրությունը` | B26: Ոռոգման համակարգերի՝ ջրառի, ջրանցքների բաժանարար կետերը SCADA և այլ համակարգով հագեցած ջրաչափական սարքավորումներով կահավորում
A27: Միջոցառման տեսակը` | B27: Պետական մարմինների կողմից օգտագործվող ոչ ֆինանսական ակտիվների հետ գործառնություններ
A28: Միջոցառումն իրականացնողի անվանումը | B28: Ոռոգման համակարգի ընկերություններ
A29: Արդյունքի չափորոշիչներ
A30: Տվյալների առցանց փոխանցմամբ ջրահաշվիչ (ջրաչափիչ) սարքերի ձեռքբերում,հատ | C30: 52 | E30: 52
A31: Միջոցառման վրա կատարվող ծախսը (հազար դրամ) | C31: ='7-1'!C33 -> 16759 | D31: ='7-1'!D33 -> 16759 | E31: ='7-1'!E33 -> 16759
A33: Ծրագրի դասիչը` | B33: 1004 | C33: Ցուցանիշների փոփոխությունը (նվազեցումները նշված են փակագծերում)
A35: Միջոցառման դասիչը` | B35: 31014 | C35: Առաջին կիսամյակ | D35: Ինն ամիս | E35: Տարի
A36: Միջոցառման անվանումը` | B36: Ջրամբարների վերականգնման և վերազինման աշխատանքներ
A37: Նկարագրությունը` | B37: Ջրամբարների վերականգնման և վերազինման համար նախագծերի և աշխատանքների ձեռքբերում
A38: Միջոցառման տեսակը` | B38: Պետական մարմինների կողմից օգտագործվող ոչ ֆինանսական ակտիվների հետ գործառնություններ
A39: Ակտիվն օգտագործող կազմակերպության(ների) անվանում(ները)՛ | B39: Ոռոգման համակարգի ընկերություններ
A40: Արդյունքի չափորոշիչներ
A41: Միջոցառման վրա կատարվող ծախսը (հազար դրամ) | C41: ='7-1'!C43 -> 0 | D41: ='7-1'!D43 -> 0 | E41: ='7-1'!E43 -> -18772.8
A43: Ծրագրի դասիչը | B43: Ծրագրի անվանումը
A44: 1072 | B44: Ջրամատակարարաման և ջրահեռացման բարելավում
A45: Ծրագրի միջոցառումները
A47: Ծրագրի դասիչը` | B47: 1072 | C47: Ցուցանիշների փոփոխությունը (ավելացումները նշված են դրական նշանով)
A48: Միջոցառման դասիչը` | B48: 11007 | C48: Առաջին կիսամյակ | D48: Ինն ամիս | E48: Տարի
A49: Միջոցառման անվանումը` | B49: Գերմանիայի զարգացման վարկերի բանկի աջակցությամբ իրականացվող ջրամատակարարման և ջրահեռացման ենթակառուցվածքների վերականգնման ծրագրի երրորդ փուլ
A50: Նկարագրությունը` | B50: Համայնքային ջրամատակարարման և ջրահեռացման ենթակառուցվածքների վերականգնման ծրագրի համակարգում և ղեկավարում
A51: Միջոցառման տեսակը` | B51: Ծառայությունների մատուցում
A52: Ակտիվն օգտագործող կազմակերպության(ների) անվանում(ները)՛ | B52: Մասնագիտացված միավոր
A53: Արդյունքի չափորոշիչներ
A54: Միջոցառման վրա կատարված ծախսը (հազար դրամ) | C54: ='7-1'!C56 -> 53838.5 | D54: ='7-1'!D56 -> 53838.5 | E54: ='7-1'!E56 -> 53838.5
A56: Ծրագրի դասիչը | B56: Ծրագրի անվանումը
A57: 1072 | B57: Ջրամատակարարաման և ջրահեռացման բարելավում
A58: Ծրագրի միջոցառումները
A60: Ծրագրի դասիչը` | B60: 1072 | C60: Ցուցանիշների փոփոխությունը (ավելացումները նշված են դրական նշանով)
A61: Միջոցառման դասիչը` | B61: 11009 | C61: Առաջին կիսամյակ | D61: Ինն ամիս | E61: Տարի
A62: Միջոցառման անվանումը` | B62: Գերմանիայի զարգացման վարկերի բանկի աջակցությամբ իրականացվող Համայնքային ենթակառուցվածքների երկրորդ ծրագրի երրորդ փուլի դրամաշնորհային ծրագրի ուղեկցող միջոցառման 3-րդ բաղադրիչ
A63: Նկարագրությունը` | B63: Ջրային կոմիտեին և համակարգի ընկերություններին աջակցություն՛ գործառույթների իրականացման և անձնակազմի կարողությունների զարգացման գործում
A64: Միջոցառման տեսակը` | B64: Ծառայությունների մատուցում
A65: Միջոցառումն իրականացնողի անվանումը? | B65: Մասնագիտացված միավոր
A66: Արդյունքի չափորոշիչներ
A67: Կառավարվող/վերահսկվող խորհրդատվական պայմանագրերի քանակը, հատ | C67: 1 | E67: 1
A68: Միջոցառման վրա կատարված ծախսը (հազար դրամ) | C68: ='7-1'!C70 -> 41484 | D68: ='7-1'!D70 -> 41484 | E68: ='7-1'!E70 -> 41484
A70: Ծրագրի դասիչը` | B70: 1072 | C70: Ցուցանիշների փոփոխությունը (ավելացումները նշված են դրական նշանով)
A71: Միջոցառման դասիչը` | B71: 11011 | C71: Առաջին կիսամյակ | D71: Ինն ամիս | E71: Տարի
A72: Միջոցառման անվանումը` | B72: Գերմանիայի զարգացման վարկերի բանկի աջակցությամբ իրականացվող Համայնքային ենթակառուցվածքների երկրորդ ծրագրի երրորդ փուլի դրամաշնորհային ծրագիր
A73: Նկարագրությունը` | B73: Համայնքային ջրամատակարարման և ջրահեռացման ենթակառուցվածքների վերականգնման դրամաշնորհային ծրագրի համակարգում և ղեկավարում
A74: Միջոցառման տեսակը` | B74: Ծառայությունների մատուցում
A75: Ակտիվն օգտագործող կազմակերպության(ների) անվանում(ները)՛ | B75: Մասնագիտացված միավոր
A76: Արդյունքի չափորոշիչներ
A77: Կառավարվող/վերահսկվող խորհրդատվական պայմանագրերի քանակը, հատ | C77: 1 | E77: 1
A78: Միջոցառման վրա կատարված ծախսը (հազար դրամ) | C78: ='7-1'!C80 -> 5330.3 | D78: ='7-1'!D80 -> 5330.3 | E78: ='7-1'!E80 -> 5330.3
A80: Ծրագրի դասիչը` | B80: 1072 | C80: Ցուցանիշների փոփոխությունը (նվազեցումները նշված են փակագծերում)
A82: Միջոցառման դասիչը` | B82: 12001 | C82: Առաջին կիսամյակ | D82: Ինն ամիս | E82: Տարի
A83: Միջոցառման անվանումը` | B83: Գերմանիայի զարգացման և Եվրոպական միության հարևանության ներդրումային բանկի աջակցությամբ իրականացվող ջրամատակարարման և ջրահեռացման ենթակառուցվածքների դրամաշնորհային ծրագիր` երրորդ փուլ
A84: Նկարագրությունը` | B84: 579 գյուղական բնակավայրերից ընտրված որոշ համայնքների ջրամատակարարման և ջրահեռացման համակարգերի հատվածների հրատապ վերականգնման աշխատանքների իրականացում ինչպես նաև՛ Արմավիրի կեղտաջրերի մաքրման կայանի կառուցում
A85: Միջոցառման տեսակը` | B85: Տրանսֆերտների տրամադրում
A86: Շահառուների ընտրության չափանիշները | B86: ՀՀ բնակչություն
A87: Արդյունքի չափորոշիչներ
A88: Միջոցառման վրա կատարվող ծախսը (հազար դրամ) | C88: ='7-1'!C90 -> -29569.6 | D88: ='7-1'!D90 -> -29569.6 | E88: ='7-1'!E90 -> -29569.6
A90: Ծրագրի դասիչը` | B90: 1072 | C90: Ցուցանիշների փոփոխությունը (նվազեցումները նշված են փակագծերում)
A92: Միջոցառման դասիչը` | B92: 31004 | C92: Առաջին կիսամյակ | D92: Ինն ամիս | E92: Տարի
A93: Միջոցառման անվանումը` | B93: Եվրոպական միության հարևանության ներդրումային ծրագրի աջակցությամբ իրականացվող Երևանի ջրամատակարարման բարելավման դրամաշնորհային ծրագրի շրջանակներում Ջրամատակարարման և ջրահեռացման ենթակառուցվածքների հիմնանորոգում
A94: Նկարագրությունը` | B94: Երևանի ջրամատակարարման ցանցի բարելավման աշխատանքներ
A95: Միջոցառման տեսակը` | B95: Պետական մարմինների կողմից օգտագործվող ոչ ֆինանսական ակտիվների հետ գործառնություններ
A96: Ակտիվն օգտագործող կազմակերպության(ների) անվանում(ները)՛ | B96: Մասնագիտացված միավոր
A97: Արդյունքի չափորոշիչներ
A98: Միջոցառման վրա կատարվող ծախսը (հազար դրամ) | C98: ='7-1'!C101 -> -5330.3 | D98: ='7-1'!D101 -> -5330.3 | E98: ='7-1'!E101 -> -5330.3
A100: Ծրագրի դասիչը` | B100: 1072 | C100: Ցուցանիշների փոփոխությունը (ավելացումները նշվախ են դրական նշանով, իսկ նվազեցումները՝ փակագծերում)
A102: Միջոցառման դասիչը` | B102: 31010 | C102: Առաջին կիսամյակ | D102: Ինն ամիս | E102: Տարի
A103: Միջոցառման անվանումը` | B103: Ջրամատակարարման և ջրահեռացման համակարգի հիմնանորոգում
A104: Նկարագրությունը` | B104: Ջրամատակարարման և ջրահեռացման համակարգի հիմնանորոգման նախագծերի և աշխատանքների ձեռքբերում
A105: Միջոցառման տեսակը` | B105: Պետական մարմինների կողմից օգտագործվող ոչ ֆինանսական ակտիվների հետ գործառնություններ
A106: Միջոցառումն իրականացնողի անվանումը | B106: ՀՀ ՏԿԵՆ ջրային կոմիտե
A107: Արդյունքի չափորոշիչներ
A108: Վերականգնվող օբյեկտներ, հատ | C108: 6 | E108: 6
A109: Միջոցառման վրա կատարվող ծախսը (հազար դրամ) | C109: ='7-1'!C112 -> -18559 | D109: ='7-1'!D112 -> -18558.975 | E109: ='7-1'!E112 -> 213.825
A111: Ծրագրի դասիչը | B111: Ծրագրի անվանումը
A112: 1109 | B112: Ջրային տնտեսության ոլորտում ծրագրերի համակարգում և մոնիտորինգ
A113: Ծրագրի միջոցառումները
A115: Ծրագրի դասիչը` | B115: 1109 | C115: Ցուցանիշների փոփոխությունը (ավելացումները նշված են դրական նշանով)
A116: Միջոցառման դասիչը` | B116: 31001 | C116: Առաջին կիսամյակ | D116: Ինն ամիս | E116: Տարի
A117: Միջոցառման անվանումը` | B117: Ջրային կոմիտեի տեխնիկական հագեցվածության բարելավում
A118: Նկարագրությունը` | B118: Ջրային կոմիտեի համար համակարգչային տեխնիկայի և գրասենյակային գույքի ձեռքբերում
A119: Միջոցառման տեսակը` | B119: Պետական մարմինների կողմից օգտագործվող ոչ ֆինանսական ակտիվների հետ գործառնություններ
A120: Ակտիվն օգտագործող կազմակերպության(ների) անվանումը(ները) | B120: ՀՀ ՏԿԵՆ ջրային կոմիտե
A121: Արդյունքի չափորոշիչներ
...

Sheet 8
A1: Հավելված N 8
A2: ՀՀ կառավարության 2024 թվականի
A3: -ի N -Ն որոշման
A5: ՀՀ ԿԱՌԱՎԱՐՈՒԹՅԱՆ 2023 ԹՎԱԿԱՆԻ ԴԵԿՏԵՄԲԵՐԻ 28-Ի N 2323-Ն ՈՐՈՇՄԱՆ N 10 ՀԱՎԵԼՎԱԾՈՒՄ ԿԱՏԱՐՎՈՂ ՓՈՓՈԽՈՒԹՅՈՒՆՆԵՐԸ ԵՎ ԼՐԱՑՈՒՄՆԵՐԸ
A7: Կոդը | B7: Անվանումը | C7: Գնման ձևը | D7: Չափի միավորը | E7: Ցուցանիշների փոփոխությունը (ավելացումները նշված են դրական նշանով, իսկ նվազեցումները՝ փակագծերում)
E8: Միավորի գինը | F8: քանակը | G8: գումարը (հազ. դրամ)
A9: ՀՀ տարածքային կառավարման և ենթակառուցվածքների նախարարության ջրային կոմիտե | G9: =G10+G14+G44+G40 -> 0.025
A10: Բաժին N 04 | B10: Խումբ N 02 | C10: Դաս N 04 | D10: Ոռոգում | G10: =G11 -> -18772.8
A11: 1004 31014 | B11: Ջրամբարների վերականգնման և վերազինման աշխատանքներ | G11: =G12 -> -18772.8
B12: ՄԱՍ III ԾԱՌԱՅՈՒԹՅՈՒՆՆԵՐ | G12: =G13 -> -18772.8
A13: 45611300/1 | B13: այլ շենքերի, շինությունների հիմնանորոգում | C13: ԲՄ | D13: դրամ | G13: -18772.8
A14: Բաժին N 06 | B14: Խումբ N 03 | C14: Դաս N 01 | D14: Ջրամատակարարում | G14: =G15 -> 213.825
A15: 1072 31010 | B15: Ջրամատակարարման և ջրահեռացման համակարգի հիմնանորոգում | G15: =G16+G30 -> 213.825
B16: ՄԱՍ II ԱՇԽԱՏԱՆՔՆԵՐ | G16: =G17+G18+G19+G20+G21+G22+G23+G24+G25+G26+G27+G28+G29 -> -11284.3
A17: 45231131/501 | B17: Ջրամատակարարման խողովակաշարերի հետ կապված աշխատանքներ | C17: ՀԲՄ | D17: դրամ | G17: -14885.5
A18: 45231131/502 | B18: Ջրամատակարարման խողովակաշարերի հետ կապված աշխատանքներ | C18: ՀԲՄ | D18: դրամ | G18: -7522.9
A19: 45231131/503 | B19: Ջրամատակարարման խողովակաշարերի հետ կապված աշխատանքներ | C19: ՀԲՄ | D19: դրամ | G19: -11301.5
A20: 45231131/8 | B20: Ջրամատակարարման խողովակաշարերի հետ կապված աշխատանքներ | C20: ՀԲՄ | D20: դրամ | G20: -348245.1
A21: 45231131/504 | B21: Ջրամատակարարման խողովակաշարերի հետ կապված աշխատանքներ | C21: ՀԲՄ | D21: դրամ | G21: 1780.4
A22: 45231131/505 | B22: Ջրամատակարարման խողովակաշարերի հետ կապված աշխատանքներ | C22: ՀԲՄ | D22: դրամ | G22: 6999.1
A23: 45231131/6 | B23: Ջրամատակարարման խողովակաշարերի հետ կապված աշխատանքներ | C23: ԲՄ | D23: դրամ | G23: 26759.2
A24: 45231131/9 | B24: Ջրամատակարարման խողովակաշարերի հետ կապված աշխատանքներ | C24: ԲՄ | D24: դրամ | E24: 129929000 | F24: 1 | G24: =E24*F24/1000 -> 129929
A25: 45231131/10 | B25: Ջրամատակարարման խողովակաշարերի հետ կապված աշխատանքներ | C25: ԲՄ | D25: դրամ | E25: 80085900 | F25: 1 | G25: =E25*F25/1000 -> 80085.9
A26: 45231131/11 | B26: Ջրամատակարարման խողովակաշարերի հետ կապված աշխատանքներ | C26: ԲՄ | D26: դրամ | E26: 92718100 | F26: 1 | G26: =E26*F26/1000 -> 92718.1
A27: 45231131/12 | B27: Ջրամատակարարման խողովակաշարերի հետ կապված աշխատանքներ | C27: ՀԲՄ | D27: դրամ | E27: 6063500 | F27: 1 | G27: =E27*F27/1000 -> 6063.5
A28: 45231131/13 | B28: Ջրամատակարարման խողովակաշարերի հետ կապված աշխատանքներ | C28: ԲՄ | D28: դրամ | E28: 24812300 | F28: 1 | G28: =E28*F28/1000 -> 24812.3
A29: 45231131/14 | B29: Ջրամատակարարման խողովակաշարերի հետ կապված աշխատանքներ | C29: ԲՄ | D29: դրամ | E29: 1523200 | F29: 1 | G29: =E29*F29/1000 -> 1523.2
B30: ՄԱՍ III ԾԱՌԱՅՈՒԹՅՈՒՆՆԵՐ | G30: =SUM(G31:G39) -> 11498.125
A31: 71351540/5 | B31: տեխնիկական հսկողության ծառայություններ | C31: ԳՀ | D31: դրամ | G31: 0.5
A32: 71351540/9 | B32: տեխնիկական հսկողության ծառայություններ | C32: ԳՀ | D32: դրամ | E32: 2756288 | F32: 1 | G32: =E32*F32/1000 -> 2756.288
A33: 71351540/10 | B33: տեխնիկական հսկողության ծառայություններ | C33: ԳՀ | D33: դրամ | E33: 1419736 | F33: 1 | G33: =E33*F33/1000 -> 1419.736
A34: 71351540/11 | B34: տեխնիկական հսկողության ծառայություններ | C34: ԳՀ | D34: դրամ | E34: 1432345 | F34: 1 | G34: =E34*F34/1000 -> 1432.345
A35: 71351540/12 | B35: տեխնիկական հսկողության ծառայություններ | C35: ԳՀ | D35: դրամ | E35: 250000 | F35: 1 | G35: =E35*F35/1000 -> 250
A36: 71351540/13 | B36: տեխնիկական հսկողության ծառայություններ | C36: ԳՀ | D36: դրամ | E36: 2688000 | F36: 1 | G36: =E36*F36/1000 -> 2688
A37: 98111140/9 | B37: հեղինակային հսկողության ծառայություններ | C37: ՄԱ | D37: դրամ | E37: 1404680 | F37: 1 | G37: =E37*F37/1000 -> 1404.68
A38: 98111140/10 | B38: հեղինակային հսկողության ծառայություններ | C38: ՄԱ | D38: դրամ | E38: 750917 | F38: 1 | G38: =E38*F38/1000 -> 750.917
A39: 98111140/11 | B39: հեղինակային հսկողության ծառայություններ | C39: ՄԱ | D39: դրամ | E39: 795659 | F39: 1 | G39: =E39*F39/1000 -> 795.659
A40: Բաժին N 06 | B40: Խումբ N 03 | C40: Դաս N 01 | D40: Ջրամատակարարում | G40: =G41 -> 1800
A41: 1109 31001 | B41: Ջրային կոմիտեի տեխնիկական հագեցվածության բարելավում | G41: =G42 -> 1800
B42: ՄԱՍ I ԱՊՐԱՆՔՆԵՐ | G42: =G43 -> 1800
A43: 32551190/ 2 | B43: հանրային հեռախոսներ | C43: ԷԱՃ | D43: հատ | E43: 90000 | F43: 20 | G43: =E43*F43/1000 -> 1800
A44: Բաժին N 04 | B44: Խումբ N 02 | C44: Դաս N 04 | D44: Ոռոգում | G44: =G45 -> 16759
A45: 1004 31007 | B45: Ջրային տնտեսության հիդրոտեխնիկական սարքավորումների տեղադրման աշխատանքներ | G45: =G46 -> 16759
B46: ՄԱՍ I ԱՊՐԱՆՔՆԵՐ | G46: =G47+G48+G49 -> 16759
A47: 38421120/1 | B47: Հոսքաչափեր | C47: ՀԲՄ | D47: հատ | E47: 250000 | F47: 1 | G47: =E47*F47/1000 -> 250
A48: 38421120/2 | B48: Հոսքաչափեր | C48: ՀԲՄ | D48: հատ | E48: 250000 | F48: 21 | G48: =E48*F48/1000 -> 5250
A49: 38421130/501 | B49: Մակարդակի չափման սարքեր | C49: ՀԲՄ | D49: հատ | E49: 375300 | F49: 30 | G49: =E49*F49/1000 -> 11259

Sheet 9
H1: Հավելված N 9
A2: ՀՀ կառավարության 2024 թվականի
A3: -ի N -Ն որոշման
A4: ՀԱՅԱՍՏԱՆԻ ՀԱՆՐԱՊԵՏՈՒԹՅԱՆ ԿԱՌԱՎԱՐՈՒԹՅԱՆ ՊԱՀՈՒՍՏԱՅԻՆ ՖՈՆԴԻՑ ԿԱՏԱՐՎՈՂ ՀԱՏԿԱՑՈՒՄԸ
H6: (հազ. դրամ)
A7: Գործառական դասիչը | D7: Ծրագրային դասիչը | F7: Բյուջետային ծախսերի գործառական դասակարգման բաժինների, խմբերի և դասերի, բյուջետային ծրագրերի միջոցառումների, բյուջետային հատկացումների գլխավոր կարգադրիչների անվանումները | G7: Ցուցանիշների փոփոխությունը (ավելացումները նշված են դրական նշանով, իսկ նվազեցումները՝ փակագծերում)
G8: Առաջին կիսամյակ | H8: Ինն ամիս | I8: Տարի
A9: Բաժին | B9: Խումբ | C9: Դաս | D9: Ծրագիր | E9: Միջոցառում
F10: ԸՆԴԱՄԵՆԸ ԾԱԽՍԵՐ | G10: =G12+G31 -> 0 | H10: =H12+H31 -> 0 | I10: =I12+I31 -> 0
F11: այդ թվում`
F12: ՀՀ կառավարություն | G12: =G13 -> -16759 | H12: =H13 -> -16759 | I12: =I13 -> -16759
A13: 11 | F13: ՀԻՄՆԱԿԱՆ ԲԱԺԻՆՆԵՐԻՆ ՉԴԱՍՎՈՂ ՊԱՀՈՒՍՏԱՅԻՆ ՖՈՆԴԵՐ | G13: =G15 -> -16759 | H13: =H15 -> -16759 | I13: =I15 -> -16759
F14: այդ թվում`
B15: 01 | F15: ՀՀ կառավարության և համայնքների պահուստային ֆոնդ | G15: =G17 -> -16759 | H15: =H17 -> -16759 | I15: =I17 -> -16759
F16: այդ թվում`
C17: 01 | F17: ՀՀ կառավարության պահուստային ֆոնդ | G17: =G19 -> -16759 | H17: =H19 -> -16759 | I17: =I19 -> -16759
F18: այդ թվում`
F19: ՀՀ կառավարություն | G19: =G21 -> -16759 | H19: =H21 -> -16759 | I19: =I21 -> -16759
F20: այդ թվում`
D21: 1139 | F21: ՀՀ կառավարության պահուստային ֆոնդ | G21: =G23 -> -16759 | H21: =H23 -> -16759 | I21: =I23 -> -16759
F22: այդ թվում`
E23: 11001 | F23: ՀՀ կառավարության պահուստային ֆոնդ | G23: =G25 -> -16759 | H23: =H25 -> -16759 | I23: =I25 -> -16759
F24: այդ թվում` ըստ կատարողների
F25: ՀՀ կառավարություն | G25: =G27 -> -16759 | H25: =H27 -> -16759 | I25: =I27 -> -16759
F26: այդ թվում` բյուջետային ծախսերի տնտեսագիտական դասակարգման հոդվածներ
F27: ԸՆԴԱՄԵՆԸ ԾԱԽՍԵՐ | G27: =G28 -> -16759 | H27: =H28 -> -16759 | I27: =I28 -> -16759
F28: ԸՆԹԱՑԻԿ ԾԱԽՍԵՐ | G28: =G29 -> -16759 | H28: =H29 -> -16759 | I28: =I29 -> -16759
F29: ԱՅԼ ԾԱԽՍԵՐ | G29: =G30 -> -16759 | H29: =H30 -> -16759 | I29: =I30 -> -16759
F30: Պահուստային միջոցներ | G30: -16759 | H30: -16759 | I30: -16759
F31: ՀՀ տարածքային կառավարման և ենթակառուցվածքների նախարարություն | G31: =G32 -> 16759 | H31: =H32 -> 16759 | I31: =I32 -> 16759
A32: 04 | F32: ՏՆՏԵՍԱԿԱՆ ՀԱՐԱԲԵՐՈՒԹՅՈՒՆՆԵՐ | G32: 16759 | H32: 16759 | I32: 16759
F33: այդ թվում`
B34: 02 | F34: Գյուղատնտեսություն, անտառային տնտեսություն, ձկնորսություն և որսորդություն | G34: 16759 | H34: 16759 | I34: 16759
F35: այդ թվում`
C36: 04 | F36: Ոռոգում | G36: 16759 | H36: 16759 | I36: 16759
F37: այդ թվում`
F38: ՀՀ տարածքային կառավարման և ենթակառուցվածքների նախարարություն | G38: 16759 | H38: 16759 | I38: 16759
F39: այդ թվում`
D40: 1004 | F40: Ոռոգման համակարգի առողջացում | G40: 16759 | H40: 16759 | I40: 16759
F41: այդ թվում`
E42: 31007 | F42: Ջրային տնտեսության հիդրոտեխնիկական սարքավորումների տեղադրման աշխատանքներ | G42: 16759 | H42: 16759 | I42: 16759
F43: այդ թվում` ըստ կատարողների
F44: ՀՀ տարածքային կառավարման և ենթակառուցվածքների նախարարության ջրային կոմիտե | G44: 16759 | H44: 16759 | I44: 16759
F45: այդ թվում` բյուջետային ծախսերի տնտեսագիտական դասակարգման հոդվածներ
F46: ԸՆԴԱՄԵՆԸ ԾԱԽՍԵՐ | G46: 16759 | H46: 16759 | I46: 16759
F47: ՈՉ ՖԻՆԱՆՍԱԿԱՆ ԱԿՏԻՎՆԵՐԻ ԳԾՈՎ ԾԱԽՍԵՐ | G47: 16759 | H47: 16759 | I47: 16759
F48: ՀԻՄՆԱԿԱՆ ՄԻՋՈՑՆԵՐ | G48: 16759 | H48: 16759 | I48: 16759
F49: ՄԵՔԵՆԱՆԵՐ ԵՎ ՍԱՐՔԱՎՈՐՈՒՄՆԵՐ | G49: 16759 | H49: 16759 | I49: 16759
F50: - Այլ մեքենաներ և սարքավորումներ | G50: 16759 | H50: 16759 | I50: 16759
