Workbook
Name AgencyCode: #REF!
Name AgencyCode: #REF!
Name AgencyCode: #REF!
Name AgencyCode: #REF!
Name AgencyCode: #REF!
Name AgencyCode: #REF!
Name AgencyName: #REF!
Name AgencyName: #REF!
Name AgencyName: #REF!
Name AgencyName: #REF!
Name AgencyName: #REF!
Name åû: #REF!
Name åû: #REF!
Name åû: #REF!
Name davit: #REF!
Name davit: #REF!
Name davit: #REF!
Name Functional1: #REF!
Name Functional1: #REF!
Name Functional1: #REF!
Name Functional1: #REF!
Name Functional1: #REF!
Name ggg: #REF!
Name ggg: #REF!
Name ggg: #REF!
Name mas: #REF!
Name mas: #REF!
Name mas: #REF!
Name mass: #REF!
Name mass: #REF!
Name mass: #REF!
Name PANature: #REF!
Name PANature: #REF!
Name PANature: #REF!
Name PANature: #REF!
Name PANature: #REF!
Name PAType: #REF!
Name PAType: #REF!
Name PAType: #REF!
Name PAType: #REF!
Name PAType: #REF!
Name Performance2: #REF!
Name Performance2: #REF!
Name Performance2: #REF!
Name Performance2: #REF!
Name Performance2: #REF!
Name PerformanceType: #REF!
Name PerformanceType: #REF!
Name PerformanceType: #REF!
Name PerformanceType: #REF!
Name PerformanceType: #REF!
Name x: #REF!
Name x: #REF!
Name x: #REF!
Name Հավելված: #REF!
Name Հավելված: #REF!
Name Հավելված: #REF!
Name Հավելված: #REF!
Name Մաս: #REF!
Name Մաս: #REF!

Sheet Հ1
E1: Հավելված N 1
E2: ՀՀ կառավարության 2024 թվականի
E3: ______________ ի ___Ն որոշման
B5: ՀԱՅԱՍՏԱՆԻ ՀԱՆՐԱՊԵՏՈՒԹՅԱՆ ԿԱՌԱՎԱՐՈՒԹՅԱՆ 2023 ԹՎԱԿԱՆԻ ԴԵԿՏԵՄԲԵՐԻ 28-Ի N 2323-Ն ՈՐՈՇՄԱՆ N 1 ՀԱՎԵԼՎԱԾԻ N 1 ԱՂՅՈՒՍԱԿՈՒՄ ԿԱՏԱՐՎՈՂ ՓՈՓՈԽՈՒԹՅՈՒՆՆԵՐԸ
E7: հազ. դրամ
B8: Պետական բյուջեի դեֆիցիտի ֆինանսավորման աղբյուրներն ու դրանց տարրերի անվանումները | C8: Ցուցանիշների փոփոխությունը (ավելացումները նշված են դրական նշանով)
C9: Առաջին կիսամյակ | D9: Ինն ամիս | E9: Տարի
B10: ԸՆԴԱՄԵՆԸ | C10: =C12 -> 1555566.8 | D10: =D12 -> 0 | E10: =E12 -> 0
B11: այդ թվում՝
B12: Ա.Ներքին աղբյուրներ-ընդամենը | C12: =C14 -> 1555566.8 | D12: =D14 -> 0 | E12: =E14 -> 0
B13: այդ թվում՝
B14: 2. Ֆինանսական զուտ ակտիվներ | C14: =C16 -> 1555566.8 | D14: =D16 -> 0 | E14: =E16 -> 0
B15: այդ թվում՝
B16: 2.6.Այլ | C16: =C17 -> 1555566.8
B17: ժամանակավորապես ազատ միջոցներ | C17: =Հ3!G10 -> 1555566.8

Sheet Հ2
H1: Հավելված N 2
H2: ՀՀ կառավարության 2024 թվականի
H3: ______________ ի ___Ն որոշման
A5: «ՀԱՅԱՍՏԱՆԻ ՀԱՆՐԱՊԵՏՈՒԹՅԱՆ 2024 ԹՎԱԿԱՆԻ ՊԵՏԱԿԱՆ ԲՅՈՒՋԵԻ ՄԱՍԻՆ» ՕՐԵՆՔԻ N 1 ՀԱՎԵԼՎԱԾԻ N 3 ԱՂՅՈՒՍԱԿՈՒՄ ԿԱՏԱՐՎՈՂ ՓՈՓՈԽՈՒԹՅՈՒՆՆԵՐԸ ԵՎ ԼՐԱՑՈՒՄՆԵՐԸ
G6: հազ. դրամ
A7: Ծրագրային դասիչ | C7: Բյուջետային գլխավոր կարգադրիչների, ծրագրերի, միջոցառումների և ուղղությունների անվանումները | D7: Ցուցանիշների փոփոխությունը (ավելացումները նշված են դրական նշանով, իսկ նվազեցումները` փակագծերում)
D8: Ընդամենը, | E8: այդ թվում՝
A9: Ծրագիր | B9: Միջոցառում | E9: Կառուցման աշխատանքներ | F9: Վերակառուցման, վերանորոգման և վերականգնման աշխատանքներ | G9: Նախագծահե- տազոտական, գեոդեզիա- քարտեզագրա- կան աշխա- տանքներ | H9: Ոչ ֆինանսական այլ ակտիվների ձեռքբերում
C10: ԸՆԴԱՄԵՆԸ | D10: 0 | E10: =+E12 -> 0 | F10: =+F12 -> 0 | G10: =+G12 -> 0 | H10: =+H12 -> 0
C11: այդ թվում՝
C12: ՀՀ ՏԱՐԱԾՔԱՅԻՆ ԿԱՌԱՎԱՐՄԱՆ ԵՎ ԵՆԹԱԿԱՌՈՒՑՎԱԾՔՆԵՐԻ ՆԱԽԱՐԱՐՈՒԹՅՈՒՆ | D12: 0 | E12: =+E14+E15 -> 0 | F12: =+F14+F15 -> 0 | G12: =+G14+G15 -> 0 | H12: =+H14+H15 -> 0
C13: այդ թվում`
A14: 1049 | B14: 21001 | C14: Պետական նշանակության ավտոճանապարհների հիմնանորոգում | D14: =+E14+F14+G14+H14 -> -1637962.5 | E14: =-E15 -> 0 | F14: =-F15 -> -1639924 | G14: =-G15 -> 1961.5 | H14: =-H15 -> 0
A15: 1049 | B15: 21001 | C15: Պետական նշանակության ավտոճանապարհների հիմնանորոգում | D15: =+E15+F15+G15+H15 -> 1637962.5 | E15: =E17+E21+E32 -> 0 | F15: =F17+F21+F32 -> 1639924 | G15: =G17+G21+G32 -> -1961.5 | H15: =H17+H21+H32 -> 0
C16: այդ թվում`
B17: 1 | C17: Միջպետական նշանակության ավտոճանապարհներ, այդ թվում | D17: =+E17+F17+G17+H17 -> 222770.3 | E17: =SUM(E18:E20) -> 0 | F17: =SUM(F18:F20) -> 222770.3 | G17: =SUM(G18:G20) -> 0 | H17: =SUM(H18:H20) -> 0
C18: Մ-1, Երևան-Գյումրի-ՀՀ սահման միջպետական նշանակության ավտոճանապարհի կմ113+200-կմ 118+900 հատվածի հիմնանորոգում | D18: =+E18+F18+G18+H18 -> 58034 | F18: 58034 | H18: 0
C19: Մ-2, Երևան-Երասխ-Գորիս-Մեղրի-ՀՀսահման միջպետական նշանակության ավտոճանապարհի կմ182+532 - կմ190+000 հատվածի հիմնանորոգում | D19: =+E19+F19+G19+H19 -> 101039.4 | F19: 101039.4 | H19: 0
C20: Մ-3, Թուրքիայի սահման-Մարգարա-Վանաձոր-Տաշիր-ՀՀ սահման միջպետական նշանակության ավտոճանապարհի կմ97+020-կմ104+700 հատվածի հիմնանորոգում | D20: =+E20+F20+G20+H20 -> 63696.9 | F20: 63696.9
B21: 2 | C21: Հանրապետական նշանակության ավտոճանապարհներ, այդ թվում | D21: =+E21+F21+G21+H21 -> -355865.2 | E21: =SUM(E22:E31) -> 0 | F21: =SUM(F22:F31) -> -353435.2 | G21: =SUM(G22:G31) -> -2430 | H21: =SUM(H22:H31) -> 0
C22: Հ-1, Վ. Պտղնու տրանսպորտային հանգույց - Ջրաբեր-Հրազդան -Հրազդանի քրեակատարողական հիմնարկ հանրապետական նշանակության ավտոճանապարհի կմ33+500 - կմ37+700 հատվածի հիմնանորոգում | D22: =+E22+F22+G22+H22 -> 642578.3 | F22: 642578.3 | H22: 0
C23: Հ-1, Վ. Պտղնու տրանսպորտային հանգույց - Ջրաբեր-Հրազդան -Հրազդանի քրեակատարողական հիմնարկ հանրապետական նշանակության ավտոճանապարհի կմ21+700 - կմ24+000 հատվածի հիմնանորոգում | D23: =+E23+F23+G23+H23 -> 445619 | F23: 445619 | H23: 0
C24: Հ-2, /Հ-1/ Աբովյան- Արզնի-/Հ-6/ (Նոր Գեղի) հանրապետական նշանակության ավտոճանապարհի կմ0+000-կմ1+400 հատվածի հիմնանորոգում | D24: =+E24+F24+G24+H24 -> 18918.9 | F24: 18918.9 | H24: 0
C25: Հ-5, /Հ-6/-Նոր Գեղի-Արգել-Արզական-Հրազդան հանրապետական նշանակության ավտոճանապարհի կմ0+000 - կմ10+000 հատվածի հիմնանորոգում | D25: =+E25+F25+G25+H25 -> 58365.1 | F25: 58365.1 | H25: 0
C26: Հ-5, /Հ-6/-Նոր Գեղի-Արգել-Արզական-Հրազդան հանրապետական նշանակության ավտոճանապարհի կմ25+200 - կմ36+000 հատվածի հիմնանորոգում | D26: =+E26+F26+G26+H26 -> 24397.2 | F26: 24397.2 | H26: 0
C27: Հ-16, /Մ-5/ - Մեծամոր – ՀԱԷԿ - /Մ-5/ հանրապետական նշանակության ավտոճանապարհի կմ0+000 - կմ10+700 հատվածի հիմնանորոգում | D27: =+E27+F27+G27+H27 -> -543446 | F27: -541016 | G27: -2430 | H27: 0
C28: Հ-21, /Հ-75/ - Հոռոմ-Արթիկ-Ալագյազ հանրապետական նշանակության ավտոճանապարհի կմ19+000 - կմ23+900 հատվածի հիմնանորոգում | D28: =+E28+F28+G28+H28 -> 1824.2 | F28: 1824.2 | H28: 0
C29: Հ-23, /Մ-3/ - Պուշկինյան լեռնանցք - /Մ-3/ հանրապետական նշանակության ավտոճանապարհի կմ0+000 - կմ13+400 հատվածի հիմնանորոգում | D29: =+E29+F29+G29+H29 -> -3051555 | F29: -3051555 | H29: 0
C30: Հ-36, /Մ-4/ (Իջևան) - Նավուր - Բերդ - Այգեպար հանրապետական նշանակության ավտոճանապարհի կմ 5+600-կմ 42+100 հատվածի հիմնանորոգում | D30: =+E30+F30+G30+H30 -> 1484823.3 | F30: 1484823.3 | H30: 0
C31: Հ-55, Հրազդանի տրանսպորտային հանգույց-Ծաղկաձորի մարզահամալիր հանրապետական նշանակության ավտոճանապարհի կմ0+000 - կմ10+500 հատվածի հիմնանորոգում | D31: =+E31+F31+G31+H31 -> 562609.8 | F31: 562609.8
B32: 3 | C32: Մարզային նշանակության ավտոճանապարհներ, այդ թվում | D32: =+E32+F32+G32+H32 -> 1771057.4 | E32: =SUM(E33:E40) -> 0 | F32: =SUM(F33:F40) -> 1770588.9 | G32: =SUM(G33:G40) -> 468.5 | H32: =SUM(H33:H40) -> 0
C33: Տ-1-44,/Մ-3/ (Ապարան) - Լուսագյուղ ավտոճանապարհի կմ0+000-կմ3+000 հատվածի հիմնանորոգում | D33: =+E33+F33+G33+H33 -> -668.3 | G33: -668.3 | H33: 0
C34: Տ-1-62,/Հ-4/ - Երնջաթափ - Շողակն ավտոճանապարհի կմ0+000-կմ3+400 հատվածի հիմնանորոգում | D34: =+E34+F34+G34+H34 -> -757.2 | G34: -757.2 | H34: 0
C35: Տ-3-14, /Մ-5/-Մրգաշատ-Ալաշկերտ-գ․Արմավիր (Տ-3-16) ավտոճանապարհի կմ0+000 - կմ1+300, կմ3+000-կմ4+200 և կմ4+700-կմ6+200 հատվածների հիմնանորոգում | D35: =+E35+F35+G35+H35 -> 954 | G35: 954 | H35: 0
C36: Տ-4-13,/Հ-39/ (Գավառ) – Գանձակ – Սարուխան – Գեղարքունիք ավտոճանապարհի կմ0+000-կմ12+900 հատվածի հիմնանորոգում | D36: =+E36+F36+G36+H36 -> 1512076.6 | F36: 1512076.6 | H36: 0
C37: Տ-5-24,/Մ-3/ (Ստեփանավան) – Արմանիս – Ուրասար – Կաթնաղբյուր տեղական նշանակության ավտոճանապարհի կմ 6+600-կմ 15+200 հատվածի և Կաթնաղբյուր համայնքի 8-րդ և 9-րդ փողոցների հիմնանորոգում | D37: =+E37+F37+G37+H37 -> 258512.3 | F37: 258512.3 | H37: 0
C38: /Մ-12/ - Խնձորեսկ - Ներքին Խնձորեսկ ավտոճանապարհի կմ0+000 - կմ10+100 հատվածի հիմնանորոգում | D38: =+E38+F38+G38+H38 -> 550 | G38: 550 | H38: 0
C39: Տ-8-10,/Տ-8-48/ - Շամբ - Շամբի ջրամբարի պատվար /մարգարիտա/ ավտոճանապարհի հիմնանորոգում | D39: =+E39+F39+G39+H39 -> 210 | G39: 210 | H39: 0
C40: Տ-8-50, /Տ-8-48/ - Որոտան ավտոճանապարհի կմ0+000 - կմ1+700 հատվածի հիմնանորոգում | D40: =+E40+F40+G40+H40 -> 180 | G40: 180 | H40: 0
A41: 1049 | B41: 21020 | C41: Միջպետական և հանրապետական նշանակության ավտոճանապարհների միջին նորոգում | D41: =+E41+F41+G41+H41 -> -59603.7 | E41: =-E42 -> 0 | F41: =-F42 -> -59603.7 | G41: =-G42 -> 0 | H41: =-H42 -> 0
A42: 1049 | B42: 21020 | C42: Միջպետական և հանրապետական նշանակության ավտոճանապարհների միջին նորոգում | D42: =+E42+F42+G42+H42 -> 59603.7 | E42: =E44 -> 0 | F42: =F44 -> 59603.7 | G42: =G44 -> 0 | H42: =H44 -> 0
C43: այդ թվում`
B44: 1 | C44: Միջպետական նշանակության ավտոճանապարհներ, այդ թվում | D44: =+E44+F44+G44+H44 -> 59603.7 | E44: =E45 -> 0 | F44: =F45 -> 59603.7 | G44: =G45 -> 0 | H44: =H45 -> 0
C45: Մ4/ Երևան-Սևան-Իջևան–ՀՀ սահման միջպետական նշանակության ավտոճանապարհի կմ12+747-կմ26+000 հատվածի (աջ գոտի) միջին նորոգում | D45: =+E45+F45+G45+H45 -> 59603.7 | F45: 59603.7 | H45: 0

Sheet Հ3
I1: Հավելված N 3
I2: ՀՀ կառավարության 2024 թվականի
I3: ______________ ի ___Ն որոշման
A5: ՀԱՅԱՍՏԱՆԻ ՀԱՆՐԱՊԵՏՈՒԹՅԱՆ ԿԱՌԱՎԱՐՈՒԹՅԱՆ 2023 ԹՎԱԿԱՆԻ ԴԵԿՏԵՄԲԵՐԻ 28-Ի N 2323-Ն ՈՐՈՇՄԱՆ N 3 ԵՎ N 4 ՀԱՎԵԼՎԱԾՆԵՐՈՒՄ ԿԱՏԱՐՎՈՂ ՓՈՓՈԽՈՒԹՅՈՒՆՆԵՐԸ ԵՎ ԼՐԱՑՈՒՄՆԵՐԸ
H7: հազ. դրամ
A8: Գործառական դասիչը | D8: Ծրագրային դասիչը | F8: Բյուջետային հատկացումների գլխավոր կարգադրիչների, ծրագրերի, միջոցառումների և միջոցառումները կատարող պետական մարմինների անվանումները | G8: Ցուցանիշների փոփոխությունը (ավելացումները նշված են դրական նշանով, իսկ նվազեցումները` փակագծերում)
A9: Բաժին | B9: Խումբ | C9: Դաս | D9: Ծրագիր | E9: Միջոցառում | G9: Առաջին կիսամյակ | H9: Ինն ամիս | I9: Տարի
F10: ԸՆԴԱՄԵՆԸ | G10: =+G12 -> 1555566.8 | H10: =+H12 -> 0 | I10: =+I12 -> 0
F11: այդ թվում
F12: ՀՀ տարածքային կառավարման և ենթակառուցվածքների նախարարություն | G12: =+G13 -> 1555566.8 | H12: =+H13 -> 0 | I12: =+I13 -> 0
A13: 04 | F13: ՏՆՏԵՍԱԿԱՆ ՀԱՐԱԲԵՐՈՒԹՅՈՒՆՆԵՐ | G13: =G15 -> 1555566.8 | H13: =H15 -> 0 | I13: =I15 -> 0
F14: այդ թվում`
B15: 05 | F15: Տրանսպորտ | G15: =G17 -> 1555566.8 | H15: =H17 -> 0 | I15: =I17 -> 0
F16: այդ թվում`
C17: 01 | F17: Ճանապարհային տրանսպորտ | G17: =+G19 -> 1555566.8 | H17: =+H19 -> 0 | I17: =+I19 -> 0
F18: այդ թվում`
F19: ՀՀ տարածքային կառավարման և ենթակառուցվածքների նախարարություն | G19: =+G21 -> 1555566.8 | H19: =+H21 -> 0 | I19: =+I21 -> 0
F20: այդ թվում`
D21: 1049 | F21: Ճանապարհային ցանցի բարելավում | G21: =+G23 -> 1555566.8 | H21: =+H23 -> 0 | I21: =+I23 -> 0
F22: այդ թվում`
E23: 21001 | F23: Պետական նշանակության ավտոճանապարհների հիմնանորոգում | G23: =G32+G25 -> 1555566.8 | H23: =H32+H25 -> 0 | I23: =I32+I25 -> 0
F24: այդ թվում` ըստ կատարողների
F25: ՀՀ կառավարություն | G25: =G27 -> 0 | H25: =H27 -> -2472794.1 | I25: =I27 -> -1637962.5
F26: այդ թվում` բյուջետային ծախսերի տնտեսագիտական դասակարգման հոդվածներ
F27: ԸՆԴԱՄԵՆԸ ԾԱԽՍԵՐ | G27: =+G28 -> 0 | H27: =+H28 -> -2472794.1 | I27: =+I28 -> -1637962.5
F28: ՈՉ ՖԻՆԱՆՍԱԿԱՆ ԱԿՏԻՎՆԵՐԻ ԳԾՈՎ ԾԱԽՍԵՐ | G28: =G29 -> 0 | H28: =H29 -> -2472794.1 | I28: =I29 -> -1637962.5
F29: ՀԻՄՆԱԿԱՆ ՄԻՋՈՑՆԵՐ | G29: =G30 -> 0 | H29: =H30 -> -2472794.1 | I29: =I30 -> -1637962.5
F30: ՇԵՆՔԵՐ ԵՎ ՇԻՆՈՒԹՅՈՒՆՆԵՐ | G30: =G31 -> 0 | H30: =H31 -> -2472794.1 | I30: =I31 -> -1637962.5
F31: - Շենքերի և շինությունների կապիտալ վերանորոգում | H31: =-H32 -> -2472794.1 | I31: =-I32 -> -1637962.5
F32: ՀՀ տարածքային կառավարման և ենթակառուցվածքների նախարարություն | G32: =G34 -> 1555566.8 | H32: =H34 -> 2472794.1 | I32: =I34 -> 1637962.5
F33: այդ թվում`բյուջետային ծախսերի տնտեսագիտական դասակարգման հոդվածներ
F34: ԸՆԴԱՄԵՆԸ ԾԱԽՍԵՐ | G34: =+G35 -> 1555566.8 | H34: =+H35 -> 2472794.1 | I34: =+I35 -> 1637962.5
F35: ՈՉ ՖԻՆԱՆՍԱԿԱՆ ԱԿՏԻՎՆԵՐԻ ԳԾՈՎ ԾԱԽՍԵՐ | G35: =G36 -> 1555566.8 | H35: =H36 -> 2472794.1 | I35: =I36 -> 1637962.5
F36: ՀԻՄՆԱԿԱՆ ՄԻՋՈՑՆԵՐ | G36: =G37+G39 -> 1555566.8 | H36: =H37+H39 -> 2472794.1 | I36: =I37+I39 -> 1637962.5
F37: ՇԵՆՔԵՐ ԵՎ ՇԻՆՈՒԹՅՈՒՆՆԵՐ | G37: =+G38 -> 1556038.3 | H37: =+H38 -> 2474755.6 | I37: =+I38 -> 1639924
F38: - Շենքերի և շինությունների կապիտալ վերանորոգում | G38: 1556038.3 | H38: 2474755.6 | I38: =Հ2!F15 -> 1639924
F39: ԱՅԼ ՀԻՄՆԱԿԱՆ ՄԻՋՈՑՆԵՐ | G39: =+G40 -> -471.5 | H39: =+H40 -> -1961.5 | I39: =+I40 -> -1961.5
F40: - Նախագծահետազոտական ծախսեր | G40: -471.5 | H40: -1961.5 | I40: =Հ2!G15 -> -1961.5
E41: 21020 | F41: Միջպետական և հանրապետական նշանակության ավտոճանապարհների միջին նորոգում | G41: =G50+G43 -> 0 | H41: =H50+H43 -> 0 | I41: =I50+I43 -> 0
F42: այդ թվում` ըստ կատարողների
F43: ՀՀ կառավարություն | G43: =G45 -> -59603.7 | H43: =H45 -> -59603.7 | I43: =I45 -> -59603.7
F44: այդ թվում` բյուջետային ծախսերի տնտեսագիտական դասակարգման հոդվածներ
F45: ԸՆԴԱՄԵՆԸ ԾԱԽՍԵՐ | G45: =+G46 -> -59603.7 | H45: =+H46 -> -59603.7 | I45: =+I46 -> -59603.7
F46: ՈՉ ՖԻՆԱՆՍԱԿԱՆ ԱԿՏԻՎՆԵՐԻ ԳԾՈՎ ԾԱԽՍԵՐ | G46: =G47 -> -59603.7 | H46: =H47 -> -59603.7 | I46: =I47 -> -59603.7
F47: ՀԻՄՆԱԿԱՆ ՄԻՋՈՑՆԵՐ | G47: =G48 -> -59603.7 | H47: =H48 -> -59603.7 | I47: =I48 -> -59603.7
F48: ՇԵՆՔԵՐ ԵՎ ՇԻՆՈՒԹՅՈՒՆՆԵՐ | G48: =G49 -> -59603.7 | H48: =H49 -> -59603.7 | I48: =I49 -> -59603.7
F49: - Շենքերի և շինությունների կապիտալ վերանորոգում | G49: =-G50 -> -59603.7 | H49: =-H50 -> -59603.7 | I49: =-I50 -> -59603.7
F50: ՀՀ տարածքային կառավարման և ենթակառուցվածքների նախարարություն | G50: =G52 -> 59603.7 | H50: =H52 -> 59603.7 | I50: =I52 -> 59603.7
F51: այդ թվում`բյուջետային ծախսերի տնտեսագիտական դասակարգման հոդվածներ
F52: ԸՆԴԱՄԵՆԸ ԾԱԽՍԵՐ | G52: =+G53 -> 59603.7 | H52: =+H53 -> 59603.7 | I52: =+I53 -> 59603.7
F53: ՈՉ ՖԻՆԱՆՍԱԿԱՆ ԱԿՏԻՎՆԵՐԻ ԳԾՈՎ ԾԱԽՍԵՐ | G53: =G54 -> 59603.7 | H53: =H54 -> 59603.7 | I53: =I54 -> 59603.7
F54: ՀԻՄՆԱԿԱՆ ՄԻՋՈՑՆԵՐ | G54: =G55 -> 59603.7 | H54: =H55 -> 59603.7 | I54: =I55 -> 59603.7
F55: ՇԵՆՔԵՐ ԵՎ ՇԻՆՈՒԹՅՈՒՆՆԵՐ | G55: =+G56 -> 59603.7 | H55: =+H56 -> 59603.7 | I55: =+I56 -> 59603.7
F56: - Շենքերի և շինությունների կապիտալ վերանորոգում | G56: =Հ4!E50 -> 59603.7 | H56: =Հ4!F50 -> 59603.7 | I56: =Հ4!G50 -> 59603.7

Sheet Հ4
G1: Հավելված 4
G2: ՀՀ կառավարության 2024 թվականի
G3: ______________ ի ___Ն որոշման
A5: ՀԱՅԱՍՏԱՆԻ ՀԱՆՐԱՊԵՏՈՒԹՅԱՆ ԿԱՌԱՎԱՐՈՒԹՅԱՆ 2023 ԹՎԱԿԱՆԻ ԴԵԿՏԵՄԲԵՐԻ 28-Ի N 2323-Ն ՈՐՈՇՄԱՆ N 5 ՀԱՎԵԼՎԱԾԻ N 2 ԱՂՅՈՒՍԱԿՈՒՄ ԿԱՏԱՐՎՈՂ ՓՈՓՈԽՈՒԹՅՈՒՆՆԵՐԸ ԵՎ ԼՐԱՑՈՒՄՆԵՐԸ
F7: հազ. դրամ
B8: Ծրագրային դասիչը | D8: Հատկացումների տրամադրման նպատակները և բյուջետային գլխավոր կարգադրիչների, ծրագրերի, միջոցառումների և կատարող պետական մարմնի անվանումները | E8: Ցուցանիշների փոփոխությունը (ավելացումները նշված են դրական նշանով, իսկ նվազեցումները` փակագծերում)
B9: Ծրագիր | C9: Միջոցառում | E9: Առաջին կիսամյակ | F9: Ինն ամիս | G9: Տարի
D10: ԸՆԴԱՄԵՆԸ | E10: =+E12 -> 1555566.8 | F10: =+F12 -> 0 | G10: =+G12 -> 0
D11: այդ թվում՝
D12: ՀՀ ՏԱՐԱԾՔԱՅԻՆ ԿԱՌԱՎԱՐՄԱՆ ԵՎ ԵՆԹԱԿԱՌՈՒՑՎԱԾՔՆԵՐԻ ՆԱԽԱՐԱՐՈՒԹՅՈՒՆ | E12: =+E14+E44 -> 1555566.8 | F12: =+F14+F44 -> 0 | G12: =+G14+G44 -> 0
D13: այդ թվում`
B14: 1049 | C14: 21001 | D14: Պետական նշանակության ավտոճանապարհների հիմնանորոգում | E14: =+E16+E17 -> 1555566.8 | F14: =+F16+F17 -> 0 | G14: =+G16+G17 -> 0
D15: այդ թվում` ըստ կատարողների
D16: ՀՀ կառավարություն | F16: =-F17 -> -2472794.1 | G16: =-G17 -> -1637962.5
D17: ՀՀ տարածքային կառավարման և ենթակառուցվածքների նախարարություն | E17: =+E19+E23+E35 -> 1555566.8 | F17: =+F19+F23+F35 -> 2472794.1 | G17: =+G19+G23+G35 -> 1637962.5
D18: այդ թվում՝ ըստ ուղղությունների
C19: 1 | D19: Միջպետական նշանակության ավտոճանապարհներ, այդ թվում | E19: =SUM(E20:E22) -> 0 | F19: =SUM(F20:F22) -> 164730.9 | G19: =SUM(G20:G22) -> 222770.3
D20: =Հ2!C18 -> Մ-1, Երևան-Գյումրի-ՀՀ սահման միջպետական նշանակության ավտոճանապարհի կմ113+200-կմ 118+900 հատվածի հիմնանորոգում | F20: =Հ2!F18 -> 58034 | G20: =Հ2!D18 -> 58034
D21: =Հ2!C19 -> Մ-2, Երևան-Երասխ-Գորիս-Մեղրի-ՀՀսահման միջպետական նշանակության ավտոճանապարհի կմ182+532 - կմ190+000 հատվածի հիմնանորոգում | F21: 43000 | G21: =Հ2!D19 -> 101039.4
D22: =Հ2!C20 -> Մ-3, Թուրքիայի սահման-Մարգարա-Վանաձոր-Տաշիր-ՀՀ սահման միջպետական նշանակության ավտոճանապարհի կմ97+020-կմ104+700 հատվածի հիմնանորոգում | F22: =Հ2!F20 -> 63696.9 | G22: =Հ2!D20 -> 63696.9
C23: 2 | D23: Հանրապետական նշանակության ավտոճանապարհներ, այդ թվում | E23: =SUM(E24:E34) -> 800000 | F23: =SUM(F24:F34) -> 955751.6 | G23: =SUM(G24:G34) -> -355865.2
D24: =Հ2!C22 -> Հ-1, Վ. Պտղնու տրանսպորտային հանգույց - Ջրաբեր-Հրազդան -Հրազդանի քրեակատարողական հիմնարկ հանրապետական նշանակության ավտոճանապարհի կմ33+500 - կմ37+700 հատվածի հիմնանորոգում | F24: 321289.2 | G24: =Հ2!F22 -> 642578.3
D25: =Հ2!C23 -> Հ-1, Վ. Պտղնու տրանսպորտային հանգույց - Ջրաբեր-Հրազդան -Հրազդանի քրեակատարողական հիմնարկ հանրապետական նշանակության ավտոճանապարհի կմ21+700 - կմ24+000 հատվածի հիմնանորոգում | F25: 267371.4 | G25: =Հ2!D23 -> 445619
D26: =Հ2!C24 -> Հ-2, /Հ-1/ Աբովյան- Արզնի-/Հ-6/ (Նոր Գեղի) հանրապետական նշանակության ավտոճանապարհի կմ0+000-կմ1+400 հատվածի հիմնանորոգում | F26: 18918.9 | G26: =Հ2!D24 -> 18918.9
D27: =Հ2!C25 -> Հ-5, /Հ-6/-Նոր Գեղի-Արգել-Արզական-Հրազդան հանրապետական նշանակության ավտոճանապարհի կմ0+000 - կմ10+000 հատվածի հիմնանորոգում | F27: 58365.1 | G27: =Հ2!D25 -> 58365.1
D28: =Հ2!C26 -> Հ-5, /Հ-6/-Նոր Գեղի-Արգել-Արզական-Հրազդան հանրապետական նշանակության ավտոճանապարհի կմ25+200 - կմ36+000 հատվածի հիմնանորոգում | F28: 24397.2 | G28: =Հ2!D26 -> 24397.2
D29: =Հ2!C27 -> Հ-16, /Մ-5/ - Մեծամոր – ՀԱԷԿ - /Մ-5/ հանրապետական նշանակության ավտոճանապարհի կմ0+000 - կմ10+700 հատվածի հիմնանորոգում | F29: -272938 | G29: =Հ2!D27 -> -543446
D30: =Հ2!C28 -> Հ-21, /Հ-75/ - Հոռոմ-Արթիկ-Ալագյազ հանրապետական նշանակության ավտոճանապարհի կմ19+000 - կմ23+900 հատվածի հիմնանորոգում | F30: 1824.2 | G30: =Հ2!D28 -> 1824.2
D31: =Հ2!C29 -> Հ-23, /Մ-3/ - Պուշկինյան լեռնանցք - /Մ-3/ հանրապետական նշանակության ավտոճանապարհի կմ0+000 - կմ13+400 հատվածի հիմնանորոգում | F31: -915466.5 | G31: =Հ2!D29 -> -3051555
D32: =Հ2!C30 -> Հ-36, /Մ-4/ (Իջևան) - Նավուր - Բերդ - Այգեպար հանրապետական նշանակության ավտոճանապարհի կմ 5+600-կմ 42+100 հատվածի հիմնանորոգում | F32: 1114424.2 | G32: =Հ2!D30 -> 1484823.3
D33: =Հ2!C31 -> Հ-55, Հրազդանի տրանսպորտային հանգույց-Ծաղկաձորի մարզահամալիր հանրապետական նշանակության ավտոճանապարհի կմ0+000 - կմ10+500 հատվածի հիմնանորոգում | F33: 337565.9 | G33: =Հ2!D31 -> 562609.8
D34: Հ-75, Մ-9-Իսահակյան-Գյումրի-Մ-7 հանրապետական նշանակության ավտոճանապարհի կմ23+250 - կմ37+500 և կմ45+300 - կմ60+200 հատվածների հիմնանորոգում | E34: 800000
C35: 3 | D35: Մարզային նշանակության ավտոճանապարհներ, այդ թվում | E35: =SUM(E36:E43) -> 755566.8 | F35: =SUM(F36:F43) -> 1352311.6 | G35: =SUM(G36:G43) -> 1771057.4
D36: =Հ2!C33 -> Տ-1-44,/Մ-3/ (Ապարան) - Լուսագյուղ ավտոճանապարհի կմ0+000-կմ3+000 հատվածի հիմնանորոգում | E36: -668.3 | F36: -668.3 | G36: =Հ2!D33 -> -668.3
D37: =Հ2!C34 -> Տ-1-62,/Հ-4/ - Երնջաթափ - Շողակն ավտոճանապարհի կմ0+000-կմ3+400 հատվածի հիմնանորոգում | E37: -757.2 | F37: -757.2 | G37: =Հ2!D34 -> -757.2
D38: =Հ2!C35 -> Տ-3-14, /Մ-5/-Մրգաշատ-Ալաշկերտ-գ․Արմավիր (Տ-3-16) ավտոճանապարհի կմ0+000 - կմ1+300, կմ3+000-կմ4+200 և կմ4+700-կմ6+200 հատվածների հիմնանորոգում | E38: 954 | F38: 954 | G38: =Հ2!D35 -> 954
D39: =Հ2!C36 -> Տ-4-13,/Հ-39/ (Գավառ) – Գանձակ – Սարուխան – Գեղարքունիք ավտոճանապարհի կմ0+000-կմ12+900 հատվածի հիմնանորոգում | E39: 756038.3 | F39: 1209661.3 | G39: =Հ2!D36 -> 1512076.6
D40: =Հ2!C37 -> Տ-5-24,/Մ-3/ (Ստեփանավան) – Արմանիս – Ուրասար – Կաթնաղբյուր տեղական նշանակության ավտոճանապարհի կմ 6+600-կմ 15+200 հատվածի և Կաթնաղբյուր համայնքի 8-րդ և 9-րդ փողոցների հիմնանորոգում | F40: 142181.8 | G40: =Հ2!D37 -> 258512.3
D41: =Հ2!C38 -> /Մ-12/ - Խնձորեսկ - Ներքին Խնձորեսկ ավտոճանապարհի կմ0+000 - կմ10+100 հատվածի հիմնանորոգում | F41: 550 | G41: =Հ2!D38 -> 550
D42: =Հ2!C39 -> Տ-8-10,/Տ-8-48/ - Շամբ - Շամբի ջրամբարի պատվար /մարգարիտա/ ավտոճանապարհի հիմնանորոգում | F42: 210 | G42: =Հ2!D39 -> 210
D43: =Հ2!C40 -> Տ-8-50, /Տ-8-48/ - Որոտան ավտոճանապարհի կմ0+000 - կմ1+700 հատվածի հիմնանորոգում | F43: 180 | G43: =Հ2!D40 -> 180
B44: 1049 | C44: =Հ2!B41 -> 21020 | D44: =Հ2!C41 -> Միջպետական և հանրապետական նշանակության ավտոճանապարհների միջին նորոգում | E44: =+E46+E47 -> 0 | F44: =+F46+F47 -> 0 | G44: =+G46+G47 -> 0
D45: այդ թվում` ըստ կատարողների
D46: ՀՀ կառավարություն | E46: =-E47 -> -59603.7 | F46: =-F47 -> -59603.7 | G46: =Հ2!D41 -> -59603.7
D47: ՀՀ տարածքային կառավարման և ենթակառուցվածքների նախարարություն | E47: =E49 -> 59603.7 | F47: =F49 -> 59603.7 | G47: =G49 -> 59603.7
D48: այդ թվում՝ ըստ ուղղությունների
C49: 1 | D49: Միջպետական նշանակության ավտոճանապարհներ, այդ թվում | E49: =E50 -> 59603.7 | F49: =F50 -> 59603.7 | G49: =G50 -> 59603.7
D50: =Հ2!C45 -> Մ4/ Երևան-Սևան-Իջևան–ՀՀ սահման միջպետական նշանակության ավտոճանապարհի կմ12+747-կմ26+000 հատվածի (աջ գոտի) միջին նորոգում | E50: 59603.7 | F50: 59603.7 | G50: =Հ2!D45 -> 59603.7

Sheet Հ5
F1: Հավելված N 5
F2: ՀՀ կառավարության 2024 թվականի
F3: ______________ ի ___Ն որոշման
B5: ՀԱՅԱՍՏԱՆԻ ՀԱՆՐԱՊԵՏՈՒԹՅԱՆ ԿԱՌԱՎԱՐՈՒԹՅԱՆ 2023 ԹՎԱԿԱՆԻ ԴԵԿՏԵՄԲԵՐԻ 28-Ի N 2323-Ն ՈՐՈՇՄԱՆ N 9 ՀԱՎԵԼՎԱԾԻ NN 9.7 ԱՂՅՈՒՍԱԿՈՒՄ ԿԱՏԱՐՎՈՂ ՓՈՓՈԽՈՒԹՅՈՒՆՆԵՐԸ ԵՎ ԼՐԱՑՈՒՄՆԵՐԸ
F7: Աղյուսակ 9.7
B8: ՀՀ տարածքային կառավարման և ենթակառուցվածքների նախարարություն
B9: ՄԱՍ 1. ՊԵՏԱԿԱՆ ՄԱՐՄՆԻ ԳԾՈՎ ԱՐԴՅՈՒՆՔԱՅԻՆ (ԿԱՏԱՐՈՂԱԿԱՆ) ՑՈՒՑԱՆԻՇՆԵՐԸ
B11: Ծրագրի դասիչը | C11: Ծրագրի անվանումը
B12: 1049 | C12: Ճանապարհային ցանցի բարելավում
B14: Ծրագրի միջոցառումները
B15: Ծրագրի դասիչը` | C15: 1049 | D15: Ցուցանիշների փոփոխությունը (ավելացումները նշված են դրական նշանով, իսկ նվազեցումները` փակագծերում)
B16: Միջոցառման դասիչը` | C16: 21001 | D16: Առաջին կիսամյակ | E16: Ինն ամիս | F16: Տարի
B17: Միջոցառման անվանումը` | C17: Պետական նշանակության ավտոճանապարհների հիմնանորոգում
B18: Նկարագրությունը` | C18: Միջպետական, հանրապետական և մարզային նշանակության ավտոճոնապարհների քայքայված ծածկի վերանորոգում, մաշված ծածկի փոխարինում
B19: Միջոցառման տեսակը` | C19: Հանրության կողմից անմիջականորեն օգտագործվող ակտիվների հետ կապված միջոցառումներ
B20: Միջոցառումն իրականացնողի անվանումը | C20: Մասնագիտացված միավոր
B21: Արդյունքի չափորոշիչներ
B22: Միջպետական նշանակության ավտոճանապարհներ | D22: 0 | E22: 0 | F22: -19.4
B23: Հանրապետական նշանակության ավտոճանապարհներ | D23: 0 | E23: 0 | F23: -1.3
B24: Մարզային նշանակության ավտոճանապարհներ | D24: 0 | E24: 0 | F24: -0.4
B25: Միջոցառման վրա կատարվող ծախսը (հազար դրամ) | D25: =Հ3!G23 -> 1555566.8 | E25: 0 | F25: 0

Sheet Հ6
F1: Հավելված N 6
F2: ՀՀ կառավարության 2024 թվականի
F3: ______________ ի ___Ն որոշման
B5: ՀԱՅԱՍՏԱՆԻ ՀԱՆՐԱՊԵՏՈՒԹՅԱՆ ԿԱՌԱՎԱՐՈՒԹՅԱՆ 2023 ԹՎԱԿԱՆԻ ԴԵԿՏԵՄԲԵՐԻ 28-Ի N 2323-Ն ՈՐՈՇՄԱՆ N 9.1 ՀԱՎԵԼՎԱԾԻ NN 9.1.7 ԵՎ 9.1.58 ԱՂՅՈՒՍԱԿՆԵՐՈՒՄ ԿԱՏԱՐՎՈՂ ՓՈՓՈԽՈՒԹՅՈՒՆՆԵՐԸ ԵՎ ԼՐԱՑՈՒՄՆԵՐԸ
F7: Աղյուսակ 9.1.7
B8: ՀՀ տարածքային կառավարման և ենթակառուցվածքների նախարարություն
B9: ՄԱՍ 1. ՊԵՏԱԿԱՆ ՄԱՐՄՆԻ ԳԾՈՎ ԱՐԴՅՈՒՆՔԱՅԻՆ (ԿԱՏԱՐՈՂԱԿԱՆ) ՑՈՒՑԱՆԻՇՆԵՐԸ
B11: Ծրագրի դասիչը | C11: Ծրագրի անվանումը
B12: 1049 | C12: Ճանապարհային ցանցի բարելավում
B14: Ծրագրի միջոցառումները
B15: Ծրագրի դասիչը` | C15: 1049 | D15: Ցուցանիշների փոփոխությունը (ավելացումները նշված են դրական նշանով)
B16: Միջոցառման դասիչը` | C16: 21001 | D16: Առաջին կիսամյակ | E16: Ինն ամիս | F16: Տարի
B17: Միջոցառման անվանումը` | C17: Պետական նշանակության ավտոճանապարհների հիմնանորոգում
B18: Նկարագրությունը` | C18: Միջպետական, հանրապետական և մարզային նշանակության ավտոճոնապարհների քայքայված ծածկի վերանորոգում, մաշված ծածկի փոխարինում
B19: Միջոցառման տեսակը` | C19: Հանրության կողմից անմիջականորեն օգտագործվող ակտիվների հետ կապված միջոցառումներ
B20: Միջոցառումն իրականացնողի անվանումը | C20: Մասնագիտացված միավոր
B21: Արդյունքի չափորոշիչներ
B22: Միջպետական նշանակության ավտոճանապարհներ | D22: 0 | E22: 0 | F22: 0.17
B23: Հանրապետական նշանակության ավտոճանապարհներ | D23: 0 | E23: 0 | F23: 5.24
B24: Մարզային նշանակության ավտոճանապարհներ | D24: 0 | E24: 0 | F24: 7.35
B25: Միջոցառման վրա կատարվող ծախսը (հազար դրամ) | D25: =Հ3!G32 -> 1555566.8 | E25: =Հ3!H32 -> 2472794.1 | F25: =Հ3!I32 -> 1637962.5
B27: Ծրագրի դասիչը` | C27: 1049 | D27: Ցուցանիշների փոփոխությունը (ավելացումները նշված են դրական նշանով)
B28: Միջոցառման դասիչը` | C28: 21020 | D28: Առաջին կիսամյակ | E28: Ինն ամիս | F28: Տարի
B29: Միջոցառման անվանումը` | C29: Միջպետական և հանրապետական նշանակության ավտոճանապարհների միջին նորոգում
B30: Նկարագրությունը` | C30: Միջպետական և հանրապետական նշանակության ավտոճանապարհների պատվածքի մաշված վերին շերտի վերականգնում և շինարարական նորմերով նախատեսված սկզբնական որակական ցուցանիշների ապահովում
B31: Միջոցառման տեսակը` | C31: Հանրության կողմից անմիջականորեն օգտագործվող ակտիվների հետ կապված միջոցառումներ
B32: Միջոցառումն իրականացնողի անվանումը | C32: ՀՀ տարածքային կառավարման և ենթակառուցվածքների նախարարություն, մրցութային կարգով ընտրված կազմակերպություններ
B33: Արդյունքի չափորոշիչներ
B34: Միջին նորոգման ենթակա ճանապարհների երկարությունը, կիլոմետր | F34: 0.6
B35: Միջոցառման վրա կատարվող ծախսը (հազար դրամ) | D35: =Հ3!G50 -> 59603.7 | E35: =Հ3!H50 -> 59603.7 | F35: =Հ3!I50 -> 59603.7
F38: Աղյուսակ 9.1.58
C39: ՀՀ կառավարություն
B40: ՄԱՍ 1. ՊԵՏԱԿԱՆ ՄԱՐՄՆԻ ԳԾՈՎ ԱՐԴՅՈՒՆՔԱՅԻՆ (ԿԱՏԱՐՈՂԱԿԱՆ) ՑՈՒՑԱՆԻՇՆԵՐԸ
B42: Ծրագրի դասիչը | C42: Ծրագրի անվանումը
B43: 1049 | C43: Ճանապարհային ցանցի բարելավում
B45: Ծրագրի միջոցառումները
B46: Ծրագրի դասիչը` | C46: 1049 | D46: Ցուցանիշների փոփոխությունը (նվազեցումները նշված են փակագծերում)
B47: Միջոցառման դասիչը` | C47: 21001 | D47: Առաջին կիսամյակ | E47: Ինն ամիս | F47: Տարի
B48: Միջոցառման անվանումը` | C48: Պետական նշանակության ավտոճանապարհների հիմնանորոգում
B49: Նկարագրությունը` | C49: Միջպետական, հանրապետական և մարզային նշանակության ավտոճոնապարհների քայքայված ծածկի վերանորոգում, մաշված ծածկի փոխարինում
B50: Միջոցառման տեսակը` | C50: Հանրության կողմից անմիջականորեն օգտագործվող ակտիվների հետ կապված միջոցառումներ
B51: Միջոցառումն իրականացնողի անվանումը | C51: Մասնագիտացված միավոր
C52: Արդյունքի չափորոշիչներ
B53: =+B22 -> Միջպետական նշանակության ավտոճանապարհներ | D53: 0 | E53: 0 | F53: -0.17
B54: =+B23 -> Հանրապետական նշանակության ավտոճանապարհներ | D54: 0 | E54: 0 | F54: -5.24
B55: =+B24 -> Մարզային նշանակության ավտոճանապարհներ | D55: 0 | E55: 0 | F55: -7.35
B56: Միջոցառման վրա կատարվող ծախսը (հազար դրամ) | D56: =Հ3!G25 -> 0 | E56: =Հ3!H25 -> -2472794.1 | F56: =Հ3!I25 -> -1637962.5
B58: Ծրագրի դասիչը` | C58: 1049 | D58: Ցուցանիշների փոփոխությունը (նվազեցումները նշված են փակագծերում)
B59: Միջոցառման դասիչը` | C59: 21020 | D59: Առաջին կիսամյակ | E59: Ինն ամիս | F59: Տարի
B60: Միջոցառման անվանումը` | C60: Միջպետական և հանրապետական նշանակության ավտոճանապարհների միջին նորոգում
B61: Նկարագրությունը` | C61: Միջպետական և հանրապետական նշանակության ավտոճանապարհների պատվածքի մաշված վերին շերտի վերականգնում և շինարարական նորմերով նախատեսված սկզբնական որակական ցուցանիշների ապահովում
B62: Միջոցառման տեսակը` | C62: Հանրության կողմից անմիջականորեն օգտագործվող ակտիվների հետ կապված միջոցառումներ
B63: Միջոցառումն իրականացնողի անվանումը | C63: ՀՀ տարածքային կառավարման և ենթակառուցվածքների նախարարություն, մրցութային կարգով ընտրված կազմակերպություններ
B64: Արդյունքի չափորոշիչներ
B65: Միջին նորոգման ենթակա ճանապարհների երկարությունը, կիլոմետր | D65: 0 | E65: 0 | F65: -0.6
B66: Միջոցառման վրա կատարվող ծախսը (հազար դրամ) | D66: =+Հ3!G49 -> -59603.7 | E66: =+Հ3!H49 -> -59603.7 | F66: =+Հ3!I49 -> -59603.7

Sheet Հ7
H1: Հավելված N 7
H2: ՀՀ կառավարության 2024 թվականի
H3: ______________ ի ___Ն որոշման
B5: ՀԱՅԱՍՏԱՆԻ ՀԱՆՐԱՊԵՏՈՒԹՅԱՆ ԿԱՌԱՎԱՐՈՒԹՅԱՆ 2023 ԹՎԱԿԱՆԻ ԴԵԿՏԵՄԲԵՐԻ 28-Ի N 2323-Ն ՈՐՈՇՄԱՆ N 10 ՀԱՎԵԼՎԱԾՈՒՄ ԿԱՏԱՐՎՈՂ ԼՐԱՑՈՒՄՆԵՐԸ
B6: Կոդը | C6: Անվանումը | D6: Գնման ձևը | E6: Չափման միավորը | F6: Միավորի գինը | G6: Ցուցանիշների փոփոխությունը (ավելացումները նշված են դրական նշանով, իսկ նվազեցումները՝ փակագծերում)
G7: Քանակը | H7: Գումարը (հազար դրամով)
B8: ՀՀ տարածքային կառավարման և ենթակառուցվածքների նախարարություն | H8: =+H9 -> 1464051.3
B9: Բաժին N 04 | C9: Խումբ N 05 | D9: Դաս N 01 | E9: Ճանապարհային տրանսպորտ | H9: =+H10+H46 -> 1464051.3
B10: 1049 21001 | C10: Պետական նշանակության ավտոճանապարհների հիմնանորոգում | H10: =+H11+H23 -> 1441947.6
B11: ՄԱՍ II. ԱՇԽԱՏԱՆՔՆԵՐ | H11: =SUM(H12:H22) -> 1432555.5
B12: 45231177 | C12: ճանապարհների վերանորոգման աշխատանքներ | D12: ԲՄ | E12: դրամ | F12: 96954764 | G12: 1 | H12: =+G12*F12/1000 -> 96954.764
B13: 45231177 | C13: ճանապարհների վերանորոգման աշխատանքներ | D13: ՀԲՄ | E13: դրամ | F13: 635465540 | G13: 1 | H13: =+G13*F13/1000 -> 635465.54
B14: 45231177 | C14: ճանապարհների վերանորոգման աշխատանքներ | D14: ԲՄ | E14: դրամ | F14: 437686323 | G14: 1 | H14: =+G14*F14/1000 -> 437686.32
B15: 45231177 | C15: ճանապարհների վերանորոգման աշխատանքներ | D15: ՀԲՄ | E15: դրամ | F15: 23746931 | G15: 1 | H15: =+G15*F15/1000 -> 23746.931
B16: 45231177/35 | C16: ճանապարհների վերանորոգման աշխատանքներ | D16: ՀԲՄ | E16: դրամ | G16: - | H16: =-541016060/1000 -> -541016.06
B17: 45231177 | C17: ճանապարհների վերանորոգման աշխատանքներ | D17: ՀԲՄ | E17: դրամ | F17: 1824170 | G17: 1 | H17: =+G17*F17/1000 -> 1824.17
B18: 45231177/16 | C18: ճանապարհների վերանորոգման աշխատանքներ | D18: ԲՄ | E18: դրամ | G18: - | H18: =-3004841070/1000 -> -3004841.1
B19: 45231177/537 | C19: ճանապարհների վերանորոգման աշխատանքներ | D19: ՀԲՄ | E19: դրամ | F19: 1471514095 | G19: 1 | H19: =+G19*F19/1000 -> 1471514.1
B20: 45231177 | C20: ճանապարհների վերանորոգման աշխատանքներ | D20: ՀԲՄ | E20: դրամ | F20: 556940952 | G20: 1 | H20: =+G20*F20/1000 -> 556940.95
B21: 45231177 | C21: ճանապարհների վերանորոգման աշխատանքներ | D21: ՀԲՄ | E21: դրամ | F21: 1500000000 | G21: 1 | H21: =+G21*F21/1000 -> 1500000
B22: 45231177 | C22: ճանապարհների վերանորոգման աշխատանքներ | D22: ՀԲՄ | E22: դրամ | F22: 254279899 | G22: 1 | H22: =+G22*F22/1000 -> 254279.9
B23: ՄԱՍ III. ԾԱՌԱՅՈՒԹՅՈՒՆՆԵՐ | H23: =SUM(H24:H45) -> 9392.088
B24: 71351540/ | C24: տեխնիկական հսկողության ծառայություններ | D24: ՀԲՄ | E24: դրամ | F24: 2219120 | G24: 1 | H24: =+G24*F24/1000 -> 2219.12
B25: 71351540/ | C25: տեխնիկական հսկողության ծառայություններ | D25: ՀԲՄ | E25: դրամ | F25: 2496176 | G25: 1 | H25: =+G25*F25/1000 -> 2496.176
B26: 71351540/ | C26: տեխնիկական հսկողության ծառայություններ | D26: ԲՄ | E26: դրամ | F26: 4981850 | G26: 1 | H26: =+G26*F26/1000 -> 4981.85
B27: 71351540/ | C27: տեխնիկական հսկողության ծառայություններ | D27: ՀԲՄ | E27: դրամ | F27: 468943 | G27: 1 | H27: =+G27*F27/1000 -> 468.943
B28: 71351540/16 | C28: տեխնիկական հսկողության ծառայություններ | D28: ԲՄ | E28: դրամ | G28: - | H28: =-29196219/1000 -> -29196.219
B29: 71351540/ | C29: տեխնիկական հսկողության ծառայություններ | D29: ԳՀ | E29: դրամ | F29: 5551434 | G29: 1 | H29: =+G29*F29/1000 -> 5551.434
B30: 71351540/ | C30: տեխնիկական հսկողության ծառայություններ | D30: ՀԲՄ | E30: դրամ | F30: 4989589 | G30: 1 | H30: =+G30*F30/1000 -> 4989.589
B31: 71351540/ | C31: տեխնիկական հսկողության ծառայություններ | D31: ՀԲՄ | E31: դրամ | F31: 5335978 | G31: 1 | H31: =+G31*F31/1000 -> 5335.978
B32: 71351540/ | C32: տեխնիկական հսկողության ծառայություններ | D32: ԳՀ | E32: դրամ | F32: 2637336 | G32: 1 | H32: =+G32*F32/1000 -> 2637.336
B33: 98111140/ | C33: հեղինակային հսկողության ծառայություններ | D33: ՄԱ | E33: դրամ | F33: 1865500 | G33: 1 | H33: =+G33*F33/1000 -> 1865.5
B34: 98111140/ | C34: հեղինակային հսկողության ծառայություններ | D34: ՄԱ | E34: դրամ | F34: 4616570 | G34: 1 | H34: =+G34*F34/1000 -> 4616.57
B35: 98111140/ | C35: հեղինակային հսկողության ծառայություններ | D35: ՄԱ | E35: դրամ | F35: 2950775 | G35: 1 | H35: =+G35*F35/1000 -> 2950.775
B36: 98111140/ | C36: հեղինակային հսկողության ծառայություններ | D36: ՄԱ | E36: դրամ | F36: 181320 | G36: 1 | H36: =+G36*F36/1000 -> 181.32
B37: 98111140/16 | C37: հեղինակային հսկողության ծառայություններ | D37: ՄԱ | E37: դրամ | G37: - | H37: =-17517731/1000 -> -17517.731
B38: 98111140/ | C38: հեղինակային հսկողության ծառայություններ | D38: ՄԱ | E38: դրամ | F38: 7757745 | G38: 1 | H38: =+G38*F38/1000 -> 7757.745
B39: 98111140/ | C39: հեղինակային հսկողության ծառայություններ | D39: ՄԱ | E39: դրամ | F39: 679204 | G39: 1 | H39: =+G39*F39/1000 -> 679.204
B40: 98111140/ | C40: հեղինակային հսկողության ծառայություններ | D40: ՄԱ | E40: դրամ | F40: 6740530 | G40: 1 | H40: =+G40*F40/1000 -> 6740.53
B41: 98111140/ | C41: հեղինակային հսկողության ծառայություններ | D41: ՄԱ | E41: դրամ | F41: 1594968 | G41: 1 | H41: =+G41*F41/1000 -> 1594.968
B42: 50531140/ | C42: փորձաքննության ծառայություններ | D42: ԳՀ | E42: դրամ | F42: 99000 | G42: 1 | H42: =+G42*F42/1000 -> 99
B43: 50531140/513 | C43: փորձաքննության ծառայություններ | D43: ԳՀ | E43: դրամ | F43: 550000 | G43: 1 | H43: =+G43*F43/1000 -> 550
B44: 50531140/514 | C44: փորձաքննության ծառայություններ | D44: ԳՀ | E44: դրամ | F44: 210000 | G44: 1 | H44: =+G44*F44/1000 -> 210
B45: 50531140/515 | C45: փորձաքննության ծառայություններ | D45: ԳՀ | E45: դրամ | F45: 180000 | G45: 1 | H45: =+G45*F45/1000 -> 180
B46: 1049 21020 | C46: Միջպետական և հանրապետական նշանակության ավտոճանապարհների միջին նորոգում | H46: =SUM(H47:H47) -> 22103.625
B47: ՄԱՍ II ԱՇԽԱՏԱՆՔՆԵՐ | H47: =SUM(H48:H48) -> 22103.625
B48: 45231177/ | C48: ճանապարհների վերանորոգման աշխատանքներ | D48: ՀԲՄ | E48: դրամ | F48: 22103625 | G48: 1 | H48: =+G48*F48/1000 -> 22103.625
