Workbook
Name AgencyCode: #REF!
Name AgencyCode: #REF!
Name AgencyName: #REF!
Name AgencyName: #REF!
Name åû: #REF!
Name davit: #REF!
Name Functional1: #REF!
Name Functional1: #REF!
Name ggg: #REF!
Name mas: #REF!
Name mass: #REF!
Name PANature: #REF!
Name PANature: #REF!
Name PAType: #REF!
Name PAType: #REF!
Name Performance2: #REF!
Name Performance2: #REF!
Name PerformanceType: #REF!
Name PerformanceType: #REF!
Name x: #REF!
Name Հավելված: #REF!
Name Մաս: #REF!
Name շախմատիստ: #REF!

Sheet h1
A1: Հավելված N 1
A2: ՀՀ կառավարության 2024 թվականի
A3: ______________ ի ___Ն որոշման
A5: «ՀԱՅԱUՏԱՆԻ ՀԱՆՐԱՊԵՏՈՒԹՅԱՆ 2024 ԹՎԱԿԱՆԻ ՊԵՏԱԿԱՆ ԲՅՈՒՋԵԻ ՄԱUԻՆ» OՐԵՆՔԻ N 1 ՀԱՎԵԼՎԱԾԻ N 2 ԱՂՅՈՒՍԱԿՈՒՄ ԿԱՏԱՐՎՈՂ ՎԵՐԱԲԱՇԽՈՒՄԸ ԵՎ ՀԱՅԱՍՏԱՆԻ ՀԱՆՐԱՊԵՏՈՒԹՅԱՆ ԿԱՌԱՎԱՐՈՒԹՅԱՆ 2023 ԹՎԱԿԱՆԻ ԴԵԿՏԵՄԲԵՐԻ 28-Ի ԹԻՎ 2323-Ն ՈՐՈՇՄԱՆ N 5 ՀԱՎԵԼՎԱԾԻ N 1 ԱՂՅՈՒՍԱԿՈՒՄ ԿԱՏԱՐՎՈՂ ՓՈՓՈԽՈՒԹՅՈՒՆՆԵՐԸ ԵՎ ԼՐԱՑՈՒՄՆԵՐԸ
F7: հազար դրամով
A8: Ծրագրային դասիչը | C8: Բյուջետային հատկացումների գլխավոր կարգադրիչների, ծրագրերի և միջոցառումների անվանումները | D8: Ցուցանիշների փոփոխությունը (ավելացումները նշված են դրական նշանով, իսկ նվազեցումները` փակագծերում)
A9: Ծրագիր | B9: Միջոցառում | D9: Առաջին կիսամյակ | E9: Ինն ամիս | F9: Տարի
A10: 1192 | C10: ԸՆԴԱՄԵՆԸ | D10: =D12+D32 -> 0 | E10: =E12+E32 -> 0 | F10: =F12+F32 -> 0
C11: այդ թվում
C12: ՀՀ տարածքային կառավարման և ենթակառուցվածքների նախարարություն | D12: =D13 -> 0 | E12: =E13 -> 0 | F12: =F13 -> 0
A13: 1049 | C13: Ծրագրի անվանումը` | D13: =D20+D26 -> 0 | E13: =E20+E26 -> 0 | F13: =F20+F26 -> 0
C14: Ճանապարհային ցանցի բարելավում
C15: Ծրագրի նպատակը`
C16: Ճանապարհային ցանցի բարելավում և անվտանգ երթևեկության ապահովում
C17: Վերջնական արդյունքի նկարագրությունը`
C18: Ճանապարհների ծածկի որակի և փոխադրումների արդյունավետության բարելավում, ճանապարհների վիճակով պայմանավորված պատահարների նվազում
C19: Ծրագրի միջոցառումներ
B20: 11001 | C20: Միջոցառման անվանումը` | D20: ='h3'!G23 -> -17374 | E20: ='h3'!H23 -> -17374 | F20: ='h3'!I23 -> -17374
C21: Միջպետական և հանրապետական նշանակության ավտոճանապարհների պահպանման և անվտանգ երթևեկության ծառայություններ
C22: Միջոցառման նկարագրությունը`
C23: Հողային պաստառի, երթևեկելի մասի, արհեստական կառույցների և կահավորման տարրերի նորմատիվ մակարդակում պահպանում և շահագործում
C24: Միջոցառման տեսակը
C25: Ծառայությունների մատուցում
B26: 21022 | C26: Միջոցառման անվանումը` | D26: ='h3'!G32 -> 17374 | E26: ='h3'!H32 -> 17374 | F26: ='h3'!I32 -> 17374
C27: Այլ նշանակության ճանապարհների հիմնանորոգում
C28: Միջոցառման նկարագրությունը`
C29: Այլ նշանակության ճանապարհների հիմնանորոգմանաշխատանքներ
C30: Միջոցառման տեսակը
C31: Հանրության կողմից անմիջականորեն օգտագործվող ակտիվների հետ կապված միջոցառումներ
C32: ՀՀ կառավարություն | D32: =D33 -> 0 | E32: =E33 -> 0 | F32: =F33 -> 0
A33: 1139 | C33: Ծրագրի անվանումը` | D33: =D39+D45 -> 0 | E33: =E39+E45 -> 0 | F33: =F39+F45 -> 0
C34: ՀՀ կառավարության պահուստային ֆոնդ
C35: Ծրագրի նպատակը`
C36: Պետական բյուջեում չկանխատեսված, ինչպես նաև բյուջետային երաշխիքների ապահովման ծախսերի ֆինանսավորման ապահովում
C37: Վերջնական արդյունքի նկարագրությունը`
C38: Պահուստային ֆոնդի կառավարման արդյունավետության և թափանցիկության ապահովում
B39: 11001 | C39: Միջոցառման անվանումը` | D39: =-D45 -> 17374 | E39: =-E45 -> 17374 | F39: =-F45 -> 17374
C40: ՀՀ կառավարության պահուստային ֆոնդ
C41: Միջոցառման նկարագրությունը`
C42: ՀՀ պետական բյուջեում նախատեսված ելքերի լրացուցիչ ֆինանսավորման՝ պետական բյուջեում չկանխատեսված ելքերի, ինչպես նաև բյուջետային երաշխիքների ապահովման ելքերի ֆինանսավորման ապահովում
...

Sheet h2
H1: Հավելված N2
G2: ՀՀ կառավարության 2024 թվականի
G3: ------------ N ---------- որոշման
A4: «ՀԱՅԱՍՏԱՆԻ ՀԱՆՐԱՊԵՏՈՒԹՅԱՆ 2024 ԹՎԱԿԱՆԻ ՊԵՏԱԿԱՆ ԲՅՈՒՋԵԻ ՄԱՍԻՆ» ՕՐԵՆՔԻ N 1 ՀԱՎԵԼՎԱԾԻ N 3 ԱՂՅՈՒՍԱԿՈՒՄ ԿԱՏԱՐՎՈՂ ԼՐԱՑՈՒՄԸ
G5: հազ.դրամ
A6: Ծրագրային դասիչ | C6: Բյուջետային գլխավոր կարգադրիչների ծրագրերի միջոցառումների և ուղղությունների անվանումները | D6: Ընդամենը հազ. դրամ | E6: Ցուցանիշների փոփոխությունը (ավելացումները նշված են դրական նշանով)
E7: այդ թվում
A8: Ծրագիր | B8: Միջոցառում | E8: Կառուցման աշխատանքներ | F8: Վերակառուցման, վերանորոգման և վերականգնման աշխատանքներ | G8: Նախագծահե- տազոտական, գեոդեզիա- քարտեզագրա- կան աշխա- տանքներ | H8: Ոչ ֆինանսական այլ ակտիվների ձեռքբերում
C9: ԸՆԴԱՄԵՆԸ | D9: =E9+F9+G9+H9 -> 17374 | E9: =E11 -> 0 | F9: =F11 -> 0 | G9: =G11 -> 17374 | H9: =H11 -> 0
C10: այդ թվում՝
C11: ՀՀ տարածքային կառավարման և ենթակառուցվածքների նախարարություն | D11: =D13 -> 17374 | E11: =E13 -> 0 | F11: =F13 -> 0 | G11: =G13 -> 17374 | H11: =H13 -> 0
C12: այդ թվում`
A13: 1049 | B13: 21022 | C13: ='h1'!C27 -> Այլ նշանակության ճանապարհների հիմնանորոգում | D13: =E13+F13+G13+H13 -> 17374 | E13: =E16+E18+E20+E22 -> 0 | F13: =F16+F18+F20+F22 -> 0 | G13: =G15+G16+G18+G20+G22 -> 17374 | H13: =H16+H18+H20+H22 -> 0
C14: ՀՀ Գեղարքունիքի մարզ | D14: =E14+F14+G14+H14 -> 3168 | E14: =E15 -> 0 | F14: =F15 -> 0 | G14: =G15 -> 3168 | H14: =H15 -> 0
C15: ='h4'!C19 -> ՀՀ Գեղարքունիքի մարզի Վարդենիս համայնքի Ախպրաձոր բնակավայրի ալպյան մարգագետիններ տանող գրունտային ճանապարհների կառուցման համար նախագծանախահաշվային փաստաթղթերի ձեռքբերում | D15: =E15+F15+G15+H15 -> 3168 | E15: 0 | F15: 0 | G15: ='h8'!I38 -> 3168 | H15: 0
C16: ՀՀ Լոռու մարզ | D16: =D17 -> 2930 | E16: =E17 -> 0 | F16: =F17 -> 0 | G16: =G17 -> 2930 | H16: =H17 -> 0
C17: ՀՀ Լոռու մարզի Ստեփանավան համայնքի Ուրասար բնակավայրից դեպի <<Ջրաշուշաններրի լիճ>> և <<Ալպյան>> մարգագետիներ տանող գրունտային ճանապարհի կառուցման համար, նախագծանախահաշվային փաստաթղթերի ձեռքբերում | D17: =E17+F17+G17+H17 -> 2930 | E17: 0 | F17: 0 | G17: ='h8'!I14 -> 2930 | H17: 0
C18: ՀՀ Կոտայքի մարզ | D18: =D19 -> 2090 | E18: =E19 -> 0 | F18: =F19 -> 0 | G18: =G19 -> 2090 | H18: =H19 -> 0
C19: ՀՀ Կոտայքի մարզ, Սոլակ, Գեղաշեն, Զովաշեն, Գառնի գյուղերից դեպի <<Ալպյան>> մարգագետիներ տանող գրունտային ճանապարհի կառուցման աշխատանքների կառուցման համար, նախագծանախահաշվային փաստաթղթերի ձեռքբերում | D19: =E19+F19+G19+H19 -> 2090 | E19: 0 | F19: 0 | G19: ='h8'!I20 -> 2090 | H19: 0
C20: ՀՀ Վայոց ձորի մարզ | D20: =E20+F20+G20+H20 -> 3300 | E20: 0 | F20: 0 | G20: ='h8'!I26 -> 3300 | H20: 0
C21: ՀՀ Վայոց ձորի մարզի Ջերմուկ համայնքից դեպի Կարմրաշեն տանող գրունտային ճանապարհի կառուցման համար նախագծանախահաշվային փաստաթղթերի ձեռքբերում | D21: =G20 -> 3300 | E21: =H20 -> 0 | F21: =I20 -> 0 | G21: =G20 -> 3300 | H21: =K20 -> 0
C22: ՀՀ Տավուշի մարզ | D22: =E22+F22+G22+H22 -> 5886 | E22: 0 | F22: 0 | G22: ='h8'!I32 -> 5886 | H22: 0
C23: Սևքար և Աչաջուր համայնքներից - Ֆիդայինների հովիտ /Սուլթանի ուրթ/-Աղբղա - Հ-26 հանրապետական նշանակության ավտոճանապարհի հատում տանող գրունտային ճանապարհի կառուցման համար, նախագծանախահաշվային փաստաթղթերի ձեռքբերում | D23: =E23+F23+G23+H23 -> 5886 | E23: =E22 -> 0 | F23: =F22 -> 0 | G23: =G22 -> 5886 | H23: =H22 -> 0
C25: ՀԱՅԱՍՏԱՆԻ ՀԱՆՐԱՊԵՏՈՒԹՅԱՆ
C26: ՎԱՐՉԱՊԵՏԻ ԱՇԽԱՏԱԿԱԶՄԻ ՂԵԿԱՎԱՐ՝ | D26: Ա. ՀԱՐՈՒԹՅՈՒՆՅԱՆ

Sheet h3
A1: Հավելված N 3
A2: ՀՀ կառավարության 2024 թվականի
A3: ______________ ի ___Ն որոշման
A5: ՀԱՅԱՍՏԱՆԻ ՀԱՆՐԱՊԵՏՈՒԹՅԱՆ ԿԱՌԱՎԱՐՈՒԹՅԱՆ 2023 ԹՎԱԿԱՆԻ ԴԵԿՏԵՄԲԵՐԻ 28-Ի ԹԻՎ 2323-Ն ՈՐՈՇՄԱՆ N 3 ԵՎ N 4 ՀԱՎԵԼՎԱԾՆԵՐՈՒՄ ԿԱՏԱՐՎՈՂ ՓՈՓՈԽՈՒԹՅՈՒՆՆԵՐԸ ԵՎ ԼՐԱՑՈՒՄՆԵՐԸ
I7: հազար դրամով
A8: Գործառական դասիչը | D8: Ծրագրային դասիչը | F8: Բյուջետային հատկացումների գլխավոր կարգադրիչների, ծրագրերի, միջոցառումների և միջոցառումները կատարող պետական մարմինների անվանումները | G8: Ցուցանիշների փոփոխությունը (ավելացումները նշված են դրական նշանով, իսկ նվազեցումները` փակագծերում)
A9: Բաժին | B9: Խումբ | C9: Դաս | D9: Ծրագիր | E9: Միջոցառում | G9: Առաջին կիսամյակ | H9: Ինն ամիս | I9: Տարի
F10: ԸՆԴԱՄԵՆԸ | G10: =G12+G69 -> 0 | H10: =H12+H69 -> 0 | I10: =I12+I69 -> 0
F11: այդ թվում
F12: ՀՀ տարածքային կառավարման և ենթակառուցվածքների նախարարություն | G12: =G13 -> 0 | H12: =H13 -> 0 | I12: =I13 -> 0
A13: 04 | F13: ՏՆՏԵՍԱԿԱՆ ՀԱՐԱԲԵՐՈՒԹՅՈՒՆՆԵՐ | G13: =G15 -> 0 | H13: =H15 -> 0 | I13: =I15 -> 0
F14: այդ թվում`
B15: 05 | F15: Տրանսպորտ | G15: =G17 -> 0 | H15: =H17 -> 0 | I15: =I17 -> 0
F16: այդ թվում`
C17: 01 | F17: Ճանապարհային տրանսպորտ | G17: =G19 -> 0 | H17: =H19 -> 0 | I17: =I19 -> 0
F18: այդ թվում`
F19: ՀՀ տարածքային կառավարման և ենթակառուցվածքների նախարարություն | G19: =G21 -> 0 | H19: =H21 -> 0 | I19: =I21 -> 0
F20: այդ թվում`
D21: 1049 | F21: Ճանապարհային ցանցի բարելավում | G21: =G23+G32 -> 0 | H21: =H23+H32 -> 0 | I21: =I23+I32 -> 0
F22: այդ թվում`
E23: 11001 | F23: Միջպետական և հանրապետական նշանակության ավտոճանապարհների պահպանման և անվտանգ երթևեկության ծառայություններ | G23: =G25 -> -17374 | H23: =H25 -> -17374 | I23: =I25 -> -17374
F24: այդ թվում` ըստ կատարողների
F25: ՀՀ տարածքային կառավարման և ենթակառուցվածքների նախարարություն | G25: =G27 -> -17374 | H25: =H27 -> -17374 | I25: =I27 -> -17374
F26: այդ թվում` բյուջետային ծախսերի տնտեսագիտական դասակարգման հոդվածներ
F27: ԸՆԴԱՄԵՆԸ ԾԱԽՍԵՐ | G27: =G28 -> -17374 | H27: =H29 -> -17374 | I27: =I28 -> -17374
F28: ԸՆԹԱՑԻԿ ԾԱԽՍԵՐ | G28: =G29 -> -17374 | H28: =H29 -> -17374 | I28: =I31 -> -17374
F29: ԾԱՌԱՅՈՒԹՅՈՒՆՆԵՐԻ ԵՎ ԱՊՐԱՆՔՆԵՐԻ ՁԵՌՔԲԵՐՈՒՄ | G29: =G30 -> -17374 | H29: =H30 -> -17374 | I29: =I30 -> -17374
F30: Ընթացիկ նորոգում և պահպանում (ծառայություններ և նյութեր) | G30: =G31 -> -17374 | H30: =H31 -> -17374 | I30: =I31 -> -17374
F31: - Շենքերի և կառույցների ընթացիկ նորոգում և պահպանում | G31: =-G32 -> -17374 | H31: =-H32 -> -17374 | I31: =-I32 -> -17374
E32: 21022 | F32: Այլ նշանակության ճանապարհների հիմնանորոգում | G32: =G34+G41+G48+G55+G62 -> 17374 | H32: =H34+H41+H48+H55+H62 -> 17374 | I32: =I34+I41+I48+I55+I62 -> 17374
F33: այդ թվում` ըստ կատարողների
F34: ՀՀ Գեղարքունիքի մարզպետի աշխատակազմ | G34: =G36 -> 3168 | H34: =H36 -> 3168 | I34: =I36 -> 3168
F35: այդ թվում` բյուջետային ծախսերի տնտեսագիտական դասակարգման հոդվածներ
F36: ԸՆԴԱՄԵՆԸ ԾԱԽՍԵՐ | G36: =G37 -> 3168 | H36: =H37 -> 3168 | I36: =I37 -> 3168
F37: ՈՉ ՖԻՆԱՆՍԱԿԱՆ ԱԿՏԻՎՆԵՐԻ ԳԾՈՎ ԾԱԽՍԵՐ | G37: =G38 -> 3168 | H37: =H38 -> 3168 | I37: =I38 -> 3168
F38: ՀԻՄՆԱԿԱՆ ՄԻՋՈՑՆԵՐ | G38: =G39 -> 3168 | H38: =H39 -> 3168 | I38: =I39 -> 3168
F39: ԱՅԼ ՀԻՄՆԱԿԱՆ ՄԻՋՈՑՆԵՐ | G39: =G40 -> 3168 | H39: =H40 -> 3168 | I39: =I40 -> 3168
F40: - Նախագծահետազոտական ծախսեր | G40: ='h8'!I38 -> 3168 | H40: =G40 -> 3168 | I40: =H40 -> 3168
F41: ՀՀ Լոռու մարզպետի աշխատակազմ | G41: =G43 -> 2930 | H41: =H43 -> 2930 | I41: =I43 -> 2930
F42: այդ թվում` բյուջետային ծախսերի տնտեսագիտական դասակարգման հոդվածներ
...

Sheet h4
F1: Հավելված N4
C2: ՀՀ կառավարության 2024թվականի
C3: ______________ ի ___Ն որոշման
A5: ՀԱՅԱUՏԱՆԻ ՀԱՆՐԱՊԵՏՈՒԹՅԱՆ ԿԱՌԱՎԱՐՈՒԹՅԱՆ 2023 ԹՎԱԿԱՆԻ ԴԵԿՏԵՄԲԵՐԻ 28-Ի N 2323-Ն ՈՐՈՇՄԱՆ N 5 ՀԱՎԵԼՎԱԾԻ N 2 ԱՂՅՈՒՍԱԿՈՒՄ ԿԱՏԱՐՎՈՂ ԼՐԱՑՈՒՄԸ
F6: հազ. դրամ
A7: Ծրագրային դասիչը | C7: Բյուջետային գլխավոր կարգադրիչների, ծրագրերի, միջոցառումների և ուղղությունների անվանումները | D7: Ցուցանիշների փոփոխությունը (ավելացումները նշված են դրական նշանով)
A8: Ծրագիր | B8: Միջոց_x000D_առում | D8: Առաջին կիսամյակ | E8: Ինն ամիս | F8: Տարի
C9: ԸՆԴԱՄԵՆԸ | D9: =D11 -> 17374 | E9: =E11 -> 17374 | F9: =F11 -> 17374
C10: այդ թվում`
C11: ='h2'!C11 -> ՀՀ տարածքային կառավարման և ենթակառուցվածքների նախարարություն | D11: =D13 -> 17374 | E11: =E13 -> 17374 | F11: =F13 -> 17374
C12: այդ թվում`
A13: 1049 | C13: Ճանապարհային ցանցի բարելավում | D13: =D15 -> 17374 | E13: =E15 -> 17374 | F13: =F15 -> 17374
C14: Այդ թվում՝ ըստ կատարողների
B15: 21022 | C15: Այլ նշանակության ճանապարհների հիմնանորոգում | D15: =D17+D20+D23+D26+D29 -> 17374 | E15: =E17+E20+E23+E26+E29 -> 17374 | F15: =F17+F20+F23+F26+F29 -> 17374
C16: այդ թվում` ըստ կատարողների
C17: ՀՀ Գեղարքունիքի մարզպետի աշխատակազմ | D17: =D19 -> 3168 | E17: =E19 -> 3168 | F17: =F19 -> 3168
C18: այդ թվում` ըստ ուղղություններ
C19: ՀՀ Գեղարքունիքի մարզի Վարդենիս համայնքի Ախպրաձոր բնակավայրի ալպյան մարգագետիններ տանող գրունտային ճանապարհների կառուցման համար նախագծանախահաշվային փաստաթղթերի ձեռքբերում | D19: ='h8'!I38 -> 3168 | E19: =D19 -> 3168 | F19: =E19 -> 3168
C20: ՀՀ Լոռու մարզպետի աշխատակազմ | D20: ='h3'!G41 -> 2930 | E20: ='h3'!H41 -> 2930 | F20: ='h3'!I41 -> 2930
C21: այդ թվում` ըստ ուղղությունների
C22: ='h2'!C17 -> ՀՀ Լոռու մարզի Ստեփանավան համայնքի Ուրասար բնակավայրից դեպի <<Ջրաշուշաններրի լիճ>> և <<Ալպյան>> մարգագետիներ տանող գրունտային ճանապարհի կառուցման համար, նախագծանախահաշվային փաստաթղթերի ձեռքբերում | D22: =D20 -> 2930 | E22: =E20 -> 2930 | F22: =F20 -> 2930
C23: ՀՀ Կոտայքի մարզպետի աշխատակազմ | D23: ='h3'!G48 -> 2090 | E23: ='h3'!H48 -> 2090 | F23: ='h3'!I48 -> 2090
C24: այդ թվում` ըստ ուղղությունների
C25: ='h2'!C19 -> ՀՀ Կոտայքի մարզ, Սոլակ, Գեղաշեն, Զովաշեն, Գառնի գյուղերից դեպի <<Ալպյան>> մարգագետիներ տանող գրունտային ճանապարհի կառուցման աշխատանքների կառուցման համար, նախագծանախահաշվային փաստաթղթերի ձեռքբերում | D25: =D23 -> 2090 | E25: =E23 -> 2090 | F25: =F23 -> 2090
C26: ՀՀ Վայոց ձորի մարզպետի աշխատակազմ | D26: ='h3'!G55 -> 3300 | E26: ='h3'!H55 -> 3300 | F26: ='h3'!I55 -> 3300
C27: այդ թվում` ըստ ուղղությունների
C28: ='h2'!C21 -> ՀՀ Վայոց ձորի մարզի Ջերմուկ համայնքից դեպի Կարմրաշեն տանող գրունտային ճանապարհի կառուցման համար նախագծանախահաշվային փաստաթղթերի ձեռքբերում | D28: =D26 -> 3300 | E28: =E26 -> 3300 | F28: =F26 -> 3300
C29: ՀՀ Տավուշի մարզպետի աշխատակազմ | D29: ='h3'!G62 -> 5886 | E29: ='h3'!H62 -> 5886 | F29: ='h3'!I62 -> 5886
C30: =C27 -> այդ թվում` ըստ ուղղությունների
C31: ='h2'!C23 -> Սևքար և Աչաջուր համայնքներից - Ֆիդայինների հովիտ /Սուլթանի ուրթ/-Աղբղա - Հ-26 հանրապետական նշանակության ավտոճանապարհի հատում տանող գրունտային ճանապարհի կառուցման համար, նախագծանախահաշվային փաստաթղթերի ձեռքբերում | D31: =D29 -> 5886 | E31: =E29 -> 5886 | F31: =F29 -> 5886
C33: ՀԱՅԱՍՏԱՆԻ ՀԱՆՐԱՊԵՏՈՒԹՅԱՆ ՎԱՐՉԱՊԵՏԻ ԱՇԽԱՏԱԿԱԶՄԻ ՂԵԿԱՎԱՐ՝ | F33: Ա.ՀԱՐՈՒԹՅՈՒՆՅԱՆ

Sheet h5.
F1: Հավելված N 5
B2: ՀՀ կառավարության 2024 թվականի
B3: ______________ ի ___Ն որոշման
A5: ՀԱՅԱՍՏԱՆԻ ՀԱՆՐԱՊԵՏՈՒԹՅԱՆ ԿԱՌԱՎԱՐՈՒԹՅԱՆ 2023 ԹՎԱԿԱՆԻ ԴԵԿՏԵՄԲԵՐԻ 28-Ի N 2323-Ն ՈՐՈՇՄԱՆ N 5 ՀԱՎԵԼՎԱԾԻ N 5 ԱՂՅՈՒՍԱԿՈՒՄ ԿԱՏԱՐՎՈՂ ՓՈՓՈԽՈՒԹՅՈՒՆՆԵՐԸ ԵՎ ԼՐԱՑՈՒՄՆԵՐԸ
F7: հազար դրամ
A8: Ծրագրային դասիչը | C8: Բյուջետային ծրագրերի, միջոցառումների և աշխատանքների անվանումները | D8: Առաջին կիսամյակ | E8: Ինն ամիս | F8: Տարի
A9: Ծրագիր | B9: Միջոցառում
A10: 1049 | C10: Ճանապարհային ցանցի բարելավում
B11: 11001 | C11: Միջպետական և հանրապետական նշանակության ավտոճանապարհների պահպանման և անվտանգ երթևեկության ծառայություններ¸ այդ թվում՝ | D11: =D12 -> -17374 | E11: =E12 -> -17374 | F11: =F12 -> -17374
C12: 1. Ավտոճանապարհների ձմեռային և ընթացիկ պահպանում, այդ թվում` | D12: =D13 -> -17374 | E12: =E13 -> -17374 | F12: =F13 -> -17374
C13: 1.2 Միջպետական և հանրապետական նշանակության ավտոճանապարհների նշագծում | D13: ='h3'!G23 -> -17374 | E13: ='h3'!H23 -> -17374 | F13: ='h3'!I23 -> -17374

Sheet h6.
E1: Հավելված N 6
E2: ՀՀ կառավարության 2024 թվականի
E3: ______________ ի ___Ն որոշման
A5: ՀԱՅԱՍՏԱՆԻ ՀԱՆՐԱՊԵՏՈՒԹՅԱՆ ԿԱՌԱՎԱՐՈՒԹՅԱՆ 2023 ԹՎԱԿԱՆԻ ԴԵԿՏԵՄԲԵՐԻ 28-Ի N 2323-Ն ՈՐՈՇՄԱՆ N 9 ՀԱՎԵԼՎԱԾԻ NN 9.7 ԵՎ 9․48 ԱՂՅՈՒՍԱԿՆԵՐՈՒՄ ԿԱՏԱՐՎՈՂ ՓՈՓՈԽՈՒԹՅՈՒՆՆԵՐԸ ԵՎ ԼՐԱՑՈՒՄՆԵՐԸ
E7: Աղյուսակ 9.7
A8: ՀՀ տարածքային կառավարման և ենթակառուցվածքների նախարարություն
A9: ՄԱՍ 2. ՊԵՏԱԿԱՆ ՄԱՐՄՆԻ ԳԾՈՎ ԱՐԴՅՈՒՆՔԱՅԻՆ (ԿԱՏԱՐՈՂԱԿԱՆ) ՑՈՒՑԱՆԻՇՆԵՐԸ
A12: Ծրագրի դասիչը | B12: Ծրագրի անվանումը
A13: 1049 | B13: ='h1'!C14 -> Ճանապարհային ցանցի բարելավում
A15: Ծրագրի միջոցառումները
A16: Ծրագրի դասիչը` | B16: 1049 | C16: Ցուցանիշների փոփոխությունը ( նվազեցումները` նշված են փակագծերում)
A17: Միջոցառման դասիչը` | B17: 11001 | C17: Առաջին կիսամյակ | D17: Ինն ամիս | E17: Տարի
A18: Միջոցառման անվանումը` | B18: Միջպետական և հանրապետական նշանակության ավտոճանապարհների պահպանման և անվտանգ երթևեկության ծառայություններ
A19: Նկարագրությունը` | B19: Հողային պաստառի, երթևեկելի մասի, արհեստական կառույցների և կահավորման տարրերի նորմատիվ մակարդակում պահպանում և շահագործում
A20: Միջոցառման տեսակը` | B20: Ծառայությունների մատուցում
A21: Միջոցառումն իրականացնողի անվանումը | B21: ՀՀ տարածքային կառավարման և ենթակառուցվածքների նախարարություն, մրցութային կարգով ընտրված կազմակերպություններ
A22: Արդյունքի չափորոշիչներ
A23: Միջոցառման վրա կատարվող ծախսը (հազար դրամ) | C23: ='h3'!G23 -> -17374 | D23: ='h3'!H23 -> -17374 | E23: ='h3'!I23 -> -17374
A26: Ծրագրի դասիչը` | B26: 1049 | C26: Ցուցանիշների փոփոխությունը (ավելացումները նշված են դրական նշանով)
A27: Միջոցառման դասիչը` | B27: 21022 | C27: Առաջին կիսամյակ | D27: Ինն ամիս | E27: Տարի
A28: Միջոցառման անվանումը` | B28: Այլ նշանակության ճանապարհների հիմնանորոգում
A29: Նկարագրությունը` | B29: Այլ նշանակության ճանապարհների հիմնանորոգմանաշխատանքներ
A30: Միջոցառման տեսակը` | B30: Հանրության կողմից անմիջականորեն օգտագործվող ակտիվների հետ կապված միջոցառումներ
A31: Միջոցառումն իրականացնողի անվանումը | B31: Մասնագիտացված միավոր
A32: Արդյունքի չափորոշիչներ
A33: Գրունտային ճանապարհ/ (կմ) | C33: ='h7.'!C120+'h7.'!C101+'h7.'!C81+'h7.'!C60+'h7.'!C42 -> 41.5 | E33: =C33 -> 41.5
A34: Միջոցառման վրա կատարվող ծախսը (հազար դրամ) | C34: ='h3'!G32 -> 17374 | D34: ='h3'!H32 -> 17374 | E34: ='h3'!I32 -> 17374
F36: Աղյուսակ 9.48
B38: ՀՀ կառավարություն
A39: ՄԱՍ 2. ՊԵՏԱԿԱՆ ՄԱՐՄՆԻ ԳԾՈՎ ԱՐԴՅՈՒՆՔԱՅԻՆ (ԿԱՏԱՐՈՂԱԿԱՆ) ՑՈՒՑԱՆԻՇՆԵՐԸ
A41: Ծրագրի դասիչը | B41: Ծրագրի անվանումը
A42: 1139 | B42: ՀՀ կառավարության պահուստային ֆոնդ
A44: Ծրագրի միջոցառումները
A45: Ծրագրի դասիչը՝ | B45: 1139 | C45: Ցուցանիշների փոփոխությունը (նվազեցումները նշված են փակագծերում)
A46: Միջոցառման դասիչը՝ | B46: 11001 | C46: Առաջին կիսամյակ | D46: Ինն ամիս | E46: Տարի
A47: Միջոցառման անվանումը՝ | B47: ՀՀ կառավարության պահուստային ֆոնդ
A48: Նկարագրությունը՝ | B48: ՀՀ պետական բյուջեում նախատեսված ելքերի լրացուցիչ ֆինանսավորման՝ պետական բյուջեում չկանխատեսված ելքերի, ինչպես նաև բյուջետային երաշխիքների ապահովման ելքերի ֆինանսավորման ապահովում
A49: Միջոցառման տեսակը՝ | B49: Ծառայությունների մատուցում
A50: Միջոցառումն իրականացնողի անվանումը | B50: ՀՀ կառավարություն
B51: Արդյունքի չափորոշիչներ
...

Sheet h7.
E1: Հավելված N 7
E2: ՀՀ կառավարության 2024 թվականի
E3: ______________ ի ___Ն որոշման
A5: ՀԱՅԱՍՏԱՆԻ ՀԱՆՐԱՊԵՏՈՒԹՅԱՆ ԿԱՌԱՎԱՐՈՒԹՅԱՆ 2023 ԹՎԱԿԱՆԻ ԴԵԿՏԵՄԲԵՐԻ 28-Ի N 2323-Ն ՈՐՈՇՄԱՆ N 9.1 ՀԱՎԵԼՎԱԾԻ N 9.1.7, 9.1.51, 9.1.52, 9.1.53, 9.1.56,9.1.57 ԵՎ 9.1.58 ԱՂՅՈՒՍԱԿՆԵՐՈՒՄ ԿԱՏԱՐՎՈՂ ՓՈՓՈԽՈՒԹՅՈՒՆՆԵՐԸ ԵՎ ԼՐԱՑՈՒՄՆԵՐԸ
E7: Աղյուսակ 9.1.7
A8: ՀՀ տարածքային կառավարման և ենթակառուցվածքների նախարարություն
A9: ՄԱՍ 1. ՊԵՏԱԿԱՆ ՄԱՐՄՆԻ ԳԾՈՎ ԱՐԴՅՈՒՆՔԱՅԻՆ (ԿԱՏԱՐՈՂԱԿԱՆ) ՑՈՒՑԱՆԻՇՆԵՐԸ
A12: Ծրագրի դասիչը | B12: Ծրագրի անվանումը
A13: 1049 | B13: Ճանապարհային ցանցի բարելավում
A15: Ծրագրի միջոցառումները
A16: Ծրագրի դասիչը` | B16: 1049 | C16: Ցուցանիշների փոփոխությունը ( նվազեցումները` նշված են փակագծերում)
A17: Միջոցառման դասիչը` | B17: 11001 | C17: Առաջին կիսամյակ | D17: Ինն ամիս | E17: Տարի
A18: Միջոցառման անվանումը` | B18: Միջպետական և հանրապետական նշանակության ավտոճանապարհների պահպանման և անվտանգ երթևեկության ծառայություններ
A19: Նկարագրությունը` | B19: Հողային պաստառի, երթևեկելի մասի, արհեստական կառույցների և կահավորման տարրերի նորմատիվ մակարդակում պահպանում և շահագործում
A20: Միջոցառման տեսակը` | B20: Ծառայությունների մատուցում
A21: Միջոցառումն իրականացնողի անվանումը | B21: ՀՀ տարածքային կառավարման և ենթակառուցվածքների նախարարություն, մրցութային կարգով ընտրված կազմակերպություններ
A22: Արդյունքի չափորոշիչներ
A23: Միջոցառման վրա կատարվող ծախսը (հազար դրամ) | C23: ='h6.'!C23 -> -17374 | D23: ='h6.'!D23 -> -17374 | E23: ='h6.'!E23 -> -17374
E25: Աղյուսակ 9.1.52
A26: ՀՀ Լոռու մարզպետի աշխատակազմ
A27: ՄԱՍ 1. ՊԵՏԱԿԱՆ ՄԱՐՄՆԻ ԳԾՈՎ ԱՐԴՅՈՒՆՔԱՅԻՆ (ԿԱՏԱՐՈՂԱԿԱՆ) ՑՈՒՑԱՆԻՇՆԵՐԸ
A30: Ծրագրի դասիչը | B30: Ծրագրի անվանումը
A31: 1049 | B31: Ճանապարհային ցանցի բարելավում
A33: Ծրագրի միջոցառումները
A35: Ծրագրի դասիչը` | B35: 1049 | C35: Ցուցանիշների փոփոխությունը (ավելացումները նշված են դրական նշանով)
A36: Միջոցառման դասիչը` | B36: 21022 | C36: Առաջին կիսամյակ | D36: Ինն ամիս | E36: Տարի
A37: Միջոցառման անվանումը` | B37: Այլ նշանակության ճանապարհների հիմնանորոգում
A38: Նկարագրությունը` | B38: Այլ նշանակության ճանապարհների հիմնանորոգմանաշխատանքներ
A39: Միջոցառման տեսակը` | B39: Հանրության կողմից անմիջականորեն օգտագործվող ակտիվների հետ կապված միջոցառումներ
A40: Միջոցառումն իրականացնողի անվանումը | B40: Մասնագիտացված միավոր
A41: Արդյունքի չափորոշիչներ
A42: Գրունտային ճանապարհ/ (կմ) | C42: 5 | E42: =C42 -> 5
A43: Միջոցառման վրա կատարվող ծախսը (հազար դրամ) | C43: ='h3'!G41 -> 2930 | D43: ='h3'!H41 -> 2930 | E43: ='h3'!I41 -> 2930
E45: Աղյուսակ 9.1.51
A46: ՀՀ Գեղարքունիքի մարզպետի աշխատակազմ
A47: ՄԱՍ 1. ՊԵՏԱԿԱՆ ՄԱՐՄՆԻ ԳԾՈՎ ԱՐԴՅՈՒՆՔԱՅԻՆ (ԿԱՏԱՐՈՂԱԿԱՆ) ՑՈՒՑԱՆԻՇՆԵՐԸ
A49: Ծրագրի դասիչը | B49: Ծրագրի անվանումը
A50: 1049 | B50: Ճանապարհային ցանցի բարելավում
A52: Ծրագրի միջոցառումները
A53: Ծրագրի դասիչը` | B53: 1049 | C53: Ցուցանիշների փոփոխությունը (ավելացումները նշված են դրական նշանով)
...

Sheet h8
I1: Հավելված N 8
I2: ՀՀ կառավարության 2024 թվականի
I3: ______________ ի ___Ն որոշման
A5: ՀԱՅԱՍՏԱՆԻ ՀԱՆՐԱՊԵՏՈՒԹՅԱՆ ԿԱՌԱՎԱՐՈՒԹՅԱՆ 2023 ԹՎԱԿԱՆԻ ԴԵԿՏԵՄԲԵՐԻ 28-Ի N 2323-Ն ՈՐՈՇՄԱՆ N 10 ՀԱՎԵԼՎԱԾՈՒՄ ԿԱՏԱՐՎՈՂ ՓՈՓՈԽՈՒԹՅՈՒՆԸ ԵՎ ԼՐԱՑՈՒՄՆԵՐԸ
A7: Կոդը | B7: Անվանումը | E7: Գնման ձևը | F7: Չափման միավորը | G7: Միավորի գինը | H7: Քանակը | I7: Ցուցանիշների փոփոխությունը (ավելացումները նշված են դրական նշանով, իսկ նվազեցումները` փակագծերում) (հազար դրամով)
B8: ԸՆԴԱՄԵՆԸ | I8: =I10+I14+I20+I26+I32+I38 -> 0
A9: ՀՀ տարածքային կառավարման և ենթակառուցվածքների նախարարություն | I9: =I10 -> -17374
A10: Բաժին N 04 | B10: Խումբ N 05 | C10: Դաս N 01 | D10: Ճանապարհային տրանսպորտ | I10: =I11 -> -17374
A11: 1049/11001 | B11: Միջպետական և հանրապետական նշանակության ավտոճանապարհների պահպանման և անվտանգ երթևեկության ծառայություններ | I11: =I12 -> -17374
B12: ՄԱՍ II. ԱՇԽԱՏԱՆՔՆԵՐ | I12: =I13 -> -17374
A13: 45231176-1 | B13: ճանապարհների պահպանման աշխատանքներ | E13: ԲՄ | F13: դրամ | I13: ='h1'!D20 -> -17374
A14: ՀՀ Լոռու մարզպետի աշխատակազմ | I14: =I15 -> 2930
A15: Բաժին N 04 | B15: Խումբ N 05 | C15: Դաս N 01 | D15: Ճանապարհային տրանսպորտ | I15: =I16 -> 2930
A16: 1049/21022 | B16: Այլ նշանակության ճանապարհների հիմնանորոգում | I16: =I17 -> 2930
B17: ՄԱՍ III. ԾԱՌԱՅՈՒԹՅՈՒՆՆԵՐ | I17: =I18+I19 -> 2930
A18: 71241200/501 | B18: նախագծերի պատրաստում, ծախսերի գնահատում | E18: ԳՀ | F18: դրամ | G18: =I18*1000 -> 2700000 | H18: 1 | I18: 2700
A19: 50531140/1 | B19: փորձաքննության ծառայություններ | E19: ՄԱ | F19: դրամ | G19: =I19*1000 -> 230000 | H19: 1 | I19: 230
A20: ՀՀ Կոտայքի մարզպետի աշխատակազմ | I20: =I21 -> 2090
A21: Բաժին N 04 | B21: Խումբ N 05 | C21: Դաս N 01 | D21: Ճանապարհային տրանսպորտ | I21: =I22 -> 2090
A22: 1049/21022 | B22: Այլ նշանակության ճանապարհների հիմնանորոգում | I22: =I23 -> 2090
B23: ՄԱՍ III. ԾԱՌԱՅՈՒԹՅՈՒՆՆԵՐ | I23: =I24+I25 -> 2090
A24: 71241200/501 | B24: նախագծերի պատրաստում, ծախսերի գնահատում | E24: ՀԲՄ | F24: դրամ | G24: =I24*1000 -> 1900000 | H24: 1 | I24: 1900
A25: 50531140/1 | B25: փորձաքննության ծառայություններ | E25: ՄԱ | F25: դրամ | G25: =I25*1000 -> 190000 | H25: 1 | I25: 190
A26: ՀՀ Վայոց ձորի մարզպետի աշխատակազմ | I26: =I27 -> 3300
A27: Բաժին N 04 | B27: Խումբ N 05 | C27: Դաս N 01 | D27: Ճանապարհային տրանսպորտ | I27: =I28 -> 3300
A28: 1049/21022 | B28: Այլ նշանակության ճանապարհների հիմնանորոգում | I28: =I29 -> 3300
B29: ՄԱՍ III. ԾԱՌԱՅՈՒԹՅՈՒՆՆԵՐ | I29: =I30+I31 -> 3300
A30: 71241200/501 | B30: նախագծերի պատրաստում, ծախսերի գնահատում | E30: ԳՀ | F30: դրամ | G30: =I30*1000 -> 3000000 | H30: 1 | I30: 3000
A31: 50531140/1 | B31: փորձաքննության ծառայություններ | E31: ՄԱ | F31: դրամ | G31: =I31*1000 -> 300000 | H31: 1 | I31: 300
A32: ՀՀ Տավուշի մարզպետի աշխատակազմ | I32: =I33 -> 5886
A33: Բաժին N 04 | B33: Խումբ N 05 | C33: Դաս N 01 | D33: Ճանապարհային տրանսպորտ | I33: =I34 -> 5886
A34: 1049/21022 | B34: Այլ նշանակության ճանապարհների հիմնանորոգում | I34: =I35 -> 5886
B35: ՄԱՍ III. ԾԱՌԱՅՈՒԹՅՈՒՆՆԵՐ | I35: =I36+I37 -> 5886
A36: 71241200/502 | B36: նախագծերի պատրաստում, ծախսերի գնահատում | E36: ՀԲՄ | F36: դրամ | G36: =I36*1000 -> 5400000 | H36: 1 | I36: 5400
A37: 50531140/1 | B37: փորձաքննության ծառայություններ | E37: ՄԱ | F37: դրամ | G37: =I37*1000 -> 486000 | H37: 1 | I37: 486
A38: ՀՀ Գեղարքունիքի մարզպետի աշխատակազմ | I38: =I39 -> 3168
A39: Բաժին N 04 | B39: Խումբ N 05 | C39: Դաս N 01 | D39: Ճանապարհային տրանսպորտ | I39: =I40 -> 3168
A40: 1049/21022 | B40: Այլ նշանակության ճանապարհների հիմնանորոգում | I40: =I41 -> 3168
B41: ՄԱՍ III. ԾԱՌԱՅՈՒԹՅՈՒՆՆԵՐ | I41: =I42+I43 -> 3168
A42: 71241200/502 | B42: նախագծերի պատրաստում, ծախսերի գնահատում | E42: ՀԲՄ | F42: դրամ | G42: =I42*1000 -> 2880000 | H42: 1 | I42: 2880
...

Sheet h9
B1: Հավելված N9
F2: ՀՀ կառավարության 2024 թվականի
F3: ______________ ի ___Ն որոշման
B4: ՀԱՅԱՍՏԱՆԻ ՀԱՆՐԱՊԵՏՈՒԹՅԱՆ ԿԱՌԱՎԱՐՈՒԹՅԱՆ ՊԱՀՈՒՍՏԱՅԻՆ ՖՈՆԴԻՑ ՀԱՏԿԱՑՎՈՂ ԳՈՒՄԱՐԻ ՄԱՍԻՆ
I5: հազար դրամ
A6: Գործառական դասիչը | D6: Ծրագրային դասիչը | F6: Բյուջետային հատկացումների գլխավոր կարգադրիչների, ծրագրերի, միջոցառումների և միջոցառումները կատարող պետական մարմինների անվանումները | G6: Ցուցանիշների փոփոխությունը (ավելացումները նշված են դրական նշանով, իսկ նվազեցումները` փակագծերում)
A7: բաժինը | B7: խումբը | C7: դասը | D7: ծրագիրը | E7: միջոցառումը | G7: =[1]h1!E9 -> Առաջին կիսամյակ | H7: =[1]h1!F9 -> Ինն ամիս | I7: =[1]h1!G9 -> Տարի
F9: ԸՆԴԱՄԵՆԸ՝ ԾԱԽՍԵՐ | G9: =G10+G56 -> 0 | H9: =H10+H56 -> 0 | I9: =I10+I56 -> 0
F10: ՀՀ տարածքային կառավարման և ենթակառուցվածքների նախարարություն | G10: =G11 -> 17374 | H10: =H11 -> 17374 | I10: =I11 -> 17374
A11: 04 | F11: ՏՆՏԵՍԱԿԱՆ ՀԱՐԱԲԵՐՈՒԹՅՈՒՆՆԵՐ | G11: =G13 -> 17374 | H11: =H13 -> 17374 | I11: =I13 -> 17374
F12: այդ թվում`
B13: 05 | F13: Տրանսպորտ | G13: =G15 -> 17374 | H13: =H15 -> 17374 | I13: =I15 -> 17374
F14: այդ թվում`
C15: 01 | F15: Ճանապարհային տրանսպորտ | G15: =G17 -> 17374 | H15: =H17 -> 17374 | I15: =I17 -> 17374
F16: այդ թվում`
D17: 1049 | F17: Ճանապարհային ցանցի բարելավում | G17: =G19 -> 17374 | H17: =H19 -> 17374 | I17: =I19 -> 17374
F18: այդ թվում`
E19: 21022 | F19: Այլ նշանակության ճանապարհների հիմնանորոգում | G19: =G20+G28+G35+G42+G49 -> 17374 | H19: =H20+H28+H35+H42+H49 -> 17374 | I19: =I20+I28+I35+I42+I49 -> 17374
F20: այդ թվում` ըստ կատարողների | G20: =G21 -> 3168 | H20: =H21 -> 3168 | I20: =I21 -> 3168
F21: ՀՀ Գեղարքունիքի մարզպետի աշխատակազմ | G21: =G23 -> 3168 | H21: =H23 -> 3168 | I21: =I23 -> 3168
F22: այդ թվում` բյուջետային ծախսերի տնտեսագիտական դասակարգման հոդվածներ
F23: ԸՆԴԱՄԵՆԸ ԾԱԽՍԵՐ | G23: =G24 -> 3168 | H23: =H24 -> 3168 | I23: =I24 -> 3168
F24: ՈՉ ՖԻՆԱՆՍԱԿԱՆ ԱԿՏԻՎՆԵՐԻ ԳԾՈՎ ԾԱԽՍԵՐ | G24: =G25 -> 3168 | H24: =H25 -> 3168 | I24: =I25 -> 3168
F25: ՀԻՄՆԱԿԱՆ ՄԻՋՈՑՆԵՐ | G25: =G26 -> 3168 | H25: =H26 -> 3168 | I25: =I26 -> 3168
F26: ԱՅԼ ՀԻՄՆԱԿԱՆ ՄԻՋՈՑՆԵՐ | G26: =G27 -> 3168 | H26: =H27 -> 3168 | I26: =I27 -> 3168
F27: - Նախագծահետազոտական ծախսեր | G27: ='h3'!G34 -> 3168 | H27: ='h3'!H34 -> 3168 | I27: ='h3'!I34 -> 3168
F28: ՀՀ Լոռու մարզպետի աշխատակազմ | G28: =G30 -> 2930 | H28: =H30 -> 2930 | I28: =I30 -> 2930
F29: այդ թվում` բյուջետային ծախսերի տնտեսագիտական դասակարգման հոդվածներ
F30: ԸՆԴԱՄԵՆԸ ԾԱԽՍԵՐ | G30: =G31 -> 2930 | H30: =H31 -> 2930 | I30: =I31 -> 2930
F31: ՈՉ ՖԻՆԱՆՍԱԿԱՆ ԱԿՏԻՎՆԵՐԻ ԳԾՈՎ ԾԱԽՍԵՐ | G31: =G32 -> 2930 | H31: =H32 -> 2930 | I31: =I32 -> 2930
F32: ՀԻՄՆԱԿԱՆ ՄԻՋՈՑՆԵՐ | G32: =G33 -> 2930 | H32: =H33 -> 2930 | I32: =I33 -> 2930
F33: ԱՅԼ ՀԻՄՆԱԿԱՆ ՄԻՋՈՑՆԵՐ | G33: =G34 -> 2930 | H33: =H34 -> 2930 | I33: =I34 -> 2930
F34: - Նախագծահետազոտական ծախսեր | G34: ='h3'!G41 -> 2930 | H34: =G34 -> 2930 | I34: =H34 -> 2930
F35: ՀՀ Կոտայքի մարզպետի աշխատակազմ | G35: =G37 -> 2090 | H35: =H37 -> 2090 | I35: =I37 -> 2090
F36: այդ թվում` բյուջետային ծախսերի տնտեսագիտական դասակարգման հոդվածներ
F37: ԸՆԴԱՄԵՆԸ ԾԱԽՍԵՐ | G37: =G38 -> 2090 | H37: =H38 -> 2090 | I37: =I38 -> 2090
F38: ՈՉ ՖԻՆԱՆՍԱԿԱՆ ԱԿՏԻՎՆԵՐԻ ԳԾՈՎ ԾԱԽՍԵՐ | G38: =G39 -> 2090 | H38: =H39 -> 2090 | I38: =I39 -> 2090
F39: ՀԻՄՆԱԿԱՆ ՄԻՋՈՑՆԵՐ | G39: =G40 -> 2090 | H39: =G39 -> 2090 | I39: =I40 -> 2090
F40: ԱՅԼ ՀԻՄՆԱԿԱՆ ՄԻՋՈՑՆԵՐ | G40: =G41 -> 2090 | H40: =H41 -> 2090 | I40: =I41 -> 2090
F41: - Նախագծահետազոտական ծախսեր | G41: ='h3'!G48 -> 2090 | H41: =G41 -> 2090 | I41: =H41 -> 2090
...
