Workbook
Name a: #REF!
Name a: #REF!
Name a: #REF!
Name a: #REF!
Name a: #REF!
Name a: #REF!
Name a: #REF!
Name AgencyCode: #REF!
Name AgencyCode: #REF!
Name AgencyCode: #REF!
Name AgencyCode: #REF!
Name AgencyCode: #REF!
Name AgencyCode: #REF!
Name AgencyCode: #REF!
Name AgencyCode: #REF!
Name AgencyName: #REF!
Name AgencyName: #REF!
Name AgencyName: #REF!
Name AgencyName: #REF!
Name AgencyName: #REF!
Name BOP: #REF!
Name BOP: #REF!
Name BOPfoot: #REF!
Name BOPfoot: #REF!
Name davit: #REF!
Name davit: #REF!
Name davit: #REF!
Name davit: #REF!
Name DebtCG: #REF!
Name DebtCG: #REF!
Name DebtGG: #REF!
Name DebtGG: #REF!
Name Functional1: #REF!
Name Functional1: #REF!
Name Functional1: #REF!
Name Functional1: #REF!
Name Functional1: #REF!
Name ggg: #REF!
Name ggg: #REF!
Name ggg: #REF!
Name ggg: #REF!
Name MonExo: #REF!
Name MonExo: #REF!
Name MonGrow: #REF!
Name MonGrow: #REF!
Name PANature: #REF!
Name PANature: #REF!
Name PANature: #REF!
Name PANature: #REF!
Name PANature: #REF!
Name PAType: #REF!
Name PAType: #REF!
Name PAType: #REF!
Name PAType: #REF!
Name PAType: #REF!
Name Performance2: #REF!
Name Performance2: #REF!
Name Performance2: #REF!
Name Performance2: #REF!
Name Performance2: #REF!

Sheet Հավելված N 1 
D1: Հավելված N 1
D2: ՀՀ կառավարության 2024 թվականի
D3: ______________ ի ___Ն որոշման
A5: «ՀԱՅԱՍՏԱՆԻ ՀԱՆՐԱՊԵՏՈՒԹՅԱՆ 2024 ԹՎԱԿԱՆԻ ՊԵՏԱԿԱՆ ԲՅՈՒՋԵԻ ՄԱՍԻՆ» ՕՐԵՆՔԻ 3-ՐԴ ՀՈԴՎԱԾԻ, N 3 ՀԱՎԵԼՎԱԾԻ N 1 ԱՂՅՈՒՍԱԿՈՒՄ ԵՎ ՀԱՅԱՍՏԱՆԻ ՀԱՆՐԱՊԵՏՈՒԹՅԱՆ ԿԱՌԱՎԱՐՈՒԹՅԱՆ 2023 ԹՎԱԿԱՆԻ ԴԵԿՏԵՄԲԵՐԻ 28-Ի N 2323-Ն ՈՐՈՇՄԱՆ N 1 ՀԱՎԵԼՎԱԾԻ N 1 ԱՂՅՈՒՍԱԿՈՒՄ ԿԱՏԱՐՎՈՂ ՓՈՓՈԽՈՒԹՅՈՒՆԸ
D7: հազ. դրամ
A8: Պետական բյուջեի դեֆիցիտի ֆինանսավորման աղբյուրներն ու դրանց տարրերի անվանումները | B8: Ցուցանիշների փոփոխությունը (նվազեցումները նշված են փակագծերում)
B9: Առաջին կիսամյակ | C9: Ինն ամիս | D9: Տարի
A10: ԸՆԴԱՄԵՆԸ | B10: =+B12 -> -7989.1 | C10: =+C12 -> 0 | D10: =+D12 -> 0
A11: այդ թվում՝
A12: Ա.Ներքին աղբյուրներ-ընդամենը | B12: =+B14 -> -7989.1 | C12: =+C14 -> 0 | D12: =+D14 -> 0
A13: այդ թվում՝
A14: 2. Ֆինանսական զուտ ակտիվներ | B14: =+B16 -> -7989.1 | C14: =+C16 -> 0 | D14: =+D16 -> 0
A15: այդ թվում՝
A16: 2.6.Այլ | B16: =+B18 -> -7989.1 | C16: =+C18 -> 0 | D16: =+D18 -> 0
A17: որից՝
A18: Ժամանակավորապես ազատ միջոցներ | B18: =+'Հավելված N 2'!D11 -> -7989.1 | C18: =+'Հավելված N 2'!E11 -> 0 | D18: =+'Հավելված N 2'!F11 -> 0

Sheet Հավելված N 2
E1: Հավելված N 2
E2: ՀՀ կառավարության 2024 թվականի
E3: ______________ ի ___Ն որոշման
A6: «ՀԱՅԱUՏԱՆԻ ՀԱՆՐԱՊԵՏՈՒԹՅԱՆ 2024 ԹՎԱԿԱՆԻ ՊԵՏԱԿԱՆ ԲՅՈՒՋԵԻ ՄԱUԻՆ» ՀԱՅԱUՏԱՆԻ ՀԱՆՐԱՊԵՏՈՒԹՅԱՆ OՐԵՆՔԻ N 1 ՀԱՎԵԼՎԱԾԻ N 2 ԱՂՅՈՒՍԱԿՈՒՄ ԿԱՏԱՐՎՈՂ ՎԵՐԱԲԱՇԽՈՒՄԸ ԵՎ ՀԱՅԱՍՏԱՆԻ ՀԱՆՐԱՊԵՏՈՒԹՅԱՆ ԿԱՌԱՎԱՐՈՒԹՅԱՆ 2023 ԹՎԱԿԱՆԻ ԴԵԿՏԵՄԲԵՐԻ 28-Ի N 2323-Ն ՈՐՈՇՄԱՆ N 5 ՀԱՎԵԼՎԱԾԻ N 1 ԱՂՅՈՒՍԱԿՈՒՄ ԿԱՏԱՐՎՈՂ ՓՈՓՈԽՈՒԹՅՈՒՆՆԵՐԸ ԵՎ ԼՐԱՑՈՒՄՆԵՐԸ
F8: հազ. դրամներով
A9: Ծրագրային դասիչը | C9: Բյուջետային հատկացումների գլխավոր կարգադրիչների, ծրագրերի և միջոցառումների անվանումները | D9: Ցուցանիշների փոփոխությունը (ավելացումները նշված են դրական նշանով, իսկ նվազեցումները՝ փակագծերում)
A10: Ծրագիր | B10: Միջոցառում | D10: Առաջին կիսամյակ | E10: Ինն ամիս | F10: Տարի
A11: 1192 | C11: ԸՆԴԱՄԵՆԸ | D11: =+D13 -> -7989.1 | E11: =+E13 -> 0 | F11: =+F13 -> 0
C12: այդ թվում
C13: ՀՀ ԿՐԹՈՒԹՅԱՆ, ԳԻՏՈՒԹՅԱՆ, ՄՇԱԿՈՒՅԹԻ ԵՎ ՍՊՈՐՏԻ ՆԱԽԱՐԱՐՈՒԹՅՈՒՆ | D13: =+D15+D28+D41 -> -7989.1 | E13: =+E15+E28+E41 -> 0 | F13: =+F15+F28+F41 -> 0
A14: 1111 | C14: Ծրագրի անվանումը`
C15: Բարձրագույն և հետբուհական մասնագիտական կրթության ծրագիր | D15: =+D22 -> -63622.2 | E15: =+E22 -> -111338.9 | F15: =+F22 -> -122992.8
C16: Ծրագրի նպատակը`
C17: Ապահովել մատչելի, որակյալ և մրցունակ բարձրագույն և հետբուհական մասնագիտական կրթություն:
C18: Վերջնական արդյունքի նկարագրությունը`
C19: Գիտելիքների տնտեսության և գիտության զարգացման արդի պահանջներին համապատասխան բարձրագույն և հետբուհական մասնագիտական որակավորում ունեցող մասնագետների պատրաստում
C20: Ծրագրի միջոցառումներ
B21: 32001 | C21: Միջոցառման անվանումը`
C22: Բարձրագույն ուսումնական հաստատությունների և «Զեյթուն» ուսանողական ավան» հիմնադրամի շենքային պայմանների բարելավում | D22: =+'Հավելված N 3'!G60 -> -63622.2 | E22: =+'Հավելված N 3'!H60 -> -111338.9 | F22: =+'Հավելված N 3'!I60 -> -122992.8
C23: Միջոցառման նկարագրությունը`
C24: Բարձրագույն ուսումնական հաստատությունների և «Զեյթուն» ուսանողական ավան» հիմնադրամի շենքային պայմանների բարելավում
C25: Միջոցառման տեսակը
C26: Այլ պետական կազմակերպությունների կողմից օգտագործվող ոչ ֆինանսական ակտիվների հետ գործառնություններ
A27: 1168 | C27: Ծրագրի անվանումը`
C28: Արվեստների ծրագիր | D28: =+D35 -> 55633.1 | E28: =+E35 -> 122992.8 | F28: =+F35 -> 122992.8
C29: Ծրագրի նպատակը`
C30: Նպաստել ազգային հենքի վրա ժամանակակից թատերարվեստի, երաժշտարվեստի, կերպարվեստի և պարարվեստի զարգացմանը և հանրահռչակմանը
C31: Վերջնական արդյունքի նկարագրությունը`
C32: Մրցունակ արվեստային արտադրանքի ստեղծում, ստեղծագործական գործընթացների խթանում, արվեստի նոր նախագծերի ներդրում և մշակութային կյանքում հասարակության ներգրավում
C33: Ծրագրի միջոցառումներ
B34: 32001 | C34: Միջոցառման անվանումը`
C35: Ներդրումներ թատրոնների և համերգային կազմակերպությունների շենքերի կապիտալ վերանորոգման համար | D35: =+'Հավելված N 3'!G24 -> 55633.1 | E35: =+'Հավելված N 3'!H24 -> 122992.8 | F35: =+'Հավելված N 3'!I24 -> 122992.8
C36: Միջոցառման նկարագրությունը`
C37: Թատրոնների և համերգային կազմակերպությունների շենքերի մասնաշենքերի հիմնանորոգում, համաշինարարական աշխատանքներ, ջեռուցման համակարգի իրականացում, ներքին հարդարում, տարածքի բարեկարգում և նախագծում
C38: Միջոցառման տեսակը
C39: Այլ պետական կազմակերպությունների կողմից օգտագործվող ոչ ֆինանսական ակտիվների հետ գործառնություններ
A40: 1236 | C40: Ծրագրի անվանումը`
C41: Հանրակրթական և նախադպրոցական հաստատությունների հիմնում, կառուցում, բարելավում | D41: =+D48 -> 0 | E41: =+E48 -> -11653.9 | F41: =+F48 -> 0
C42: Ծրագրի նպատակը`
C43: Առնվազն 300 դպրոցի և 500 մանկապարտեզի կառուցման, վերակառուցման, հիմնանորոգման ծրագրերի իրականացում ՀՀ պետական բյուջեի միջոցների շրջանակներում
C44: Վերջնական արդյունքի նկարագրությունը`
C45: Կրթական միջավայրի բարելավում
C46: Ծրագրի միջոցառումներ
B47: 32002 | C47: Միջոցառման անվանումը`
C48: Մանկապարտեզների շենքերի վերակառուցում, հիմնանորոգում | D48: =+'Հավելված N 3'!G43 -> 0 | E48: =+'Հավելված N 3'!H43 -> -11653.9 | F48: =+'Հավելված N 3'!I43 -> 0
C49: Միջոցառման նկարագրությունը`
C50: Նախադպրոցական կրթության հասանելիության ապահովման նպատակով՛ մանկապարտեզների շենքերի (մասնաշենքերի), վերակառուցում, հիմնանորոգում և նախագծում
C51: Միջոցառման տեսակը
C52: Այլ պետական կազմակերպությունների կողմից օգտագործվող ոչ ֆինանսական ակտիվների հետ գործառնություններ

Sheet Հավելված N 3
F1: Հավելված N 3
F2: ՀՀ կառավարության 2024 թվականի
F3: ______________ ի ___Ն որոշման
A6: ՀԱՅԱՍՏԱՆԻ ՀԱՆՐԱՊԵՏՈՒԹՅԱՆ ԿԱՌԱՎԱՐՈՒԹՅԱՆ 2023 ԹՎԱԿԱՆԻ ԴԵԿՏԵՄԲԵՐԻ 28-Ի N2323-Ն ՈՐՈՇՄԱՆ N 3 ԵՎ N 4 ՀԱՎԵԼՎԱԾՆԵՐՈՒՄ ԿԱՏԱՐՎՈՂ ՓՈՓՈԽՈՒԹՅՈՒՆՆԵՐԸ ԵՎ ԼՐԱՑՈՒՄՆԵՐԸ
I8: հազ. դրամներով
A9: Գործառական դասիչը | D9: Ծրագրային դասիչը | F9: Բյուջետային հատկացումների գլխավոր կարգադրիչների, ծրագրերի, միջոցառումների և միջոցառումները կատարող պետական մարմինների անվանումները | G9: Ցուցանիշների փոփոխությունը (ավելացումները նշված են դրական նշանով, իսկ նվազեցումները՝ փակագծերում)
A10: Բաժին | B10: Խումբ | C10: Դաս | D10: Ծրագիր | E10: Միջոցառում | G10: Առաջին կիսամյակ | H10: Ինն ամիս | I10: Տարի
F11: ԸՆԴԱՄԵՆԸ | G11: =+G13 -> -7989.1 | H11: =+H13 -> 0 | I11: =+I13 -> 0
F12: այդ թվում
F13: ՀՀ ԿՐԹՈՒԹՅԱՆ, ԳԻՏՈՒԹՅԱՆ, ՄՇԱԿՈՒՅԹԻ ԵՎ ՍՊՈՐՏԻ ՆԱԽԱՐԱՐՈՒԹՅՈՒՆ | G13: =+G14+G33 -> -7989.1 | H13: =+H14+H33 -> 0 | I13: =+I14+I33 -> 0
A14: 08 | F14: ՀԱՆԳԻՍՏ, ՄՇԱԿՈՒՅԹ ԵՎ ԿՐՈՆ | G14: =+G16 -> 55633.1 | H14: =+H16 -> 122992.8 | I14: =+I16 -> 122992.8
F15: այդ թվում`
B16: 02 | F16: Մշակութային ծառայություններ | G16: =+G18 -> 55633.1 | H16: =+H18 -> 122992.8 | I16: =+I18 -> 122992.8
F17: այդ թվում`
C18: 05 | F18: Արվեստ | G18: =+G20 -> 55633.1 | H18: =+H20 -> 122992.8 | I18: =+I20 -> 122992.8
F19: այդ թվում`
F20: ՀՀ կրթության, գիտության, մշակույթի և սպորտի նախարարություն | G20: =+G22 -> 55633.1 | H20: =+H22 -> 122992.8 | I20: =+I22 -> 122992.8
F21: այդ թվում`
D22: 1168 | E22: Արվեստների ծրագիր | G22: =+G24 -> 55633.1 | H22: =+H24 -> 122992.8 | I22: =+I24 -> 122992.8
F23: այդ թվում`
E24: 32001 | F24: Ներդրումներ թատրոնների և համերգային կազմակերպությունների շենքերի կապիտալ վերանորոգման համար | G24: =+G26 -> 55633.1 | H24: =+H26 -> 122992.8 | I24: =+I26 -> 122992.8
F25: այդ թվում` ըստ կատարողների
F26: ՀՀ կրթության, գիտության, մշակույթի և սպորտի նախարարություն | G26: =+G28 -> 55633.1 | H26: =+H28 -> 122992.8 | I26: =+I28 -> 122992.8
F27: այդ թվում՝ բյուջետային ծախսերի տնտեսագիտական դասակարգման հոդվածներ
F28: ԸՆԴԱՄԵՆԸ ԾԱԽՍԵՐ | G28: =+G29 -> 55633.1 | H28: =+H29 -> 122992.8 | I28: =+I29 -> 122992.8
F29: ԸՆԹԱՑԻԿ ԾԱԽՍԵՐ | G29: =+G30 -> 55633.1 | H29: =+H30 -> 122992.8 | I29: =+I30 -> 122992.8
F30: ԴՐԱՄԱՇՆՈՐՀՆԵՐ | G30: =+G31 -> 55633.1 | H30: =+H31 -> 122992.8 | I30: =+I31 -> 122992.8
F31: ԿԱՊԻՏԱԼԴՐԱՄԱՇՆՈՐՀՆԵՐ ՊԵՏԱԿԱՆ ՀԱՏՎԱԾԻ ԱՅԼ ՄԱԿԱՐԴԱԿՆԵՐԻՆ | G31: =+G32 -> 55633.1 | H31: =+H32 -> 122992.8 | I31: =+I32 -> 122992.8
F32: - Կապիտալ դրամաշնորհներ պետական և համայնքային ոչ առևտրային կազմակերպություններին | G32: 55633.1 | H32: =+I32 -> 122992.8 | I32: =+'Հավելված N 6'!G13 -> 122992.8
A33: 09 | F33: ԿՐԹՈՒԹՅՈՒՆ | G33: =+G35+G52 -> -63622.2 | H33: =+H35+H52 -> -122992.8 | I33: =+I35+I52 -> -122992.8
F34: այդ թվում`
B35: 01 | F35: Նախադպրոցական և տարրական ընդհանուր կրթություն | G35: =+G37 -> 0 | H35: =+H37 -> -11653.9 | I35: =+I37 -> 0
F36: այդ թվում`
C37: 01 | F37: Նախադպրոցական կրթություն | G37: =+G39 -> 0 | H37: =+H39 -> -11653.9 | I37: =+I39 -> 0
F38: այդ թվում`
F39: ՀՀ կրթության, գիտության, մշակույթի և սպորտի նախարարություն | G39: =+G41 -> 0 | H39: =+H41 -> -11653.9 | I39: =+I41 -> 0
F40: այդ թվում`
D41: 1236 | E41: Հանրակրթական և նախադպրոցական հաստատությունների հիմնում, կառուցում, բարելավում | G41: =+G43 -> 0 | H41: =+H43 -> -11653.9 | I41: =+I43 -> 0
F42: այդ թվում`
E43: 32002 | F43: Մանկապարտեզների շենքերի վերակառուցում, հիմնանորոգում | G43: =+G45 -> 0 | H43: =+H45 -> -11653.9 | I43: =+I45 -> 0
F44: այդ թվում` ըստ կատարողների
F45: ՀՀ տարածքային կառավարման և ենթակառուցվածքների նախարարություն | G45: =+G47 -> 0 | H45: =+H47 -> -11653.9 | I45: =+I47 -> 0
F46: այդ թվում՝ բյուջետային ծախսերի տնտեսագիտական դասակարգման հոդվածներ
F47: ԸՆԴԱՄԵՆԸ ԾԱԽՍԵՐ | G47: =G48 -> 0 | H47: =H48 -> -11653.9 | I47: =I48 -> 0
F48: ՈՉ ՖԻՆԱՆՍԱԿԱՆ ԱԿՏԻՎՆԵՐԻ ԳԾՈՎ ԾԱԽՍԵՐ | G48: =+G49 -> 0 | H48: =+H49 -> -11653.9 | I48: =+I49 -> 0
F49: ՀԻՄՆԱԿԱՆ ՄԻՋՈՑՆԵՐ | G49: =+G50 -> 0 | H49: =+H50 -> -11653.9 | I49: =+I50 -> 0
F50: ՇԵՆՔԵՐ ԵՎ ՇԻՆՈՒԹՅՈՒՆՆԵՐ | G50: =+G51 -> 0 | H50: =+H51 -> -11653.9 | I50: =+I51 -> 0
F51: - Շենքերի և շինությունների կապիտալ վերանորոգում | G51: =+'Հավելված N 5'!E20 -> 0 | H51: =+'Հավելված N 5'!F20 -> -11653.9 | I51: =+'Հավելված N 5'!G20 -> 0
B52: 06 | F52: Կրթությանը տրամադրվող օժանդակ ծառայություններ | G52: =+G54 -> -63622.2 | H52: =+H54 -> -111338.9 | I52: =+I54 -> -122992.8
F53: այդ թվում`
C54: 01 | F54: Կրթությանը տրամադրվող օժանդակ ծառայություններ | G54: =+G56 -> -63622.2 | H54: =+H56 -> -111338.9 | I54: =+I56 -> -122992.8
F55: այդ թվում`
F56: ՀՀ կրթության, գիտության, մշակույթի և սպորտի նախարարություն | G56: =+G58 -> -63622.2 | H56: =+H58 -> -111338.9 | I56: =+I58 -> -122992.8
F57: այդ թվում`
D58: 1111 | E58: Բարձրագույն և հետբուհական մասնագիտական կրթության ծրագիր | G58: =+G60 -> -63622.2 | H58: =+H60 -> -111338.9 | I58: =+I60 -> -122992.8
F59: այդ թվում`
E60: 32001 | F60: Բարձրագույն ուսումնական հաստատությունների և «Զեյթուն» ուսանողական ավան» հիմնադրամի շենքային պայմանների բարելավում | G60: =+G62 -> -63622.2 | H60: =+H62 -> -111338.9 | I60: =+I62 -> -122992.8
F61: այդ թվում` ըստ կատարողների
F62: ՀՀ կրթության, գիտության, մշակույթի և սպորտի նախարարություն | G62: =+G64 -> -63622.2 | H62: =+H64 -> -111338.9 | I62: =+I64 -> -122992.8
F63: այդ թվում՝ բյուջետային ծախսերի տնտեսագիտական դասակարգման հոդվածներ
F64: ԸՆԴԱՄԵՆԸ ԾԱԽՍԵՐ | G64: =G65 -> -63622.2 | H64: =H65 -> -111338.9 | I64: =I65 -> -122992.8
F65: ՈՉ ՖԻՆԱՆՍԱԿԱՆ ԱԿՏԻՎՆԵՐԻ ԳԾՈՎ ԾԱԽՍԵՐ | G65: =+G66 -> -63622.2 | H65: =+H66 -> -111338.9 | I65: =+I66 -> -122992.8
F66: ՀԻՄՆԱԿԱՆ ՄԻՋՈՑՆԵՐ | G66: =+G67 -> -63622.2 | H66: =+H67 -> -111338.9 | I66: =+I67 -> -122992.8
F67: ՇԵՆՔԵՐ ԵՎ ՇԻՆՈՒԹՅՈՒՆՆԵՐ | G67: =+G68 -> -63622.2 | H67: =+H68 -> -111338.9 | I67: =+I68 -> -122992.8
F68: - Շենքերի և շինությունների կապիտալ վերանորոգում | G68: =+'Հավելված N 5'!E14 -> -63622.2 | H68: =+'Հավելված N 5'!F14 -> -111338.9 | I68: =+'Հավելված N 5'!G14 -> -122992.8

Sheet Հավելված N 4
F1: Հավելված N 4
F2: ՀՀ կառավարության 2024 թվականի
F3: ______________ ի ___Ն որոշման
A5: «ՀԱՅԱUՏԱՆԻ ՀԱՆՐԱՊԵՏՈՒԹՅԱՆ 2024 ԹՎԱԿԱՆԻ ՊԵՏԱԿԱՆ ԲՅՈՒՋԵԻ ՄԱUԻՆ» ՀԱՅԱUՏԱՆԻ ՀԱՆՐԱՊԵՏՈՒԹՅԱՆ OՐԵՆՔԻ N 1 ՀԱՎԵԼՎԱԾԻ N 3 ԱՂՅՈՒՍԱԿՈՒՄ ԿԱՏԱՐՎՈՂ ՓՈՓՈԽՈՒԹՅՈՒՆԸ
G8: հազ. դրամներով
A9: Ծրագրային դասիչ | C9: Բյուջետային գլխավոր կարգադրիչների, ծրագրերի, միջոցառումների, միջոցառումները կատարող պետական մարմինների և ուղղությունների անվանումները | D9: Ընդամենը | E9: Ցուցանիշների փոփոխությունը (նվազեցումները նշված են փակագծերում)
A10: Ծրագիր | B10: Միջոցառում | E10: Կառուցման աշխատանքներ | F10: Վերակառուցման, վերանորոգման և վերականգնման աշխատանքներ | G10: Նախագծահե- տազոտական, գեոդեզիա- քարտեզագրա- կան աշխա- տանքներ | H10: Ոչ ֆինանսական այլ ակտիվների ձեռքբերում
C11: ԸՆԴԱՄԵՆԸ | D11: =SUM(E11:H11) -> -122992.8 | E11: =+E13 -> 0 | F11: =+F13 -> -122992.8 | G11: =+G13 -> 0 | H11: =+H13 -> 0
C12: այդ թվում՝
C13: ՀՀ ԿՐԹՈՒԹՅԱՆ, ԳԻՏՈՒԹՅԱՆ, ՄՇԱԿՈՒՅԹԻ ԵՎ ՍՊՈՐՏԻ ՆԱԽԱՐԱՐՈՒԹՅՈՒՆ | D13: =SUM(E13:H13) -> -122992.8 | E13: =+E15 -> 0 | F13: =+F15 -> -122992.8 | G13: =+G15 -> 0 | H13: =+H15 -> 0
C14: այդ թվում`
A15: 1111 | B15: 32001 | C15: Բարձրագույն ուսումնական հաստատությունների և ««Զեյթուն» ուսանողական ավան» հիմնադրամի շենքային պայմանների բարելավում | D15: =SUM(E15:H15) -> -122992.8 | E15: =+E17 -> 0 | F15: =+F17 -> -122992.8 | G15: =+G17 -> 0 | H15: =+H17 -> 0
C16: այդ թվում`
C17: Երևան քաղաք | D17: =SUM(E17:H17) -> -122992.8 | E17: =+E18+E19 -> 0 | F17: =+F18+F19 -> -122992.8 | G17: =+G18+G19 -> 0 | H17: =+H18+H19 -> 0
C18: «Զեյթուն» ուսանողական ավան» հիմնադրամ | D18: =SUM(E18:H18) -> -122992.8 | F18: =+'Հավելված N 9'!I17+'Հավելված N 9'!I19+'Հավելված N 9'!I20 -> -122992.8

Sheet Հավելված N 5
F1: Հավելված N 5
F2: ՀՀ կառավարության 2023 թվականի
F3: ______________ ի ___Ն որոշման
B5: ՀԱՅԱՍՏԱՆԻ ՀԱՆՐԱՊԵՏՈՒԹՅԱՆ ԿԱՌԱՎԱՐՈՒԹՅԱՆ 2023 ԹՎԱԿԱՆԻ ԴԵԿՏԵՄԲԵՐԻ 28-Ի N 2323-Ն ՈՐՈՇՄԱՆ N 5 ՀԱՎԵԼՎԱԾԻ N 2 ԱՂՅՈՒՍԱԿՈՒՄ ԿԱՏԱՐՎՈՂ ՓՈՓՈԽՈՒԹՅՈՒՆՆԵՐԸ
G7: հազ. դրամներով
B8: Ծրագրային դասիչ | D8: Բյուջետային գլխավոր կարգադրիչների, ծրագրերի, միջոցառումների, միջոցառումները կատարող պետական մարմինների և ուղղությունների անվանումները | E8: Ցուցանիշների փոփոխությունը (նվազեցումները նշված են փակագծերում)
B9: Ծրագիր | C9: Միջոցառում | E9: Առաջին կիսամյակ | F9: Ինն ամիս | G9: Տարի
D10: ՀՀ ԿՐԹՈՒԹՅԱՆ, ԳԻՏՈՒԹՅԱՆ, ՄՇԱԿՈՒՅԹԻ ԵՎ ՍՊՈՐՏԻ ՆԱԽԱՐԱՐՈՒԹՅՈՒՆ | E10: =+E12+E18 -> -63622.2 | F10: =+F12+F18 -> -122992.8 | G10: =+G12+G18 -> -122992.8
D11: այդ թվում՝
B12: 1111 | C12: 32001 | D12: Բարձրագույն ուսումնական հաստատությունների և ««Զեյթուն» ուսանողական ավան» հիմնադրամի շենքային պայմանների բարելավում | E12: =+E14 -> -63622.2 | F12: =+F14 -> -111338.9 | G12: =+G14 -> -122992.8
D13: այդ թվում` ըստ կատարողների
D14: ՀՀ կրթության, գիտության, մշակույթի և սպորտի նախարարություն | E14: =+E16 -> -63622.2 | F14: =+F16 -> -111338.9 | G14: =+G16 -> -122992.8
D15: այդ թվում`ըստ ուղղությունների
D16: Երևան քաղաք | E16: =+E17 -> -63622.2 | F16: =+F17 -> -111338.9 | G16: =+G17 -> -122992.8
D17: «Զեյթուն» ուսանողական ավան» հիմնադրամ | E17: -63622.2 | F17: -111338.9 | G17: =+'Հավելված N 4'!D18 -> -122992.8
B18: 1236 | C18: 32002 | D18: Մանկապարտեզների շենքերի վերակառուցում, հիմնանորոգում | E18: =+E20 -> 0 | F18: =+F20 -> -11653.9 | G18: =+G20 -> 0
D19: այդ թվում` ըստ կատարողների
D20: ՀՀ տարածքային կառավարման և ենթակառուցվածքների նախարարություն | E20: =+E22 -> 0 | F20: =-'Հավելված N 6'!G10-'Հավելված N 5'!F12 -> -11653.9 | G20: =+G22 -> 0

Sheet Հավելված N 6
F1: Հավելված N 6
F2: ՀՀ կառավարության 2024 թվականի
F3: ______________ ի ___Ն որոշման
A6: ՀԱՅԱՍՏԱՆԻ ՀԱՆՐԱՊԵՏՈՒԹՅԱՆ ԿԱՌԱՎԱՐՈՒԹՅԱՆ 2023 ԹՎԱԿԱՆԻ ԴԵԿՏԵՄԲԵՐԻ 28-Ի N 2323-Ն ՈՐՈՇՄԱՆ N 5 ՀԱՎԵԼՎԱԾԻ N 7 ԱՂՅՈՒՍԱԿՈՒՄ ԿԱՏԱՐՎՈՂ ԼՐԱՑՈՒՄԸ
A7: հազար դրամ
A8: Ծրագրային դասիչը | D8: Բյուջետային հատկացումների գլխավոր կարգադրիչների, ծրագրերի, միջոցառումների և միջոցառումները կատարող պետական մարմինների անվանումները | F8: Միջոցառումները կատարող պետական մարմինների և դրամաշնորհ ստացող տնտեսվարող սուբյեկտների անվանումները | G8: Ցուցանիշների փոփոխությունը (ավելացումները նշված են դրական նշանով)
A9: Ծրագիր | B9: Միջոցառում | G9: Տարի
A10: ՀՀ կրթության, գիտության, մշակույթի և սպորտի նախարարություն | G10: =+G11 -> 122992.8
A11: 1168 | B11: Արվեստների ծրագիր | G11: =+G12 -> 122992.8
B12: 32001 | C12: Ներդրումներ թատրոնների և համերգային կազմակերպությունների շենքերի կապիտալ վերանորոգման համար | G12: =+G13 -> 122992.8
F13: ՀՀ կրթության, գիտության, մշակույթի և սպորտի նախարարություն | G13: =+G14 -> 122992.8
F14: «Հայաստանի ազգային ֆիլհարմոնիկ նվագախումբ» ՊՈԱԿ | G14: =ROUNDUP(65734.74+1218.72+406.24+29833.02+25800,1) -> 122992.8

Sheet Հավելված N 7
C1: Հավելված N 7
C2: ՀՀ կառավարության 2024 թվականի
C3: ______________ ի ___Ն որոշման
B6: ՀԱՅԱՍՏԱՆԻ ՀԱՆՐԱՊԵՏՈՒԹՅԱՆ ԿԱՌԱՎԱՐՈՒԹՅԱՆ 2023 ԹՎԱԿԱՆԻ ԴԵԿՏԵՄԲԵՐԻ 28-Ի N 2323-Ն ՈՐՈՇՄԱՆ N 9 ՀԱՎԵԼՎԱԾԻ N 9.13 ԱՂՅՈՒՍԱԿՈՒՄ ԿԱՏԱՐՎՈՂ ՓՈՓՈԽՈՒԹՅՈՒՆՆԵՐԸ ԵՎ ԼՐԱՑՈՒՄՆԵՐԸ
A8: Աղյուսակ 9․13
C9: ՀՀ կրթության, գիտության, մշակույթի և սպորտի նախարարություն
B10: ՄԱՍ 2. ՊԵՏԱԿԱՆ ՄԱՐՄՆԻ ԳԾՈՎ ԱՐԴՅՈՒՆՔԱՅԻՆ (ԿԱՏԱՐՈՂԱԿԱՆ) ՑՈՒՑԱՆԻՇՆԵՐԸ
B13: Ծրագրի դասիչը | C13: Ծրագրի անվանումը
B14: 1111 | C14: Բարձրագույն և հետբուհական մասնագիտական կրթության ծրագիր
B16: Ծրագրի միջոցառումները
B17: Ծրագրի դասիչը՝ | C17: 1111 | D17: Ցուցանիշների փոփոխությունը (նվազեցումները նշված են փակագծերում)
B18: Միջոցառման դասիչը` | C18: 32001 | D18: Առաջին կիսամյակ | E18: Ինն ամիս | F18: Տարի
B19: Միջոցառման անվանումը` | C19: Բարձրագույն ուսումնական հաստատությունների և «Զեյթուն» ուսանողական ավան» հիմնադրամի շենքային պայմանների բարելավում
B20: Նկարագրությունը` | C20: Բարձրագույն ուսումնական հաստատությունների և «Զեյթուն» ուսանողական ավան» հիմնադրամի շենքային պայմանների բարելավում
B21: Միջոցառման տեսակը` | C21: Այլ պետական կազմակերպությունների կողմից օգտագործվող ոչ ֆինանսական ակտիվների հետ գործառնություններ
B22: Ակտիվն օգտագործող կազմակերպությունների անվանումները | C22: Բարձրագույն ուսումնական հաստատություններ
B23: Արդյունքի չափորոշիչներ
B24: Կազմակերպությունների թիվը, որտեղ կատարվում են ներդրումները, հատ | D24: -1 | F24: 0
B25: Միջոցառման վրա կատարվող ծախսը (հազար դրամ) | D25: =+'Հավելված N 2'!D22 -> -63622.2 | E25: =+'Հավելված N 2'!E22 -> -111338.9 | F25: =+'Հավելված N 2'!F22 -> -122992.8
B27: Ծրագրի դասիչը | C27: Ծրագրի անվանումը
B28: 1168 | C28: Արվեստների ծրագիր
B30: Ծրագրի միջոցառումները
B31: Ծրագրի դասիչը՝ | C31: 1168 | D31: Ցուցանիշների փոփոխությունը (ավելացումները նշված են դրական նշանով)
B32: Միջոցառման դասիչը` | C32: 32001 | D32: Առաջին կիսամյակ | E32: Ինն ամիս | F32: Տարի
B33: Միջոցառման անվանումը` | C33: Ներդրումներ թատրոնների և համերգային կազմակերպությունների շենքերի կապիտալ վերանորոգման համար
B34: Նկարագրությունը` | C34: Թատրոնների և համերգային կազմակերպությունների շենքերի մասնաշենքերի հիմնանորոգում, համաշինարարական աշխատանքներ, ջեռուցման համակարգի իրականացում, ներքին հարդարում, տարածքի բարեկարգում և նախագծում
B35: Միջոցառման տեսակը` | C35: Այլ պետական կազմակերպությունների կողմից օգտագործվող ոչ ֆինանսական ակտիվների հետ գործառնություններ
B36: Ակտիվն օգտագործող կազմակերպությունների անվանումները | C36: Թատրոններ և համերգային կազմակերպություններ
B37: Արդյունքի չափորոշիչներ
B38: Հիմնանորոգվող համերգային կազմակերպությունների քանակ, հատ | D38: 1 | F38: 1
B39: Միջոցառման վրա կատարվող ծախսը (հազար դրամ) | D39: =+'Հավելված N 2'!D35 -> 55633.1 | E39: =+'Հավելված N 2'!E35 -> 122992.8 | F39: =+'Հավելված N 2'!F35 -> 122992.8
B41: Ծրագրի դասիչը | C41: Ծրագրի անվանումը
B42: 1236 | C42: Հանրակրթական և նախադպրոցական հաստատությունների հիմնում, կառուցում, բարելավում
B44: Ծրագրի միջոցառումները
B45: Ծրագրի դասիչը՝ | C45: 1236 | D45: Ցուցանիշների փոփոխությունը (նվազեցումները նշված են փակագծերում)
B46: Միջոցառման դասիչը` | C46: 32002 | D46: Առաջին կիսամյակ | E46: Ինն ամիս | F46: Տարի
B47: Միջոցառման անվանումը` | C47: Մանկապարտեզների շենքերի վերակառուցում, հիմնանորոգում
B48: Նկարագրությունը` | C48: Նախադպրոցական կրթության հասանելիության ապահովման նպատակով՛ մանկապարտեզների շենքերի (մասնաշենքերի), վերակառուցում, հիմնանորոգում և նախագծում
B49: Միջոցառման տեսակը` | C49: Այլ պետական կազմակերպությունների կողմից օգտագործվող ոչ ֆինանսական ակտիվների հետ գործառնություններ
B50: Ակտիվն օգտագործող կազմակերպությունների անվանումները | C50: Նախադպրոցական կրթությույն իրականացնող ուսումնական հաստատություններ
B51: Արդյունքի չափորոշիչներ
B52: Միջոցառման վրա կատարվող ծախսը (հազար դրամ) | D52: =+'Հավելված N 2'!D48 -> 0 | E52: =+'Հավելված N 2'!E48 -> -11653.9 | F52: =+'Հավելված N 2'!F48 -> 0

Sheet Հավելված N 8
C1: Հավելված N 8
C2: ՀՀ կառավարության 2024 թվականի
C3: ______________ ի ___Ն որոշման
B6: ՀԱՅԱՍՏԱՆԻ ՀԱՆՐԱՊԵՏՈՒԹՅԱՆ ԿԱՌԱՎԱՐՈՒԹՅԱՆ 2023 ԹՎԱԿԱՆԻ ԴԵԿՏԵՄԲԵՐԻ 28-Ի N 2323-Ն ՈՐՈՇՄԱՆ N 9.1 ՀԱՎԵԼՎԱԾԻ N 9.1.7 ԵՎ 9.1.13 ԱՂՅՈՒՍԱԿՆԵՐՈՒՄ ԿԱՏԱՐՎՈՂ ՓՈՓՈԽՈՒԹՅՈՒՆՆԵՐԸ ԵՎ ԼՐԱՑՈՒՄՆԵՐԸ
A8: Աղյուսակ 9․1.7
C9: ՀՀ տարածքային կառավարման և ենթակառուցվածքների նախարարություն
B10: ՄԱՍ 1. ՊԵՏԱԿԱՆ ՄԱՐՄՆԻ ԳԾՈՎ ԱՐԴՅՈՒՆՔԱՅԻՆ (ԿԱՏԱՐՈՂԱԿԱՆ) ՑՈՒՑԱՆԻՇՆԵՐԸ
B13: Ծրագրի դասիչը | C13: Ծրագրի անվանումը
B14: 1236 | C14: Հանրակրթական և նախադպրոցական հաստատությունների հիմնում, կառուցում, բարելավում
B16: Ծրագրի միջոցառումները
B17: Ծրագրի դասիչը՝ | C17: 1236 | D17: Ցուցանիշների փոփոխությունը (նվազեցումները նշված են փակագծերում)
B18: Միջոցառման դասիչը՝ | C18: 32002 | D18: Առաջին կիսամյակ | E18: Ինն ամիս | F18: Տարի
B19: Միջոցառման անվանումը` | C19: Մանկապարտեզների շենքերի վերակառուցում, հիմնանորոգում
B20: Նկարագրությունը` | C20: Նախադպրոցական կրթության հասանելիության ապահովման նպատակով՛ մանկապարտեզների շենքերի (մասնաշենքերի), վերակառուցում, հիմնանորոգում և նախագծում
B21: Միջոցառման տեսակը` | C21: Այլ պետական կազմակերպությունների կողմից օգտագործվող ոչ ֆինանսական ակտիվների հետ գործառնություններ
B22: Ակտիվն օգտագործող կազմակերպությունների անվանումները | C22: Նախադպրոցական կրթությույն իրականացնող ուսումնական հաստատություններ
B23: Արդյունքի չափորոշիչներ
B24: Միջոցառման վրա կատարվող ծախսը (հազար դրամ) | D24: =+'Հավելված N 3'!G45 -> 0 | E24: =+'Հավելված N 3'!H45 -> -11653.9 | F24: =+'Հավելված N 3'!I45 -> 0
A30: Աղյուսակ 9․1.13
C31: ՀՀ կրթության, գիտության, մշակույթի և սպորտի նախարարություն
B32: ՄԱՍ 1. ՊԵՏԱԿԱՆ ՄԱՐՄՆԻ ԳԾՈՎ ԱՐԴՅՈՒՆՔԱՅԻՆ (ԿԱՏԱՐՈՂԱԿԱՆ) ՑՈՒՑԱՆԻՇՆԵՐԸ
B35: Ծրագրի դասիչը | C35: Ծրագրի անվանումը
B36: 1111 | C36: Բարձրագույն և հետբուհական մասնագիտական կրթության ծրագիր
B38: Ծրագրի միջոցառումները
B39: Ծրագրի դասիչը՝ | C39: 1111 | D39: Ցուցանիշների փոփոխությունը (նվազեցումները նշված են փակագծերում)
B40: Միջոցառման դասիչը` | C40: 32001 | D40: Առաջին կիսամյակ | E40: Ինն ամիս | F40: Տարի
B41: Միջոցառման անվանումը` | C41: Բարձրագույն ուսումնական հաստատությունների և «Զեյթուն» ուսանողական ավան» հիմնադրամի շենքային պայմանների բարելավում
B42: Նկարագրությունը` | C42: Բարձրագույն ուսումնական հաստատությունների և «Զեյթուն» ուսանողական ավան» հիմնադրամի շենքային պայմանների բարելավում
B43: Միջոցառման տեսակը` | C43: Այլ պետական կազմակերպությունների կողմից օգտագործվող ոչ ֆինանսական ակտիվների հետ գործառնություններ
B44: Ակտիվն օգտագործող կազմակերպությունների անվանումները | C44: Բարձրագույն ուսումնական հաստատություններ
B45: Արդյունքի չափորոշիչներ
B46: Կազմակերպությունների թիվը, որտեղ կատարվում են ներդրումները, հատ | D46: -1 | F46: 0
B47: Միջոցառման վրա կատարվող ծախսը (հազար դրամ) | D47: =+'Հավելված N 3'!G62 -> -63622.2 | E47: =+'Հավելված N 3'!H62 -> -111338.9 | F47: =+'Հավելված N 3'!I62 -> -122992.8
B49: Ծրագրի դասիչը | C49: Ծրագրի անվանումը
B50: 1168 | C50: Արվեստների ծրագիր
B52: Ծրագրի միջոցառումները
B53: Ծրագրի դասիչը՝ | C53: 1168 | D53: Ցուցանիշների փոփոխությունը (ավելացումները նշված են դրական նշանով)
B54: Միջոցառման դասիչը` | C54: 32001 | D54: Առաջին կիսամյակ | E54: Ինն ամիս | F54: Տարի
B55: Միջոցառման անվանումը` | C55: Ներդրումներ թատրոնների և համերգային կազմակերպությունների շենքերի կապիտալ վերանորոգման համար
B56: Նկարագրությունը` | C56: Թատրոնների և համերգային կազմակերպությունների շենքերի մասնաշենքերի հիմնանորոգում, համաշինարարական աշխատանքներ, ջեռուցման համակարգի իրականացում, ներքին հարդարում, տարածքի բարեկարգում և նախագծում
B57: Միջոցառման տեսակը` | C57: Այլ պետական կազմակերպությունների կողմից օգտագործվող ոչ ֆինանսական ակտիվների հետ գործառնություններ
B58: Ակտիվն օգտագործող կազմակերպությունների անվանումները | C58: Թատրոններ և համերգային կազմակերպություններ
B59: Արդյունքի չափորոշիչներ
B60: Հիմնանորոգվող համերգային կազմակերպությունների քանակ, հատ | D60: 1 | F60: 1
B61: Միջոցառման վրա կատարվող ծախսը (հազար դրամ) | D61: =+'Հավելված N 3'!G26 -> 55633.1 | E61: =+'Հավելված N 3'!H26 -> 122992.8 | F61: =+'Հավելված N 3'!I26 -> 122992.8

Sheet Հավելված N 9
H1: Հավելված N 9
H2: ՀՀ կառավարության 2024 թվականի
H3: ______________ ի ___Ն որոշման
A6: ՀԱՅԱՍՏԱՆԻ ՀԱՆՐԱՊԵՏՈՒԹՅԱՆ ԿԱՌԱՎԱՐՈՒԹՅԱՆ 2023 ԹՎԱԿԱՆԻ ԴԵԿՏԵՄԲԵՐԻ 28-Ի N 2323-Ն N 10 ՀԱՎԵԼՎԱԾՈՒՄ ԿԱՏԱՐՎՈՂ ՓՈՓՈԽՈՒԹՅՈՒՆՆԵՐԸ
A10: Կոդը | B10: Անվանումը | E10: Գնման ձևը | F10: Չափման միավորը | G10: Միավորի գինը | H10: Ցուցանիշների փոփոխությունը (նվազեցումները նշված են փակագծերում)
H11: Քանակը | I11: Գումարը (հազար դրամ)
A12: 1 | B12: 2 | E12: 3 | F12: 4 | G12: 5 | H12: 6 | I12: 7
A13: ՀՀ կրթության, գիտության, մշակույթի և սպորտի նախարարություն | I13: =+I14 -> -122992.8
A14: Բաժին N 09 | B14: Խումբ N 06 | C14: Դաս N 01 | D14: Կրթությանը տրամադրվող օժանդակ ծառայություններ | I14: =+I15 -> -122992.8
A15: 1111-32001 | B15: Բարձրագույն ուսումնական հաստատությունների և ««Զեյթուն» ուսանողական ավան» հիմնադրամի շենքային պայմանների բարելավում | I15: =+I16+I18 -> -122992.8
B16: ՄԱՍ II. ԱՇԽԱՏԱՆՔՆԵՐ | I16: =+I17 -> -119876.1
A17: 45451700-501 | B17: վերակառուցման աշխատանքներ | E17: ԲՄ | F17: դրամ | I17: -119876.1
B18: ՄԱՍ III. ԾԱՌԱՅՈՒԹՅՈՒՆՆԵՐ | I18: =SUM(I19:I20) -> -3116.7
A19: 71351540-1 | B19: տեխնիկական հսկողության ծառայություններ | E19: ԳՀ | F19: դրամ | I19: -2397.5
A20: 98111140-1 | B20: հեղինակային հսկողության ծառայություններ | E20: ՄԱ | F20: դրամ | I20: -719.2
