Workbook
Name a: #REF!
Name a: #REF!
Name a: #REF!
Name a: #REF!
Name a: #REF!
Name a: #REF!
Name AgencyCode: #REF!
Name AgencyCode: #REF!
Name AgencyCode: #REF!
Name AgencyCode: #REF!
Name AgencyCode: #REF!
Name AgencyCode: #REF!
Name AgencyCode: #REF!
Name AgencyName: #REF!
Name AgencyName: #REF!
Name AgencyName: #REF!
Name AgencyName: #REF!
Name AgencyName: #REF!
Name BOP: #REF!
Name BOP: #REF!
Name BOP: #REF!
Name BOPfoot: #REF!
Name BOPfoot: #REF!
Name BOPfoot: #REF!
Name davit: #REF!
Name davit: #REF!
Name davit: #REF!
Name davit: #REF!
Name DebtCG: #REF!
Name DebtCG: #REF!
Name DebtCG: #REF!
Name DebtGG: #REF!
Name DebtGG: #REF!
Name DebtGG: #REF!
Name Functional1: #REF!
Name Functional1: #REF!
Name Functional1: #REF!
Name Functional1: #REF!
Name Functional1: #REF!
Name ggg: #REF!
Name ggg: #REF!
Name ggg: #REF!
Name ggg: #REF!
Name MonExo: #REF!
Name MonExo: #REF!
Name MonExo: #REF!
Name MonGrow: #REF!
Name MonGrow: #REF!
Name MonGrow: #REF!
Name PANature: #REF!
Name PANature: #REF!
Name PANature: #REF!
Name PANature: #REF!
Name PANature: #REF!
Name PAType: #REF!
Name PAType: #REF!
Name PAType: #REF!
Name PAType: #REF!
Name PAType: #REF!
Name Performance2: #REF!

Sheet Հավելված N 1 
D1: Հավելված N 1
D2: ՀՀ կառավարության 2024 թվականի
D3: ______________ ի ___Ն որոշման
A5: «ՀԱՅԱՍՏԱՆԻ ՀԱՆՐԱՊԵՏՈՒԹՅԱՆ 2024 ԹՎԱԿԱՆԻ ՊԵՏԱԿԱՆ ԲՅՈՒՋԵԻ ՄԱՍԻՆ» ՕՐԵՆՔԻ 3-ՐԴ ՀՈԴՎԱԾԻ, N 3 ՀԱՎԵԼՎԱԾԻ N 1 ԱՂՅՈՒՍԱԿՈՒՄ ԵՎ ՀԱՅԱՍՏԱՆԻ ՀԱՆՐԱՊԵՏՈՒԹՅԱՆ ԿԱՌԱՎԱՐՈՒԹՅԱՆ 2023 ԹՎԱԿԱՆԻ ԴԵԿՏԵՄԲԵՐԻ 28-Ի N 2323-Ն ՈՐՈՇՄԱՆ N 1 ՀԱՎԵԼՎԱԾԻ N 1 ԱՂՅՈՒՍԱԿՈՒՄ ԿԱՏԱՐՎՈՂ ՓՈՓՈԽՈՒԹՅՈՒՆԸ
D7: հազ. դրամ
A8: Պետական բյուջեի դեֆիցիտի ֆինանսավորման աղբյուրներն ու դրանց տարրերի անվանումները | B8: Ցուցանիշների փոփոխությունը (նվազեցումները նշված են փակագծերում)
B9: Առաջին կիսամյակ | C9: Ինն ամիս | D9: Տարի
A10: ԸՆԴԱՄԵՆԸ | B10: =+B12 -> -4750 | C10: =+C12 -> 0 | D10: =+D12 -> 0
A11: այդ թվում՝
A12: Ա.Ներքին աղբյուրներ-ընդամենը | B12: =+B14 -> -4750 | C12: =+C14 -> 0 | D12: =+D14 -> 0
A13: այդ թվում՝
A14: 2. Ֆինանսական զուտ ակտիվներ | B14: =+B16 -> -4750 | C14: =+C16 -> 0 | D14: =+D16 -> 0
A15: այդ թվում՝
A16: 2.6.Այլ | B16: =+B18 -> -4750 | C16: =+C18 -> 0 | D16: =+D18 -> 0
A17: որից՝
A18: Ժամանակավորապես ազատ միջոցներ | B18: =+'Հավելված N 2'!D11 -> -4750 | C18: =+'Հավելված N 2'!E11 -> 0 | D18: =+'Հավելված N 2'!F11 -> 0

Sheet Հավելված N 2
E1: Հավելված N 2
E2: ՀՀ կառավարության 2024 թվականի
E3: ______________ ի ___Ն որոշման
A6: «ՀԱՅԱUՏԱՆԻ ՀԱՆՐԱՊԵՏՈՒԹՅԱՆ 2024 ԹՎԱԿԱՆԻ ՊԵՏԱԿԱՆ ԲՅՈՒՋԵԻ ՄԱUԻՆ» ՀԱՅԱUՏԱՆԻ ՀԱՆՐԱՊԵՏՈՒԹՅԱՆ OՐԵՆՔԻ N 1 ՀԱՎԵԼՎԱԾԻ N 2 ԱՂՅՈՒՍԱԿՈՒՄ ԿԱՏԱՐՎՈՂ ՎԵՐԱԲԱՇԽՈՒՄԸ ԵՎ ՀԱՅԱՍՏԱՆԻ ՀԱՆՐԱՊԵՏՈՒԹՅԱՆ ԿԱՌԱՎԱՐՈՒԹՅԱՆ 2023 ԹՎԱԿԱՆԻ ԴԵԿՏԵՄԲԵՐԻ 28-Ի N 2323-Ն ՈՐՈՇՄԱՆ N 5 ՀԱՎԵԼՎԱԾԻ N 1 ԱՂՅՈՒՍԱԿՈՒՄ ԿԱՏԱՐՎՈՂ ՓՈՓՈԽՈՒԹՅՈՒՆՆԵՐԸ ԵՎ ԼՐԱՑՈՒՄՆԵՐԸ
F8: հազ. դրամներով
A9: Ծրագրային դասիչը | C9: Բյուջետային հատկացումների գլխավոր կարգադրիչների, ծրագրերի և միջոցառումների անվանումները | D9: Ցուցանիշների փոփոխությունը (ավելացումները նշված են դրական նշանով, իսկ նվազեցումները՝ փակագծերում)
A10: Ծրագիր | B10: Միջոցառում | D10: Առաջին կիսամյակ | E10: Ինն ամիս | F10: Տարի
A11: 1192 | C11: ԸՆԴԱՄԵՆԸ | D11: =+D13 -> -4750 | E11: =+E13 -> 0 | F11: =+F13 -> 0
C12: այդ թվում
C13: ՀՀ ԿՐԹՈՒԹՅԱՆ, ԳԻՏՈՒԹՅԱՆ, ՄՇԱԿՈՒՅԹԻ ԵՎ ՍՊՈՐՏԻ ՆԱԽԱՐԱՐՈՒԹՅՈՒՆ | D13: =+D15 -> -4750 | E13: =+E15 -> 0 | F13: =+F15 -> 0
A14: 1075 | C14: Ծրագրի անվանումը`
C15: Մշակութային ժառանգության ծրագիր | D15: =+D22+D28 -> -4750 | E15: =+E22+E28 -> 0 | F15: =+F22+F28 -> 0
C16: Ծրագրի նպատակը`
C17: Մշակութային ժառանգության պահպանում, օգտագործում, համալրում և հանրահռչակում
C18: Վերջնական արդյունքի նկարագրությունը`
C19: Մշակութային ժառանգության շարունակական պահպանում, մշակութային զբոսաշրջության զարգացում և խթանում
C20: Ծրագրի միջոցառումներ
B21: 21001 | C21: Միջոցառման անվանումը`
C22: Հուշարձանների ամրակայում, նորոգում և վերականգնում | D22: =+'Հավելված N 3'!G39 -> 0 | E22: =+'Հավելված N 3'!H39 -> 34952.4 | F22: =+'Հավելված N 3'!I39 -> 66127.3
C23: Միջոցառման նկարագրությունը`
C24: Հուշարձանների գիտանախագծային փաստաթղթերի կազմում, հրատապ ուսումնասիրում, վավերագրման և ուսումնասիրման աշխատանքներ, հետախուզում և հնագիտական պեղում, ամրակայում, նորոգում և վերականգնում
C25: Միջոցառման տեսակը
C26: Հանրության կողմից անմիջականորեն օգտագործվող ակտիվների հետ կապված միջոցառումներ
B27: 32001 | C27: Միջոցառման անվանումը`
C28: Ներդրումներ թանգարանների և պատկերասրահների հիմնանորոգման համար | D28: =+'Հավելված N 3'!G24 -> -4750 | E28: =+'Հավելված N 3'!H24 -> -34952.4 | F28: =+'Հավելված N 3'!I24 -> -66127.3
C29: Միջոցառման նկարագրությունը`
C30: Թանգարանների և պատկերասրահների շենքերի, մասնաշենքերի հիմնանորոգում, համաշինարարական աշխատանքներ, ջեռուցման համակարգի իրականացում, ներքին հարդարում, տարածքի բարեկարգում և նախագծում
C31: Միջոցառման տեսակը
C32: Այլ պետական կազմակերպությունների կողմից օգտագործվող ոչ ֆինանսական ակտիվների հետ գործառնություններ

Sheet Հավելված N 3
F1: Հավելված N 3
F2: ՀՀ կառավարության 2024 թվականի
F3: ______________ ի ___Ն որոշման
A6: ՀԱՅԱՍՏԱՆԻ ՀԱՆՐԱՊԵՏՈՒԹՅԱՆ ԿԱՌԱՎԱՐՈՒԹՅԱՆ 2023 ԹՎԱԿԱՆԻ ԴԵԿՏԵՄԲԵՐԻ 28-Ի N2323-Ն ՈՐՈՇՄԱՆ N 3 ԵՎ N 4 ՀԱՎԵԼՎԱԾՆԵՐՈՒՄ ԿԱՏԱՐՎՈՂ ՓՈՓՈԽՈՒԹՅՈՒՆՆԵՐԸ ԵՎ ԼՐԱՑՈՒՄՆԵՐԸ
I8: հազ. դրամներով
A9: Գործառական դասիչը | D9: Ծրագրային դասիչը | F9: Բյուջետային հատկացումների գլխավոր կարգադրիչների, ծրագրերի, միջոցառումների և միջոցառումները կատարող պետական մարմինների անվանումները | G9: Ցուցանիշների փոփոխությունը (ավելացումները նշված են դրական նշանով, իսկ նվազեցումները՝ փակագծերում)
A10: Բաժին | B10: Խումբ | C10: Դաս | D10: Ծրագիր | E10: Միջոցառում | G10: Առաջին կիսամյակ | H10: Ինն ամիս | I10: Տարի
F11: ԸՆԴԱՄԵՆԸ | G11: =+G13 -> -4750 | H11: =+H13 -> 0 | I11: =+I13 -> 0
F12: այդ թվում
F13: ՀՀ ԿՐԹՈՒԹՅԱՆ, ԳԻՏՈՒԹՅԱՆ, ՄՇԱԿՈՒՅԹԻ ԵՎ ՍՊՈՐՏԻ ՆԱԽԱՐԱՐՈՒԹՅՈՒՆ | G13: =+G14 -> -4750 | H13: =+H14 -> 0 | I13: =+I14 -> 0
A14: 08 | F14: ՀԱՆԳԻՍՏ, ՄՇԱԿՈՒՅԹ ԵՎ ԿՐՈՆ | G14: =+G16 -> -4750 | H14: =+H16 -> 0 | I14: =+I16 -> 0
F15: այդ թվում`
B16: 02 | F16: Մշակութային ծառայություններ | G16: =+G18+G33 -> -4750 | H16: =+H18+H33 -> 0 | I16: =+I18+I33 -> 0
F17: այդ թվում`
C18: 02 | F18: Թանգարաններ և ցուցասրահներ | G18: =+G20 -> -4750 | H18: =+H20 -> -34952.4 | I18: =+I20 -> -66127.3
F19: այդ թվում`
F20: ՀՀ կրթության, գիտության, մշակույթի և սպորտի նախարարություն | G20: =+G22 -> -4750 | H20: =+H22 -> -34952.4 | I20: =+I22 -> -66127.3
F21: այդ թվում`
D22: 1075 | E22: Մշակութային ժառանգության ծրագիր | G22: =+G24 -> -4750 | H22: =+H24 -> -34952.4 | I22: =+I24 -> -66127.3
F23: այդ թվում`
E24: 32001 | F24: Ներդրումներ թանգարանների և պատկերասրահների հիմնանորոգման համար | G24: =+G26 -> -4750 | H24: =+H26 -> -34952.4 | I24: =+I26 -> -66127.3
F25: այդ թվում` ըստ կատարողների
F26: ՀՀ քաղաքաշինության կոմիտե | G26: =+G28 -> -4750 | H26: =+H28 -> -34952.4 | I26: =+I28 -> -66127.3
F27: այդ թվում՝ բյուջետային ծախսերի տնտեսագիտական դասակարգման հոդվածներ
F28: ԸՆԴԱՄԵՆԸ ԾԱԽՍԵՐ | G28: =+G29 -> -4750 | H28: =+H29 -> -34952.4 | I28: =+I29 -> -66127.3
F29: ՈՉ ՖԻՆԱՆՍԱԿԱՆ ԱԿՏԻՎՆԵՐԻ ԳԾՈՎ ԾԱԽՍԵՐ | G29: =+G30 -> -4750 | H29: =+H30 -> -34952.4 | I29: =+I30 -> -66127.3
F30: ՀԻՄՆԱԿԱՆ ՄԻՋՈՑՆԵՐ | G30: =+G31 -> -4750 | H30: =+H31 -> -34952.4 | I30: =+I31 -> -66127.3
F31: ՇԵՆՔԵՐ ԵՎ ՇԻՆՈՒԹՅՈՒՆՆԵՐ | G31: =+G32 -> -4750 | H31: =+H32 -> -34952.4 | I31: =+I32 -> -66127.3
F32: - Շենքերի և շինությունների կապիտալ վերանորոգում | G32: =+'Հավելված N 5'!E22 -> -4750 | H32: =+'Հավելված N 5'!F22 -> -34952.4 | I32: =+'Հավելված N 5'!G22 -> -66127.3
C33: 07 | F33: Հուշարձանների և մշակութային արժեքների վերականգնում և պահպանում | G33: =+G35 -> 0 | H33: =+H35 -> 34952.4 | I33: =+I35 -> 66127.3
F34: այդ թվում`
F35: ՀՀ կրթության, գիտության, մշակույթի և սպորտի նախարարություն | G35: =+G37 -> 0 | H35: =+H37 -> 34952.4 | I35: =+I37 -> 66127.3
F36: այդ թվում`
D37: 1075 | E37: Մշակութային ժառանգության ծրագիր | G37: =+G39 -> 0 | H37: =+H39 -> 34952.4 | I37: =+I39 -> 66127.3
F38: այդ թվում`
E39: 21001 | F39: Հուշարձանների ամրակայում, նորոգում և վերականգնում | G39: =+G41 -> 0 | H39: =+H41 -> 34952.4 | I39: =+I41 -> 66127.3
F40: այդ թվում` ըստ կատարողների
F41: ՀՀ կրթության, գիտության, մշակույթի և սպորտի նախարարություն | G41: =+G43 -> 0 | H41: =+H43 -> 34952.4 | I41: =+I43 -> 66127.3
F42: այդ թվում՝ բյուջետային ծախսերի տնտեսագիտական դասակարգման հոդվածներ
F43: ԸՆԴԱՄԵՆԸ ԾԱԽՍԵՐ | G43: =+G44 -> 0 | H43: =+H44 -> 34952.4 | I43: =+I44 -> 66127.3
...

Sheet Հավելված N 4
F1: Հավելված N 4
F2: ՀՀ կառավարության 2024 թվականի
F3: ______________ ի ___Ն որոշման
A5: «ՀԱՅԱUՏԱՆԻ ՀԱՆՐԱՊԵՏՈՒԹՅԱՆ 2024 ԹՎԱԿԱՆԻ ՊԵՏԱԿԱՆ ԲՅՈՒՋԵԻ ՄԱUԻՆ» ՀԱՅԱUՏԱՆԻ ՀԱՆՐԱՊԵՏՈՒԹՅԱՆ OՐԵՆՔԻ N 1 ՀԱՎԵԼՎԱԾԻ N 3 ԱՂՅՈՒՍԱԿՈՒՄ ԿԱՏԱՐՎՈՂ ՓՈՓՈԽՈՒԹՅՈՒՆԸ ԵՎ ԼՐԱՑՈՒՄԸ
G8: հազ. դրամներով
A9: Ծրագրային դասիչ | C9: Բյուջետային գլխավոր կարգադրիչների, ծրագրերի, միջոցառումների, միջոցառումները կատարող պետական մարմինների և ուղղությունների անվանումները | D9: Ընդամենը | E9: Ցուցանիշների փոփոխությունը (ավելացումները նշված են դրական նշանով, իսկ նվազեցումները՝ փակագծերում)
A10: Ծրագիր | B10: Միջոցառում | E10: Կառուցման աշխատանքներ | F10: Վերակառուցման, վերանորոգման և վերականգնման աշխատանքներ | G10: Նախագծահե- տազոտական, գեոդեզիա- քարտեզագրա- կան աշխա- տանքներ | H10: Ոչ ֆինանսական այլ ակտիվների ձեռքբերում
C11: ԸՆԴԱՄԵՆԸ | D11: =SUM(E11:H11) -> 0 | E11: =+E13 -> 0 | F11: =+F13 -> 0 | G11: =+G13 -> 0 | H11: =+H13 -> 0
C12: այդ թվում՝
C13: ՀՀ ԿՐԹՈՒԹՅԱՆ, ԳԻՏՈՒԹՅԱՆ, ՄՇԱԿՈՒՅԹԻ ԵՎ ՍՊՈՐՏԻ ՆԱԽԱՐԱՐՈՒԹՅՈՒՆ | D13: =SUM(E13:H13) -> 0 | E13: =+E15+E21 -> 0 | F13: =+F15+F21 -> 0 | G13: =+G15+G21 -> 0 | H13: =+H15+H21 -> 0
C14: այդ թվում`
A15: 1075 | B15: 21001 | C15: Հուշարձանների ամրակայում, նորոգում և վերականգնում | D15: =SUM(E15:H15) -> 66127.3 | E15: =+E17 -> 0 | F15: =+F17 -> 66127.3 | G15: =+G17 -> 0 | H15: =+H17 -> 0
C16: այդ թվում`
C17: 1. Վերականգնողական աշխատանքներ | D17: =SUM(E17:H17) -> 66127.3 | E17: =+E19 -> 0 | F17: =+F19 -> 66127.3 | G17: =+G19 -> 0 | H17: =+H19 -> 0
C18: որից`
C19: ՀՀ Տավուշի մարզ | D19: =SUM(E19:H19) -> 66127.3 | E19: =+E20 -> 0 | F19: =+F20 -> 66127.3 | G19: =+G20 -> 0 | H19: =+H20 -> 0
C20: Կիրանց գյուղի Սուրբ Երրորդություն եկեղեցու վերականգնում | D20: =SUM(E20:H20) -> 66127.3 | F20: =+'Հավելված N 8'!I25+'Հավելված N 8'!I27+'Հավելված N 8'!I28 -> 66127.3
A21: 1075 | B21: 32001 | C21: Ներդրումներ թանգարանների և պատկերասրահների հիմնանորոգման համար | D21: =SUM(E21:H21) -> -66127.3 | E21: =+E23 -> 0 | F21: =+F23 -> -66127.3 | G21: =+G23 -> 0 | H21: =+H23 -> 0
C22: այդ թվում`
C23: Երևան քաղաք | D23: =SUM(E23:H23) -> -66127.3 | E23: =+E24 -> 0 | F23: =+F24 -> -66127.3 | G23: =+G24 -> 0 | H23: =+H24 -> 0
C24: Հայաստանի ազգային պատկերասրահ ՊՈԱԿ-ի Արա Սարգսյանի և Հակոբ Կոջոյանի տուն-թանգարան մասնաճյուղ | D24: =SUM(E24:H24) -> -66127.3 | F24: =+'Հավելված N 8'!I17+'Հավելված N 8'!I19+'Հավելված N 8'!I20 -> -66127.3

Sheet Հավելված N 5
F1: Հավելված N 5
F2: ՀՀ կառավարության 2023 թվականի
F3: ______________ ի ___Ն որոշման
B5: ՀԱՅԱՍՏԱՆԻ ՀԱՆՐԱՊԵՏՈՒԹՅԱՆ ԿԱՌԱՎԱՐՈՒԹՅԱՆ 2023 ԹՎԱԿԱՆԻ ԴԵԿՏԵՄԲԵՐԻ 28-Ի N 2323-Ն ՈՐՈՇՄԱՆ N 5 ՀԱՎԵԼՎԱԾԻ N 2 ԱՂՅՈՒՍԱԿՈՒՄ ԿԱՏԱՐՎՈՂ ՓՈՓՈԽՈՒԹՅՈՒՆԸ ԵՎ ԼՐԱՑՈՒՄԸ
G7: հազ. դրամներով
B8: Ծրագրային դասիչ | D8: Բյուջետային գլխավոր կարգադրիչների, ծրագրերի, միջոցառումների, միջոցառումները կատարող պետական մարմինների և ուղղությունների անվանումները | E8: Ցուցանիշների փոփոխությունը (ավելացումները նշված են դրական նշանով, իսկ նվազեցումները՝ փակագծերում)
B9: Ծրագիր | C9: Միջոցառում | E9: Առաջին կիսամյակ | F9: Ինն ամիս | G9: Տարի
D10: ՀՀ ԿՐԹՈՒԹՅԱՆ, ԳԻՏՈՒԹՅԱՆ, ՄՇԱԿՈՒՅԹԻ ԵՎ ՍՊՈՐՏԻ ՆԱԽԱՐԱՐՈՒԹՅՈՒՆ | E10: =+E12+E20 -> -4750 | F10: =+F12+F20 -> 0 | G10: =+G12+G20 -> 0
D11: այդ թվում՝
B12: 1075 | C12: 21001 | D12: Հուշարձանների ամրակայում, նորոգում և վերականգնում | E12: =+E14 -> 0 | F12: =+F14 -> 34952.4 | G12: =+G14 -> 66127.3
D13: այդ թվում` ըստ կատարողների
D14: ՀՀ կրթության, գիտության, մշակույթի և սպորտի նախարարություն | E14: =+E16+E84 -> 0 | F14: =+F16+F84 -> 34952.4 | G14: =+G16+G84 -> 66127.3
D15: այդ թվում`ըստ ուղղությունների
D16: 1. Վերականգնողական աշխատանքներ | E16: =+E18 -> 0 | F16: =+F18 -> 34952.4 | G16: =+G18 -> 66127.3
D17: որից`
D18: ՀՀ Տավուշի մարզ | E18: =+E19 -> 0 | F18: =+F19 -> 34952.4 | G18: =+G19 -> 66127.3
D19: =+'Հավելված N 4'!C20 -> Կիրանց գյուղի Սուրբ Երրորդություն եկեղեցու վերականգնում | E19: 0 | F19: =-F25 -> 34952.4 | G19: =+'Հավելված N 4'!D20 -> 66127.3
B20: 1075 | C20: 32001 | D20: Ներդրումներ թանգարանների և պատկերասրահների հիմնանորոգման համար | E20: =+E22 -> -4750 | F20: =+F22 -> -34952.4 | G20: =+G22 -> -66127.3
D21: այդ թվում` ըստ կատարողների
D22: ՀՀ քաղաքաշինության կոմիտե | E22: =+E24 -> -4750 | F22: =+F24 -> -34952.4 | G22: =+G24 -> -66127.3
D23: այդ թվում`ըստ ուղղությունների
D24: Երևան քաղաք | E24: =+E25 -> -4750 | F24: =+F25 -> -34952.4 | G24: =+G25 -> -66127.3
D25: =+'Հավելված N 4'!C24 -> Հայաստանի ազգային պատկերասրահ ՊՈԱԿ-ի Արա Սարգսյանի և Հակոբ Կոջոյանի տուն-թանգարան մասնաճյուղ | E25: -4750 | F25: -34952.4 | G25: =+'Հավելված N 4'!D24 -> -66127.3

Sheet Հավելված N 6
C1: Հավելված N 6
C2: ՀՀ կառավարության 2024 թվականի
C3: ______________ ի ___Ն որոշման
B6: ՀԱՅԱՍՏԱՆԻ ՀԱՆՐԱՊԵՏՈՒԹՅԱՆ ԿԱՌԱՎԱՐՈՒԹՅԱՆ 2023 ԹՎԱԿԱՆԻ ԴԵԿՏԵՄԲԵՐԻ 28-Ի N 2323-Ն ՈՐՈՇՄԱՆ N 9 ՀԱՎԵԼՎԱԾԻ N 9.13 ԱՂՅՈՒՍԱԿՈՒՄ ԿԱՏԱՐՎՈՂ ՓՈՓՈԽՈՒԹՅՈՒՆՆԵՐԸ ԵՎ ԼՐԱՑՈՒՄՆԵՐԸ
A8: Աղյուսակ 9․13
C9: ՀՀ կրթության, գիտության, մշակույթի և սպորտի նախարարություն
B10: ՄԱՍ 2. ՊԵՏԱԿԱՆ ՄԱՐՄՆԻ ԳԾՈՎ ԱՐԴՅՈՒՆՔԱՅԻՆ (ԿԱՏԱՐՈՂԱԿԱՆ) ՑՈՒՑԱՆԻՇՆԵՐԸ
B13: Ծրագրի դասիչը | C13: Ծրագրի անվանումը
B14: 1075 | C14: Մշակութային ժառանգության ծրագիր
B16: Ծրագրի միջոցառումները
B17: Ծրագրի դասիչը՝ | C17: 1075 | D17: Ցուցանիշների փոփոխությունը (ավելացումները նշված են դրական նշանով)
B18: Միջոցառման դասիչը` | C18: 21001 | D18: Առաջին կիսամյակ | E18: Ինն ամիս | F18: Տարի
B19: Միջոցառման անվանումը` | C19: Հուշարձանների ամրակայում, նորոգում և վերականգնում
B20: Նկարագրությունը` | C20: Հուշարձանների գիտանախագծային փաստաթղթերի կազմում, հրատապ ուսումնասիրում, վավերագրման և ուսումնասիրման աշխատանքներ, հետախուզում և հնագիտական պեղում, ամրակայում, նորոգում և վերականգնում
B21: Միջոցառման տեսակը` | C21: Հանրության կողմից անմիջականորեն օգտագործվող ակտիվների հետ կապված միջոցառումներ
B22: Միջոցառումն իրականացնողի անվանումը | C22: Մասնագիտացված կազմակերպություն
B23: Արդյունքի չափորոշիչներ
B24: Հուշարձանների ամրակայման, նորոգման և վերականգնման աշխատանքներ, քանակ | D24: 0 | F24: 1
B25: Միջոցառման վրա կատարվող ծախսը (հազար դրամ) | D25: =+'Հավելված N 2'!D22 -> 0 | E25: =+'Հավելված N 2'!E22 -> 34952.4 | F25: =+'Հավելված N 2'!F22 -> 66127.3
B27: Ծրագրի միջոցառումները
B28: Ծրագրի դասիչը՝ | C28: 1075 | D28: Ցուցանիշների փոփոխությունը (նվազեցումները նշված են փակագծերում)
B29: Միջոցառման դասիչը` | C29: 32001 | D29: Առաջին կիսամյակ | E29: Ինն ամիս | F29: Տարի
B30: Միջոցառման անվանումը` | C30: Ներդրումներ թանգարանների և պատկերասրահների հիմնանորոգման համար
B31: Նկարագրությունը` | C31: Թանգարանների և պատկերասրահների շենքերի, մասնաշենքերի հիմնանորոգում, համաշինարարական աշխատանքներ, ջեռուցման համակարգի իրականացում, ներքին հարդարում, տարածքի բարեկարգում և նախագծում
B32: Միջոցառման տեսակը` | C32: Այլ պետական կազմակերպությունների կողմից օգտագործվող ոչ ֆինանսական ակտիվների հետ գործառնություններ
B33: Ակտիվն օգտագործող կազմակերպությունների անվանումները | C33: Թանգարաններ և պատկերասրահներ
B34: Արդյունքի չափորոշիչներ
B35: Միջոցառման վրա կատարվող ծախսը (հազար դրամ) | D35: =+'Հավելված N 2'!D28 -> -4750 | E35: =+'Հավելված N 2'!E28 -> -34952.4 | F35: =+'Հավելված N 2'!F28 -> -66127.3

Sheet Հավելված N 7
C1: Հավելված N 7
C2: ՀՀ կառավարության 2024 թվականի
C3: ______________ ի ___Ն որոշման
B6: ՀԱՅԱՍՏԱՆԻ ՀԱՆՐԱՊԵՏՈՒԹՅԱՆ ԿԱՌԱՎԱՐՈՒԹՅԱՆ 2023 ԹՎԱԿԱՆԻ ԴԵԿՏԵՄԲԵՐԻ 28-Ի N 2323-Ն ՈՐՈՇՄԱՆ N 9.1 ՀԱՎԵԼՎԱԾԻ N 9.1.13 ԵՎ 9.1.39 ԱՂՅՈՒՍԱԿՆԵՐՈՒՄ ԿԱՏԱՐՎՈՂ ՓՈՓՈԽՈՒԹՅՈՒՆՆԵՐԸ ԵՎ ԼՐԱՑՈՒՄՆԵՐԸ
A8: Աղյուսակ 9․1.13
C9: ՀՀ կրթության, գիտության, մշակույթի և սպորտի նախարարություն
B10: ՄԱՍ 1. ՊԵՏԱԿԱՆ ՄԱՐՄՆԻ ԳԾՈՎ ԱՐԴՅՈՒՆՔԱՅԻՆ (ԿԱՏԱՐՈՂԱԿԱՆ) ՑՈՒՑԱՆԻՇՆԵՐԸ
B13: Ծրագրի դասիչը | C13: Ծրագրի անվանումը
B14: 1075 | C14: Մշակութային ժառանգության ծրագիր
B16: Ծրագրի միջոցառումները
B17: Ծրագրի դասիչը՝ | C17: 1075 | D17: Ցուցանիշների փոփոխությունը (ավելացումները նշված են դրական նշանով)
B18: Միջոցառման դասիչը` | C18: 21001 | D18: Առաջին կիսամյակ | E18: Ինն ամիս | F18: Տարի
B19: Միջոցառման անվանումը` | C19: Հուշարձանների ամրակայում, նորոգում և վերականգնում
B20: Նկարագրությունը` | C20: Հուշարձանների գիտանախագծային փաստաթղթերի կազմում, հրատապ ուսումնասիրում, վավերագրման և ուսումնասիրման աշխատանքներ, հետախուզում և հնագիտական պեղում, ամրակայում, նորոգում և վերականգնում
B21: Միջոցառման տեսակը` | C21: Հանրության կողմից անմիջականորեն օգտագործվող ակտիվների հետ կապված միջոցառումներ
B22: Միջոցառումն իրականացնողի անվանումը | C22: Մասնագիտացված կազմակերպություն
B23: Արդյունքի չափորոշիչներ
B24: Հուշարձանների ամրակայման, նորոգման և վերականգնման աշխատանքներ, քանակ | D24: 0 | F24: 1
B25: Միջոցառման վրա կատարվող ծախսը (հազար դրամ) | D25: =+'Հավելված N 3'!G41 -> 0 | E25: =+'Հավելված N 3'!H41 -> 34952.4 | F25: =+'Հավելված N 3'!I41 -> 66127.3
A31: Աղյուսակ 9․1.39
C32: ՀՀ քաղաքաշինության կոմիտե
B33: ՄԱՍ 1. ՊԵՏԱԿԱՆ ՄԱՐՄՆԻ ԳԾՈՎ ԱՐԴՅՈՒՆՔԱՅԻՆ (ԿԱՏԱՐՈՂԱԿԱՆ) ՑՈՒՑԱՆԻՇՆԵՐԸ
B36: Ծրագրի դասիչը | C36: Ծրագրի անվանումը
B37: 1075 | C37: Մշակութային ժառանգության ծրագիր
B39: Ծրագրի միջոցառումները
B40: Ծրագրի դասիչը՝ | C40: 1075 | D40: Ցուցանիշների փոփոխությունը (նվազեցումները նշված են փակագծերում)
B41: Միջոցառման դասիչը` | C41: 32001 | D41: Առաջին կիսամյակ | E41: Ինն ամիս | F41: Տարի
B42: Միջոցառման անվանումը` | C42: Ներդրումներ թանգարանների և պատկերասրահների հիմնանորոգման համար
B43: Նկարագրությունը` | C43: Թանգարանների և պատկերասրահների շենքերի, մասնաշենքերի հիմնանորոգում, համաշինարարական աշխատանքներ, ջեռուցման համակարգի իրականացում, ներքին հարդարում, տարածքի բարեկարգում և նախագծում
B44: Միջոցառման տեսակը` | C44: Այլ պետական կազմակերպությունների կողմից օգտագործվող ոչ ֆինանսական ակտիվների հետ գործառնություններ
B45: Ակտիվն օգտագործող կազմակերպությունների անվանումները | C45: Թանգարաններ և պատկերասրահներ
B46: Արդյունքի չափորոշիչներ
B47: Միջոցառման վրա կատարվող ծախսը (հազար դրամ) | D47: =+'Հավելված N 3'!G26 -> -4750 | E47: =+'Հավելված N 3'!H26 -> -34952.4 | F47: =+'Հավելված N 3'!I26 -> -66127.3

Sheet Հավելված N 8
H1: Հավելված N 8
H2: ՀՀ կառավարության 2024 թվականի
H3: ______________ ի ___Ն որոշման
A6: ՀԱՅԱՍՏԱՆԻ ՀԱՆՐԱՊԵՏՈՒԹՅԱՆ ԿԱՌԱՎԱՐՈՒԹՅԱՆ 2023 ԹՎԱԿԱՆԻ ԴԵԿՏԵՄԲԵՐԻ 28-Ի N 2323-Ն N 10 ՀԱՎԵԼՎԱԾՈՒՄ ԿԱՏԱՐՎՈՂ ՓՈՓՈԽՈՒԹՅՈՒՆՆԵՐԸ ԵՎ ԼՐԱՑՈՒՄՆԵՐԸ
A10: Կոդը | B10: Անվանումը | E10: Գնման ձևը | F10: Չափման միավորը | G10: Միավորի գինը | H10: Ցուցանիշների փոփոխությունը (ավելացումները նշված են դրական նշանով, իսկ նվազեցումները՝ փակագծերում)
H11: Քանակը | I11: Գումարը (հազար դրամ)
A12: 1 | B12: 2 | E12: 3 | F12: 4 | G12: 5 | H12: 6 | I12: 7
A13: ՀՀ քաղաքաշինության կոմիտե | I13: =+I14 -> -66127.3
A14: Բաժին N 08 | B14: Խումբ N 02 | C14: Դաս N 02 | D14: Թանգարաններ և ցուցասրահներ | I14: =+I15 -> -66127.3
A15: 1075-32001 | B15: Ներդրումներ թանգարանների և պատկերասրահների հիմնանորոգման համար | I15: =+I16+I18 -> -66127.3
B16: ՄԱՍ II. ԱՇԽԱՏԱՆՔՆԵՐ | I16: =+I17 -> -65004.9
A17: 45611200-1 | B17: մշակութային օբյեկտների հիմնանորոգում | E17: ԲՄ | F17: դրամ | I17: -65004.9
B18: ՄԱՍ III. ԾԱՌԱՅՈՒԹՅՈՒՆՆԵՐ | I18: =SUM(I19:I20) -> -1122.4
A19: 71351540-1 | B19: տեխնիկական հսկողության ծառայություններ | E19: ԳՀ | F19: դրամ | I19: -801.7
A20: 98111140-1 | B20: հեղինակային հսկողության ծառայություններ | E20: ՄԱ | F20: դրամ | I20: -320.7
A21: ՀՀ կրթության, գիտության, մշակույթի և սպորտի նախարարություն | I21: =+I22 -> 66127.3
A22: Բաժին N 08 | B22: Խումբ N 02 | C22: Դաս N 07 | D22: Հուշարձանների և մշակութային արժեքների վերականգնում և պահպանում | I22: =+I23 -> 66127.3
A23: 1075-21001 | B23: Հուշարձանների ամրակայում, նորոգում և վերականգնում | I23: =+I24+I26 -> 66127.3
B24: ՄԱՍ II. ԱՇԽԱՏԱՆՔՆԵՐ | I24: =+I25 -> 64388.8
A25: 45451600 | B25: վերականգնողական աշխատանքներ | E25: ԳՀ | F25: դրամ | G25: 64388830 | H25: 1 | I25: =+ROUND(H25*G25/1000,1) -> 64388.8
B26: ՄԱՍ III. ԾԱՌԱՅՈՒԹՅՈՒՆՆԵՐ | I26: =SUM(I27:I28) -> 1738.5
A27: 71351540 | B27: տեխնիկական հսկողության ծառայություններ | E27: ԳՀ | F27: դրամ | G27: 965830 | H27: 1 | I27: =+ROUND(H27*G27/1000,1) -> 965.8
A28: 98111140 | B28: հեղինակային հսկողության ծառայություններ | E28: ՄԱ | F28: դրամ | G28: 772660 | H28: 1 | I28: =+ROUND(H28*G28/1000,1) -> 772.7
