Workbook
Name _tab10: #REF!
Name _tab10: #REF!
Name _tab11: #REF!
Name _tab11: #REF!
Name _tab12: #REF!
Name _tab12: #REF!
Name _tab13: #REF!
Name _tab13: #REF!
Name _tab14: #REF!
Name _tab14: #REF!
Name _tab15: #REF!
Name _tab15: #REF!
Name _tab16: #REF!
Name _tab16: #REF!
Name _tab17: #REF!
Name _tab17: #REF!
Name _tab18: #REF!
Name _tab18: #REF!
Name _tab19: #REF!
Name _tab19: #REF!
Name _tab20: #REF!
Name _tab20: #REF!
Name _tab21: #REF!
Name _tab21: #REF!
Name _tab22: #REF!
Name _tab22: #REF!
Name _tab23: #REF!
Name _tab23: #REF!
Name _tab24: #REF!
Name _tab24: #REF!
Name _tab5: #REF!
Name _tab5: #REF!
Name _tab6: #REF!
Name _tab6: #REF!
Name _tab7: #REF!
Name _tab7: #REF!
Name _tab8: #REF!
Name _tab8: #REF!
Name _tab9: #REF!
Name _tab9: #REF!
Name AgencyCode: #REF!
Name AgencyCode: #REF!
Name AgencyName: #REF!
Name AgencyName: #REF!
Name åû: #REF!
Name åû: #REF!
Name davit: #REF!
Name davit: #REF!
Name Functional1: #REF!
Name Functional1: #REF!
Name ggg: #REF!
Name ggg: #REF!
Name hav: #REF!
Name hav: #REF!
Name havelvac: #REF!
Name havelvac: #REF!
Name mas: #REF!
Name mas: #REF!
Name mass: #REF!
Name mass: #REF!

Sheet 1
F1: Հավելված N 1
C2: ՀՀ կառավարության 2024 թվականի
C3: -----------------ի N -----------Ն որոշման
A5: ՀԱՅԱՍՏԱՆԻ ՀԱՆՐԱՊԵՏՈՒԹՅԱՆ 2024 ԹՎԱԿԱՆԻ ՊԵՏԱԿԱՆ ԲՅՈՒՋԵԻ ՄԱՍԻՆ» ՕՐԵՆՔԻ N 1 ՀԱՎԵԼՎԱԾԻ N 2 ԱՂՅՈՒՍԱԿՈՒՄ ԿԱՏԱՐՎՈՂ ՎԵՐԱԲԱՇԽՈՒՄԸ ԵՎ ՀԱՅԱՍՏԱՆԻ ՀԱՆՐԱՊԵՏՈՒԹՅԱՆ ԿԱՌԱՎԱՐՈՒԹՅԱՆ 2023 ԹՎԱԿԱՆԻ ԴԵԿՏԵՄԲԵՐԻ 28-Ի N 2323-Ն ՈՐՈՇՄԱՆ N 5 ՀԱՎԵԼՎԱԾԻ N 1 ԱՂՅՈՒՍԱԿՈՒՄ ԿԱՏԱՐՎՈՂ ՓՈՓՈԽՈՒԹՅՈՒՆՆԵՐԸ ԵՎ ԼՐԱՑՈՒՄՆԵՐԸ
E6: (հազար դրամ)
A7: Ծրագրային դասիչը | C7: Բյուջետային հատկացումների գլխավոր կարգադրիչների, ծրագրերի և միջոցառումների անվանումները | D7: Ցուցանիշների փոփոխությունները ավելացումները նշված են դրական նշանով, իսկ նվազեցումները՝ փակագծերում
A8: Ծրագիր | B8: Միջոցառում | D8: Առաջին կիսամյակ | E8: Ինն ամիս | F8: Տարի
C9: ԸՆԴԱՄԵՆԸ | D9: =D10 -> 0 | E9: =E10 -> 0 | F9: =F10 -> 0
C10: ՀՀ աշխատանքի և սոցիալական հարցերի նախարարություն | D10: =D11+D24 -> 0 | E10: =E11+E24 -> 0 | F10: =F11+F24 -> 0
A11: 1068 | C11: Ծրագրի անվանումը` | D11: =D18 -> -15844 | E11: =E18 -> -15844 | F11: =F18 -> -15844
C12: Ժողովրդագրական վիճակի բարելավում
C13: Ծրագրի նպատակը`
C14: Խթանել ժողովրդագրական վիճակի բարելավումը
C15: Վերջնական արդյունքի նկարագրությունը`
C16: Ժողովրդագրական վիճակի բարելավում և բազմազավակության աճ
A17: Ծրագրի միջոցառումներ
B18: 12001 | C18: Միջոցառման անվանումը` | D18: -15844 | E18: -15844 | F18: -15844
C19: Մինչև 2 տարեկան երեխայի խնամքի նպաստի տրամադրում
C20: Միջոցառման նկարագրությունը`
C21: Մինչև 2 տարեկան երեխայի խնամքի նպաստի տրամադրում
C22: Միջոցառման տեսակը
C23: Տրանսֆերտների տրամադրում
A24: 1205 | C24: Ծրագրի անվանումը` | D24: =D31 -> 15844 | E24: =E31 -> 15844 | F24: =F31 -> 15844
C25: Սոցիալական ապահովություն
C26: Ծրագրի նպատակը`
C27: Սոցիալական ապահովության իրավունքի իրականացման ապահովում
C28: Վերջնական արդյունքի նկարագրությունը`
C29: Սոցիալական ապահովության իրավունքի իրականացում
A30: Ծրագրի միջոցառումներ
B31: 12024 | C31: Միջոցառման անվանումը` | D31: 15844 | E31: 15844 | F31: 15844
C32: ՀՀ Սյունիքի մարզի Շուռնուխ և Որոտան բնակավայրերում գտնվող և Ադրբեջանի վերահսկողության տակ անցած բնակելի անշարժ գույքի հասցեում հաշվառված կամ այդ հասցեում փաստացի բնակված, սակայն նույն բնակավայրի այլ հասցեում հաշվառված քաղաքացիներին դրամական աջակցություն
C33: Միջոցառման նկարագրությունը`
C34: ՀՀ Սյունիքի մարզի Շուռնուխ և Որոտան բնակավայրերում գտնվող և Ադրբեջանի վերահսկողության տակ անցած բնակելի անշարժ գույքի հասցեում հաշվառված կամ այդ հասցեում փաստացի բնակված, սակայն նույն բնակավայրի այլ հասցեում հաշվառված քաղաքացիներին դրամական աջակցություն
C35: Միջոցառման տեսակը
C36: Տրանսֆերտների տրամադրում

Sheet 2
I1: Հավելված N 2
F2: ՀՀ կառավարության 2024 թվականի
F3: -----------------ի N -----------Ն որոշման
A5: ՀԱՅԱՍՏԱՆԻ ՀԱՆՐԱՊԵՏՈՒԹՅԱՆ ԿԱՌԱՎԱՐՈՒԹՅԱՆ 2023 ԹՎԱԿԱՆԻ ԴԵԿՏԵՄԲԵՐԻ 28-Ի N 2323-Ն ՈՐՈՇՄԱՆ N N 3 ԵՎ 4 ՀԱՎԵԼՎԱԾՆԵՐՈՒՄ ԿԱՏԱՐՎՈՂ ՓՈՓՈԽՈՒԹՅՈՒՆՆԵՐԸ ԵՎ ԼՐԱՑՈՒՄՆԵՐԸ
I6: (հազար դրամ)
A7: Գործառական դասիչը | D7: Ծրագրային դասիչը | F7: Բյուջետային ծախսերի գործառական դասակարգման բաժինների, խմբերի և դասերի, բյուջետային ծրագրերի միջոցառումների, բյուջետային հատկացումների գլխավոր կարգադրիչների անվանումները | G7: Ցուցանիշների փոփոխությունները ավելացումները նշված են դրական նշանով, իսկ նվազեցումները՝ փակագծերում
A8: Բաժինը | B8: Խումբը | C8: Դասը | D8: Ծրագիր | E8: Միջոցառում | G8: Առաջին կիսամյակ | H8: Ինն ամիս | I8: Տարի
F9: ԸՆԴԱՄԵՆԸ ԾԱԽՍԵՐ | G9: =G11 -> 0 | H9: =H11 -> 0 | I9: =I11 -> 0
F10: այդ թվում`
A11: 10 | F11: ՍՈՑԻԱԼԱԿԱՆ ՊԱՇՏՊԱՆՈՒԹՅՈՒՆ | G11: =G13+G30 -> 0 | H11: =H13+H30 -> 0 | I11: =I13+I30 -> 0
F12: այդ թվում`
B13: 4 | F13: Ընտանիքի անդամներ և զավակներ | G13: =G15 -> -15844 | H13: =H15 -> -15844 | I13: =I15 -> -15844
F14: այդ թվում`
C15: 01 | F15: Ընտանիքի անդամներ և զավակներ | G15: =+G17 -> -15844 | H15: =+H17 -> -15844 | I15: =+I17 -> -15844
F16: այդ թվում`
F17: ՀՀ աշխատանքի և սոցիալական հարցերի նախարարություն | G17: =+G19 -> -15844 | H17: =+H19 -> -15844 | I17: =+I19 -> -15844
F18: այդ թվում`
D19: 1068 | F19: ='1'!C12 -> Ժողովրդագրական վիճակի բարելավում | G19: =G21 -> -15844 | H19: =H21 -> -15844 | I19: =I21 -> -15844
F20: այդ թվում`
E21: 12001 | F21: Մինչև 2 տարեկան երեխայի խնամքի նպաստի տրամադրում | G21: =G23 -> -15844 | H21: =H23 -> -15844 | I21: =I23 -> -15844
F22: այդ թվում` ըստ կատարողների
F23: ՀՀ աշխատանքի և սոցիալական հարցերի նախարարության միասնական սոցիալական ծառայություն | G23: =G25 -> -15844 | H23: =H25 -> -15844 | I23: =I25 -> -15844
F24: այդ թվում` բյուջետային ծախսերի տնտեսագիտական դասակարգման հոդվածներ
F25: ԸՆԴԱՄԵՆԸ ԾԱԽՍԵՐ | G25: =G26 -> -15844 | H25: =H26 -> -15844 | I25: =I26 -> -15844
F26: ԸՆԹԱՑԻԿ ԾԱԽՍԵՐ | G26: =G27 -> -15844 | H26: =H27 -> -15844 | I26: =I27 -> -15844
F27: ՍՈՑԻԱԼԱԿԱՆ ՆՊԱՍՏՆԵՐ ԵՎ ԿԵՆՍԱԹՈՇԱԿՆԵՐ | G27: =G28 -> -15844 | H27: =H28 -> -15844 | I27: =I28 -> -15844
F28: Սոցիալական օգնության դրամական արտահայտությամբ նպաստներ (բյուջեից) | G28: =G29 -> -15844 | H28: =H29 -> -15844 | I28: =I29 -> -15844
F29: - Մայրության նպաստներ բյուջեից | G29: =SUM('1'!D18) -> -15844 | H29: =SUM('1'!E18) -> -15844 | I29: =SUM('1'!F18) -> -15844
B30: 09 | F30: Սոցիալական պաշտպանություն (այլ դասերին չպատկանող) | G30: =G32 -> 15844 | H30: =H32 -> 15844 | I30: =I32 -> 15844
F31: այդ թվում`
C32: 02 | F32: Սոցիալական պաշտպանությանը տրամադրվող օժանդակ ծառայություններ (այլ դասերին չպատկանող) | G32: =G34 -> 15844 | H32: =H34 -> 15844 | I32: =I34 -> 15844
F33: այդ թվում`
F34: ՀՀ աշխատանքի և սոցիալական հարցերի նախարարություն | G34: =G36 -> 15844 | H34: =H36 -> 15844 | I34: =I36 -> 15844
F35: այդ թվում`
D36: 1205 | F36: Սոցիալական ապահովություն | G36: =G38 -> 15844 | H36: =H38 -> 15844 | I36: =I38 -> 15844
F37: այդ թվում`
E38: 12024 | F38: ='1'!C32 -> ՀՀ Սյունիքի մարզի Շուռնուխ և Որոտան բնակավայրերում գտնվող և Ադրբեջանի վերահսկողության տակ անցած բնակելի անշարժ գույքի հասցեում հաշվառված կամ այդ հասցեում փաստացի բնակված, սակայն նույն բնակավայրի այլ հասցեում հաշվառված քաղաքացիներին դրամական աջակցություն | G38: =G40 -> 15844 | H38: =H40 -> 15844 | I38: =I40 -> 15844
F39: այդ թվում` ըստ կատարողների
F40: ՀՀ աշխատանքի և սոցիալական հարցերի նախարարության միասնական սոցիալական ծառայություն | G40: =G42 -> 15844 | H40: =H42 -> 15844 | I40: =I42 -> 15844
F41: այդ թվում` բյուջետային ծախսերի տնտեսագիտական դասակարգման հոդվածներ
F42: ԸՆԴԱՄԵՆԸ ԾԱԽՍԵՐ | G42: =G43 -> 15844 | H42: =H43 -> 15844 | I42: =I43 -> 15844
F43: ԸՆԹԱՑԻԿ ԾԱԽՍԵՐ | G43: =G44 -> 15844 | H43: =H44 -> 15844 | I43: =I44 -> 15844
F44: ՍՈՑԻԱԼԱԿԱՆ ՆՊԱՍՏՆԵՐ ԵՎ ԿԵՆՍԱԹՈՇԱԿՆԵՐ | G44: =G45 -> 15844 | H44: =H45 -> 15844 | I44: =I45 -> 15844
F45: Սոցիալական օգնության դրամական արտահայտությամբ նպաստներ (բյուջեից) | G45: =G46 -> 15844 | H45: =H46 -> 15844 | I45: =I46 -> 15844
F46: - Այլ նպաստներ բյուջեից | G46: ='1'!D31 -> 15844 | H46: ='1'!E31 -> 15844 | I46: ='1'!F31 -> 15844

Sheet 3
E1: Հավելված N 3
C2: ՀՀ կառավարության 2024 թվականի
C3: -----------------ի N -----------Ն որոշման
A5: ՀԱՅԱՍՏԱՆԻ ՀԱՆՐԱՊԵՏՈՒԹՅԱՆ ԿԱՌԱՎԱՐՈՒԹՅԱՆ 2023ԹՎԱԿԱՆԻ ԴԵԿՏԵՄԲԵՐԻ 28-Ի N 2323-Ն ՈՐՈՇՄԱՆ N 9 ՀԱՎԵԼՎԱԾԻ N 9.15 ԱՂՅՈՒՍԱԿՈՒՄ ԿԱՏԱՐՎՈՂ ՓՈՓՈԽՈՒԹՅՈՒՆՆԵՐԸ ԵՎ ԼՐԱՑՈՒՄՆԵՐԸ
A7: ՄԱՍ 1. ՊԵՏԱԿԱՆ ՄԱՐՄՆԻ ԳԾՈՎ ԱՐԴՅՈՒՆՔԱՅԻՆ (ԿԱՏԱՐՈՂԱԿԱՆ) ՑՈՒՑԱՆԻՇՆԵՐԸ
A9: ՀՀ աշխատանքի և սոցիալական հարցերի նախարարություն
A11: Ծրագրի դասիչը | B11: Ծրագրի անվանումը
A12: 1068 | B12: ='2'!F19 -> Ժողովրդագրական վիճակի բարելավում
A13: Ծրագրի միջոցառումները
A18: Ծրագրի դասիչը` | B18: 1068 | C18: Ցուցանիշների փոփոխությունը (նվազեցումը նշված է փակագծերում)
A19: Միջոցառման դասիչը` | B19: 12001 | C19: Առաջին կիսամյակ | D19: Ինն ամիս | E19: Տարի
A20: Միջոցառման անվանումը` | B20: Մինչև 2 տարեկան երեխայի խնամքի նպաստի տրամադրում
A21: Նկարագրությունը` | B21: Մինչև 2 տարեկան երեխայի խնամքի նպաստի տրամադրում
A22: Միջոցառման տեսակը` | B22: Տրանսֆերտների տրամադրում
A23: Շահառուների ընտրության չափանիշները | B23: Մինչև երեք տարեկան երեխայի խնամքի արձակուրդում գտնվող անձը` մինչ երեխայի 2 տարեկանը լրանալը
A24: Արդյունքի չափորոշիչներ
A25: Միջոցառման վրա կատարվող ծախսը (հազար դրամ) | C25: =SUM('1'!D18) -> -15844 | D25: =SUM('1'!E18) -> -15844 | E25: =SUM('1'!F18) -> -15844
A28: Ծրագրի դասիչը | B28: Ծրագրի անվանումը
A29: 1205 | B29: Սոցիալական ապահովություն
A30: Ծրագրի միջոցառումները
A32: Ծրագրի դասիչը` | B32: 1205 | C32: Ցուցանիշների փոփոխությունը (ավելացումը նշված է դրական նշանով)
A33: Միջոցառման դասիչը` | B33: 12024 | C33: Առաջին կիսամյակ | D33: Ինն ամիս | E33: Տարի
A34: Միջոցառման անվանումը` | B34: ='1'!C32 -> ՀՀ Սյունիքի մարզի Շուռնուխ և Որոտան բնակավայրերում գտնվող և Ադրբեջանի վերահսկողության տակ անցած բնակելի անշարժ գույքի հասցեում հաշվառված կամ այդ հասցեում փաստացի բնակված, սակայն նույն բնակավայրի այլ հասցեում հաշվառված քաղաքացիներին դրամական աջակցություն
A35: Նկարագրությունը` | B35: ='1'!C34 -> ՀՀ Սյունիքի մարզի Շուռնուխ և Որոտան բնակավայրերում գտնվող և Ադրբեջանի վերահսկողության տակ անցած բնակելի անշարժ գույքի հասցեում հաշվառված կամ այդ հասցեում փաստացի բնակված, սակայն նույն բնակավայրի այլ հասցեում հաշվառված քաղաքացիներին դրամական աջակցություն
A36: Միջոցառման տեսակը` | B36: Տրանսֆերտների տրամադրում
A37: Շահառուների ընտրության չափանիշները | B37: ՀՀ կառավարության 2021 թ․ փետրվարի 4-ի N 112-Լ որոշման պահանջներին համապատասխան
A38: Արդյունքի չափորոշիչներ
A39: Շահառուների թիվը | C39: 39 | E39: 39
A40: Միջոցառման վրա կատարվող ծախսը (հազար դրամ) | C40: ='1'!D31 -> 15844 | D40: ='1'!E31 -> 15844 | E40: ='1'!F31 -> 15844

Sheet 4
E1: Հավելված N 4
C2: ՀՀ կառավարության 2024 թվականի
C3: -----------------ի N -----------Ն որոշման
A5: ՀԱՅԱՍՏԱՆԻ ՀԱՆՐԱՊԵՏՈՒԹՅԱՆ ԿԱՌԱՎԱՐՈՒԹՅԱՆ 2023ԹՎԱԿԱՆԻ ԴԵԿՏԵՄԲԵՐԻ 28-Ի N 2323-Ն ՈՐՈՇՄԱՆ N 9.1 ՀԱՎԵԼՎԱԾԻ N 9.1.19 ԱՂՅՈՒՍԱԿՈՒՄ ԿԱՏԱՐՎՈՂ ՓՈՓՈԽՈՒԹՅՈՒՆՆԵՐԸ ԵՎ ԼՐԱՑՈՒՄՆԵՐԸ
A7: ՄԱՍ 1. ՊԵՏԱԿԱՆ ՄԱՐՄՆԻ ԳԾՈՎ ԱՐԴՅՈՒՆՔԱՅԻՆ (ԿԱՏԱՐՈՂԱԿԱՆ) ՑՈՒՑԱՆԻՇՆԵՐԸ
A9: ՀՀ աշխատանքի և սոցիալական հարցերի նախարարության միասնական սոցիալական ծառայություն
A11: Ծրագրի դասիչը | B11: Ծրագրի անվանումը
A12: 1068 | B12: ='3'!B12 -> Ժողովրդագրական վիճակի բարելավում
A13: Ծրագրի միջոցառումները
A16: Ծրագրի դասիչը` | B16: 1068 | C16: Ցուցանիշների փոփոխությունը (նվազեցումը նշված է փակագծերում)
A17: Միջոցառման դասիչը` | B17: 12001 | C17: Առաջին կիսամյակ | D17: Ինն ամիս | E17: Տարի
A18: Միջոցառման անվանումը` | B18: Մինչև 2 տարեկան երեխայի խնամքի նպաստի տրամադրում
A19: Նկարագրությունը` | B19: Մինչև 2 տարեկան երեխայի խնամքի նպաստի տրամադրում
A20: Միջոցառման տեսակը` | B20: Տրանսֆերտների տրամադրում
A21: Շահառուների ընտրության չափանիշները | B21: Մինչև երեք տարեկան երեխայի խնամքի արձակուրդում գտնվող անձը` մինչ երեխայի 2 տարեկանը լրանալը
A22: Արդյունքի չափորոշիչներ
A23: Միջոցառման վրա կատարվող ծախսը (հազար դրամ) | C23: =SUM('1'!D18) -> -15844 | D23: =SUM('1'!E18) -> -15844 | E23: =SUM('1'!F18) -> -15844
A26: Ծրագրի դասիչը | B26: Ծրագրի անվանումը
A27: 1205 | B27: Սոցիալական ապահովություն
A28: Ծրագրի միջոցառումները
A30: Ծրագրի դասիչը` | B30: 1205 | C30: Ցուցանիշների փոփոխությունը (ավելացումը նշված է դրական նշանով)
A31: Միջոցառման դասիչը` | B31: 12024 | C31: Առաջին կիսամյակ | D31: Ինն ամիս | E31: Տարի
A32: Միջոցառման անվանումը` | B32: ='1'!C32 -> ՀՀ Սյունիքի մարզի Շուռնուխ և Որոտան բնակավայրերում գտնվող և Ադրբեջանի վերահսկողության տակ անցած բնակելի անշարժ գույքի հասցեում հաշվառված կամ այդ հասցեում փաստացի բնակված, սակայն նույն բնակավայրի այլ հասցեում հաշվառված քաղաքացիներին դրամական աջակցություն
A33: Նկարագրությունը` | B33: ='1'!C34 -> ՀՀ Սյունիքի մարզի Շուռնուխ և Որոտան բնակավայրերում գտնվող և Ադրբեջանի վերահսկողության տակ անցած բնակելի անշարժ գույքի հասցեում հաշվառված կամ այդ հասցեում փաստացի բնակված, սակայն նույն բնակավայրի այլ հասցեում հաշվառված քաղաքացիներին դրամական աջակցություն
A34: Միջոցառման տեսակը` | B34: Տրանսֆերտների տրամադրում
A35: Շահառուների ընտրության չափանիշները | B35: ՀՀ կառավարության 2021 թ․ փետրվարի 4-ի N 112-Լ որոշման պահանջներին համապատասխան
A36: Արդյունքի չափորոշիչներ
A37: ='3'!A39 -> Շահառուների թիվը | C37: ='3'!C39 -> 39 | E37: ='3'!E39 -> 39
A38: Միջոցառման վրա կատարվող ծախսը (հազար դրամ) | C38: ='1'!D31 -> 15844 | D38: ='1'!E31 -> 15844 | E38: ='1'!F31 -> 15844
