Workbook

Sheet 1
C1: Հավելված № 1 ՀՀ կառավարության 2024 թվականի № ------------ -Ն որոշման
A2: ՀԱՅԱՍՏԱՆԻ ՀԱՆՐԱՊԵՏՈՒԹՅԱՆ 2024 ԹՎԱԿԱՆԻ ՊԵՏԱԿԱՆ ԲՅՈՒՋԵԻ ՄԱՍԻՆ» ՀԱՅԱՍՏԱՆԻ ՀԱՆՐԱՊԵՏՈՒԹՅԱՆ ՕՐԵՆՔԻ N 1 ՀԱՎԵԼՎԱԾԻ N 2 ԱՂՅՈՒՍԱԿՈՒՄ ԿԱՏԱՐՎՈՂ ՎԵՐԱԲԱՇԽՈՒՄԸ ԵՎ ՀԱՅԱՍՏԱՆԻ ՀԱՆՐԱՊԵՏՈՒԹՅԱՆ ԿԱՌԱՎԱՐՈՒԹՅԱՆ 2023 ԹՎԱԿԱՆԻ ԴԵԿՏԵՄԲԵՐԻ 28-Ի № 2323-Ն ՈՐՈՇՄԱՆ № 5 ՀԱՎԵԼՎԱԾԻ № 1 ԱՂՅՈՒՍԱԿՈՒՄ ԿԱՏԱՐՎՈՂ ՓՈՓՈԽՈՒԹՅՈՒՆԸ
E3: (հազ. դրամ)
A4: Ծրագրային դասիչը | C4: Բյուջետային հատկացումների գլխավոր կարգադրիչների, ծրագրերի և միջոցառումների անվանումները | D4: Ցուցանիշների փոփոխությունը (ավելացումները նշված են դրական նշանով, իսկ նվազեցումները՝ փակագծերում)
A5: Ծրագիր | B5: Միջոցառում | D5: Ինն ամիս | E5: Տարի
C6: ԸՆԴԱՄԵՆԸ | D6: =+D7 -> 0 | E6: =+E7 -> 0
C7: ՀՀ քաղաքաշինության կոմիտե | D7: =+D9 -> 0 | E7: =+E9 -> 0
A8: 1103 | C8: Ծրագրի անվանումը`
C9: Քաղաքաշինության և ճարտարապետության բնագավառում պետական քաղաքականության իրականացում և կանոնակարգում | D9: =D16+D21+D28 -> 0 | E9: =E16+E21+E28 -> 0
C10: Ծրագրի նպատակը`
C11: Քաղաքաշինության և ճարտարապետության բնագավառում պետական քաղաքականության մշակմանն աջակցություն և իրականացման ապահովում
C12: Վերջնական արդյունքի նկարագրությունը`
C13: Քաղաքաշինության գործունեության կանոնակարգում, քաղաքաշինական տեղեկատվական համակարգի ձևավորում և քաղաքաշինության բնագավառում պետական ծրագրերի իրականացման ապահովում
A14: Ծրագրի միջոցառումներ
B15: 11001 | C15: Միջոցառման անվանումը`
C16: Քաղաքաշինության և ճարտարապետության բնագավառում պետական քաղաքականության մշակման, իրականացման, համակարգման, պլանավորման, մոնիտորինգի, կապիտալ ծրագրերի կատարման, պետական գնումների իրականացման ծառայություն | D16: =+'3'!G17 -> 10921 | E16: =+'3'!H17 -> 18121
C17: Միջոցառման նկարագրությունը`
C18: Քաղաքաշինության և ճարտարապետության բնագավառում քաղաքականության մշակում, կատարման համակարգում, պլանավորում, իրականացում, մոնիտորինգ, լիցենզավորում, հաշվետվողականություն, աուդիտ, պետական գնումների իրականացում, հասարակությանը ոլորտի ծրագրերի իրազեկում
C19: Միջոցառման տեսակը
C20: Ծառայությունների մատուցում
B21: 31001 | C21: Միջոցառման անվանումը` | D21: =+'3'!G32 -> 12749.7 | E21: =+'3'!H32 -> 12749.7
C22: Քաղաքաշինության կոմիտեի կարողությունների զարգացում և տեխնիկական հագեցվածության ապահովում
C23: Միջոցառման նկարագրությունը`
C24: Քաղաքաշինության կոմիտեի աշխատանքային պայմանների բարելավման համար վարչական սարքավորումների ձեռք բերում
C25: Միջոցառման տեսակը
C26: Պետական մարմինների կողմից օգտագործվող ոչ ֆինանսական ակտիվների հետ գործառնություններ
B27: 21001 | C27: Միջոցառման անվանումը`
C28: Քաղաքաշինության բնագավառում պետական ծրագրերի իրականացման ապահովում | D28: =+'3'!G57 -> -23670.7 | E28: =+'3'!H57 -> -30870.7
C29: Միջոցառման նկարագրությունը`
C30: Նախագծանախահաշվային փաստաթղթերի, ինչպես նաեւ հիմնանորոգման, վերակառուցման, կառուցման աշխատանքների ձեռքբերում
C31: Միջոցառման տեսակը
C32: Հանրության կողմից անմիջականորեն օգտագործվող ակտիվների հետ կապված միջոցառումներ
C33: ՀՀ ԿԱՌԱՎԱՐՈՒԹՅՈՒՆ | D33: =D34 -> 0 | E33: =E34 -> 0
A34: 1139 | C34: Ծրագրի անվանումը` | D34: =D40+D46 -> 0 | E34: =E40+E46 -> 0
C35: ՀՀ կառավարության պահուստային ֆոնդ
C36: Ծրագրի նպատակը`
C37: Պետական բյուջեում չկանխատեսված, ինչպես նաև բյուջետային երաշխիքների ապահովման ծախսերի ֆինանսավորման ապահովում
C38: Վերջնական արդյունքի նկարագրությունը`
C39: Պահուստային ֆոնդի կառավարման արդյունավետության և թափանցիկության ապահովում
B40: 11001 | C40: Միջոցառման անվանումը` | D40: 4210.7 | E40: 4210.7
...

Sheet 2
C1: Հավելված № 2 ՀՀ կառավարության 2024 թվականի № ------------ -Ն որոշման
A2: ՀԱՅԱՍՏԱՆԻ ՀԱՆՐԱՊԵՏՈՒԹՅԱՆ ԿԱՌԱՎԱՐՈՒԹՅԱՆ 2023 ԹՎԱԿԱՆԻ ԴԵԿՏԵՄԲԵՐԻ 28-Ի N 2323-Ն ՈՐՈՇՄԱՆ N 5 ՀԱՎԵԼՎԱԾԻ N 2 ԱՂՅՈՒՍԱԿՈՒՄ ԿԱՏԱՐՎՈՂ ՓՈՓՈԽՈՒԹՅՈՒՆԸ
E3: (հազ. դրամ)
A4: Ծրագրային դասիչը | C4: Բյուջետային գլխավոր կարգադրիչների, ծրագրերի, միջոցառումների, միջոցառումները կատարող պետական մարմինների և ուղղությունների անվանումները | D4: Ցուցանիշների փոփոխությունը (ավելացումները նշված են դրական նշանով, իսկ նվազեցումները՝ փակագծերում)
A6: ծրագիրը | B6: միջոցառումը | D6: Ինն ամիս | E6: Տարի
C7: ԸՆԴԱՄԵՆԸ | D7: =+D9 -> -10921 | E7: =+E9 -> -18121
C8: այդ թվում`
C9: ՀՀ քաղաքաշինության կոմիտե | D9: =+D11+D14 -> -10921 | E9: =+E11+E14 -> -18121
C10: այդ թվում`
A11: 1103 | B11: 31001 | C11: =+'1'!C22 -> Քաղաքաշինության կոմիտեի կարողությունների զարգացում և տեխնիկական հագեցվածության ապահովում | D11: =+D13 -> 12749.7 | E11: =+E13 -> 12749.7
C12: այդ թվում` ըստ կատարողների
C13: ՀՀ քաղաքաշինության կոմիտե | D13: =+'3'!G32 -> 12749.7 | E13: =+'3'!H32 -> 12749.7
A14: 1103 | B14: 21001 | C14: Քաղաքաշինության բնագավառում պետական ծրագրերի իրականացման ապահովում | D14: =+D16 -> -23670.7 | E14: =+E16 -> -30870.7
C15: այդ թվում` ըստ կատարողների
C16: ՀՀ քաղաքաշինության կոմիտե | D16: =+D18 -> -23670.7 | E16: =+E18 -> -30870.7
C17: այդ թվում` ըստ ուղղությունների
C18: ՀՀ Լոռու մարզի Ստեփանավան համայնքի Աշոտաբերդ թաղամասի կառուցապատման աշխատանքներ | D18: =+'3'!G49 -> -23670.7 | E18: =+'3'!H49 -> -30870.7

Sheet 3
F1: Հավելված № 3 ՀՀ կառավարության 2024 թվականի № ------------ -Ն որոշման
A2: ՀԱՅԱՍՏԱՆԻ ՀԱՆՐԱՊԵՏՈՒԹՅԱՆ ԿԱՌԱՎԱՐՈՒԹՅԱՆ 2023 ԹՎԱԿԱՆԻ ԴԵԿՏԵՄԲԵՐԻ 28-Ի № 2323-Ն ՈՐՈՇՄԱՆ NN 3 և 4 ՀԱՎԵԼՎԱԾՆԵՐՈՒՄ ԿԱՏԱՐՎՈՂ ՓՈՓՈԽՈՒԹՅՈՒՆԸ
H3: (հազ. դրամ)
A4: Գործառական դասիչը | D4: Ծրագրային դասիչը | F4: Բյուջետային ծախսերի գործառական դասակարգման բաժինների, խմբերի և դասերի, բյուջետային ծրագրերի միջոցառումների, բյուջետային հատկացումների գլխավոր կարգադրիչների անվանումները | G4: Ցուցանիշների փոփոխությունը (ավելացումները նշված են դրական նշանով, իսկ նվազեցումները՝ փակագծերում)
A5: Բաժին | B5: Խումբ | C5: Դաս | D5: Ծրագիր | E5: Միջոցառում | G5: Ինն ամիս | H5: Տարի
F6: ԸՆԴԱՄԵՆԸ ԾԱԽՍԵՐ | G6: =+G7 -> 0 | H6: =+H7 -> 0
A7: 06 | F7: ԲՆԱԿԱՐԱՆԱՅԻՆ ՇԻՆԱՐԱՐՈՒԹՅՈՒՆ ԵՎ ԿՈՄՈՒՆԱԼ ԾԱՌԱՅՈՒԹՅՈՒՆՆԵՐ | G7: =G9+G41 -> 0 | H7: =H9+H41 -> 0
F8: այդ թվում`
B9: 06 | F9: Բնակարանային շինարարության և կոմունալ ծառայություններ (այլ դասերին չպատկանող) | G9: =G11 -> 23670.7 | H9: =H11 -> 30870.7
F10: այդ թվում`
C11: 01 | F11: Բնակարանային շինարարության և կոմունալ ծառայություններ (այլ դասերին չպատկանող) | G11: =G15 -> 23670.7 | H11: =H15 -> 30870.7
F12: այդ թվում`
F13: ՀՀ քաղաքաշինության կոմիտե | G13: =+G17+G32 -> 23670.7 | H13: =+H17+H32 -> 30870.7
F14: այդ թվում`
D15: 1103 | F15: Քաղաքաշինության և ճարտարապետության բնագավառում պետական քաղաքականության իրականացում և կանոնակարգում | G15: =G17+G32 -> 23670.7 | H15: =H17+H32 -> 30870.7
F16: այդ թվում`
E17: 11001 | F17: Քաղաքաշինության և ճարտարապետության բնագավառում պետական քաղաքականության մշակման, իրականացման, համակարգման, պլանավորման, մոնիտորինգի, կապիտալ ծրագրերի կատարման, պետական գնումների իրականացման ծառայություն | G17: =+G19 -> 10921 | H17: =+H19 -> 18121
F18: այդ թվում` ըստ կատարողների
F19: ՀՀ քաղաքաշինության կոմիտե | G19: =+G21 -> 10921 | H19: =+H21 -> 18121
F20: այդ թվում` բյուջետային ծախսերի տնտեսագիտական դասակարգման հոդվածներ
F21: ԸՆԴԱՄԵՆԸ ԾԱԽՍԵՐ | G21: =G22 -> 10921 | H21: =H22 -> 18121
F22: ԸՆԹԱՑԻԿ ԾԱԽՍԵՐ | G22: =G23 -> 10921 | H22: =H23 -> 18121
F23: ԾԱՌԱՅՈՒԹՅՈՒՆՆԵՐԻ ԵՎ ԱՊՐԱՆՔՆԵՐԻ ՁԵՌՔԲԵՐՈՒՄ | G23: =G24+G26+G28+G30 -> 10921 | H23: =H24+H26+H28+H30 -> 18121
F24: Ծառայողական գործուղումների գծով ծախսեր | G24: =+G25 -> 7000 | H24: =+H25 -> 14200
F25: - Ներքին գործուղումներ | G25: 7000 | H25: 14200
F26: Շարունակական ծախսեր | G26: =+G27 -> 700 | H26: =+H27 -> 700
F27: - Կապի ծառայություններ | G27: 700 | H27: 700
F28: Պայմանագրային այլ ծառայությունների ձեռքբերում | G28: =+G29 -> 1866 | H28: =+H29 -> 1866
F29: - Ընդհանուր բնույթի այլ ծառայություններ | G29: 1866 | H29: 1866
F30: Ընթացիկ նորոգում և պահպանում (ծառայություններ և նյութեր) | G30: =+G31 -> 1355 | H30: =+H31 -> 1355
F31: - Գրասենյակային նյութեր և հագուստ | G31: 1355 | H31: 1355
E32: 31001 | F32: Քաղաքաշինության կոմիտեի կարողությունների զարգացում և տեխնիկական հագեցվածության ապահովում | G32: =+G34 -> 12749.7 | H32: =+H34 -> 12749.7
F33: այդ թվում` ըստ կատարողների
F34: ՀՀ քաղաքաշինության կոմիտե | G34: =+G36 -> 12749.7 | H34: =+H36 -> 12749.7
F35: այդ թվում` բյուջետային ծախսերի տնտեսագիտական դասակարգման հոդվածներ
F36: ԸՆԴԱՄԵՆԸ ԾԱԽՍԵՐ | G36: =G37 -> 12749.7 | H36: =H37 -> 12749.7
F37: ՈՉ ՖԻՆԱՆՍԱԿԱՆ ԱԿՏԻՎՆԵՐԻ ԳԾՈՎ ԾԱԽՍԵՐ | G37: =G38 -> 12749.7 | H37: =H38 -> 12749.7
F38: ՀԻՄՆԱԿԱՆ ՄԻՋՈՑՆԵՐ | G38: =G39 -> 12749.7 | H38: =H39 -> 12749.7
F39: ՄԵՔԵՆԱՆԵՐ ԵՎ ՍԱՐՔԱՎՈՐՈՒՄՆԵՐ | G39: =G40 -> 12749.7 | H39: =H40 -> 12749.7
F40: - Վարչական սարքավորումներ | G40: =20170-7420.3 -> 12749.7 | H40: =20170-7420.3 -> 12749.7
...

Sheet 4
D1: Հավելված № 4 ՀՀ կառավարության 2024 թվականի № ------------ -Ն որոշման
A2: «ՀԱՅԱՍՏԱՆԻ ՀԱՆՐԱՊԵՏՈՒԹՅԱՆ 2023 ԹՎԱԿԱՆԻ ՊԵՏԱԿԱՆ ԲՅՈՒՋԵԻ ՄԱՍԻՆ» ՀԱՅԱՍՏԱՆԻ ՀԱՆՐԱՊԵՏՈՒԹՅԱՆ ՕՐԵՆՔԻ N 1 ՀԱՎԵԼՎԱԾԻ N 3 ԱՂՅՈՒՍԱԿՈՒՄ ԿԱՏԱՐՎՈՂ ՎԵՐԱԲԱՇԽՈՒՄԸ
H4: (հազ. դրամ)
A6: Ծրագրային դասիչը | C6: Բյուջետային գլխավոր կարգադրիչների, ծրագրերի, միջոցառումների, միջոցառումները կատարող պետական մարմինների և ուղղությունների անվանումները | D6: Ցուցանիշների փոփոխությունը (ավելացումները նշված են դրական նշանով, իսկ նվազեցումները` փակագծերում)
D7: Ընդամենը, | E7: այդ թվում՝
A8: ծրագիրը | B8: միջոցառումը | E8: Կառուցման աշխատանքներ | F8: Վերակառուցման, վերանորոգման և վերականգնման աշխատանքներ | G8: Նախագծահե- տազոտական, գեոդեզիա- քարտեզագրա- կան աշխա- տանքներ | H8: Ոչ ֆինանսական այլ ակտիվների ձեռքբերում
C9: ԸՆԴԱՄԵՆԸ | D9: =SUM(E9:H9) -> -18121 | E9: =+E11 -> -30870.7 | F9: =+F11 -> 0 | G9: =+G11 -> 0 | H9: =+H11 -> 12749.7
C10: այդ թվում`
C11: ՀՀ քաղաքաշինության կոմիտե | D11: =SUM(E11:H11) -> -18121 | E11: =+E16+E13 -> -30870.7 | F11: =+F16+F13 -> 0 | G11: =+G16+G13 -> 0 | H11: =+H16+H13 -> 12749.7
C12: այդ թվում`
A13: 1103 | B13: 21001 | C13: Քաղաքաշինության բնագավառում պետական ծրագրերի իրականացման ապահովում | D13: =SUM(E13:H13) -> -30870.7 | E13: =+E15 -> -30870.7 | F13: =+F15 -> 0 | G13: =+G15 -> 0 | H13: =+H15 -> 0
C14: այդ թվում՝
C15: ՀՀ Լոռու մարզի Ստեփանավան համայնքի Աշոտաբերդ թաղամասի կառուցապատման աշխատանքներ | D15: =SUM(E15:H15) -> -30870.7 | E15: =+'3'!H57 -> -30870.7
A16: 1103 | B16: 31001 | C16: =+'3'!F32 -> Քաղաքաշինության կոմիտեի կարողությունների զարգացում և տեխնիկական հագեցվածության ապահովում | D16: =SUM(E16:H16) -> 12749.7 | E16: 0 | F16: 0 | G16: 0 | H16: =+'3'!H32 -> 12749.7

Sheet 5
B1: Հավելված № 5 ՀՀ կառավարության 2024 թվականի № ------------ -Ն որոշման
A2: ՀԱՅԱՍՏԱՆԻ ՀԱՆՐԱՊԵՏՈՒԹՅԱՆ ԿԱՌԱՎԱՐՈՒԹՅԱՆ 2023 ԹՎԱԿԱՆԻ ԴԵԿՏԵՄԲԵՐԻ 28-Ի N 2323-Ն ՈՐՈՇՄԱՆ N 9 ՀԱՎԵԼՎԱԾԻ 9.33 ԱՂՅՈՒՍԱԿՈՒՄ ԿԱՏԱՐՎՈՂ ՓՈՓՈԽՈՒԹՅՈՒՆԸ
A3: ՀՀ Քաղաքաշինության կոմիտե
A4: ՄԱՍ 2. ՊԵՏԱԿԱՆ ՄԱՐՄՆԻ ԳԾՈՎ ԱՐԴՅՈՒՆՔԱՅԻՆ (ԿԱՏԱՐՈՂԱԿԱՆ) ՑՈՒՑԱՆԻՇՆԵՐԸ
D5: (հազ. դրամ)
A6: Ծրագրի դասիչը | B6: Ծրագրի անվանումը
A7: 1103 | B7: Քաղաքաշինության և ճարտարապետության բնագավառում պետական քաղաքականության իրականացում և կանոնակարգում
A9: Ծրագրի միջոցառումները
A11: Ծրագրի դասիչը` | B11: 1103 | C11: Ցուցանիշների փոփոխությունը (ավելացումները նշված են դրական նշանով, իսկ նվազեցումները՝ փակագծերում)
A12: Միջոցառման դասիչը` | B12: 11001 | C12: Ինն ամիս | D12: Տարի
A13: Միջոցառման անվանումը` | B13: Քաղաքաշինության և ճարտարապետության բնագավառում պետական քաղաքականության մշակման, իրականացման, համակարգման, պլանավորման, մոնիտորինգի, կապիտալ ծրագրերի կատարման, պետական գնումների իրականացման ծառայություն
A14: Նկարագրությունը` | B14: Քաղաքաշինության և ճարտարապետության բնագավառում քաղաքականության մշակում, կատարման համակարգում, պլանավորում, իրականացում, մոնիտորինգ, լիցենզավորում, հաշվետվողականություն, աուդիտ, պետական գնումների իրականացում, հասարակությանը ոլորտի ծրագրերի իրազեկում
A15: Միջոցառման տեսակը` | B15: Ծառայությունների մատուցում
A16: Միջոցառումն իրականացնողի անվանումը | B16: ՀՀ քաղաքաշինության կոմիտե
A17: Արդյունքի չափորոշիչներ
A18: ԲԳԿ-ի գծով հաստատված բյուջեի նկատմամբ կատարման նվազագույն տոկոս
A19: Միջոցառման վրա կատարվող ծախսը (հազար դրամ) | C19: ='3'!G17 -> 10921 | D19: ='3'!H17 -> 18121
A21: Ծրագրի դասիչը` | B21: 1103 | C21: Ցուցանիշների փոփոխությունը (ավելացումները նշված են դրական նշանով, իսկ նվազեցումները՝ փակագծերում)
A22: Միջոցառման դասիչը` | B22: 31001 | C22: Ինն ամիս | D22: Տարի
A23: Միջոցառման անվանումը` | B23: Քաղաքաշինության կոմիտեի կարողությունների զարգացում և տեխնիկական հագեցվածության ապահովում
A24: Նկարագրությունը` | B24: Քաղաքաշինության կոմիտեի աշխատանքային պայմանների բարելավման համար վարչական սարքավորումների ձեռք բերում
A25: Միջոցառման տեսակը` | B25: Պետական մարմինների կողմից օգտագործվող ոչ ֆինանսական ակտիվների հետ գործառնություններ
A26: Ակտիվն օգտագործող կազմակերպության անվանումը | B26: ՀՀ քաղաքաշինության կոմիտե
A27: Արդյունքի չափորոշիչներ
A28: Սկաներ
A29: Դյուրակիր համակարգիչ | D29: 10
A30: Տպիչ բազմաֆունկցիոնալ սարք | D30: 20
A31: Աշխատանքային սեղան կողադիրով
A32: Բազկաթոռ
A33: Պահարան
A34: Համակարգիչ ամբողջը մեկում | D34: =1+20 -> 21
A35: Գունավոր տպիչներ | D35: 3
A36: Համակարգչային պլանշետ | D36: 25
A37: Միջոցառման վրա կատարվող ծախսը (հազար դրամ) | C37: ='3'!G40 -> 12749.7 | D37: ='3'!H40 -> 12749.7
A41: Ծրագրի միջոցառումները
A42: Ծրագրի դասիչը` | B42: 1103 | C42: Ցուցանիշների փոփոխությունը (նվազեցումները նշված են փակագծերում)
A43: Միջոցառման դասիչը` | B43: 21001 | C43: Ինն ամիս | D43: Տարի
A44: Միջոցառման անվանումը` | B44: Քաղաքաշինության բնագավառում պետական ծրագրերի իրականացման ապահովում
A45: Նկարագրությունը` | B45: Նախագծանախահաշվային փաստաթղթերի, ինչպես նաև հիմնանորոգման, վերակառուցման, կառուցման աշխատանքների ձեռքբերում
A46: Միջոցառման տեսակը` | B46: Հանրության կողմից անմիջականորեն օգտագործվող ակտիվների հետ կապված միջոցառումներ
...

Sheet 6
B1: Հավելված № 6 ՀՀ կառավարության 2024 թվականի № ------------ -Ն որոշման
A2: ՀԱՅԱՍՏԱՆԻ ՀԱՆՐԱՊԵՏՈՒԹՅԱՆ ԿԱՌԱՎԱՐՈՒԹՅԱՆ 2022 ԹՎԱԿԱՆԻ ԴԵԿՏԵՄԲԵՐԻ 29-Ի N 2111-Ն ՈՐՈՇՄԱՆ N 9.1 ՀԱՎԵԼՎԱԾԻ 9.1.41 ԱՂՅՈՒՍԱԿՈՒՄ ԿԱՏԱՐՎՈՂ ՓՈՓՈԽՈՒԹՅՈՒՆԸ
A3: ՀՀ Քաղաքաշինության կոմիտե
A4: ՄԱՍ 1. ՊԵՏԱԿԱՆ ՄԱՐՄՆԻ ԳԾՈՎ ԱՐԴՅՈՒՆՔԱՅԻՆ (ԿԱՏԱՐՈՂԱԿԱՆ) ՑՈՒՑԱՆԻՇՆԵՐԸ
D5: (հազ. դրամ)
A6: Ծրագրի դասիչը | B6: Ծրագրի անվանումը
A7: 1103 | B7: Քաղաքաշինության և ճարտարապետության բնագավառում պետական քաղաքականության իրականացում և կանոնակարգում
A9: Ծրագրի միջոցառումները
A11: Ծրագրի դասիչը` | B11: 1103 | C11: Ցուցանիշների փոփոխությունը (ավելացումները նշված են դրական նշանով, իսկ նվազեցումները՝ փակագծերում)
A12: Միջոցառման դասիչը` | B12: 11001 | C12: Ինն ամիս | D12: Տարի
A13: Միջոցառման անվանումը` | B13: Քաղաքաշինության և ճարտարապետության բնագավառում պետական քաղաքականության մշակման, իրականացման, համակարգման, պլանավորման, մոնիտորինգի, կապիտալ ծրագրերի կատարման, պետական գնումների իրականացման ծառայություն
A14: Նկարագրությունը` | B14: Քաղաքաշինության և ճարտարապետության բնագավառում քաղաքականության մշակում, կատարման համակարգում, պլանավորում, իրականացում, մոնիտորինգ, լիցենզավորում, հաշվետվողականություն, աուդիտ, պետական գնումների իրականացում, հասարակությանը ոլորտի ծրագրերի իրազեկում
A15: Միջոցառման տեսակը` | B15: Ծառայությունների մատուցում
A16: Միջոցառումն իրականացնողի անվանումը | B16: ՀՀ քաղաքաշինության կոմիտե
A17: Արդյունքի չափորոշիչներ
A18: ԲԳԿ-ի գծով հաստատված բյուջեի նկատմամբ կատարման նվազագույն տոկոս
A19: Միջոցառման վրա կատարվող ծախսը (հազար դրամ) | C19: ='5'!C19 -> 10921 | D19: ='5'!D19 -> 18121
A21: Ծրագրի դասիչը` | B21: 1103 | C21: Ցուցանիշների փոփոխությունը (ավելացումները նշված են դրական նշանով, իսկ նվազեցումները՝ փակագծերում)
A22: Միջոցառման դասիչը` | B22: 31001 | C22: Ինն ամիս | D22: Տարի
A23: Միջոցառման անվանումը` | B23: Քաղաքաշինության կոմիտեի կարողությունների զարգացում և տեխնիկական հագեցվածության ապահովում
A24: Նկարագրությունը` | B24: Քաղաքաշինության կոմիտեի աշխատանքային պայմանների բարելավման համար վարչական սարքավորումների ձեռք բերում
A25: Միջոցառման տեսակը` | B25: Պետական մարմինների կողմից օգտագործվող ոչ ֆինանսական ակտիվների հետ գործառնություններ
A26: Ակտիվն օգտագործող կազմակերպության անվանումը | B26: ՀՀ քաղաքաշինության կոմիտե
A27: Արդյունքի չափորոշիչներ
A28: =+'5'!A28:B28 -> Սկաներ | D28: =+'5'!D28 -> 0
A29: =+'5'!A29:B29 -> Դյուրակիր համակարգիչ | D29: =+'5'!D29 -> 10
A30: =+'5'!A30:B30 -> Տպիչ բազմաֆունկցիոնալ սարք | D30: =+'5'!D30 -> 20
A31: =+'5'!A31:B31 -> Աշխատանքային սեղան կողադիրով | D31: =+'5'!D31 -> 0
A32: =+'5'!A32:B32 -> Բազկաթոռ | D32: =+'5'!D32 -> 0
A33: =+'5'!A33:B33 -> Պահարան | D33: =+'5'!D33 -> 0
A34: =+'5'!A34:B34 -> Համակարգիչ ամբողջը մեկում | D34: =+'5'!D34 -> 21
A35: =+'5'!A35:B35 -> Գունավոր տպիչներ | D35: =+'5'!D35 -> 3
A36: =+'5'!A36:B36 -> Համակարգչային պլանշետ | D36: =+'5'!D36 -> 25
A37: Միջոցառման վրա կատարվող ծախսը (հազար դրամ) | C37: ='5'!C37 -> 12749.7 | D37: ='5'!D37 -> 12749.7
A39: Ծրագրի միջոցառումները
A40: Ծրագրի դասիչը` | B40: 1103 | C40: Ցուցանիշների փոփոխությունը (նվազեցումները նշված են փակագծերում)
A41: Միջոցառման դասիչը` | B41: 21001 | C41: Ինն ամիս | D41: Տարի
A42: Միջոցառման անվանումը` | B42: Քաղաքաշինության բնագավառում պետական ծրագրերի իրականացման ապահովում
A43: Նկարագրությունը` | B43: Նախագծանախահաշվային փաստաթղթերի, ինչպես նաև հիմնանորոգման, վերակառուցման, կառուցման աշխատանքների ձեռքբերում
A44: Միջոցառման տեսակը` | B44: Հանրության կողմից անմիջականորեն օգտագործվող ակտիվների հետ կապված միջոցառումներ
...

Sheet 7
G1: Հավելված № 7 ՀՀ կառավարության 2024 թվականի № ------------ -Ն որոշման
A5: ՀԱՅԱՍՏԱՆԻ ՀԱՆՐԱՊԵՏՈՒԹՅԱՆ ԿԱՌԱՎԱՐՈՒԹՅԱՆ 2023 ԹՎԱԿԱՆԻ ԴԵԿՏԵՄԲԵՐԻ 28-Ի № 2323-Ն ՈՐՈՇՄԱՆ N 10 ՀԱՎԵԼՎԱԾՈՒՄ ԿԱՏԱՐՎՈՂ ՓՈՓՈԽՈՒԹՅՈՒՆԸ ԵՎ ԼՐԱՑՈՒՄԸ
A7: Կոդը | B7: Անվանումը | E7: Գնման ձևը | F7: Չափի միավորը | G7: Միավորի գինը | H7: Ցուցանիշների փոփոխությունը (ավելացումները նշված են դրական նշանով, իսկ նվազեցումները՝ փակագծերում)
H8: Քանակը | I8: Գումարը (հազար դրամով)
A9: 1 | B9: 2 | E9: 3 | F9: 4 | G9: 5 | H9: 6 | I9: 7
A10: ՀՀ Քաղաքաշինության կոմիտե | I10: =I11+I45 -> -14200
A11: Բաժին N 06 | B11: Խումբ N 06 | C11: Դաս N 01 | D11: Օրենսդիր և գործադիր մարմիններ, պետական կառավարում | I11: =I12+I25 -> 16670.7
A12: 1103 11001 | B12: Քաղաքաշինության և ճարտարապետության բնագավառում պետական քաղաքականության մշակման, իրականացման, համակարգման, պլանավորման, մոնիտորինգի, կապիտալ ծրագրերի կատարման, պետական գնումների իրականացման ծառայություն | I12: =I13+I21 -> 3921
B13: ՄԱՍ I. Ա Պ Ր Ա Ն Ք Ն Ե Ր | I13: =SUM(I14:I20) -> 1355
A14: 30236100 | B14: Համակարգչի հիշողությունը մեծացնող սարք | C14: Համակարգչի հիշողությունը մեծացնող սարք | D14: Համակարգչի հիշողությունը մեծացնող սարք | E14: ԷԱՃ | F14: հատ | G14: 14500 | H14: 25 | I14: =+G14*H14/1000 -> 362.5
A15: 30236110 | B15: Օպերատիվ հիշողություն(ram) | C15: Օպերատիվ հիշողություն(ram) | D15: Օպերատիվ հիշողություն(ram) | E15: ԷԱՃ | F15: հատ | G15: 12000 | H15: 20 | I15: =+G15*H15/1000 -> 240
A16: 30236110 | B16: Օպերատիվ հիշողություն(ram) | E16: ԷԱՃ | F16: հատ | G16: 10000 | H16: 20 | I16: =+G16*H16/1000 -> 200
A17: 30121460 | B17: Տոներային քարտրիջներ | E17: ԷԱՃ | F17: հատ | G17: 7000 | H17: 25 | I17: =+G17*H17/1000 -> 175
A18: 30121700 | B18: Պլոտեր սարքի մասեր | E18: ԷԱՃ | F18: հատ | G18: 170000 | H18: 1 | I18: =+G18*H18/1000 -> 170
A19: 30197655 | B19: Թուղթ A3 ֆորմատի | E19: ՄԱ | F19: տուփ | G19: 3500 | H19: 25 | I19: =+G19*H19/1000 -> 87.5
A20: 31442100 | B20: Կուտակիչ մարտկոցներ | E20: ԷԱՃ | F20: հատ | G20: 15000 | H20: 8 | I20: =+G20*H20/1000 -> 120
B21: ՄԱՍ III. ԾԱՌԱՅՈՒԹՅՈՒՆՆԵՐ | I21: =SUM(I22:I24) -> 2566
A22: 32411130 | B22: Համացանց | E22: ԷԱՃ | F22: դրամ | G22: 700000 | H22: 1 | I22: =+G22*H22/1000 -> 700
A23: 79961100 | B23: Լուսանկարչական ծառայություններ | E23: ԳՀ | F23: դրամ | G23: 960000 | H23: 1 | I23: =+G23*H23/1000 -> 960
A24: 51311400 | B24: Տեսագրման սարքերի տեղադրման ծառայություններ | E24: ՄԱ | F24: դրամ | G24: 906000 | H24: 1 | I24: =+G24*H24/1000 -> 906
A25: 1103 31001 | B25: Քաղաքաշինության կոմիտեի կարողությունների զարգացում և տեխնիկական հագեցվածության ապահովում | I25: =I26 -> 12749.7
B26: ՄԱՍ I. Ա Պ Ր Ա Ն Ք Ն Ե Ր | I26: =SUM(I27:I42) -> 12749.7
A27: 30211280 | B27: համակարգիչ ամբողջը մեկում | E27: ԷԱՃ | F27: հատ | G27: 420000 | H27: 20 | I27: =G27*H27/1000 -> 8400
A28: 30211280 | B28: համակարգիչ ամբողջը մեկում | E28: ԷԱՃ | F28: հատ | G28: 630000 | H28: 1 | I28: =G28*H28/1000 -> 630
A29: 30211200 | B29: Դյուրակիր համակարգիչ | E29: ԷԱՃ | F29: հատ | G29: 320000 | H29: 10 | I29: =G29*H29/1000 -> 3200
A30: 30232130 | B30: Գունավոր տպիչներ | C30: Գունավոր տպիչ | D30: Գունավոր տպիչ | E30: ԷԱՃ | F30: հատ | G30: 580000 | H30: 3 | I30: =G30*H30/1000 -> 1740
A31: 30211290 | B31: Համակարգչային պլանշետ | C31: Համակարգչային պլանշետ | D31: Համակարգչային պլանշետ | E31: ԷԱՃ | F31: հատ | G31: 120000 | H31: 25 | I31: =G31*H31/1000 -> 3000
A32: 30239170 | B32: բազմաֆունկցիոնալ սարք` լազերային | E32: ԷԱՃ | F32: հատ | G32: 160000 | H32: 20 | I32: =G32*H32/1000 -> 3200
A33: 39531700-1 | B33: ուղեգորգեր | E33: ԷԱՃ | F33: մ2 | G33: 17000 | H33: -188.8 | I33: =G33*H33/1000 -> -3209.6
A34: 39714200-1 | B34: օդորակիչ | E34: ԷԱՃ | F34: հատ | I34: =-288000/1000 -> -288
A35: 30211280/508 | B35: համակարգիչ ամբողջը մեկում | E35: ԷԱՃ | F35: հատ | I35: =-2235400/1000 -> -2235.4
A36: 31151120/504 | B36: Անխափան սնուցման աղբյուր | E36: ԷԱՃ | F36: հատ | I36: =-428000/1000 -> -428
A37: 30191400/1 | B37: փաստաթղթերի ոչնչացման սարքեր | E37: ԷԱՃ | F37: հատ | I37: =-38400/1000 -> -38.4
A38: 30121110/502 | B38: լուսապատճանեհանող մեքենաներ | E38: ԷԱՃ | F38: հատ | I38: -15.9
A39: 30211200/502 | B39: Դյուրակիր համակարգիչ | E39: ԷԱՃ | F39: հատ | I39: -9.6
A40: 30239170/509 | B40: բազմաֆունկցիոնալ սարք` լազերային | E40: ԷԱՃ | F40: հատ | I40: =-201100/1000 -> -201.1
A41: 30239170/510 | B41: բազմաֆունկցիոնալ սարք` լազերային | E41: ԷԱՃ | F41: հատ | I41: -16.7
A42: 30239170/511 | B42: բազմաֆունկցիոնալ սարք` լազերային | E42: ԷԱՃ | F42: հատ | I42: =-977600/1000 -> -977.6
A43: Բաժին 06 | B43: Խումբ 01 | C43: Դաս 01 | D43: Բնակարանային շինարարություն | I43: =+I44 -> -30870.7
A44: 1103 21001 | B44: Քաղաքաշինության բնագավառում պետական ծրագրերի իրականացման ապահովում | I44: =+I45+I48 -> -30870.7
...

Sheet 8
F1: Հավելված № 8 ՀՀ կառավարության 2024 թվականի № ------------ -Ն որոշման
A2: ՀԱՅԱՍՏԱՆԻ ՀԱՆՐԱՊԵՏՈՒԹՅԱՆ 2024 ԹՎԱԿԱՆԻ ՊԵՏԱԿԱՆ ԲՅՈՒՋԵՈՎ ՆԱԽԱՏԵՍՎԱԾ` ՀԱՅԱՍՏԱՆԻ ՀԱՆՐԱՊԵՏՈՒԹՅԱՆ ԿԱՌԱՎԱՐՈՒԹՅԱՆ ՊԱՀՈՒՍՏԱՅԻՆ ՖՈՆԴԻՑ ՀԱՏԿԱՑՈՒՄՆԵՐ ԿԱՏԱՐԵԼՈՒ ՎԵՐԱԲԵՐՅԱԼ
H3: (հազ. դրամ)
A4: Գործառական դասիչը | D4: Ծրագրային դասիչը | F4: Բյուջետային ծախսերի գործառական դասակարգման բաժինների, խմբերի և դասերի, բյուջետային ծրագրերի միջոցառումների, բյուջետային հատկացումների գլխավոր կարգադրիչների անվանումները | G4: Ցուցանիշների փոփոխությունը (ավելացումները նշված են դրական նշանով, իսկ նվազեցումները՝ փակագծերում)
A5: Բաժին | B5: Խումբ | C5: Դաս | D5: Ծրագիր | E5: Միջոցառում | G5: Ինն ամիս | H5: Տարի
F6: ԸՆԴԱՄԵՆԸ ԾԱԽՍԵՐ | G6: =+G7+G27 -> 0 | H6: =+H7+H27 -> 0
A7: 06 | F7: ԲՆԱԿԱՐԱՆԱՅԻՆ ՇԻՆԱՐԱՐՈՒԹՅՈՒՆ ԵՎ ԿՈՄՈՒՆԱԼ ԾԱՌԱՅՈՒԹՅՈՒՆՆԵՐ | G7: =G9 -> 4210.7 | H7: =H9 -> 4210.7
F8: այդ թվում`
B9: 06 | F9: Բնակարանային շինարարության և կոմունալ ծառայություններ (այլ դասերին չպատկանող) | G9: =G11 -> 4210.7 | H9: =H11 -> 4210.7
F10: այդ թվում`
C11: 01 | F11: Բնակարանային շինարարության և կոմունալ ծառայություններ (այլ դասերին չպատկանող) | G11: =G15 -> 4210.7 | H11: =H15 -> 4210.7
F12: այդ թվում`
F13: ՀՀ քաղաքաշինության կոմիտե | G13: =+G17 -> 4210.7 | H13: =+H17 -> 4210.7
F14: այդ թվում`
D15: 1103 | F15: Քաղաքաշինության և ճարտարապետության բնագավառում պետական քաղաքականության իրականացում և կանոնակարգում | G15: =+G17 -> 4210.7 | H15: =+H17 -> 4210.7
F16: այդ թվում`
E17: 31001 | F17: Քաղաքաշինության կոմիտեի կարողությունների զարգացում և տեխնիկական հագեցվածության ապահովում | G17: =+G19 -> 4210.7 | H17: =+H19 -> 4210.7
F18: այդ թվում` ըստ կատարողների
F19: ՀՀ քաղաքաշինության կոմիտե | G19: =+G21 -> 4210.7 | H19: =+H21 -> 4210.7
F20: այդ թվում` բյուջետային ծախսերի տնտեսագիտական դասակարգման հոդվածներ
F21: ԸՆԴԱՄԵՆԸ ԾԱԽՍԵՐ | G21: =G22 -> 4210.7 | H21: =H22 -> 4210.7
F22: ՈՉ ՖԻՆԱՆՍԱԿԱՆ ԱԿՏԻՎՆԵՐԻ ԳԾՈՎ ԾԱԽՍԵՐ | G22: =G23 -> 4210.7 | H22: =H23 -> 4210.7
F23: ՀԻՄՆԱԿԱՆ ՄԻՋՈՑՆԵՐ | G23: =G24 -> 4210.7 | H23: =H24 -> 4210.7
F24: ՄԵՔԵՆԱՆԵՐ ԵՎ ՍԱՐՔԱՎՈՐՈՒՄՆԵՐ | G24: =G25 -> 4210.7 | H24: =H25 -> 4210.7
F25: - Վարչական սարքավորումներ | G25: 4210.7 | H25: 4210.7
F26: ՀՀ ԿԱՌԱՎԱՐՈՒԹՅՈՒՆ | G26: =+G27 -> -4210.7 | H26: =+H27 -> -4210.7
A27: 11 | F27: ՀԻՄՆԱԿԱՆ ԲԱԺԻՆՆԵՐԻՆ ՉԴԱՍՎՈՂ ՊԱՀՈՒՍՏԱՅԻՆ ՖՈՆԴԵՐ | G27: =+G29 -> -4210.7 | H27: =+H29 -> -4210.7
F28: այդ թվում`
B29: 01 | F29: ՀՀ կառավարության և համայնքների պահուստային ֆոնդ | G29: =+G31 -> -4210.7 | H29: =+H31 -> -4210.7
F30: այդ թվում`
C31: 01 | F31: ՀՀ կառավարության պահուստային ֆոնդ | G31: =+G35 -> -4210.7 | H31: =+H35 -> -4210.7
F32: այդ թվում`
F33: ՀՀ կառավարություն | G33: =+G35 -> -4210.7 | H33: =+H35 -> -4210.7
F34: այդ թվում`
D35: 1139 | E35: ՀՀ կառավարության պահուստային ֆոնդ | G35: =G37 -> -4210.7 | H35: =H37 -> -4210.7
F36: այդ թվում`
E37: 11001 | F37: ՀՀ կառավարության պահուստային ֆոնդ | G37: =+G39 -> -4210.7 | H37: =+H39 -> -4210.7
F38: այդ թվում` ըստ կատարողների
F39: ՀՀ կառավարություն | G39: =+G41 -> -4210.7 | H39: =+H41 -> -4210.7
F40: այդ թվում` բյուջետային ծախսերի տնտեսագիտական դասակարգման հոդվածներ
...
