Workbook
Name AgencyCode: #REF!
Name AgencyCode: #REF!
Name AgencyName: #REF!
Name AgencyName: #REF!
Name åû: #REF!
Name davit: #REF!
Name Functional1: #REF!
Name Functional1: #REF!
Name ggg: #REF!
Name mas: #REF!
Name mass: #REF!
Name PANature: #REF!
Name PANature: #REF!
Name PAType: #REF!
Name PAType: #REF!
Name Performance2: #REF!
Name Performance2: #REF!
Name PerformanceType: #REF!
Name PerformanceType: #REF!
Name x: #REF!
Name Հավելված: #REF!
Name Մաս: #REF!
Name շախմատիստ: #REF!

Sheet h1
A1: Հավելված N 1
A2: ՀՀ կառավարության 2024 թվականի
A3: ______________ ի ___Ն որոշման
A5: «ՀԱՅԱUՏԱՆԻ ՀԱՆՐԱՊԵՏՈՒԹՅԱՆ 2024 ԹՎԱԿԱՆԻ ՊԵՏԱԿԱՆ ԲՅՈՒՋԵԻ ՄԱUԻՆ» OՐԵՆՔԻ N 1 ՀԱՎԵԼՎԱԾԻ N 2 ԱՂՅՈՒՍԱԿՈՒՄ ԿԱՏԱՐՎՈՂ ՎԵՐԱԲԱՇԽՈՒՄԸ ԵՎ ՀԱՅԱՍՏԱՆԻ ՀԱՆՐԱՊԵՏՈՒԹՅԱՆ ԿԱՌԱՎԱՐՈՒԹՅԱՆ 2023 ԹՎԱԿԱՆԻ ԴԵԿՏԵՄԲԵՐԻ 28-Ի ԹԻՎ 2323-Ն ՈՐՈՇՄԱՆ N 5 ՀԱՎԵԼՎԱԾԻ N 1 ԱՂՅՈՒՍԱԿՈՒՄ ԿԱՏԱՐՎՈՂ ՓՈՓՈԽՈՒԹՅՈՒՆՆԵՐԸ
E7: հազար դրամով
A8: Ծրագրային դասիչը | C8: Բյուջետային հատկացումների գլխավոր կարգադրիչների, ծրագրերի և միջոցառումների անվանումները | D8: Ցուցանիշների փոփոխությունը (ավելացումները նշված են դրական նշանով, իսկ նվազեցումները` փակագծերում)
A9: Ծրագիր | B9: Միջոցառում | D9: Ինն ամիս | E9: Տարի
A10: 1192 | C10: ԸՆԴԱՄԵՆԸ | D10: =D12 -> 0 | E10: =E12 -> 0
C11: այդ թվում
C12: ՀՀ տարածքային կառավարման և ենթակառուցվածքների նախարարություն | D12: =D13 -> 0 | E12: =E13 -> 0
A13: 1049 | C13: Ծրագրի անվանումը` | D13: =D26+D32+D20 -> 0 | E13: =E26+E32+E20 -> 0
C14: Ճանապարհային ցանցի բարելավում
C15: Ծրագրի նպատակը`
C16: Ճանապարհային ցանցի բարելավում և անվտանգ երթևեկության ապահովում
C17: Վերջնական արդյունքի նկարագրությունը`
C18: Ճանապարհների ծածկի որակի և փոխադրումների արդյունավետության բարելավում, ճանապարհների վիճակով պայմանավորված պատահարների նվազում
C19: Ծրագրի միջոցառումներ
B20: 11001 | C20: Միջոցառման անվանումը` | D20: ='h5'!D11 -> -135060.9 | E20: ='h5'!E11 -> -211472.6
C21: Միջպետական և հանրապետական նշանակության ավտոճանապարհների պահպանման և անվտանգ երթևեկության ծառայություններ
C22: Միջոցառման նկարագրությունը`
C23: Հողային պաստառի, երթևեկելի մասի, արհեստական կառույցների և կահավորման տարրերի նորմատիվ մակարդակում պահպանում և շահագործում
C24: Միջոցառման տեսակը
C25: Ծառայությունների մատուցում
B26: 11002 | C26: Միջոցառման անվանումը` | D26: ='h3'!G32 -> 71861.1 | E26: ='h3'!H32 -> 148272.8
C27: Մարզային նշանակության ավտոճանապարհների պահպանման և անվտանգ երթևեկության ծառայություններ
C28: Միջոցառման նկարագրությունը`
C29: Հողային պաստառի, երթևեկելի մասի, արհեստական կառույցների և կահավորման տարրերի նորմատիվ մակարդակում պահպանում և շահագործում
C30: Միջոցառման տեսակը
C31: Ծառայությունների մատուցում
B32: 21001 | C32: Միջոցառման անվանումը` | D32: ='h3'!G104 -> 63199.8 | E32: ='h3'!H104 -> 63199.8
C33: Պետական նշանակության ավտոճանապարհների հիմնանորոգում
C34: Միջոցառման նկարագրությունը`
C35: Միջպետական, հանրապետական և մարզային նշանակության ավտոճոնապարհների քայքայված ծածկի վերանորոգում, մաշված ծածկի փոխարինում
C36: Միջոցառման տեսակը
C37: Հանրության կողմից անմիջականորեն օգտագործվող ակտիվների հետ կապված միջոցառումներ
C40: ՀԱՅԱՍՏԱՆԻ ՀԱՆՐԱՊԵՏՈՒԹՅԱՆ ՎԱՐՉԱՊԵՏԻ ԱՇԽԱՏԱԿԱԶՄԻ ՂԵԿԱՎԱՐ՝ | E40: Ա.ՀԱՐՈՒԹՅՈՒՆՅԱՆ

Sheet h2
H1: Հավելված N2
G2: ՀՀ կառավարության 2024 թվականի
G3: ------------ N ---------- որոշման
A4: «ՀԱՅԱՍՏԱՆԻ ՀԱՆՐԱՊԵՏՈՒԹՅԱՆ 2024 ԹՎԱԿԱՆԻ ՊԵՏԱԿԱՆ ԲՅՈՒՋԵԻ ՄԱՍԻՆ» ՕՐԵՆՔԻ N 1 ՀԱՎԵԼՎԱԾԻ N 3 ԱՂՅՈՒՍԱԿՈՒՄ ԿԱՏԱՐՎՈՂ ԼՐԱՑՈՒՄԸ
G5: հազ.դրամ
A6: Ծրագրային դասիչ | C6: Բյուջետային գլխավոր կարգադրիչների ծրագրերի միջոցառումների և ուղղությունների անվանումները | D6: Ընդամենը հազ. դրամ | E6: Ցուցանիշների փոփոխությունը (ավելացումները նշված են դրական նշանով)
E7: այդ թվում
A8: Ծրագիր | B8: Միջոցառում | E8: Կառուցման աշխատանքներ | F8: Վերակառուցման, վերանորոգման և վերականգնման աշխատանքներ | G8: Նախագծահե- տազոտական, գեոդեզիա- քարտեզագրա- կան աշխա- տանքներ | H8: Ոչ ֆինանսական այլ ակտիվների ձեռքբերում
C9: ԸՆԴԱՄԵՆԸ | D9: =E9+F9+G9+H9 -> 63199.8 | E9: =E11 -> 0 | F9: =F11 -> 0 | G9: =G11 -> 63199.8 | H9: =H11 -> 0
C10: այդ թվում՝
C11: ՀՀ տարածքային կառավարման և ենթակառուցվածքների նախարարություն | D11: =D13 -> 63199.8 | E11: =E13 -> 0 | F11: =F13 -> 0 | G11: =G13 -> 63199.8 | H11: =H13 -> 0
C12: այդ թվում`
A13: 1049 | B13: 21001 | C13: Պետական նշանակության ավտոճանապարհների հիմնանորոգում | D13: =E13+F13+G13+H13 -> 63199.8 | E13: =E19+E20+E22+E21+E23+E24+E25+E26+E27+E28 -> 0 | F13: =F19+F20+F22+F21+F23+F24+F25+F26+F27+F28 -> 0 | G13: =G19+G20+G22+G21+G23+G24+G25+G26+G27+G28 -> 63199.8 | H13: =H19+H20+H22+H21+H23+H24+H25+H26+H27+H28 -> 0
C14: այդ թվում`
C15: Մարզային նշանակության ավտոճանապարհներ | D15: =D17 -> 63199.8 | E15: 0 | F15: 0 | G15: =G17 -> 63199.8 | H15: 0
C16: այդ թվում`
C17: Մարզային նշանակության ավտոմոբիլային ճանապարհների երթևեկության սխեմաների նախագծանախահաշվային փաստաթղթերի ձեռքբերում | D17: =E17+F17+G17+H17 -> 63199.8 | E17: 0 | F17: 0 | G17: =G19+G20+G21+G22+G23+G24+G25+G26+G27+G28 -> 63199.8 | H17: 0
C18: այդ թվում`
C19: ՀՀ Արագածոտնի մարզ | D19: =E19+F19+H19++G19 -> 3190 | G19: ='h8'!I16 -> 3190 | H19: 0
C20: ՀՀ Արարատի մարզ | D20: =E20+F20+G20+H20 -> 6230 | E20: 0 | F20: 0 | G20: ='h8'!I20 -> 6230 | H20: 0
C21: ՀՀ Արմավիրի մարզ | D21: =E21+F21+G21+H21 -> 9670 | E21: 0 | F21: 0 | G21: ='h8'!I26 -> 9670 | H21: 0
C22: ՀՀ Գեղարքունիքի մարզ | D22: =E22+F22+G22+H22 -> 6586.8 | E22: 0 | F22: 0 | G22: ='h8'!I34 -> 6586.8 | H22: 0
C23: ՀՀ Լոռու մարզ | D23: =E23+F23+G23+H23 -> 8470 | E23: 0 | F23: 0 | G23: ='h8'!I43 -> 8470 | H23: 0
C24: ՀՀ Կոտայքի մարզ | D24: =E24+F24+G24+H24 -> 10758 | E24: 0 | F24: 0 | G24: ='h8'!I52 -> 10758 | H24: 0
C25: ՀՀ Շիրակի մարզ | D25: =E25+F25+G25+H25 -> 8797.8 | E25: 0 | F25: 0 | G25: ='h8'!I58 -> 8797.8 | H25: 0
C26: ՀՀ Սյունիքի մարզ | D26: =E26+F26+G26+H26 -> 4382.4 | E26: 0 | F26: 0 | G26: ='h8'!I67 -> 4382.4 | H26: 0
C27: ՀՀ Վայոց ձորի մարզ | D27: =E27+F27+G27+H27 -> 2420 | E27: 0 | F27: 0 | G27: ='h8'!I76 -> 2420 | H27: 0
C28: ՀՀ Տավուշի մարզ | D28: =E28+F28+G28+H28 -> 2694.8 | E28: 0 | F28: 0 | G28: ='h8'!I85 -> 2694.8 | H28: 0
C31: ՀԱՅԱՍՏԱՆԻ ՀԱՆՐԱՊԵՏՈՒԹՅԱՆ
C32: ՎԱՐՉԱՊԵՏԻ ԱՇԽԱՏԱԿԱԶՄԻ ՂԵԿԱՎԱՐ՝ | D32: Ա. ՀԱՐՈՒԹՅՈՒՆՅԱՆ

Sheet h3
A1: Հավելված N 3
A2: ՀՀ կառավարության 2024 թվականի
A3: ______________ ի ___Ն որոշման
A5: ՀԱՅԱՍՏԱՆԻ ՀԱՆՐԱՊԵՏՈՒԹՅԱՆ ԿԱՌԱՎԱՐՈՒԹՅԱՆ 2023 ԹՎԱԿԱՆԻ ԴԵԿՏԵՄԲԵՐԻ 28-Ի ԹԻՎ 2323-Ն ՈՐՈՇՄԱՆ N 3 ԵՎ N 4 ՀԱՎԵԼՎԱԾՆԵՐՈՒՄ ԿԱՏԱՐՎՈՂ ՓՈՓՈԽՈՒԹՅՈՒՆՆԵՐԸ ԵՎ ԼՐԱՑՈՒՄՆԵՐԸ
H7: հազար դրամով
A8: Գործառական դասիչը | D8: Ծրագրային դասիչը | F8: Բյուջետային հատկացումների գլխավոր կարգադրիչների, ծրագրերի, միջոցառումների և միջոցառումները կատարող պետական մարմինների անվանումները | G8: Ցուցանիշների փոփոխությունը (ավելացումները նշված են դրական նշանով, իսկ նվազեցումները` փակագծերում)
A9: Բաժին | B9: Խումբ | C9: Դաս | D9: Ծրագիր | E9: Միջոցառում | G9: Ինն ամիս | H9: Տարի
F10: ԸՆԴԱՄԵՆԸ | G10: =G12 -> 0 | H10: =H12 -> 0
F11: այդ թվում
F12: ՀՀ տարածքային կառավարման և ենթակառուցվածքների նախարարություն | G12: =G13 -> 0 | H12: =H13 -> 0
A13: 04 | F13: ՏՆՏԵՍԱԿԱՆ ՀԱՐԱԲԵՐՈՒԹՅՈՒՆՆԵՐ | G13: =G15 -> 0 | H13: =H15 -> 0
F14: այդ թվում`
B15: 05 | F15: Տրանսպորտ | G15: =G17 -> 0 | H15: =H17 -> 0
F16: այդ թվում`
C17: 01 | F17: Ճանապարհային տրանսպորտ | G17: =G19 -> 0 | H17: =H19 -> 0
F18: այդ թվում`
F19: ՀՀ տարածքային կառավարման և ենթակառուցվածքների նախարարություն | G19: =G21 -> 0 | H19: =H21 -> 0
F20: այդ թվում`
D21: 1049 | F21: Ճանապարհային ցանցի բարելավում | G21: =G32+G104+G23 -> 0 | H21: =H32+H104+H23 -> 0
F22: այդ թվում`
E23: 11001 | F23: Միջպետական և հանրապետական նշանակության ավտոճանապարհների պահպանման և անվտանգ երթևեկության ծառայություններ | G23: =G25 -> -135060.9 | H23: =H25 -> -211472.6
F24: այդ թվում` ըստ կատարողների
F25: ՀՀ տարածքային կառավարման և ենթակառուցվածքների նախարարություն | G25: =G27 -> -135060.9 | H25: =H27 -> -211472.6
F26: այդ թվում` բյուջետային ծախսերի տնտեսագիտական դասակարգման հոդվածներ
F27: ԸՆԴԱՄԵՆԸ ԾԱԽՍԵՐ | G27: =G28 -> -135060.9 | H27: =H28 -> -211472.6
F28: ԸՆԹԱՑԻԿ ԾԱԽՍԵՐ | G28: =G29 -> -135060.9 | H28: =H29 -> -211472.6
F29: ԾԱՌԱՅՈՒԹՅՈՒՆՆԵՐԻ ԵՎ ԱՊՐԱՆՔՆԵՐԻ ՁԵՌՔԲԵՐՈՒՄ | G29: =G30 -> -135060.9 | H29: =H30 -> -211472.6
F30: Ընթացիկ նորոգում և պահպանում (ծառայություններ և նյութեր) | G30: =G31 -> -135060.9 | H30: =H31 -> -211472.6
F31: - Շենքերի և կառույցների ընթացիկ նորոգում և պահպանում | G31: -135060.9 | H31: -211472.6
E32: 11002 | F32: Մարզային նշանակության ավտոճանապարհների պահպանման և անվտանգ երթևեկության ծառայություններ | G32: =G34+G41+G48+G55+G62+G69+G76+G83+G90+G97 -> 71861.1 | H32: =H34+H41+H48+H55+H62+H69+H76+H83+H90+H97 -> 148272.8
F33: այդ թվում` ըստ կատարողների
F34: ՀՀ Արագածոտնի մարզպետի աշխատակազմ | G34: =G36 -> -3190 | H34: =H36 -> -3190
F35: այդ թվում` բյուջետային ծախսերի տնտեսագիտական դասակարգման հոդվածներ
F36: ԸՆԴԱՄԵՆԸ ԾԱԽՍԵՐ | G36: =G38 -> -3190 | H36: =H37 -> -3190
F37: ԸՆԹԱՑԻԿ ԾԱԽՍԵՐ | G37: =G38 -> -3190 | H37: =H40 -> -3190
F38: ԾԱՌԱՅՈՒԹՅՈՒՆՆԵՐԻ ԵՎ ԱՊՐԱՆՔՆԵՐԻ ՁԵՌՔԲԵՐՈՒՄ | G38: =G39 -> -3190 | H38: =H39 -> -3190
F39: Ընթացիկ նորոգում և պահպանում (ծառայություններ և նյութեր) | G39: =G40 -> -3190 | H39: =H40 -> -3190
F40: - Շենքերի և կառույցների ընթացիկ նորոգում և պահպանում | G40: =-G112 -> -3190 | H40: =-H112 -> -3190
F41: ՀՀ Արարատի մարզպետի աշխատակազմ | G41: =G43 -> -6230 | H41: =H43 -> -6230
F42: այդ թվում` բյուջետային ծախսերի տնտեսագիտական դասակարգման հոդվածներ
F43: ԸՆԴԱՄԵՆԸ ԾԱԽՍԵՐ | G43: =G44 -> -6230 | H43: =H44 -> -6230
F44: ԸՆԹԱՑԻԿ ԾԱԽՍԵՐ | G44: =G45 -> -6230 | H44: =H45 -> -6230
F45: ԾԱՌԱՅՈՒԹՅՈՒՆՆԵՐԻ ԵՎ ԱՊՐԱՆՔՆԵՐԻ ՁԵՌՔԲԵՐՈՒՄ | G45: =G46 -> -6230 | H45: =H46 -> -6230
F46: Ընթացիկ նորոգում և պահպանում (ծառայություններ և նյութեր) | G46: =G47 -> -6230 | H46: =H47 -> -6230
F47: - Շենքերի և կառույցների ընթացիկ նորոգում և պահպանում | G47: =-G119 -> -6230 | H47: =-H119 -> -6230
F48: ՀՀ Արմավիրի մարզպետի աշխատակազմ | G48: =G50 -> -9670 | H48: =H50 -> -9670
F49: այդ թվում` բյուջետային ծախսերի տնտեսագիտական դասակարգման հոդվածներ
F50: ԸՆԴԱՄԵՆԸ ԾԱԽՍԵՐ | G50: =G51 -> -9670 | H50: =H51 -> -9670
F51: ԸՆԹԱՑԻԿ ԾԱԽՍԵՐ | G51: =G52 -> -9670 | H51: =H52 -> -9670
F52: ԾԱՌԱՅՈՒԹՅՈՒՆՆԵՐԻ ԵՎ ԱՊՐԱՆՔՆԵՐԻ ՁԵՌՔԲԵՐՈՒՄ | G52: =G53 -> -9670 | H52: =H53 -> -9670
F53: Ընթացիկ նորոգում և պահպանում (ծառայություններ և նյութեր) | G53: =G54 -> -9670 | H53: =H54 -> -9670
F54: - Շենքերի և կառույցների ընթացիկ նորոգում և պահպանում | G54: =-G126 -> -9670 | H54: =-H126 -> -9670
F55: ՀՀ Գեղարքունիքի մարզպետի աշխատակազմ | G55: =G57 -> -6586.8 | H55: =H57 -> -6586.8
F56: այդ թվում` բյուջետային ծախսերի տնտեսագիտական դասակարգման հոդվածներ
F57: ԸՆԴԱՄԵՆԸ ԾԱԽՍԵՐ | G57: =G58 -> -6586.8 | H57: =H58 -> -6586.8
F58: ԸՆԹԱՑԻԿ ԾԱԽՍԵՐ | G58: =G59 -> -6586.8 | H58: =H59 -> -6586.8
F59: ԾԱՌԱՅՈՒԹՅՈՒՆՆԵՐԻ ԵՎ ԱՊՐԱՆՔՆԵՐԻ ՁԵՌՔԲԵՐՈՒՄ | G59: =G60 -> -6586.8 | H59: =H60 -> -6586.8
F60: Ընթացիկ նորոգում և պահպանում (ծառայություններ և նյութեր) | G60: =G61 -> -6586.8 | H60: =H61 -> -6586.8
F61: - Շենքերի և կառույցների ընթացիկ նորոգում և պահպանում | G61: =-G127 -> -6586.8 | H61: =G61 -> -6586.8
F62: ՀՀ Լոռու մարզպետի աշխատակազմ | G62: =G64 -> 31530 | H62: =H64 -> 58059.6
F63: այդ թվում` բյուջետային ծախսերի տնտեսագիտական դասակարգման հոդվածներ
F64: ԸՆԴԱՄԵՆԸ ԾԱԽՍԵՐ | G64: =G65 -> 31530 | H64: =H65 -> 58059.6
F65: ԸՆԹԱՑԻԿ ԾԱԽՍԵՐ | G65: =G66 -> 31530 | H65: =H66 -> 58059.6
F66: ԾԱՌԱՅՈՒԹՅՈՒՆՆԵՐԻ ԵՎ ԱՊՐԱՆՔՆԵՐԻ ՁԵՌՔԲԵՐՈՒՄ | G66: =G67 -> 31530 | H66: =H67 -> 58059.6
F67: Ընթացիկ նորոգում և պահպանում (ծառայություններ և նյութեր) | G67: =G68 -> 31530 | H67: =H68 -> 58059.6
F68: - Շենքերի և կառույցների ընթացիկ նորոգում և պահպանում | G68: 31530 | H68: 58059.6
F69: ՀՀ Կոտայքի մարզպետի աշխատակազմ | G69: =G71 -> 34242 | H69: =H71 -> 62525.6
F70: այդ թվում` բյուջետային ծախսերի տնտեսագիտական դասակարգման հոդվածներ
F71: ԸՆԴԱՄԵՆԸ ԾԱԽՍԵՐ | G71: =G72 -> 34242 | H71: =H72 -> 62525.6
F72: ԸՆԹԱՑԻԿ ԾԱԽՍԵՐ | G72: =G73 -> 34242 | H72: =H73 -> 62525.6
F73: ԾԱՌԱՅՈՒԹՅՈՒՆՆԵՐԻ ԵՎ ԱՊՐԱՆՔՆԵՐԻ ՁԵՌՔԲԵՐՈՒՄ | G73: =G74 -> 34242 | H73: =H74 -> 62525.6
F74: Ընթացիկ նորոգում և պահպանում (ծառայություններ և նյութեր) | G74: =G75 -> 34242 | H74: =H75 -> 62525.6
F75: - Շենքերի և կառույցների ընթացիկ նորոգում և պահպանում | G75: 34242 | H75: 62525.6
F76: ՀՀ Շիրակի մարզպետի աշխատակազմ | G76: =G78 -> -8797.8 | H76: =H78 -> -8797.8
F77: այդ թվում` բյուջետային ծախսերի տնտեսագիտական դասակարգման հոդվածներ
F78: ԸՆԴԱՄԵՆԸ ԾԱԽՍԵՐ | G78: =G79 -> -8797.8 | H78: =H79 -> -8797.8
F79: ԸՆԹԱՑԻԿ ԾԱԽՍԵՐ | G79: =G80 -> -8797.8 | H79: =H80 -> -8797.8
F80: ԾԱՌԱՅՈՒԹՅՈՒՆՆԵՐԻ ԵՎ ԱՊՐԱՆՔՆԵՐԻ ՁԵՌՔԲԵՐՈՒՄ | G80: =G81 -> -8797.8 | H80: =H81 -> -8797.8
F81: Ընթացիկ նորոգում և պահպանում (ծառայություններ և նյութեր) | G81: =G82 -> -8797.8 | H81: =H82 -> -8797.8
F82: - Շենքերի և կառույցների ընթացիկ նորոգում և պահպանում | G82: =-G148 -> -8797.8 | H82: =-H148 -> -8797.8
F83: ՀՀ Սյունիքի մարզպետի աշխատակազմ | G83: =G85 -> -267.2 | H83: =H85 -> 3714.8
F84: այդ թվում` բյուջետային ծախսերի տնտեսագիտական դասակարգման հոդվածներ
F85: ԸՆԴԱՄԵՆԸ ԾԱԽՍԵՐ | G85: =G86 -> -267.2 | H85: =H86 -> 3714.8
F86: ԸՆԹԱՑԻԿ ԾԱԽՍԵՐ | G86: =G87 -> -267.2 | H86: =H87 -> 3714.8
F87: ԾԱՌԱՅՈՒԹՅՈՒՆՆԵՐԻ ԵՎ ԱՊՐԱՆՔՆԵՐԻ ՁԵՌՔԲԵՐՈՒՄ | G87: =G88 -> -267.2 | H87: =H88 -> 3714.8
F88: Ընթացիկ նորոգում և պահպանում (ծառայություններ և նյութեր) | G88: =G89 -> -267.2 | H88: =H89 -> 3714.8
F89: - Շենքերի և կառույցների ընթացիկ նորոգում և պահպանում | G89: -267.2 | H89: 3714.8
F90: ՀՀ Վայոց ձորի մարզպետի աշխատակազմ | G90: =G92 -> 20208.7 | H90: =H92 -> 26166.6
F91: այդ թվում` բյուջետային ծախսերի տնտեսագիտական դասակարգման հոդվածներ
F92: ԸՆԴԱՄԵՆԸ ԾԱԽՍԵՐ | G92: =G93 -> 20208.7 | H92: =H93 -> 26166.6
F93: ԸՆԹԱՑԻԿ ԾԱԽՍԵՐ | G93: =G94 -> 20208.7 | H93: =H94 -> 26166.6
F94: ԾԱՌԱՅՈՒԹՅՈՒՆՆԵՐԻ ԵՎ ԱՊՐԱՆՔՆԵՐԻ ՁԵՌՔԲԵՐՈՒՄ | G94: =G95 -> 20208.7 | H94: =H95 -> 26166.6
F95: Ընթացիկ նորոգում և պահպանում (ծառայություններ և նյութեր) | G95: =G96 -> 20208.7 | H95: =H96 -> 26166.6
F96: - Շենքերի և կառույցների ընթացիկ նորոգում և պահպանում | G96: 20208.7 | H96: 26166.6
F97: ՀՀ Տավուշի մարզպետի աշխատակազմ | G97: =G99 -> 20622.2 | H97: =H99 -> 32280.8
F98: այդ թվում` բյուջետային ծախսերի տնտեսագիտական դասակարգման հոդվածներ
F99: ԸՆԴԱՄԵՆԸ ԾԱԽՍԵՐ | G99: =G100 -> 20622.2 | H99: =H100 -> 32280.8
F100: ԸՆԹԱՑԻԿ ԾԱԽՍԵՐ | G100: =G101 -> 20622.2 | H100: =H101 -> 32280.8
F101: ԾԱՌԱՅՈՒԹՅՈՒՆՆԵՐԻ ԵՎ ԱՊՐԱՆՔՆԵՐԻ ՁԵՌՔԲԵՐՈՒՄ | G101: =G102 -> 20622.2 | H101: =H102 -> 32280.8
F102: Ընթացիկ նորոգում և պահպանում (ծառայություններ և նյութեր) | G102: =G103 -> 20622.2 | H102: =H103 -> 32280.8
...

Sheet h4
E1: Հավելված N4
C2: ՀՀ կառավարության 2024թվականի
C3: ______________ ի ___Ն որոշման
A5: ՀԱՅԱUՏԱՆԻ ՀԱՆՐԱՊԵՏՈՒԹՅԱՆ ԿԱՌԱՎԱՐՈՒԹՅԱՆ 2023 ԹՎԱԿԱՆԻ ԴԵԿՏԵՄԲԵՐԻ 28-Ի N 2323-Ն ՈՐՈՇՄԱՆ N 5 ՀԱՎԵԼՎԱԾԻ N 2 ԱՂՅՈՒՍԱԿՈՒՄ ԿԱՏԱՐՎՈՂ ԼՐԱՑՈՒՄԸ
E6: հազ. դրամ
A7: Ծրագրային դասիչը | C7: Բյուջետային գլխավոր կարգադրիչների, ծրագրերի, միջոցառումների և ուղղությունների անվանումները | D7: Ցուցանիշների փոփոխությունը (ավելացումները նշված են դրական նշանով)
A8: Ծրագիր | B8: Միջոց_x000D_առում | D8: Ինն ամիս | E8: Տարի
C9: ԸՆԴԱՄԵՆԸ | D9: =D11 -> 63199.8 | E9: =E11 -> 63199.8
C10: այդ թվում`
C11: ='h2'!C11 -> ՀՀ տարածքային կառավարման և ենթակառուցվածքների նախարարություն | D11: =D13 -> 63199.8 | E11: =E13 -> 63199.8
C12: այդ թվում`
A13: 1049 | B13: 21001 | C13: Պետական նշանակության ավտոճանապարհների հիմնանորոգում | D13: =D19+D20+D21++D22+D23+D24+D25+D26+D27+D28 -> 63199.8 | E13: =E19+E20+E21++E22+E23+E24+E25+E26+E27+E28 -> 63199.8
C14: այդ թվում`ըստ ուղղությունների
C15: Մարզային նշանակության ավտոճանապարհներ | D15: =D17 -> 63199.8 | E15: =E17 -> 63199.8
C16: այդ թվում`
C17: Մարզային նշանակության ավտոմոբիլային ճանապարհների երթևեկության սխեմաների նախագծանախահաշվային փաստաթղթերի ձեռքբերում | D17: =D19+D20+D21+D22+D23+D24+D25+D26+D27+D28 -> 63199.8 | E17: =E19+E20+E21+E22+E23+E24+E25+E26+E27+E28 -> 63199.8
C18: Այդ թվում՝ ըստ կատարողների
C19: ՀՀ Արագածոտնի մարզպետի աշխատակազմ | D19: ='h3'!G106 -> 3190 | E19: ='h3'!H106 -> 3190
C20: ='h3'!F41 -> ՀՀ Արարատի մարզպետի աշխատակազմ | D20: ='h3'!G113 -> 6230 | E20: ='h3'!H113 -> 6230
C21: ='h3'!F48 -> ՀՀ Արմավիրի մարզպետի աշխատակազմ | D21: ='h3'!G120 -> 9670 | E21: ='h3'!H120 -> 9670
C22: ՀՀ Գեղարքունիքի մարզպետի աշխատակազմ | D22: ='h3'!G127 -> 6586.8 | E22: ='h3'!H127 -> 6586.8
C23: ՀՀ Լոռու մարզպետի աշխատակազմ | D23: ='h3'!G134 -> 8470 | E23: ='h3'!H134 -> 8470
C24: ՀՀ Կոտայքի մարզպետի աշխատակազմ | D24: ='h3'!G141 -> 10758 | E24: ='h3'!H141 -> 10758
C25: ՀՀ Շիրակի մարզպետի աշխատակազմ | D25: ='h3'!G148 -> 8797.8 | E25: ='h3'!H148 -> 8797.8
C26: ՀՀ Սյունիքի մարզպետի աշխատակազմ | D26: ='h3'!G155 -> 4382.4 | E26: ='h3'!H155 -> 4382.4
C27: ՀՀ Վայոց ձորի մարզպետի աշխատակազմ | D27: ='h3'!G162 -> 2420 | E27: ='h3'!H162 -> 2420
C28: ՀՀ Տավուշի մարզպետի աշխատակազմ | D28: ='h3'!G169 -> 2694.8 | E28: ='h3'!H169 -> 2694.8
C30: ՀԱՅԱՍՏԱՆԻ ՀԱՆՐԱՊԵՏՈՒԹՅԱՆ ՎԱՐՉԱՊԵՏԻ ԱՇԽԱՏԱԿԱԶՄԻ ՂԵԿԱՎԱՐ՝ | E30: Ա.ՀԱՐՈՒԹՅՈՒՆՅԱՆ

Sheet h5
E1: Հավելված N 5
B2: ՀՀ կառավարության 2024 թվականի
B3: ______________ ի ___Ն որոշման
A5: ՀԱՅԱՍՏԱՆԻ ՀԱՆՐԱՊԵՏՈՒԹՅԱՆ ԿԱՌԱՎԱՐՈՒԹՅԱՆ 2023 ԹՎԱԿԱՆԻ ԴԵԿՏԵՄԲԵՐԻ 28-Ի N 2323-Ն ՈՐՈՇՄԱՆ N 5 ՀԱՎԵԼՎԱԾԻ N 5 ԱՂՅՈՒՍԱԿՈՒՄ ԿԱՏԱՐՎՈՂ ՓՈՓՈԽՈՒԹՅՈՒՆԸ
E7: հազար դրամ
A8: Ծրագրային դասիչը | C8: Բյուջետային ծրագրերի, միջոցառումների և աշխատանքների անվանումները | D8: Ցուցանիշների փոփոխությունը ( նվազեցումները` նշված են փակագծերում)
A9: Ծրագիր | B9: Միջոցառում | D9: Ինն ամիս | E9: Տարի
A10: 1049 | C10: Ճանապարհային ցանցի բարելավում
B11: 11001 | C11: Միջպետական և հանրապետական նշանակության ավտոճանապարհների պահպանման և անվտանգ երթևեկության ծառայություններ¸ այդ թվում՝ | D11: =D12 -> -135060.9 | E11: =E12 -> -211472.6
C12: 1. Ավտոճանապարհների ձմեռային և ընթացիկ պահպանում, այդ թվում` | D12: =D13 -> -135060.9 | E12: =E13 -> -211472.6
C13: 1.1 Միջպետական և հանրապետական նշանակության ավտոճանապարհների ձմեռային և ընթացիկ պահպանում | D13: ='h3'!G23 -> -135060.9 | E13: ='h3'!H23 -> -211472.6

Sheet h6
D1: Հավելված N 6
D2: ՀՀ կառավարության 2024 թվականի
D3: ______________ ի ___Ն որոշման
A5: ՀԱՅԱՍՏԱՆԻ ՀԱՆՐԱՊԵՏՈՒԹՅԱՆ ԿԱՌԱՎԱՐՈՒԹՅԱՆ 2023 ԹՎԱԿԱՆԻ ԴԵԿՏԵՄԲԵՐԻ 28-Ի N 2323-Ն ՈՐՈՇՄԱՆ NN 9 ՀԱՎԵԼՎԱԾԻ NN 9.7 ԱՂՅՈՒՍԱԿՆԵՐՈՒՄ ԿԱՏԱՐՎՈՂ ՓՈՓՈԽՈՒԹՅՈՒՆՆԵՐԸ ԵՎ ԼՐԱՑՈՒՄՆԵՐԸ
D6: Աղյուսակ 9.7
A7: ՀՀ տարածքային կառավարման և ենթակառուցվածքների նախարարություն
A8: ՄԱՍ 2. ՊԵՏԱԿԱՆ ՄԱՐՄՆԻ ԳԾՈՎ ԱՐԴՅՈՒՆՔԱՅԻՆ (ԿԱՏԱՐՈՂԱԿԱՆ) ՑՈՒՑԱՆԻՇՆԵՐԸ
A11: Ծրագրի դասիչը | B11: Ծրագրի անվանումը
A12: 1049 | B12: ='h1'!C14 -> Ճանապարհային ցանցի բարելավում
A14: Ծրագրի միջոցառումները
A15: Ծրագրի դասիչը` | B15: 1049 | C15: Ցուցանիշների փոփոխությունը (նվազեցումները նշված են փակագծերում)
A16: Միջոցառման դասիչը` | B16: 11001 | C16: Ինն ամիս | D16: Տարի
A17: Միջոցառման անվանումը` | B17: Միջպետական և հանրապետական նշանակության ավտոճանապարհների պահպանման և անվտանգ երթևեկության ծառայություններ
A18: Նկարագրությունը` | B18: Հողային պաստառի, երթևեկելի մասի, արհեստական կառույցների և կահավորման տարրերի նորմատիվ մակարդակում պահպանում և շահագործում
A19: Միջոցառման տեսակը` | B19: Ծառայությունների մատուցում
A20: Միջոցառումն իրականացնողի անվանումը | B20: ՀՀ տարածքային կառավարման և ենթակառուցվածքների նախարարություն, մրցութային կարգով ընտրված կազմակերպություններ
A21: Արդյունքի չափորոշիչներ
A22: Ամառային պահպանման ենթակա ավտոճանապարհների ընդհանուր երկարությունը (ոչ կուտակային ցուցանիշ), կիլոմետր | D22: =-D34 -> -142.3
A23: Ձմեռային պահպանման ենթակա ավտոճանապարհների ընդհանուր երկարությունը (ոչ կուտակային ցուցանիշ), կիլոմետր | D23: =-D35 -> -178.2
A24: Միջոցառման վրա կատարվող ծախսը (հազար դրամ) | C24: ='h5'!D13 -> -135060.9 | D24: ='h5'!E13 -> -211472.6
A27: Ծրագրի դասիչը` | B27: 1049 | C27: Ցուցանիշների փոփոխությունը (ավելացումները նշված են դրական նշանով)
A28: Միջոցառման դասիչը` | B28: 11002 | C28: Ինն ամիս | D28: Տարի
A29: Միջոցառման անվանումը` | B29: Մարզային նշանակության ավտոճանապարհների պահպանման և անվտանգ երթևեկության ծառայություններ
A30: Նկարագրությունը` | B30: Հողային պաստառի, երթևեկելի մասի, արհեստական կառույցների և կահավորման տարրերի նորմատիվ մակարդակում պահպանում և շահագործում
A31: Միջոցառման տեսակը` | B31: Ծառայությունների մատուցում
A32: Միջոցառումն իրականացնողի անվանումը | B32: Մարզպետարան, մրցութային կարգով ընտրված կազմակերպություններ
A33: Արդյունքի չափորոշիչներ
A34: Ամառային պահպանման ենթակա ավտոճանապարհների ընդհանուր երկարությունը (ոչ կուտակային ցուցանիշ), կիլոմետր | D34: ='h7'!D316+'h7'!D285+'h7'!D253+'h7'!D192+'h7'!D160 -> 142.3
A35: Ձմեռային պահպանման ենթակա ավտոճանապարհների ընդհանուր երկարությունը (ոչ կուտակային ցուցանիշ), կիլոմետր | D35: ='h7'!D161+'h7'!D193+'h7'!D254+'h7'!D286+'h7'!D317 -> 178.2
A36: Միջոցառման վրա կատարվող ծախսը (հազար դրամ) | C36: ='h3'!G32 -> 71861.1 | D36: ='h3'!H32 -> 148272.8
A39: Ծրագրի դասիչը` | B39: 1049 | C39: Ցուցանիշների փոփոխությունը (ավելացումները նշված են դրական նշանով)
A40: Միջոցառման դասիչը` | B40: 21001 | C40: Ինն ամիս | D40: Տարի
A41: Միջոցառման անվանումը` | B41: Պետական նշանակության ավտոճանապարհների հիմնանորոգում
A42: Նկարագրությունը` | B42: Միջպետական, հանրապետական և մարզային նշանակության ավտոճոնապարհների քայքայված ծածկի վերանորոգում, մաշված ծածկի փոխարինում
A43: Միջոցառման տեսակը` | B43: Հանրության կողմից անմիջականորեն օգտագործվող ակտիվների հետ կապված միջոցառումներ
A44: Միջոցառումն իրականացնողի անվանումը | B44: Մասնագիտացված միավոր
A45: Արդյունքի չափորոշիչներ
A46: Նախագծերի քանակ(հատ) | D46: ='h7'!D328+'h7'!D297+'h7'!D265+'h7'!D234+'h7'!D204+'h7'!D172+'h7'!D141+'h7'!D112+'h7'!D82+'h7'!D53 -> 10
A47: Միջոցառման վրա կատարվող ծախսը (հազար դրամ) | C47: ='h3'!G104 -> 63199.8 | D47: ='h3'!H104 -> 63199.8
B49: ՀԱՅԱՍՏԱՆԻ ՀԱՆՐԱՊԵՏՈՒԹՅԱՆ ՎԱՐՉԱՊԵՏԻ ԱՇԽԱՏԱԿԱԶՄԻ ՂԵԿԱՎԱՐ՝ | E49: Ա.ՀԱՐՈՒԹՅՈՒՆՅԱՆ

Sheet h7
D1: Հավելված N 7
D2: ՀՀ կառավարության 2024 թվականի
D3: ______________ ի ___Ն որոշման
A5: ՀԱՅԱՍՏԱՆԻ ՀԱՆՐԱՊԵՏՈՒԹՅԱՆ ԿԱՌԱՎԱՐՈՒԹՅԱՆ 2023 ԹՎԱԿԱՆԻ ԴԵԿՏԵՄԲԵՐԻ 28-Ի N 2323-Ն ՈՐՈՇՄԱՆ N 9.1 ՀԱՎԵԼՎԱԾԻ N9.1.7, 9.1.48, 9.1.49, 9.1.50,9.1.51, 9.1.52, 9.1.53, 9.1.54, 9.1.55, 9.1.56 ԵՎ 9.1.57 ԱՂՅՈՒՍԱԿՆԵՐՈՒՄ ԿԱՏԱՐՎՈՂ ՓՈՓՈԽՈՒԹՅՈՒՆՆԵՐԸ ԵՎ ԼՐԱՑՈՒՄՆԵՐԸ
C6: Աղյուսակ 9.1.7
A7: ՀՀ տարածքային կառավարման և ենթակառուցվածքների նախարարություն
A8: ՄԱՍ 2. ՊԵՏԱԿԱՆ ՄԱՐՄՆԻ ԳԾՈՎ ԱՐԴՅՈՒՆՔԱՅԻՆ (ԿԱՏԱՐՈՂԱԿԱՆ) ՑՈՒՑԱՆԻՇՆԵՐԸ
A11: Ծրագրի դասիչը | B11: Ծրագրի անվանումը
A12: 1049 | B12: ='h1'!C14 -> Ճանապարհային ցանցի բարելավում
A14: Ծրագրի միջոցառումները
A15: Ծրագրի դասիչը` | B15: 1049 | C15: Ցուցանիշների փոփոխությունը (նվազեցումները նշված են փակագծերում)
A16: Միջոցառման դասիչը` | B16: 11001 | C16: Ինն ամիս | D16: Տարի
A17: Միջոցառման անվանումը` | B17: Միջպետական և հանրապետական նշանակության ավտոճանապարհների պահպանման և անվտանգ երթևեկության ծառայություններ
A18: Նկարագրությունը` | B18: Հողային պաստառի, երթևեկելի մասի, արհեստական կառույցների և կահավորման տարրերի նորմատիվ մակարդակում պահպանում և շահագործում
A19: Միջոցառման տեսակը` | B19: Ծառայությունների մատուցում
A20: Միջոցառումն իրականացնողի անվանումը | B20: ՀՀ տարածքային կառավարման և ենթակառուցվածքների նախարարություն, մրցութային կարգով ընտրված կազմակերպություններ
A21: Արդյունքի չափորոշիչներ
A22: Ամառային պահպանման ենթակա ավտոճանապարհների ընդհանուր երկարությունը (ոչ կուտակային ցուցանիշ), կիլոմետր | D22: ='h6'!D22 -> -142.3
A23: Ձմեռային պահպանման ենթակա ավտոճանապարհների ընդհանուր երկարությունը (ոչ կուտակային ցուցանիշ), կիլոմետր | D23: ='h6'!D23 -> -178.2
A24: Միջոցառման վրա կատարվող ծախսը (հազար դրամ) | C24: ='h5'!D12 -> -135060.9 | D24: ='h5'!E12 -> -211472.6
D27: Աղյուսակ 9.1.48
A28: ՀՀ Արագածոտնի մարզպետի աշխատակազմ
A29: ՄԱՍ 1. ՊԵՏԱԿԱՆ ՄԱՐՄՆԻ ԳԾՈՎ ԱՐԴՅՈՒՆՔԱՅԻՆ (ԿԱՏԱՐՈՂԱԿԱՆ) ՑՈՒՑԱՆԻՇՆԵՐԸ
A32: Ծրագրի դասիչը | B32: Ծրագրի անվանումը
A33: 1049 | B33: ='h1'!C14 -> Ճանապարհային ցանցի բարելավում
A35: Ծրագրի միջոցառումները
A36: Ծրագրի դասիչը` | B36: 1049 | C36: Ցուցանիշների փոփոխությունը ( նվազեցումները` նշված են փակագծերում)
A37: Միջոցառման դասիչը` | B37: 11002 | C37: Ինն ամիս | D37: Տարի
A38: Միջոցառման անվանումը` | B38: Մարզային նշանակության ավտոճանապարհների պահպանման և անվտանգ երթևեկության ծառայություններ
A39: Նկարագրությունը` | B39: Հողային պաստառի, երթևեկելի մասի, արհեստական կառույցների և կահավորման տարրերի նորմատիվ մակարդակում պահպանում և շահագործում
A40: Միջոցառման տեսակը` | B40: Ծառայությունների մատուցում
A41: Միջոցառումն իրականացնողի անվանումը | B41: Մարզպետարան, մրցութային կարգով ընտրված կազմակերպություններ
A42: Արդյունքի չափորոշիչներ
A43: Միջոցառման վրա կատարվող ծախսը (հազար դրամ) | C43: ='h3'!G34 -> -3190 | D43: ='h3'!H34 -> -3190
A46: Ծրագրի դասիչը` | B46: 1049 | C46: Ցուցանիշների փոփոխությունը (ավելացումները նշված են դրական նշանով)
A47: Միջոցառման դասիչը` | B47: 21001 | C47: Ինն ամիս | D47: Տարի
A48: Միջոցառման անվանումը` | B48: Պետական նշանակության ավտոճանապարհների հիմնանորոգում
A49: Նկարագրությունը` | B49: Միջպետական, հանրապետական և մարզային նշանակության ավտոճոնապարհների քայքայված ծածկի վերանորոգում, մաշված ծածկի փոխարինում
A50: Միջոցառման տեսակը` | B50: Հանրության կողմից անմիջականորեն օգտագործվող ակտիվների հետ կապված միջոցառումներ
A51: Միջոցառումն իրականացնողի անվանումը | B51: Մասնագիտացված միավոր
A52: Արդյունքի չափորոշիչներ
A53: Նախագծերի քանակ(հատ) | D53: 1
A54: Միջոցառման վրա կատարվող ծախսը (հազար դրամ) | C54: ='h3'!G106 -> 3190 | D54: ='h3'!H106 -> 3190
D56: Աղյուսակ 9.1.49
A57: ՀՀ Արարատի մարզպետի աշխատակազմ
A58: ՄԱՍ 1. ՊԵՏԱԿԱՆ ՄԱՐՄՆԻ ԳԾՈՎ ԱՐԴՅՈՒՆՔԱՅԻՆ (ԿԱՏԱՐՈՂԱԿԱՆ) ՑՈՒՑԱՆԻՇՆԵՐԸ
A61: Ծրագրի դասիչը | B61: Ծրագրի անվանումը
A62: 1049 | B62: Ճանապարհային ցանցի բարելավում
A64: Ծրագրի միջոցառումները
A65: Ծրագրի դասիչը` | B65: 1049 | C65: Ցուցանիշների փոփոխությունը ( նվազեցումները` նշված են փակագծերում)
A66: Միջոցառման դասիչը` | B66: 11002 | C66: Ինն ամիս | D66: Տարի
A67: Միջոցառման անվանումը` | B67: Մարզային նշանակության ավտոճանապարհների պահպանման և անվտանգ երթևեկության ծառայություններ
A68: Նկարագրությունը` | B68: Հողային պաստառի, երթևեկելի մասի, արհեստական կառույցների և կահավորման տարրերի նորմատիվ մակարդակում պահպանում և շահագործում
A69: Միջոցառման տեսակը` | B69: Ծառայությունների մատուցում
A70: Միջոցառումն իրականացնողի անվանումը | B70: Մարզպետարան, մրցութային կարգով ընտրված կազմակերպություններ
A71: Արդյունքի չափորոշիչներ
A72: Միջոցառման վրա կատարվող ծախսը (հազար դրամ) | C72: ='h3'!G41 -> -6230 | D72: ='h3'!H41 -> -6230
A75: Ծրագրի դասիչը` | B75: 1049 | C75: Ցուցանիշների փոփոխությունը (ավելացումները նշված են դրական նշանով)
A76: Միջոցառման դասիչը` | B76: 21001 | C76: Ինն ամիս | D76: Տարի
A77: Միջոցառման անվանումը` | B77: Պետական նշանակության ավտոճանապարհների հիմնանորոգում
A78: Նկարագրությունը` | B78: Միջպետական, հանրապետական և մարզային նշանակության ավտոճոնապարհների քայքայված ծածկի վերանորոգում, մաշված ծածկի փոխարինում
A79: Միջոցառման տեսակը` | B79: Հանրության կողմից անմիջականորեն օգտագործվող ակտիվների հետ կապված միջոցառումներ
A80: Միջոցառումն իրականացնողի անվանումը | B80: Մասնագիտացված միավոր
A81: Արդյունքի չափորոշիչներ
A82: Նախագծերի քանակ(հատ) | D82: 1
A83: Միջոցառման վրա կատարվող ծախսը (հազար դրամ) | C83: ='h3'!G113 -> 6230 | D83: ='h3'!H113 -> 6230
D86: Աղյուսակ 9.1.50
A87: ='h3'!F48 -> ՀՀ Արմավիրի մարզպետի աշխատակազմ
A88: ՄԱՍ 1. ՊԵՏԱԿԱՆ ՄԱՐՄՆԻ ԳԾՈՎ ԱՐԴՅՈՒՆՔԱՅԻՆ (ԿԱՏԱՐՈՂԱԿԱՆ) ՑՈՒՑԱՆԻՇՆԵՐԸ
A91: Ծրագրի դասիչը | B91: Ծրագրի անվանումը
A92: 1049 | B92: Ճանապարհային ցանցի բարելավում
A94: Ծրագրի միջոցառումները
A95: Ծրագրի դասիչը` | B95: 1049 | C95: Ցուցանիշների փոփոխությունը ( նվազեցումները` նշված են փակագծերում)
A96: Միջոցառման դասիչը` | B96: 11002 | C96: Ինն ամիս | D96: Տարի
A97: Միջոցառման անվանումը` | B97: Մարզային նշանակության ավտոճանապարհների պահպանման և անվտանգ երթևեկության ծառայություններ
A98: Նկարագրությունը` | B98: Հողային պաստառի, երթևեկելի մասի, արհեստական կառույցների և կահավորման տարրերի նորմատիվ մակարդակում պահպանում և շահագործում
A99: Միջոցառման տեսակը` | B99: Ծառայությունների մատուցում
A100: Միջոցառումն իրականացնողի անվանումը | B100: Մարզպետարան, մրցութային կարգով ընտրված կազմակերպություններ
A101: Արդյունքի չափորոշիչներ
A102: Միջոցառման վրա կատարվող ծախսը (հազար դրամ) | C102: ='h3'!G48 -> -9670 | D102: ='h3'!H48 -> -9670
A105: Ծրագրի դասիչը` | B105: 1049 | C105: Ցուցանիշների փոփոխությունը (ավելացումները նշված են դրական նշանով)
A106: Միջոցառման դասիչը` | B106: 21001 | C106: Ինն ամիս | D106: Տարի
A107: Միջոցառման անվանումը` | B107: Պետական նշանակության ավտոճանապարհների հիմնանորոգում
A108: Նկարագրությունը` | B108: Միջպետական, հանրապետական և մարզային նշանակության ավտոճոնապարհների քայքայված ծածկի վերանորոգում, մաշված ծածկի փոխարինում
A109: Միջոցառման տեսակը` | B109: Հանրության կողմից անմիջականորեն օգտագործվող ակտիվների հետ կապված միջոցառումներ
A110: Միջոցառումն իրականացնողի անվանումը | B110: Մասնագիտացված միավոր
A111: Արդյունքի չափորոշիչներ
A112: Նախագծերի քանակ(հատ) | D112: 1
A113: Միջոցառման վրա կատարվող ծախսը (հազար դրամ) | C113: ='h3'!G120 -> 9670 | D113: ='h3'!H120 -> 9670
D115: Աղյուսակ 9.1.51
A116: ='h3'!F55 -> ՀՀ Գեղարքունիքի մարզպետի աշխատակազմ
A117: ՄԱՍ 1. ՊԵՏԱԿԱՆ ՄԱՐՄՆԻ ԳԾՈՎ ԱՐԴՅՈՒՆՔԱՅԻՆ (ԿԱՏԱՐՈՂԱԿԱՆ) ՑՈՒՑԱՆԻՇՆԵՐԸ
A120: Ծրագրի դասիչը | B120: Ծրագրի անվանումը
A121: 1049 | B121: Ճանապարհային ցանցի բարելավում
A123: Ծրագրի միջոցառումները
A124: Ծրագրի դասիչը` | B124: 1049 | C124: Ցուցանիշների փոփոխությունը ( նվազեցումները` նշված են փակագծերում)
A125: Միջոցառման դասիչը` | B125: 11002 | C125: Ինն ամիս | D125: Տարի
A126: Միջոցառման անվանումը` | B126: Մարզային նշանակության ավտոճանապարհների պահպանման և անվտանգ երթևեկության ծառայություններ
A127: Նկարագրությունը` | B127: Հողային պաստառի, երթևեկելի մասի, արհեստական կառույցների և կահավորման տարրերի նորմատիվ մակարդակում պահպանում և շահագործում
A128: Միջոցառման տեսակը` | B128: Ծառայությունների մատուցում
...

Sheet h8
I1: Հավելված N 8
I2: ՀՀ կառավարության 2024 թվականի
I3: ______________ ի ___Ն որոշման
A5: ՀԱՅԱՍՏԱՆԻ ՀԱՆՐԱՊԵՏՈՒԹՅԱՆ ԿԱՌԱՎԱՐՈՒԹՅԱՆ 2023 ԹՎԱԿԱՆԻ ԴԵԿՏԵՄԲԵՐԻ 28-Ի N 2323-Ն ՈՐՈՇՄԱՆ N 10 ՀԱՎԵԼՎԱԾՈՒՄ ԿԱՏԱՐՎՈՂ ՓՈՓՈԽՈՒԹՅՈՒՆՆԵՐԸ ԵՎ ԼՐԱՑՈՒՄՆԵՐԸ
A7: Կոդը | B7: Անվանումը | E7: Գնման ձևը | F7: Չափման միավորը | G7: Միավորի գինը | H7: Քանակը | I7: Ցուցանիշների փոփոխությունը (ավելացումները նշված են դրական նշանով, իսկ նվազեցումները` փակագծերում) (հազար դրամով)
B8: ԸՆԴԱՄԵՆԸ | I8: =I9+I14+I20+I26+I32+I38+I47+I56+I62+I71+I80 -> 34474.6
A9: ՀՀ տարածքային կառավարման և ենթակառուցվածքների նախարարություն | I9: =I10 -> -211472.6
A10: Բաժին N 04 | B10: Խումբ N 05 | C10: Դաս N 01 | D10: Ճանապարհային տրանսպորտ | I10: =I11 -> -211472.6
A11: 1049/11001 | B11: Միջպետական և հանրապետական նշանակության ավտոճանապարհների պահպանման և անվտանգ երթևեկության ծառայություններ | I11: =I12 -> -211472.6
B12: ՄԱՍ II. ԱՇԽԱՏԱՆՔՆԵՐ | I12: =I13 -> -211472.6
A13: 45231176-1 | B13: ճանապարհների պահպանման աշխատանքներ | E13: ԲՄ | F13: դրամ | I13: ='h1'!E20 -> -211472.6
A14: ՀՀ Արագածոտնի մարզպետի աշխատակազմ | I14: =I15 -> 3190
A15: Բաժին N 04 | B15: Խումբ N 05 | C15: Դաս N 01 | D15: Ճանապարհային տրանսպորտ | I15: =I16 -> 3190
A16: 1049/21001 | B16: Պետական նշանակության ավտոճանապարհների հիմնանորոգում | I16: =I17 -> 3190
B17: ՄԱՍ III. ԾԱՌԱՅՈՒԹՅՈՒՆՆԵՐ | I17: =I18+I19 -> 3190
A18: 71241200/504 | B18: նախագծերի պատրաստում, ծախսերի գնահատում | E18: ԳՀ | F18: դրամ | G18: =I18*1000 -> 2900000 | H18: 1 | I18: 2900
A19: 50531140/502 | B19: փորձաքննության ծառայություններ | E19: ՄԱ | F19: դրամ | G19: =I19*1000 -> 290000 | H19: 1 | I19: 290
A20: ՀՀ Արարատի մարզպետի աշխատակազմ | I20: =I21 -> 6230
A21: Բաժին N 04 | B21: Խումբ N 05 | C21: Դաս N 01 | D21: Ճանապարհային տրանսպորտ | I21: =I22 -> 6230
A22: 1049/21001 | B22: Պետական նշանակության ավտոճանապարհների հիմնանորոգում | I22: =I23 -> 6230
B23: ՄԱՍ III. ԾԱՌԱՅՈՒԹՅՈՒՆՆԵՐ | I23: =I24+I25 -> 6230
A24: 71241200/501 | B24: նախագծերի պատրաստում, ծախսերի գնահատում | E24: ՀԲՄ | F24: դրամ | G24: =I24*1000 -> 5600000 | H24: 1 | I24: 5600
A25: 50531140/1 | B25: փորձաքննության ծառայություններ | E25: ՄԱ | F25: դրամ | G25: =I25*1000 -> 630000 | H25: 1 | I25: 630
A26: ՀՀ Արմավիրի մարզպետի աշխատակազմ | I26: =I27 -> 9670
A27: Բաժին N 04 | B27: Խումբ N 05 | C27: Դաս N 01 | D27: Ճանապարհային տրանսպորտ | I27: =I28 -> 9670
A28: 1049/21001 | B28: Պետական նշանակության ավտոճանապարհների հիմնանորոգում | I28: =I29 -> 9670
B29: ՄԱՍ III. ԾԱՌԱՅՈՒԹՅՈՒՆՆԵՐ | I29: =I30+I31 -> 9670
A30: 71241200/501 | B30: նախագծերի պատրաստում, ծախսերի գնահատում | E30: ԳՀ | F30: դրամ | G30: =I30*1000 -> 9600000 | I30: 9600
A31: 50531140/1 | B31: փորձաքննության ծառայություններ | E31: ՄԱ | F31: դրամ | G31: =I31*1000 -> 70000 | I31: 70
A32: ՀՀ Գեղարքունիքի մարզպետի աշխատակազմ | I32: =I33 -> 6586.8
A33: Բաժին N 04 | B33: Խումբ N 05 | C33: Դաս N 01 | D33: Ճանապարհային տրանսպորտ | I33: =I34 -> 6586.8
A34: 1049/21001 | B34: Պետական նշանակության ավտոճանապարհների հիմնանորոգում | I34: =I36+I37 -> 6586.8
B35: ՄԱՍ III. ԾԱՌԱՅՈՒԹՅՈՒՆՆԵՐ | I35: =I36+I37 -> 6586.8
A36: 71241200/501 | B36: նախագծերի պատրաստում, ծախսերի գնահատում | E36: ՀԲՄ | F36: դրամ | G36: =I36*1000 -> 5988000 | H36: 1 | I36: 5988
A37: 50531140/2 | B37: փորձաքննության ծառայություններ | E37: ՄԱ | F37: դրամ | G37: =I37*1000 -> 598800 | H37: 1 | I37: 598.8
A38: ՀՀ Լոռու մարզպետի աշխատակազմ | I38: =I39 -> 66529.6
A39: Բաժին N 04 | B39: Խումբ N 05 | C39: Դաս N 01 | D39: Ճանապարհային տրանսպորտ | I39: =I43+I40 -> 66529.6
A40: 1049/11002 | B40: Մարզային նշանակության ավտոճանապարհների պահպանման և անվտանգ երթևեկության ծառայություններ | I40: =I41 -> 58059.6
B41: ՄԱՍ II. ԱՇԽԱՏԱՆՔՆԵՐ | I41: =I42 -> 58059.6
A42: 45231176-1 | B42: ճանապարհների պահպանման աշխատանքներ | E42: ՀԲՄ | F42: դրամ | G42: ='h3'!H62*1000 -> 58059600 | H42: 1 | I42: =G42/1000 -> 58059.6
A43: 1049/21001 | B43: Պետական նշանակության ավտոճանապարհների հիմնանորոգում | I43: =I44 -> 8470
B44: ՄԱՍ III. ԾԱՌԱՅՈՒԹՅՈՒՆՆԵՐ | I44: =I45+I46 -> 8470
A45: 71241200/2 | B45: նախագծերի պատրաստում, ծախսերի գնահատում | E45: ԳՀ | F45: դրամ | G45: =I45*1000 -> 7700000 | H45: 1 | I45: 7700
A46: 50531140/2 | B46: փորձաքննության ծառայություններ | E46: ՄԱ | F46: դրամ | G46: =I46*1000 -> 770000 | H46: 1 | I46: 770
A47: ՀՀ Կոտայքի մարզպետի աշխատակազմ | I47: =I48 -> 73283.6
A48: Բաժին N 04 | B48: Խումբ N 05 | C48: Դաս N 01 | D48: Ճանապարհային տրանսպորտ | I48: =I49+I52 -> 73283.6
A49: 1049 /11002 | B49: Մարզային նշանակության ավտոճանապարհների պահպանման և անվտանգ երթևեկության ծառայություններ | I49: =I51 -> 62525.6
B50: ՄԱՍ II. ԱՇԽԱՏԱՆՔՆԵՐ | I50: =I51 -> 62525.6
A51: 45231176-1 | B51: ճանապարհների պահպանման աշխատանքներ | E51: ՀԲՄ | F51: դրամ | G51: ='h3'!H69*1000 -> 62525600 | H51: 1 | I51: =G51/1000 -> 62525.6
A52: 1049/21001 | B52: Պետական նշանակության ավտոճանապարհների հիմնանորոգում | I52: =I53 -> 10758
B53: ՄԱՍ III. ԾԱՌԱՅՈՒԹՅՈՒՆՆԵՐ | I53: =I54+I55 -> 10758
A54: 71241200/501 | B54: նախագծերի պատրաստում, ծախսերի գնահատում | E54: ՀԲՄ | F54: դրամ | G54: =I54*1000 -> 9780000 | H54: 1 | I54: 9780
A55: 50531140/2 | B55: փորձաքննության ծառայություններ | E55: ՄԱ | F55: դրամ | G55: =I55*1000 -> 978000 | H55: 1 | I55: 978
A56: ՀՀ Շիրակի մարզպետի աշխատակազմ | I56: =I57 -> 8797.8
A57: Բաժին N 04 | B57: Խումբ N 05 | C57: Դաս N 01 | D57: Ճանապարհային տրանսպորտ | I57: =I58 -> 8797.8
A58: 1049/21001 | B58: Պետական նշանակության ավտոճանապարհների հիմնանորոգում | I58: =I59 -> 8797.8
B59: ՄԱՍ III. ԾԱՌԱՅՈՒԹՅՈՒՆՆԵՐ | I59: =I60+I61 -> 8797.8
A60: 71241200/502 | B60: նախագծերի պատրաստում, ծախսերի գնահատում | E60: ԳՀ | F60: դրամ | G60: =I60*1000 -> 7998000 | H60: 1 | I60: 7998
A61: 50531140/1 | B61: փորձաքննության ծառայություններ | E61: ՄԱ | F61: դրամ | G61: =I61*1000 -> 799800 | H61: 1 | I61: 799.8
A62: ՀՀ Սյունիքի մարզպետի աշխատակազմ | I62: =I63 -> 8097.2
A63: Բաժին N 04 | B63: Խումբ N 05 | C63: Դաս N 01 | D63: Ճանապարհային տրանսպորտ | I63: =I67+I64 -> 8097.2
A64: 1049/11002 | B64: Մարզային նշանակության ավտոճանապարհների պահպանման և անվտանգ երթևեկության ծառայություններ | I64: =I65 -> 3714.8
B65: ՄԱՍ II. ԱՇԽԱՏԱՆՔՆԵՐ | I65: =I66 -> 3714.8
A66: 45231176-1 | B66: ճանապարհների պահպանման աշխատանքներ | E66: ՀԲՄ | F66: դրամ | G66: ='h3'!H83*1000 -> 3714800 | H66: 1 | I66: =G66/1000 -> 3714.8
A67: 1049/21001 | B67: Պետական նշանակության ավտոճանապարհների հիմնանորոգում | I67: =I68 -> 4382.4
B68: ՄԱՍ III. ԾԱՌԱՅՈՒԹՅՈՒՆՆԵՐ | I68: =I69+I70 -> 4382.4
A69: 71241200 | B69: նախագծերի պատրաստում, ծախսերի գնահատում | E69: ՀԲՄ | F69: դրամ | G69: =I69*1000 -> 3984000 | H69: 1 | I69: 3984
A70: 50531140/1 | B70: փորձաքննության ծառայություններ | E70: =E61 -> ՄԱ | F70: դրամ | G70: =I70*1000 -> 398400 | H70: 1 | I70: 398.4
A71: ՀՀ Վայոց ձորի մարզպետի աշխատակազմ | I71: =I72 -> 28586.6
A72: Բաժին N 04 | B72: Խումբ N 05 | C72: Դաս N 01 | D72: Ճանապարհային տրանսպորտ | I72: =I76+I73 -> 28586.6
A73: 1049 /11002 | B73: Մարզային նշանակության ավտոճանապարհների պահպանման և անվտանգ երթևեկության ծառայություններ | I73: =I74 -> 26166.6
B74: ՄԱՍ II. ԱՇԽԱՏԱՆՔՆԵՐ | I74: =I75 -> 26166.6
A75: 45231176-1 | B75: ճանապարհների պահպանման աշխատանքներ | E75: ՀԲՄ | F75: դրամ | G75: ='h3'!H90*1000 -> 26166600 | H75: 1 | I75: =G75/1000 -> 26166.6
A76: 1049/21001 | B76: Պետական նշանակության ավտոճանապարհների հիմնանորոգում | I76: =I77 -> 2420
B77: ՄԱՍ III. ԾԱՌԱՅՈՒԹՅՈՒՆՆԵՐ | I77: =I78+I79 -> 2420
A78: 71241200/501 | B78: նախագծերի պատրաստում, ծախսերի գնահատում | E78: ԳՀ | F78: դրամ | G78: =I78*1000 -> 2200000 | H78: 1 | I78: 2200
A79: 50531140/2 | B79: փորձաքննության ծառայություններ | E79: ՄԱ | F79: դրամ | G79: =I79*1000 -> 220000 | H79: 1 | I79: 220
A80: ՀՀ Տավուշի մարզպետի աշխատակազմ | I80: =I81 -> 34975.6
A81: Բաժին N 04 | B81: Խումբ N 05 | C81: Դաս N 01 | D81: Ճանապարհային տրանսպորտ | I81: =I85+I82 -> 34975.6
A82: 1049/11002 | B82: Մարզային նշանակության ավտոճանապարհների պահպանման և անվտանգ երթևեկության ծառայություններ | I82: =I83 -> 32280.8
B83: ՄԱՍ II. ԱՇԽԱՏԱՆՔՆԵՐ | I83: =I84 -> 32280.8
A84: 45231176-1 | B84: ճանապարհների պահպանման աշխատանքներ | E84: ՀԲՄ | F84: դրամ | G84: ='h3'!H97*1000 -> 32280800 | H84: 1 | I84: =G84/1000 -> 32280.8
A85: 1049/21001 | B85: Պետական նշանակության ավտոճանապարհների հիմնանորոգում | I85: =I86 -> 2694.8
B86: ՄԱՍ III. ԾԱՌԱՅՈՒԹՅՈՒՆՆԵՐ | I86: =I87+I88 -> 2694.8
A87: 71241200/502 | B87: նախագծերի պատրաստում, ծախսերի գնահատում | E87: ՀԲՄ | F87: դրամ | G87: =I87*1000 -> 2449800 | H87: 1 | I87: 2449.8
A88: 50531140/2 | B88: փորձաքննության ծառայություններ | E88: ՄԱ | F88: դրամ | G88: =I88*1000 -> 245000 | H88: 1 | I88: 245
B93: ՀԱՅԱՍՏԱՆԻ ՀԱՆՐԱՊԵՏՈՒԹՅԱՆ ՎԱՐՉԱՊԵՏԻ ԱՇԽԱՏԱԿԱԶՄԻ ՂԵԿԱՎԱՐ՝ | F93: Ա.ՀԱՐՈՒԹՅՈՒՆՅԱՆ
