Workbook
Name շախմատիստ: #REF!

Sheet Հավելված N 1
D1: Հավելված N 1
D2: ՀՀ կառավարության 2024 թվականի
D3: ______________ ի ___Ն որոշման
A4: «ՀԱՅԱՍՏԱՆԻ ՀԱՆՐԱՊԵՏՈՒԹՅԱՆ 2024 ԹՎԱԿԱՆԻ ՊԵՏԱԿԱՆ ԲՅՈՒՋԵԻ ՄԱՍԻՆ» ՀՀ ՕՐԵՆՔԻ N 1 ՀԱՎԵԼՎԱԾԻ N 2 ԱՂՅՈՒՍԱԿՈՒՄ ԿԱՏԱՐՎՈՂ ՎԵՐԱԲԱՇԽՈՒՄԸ ԵՎ ՀԱՅԱՍՏԱՆԻ ՀԱՆՐԱՊԵՏՈՒԹՅԱՆ ԿԱՌԱՎԱՐՈՒԹՅԱՆ 2023 ԹՎԱԿԱՆԻ ԴԵԿՏԵՄԲԵՐԻ 28-Ի N 2323-Ն ՈՐՈՇՄԱՆ N 5 ՀԱՎԵԼՎԱԾԻ N 1 ԱՂՅՈՒՍԱԿՈՒՄ ԿԱՏԱՐՎՈՂ ՓՈՓՈԽՈՒԹՅՈՒՆՆԵՐԸ ԵՎ ԼՐԱՑՈՒՄՆԵՐԸ
D5: հազար դրամներով
A6: Ծրագրային դասիչը | C6: Բյուջետային հատկացումների գլխավոր կարգադրիչների, ծրագրերի և միջոցառումների անվանումները | D6: Ցուցանիշների փոփոխությունը (ավելացումները նշված են դրական նշանով, իսկ նվազեցումները՝ փակագծերում)
A7: ծրագիր | B7: միջոցառում | D7: Ինն ամիս | E7: Տարի
C8: ԸՆԴԱՄԵՆԸ | D8: =D9 -> 0 | E8: =E9 -> 0
A9: ՀՀ Կրթության, գիտության, մշակույթի և սպորտի նախարարություն | D9: =D11 -> 0 | E9: =E11 -> 0
A10: 1148 | C10: Ծրագրի անվանումը`
C11: Արտադպրոցական դաստիարակության ծրագիր | D11: =D17+D24 -> 0 | E11: =E17+E24 -> 0
C12: Ծրագրի նպատակը`
C13: Նպաստել հանրակրթական ուսուցման համակարգում ընդգրկված երեխաների ֆիզիկական, հոգևոր և գեղագիտական զարգացմանը, բնապահպանական և կիրառական գիտելիքների ձեռքբերմանը
C14: Վերջնական արդյունքի նկարագրությունը`
C15: Ստեղծել պայմաններ սովորողների ազատ ժամանացի կազմակերպման միջոցով նրանց հետաքրքրությունների բացահայտման, ձևավորման և զարգացման համար
A16: Ծրագրի միջոցառումներ
B17: 11001 | C17: Միջոցառման անվանումը` | D17: -18261.3 | E17: -18261.3
C18: Արտադպրոցական դաստիարակություն
C19: Միջոցառման նկարագրությունը`
C20: Արվեստի, երաժշտության, սպորտի դասընթացներ մարզադպրոցներում, ստեղծագործական և արտադպրոցական դաստիարակության այլ կենտրոններում
C21: Միջոցառման տեսակը
C22: Ծառայությունների մատուցում
A23: Ծրագրի միջոցառումներ
B24: 12003 | C24: Միջոցառման անվանումը` | D24: =-D17 -> 18261.3 | E24: =-E17 -> 18261.3
C25: Երիտասարդների համար միջազգային ամառային կրթամշակութային ծրագրի իրականացում
C26: Միջոցառման նկարագրությունը`
C27: Հայաստանի և Վրաստանի 16-25 տարեկան երիտասարդների համար ամառային միջազգային կրթամշակութային-երիտասարդական ծրագրի իրականացում
C28: Միջոցառման տեսակը
C29: Ծառայությունների մատուցում
A30: ՀՀ կառավարություն | D30: =D31 -> 0 | E30: =E31 -> 0
A31: 1139 | C31: Ծրագրի անվանումը` | D31: =D38+D44 -> 0 | E31: =E38+E44 -> 0
C32: ՀՀ կառավարության պահուստային ֆոնդ
C33: Ծրագրի նպատակը`
C34: Պետական բյուջեում չկանխատեսված, ինչպես նաև բյուջետային երաշխիքների ապահովման ծախսերի ֆինանսավորման ապահովում
C35: Վերջնական արդյունքի նկարագրությունը`
C36: Պահուստային ֆոնդի կառավարման արդյունավետության և թափանցիկության ապահովում
A37: Ծրագրի միջոցառումներ
B38: 11001 | C38: Միջոցառման անվանումը` | D38: =D24 -> 18261.3 | E38: =E24 -> 18261.3
C39: ՀՀ կառավարության պահուստային ֆոնդ
C40: Միջոցառման նկարագրությունը`
C41: ՀՀ պետական բյուջեում նախատեսված ելքերի լրացուցիչ ֆինանսավորման՝ պետական բյուջեում չկանխատեսված ելքերի, ինչպես նաև բյուջետային երաշխիքների ապահովման ելքերի ֆինանսավորման ապահովում
C42: Միջոցառման տեսակը`
C43: Ծառայությունների մատուցում
B44: 11001 | C44: Միջոցառման անվանումը` | D44: =-D38 -> -18261.3 | E44: =-E38 -> -18261.3
C45: ՀՀ կառավարության պահուստային ֆոնդ
C46: Միջոցառման նկարագրությունը`
C47: ՀՀ պետական բյուջեում նախատեսված ելքերի լրացուցիչ ֆինանսավորման՝ պետական բյուջեում չկանխատեսված ելքերի, ինչպես նաև բյուջետային երաշխիքների ապահովման ելքերի ֆինանսավորման ապահովում
C48: Միջոցառման տեսակը
C49: Ծառայությունների մատուցում

Sheet Հավելված N 2
G1: Հավելված N 2
G2: ՀՀ կառավարության 2024 թվականի
G3: ______________ ի ___Ն որոշման
A4: ՀԱՅԱՍՏԱՆԻ ՀԱՆՐԱՊԵՏՈՒԹՅԱՆ ԿԱՌԱՎԱՐՈՒԹՅԱՆ 2023 ԹՎԱԿԱՆԻ ԴԵԿՏԵՄԲԵՐԻ 28-Ի N 2323-Ն ՈՐՈՇՄԱՆ N 3 ԵՎ N 4 ՀԱՎԵԼՎԱԾՆԵՐՈՒՄ ԿԱՏԱՐՎՈՂ ՓՈՓՈԽՈՒԹՅՈՒՆՆԵՐԸ ԵՎ ԼՐԱՑՈՒՄՆԵՐԸ
G5: հազար դրամներով
A6: Գործառական դասիչը | D6: Ծրագրային դասիչը | F6: Բյուջետային ծախսերի գործառական դասակարգման բաժինների, խմբերի և դասերի, բյուջետային ծրագրերի միջոցառումների, բյուջետային հատկացումների գլխավոր կարգադրիչների անվանումները | G6: Ցուցանիշների փոփոխություն (ավելացումները նշված են դրական նշանով, իսկ նվազեցումները՝ փակագծերում)
A7: Բաժին | B7: Խումբ | C7: Դաս | D7: Ծրագիր | E7: Միջոցառում | G7: Ինն ամիս | H7: Տարի
F8: ԸՆԴԱՄԵՆԸ | G8: =+G10+G38 -> 0 | H8: =+H10+H38 -> 0
F9: այդ թվում`
F10: ՀՀ Կրթության, գիտության, մշակույթի և սպորտի նախարարություն | G10: =G12 -> 0 | H10: =H12 -> 0
F11: այդ թվում`
A12: 09 | E12: 11010 | F12: ԿՐԹՈՒԹՅՈՒՆ | G12: =G14 -> 0 | H12: =H14 -> 0
F13: այդ թվում`
B14: 05 | F14: Ըստ մակարդակների չդասակարգվող կրթություն | G14: =G16 -> 0 | H14: =H16 -> 0
F15: այդ թվում`
C16: 01 | F16: Արտադպրոցական դաստիարակություն | G16: =G18 -> 0 | H16: =H18 -> 0
F17: այդ թվում`
D18: 1148 | F18: Արտադպրոցական դաստիարակության ծրագիր | G18: =G20+G29 -> 0 | H18: =H20+H29 -> 0
F19: այդ թվում`
E20: 11001 | F20: ='Հավելված N 1'!C18 -> Արտադպրոցական դաստիարակություն | G20: =+G22 -> -18261.3 | H20: =+H22 -> -18261.3
F21: այդ թվում` ըստ կատարողների
F22: ՀՀ կրթության, գիտության, մշակույթի և սպորտի նախարարություն | G22: =G24 -> -18261.3 | H22: =H24 -> -18261.3
F23: այդ թվում` բյուջետային ծախսերի տնտեսագիտական դասակարգման հոդվածներ
F24: ԸՆԴԱՄԵՆԸ ԾԱԽՍԵՐ | G24: =+G25 -> -18261.3 | H24: =+H25 -> -18261.3
F25: ԸՆԹԱՑԻԿ ԾԱԽՍԵՐ | G25: =+G26 -> -18261.3 | H25: =+H26 -> -18261.3
F26: ՍՈՒԲՍԻԴԻԱՆԵՐ | G26: =+G27 -> -18261.3 | H26: =+H27 -> -18261.3
F27: Սուբսիդիաներ պետական կազմակերպություններին | G27: =G28 -> -18261.3 | H27: =H28 -> -18261.3
F28: - Սուբսիդիաներ ոչ ֆինանսական պետական կազմակերպություններին | G28: ='Հավելված N 1'!D17 -> -18261.3 | H28: ='Հավելված N 1'!E17 -> -18261.3
E29: ='Հավելված N 1'!B24 -> 12003 | F29: ='Հավելված N 1'!C25 -> Երիտասարդների համար միջազգային ամառային կրթամշակութային ծրագրի իրականացում | G29: =+G31 -> 18261.3 | H29: =+H31 -> 18261.3
F30: այդ թվում` ըստ կատարողների
F31: ՀՀ կրթության, գիտության, մշակույթի և սպորտի նախարարություն | G31: =G33 -> 18261.3 | H31: =H33 -> 18261.3
F32: այդ թվում` բյուջետային ծախսերի տնտեսագիտական դասակարգման հոդվածներ
F33: ԸՆԴԱՄԵՆԸ ԾԱԽՍԵՐ | G33: =+G34 -> 18261.3 | H33: =+H34 -> 18261.3
F34: ԸՆԹԱՑԻԿ ԾԱԽՍԵՐ | G34: =+G35 -> 18261.3 | H34: =+H35 -> 18261.3
F35: ԴՐԱՄԱՇՆՈՐՀՆԵՐ | G35: =+G36 -> 18261.3 | H35: =+H36 -> 18261.3
F36: Ընթացիկ դրամաշնորհներ պետական հատվածի այլ մակարդակներին | G36: =G37 -> 18261.3 | H36: =H37 -> 18261.3
F37: - Այլ ընթացիկ դրամաշնորհներ | G37: ='Հավելված N 1'!D24 -> 18261.3 | H37: ='Հավելված N 1'!E24 -> 18261.3
F38: ՀՀ կառավարություն | G38: =G40 -> 0 | H38: =H40 -> 0
F39: այդ թվում`
A40: 11 | F40: ՀԻՄՆԱԿԱՆ ԲԱԺԻՆՆԵՐԻՆ ՉԴԱՍՎՈՂ ՊԱՀՈՒՍՏԱՅԻՆ ՖՈՆԴԵՐ | G40: =+G42 -> 0 | H40: =+H42 -> 0
F41: այդ թվում`
B42: 01 | F42: ՀՀ կառավարության և համայնքների պահուստային ֆոնդ | G42: =+G44 -> 0 | H42: =+H44 -> 0
F43: այդ թվում`
C44: 01 | F44: ՀՀ կառավարության պահուստային ֆոնդ | G44: =+G46 -> 0 | H44: =+H46 -> 0
F45: այդ թվում`
D46: 1139 | E46: ՀՀ կառավարության պահուստային ֆոնդ | G46: =G48+G56 -> 0 | H46: =H48+H56 -> 0
F47: այդ թվում`
E48: 11001 | F48: ՀՀ կառավարության պահուստային ֆոնդ | G48: =+G50 -> 18261.3 | H48: =+H50 -> 18261.3
F49: այդ թվում` ըստ կատարողների
F50: ՀՀ կառավարություն | G50: =G52 -> 18261.3 | H50: =H52 -> 18261.3
F51: այդ թվում՝ բյուջետային ծախսերի տնտեսագիտական դասակարգման հոդվածներ
F52: ԸՆԴԱՄԵՆԸ ԾԱԽՍԵՐ | G52: =G53 -> 18261.3 | H52: =H53 -> 18261.3
F53: ԸՆԹԱՑԻԿ ԾԱԽՍԵՐ | G53: =G54 -> 18261.3 | H53: =H54 -> 18261.3
F54: ԱՅԼ ԾԱԽՍԵՐ | G54: =G55 -> 18261.3 | H54: =H55 -> 18261.3
F55: Պահուստային միջոցներ | G55: ='Հավելված N 1'!D38 -> 18261.3 | H55: ='Հավելված N 1'!E38 -> 18261.3
E56: 11001 | F56: ՀՀ կառավարության պահուստային ֆոնդ | G56: =G58 -> -18261.3 | H56: =H58 -> -18261.3
F57: այդ թվում` ըստ կատարողների
F58: ՀՀ կառավարություն | G58: =G60 -> -18261.3 | H58: =H60 -> -18261.3
F59: այդ թվում՝ բյուջետային ծախսերի տնտեսագիտական դասակարգման հոդվածներ
F60: ԸՆԴԱՄԵՆԸ ԾԱԽՍԵՐ | G60: =G61 -> -18261.3 | H60: =H61 -> -18261.3
F61: ԸՆԹԱՑԻԿ ԾԱԽՍԵՐ | G61: =G62 -> -18261.3 | H61: =H62 -> -18261.3
F62: ԱՅԼ ԾԱԽՍԵՐ | G62: =G63 -> -18261.3 | H62: =H63 -> -18261.3
F63: Պահուստային միջոցներ | G63: ='Հավելված N 1'!D44 -> -18261.3 | H63: ='Հավելված N 1'!E44 -> -18261.3

Sheet Հավելված N 3
F1: Հավելված 3
F2: ՀՀ կառավարության 2024 թվականի
F3: ______________ ի ___Ն որոշման
A6: ՀԱՅԱՍՏԱՆԻ ՀԱՆՐԱՊԵՏՈՒԹՅԱՆ ԿԱՌԱՎԱՐՈՒԹՅԱՆ 2023 ԹՎԱԿԱՆԻ ԴԵԿՏԵՄԲԵՐԻ 28-Ի N 2323-Ն ՈՐՈՇՄԱՆ N 5 ՀԱՎԵԼՎԱԾԻ N 7 ԱՂՅՈՒՍԱԿՈՒՄ ԿԱՏԱՐՎՈՂ LՐԱՑՈՒՄՆԵՐԸ
B7: հազար դրամներով
A8: Ծրագրային դասիչ | C8: Բյուջետային հատկացումների գլխավոր կարգադրիչների, ծրագրերի, միջոցառումների, ծախսային ուղղությունների անվանումները | F8: Միջոցառումները կատարող պետական մարմինների և դրամաշնորհ ստացող տնտեսվարող սուբյեկտների անվանումները | G8: Ցուցանիշների փոփոխությունը (ավելացումները նշված են դրական նշանով)
A9: Ծրագիր | B9: Միջոցառում | G9: Տարի
A10: ՀՀ կրթության, գիտության, մշակույթի և սպորտի նախարարություն | G10: =G11 -> 18261.3
A11: 1148 | B11: Արտադպրոցական դաստիարակության ծրագիր | G11: =G12 -> 18261.3
B12: ='Հավելված N 1'!B24 -> 12003 | C12: ='Հավելված N 1'!C25 -> Երիտասարդների համար միջազգային ամառային կրթամշակութային ծրագրի իրականացում | F12: ՀՀ կրթության, գիտության, մշակույթի և սպորտի նախարարություն | G12: =+G13 -> 18261.3
F13: «Հայաստանի մանուկներ» բարեգործական հիմնադրամ | G13: ='Հավելված N 1'!E24 -> 18261.3

Sheet Հավելված N 4
C1: Հավելված N 4
C2: ՀՀ կառավարության 2024 թվականի
C3: ______________ ի ___Ն որոշման
A5: ՀԱՅԱՍՏԱՆԻ ՀԱՆՐԱՊԵՏՈՒԹՅԱՆ ԿԱՌԱՎԱՐՈՒԹՅԱՆ 2023 ԹՎԱԿԱՆԻ ԴԵԿՏԵՄԲԵՐԻ 28-Ի N 2323-Ն ՈՐՈՇՄԱՆ N 9 ՀԱՎԵԼՎԱԾԻ NN 9.13 ԵՎ 9.48 ԱՂՅՈՒՍԱԿՆԵՐՈՒՄ ԿԱՏԱՐՎՈՂ ՓՈՓՈԽՈՒԹՅՈՒՆՆԵՐԸ ԵՎ ԼՐԱՑՈՒՄՆԵՐԸ
C6: Աղյուսակ 9.13
A7: ՀՀ կրթության, գիտության, մշակույթի և սպորտի նախարարություն
A8: ՄԱՍ 2. ՊԵՏԱԿԱՆ ՄԱՐՄՆԻ ԳԾՈՎ ԱՐԴՅՈՒՆՔԱՅԻՆ (ԿԱՏԱՐՈՂԱԿԱՆ) ՑՈՒՑԱՆԻՇՆԵՐԸ
A10: Ծրագրի դասիչը | B10: Ծրագրի անվանումը
A11: ='Հավելված N 2'!D18 -> 1148 | B11: Արտադպրոցական դաստիարակության ծրագիր
A13: Ծրագրի միջոցառումները
A15: Ծրագրի դասիչը՝ | B15: 1148 | C15: Ցուցանիշների փոփոխությունը (նվազեցումները նշված են փակագծերում)
A16: Միջոցառման դասիչը՝ | B16: 11001 | C16: Ինն ամիս | D16: Տարի
A17: Միջոցառման անվանումը՝ | B17: ='Հավելված N 1'!C18 -> Արտադպրոցական դաստիարակություն
A18: Նկարագրությունը՝ | B18: ='Հավելված N 1'!C20 -> Արվեստի, երաժշտության, սպորտի դասընթացներ մարզադպրոցներում, ստեղծագործական և արտադպրոցական դաստիարակության այլ կենտրոններում
A19: Միջոցառման տեսակը՝ | B19: ='Հավելված N 1'!C22 -> Ծառայությունների մատուցում
A20: Ծառայությունը մատուցող կազմակերպության(ների) անվանում(ներ)ը՛ | B20: Մասնագիտացված կազմակերպություններ
A21: Արդյունքի չափորոշիչներ
A22: Սաների թիվ, մարդ, այդ թվում` | D22: -129
A23: աղջիկ | D23: -129
A24: Միջոցառման վրա կատարվող ծախսը (հազար դրամ) | C24: ='Հավելված N 1'!D17 -> -18261.3 | D24: ='Հավելված N 1'!E17 -> -18261.3
A26: Ծրագրի դասիչը՝ | B26: 1148 | C26: Ցուցանիշների փոփոխությունը (ավելացումները նշված են դրական նշանով)
A27: Միջոցառման դասիչը՝ | B27: ='Հավելված N 1'!B24 -> 12003 | C27: Ինն ամիս | D27: Տարի
A28: Միջոցառման անվանումը՝ | B28: ='Հավելված N 1'!C25 -> Երիտասարդների համար միջազգային ամառային կրթամշակութային ծրագրի իրականացում
A29: Նկարագրությունը՝ | B29: ='Հավելված N 1'!C27 -> Հայաստանի և Վրաստանի 16-25 տարեկան երիտասարդների համար ամառային միջազգային կրթամշակութային-երիտասարդական ծրագրի իրականացում
A30: Միջոցառման տեսակը՝ | B30: Ծառայությունների մատուցում
A31: Ծառայությունը մատուցող կազմակերպության(ների) անվանում(ներ)ը՛ | B31: Մասնագիտացված կազմակերպություն
A32: Արդյունքի չափորոշիչներ
A33: Միջազգային ամառային կրթամշակութային ծրագրի մասնակից երիտասարդների թիվը, մարդ | D33: 60
A34: Միջազգային ամառային կրթամշակութային ծրագրի մասնակից երկրի ուղեկցողների թիվը, մարդ | D34: 5
A35: Միջոցառման վրա կատարվող ծախսը (հազար դրամ) | C35: ='Հավելված N 1'!D24 -> 18261.3 | D35: ='Հավելված N 1'!E24 -> 18261.3
C37: Աղյուսակ 9.48
A38: ՀՀ կառավարություն
A39: ՄԱՍ 2. ՊԵՏԱԿԱՆ ՄԱՐՄՆԻ ԳԾՈՎ ԱՐԴՅՈՒՆՔԱՅԻՆ (ԿԱՏԱՐՈՂԱԿԱՆ) ՑՈՒՑԱՆԻՇՆԵՐԸ
A41: Ծրագրի դասիչը | B41: Ծրագրի անվանումը
A42: 1139 | B42: ՀՀ կառավարության պահուստային ֆոնդ
A44: Ծրագրի միջոցառումները
A46: Ծրագրի դասիչը՝ | B46: 1139 | C46: Ցուցանիշների փոփոխությունը (ավելացումները նշված են դրական նշանով)
A47: Միջոցառման դասիչը՝ | B47: 11001 | C47: Ինն ամիս | D47: Տարի
A48: Միջոցառման անվանումը՝ | B48: ՀՀ կառավարության պահուստային ֆոնդ
A49: Նկարագրությունը՝ | B49: ՀՀ պետական բյուջեում նախատեսված ելքերի լրացուցիչ ֆինանսավորման՝ պետական բյուջեում չկանխատեսված ելքերի, ինչպես նաև բյուջետային երաշխիքների ապահովման ելքերի ֆինանսավորման ապահովում
A50: Միջոցառման տեսակը՝ | B50: Ծառայությունների մատուցում
A51: Միջոցառումն իրականացնողի անվանումը | B51: ՀՀ կառավարություն
A52: Արդյունքի չափորոշիչներ
A53: Միջոցառման վրա կատարվող ծախսը (հազար դրամ) | C53: ='Հավելված N 1'!D38 -> 18261.3 | D53: ='Հավելված N 1'!E38 -> 18261.3
A55: Ծրագրի դասիչը՝ | B55: 1139 | C55: Ցուցանիշների փոփոխությունը (նվազեցումները նշված են փակագծերում)
A56: Միջոցառման դասիչը՝ | B56: 11001 | C56: Ինն ամիս | D56: Տարի
A57: Միջոցառման անվանումը՝ | B57: ՀՀ կառավարության պահուստային ֆոնդ
A58: Նկարագրությունը՝ | B58: ՀՀ պետական բյուջեում նախատեսված ելքերի լրացուցիչ ֆինանսավորման՝ պետական բյուջեում չկանխատեսված ելքերի, ինչպես նաև բյուջետային երաշխիքների ապահովման ելքերի ֆինանսավորման ապահովում
A59: Միջոցառման տեսակը՝ | B59: Ծառայությունների մատուցում
A60: Միջոցառումն իրականացնողի անվանումը | B60: ՀՀ կառավարություն
A61: Արդյունքի չափորոշիչներ
A62: Միջոցառման վրա կատարվող ծախսը (հազար դրամ) | C62: ='Հավելված N 1'!D44 -> -18261.3 | D62: ='Հավելված N 1'!E44 -> -18261.3

Sheet Հավելված N 5
C1: Հավելված N 5
C2: ՀՀ կառավարության 2024 թվականի
C3: ______________ ի ___Ն որոշման
A5: ՀԱՅԱՍՏԱՆԻ ՀԱՆՐԱՊԵՏՈՒԹՅԱՆ ԿԱՌԱՎԱՐՈՒԹՅԱՆ 2023 ԹՎԱԿԱՆԻ ԴԵԿՏԵՄԲԵՐԻ 28-Ի N 2323-Ն ՈՐՈՇՄԱՆ N 9.1 ՀԱՎԵԼՎԱԾԻ NN 9.1.13 ԵՎ 9.1.58 ԱՂՅՈՒՍԱԿՆԵՐՈՒՄ ԿԱՏԱՐՎՈՂ ՓՈՓՈԽՈՒԹՅՈՒՆՆԵՐԸ ԵՎ ԼՐԱՑՈՒՄՆԵՐԸ
C6: Աղյուսակ 9.1.13
A7: ՀՀ կրթության, գիտության, մշակույթի և սպորտի նախարարություն
A8: ՄԱՍ 1. ՊԵՏԱԿԱՆ ՄԱՐՄՆԻ ԳԾՈՎ ԱՐԴՅՈՒՆՔԱՅԻՆ (ԿԱՏԱՐՈՂԱԿԱՆ) ՑՈՒՑԱՆԻՇՆԵՐԸ
A10: Ծրագրի դասիչը | B10: Ծրագրի անվանումը
A11: 1148 | B11: Արտադպրոցական դաստիարակության ծրագիր
A13: Ծրագրի միջոցառումները
A15: Ծրագրի դասիչը՝ | B15: 1148 | C15: Ցուցանիշների փոփոխությունը (նվազեցումները նշված են փակագծերում)
A16: Միջոցառման դասիչը՝ | B16: 11001 | C16: Ինն ամիս | D16: Տարի
A17: Միջոցառման անվանումը՝ | B17: ='Հավելված N 4'!B17 -> Արտադպրոցական դաստիարակություն
A18: Նկարագրությունը՝ | B18: ='Հավելված N 4'!B18 -> Արվեստի, երաժշտության, սպորտի դասընթացներ մարզադպրոցներում, ստեղծագործական և արտադպրոցական դաստիարակության այլ կենտրոններում
A19: Միջոցառման տեսակը՝ | B19: Ծառայությունների մատուցում
A20: Ծառայությունը մատուցող կազմակերպության(ների) անվանում(ներ)ը՛ | B20: ='Հավելված N 4'!B20 -> Մասնագիտացված կազմակերպություններ
A21: Արդյունքի չափորոշիչներ
A22: Սաների թիվ, մարդ, այդ թվում` | D22: -129
A23: աղջիկ | D23: -129
A24: Միջոցառման վրա կատարվող ծախսը (հազար դրամ) | C24: ='Հավելված N 1'!D17 -> -18261.3 | D24: ='Հավելված N 1'!E17 -> -18261.3
A26: Ծրագրի դասիչը՝ | B26: 1148 | C26: Ցուցանիշների փոփոխությունը (ավելացումները նշված են դրական նշանով)
A27: Միջոցառման դասիչը՝ | B27: ='Հավելված N 1'!B24 -> 12003 | C27: Ինն ամիս | D27: Տարի
A28: Միջոցառման անվանումը՝ | B28: ='Հավելված N 1'!C25 -> Երիտասարդների համար միջազգային ամառային կրթամշակութային ծրագրի իրականացում
A29: Նկարագրությունը՝ | B29: ='Հավելված N 1'!C27 -> Հայաստանի և Վրաստանի 16-25 տարեկան երիտասարդների համար ամառային միջազգային կրթամշակութային-երիտասարդական ծրագրի իրականացում
A30: Միջոցառման տեսակը՝ | B30: Ծառայությունների մատուցում
A31: Ծառայությունը մատուցող կազմակերպության(ների) անվանում(ներ)ը՛ | B31: Մասնագիտացված կազմակերպություն
A32: Արդյունքի չափորոշիչներ
A33: Միջազգային ամառային կրթամշակութային ծրագրի մասնակից երիտասարդների թիվը, մարդ | D33: 60
A34: Միջազգային ամառային կրթամշակութային ծրագրի մասնակից երկրի ուղեկցողների թիվը, մարդ | D34: 5
A35: Միջոցառման վրա կատարվող ծախսը (հազար դրամ) | C35: ='Հավելված N 1'!D24 -> 18261.3 | D35: ='Հավելված N 1'!E24 -> 18261.3
C37: Աղյուսակ 9.1.58
A38: ՀՀ կառավարություն
A39: ՄԱՍ 1. ՊԵՏԱԿԱՆ ՄԱՐՄՆԻ ԳԾՈՎ ԱՐԴՅՈՒՆՔԱՅԻՆ (ԿԱՏԱՐՈՂԱԿԱՆ) ՑՈՒՑԱՆԻՇՆԵՐԸ
A41: Ծրագրի դասիչը | B41: Ծրագրի անվանումը
A42: 1139 | B42: ՀՀ կառավարության պահուստային ֆոնդ
A44: Ծրագրի միջոցառումները
A46: Ծրագրի դասիչը՝ | B46: 1139 | C46: Ցուցանիշների փոփոխությունը (ավելացումները նշված են դրական նշանով)
A47: Միջոցառման դասիչը՝ | B47: 11001 | C47: Ինն ամիս | D47: Տարի
A48: Միջոցառման անվանումը՝ | B48: ՀՀ կառավարության պահուստային ֆոնդ
A49: Նկարագրությունը՝ | B49: ՀՀ պետական բյուջեում նախատեսված ելքերի լրացուցիչ ֆինանսավորման՝ պետական բյուջեում չկանխատեսված ելքերի, ինչպես նաև բյուջետային երաշխիքների ապահովման ելքերի ֆինանսավորման ապահովում
A50: Միջոցառման տեսակը՝ | B50: Ծառայությունների մատուցում
A51: Միջոցառումն իրականացնողի անվանումը | B51: ՀՀ կառավարություն
A52: Արդյունքի չափորոշիչներ
A53: Միջոցառման վրա կատարվող ծախսը (հազար դրամ) | C53: ='Հավելված N 1'!D38 -> 18261.3 | D53: ='Հավելված N 1'!E38 -> 18261.3
A55: Ծրագրի դասիչը՝ | B55: 1139 | C55: Ցուցանիշների փոփոխությունը (նվազեցումները նշված են փակագծերում)
A56: Միջոցառման դասիչը՝ | B56: 11001 | C56: Ինն ամիս | D56: Տարի
A57: Միջոցառման անվանումը՝ | B57: ՀՀ կառավարության պահուստային ֆոնդ
A58: Նկարագրությունը՝ | B58: ՀՀ պետական բյուջեում նախատեսված ելքերի լրացուցիչ ֆինանսավորման՝ պետական բյուջեում չկանխատեսված ելքերի, ինչպես նաև բյուջետային երաշխիքների ապահովման ելքերի ֆինանսավորման ապահովում
A59: Միջոցառման տեսակը՝ | B59: Ծառայությունների մատուցում
A60: Միջոցառումն իրականացնողի անվանումը | B60: ՀՀ կառավարություն
A61: Արդյունքի չափորոշիչներ
A62: Միջոցառման վրա կատարվող ծախսը (հազար դրամ) | C62: ='Հավելված N 1'!D17 -> -18261.3 | D62: ='Հավելված N 1'!E17 -> -18261.3
